Workbook

Sheet Worksheet NOx
A4: RPM | B4: 1800 | D4: PV/RT=n | E4: =((10^5*(B6*B5)*10^-6))/(8314*293) -> 6.5681391e-06
A5: Vol. Eff % | B5: 0.4
A6: Swept vol. | B6: 400
A7: Clearance Vol. | B7: 40
A8: Polytropic index (n) | B8: 1.17
A9: ϕ | B9: CO2 | C9: Actual enthalpy | D9: H2O | E9: Actual enthalpy | F9: O2 | G9: Actual enthalpy | H9: N2 | I9: Actual enthalpy | J9: Net Enthalpy | K9: Ideal flame temp. (K) | L9: Co2 (poly) | M9: H2O (poly) | N9: O2 (poly) | O9: N2 (poly) | P9: Enthalpy (poly) | Q9: Flame temp (poly) | R9: [O2] | S9: [N2] | T9: α | U9: Exhaust composition (kmol) | V9: Total Nox | W9: Nox PPM
A10: 1 | B10: 8 | C10: 115.186 | D10: 9 | E10: 93.21294 | F10: 0 | G10: 74.39168 | H10: =(79/21)*12.5 -> 47.02381 | I10: 70.28073 | J10: 5065 | K10: =FORECAST(5065,A55:A56,B55:B56) -> 2390.0286 | L10: =(-8.5358E-16*(K10^5))+(8.92213971E-12*(K10^4))-(3.576722317485E-08*(K10^3))+(0.0000699095086815875*(K10^2))-(0.00826892770480903*(K10))-0.895619545925062 -> 114.93147 | M10: =(6.7E-19*(K10^6))-(7.89843E-15*(K10^5))+(3.687984988E-11*(K10^4))-(8.638622855912E-08*(K10^3))+(0.000110740178605573*(K10^2))-(0.031241611607915*(K10))+3.30066945333761 -> 94.117655 | N10: =(6.5E-19*(K10^6))-(7.82245E-15*(K10^5))+(0.0000000000371204177*(K10^4))-(8.798317617007E-08*(K10^3))+(0.000109823272345614*(K10^2))-(0.0326064446414848*(K10))+3.57864890028521 -> 74.141114 | O10: =(5.9E-19*(K10^6))-(7.10207E-15*(K10^5))+(3.346089681E-11*(K10^4))-(7.890960163412E-08*(K10^3))+(0.000098599769211504*(K10^2))-(0.028172899155961*(K10))+3.05378907997741 -> 69.564629 | P10: =(L10*B10)+(M10*D10)+(N10*F10)+(O10*H10) -> 5037.7046 | Q10: =FORECAST(P10,A$55:A$56,B55:B56) -> 2379.8508 | R10: =(F10*T10)/($B$7*10^-6) -> 0 | S10: =(H10*T10)/($B$7*10^-6) -> 0.12757745 | T10: =$E$4/(A10+(12.5*(1+(79/21)))) -> 1.0852157e-07 | U10: =(B10+D10+F10+H10)*T10 -> 6.9479646e-06 | V10: =D42 -> 0 | W10: =(V10/U10)*10^6 -> 0
A11: 0.99 | B11: =$B$10*A11 -> 7.92 | C11: =$C$10*A11 -> 114.03414 | D11: =$D$10*A11 -> 8.91 | E11: =$E$10*A11 -> 92.280811 | F11: =12.5*(1-A11) -> 0.125 | G11: =$G$10*A11 -> 73.647763 | H11: =(79/21)*12.5 -> 47.02381 | I11: =$I$10*A11 -> 69.577923 | J11: =$J$10*A11 -> 5014.35 | K11: =FORECAST(5014.35,A55:A56,C55:C56) -> 2371.2241 | L11: =(-8.5358E-16*(K11^5))+(8.92213971E-12*(K11^4))-(3.576722317485E-08*(K11^3))+(0.0000699095086815875*(K11^2))-(0.00826892770480903*(K11))-0.895619545925062 -> 113.78639 | M11: =(6.7E-19*(K11^6))-(7.89843E-15*(K11^5))+(3.687984988E-11*(K11^4))-(8.638622855912E-08*(K11^3))+(0.000110740178605573*(K11^2))-(0.031241611607915*(K11))+3.30066945333761 -> 93.05489 | N11: =(6.5E-19*(K11^6))-(7.82245E-15*(K11^5))+(0.0000000000371204177*(K11^4))-(8.798317617007E-08*(K11^3))+(0.000109823272345614*(K11^2))-(0.0326064446414848*(K11))+3.57864890028521 -> 73.395633 | O11: =(5.9E-19*(K11^6))-(7.10207E-15*(K11^5))+(3.346089681E-11*(K11^4))-(7.890960163412E-08*(K11^3))+(0.000098599769211504*(K11^2))-(0.028172899155961*(K11))+3.05378907997741 -> 68.895623 | P11: =(L11*B11)+(M11*D11)+(N11*F11)+(O11*H11) -> 4979.2164 | Q11: =FORECAST(P11,A55:A56,B55:B56) -> 2358.0421 | R11: =(F11*T11)/($B$7*10^-6) -> 0.00033918596 | S11: =(H11*T11)/($B$7*10^-6) -> 0.12759853 | T11: =$E$4/(A11+(12.5*(1+(79/21)))) -> 1.0853951e-07 | U11: =(B11+D11+F11+H11)*T11 -> 6.9442285e-06 | V11: =F42 -> 1.2300988e-07 | W11: =(V11/U11)*10^6 -> 17713.973
A12: 0.98 | B12: =$B$10*A12 -> 7.84 | C12: =$C$10*A12 -> 112.88228 | D12: =$D$10*A12 -> 8.82 | E12: =$E$10*A12 -> 91.348681 | F12: =12.5*(1-A12) -> 0.25 | G12: =$G$10*A12 -> 72.903846 | H12: =(79/21)*12.5 -> 47.02381 | I12: =$I$10*A12 -> 68.875115 | J12: =$J$10*A12 -> 4963.7 | K12: =FORECAST(4963.7,A55:A56,D55:D56) -> 2352.3187 | L12: =(-8.5358E-16*(K12^5))+(8.92213971E-12*(K12^4))-(3.576722317485E-08*(K12^3))+(0.0000699095086815875*(K12^2))-(0.00826892770480903*(K12))-0.895619545925062 -> 112.63707 | M12: =(6.7E-19*(K12^6))-(7.89843E-15*(K12^5))+(3.687984988E-11*(K12^4))-(8.638622855912E-08*(K12^3))+(0.000110740178605573*(K12^2))-(0.031241611607915*(K12))+3.30066945333761 -> 91.990033 | N12: =(6.5E-19*(K12^6))-(7.82245E-15*(K12^5))+(0.0000000000371204177*(K12^4))-(8.798317617007E-08*(K12^3))+(0.000109823272345614*(K12^2))-(0.0326064446414848*(K12))+3.57864890028521 -> 72.647255 | O12: =(5.9E-19*(K12^6))-(7.10207E-15*(K12^5))+(3.346089681E-11*(K12^4))-(7.890960163412E-08*(K12^3))+(0.000098599769211504*(K12^2))-(0.028172899155961*(K12))+3.05378907997741 -> 68.222318 | P12: =(L12*B12)+(M12*D12)+(N12*F12)+(O12*H12) -> 4920.6618 | Q12: =FORECAST(P12,A54:A55,D54:D55) -> 2336.3066 | R12: =(F12*T12)/($B$7*10^-6) -> 0.00067848404 | S12: =(H12*T12)/($B$7*10^-6) -> 0.12761962 | T12: =$E$4/(A12+(12.5*(1+(79/21)))) -> 1.0855745e-07 | U12: =(B12+D12+F12+H12)*T12 -> 6.9404912e-06 | V12: =H42 -> 1.3893648e-07 | W12: =(V12/U12)*10^6 -> 20018.25
A13: 0.97 | B13: =$B$10*A13 -> 7.76 | C13: =$C$10*A13 -> 111.73042 | D13: =$D$10*A13 -> 8.73 | E13: =$E$10*A13 -> 90.416552 | F13: =12.5*(1-A13) -> 0.375 | G13: =$G$10*A13 -> 72.15993 | H13: =(79/21)*12.5 -> 47.02381 | I13: =$I$10*A13 -> 68.172308 | J13: =$J$10*A13 -> 4913.05 | K13: =FORECAST(4913.05,A54:A55,E54:E55) -> 2333.4573 | L13: =(-8.5358E-16*(K13^5))+(8.92213971E-12*(K13^4))-(3.576722317485E-08*(K13^3))+(0.0000699095086815875*(K13^2))-(0.00826892770480903*(K13))-0.895619545925062 -> 111.49228 | M13: =(6.7E-19*(K13^6))-(7.89843E-15*(K13^5))+(3.687984988E-11*(K13^4))-(8.638622855912E-08*(K13^3))+(0.000110740178605573*(K13^2))-(0.031241611607915*(K13))+3.30066945333761 -> 90.931335 | N13: =(6.5E-19*(K13^6))-(7.82245E-15*(K13^5))+(0.0000000000371204177*(K13^4))-(8.798317617007E-08*(K13^3))+(0.000109823272345614*(K13^2))-(0.0326064446414848*(K13))+3.57864890028521 -> 71.90181 | O13: =(5.9E-19*(K13^6))-(7.10207E-15*(K13^5))+(3.346089681E-11*(K13^4))-(7.890960163412E-08*(K13^3))+(0.000098599769211504*(K13^2))-(0.028172899155961*(K13))+3.05378907997741 -> 67.550006 | P13: =(L13*B13)+(M13*D13)+(N13*F13)+(O13*H13) -> 4862.4324 | Q13: =FORECAST(P13,A54:A55,E54:E55) -> 2314.6319 | R13: =(F13*T13)/($B$7*10^-6) -> 0.0010178943 | S13: =(H13*T13)/($B$7*10^-6) -> 0.12764071 | T13: =$E$4/(A13+(12.5*(1+(79/21)))) -> 1.0857539e-07 | U13: =(B13+D13+F13+H13)*T13 -> 6.9367526e-06 | V13: =J42 -> 1.354223e-07 | W13: =(V13/U13)*10^6 -> 19522.435
A14: 0.96 | B14: =$B$10*A14 -> 7.68 | C14: =$C$10*A14 -> 110.57856 | D14: =$D$10*A14 -> 8.64 | E14: =$E$10*A14 -> 89.484422 | F14: =12.5*(1-A14) -> 0.5 | G14: =$G$10*A14 -> 71.416013 | H14: =(79/21)*12.5 -> 47.02381 | I14: =$I$10*A14 -> 67.469501 | J14: =$J$10*A14 -> 4862.4 | K14: =FORECAST(4862.4,A54:A55,F54:F55) -> 2314.6006 | L14: =(-8.5358E-16*(K14^5))+(8.92213971E-12*(K14^4))-(3.576722317485E-08*(K14^3))+(0.0000699095086815875*(K14^2))-(0.00826892770480903*(K14))-0.895619545925062 -> 110.3496 | M14: =(6.7E-19*(K14^6))-(7.89843E-15*(K14^5))+(3.687984988E-11*(K14^4))-(8.638622855912E-08*(K14^3))+(0.000110740178605573*(K14^2))-(0.031241611607915*(K14))+3.30066945333761 -> 89.876663 | N14: =(6.5E-19*(K14^6))-(7.82245E-15*(K14^5))+(0.0000000000371204177*(K14^4))-(8.798317617007E-08*(K14^3))+(0.000109823272345614*(K14^2))-(0.0326064446414848*(K14))+3.57864890028521 -> 71.157839 | O14: =(5.9E-19*(K14^6))-(7.10207E-15*(K14^5))+(3.346089681E-11*(K14^4))-(7.890960163412E-08*(K14^3))+(0.000098599769211504*(K14^2))-(0.028172899155961*(K14))+3.05378907997741 -> 66.87743 | P14: =(L14*B14)+(M14*D14)+(N14*F14)+(O14*H14) -> 4804.4298 | Q14: =FORECAST(P14,A53:A54,F53:F54) -> 2293.0026 | R14: =(F14*T14)/($B$7*10^-6) -> 0.0013574168 | S14: =(H14*T14)/($B$7*10^-6) -> 0.12766182 | T14: =$E$4/(A14+(12.5*(1+(79/21)))) -> 1.0859334e-07 | U14: =(B14+D14+F14+H14)*T14 -> 6.9330127e-06 | V14: =L42 -> 1.2397852e-07 | W14: =(V14/U14)*10^6 -> 17882.345
A15: 0.95 | B15: =$B$10*A15 -> 7.6 | C15: =$C$10*A15 -> 109.4267 | D15: =$D$10*A15 -> 8.55 | E15: =$E$10*A15 -> 88.552293 | F15: =12.5*(1-A15) -> 0.625 | G15: =$G$10*A15 -> 70.672096 | H15: =(79/21)*12.5 -> 47.02381 | I15: =$I$10*A15 -> 66.766694 | J15: =$J$10*A15 -> 4811.75 | K15: =FORECAST(4811.75,A53:A54,G53:G54) -> 2295.7197 | L15: =(-8.5358E-16*(K15^5))+(8.92213971E-12*(K15^4))-(3.576722317485E-08*(K15^3))+(0.0000699095086815875*(K15^2))-(0.00826892770480903*(K15))-0.895619545925062 -> 109.20723 | M15: =(6.7E-19*(K15^6))-(7.89843E-15*(K15^5))+(3.687984988E-11*(K15^4))-(8.638622855912E-08*(K15^3))+(0.000110740178605573*(K15^2))-(0.031241611607915*(K15))+3.30066945333761 -> 88.82448 | N15: =(6.5E-19*(K15^6))-(7.82245E-15*(K15^5))+(0.0000000000371204177*(K15^4))-(8.798317617007E-08*(K15^3))+(0.000109823272345614*(K15^2))-(0.0326064446414848*(K15))+3.57864890028521 -> 70.41429 | O15: =(5.9E-19*(K15^6))-(7.10207E-15*(K15^5))+(3.346089681E-11*(K15^4))-(7.890960163412E-08*(K15^3))+(0.000098599769211504*(K15^2))-(0.028172899155961*(K15))+3.05378907997741 -> 66.203691 | P15: =(L15*B15)+(M15*D15)+(N15*F15)+(O15*H15) -> 4746.583 | Q15: =FORECAST(P15,A$53:A$54,F53:F54) -> 2271.3729 | R15: =(F15*T15)/($B$7*10^-6) -> 0.0016970516 | S15: =(H15*T15)/($B$7*10^-6) -> 0.12768293 | T15: =$E$4/(A15+(12.5*(1+(79/21)))) -> 1.086113e-07 | U15: =(B15+D15+F15+H15)*T15 -> 6.9292717e-06 | V15: =N42 -> 1.0941743e-07 | W15: =(V15/U15)*10^6 -> 15790.61
A16: 0.9 | B16: =$B$10*A16 -> 7.2 | C16: =$C$10*A16 -> 103.6674 | D16: =$D$10*A16 -> 8.1 | E16: =$E$10*A16 -> 83.891646 | F16: =12.5*(1-A16) -> 1.25 | G16: =$G$10*A16 -> 66.952512 | H16: =(79/21)*12.5 -> 47.02381 | I16: =$I$10*A16 -> 63.252657 | J16: =$J$10*A16 -> 4558.5 | K16: =FORECAST(4558.5,A52:A53,H52:H53) -> 2200.6683 | L16: =(-8.5358E-16*(K16^5))+(8.92213971E-12*(K16^4))-(3.576722317485E-08*(K16^3))+(0.0000699095086815875*(K16^2))-(0.00826892770480903*(K16))-0.895619545925062 -> 103.48159 | M16: =(6.7E-19*(K16^6))-(7.89843E-15*(K16^5))+(3.687984988E-11*(K16^4))-(8.638622855912E-08*(K16^3))+(0.000110740178605573*(K16^2))-(0.031241611607915*(K16))+3.30066945333761 -> 83.588598 | N16: =(6.5E-19*(K16^6))-(7.82245E-15*(K16^5))+(0.0000000000371204177*(K16^4))-(8.798317617007E-08*(K16^3))+(0.000109823272345614*(K16^2))-(0.0326064446414848*(K16))+3.57864890028521 -> 66.694953 | O16: =(5.9E-19*(K16^6))-(7.10207E-15*(K16^5))+(3.346089681E-11*(K16^4))-(7.890960163412E-08*(K16^3))+(0.000098599769211504*(K16^2))-(0.028172899155961*(K16))+3.05378907997741 -> 62.811858 | P16: =(L16*B16)+(M16*D16)+(N16*F16)+(O16*H16) -> 4459.1566 | Q16: =FORECAST(P16,A$51:A$52,G51:G52) -> 2163.5821 | R16: =(F16*T16)/($B$7*10^-6) -> 0.0033969117 | S16: =(H16*T16)/($B$7*10^-6) -> 0.12778858 | T16: =$E$4/(A16+(12.5*(1+(79/21)))) -> 1.0870118e-07 | U16: =(B16+D16+F16+H16)*T16 -> 6.9105478e-06 | V16: =P42 -> 4.4405812e-08 | W16: =(V16/U16)*10^6 -> 6425.802
A17: 0.85 | B17: =$B$10*A17 -> 6.8 | C17: =$C$10*A17 -> 97.9081 | D17: =$D$10*A17 -> 7.65 | E17: =$E$10*A17 -> 79.230999 | F17: =12.5*(1-A17) -> 1.875 | G17: =$G$10*A17 -> 63.232928 | H17: =(79/21)*12.5 -> 47.02381 | I17: =$I$10*A17 -> 59.738621 | J17: =$J$10*A17 -> 4305.25 | K17: =FORECAST(4305.25,A50:A51,I50:I51) -> 2105.4087 | L17: =(-8.5358E-16*(K17^5))+(8.92213971E-12*(K17^4))-(3.576722317485E-08*(K17^3))+(0.0000699095086815875*(K17^2))-(0.00826892770480903*(K17))-0.895619545925062 -> 97.780638 | M17: =(6.7E-19*(K17^6))-(7.89843E-15*(K17^5))+(3.687984988E-11*(K17^4))-(8.638622855912E-08*(K17^3))+(0.000110740178605573*(K17^2))-(0.031241611607915*(K17))+3.30066945333761 -> 78.449466 | N17: =(6.5E-19*(K17^6))-(7.82245E-15*(K17^5))+(0.0000000000371204177*(K17^4))-(8.798317617007E-08*(K17^3))+(0.000109823272345614*(K17^2))-(0.0326064446414848*(K17))+3.57864890028521 -> 63.013842 | O17: =(5.9E-19*(K17^6))-(7.10207E-15*(K17^5))+(3.346089681E-11*(K17^4))-(7.890960163412E-08*(K17^3))+(0.000098599769211504*(K17^2))-(0.028172899155961*(K17))+3.05378907997741 -> 59.42289 | P17: =(L17*B17)+(M17*D17)+(N17*F17)+(O17*H17) -> 4177.4884 | Q17: =FORECAST(P17,A$49:A$50,H49:H50) -> 2057.1932 | R17: =(F17*T17)/($B$7*10^-6) -> 0.0050995874 | S17: =(H17*T17)/($B$7*10^-6) -> 0.12789442 | T17: =$E$4/(A17+(12.5*(1+(79/21)))) -> 1.087912e-07 | U17: =(B17+D17+F17+H17)*T17 -> 6.8917929e-06 | V17: =R42 -> 1.3972458e-08 | W17: =(V17/U17)*10^6 -> 2027.4053
A18: 0.8 | B18: =$B$10*A18 -> 6.4 | C18: =$C$10*A18 -> 92.1488 | D18: =$D$10*A18 -> 7.2 | E18: =$E$10*A18 -> 74.570352 | F18: =12.5*(1-A18) -> 2.5 | G18: =$G$10*A18 -> 59.513344 | H18: =(79/21)*12.5 -> 47.02381 | I18: =$I$10*A18 -> 56.224584 | J18: =$J$10*A18 -> 4052 | K18: =FORECAST(4052,A48:A49,J48:J49) -> 2009.3137 | L18: =(-8.5358E-16*(K18^5))+(8.92213971E-12*(K18^4))-(3.576722317485E-08*(K18^3))+(0.0000699095086815875*(K18^2))-(0.00826892770480903*(K18))-0.895619545925062 -> 92.059639 | M18: =(6.7E-19*(K18^6))-(7.89843E-15*(K18^5))+(3.687984988E-11*(K18^4))-(8.638622855912E-08*(K18^3))+(0.000110740178605573*(K18^2))-(0.031241611607915*(K18))+3.30066945333761 -> 73.38109 | N18: =(6.5E-19*(K18^6))-(7.82245E-15*(K18^5))+(0.0000000000371204177*(K18^4))-(8.798317617007E-08*(K18^3))+(0.000109823272345614*(K18^2))-(0.0326064446414848*(K18))+3.57864890028521 -> 59.353538 | O18: =(5.9E-19*(K18^6))-(7.10207E-15*(K18^5))+(3.346089681E-11*(K18^4))-(7.890960163412E-08*(K18^3))+(0.000098599769211504*(K18^2))-(0.028172899155961*(K18))+3.05378907997741 -> 56.026105 | P18: =(L18*B18)+(M18*D18)+(N18*F18)+(O18*H18) -> 3900.4703 | Q18: =FORECAST(P18,A47:A$48,I47:I48) -> 1951.9381 | R18: =(F18*T18)/($B$7*10^-6) -> 0.0068050857 | S18: =(H18*T18)/($B$7*10^-6) -> 0.12800042 | T18: =$E$4/(A18+(12.5*(1+(79/21)))) -> 1.0888137e-07 | U18: =(B18+D18+F18+H18)*T18 -> 6.8730069e-06 | V18: =T42 -> 3.6407026e-09 | W18: =(V18/U18)*10^6 -> 529.7103
A19: 0.75 | B19: =$B$10*A19 -> 6 | C19: =$C$10*A19 -> 86.3895 | D19: =$D$10*A19 -> 6.75 | E19: =$E$10*A19 -> 69.909705 | F19: =12.5*(1-A19) -> 3.125 | G19: =$G$10*A19 -> 55.79376 | H19: =(79/21)*12.5 -> 47.02381 | I19: =$I$10*A19 -> 52.710548 | J19: =$J$10*A19 -> 3798.75 | K19: =FORECAST(3798.75,A46:A47,K46:K47) -> 1912.7508 | L19: =(-8.5358E-16*(K19^5))+(8.92213971E-12*(K19^4))-(3.576722317485E-08*(K19^3))+(0.0000699095086815875*(K19^2))-(0.00826892770480903*(K19))-0.895619545925062 -> 86.333016 | M19: =(6.7E-19*(K19^6))-(7.89843E-15*(K19^5))+(3.687984988E-11*(K19^4))-(8.638622855912E-08*(K19^3))+(0.000110740178605573*(K19^2))-(0.031241611607915*(K19))+3.30066945333761 -> 68.407921 | N19: =(6.5E-19*(K19^6))-(7.82245E-15*(K19^5))+(0.0000000000371204177*(K19^4))-(8.798317617007E-08*(K19^3))+(0.000109823272345614*(K19^2))-(0.0326064446414848*(K19))+3.57864890028521 -> 55.731224 | O19: =(5.9E-19*(K19^6))-(7.10207E-15*(K19^5))+(3.346089681E-11*(K19^4))-(7.890960163412E-08*(K19^3))+(0.000098599769211504*(K19^2))-(0.028172899155961*(K19))+3.05378907997741 -> 52.642402 | P19: =(L19*B19)+(M19*D19)+(N19*F19)+(O19*H19) -> 3629.3579 | Q19: =FORECAST(P19,P62:P63,Z62:Z63) -> 1847.9157 | R19: =(F19*T19)/($B$7*10^-6) -> 0.0085134136 | S19: =(H19*T19)/($B$7*10^-6) -> 0.1281066 | T19: =$E$4/(A19+(12.5*(1+(79/21)))) -> 1.0897169e-07 | U19: =(B19+D19+F19+H19)*T19 -> 6.8541898e-06 | V19: =V42 -> 7.9259355e-10 | W19: =(V19/U19)*10^6 -> 115.63636
A20: 0.7 | B20: =$B$10*A20 -> 5.6 | C20: =$C$10*A20 -> 80.6302 | D20: =$D$10*A20 -> 6.3 | E20: =$E$10*A20 -> 65.249058 | F20: =12.5*(1-A20) -> 3.75 | G20: =$G$10*A20 -> 52.074176 | H20: =(79/21)*12.5 -> 47.02381 | I20: =$I$10*A20 -> 49.196511 | J20: =$J$10*A20 -> 3545.5 | K20: =FORECAST(3545.5,P62:P63,AA62:AA63) -> 1815.4578 | L20: =(-8.5358E-16*(K20^5))+(8.92213971E-12*(K20^4))-(3.576722317485E-08*(K20^3))+(0.0000699095086815875*(K20^2))-(0.00826892770480903*(K20))-0.895619545925062 -> 80.578122 | M20: =(6.7E-19*(K20^6))-(7.89843E-15*(K20^5))+(3.687984988E-11*(K20^4))-(8.638622855912E-08*(K20^3))+(0.000110740178605573*(K20^2))-(0.031241611607915*(K20))+3.30066945333761 -> 63.51751 | N20: =(6.5E-19*(K20^6))-(7.82245E-15*(K20^5))+(0.0000000000371204177*(K20^4))-(8.798317617007E-08*(K20^3))+(0.000109823272345614*(K20^2))-(0.0326064446414848*(K20))+3.57864890028521 -> 52.135876 | O20: =(5.9E-19*(K20^6))-(7.10207E-15*(K20^5))+(3.346089681E-11*(K20^4))-(7.890960163412E-08*(K20^3))+(0.000098599769211504*(K20^2))-(0.028172899155961*(K20))+3.05378907997741 -> 49.266266 | P20: =(L20*B20)+(M20*D20)+(N20*F20)+(O20*H20) -> 3363.5948 | Q20: =FORECAST(P20,P60:P61,AA60:AA61) -> 1745.3149 | R20: =(F20*T20)/($B$7*10^-6) -> 0.010224578 | S20: =(H20*T20)/($B$7*10^-6) -> 0.12821296 | T20: =$E$4/(A20+(12.5*(1+(79/21)))) -> 1.0906217e-07 | U20: =(B20+D20+F20+H20)*T20 -> 6.8353414e-06 | V20: =X42 -> 1.431003e-10 | W20: =(V20/U20)*10^6 -> 20.935355
A21: 0.65 | B21: =$B$10*A21 -> 5.2 | C21: =$C$10*A21 -> 74.8709 | D21: =$D$10*A21 -> 5.85 | E21: =$E$10*A21 -> 60.588411 | F21: =12.5*(1-A21) -> 4.375 | G21: =$G$10*A21 -> 48.354592 | H21: =(79/21)*12.5 -> 47.02381 | I21: =$I$10*A21 -> 45.682475 | J21: =$J$10*A21 -> 3292.25 | K21: =FORECAST(3292.25,P60:P61,AB60:AB61) -> 1717.432 | L21: =(-8.5358E-16*(K21^5))+(8.92213971E-12*(K21^4))-(3.576722317485E-08*(K21^3))+(0.0000699095086815875*(K21^2))-(0.00826892770480903*(K21))-0.895619545925062 -> 74.789112 | M21: =(6.7E-19*(K21^6))-(7.89843E-15*(K21^5))+(3.687984988E-11*(K21^4))-(8.638622855912E-08*(K21^3))+(0.000110740178605573*(K21^2))-(0.031241611607915*(K21))+3.30066945333761 -> 58.707213 | N21: =(6.5E-19*(K21^6))-(7.82245E-15*(K21^5))+(0.0000000000371204177*(K21^4))-(8.798317617007E-08*(K21^3))+(0.000109823272345614*(K21^2))-(0.0326064446414848*(K21))+3.57864890028521 -> 48.562035 | O21: =(5.9E-19*(K21^6))-(7.10207E-15*(K21^5))+(3.346089681E-11*(K21^4))-(7.890960163412E-08*(K21^3))+(0.000098599769211504*(K21^2))-(0.028172899155961*(K21))+3.05378907997741 -> 45.897088 | P21: =(L21*B21)+(M21*D21)+(N21*F21)+(O21*H21) -> 3103.0554 | Q21: =FORECAST(P21,P58:P59,AB58:AB59) -> 1643.6895 | R21: =(F21*T21)/($B$7*10^-6) -> 0.011938586 | S21: =(H21*T21)/($B$7*10^-6) -> 0.1283195 | T21: =$E$4/(A21+(12.5*(1+(79/21)))) -> 1.0915279e-07 | U21: =(B21+D21+F21+H21)*T21 -> 6.8164617e-06 | V21: =Z42 -> 2.0804488e-11 | W21: =(V21/U21)*10^6 -> 3.052095 | X21: =((V23-'EGR 5%'!V23)/'Worksheet NOx'!V23)*100 -> 46.703633
A22: 0.6 | B22: =$B$10*A22 -> 4.8 | C22: =$C$10*A22 -> 69.1116 | D22: =$D$10*A22 -> 5.4 | E22: =$E$10*A22 -> 55.927764 | F22: =12.5*(1-A22) -> 5 | G22: =$G$10*A22 -> 44.635008 | H22: =(79/21)*12.5 -> 47.02381 | I22: =$I$10*A22 -> 42.168438 | J22: =$J$10*A22 -> 3039 | K22: =FORECAST(3039,P58:P59,AC58:AC59) -> 1618.3786 | L22: =(-8.5358E-16*(K22^5))+(8.92213971E-12*(K22^4))-(3.576722317485E-08*(K22^3))+(0.0000699095086815875*(K22^2))-(0.00826892770480903*(K22))-0.895619545925062 -> 68.945286 | M22: =(6.7E-19*(K22^6))-(7.89843E-15*(K22^5))+(3.687984988E-11*(K22^4))-(8.638622855912E-08*(K22^3))+(0.000110740178605573*(K22^2))-(0.031241611607915*(K22))+3.30066945333761 -> 53.956626 | N22: =(6.5E-19*(K22^6))-(7.82245E-15*(K22^5))+(0.0000000000371204177*(K22^4))-(8.798317617007E-08*(K22^3))+(0.000109823272345614*(K22^2))-(0.0326064446414848*(K22))+3.57864890028521 -> 44.989639 | O22: =(5.9E-19*(K22^6))-(7.10207E-15*(K22^5))+(3.346089681E-11*(K22^4))-(7.890960163412E-08*(K22^3))+(0.000098599769211504*(K22^2))-(0.028172899155961*(K22))+3.05378907997741 -> 42.520256 | P22: =(L22*B22)+(M22*D22)+(N22*F22)+(O22*H22) -> 2846.7158 | Q22: =FORECAST(P22,P57:P58,AC57:AC58) -> 1542.8114 | R22: =(F22*T22)/($B$7*10^-6) -> 0.013655445 | S22: =(H22*T22)/($B$7*10^-6) -> 0.12842621 | T22: =$E$4/(A22+(12.5*(1+(79/21)))) -> 1.0924356e-07 | U22: =(B22+D22+F22+H22)*T22 -> 6.7975506e-06 | V22: =AB42 -> 2.3454274e-12 | W22: =(V22/U22)*10^6 -> 0.34504008
V23: =AVERAGE(V10:V22) -> 5.3364802e-08
B24: ϕ | C24: 1 | E24: 0.99 | G24: 0.98 | I24: 0.97 | K24: 0.96 | M24: 0.95 | O24: 0.9 | Q24: 0.85 | S24: 0.8 | U24: 0.75 | W24: 0.7 | Y24: 0.65 | AA24: 0.6
A25: φ | B25: Cylinder Pressure (BAR) | C25: Flame temp | D25: Nox (kmol/°) | E25: Flame temp | F25: Nox (kmol/°) | G25: Flame temp | H25: Nox (kmol/°) | I25: Flame temp | J25: Nox (kmol/°) | K25: Flame temp | L25: Nox (kmol/°) | M25: Flame temp | N25: Nox (kmol/°) | O25: Flame temp | P25: Nox (kmol/°) | Q25: Flame temp | R25: Nox (kmol/°) | S25: Flame temp | T25: Nox (kmol/°) | U25: Flame temp | V25: Nox (kmol/°) | W25: Flame temp | X25: Nox (kmol/°) | Y25: Flame temp | Z25: Nox (kmol/°) | AA25: Flame temp | AB25: Nox (kmol/°)
A26: 0 | B26: 10 | C26: =Q10 -> 2379.8508 | D26: =((4.7*(10^13)*($S$10*$R$10)^0.5)*EXP(-67837/C26)/($B$4*6))*$B$7*10^-6 -> 0 | E26: =Q11 -> 2358.0421 | F26: =((4.7*(10^13)*$S$11*$R$11^0.5*EXP(-67837/E26)/($B$4*6))*$B$7*10^-6) -> 1.3117753e-10 | G26: =Q12 -> 2336.3066 | H26: =((4.7*10^13*$S$12*$R$12^0.5*EXP(-67837/G26)/($B$4*6))*$B$7*10^-6) -> 1.4198632e-10 | I26: =Q13 -> 2314.6319 | J26: =((4.7*10^13*$S$13*$R$13^0.5*EXP(-67837/I26)/($B$4*6))*$B$7*10^-6) -> 1.3253045e-10 | K26: =Q14 -> 2293.0026 | L26: =((4.7*10^13*$S$14*$R$14^0.5*EXP(-67837/K26)/($B$4*6))*$B$7*10^-6) -> 1.160995e-10 | M26: =Q15 -> 2271.3729 | N26: =((4.7*10^13*$S$15*$R$15^0.5*EXP(-67837/M26)/($B$4*6))*$B$7*10^-6) -> 9.795835e-11 | O26: =Q16 -> 2163.5821 | P26: =((4.7*10^13*$S$16*$R$16^0.5*EXP(-67837/O26)/($B$4*6))*$B$7*10^-6) -> 3.1324889e-11 | Q26: =Q17 -> 2057.1932 | R26: =((4.7*10^13*$S$17*$R$17^0.5*EXP(-67837/Q26)/($B$4*6))*$B$7*10^-6) -> 7.5904931e-12 | S26: =Q18 -> 1951.9381 | T26: =((4.7*10^13*$S$18*$R$18^0.5*EXP(-67837/S26)/($B$4*6))*$B$7*10^-6) -> 1.4826481e-12 | U26: =Q19 -> 1847.9157 | V26: =((4.7*10^13*$S$19*$R$19^0.5*EXP(-67837/U26)/($B$4*6))*$B$7*10^-6) -> 2.3464085e-13 | W26: =Q20 -> 1745.3149 | X26: =((4.7*10^13*$S$20*$R$20^0.5*EXP(-67837/W26)/($B$4*6))*$B$7*10^-6) -> 2.9737596e-14 | Y26: =Q21 -> 1643.6895 | Z26: =((4.7*10^13*$S$21*$R$21^0.5*EXP(-67837/Y26)/($B$4*6))*$B$7*10^-6) -> 2.9084308e-15 | AA26: =Q22 -> 1542.8114 | AB26: =((4.7*10^13*$S$22*$R$22^0.5*EXP(-67837/AA26)/($B$4*6))*$B$7*10^-6) -> 2.0952211e-16
A27: 1 | B27: 12 | C27: =(((B26*10^5)^(1-$B$8))*((B27*10^5)^($B$8-1))*(C26^$B$8))^(1/$B$8) -> 2443.7384 | D27: =((4.7*(10^13)*($S$10*$R$10)^0.5)*EXP(-67837/C27)/($B$4*6))*$B$7*10^-6 -> 0 | E27: =(((B26*10^5)^(1-$B$8))*((B27*10^5)^($B$8-1))*(E26^$B$8))^(1/$B$8) -> 2421.3442 | F27: =((4.7*(10^13)*$S$11*$R$11^0.5*EXP(-67837/E27)/($B$4*6))*$B$7*10^-6) -> 2.78287e-10 | G27: =(((B26*10^5)^(1-$B$8))*((B27*10^5)^($B$8-1))*(G26^$B$8))^(1/$B$8) -> 2399.0252 | H27: =((4.7*10^13*$S$12*$R$12^0.5*EXP(-67837/G27)/($B$4*6))*$B$7*10^-6) -> 3.0333238e-10 | I27: =(((B26*10^5)^(1-$B$8))*((B27*10^5)^($B$8-1))*(I26^$B$8))^(1/$B$8) -> 2376.7686 | J27: =((4.7*10^13*$S$13*$R$13^0.5*EXP(-67837/I27)/($B$4*6))*$B$7*10^-6) -> 2.851511e-10 | K27: =(((B26*10^5)^(1-$B$8))*((B27*10^5)^($B$8-1))*(K26^$B$8))^(1/$B$8) -> 2354.5587 | L27: =((4.7*10^13*$S$14*$R$14^0.5*EXP(-67837/K27)/($B$4*6))*$B$7*10^-6) -> 2.5161038e-10 | M27: =(((B26*10^5)^(1-$B$8))*((B27*10^5)^($B$8-1))*(M26^$B$8))^(1/$B$8) -> 2332.3483 | N27: =((4.7*10^13*$S$15*$R$15^0.5*EXP(-67837/M27)/($B$4*6))*$B$7*10^-6) -> 2.1386433e-10 | O27: =(((B26*10^5)^(1-$B$8))*((B27*10^5)^($B$8-1))*(O26^$B$8))^(1/$B$8) -> 2221.6638 | P27: =((4.7*10^13*$S$16*$R$16^0.5*EXP(-67837/O27)/($B$4*6))*$B$7*10^-6) -> 7.1101771e-11 | Q27: =(((B26*10^5)^(1-$B$8))*((B27*10^5)^($B$8-1))*(Q26^$B$8))^(1/$B$8) -> 2112.4189 | R27: =((4.7*10^13*$S$17*$R$17^0.5*EXP(-67837/Q27)/($B$4*6))*$B$7*10^-6) -> 1.7975092e-11 | S27: =(((B26*10^5)^(1-$B$8))*((B27*10^5)^($B$8-1))*(S26^$B$8))^(1/$B$8) -> 2004.3382 | T27: =((4.7*10^13*$S$18*$R$18^0.5*EXP(-67837/S27)/($B$4*6))*$B$7*10^-6) -> 3.6781396e-12 | U27: =(((B26*10^5)^(1-$B$8))*((B27*10^5)^($B$8-1))*(U26^$B$8))^(1/$B$8) -> 1897.5233 | V27: =((4.7*10^13*$S$19*$R$19^0.5*EXP(-67837/U27)/($B$4*6))*$B$7*10^-6) -> 6.1264077e-13 | W27: =(((B26*10^5)^(1-$B$8))*((B27*10^5)^($B$8-1))*(W26^$B$8))^(1/$B$8) -> 1792.1682 | X27: =((4.7*10^13*$S$20*$R$20^0.5*EXP(-67837/W27)/($B$4*6))*$B$7*10^-6) -> 8.2150544e-14 | Y27: =(((B26*10^5)^(1-$B$8))*((B27*10^5)^($B$8-1))*(Y26^$B$8))^(1/$B$8) -> 1687.8146 | Z27: =((4.7*10^13*$S$21*$R$21^0.5*EXP(-67837/Y27)/($B$4*6))*$B$7*10^-6) -> 8.5555539e-15 | AA27: =(((B26*10^5)^(1-$B$8))*((B27*10^5)^($B$8-1))*(AA26^$B$8))^(1/$B$8) -> 1584.2285 | AB27: =((4.7*10^13*$S$22*$R$22^0.5*EXP(-67837/AA27)/($B$4*6))*$B$7*10^-6) -> 6.6139118e-16
A28: 2 | B28: 14 | C28: =(((B27*10^5)^(1-$B$8))*((B28*10^5)^($B$8-1))*(C27^$B$8))^(1/$B$8) -> 2499.0907 | D28: =((4.7*(10^13)*($S$10*$R$10)^0.5)*EXP(-67837/C28)/($B$4*6))*$B$7*10^-6 -> 0 | E28: =(((B27*10^5)^(1-$B$8))*((B28*10^5)^($B$8-1))*(E27^$B$8))^(1/$B$8) -> 2476.1892 | F28: =((4.7*(10^13)*$S$11*$R$11^0.5*EXP(-67837/E28)/($B$4*6))*$B$7*10^-6) -> 5.1759069e-10 | G28: =(((B27*10^5)^(1-$B$8))*((B28*10^5)^($B$8-1))*(G27^$B$8))^(1/$B$8) -> 2453.3647 | H28: =((4.7*10^13*$S$12*$R$12^0.5*EXP(-67837/G28)/($B$4*6))*$B$7*10^-6) -> 5.6743941e-10 | I28: =(((B27*10^5)^(1-$B$8))*((B28*10^5)^($B$8-1))*(I27^$B$8))^(1/$B$8) -> 2430.6041 | J28: =((4.7*10^13*$S$13*$R$13^0.5*EXP(-67837/I28)/($B$4*6))*$B$7*10^-6) -> 5.3656562e-10 | K28: =(((B27*10^5)^(1-$B$8))*((B28*10^5)^($B$8-1))*(K27^$B$8))^(1/$B$8) -> 2407.891 | L28: =((4.7*10^13*$S$14*$R$14^0.5*EXP(-67837/K28)/($B$4*6))*$B$7*10^-6) -> 4.762841e-10 | M28: =(((B27*10^5)^(1-$B$8))*((B28*10^5)^($B$8-1))*(M27^$B$8))^(1/$B$8) -> 2385.1776 | N28: =((4.7*10^13*$S$15*$R$15^0.5*EXP(-67837/M28)/($B$4*6))*$B$7*10^-6) -> 4.0730055e-10 | O28: =(((B27*10^5)^(1-$B$8))*((B28*10^5)^($B$8-1))*(O27^$B$8))^(1/$B$8) -> 2271.986 | P28: =((4.7*10^13*$S$16*$R$16^0.5*EXP(-67837/O28)/($B$4*6))*$B$7*10^-6) -> 1.398285e-10 | Q28: =(((B27*10^5)^(1-$B$8))*((B28*10^5)^($B$8-1))*(Q27^$B$8))^(1/$B$8) -> 2160.2666 | R28: =((4.7*10^13*$S$17*$R$17^0.5*EXP(-67837/Q28)/($B$4*6))*$B$7*10^-6) -> 3.6608004e-11 | S28: =(((B27*10^5)^(1-$B$8))*((B28*10^5)^($B$8-1))*(S27^$B$8))^(1/$B$8) -> 2049.7379 | T28: =((4.7*10^13*$S$18*$R$18^0.5*EXP(-67837/S28)/($B$4*6))*$B$7*10^-6) -> 7.7837758e-12 | U28: =(((B27*10^5)^(1-$B$8))*((B28*10^5)^($B$8-1))*(U27^$B$8))^(1/$B$8) -> 1940.5035 | V28: =((4.7*10^13*$S$19*$R$19^0.5*EXP(-67837/U28)/($B$4*6))*$B$7*10^-6) -> 1.3523667e-12 | W28: =(((B27*10^5)^(1-$B$8))*((B28*10^5)^($B$8-1))*(W27^$B$8))^(1/$B$8) -> 1832.762 | X28: =((4.7*10^13*$S$20*$R$20^0.5*EXP(-67837/W28)/($B$4*6))*$B$7*10^-6) -> 1.8998311e-13 | Y28: =(((B27*10^5)^(1-$B$8))*((B28*10^5)^($B$8-1))*(Y27^$B$8))^(1/$B$8) -> 1726.0448 | Z28: =((4.7*10^13*$S$21*$R$21^0.5*EXP(-67837/Y28)/($B$4*6))*$B$7*10^-6) -> 2.0838402e-14 | AA28: =(((B27*10^5)^(1-$B$8))*((B28*10^5)^($B$8-1))*(AA27^$B$8))^(1/$B$8) -> 1620.1123 | AB28: =((4.7*10^13*$S$22*$R$22^0.5*EXP(-67837/AA28)/($B$4*6))*$B$7*10^-6) -> 1.7074733e-15
A29: 3 | B29: 16 | C29: =(((B28*10^5)^(1-$B$8))*((B29*10^5)^($B$8-1))*(C28^$B$8))^(1/$B$8) -> 2548.0515 | D29: =((4.7*(10^13)*($S$10*$R$10)^0.5)*EXP(-67837/C29)/($B$4*6))*$B$7*10^-6 -> 0 | E29: =(((B28*10^5)^(1-$B$8))*((B29*10^5)^($B$8-1))*(E28^$B$8))^(1/$B$8) -> 2524.7014 | F29: =((4.7*(10^13)*$S$11*$R$11^0.5*EXP(-67837/E29)/($B$4*6))*$B$7*10^-6) -> 8.7619908e-10 | G29: =(((B28*10^5)^(1-$B$8))*((B29*10^5)^($B$8-1))*(G28^$B$8))^(1/$B$8) -> 2501.4297 | H29: =((4.7*10^13*$S$12*$R$12^0.5*EXP(-67837/G29)/($B$4*6))*$B$7*10^-6) -> 9.6530096e-10 | I29: =(((B28*10^5)^(1-$B$8))*((B29*10^5)^($B$8-1))*(I28^$B$8))^(1/$B$8) -> 2478.2231 | J29: =((4.7*10^13*$S$13*$R$13^0.5*EXP(-67837/I29)/($B$4*6))*$B$7*10^-6) -> 9.1733257e-10 | K29: =(((B28*10^5)^(1-$B$8))*((B29*10^5)^($B$8-1))*(K28^$B$8))^(1/$B$8) -> 2455.0651 | L29: =((4.7*10^13*$S$14*$R$14^0.5*EXP(-67837/K29)/($B$4*6))*$B$7*10^-6) -> 8.1840254e-10 | M29: =(((B28*10^5)^(1-$B$8))*((B29*10^5)^($B$8-1))*(M28^$B$8))^(1/$B$8) -> 2431.9066 | N29: =((4.7*10^13*$S$15*$R$15^0.5*EXP(-67837/M29)/($B$4*6))*$B$7*10^-6) -> 7.0348477e-10 | O29: =(((B28*10^5)^(1-$B$8))*((B29*10^5)^($B$8-1))*(O28^$B$8))^(1/$B$8) -> 2316.4975 | P29: =((4.7*10^13*$S$16*$R$16^0.5*EXP(-67837/O29)/($B$4*6))*$B$7*10^-6) -> 2.48176e-10 | Q29: =(((B28*10^5)^(1-$B$8))*((B29*10^5)^($B$8-1))*(Q28^$B$8))^(1/$B$8) -> 2202.5894 | R29: =((4.7*10^13*$S$17*$R$17^0.5*EXP(-67837/Q29)/($B$4*6))*$B$7*10^-6) -> 6.6930767e-11 | S29: =(((B28*10^5)^(1-$B$8))*((B29*10^5)^($B$8-1))*(S28^$B$8))^(1/$B$8) -> 2089.8952 | T29: =((4.7*10^13*$S$18*$R$18^0.5*EXP(-67837/S29)/($B$4*6))*$B$7*10^-6) -> 1.4701805e-11 | U29: =(((B28*10^5)^(1-$B$8))*((B29*10^5)^($B$8-1))*(U28^$B$8))^(1/$B$8) -> 1978.5208 | V29: =((4.7*10^13*$S$19*$R$19^0.5*EXP(-67837/U29)/($B$4*6))*$B$7*10^-6) -> 2.6474118e-12 | W29: =(((B28*10^5)^(1-$B$8))*((B29*10^5)^($B$8-1))*(W28^$B$8))^(1/$B$8) -> 1868.6685 | X29: =((4.7*10^13*$S$20*$R$20^0.5*EXP(-67837/W29)/($B$4*6))*$B$7*10^-6) -> 3.8689365e-13 | Y29: =(((B28*10^5)^(1-$B$8))*((B29*10^5)^($B$8-1))*(Y28^$B$8))^(1/$B$8) -> 1759.8605 | Z29: =((4.7*10^13*$S$21*$R$21^0.5*EXP(-67837/Y29)/($B$4*6))*$B$7*10^-6) -> 4.4344333e-14 | AA29: =(((B28*10^5)^(1-$B$8))*((B29*10^5)^($B$8-1))*(AA28^$B$8))^(1/$B$8) -> 1651.8526 | AB29: =((4.7*10^13*$S$22*$R$22^0.5*EXP(-67837/AA29)/($B$4*6))*$B$7*10^-6) -> 3.8174423e-15
A30: 4 | B30: 18 | C30: =(((B29*10^5)^(1-$B$8))*((B30*10^5)^($B$8-1))*(C29^$B$8))^(1/$B$8) -> 2592.0335 | D30: =((4.7*(10^13)*($S$10*$R$10)^0.5)*EXP(-67837/C30)/($B$4*6))*$B$7*10^-6 -> 0 | E30: =(((B29*10^5)^(1-$B$8))*((B30*10^5)^($B$8-1))*(E29^$B$8))^(1/$B$8) -> 2568.2804 | F30: =((4.7*(10^13)*$S$11*$R$11^0.5*EXP(-67837/E30)/($B$4*6))*$B$7*10^-6) -> 1.382317e-09 | G30: =(((B29*10^5)^(1-$B$8))*((B30*10^5)^($B$8-1))*(G29^$B$8))^(1/$B$8) -> 2544.607 | H30: =((4.7*10^13*$S$12*$R$12^0.5*EXP(-67837/G30)/($B$4*6))*$B$7*10^-6) -> 1.5293599e-09 | I30: =(((B29*10^5)^(1-$B$8))*((B30*10^5)^($B$8-1))*(I29^$B$8))^(1/$B$8) -> 2520.9998 | J30: =((4.7*10^13*$S$13*$R$13^0.5*EXP(-67837/I30)/($B$4*6))*$B$7*10^-6) -> 1.459638e-09 | K30: =(((B29*10^5)^(1-$B$8))*((B30*10^5)^($B$8-1))*(K29^$B$8))^(1/$B$8) -> 2497.4421 | L30: =((4.7*10^13*$S$14*$R$14^0.5*EXP(-67837/K30)/($B$4*6))*$B$7*10^-6) -> 1.3079408e-09 | M30: =(((B29*10^5)^(1-$B$8))*((B30*10^5)^($B$8-1))*(M29^$B$8))^(1/$B$8) -> 2473.8839 | N30: =((4.7*10^13*$S$15*$R$15^0.5*EXP(-67837/M30)/($B$4*6))*$B$7*10^-6) -> 1.1293144e-09 | O30: =(((B29*10^5)^(1-$B$8))*((B30*10^5)^($B$8-1))*(O29^$B$8))^(1/$B$8) -> 2356.4827 | P30: =((4.7*10^13*$S$16*$R$16^0.5*EXP(-67837/O30)/($B$4*6))*$B$7*10^-6) -> 4.079069e-10 | Q30: =(((B29*10^5)^(1-$B$8))*((B30*10^5)^($B$8-1))*(Q29^$B$8))^(1/$B$8) -> 2240.6084 | R30: =((4.7*10^13*$S$17*$R$17^0.5*EXP(-67837/Q30)/($B$4*6))*$B$7*10^-6) -> 1.128723e-10 | S30: =(((B29*10^5)^(1-$B$8))*((B30*10^5)^($B$8-1))*(S29^$B$8))^(1/$B$8) -> 2125.969 | T30: =((4.7*10^13*$S$18*$R$18^0.5*EXP(-67837/S30)/($B$4*6))*$B$7*10^-6) -> 2.5501795e-11 | U30: =(((B29*10^5)^(1-$B$8))*((B30*10^5)^($B$8-1))*(U29^$B$8))^(1/$B$8) -> 2012.6721 | V30: =((4.7*10^13*$S$19*$R$19^0.5*EXP(-67837/U30)/($B$4*6))*$B$7*10^-6) -> 4.7368167e-12 | W30: =(((B29*10^5)^(1-$B$8))*((B30*10^5)^($B$8-1))*(W29^$B$8))^(1/$B$8) -> 1900.9237 | X30: =((4.7*10^13*$S$20*$R$20^0.5*EXP(-67837/W30)/($B$4*6))*$B$7*10^-6) -> 7.1632475e-13 | Y30: =(((B29*10^5)^(1-$B$8))*((B30*10^5)^($B$8-1))*(Y29^$B$8))^(1/$B$8) -> 1790.2375 | Z30: =((4.7*10^13*$S$21*$R$21^0.5*EXP(-67837/Y30)/($B$4*6))*$B$7*10^-6) -> 8.5289683e-14 | AA30: =(((B29*10^5)^(1-$B$8))*((B30*10^5)^($B$8-1))*(AA29^$B$8))^(1/$B$8) -> 1680.3654 | AB30: =((4.7*10^13*$S$22*$R$22^0.5*EXP(-67837/AA30)/($B$4*6))*$B$7*10^-6) -> 7.6630961e-15
A31: 5 | B31: 20 | C31: =(((B30*10^5)^(1-$B$8))*((B31*10^5)^($B$8-1))*(C30^$B$8))^(1/$B$8) -> 2632.0197 | D31: =((4.7*(10^13)*($S$10*$R$10)^0.5)*EXP(-67837/C31)/($B$4*6))*$B$7*10^-6 -> 0 | E31: =(((B30*10^5)^(1-$B$8))*((B31*10^5)^($B$8-1))*(E30^$B$8))^(1/$B$8) -> 2607.9001 | F31: =((4.7*(10^13)*$S$11*$R$11^0.5*EXP(-67837/E31)/($B$4*6))*$B$7*10^-6) -> 2.0648113e-09 | G31: =(((B30*10^5)^(1-$B$8))*((B31*10^5)^($B$8-1))*(G30^$B$8))^(1/$B$8) -> 2583.8615 | H31: =((4.7*10^13*$S$12*$R$12^0.5*EXP(-67837/G31)/($B$4*6))*$B$7*10^-6) -> 2.2929984e-09 | I31: =(((B30*10^5)^(1-$B$8))*((B31*10^5)^($B$8-1))*(I30^$B$8))^(1/$B$8) -> 2559.8902 | J31: =((4.7*10^13*$S$13*$R$13^0.5*EXP(-67837/I31)/($B$4*6))*$B$7*10^-6) -> 2.1967788e-09 | K31: =(((B30*10^5)^(1-$B$8))*((B31*10^5)^($B$8-1))*(K30^$B$8))^(1/$B$8) -> 2535.9691 | L31: =((4.7*10^13*$S$14*$R$14^0.5*EXP(-67837/K31)/($B$4*6))*$B$7*10^-6) -> 1.9760774e-09 | M31: =(((B30*10^5)^(1-$B$8))*((B31*10^5)^($B$8-1))*(M30^$B$8))^(1/$B$8) -> 2512.0474 | N31: =((4.7*10^13*$S$15*$R$15^0.5*EXP(-67837/M31)/($B$4*6))*$B$7*10^-6) -> 1.7129211e-09 | O31: =(((B30*10^5)^(1-$B$8))*((B31*10^5)^($B$8-1))*(O30^$B$8))^(1/$B$8) -> 2392.8351 | P31: =((4.7*10^13*$S$16*$R$16^0.5*EXP(-67837/O31)/($B$4*6))*$B$7*10^-6) -> 6.316801e-10 | Q31: =(((B30*10^5)^(1-$B$8))*((B31*10^5)^($B$8-1))*(Q30^$B$8))^(1/$B$8) -> 2275.1733 | R31: =((4.7*10^13*$S$17*$R$17^0.5*EXP(-67837/Q31)/($B$4*6))*$B$7*10^-6) -> 1.7879121e-10 | S31: =(((B30*10^5)^(1-$B$8))*((B31*10^5)^($B$8-1))*(S30^$B$8))^(1/$B$8) -> 2158.7654 | T31: =((4.7*10^13*$S$18*$R$18^0.5*EXP(-67837/S31)/($B$4*6))*$B$7*10^-6) -> 4.1409618e-11 | U31: =(((B30*10^5)^(1-$B$8))*((B31*10^5)^($B$8-1))*(U30^$B$8))^(1/$B$8) -> 2043.7208 | V31: =((4.7*10^13*$S$19*$R$19^0.5*EXP(-67837/U31)/($B$4*6))*$B$7*10^-6) -> 7.9043866e-12 | W31: =(((B30*10^5)^(1-$B$8))*((B31*10^5)^($B$8-1))*(W30^$B$8))^(1/$B$8) -> 1930.2484 | X31: =((4.7*10^13*$S$20*$R$20^0.5*EXP(-67837/W31)/($B$4*6))*$B$7*10^-6) -> 1.2318691e-12 | Y31: =(((B30*10^5)^(1-$B$8))*((B31*10^5)^($B$8-1))*(Y30^$B$8))^(1/$B$8) -> 1817.8547 | Z31: =((4.7*10^13*$S$21*$R$21^0.5*EXP(-67837/Y31)/($B$4*6))*$B$7*10^-6) -> 1.5167315e-13 | AA31: =(((B30*10^5)^(1-$B$8))*((B31*10^5)^($B$8-1))*(AA30^$B$8))^(1/$B$8) -> 1706.2876 | AB31: =((4.7*10^13*$S$22*$R$22^0.5*EXP(-67837/AA31)/($B$4*6))*$B$7*10^-6) -> 1.4150238e-14
A32: 6 | B32: 22 | C32: =(((B31*10^5)^(1-$B$8))*((B32*10^5)^($B$8-1))*(C31^$B$8))^(1/$B$8) -> 2668.7228 | D32: =((4.7*(10^13)*($S$10*$R$10)^0.5)*EXP(-67837/C32)/($B$4*6))*$B$7*10^-6 -> 0 | E32: =(((B31*10^5)^(1-$B$8))*((B32*10^5)^($B$8-1))*(E31^$B$8))^(1/$B$8) -> 2644.2668 | F32: =((4.7*(10^13)*$S$11*$R$11^0.5*EXP(-67837/E32)/($B$4*6))*$B$7*10^-6) -> 2.9528904e-09 | G32: =(((B31*10^5)^(1-$B$8))*((B32*10^5)^($B$8-1))*(G31^$B$8))^(1/$B$8) -> 2619.893 | H32: =((4.7*10^13*$S$12*$R$12^0.5*EXP(-67837/G32)/($B$4*6))*$B$7*10^-6) -> 3.2901533e-09 | I32: =(((B31*10^5)^(1-$B$8))*((B32*10^5)^($B$8-1))*(I31^$B$8))^(1/$B$8) -> 2595.5874 | J32: =((4.7*10^13*$S$13*$R$13^0.5*EXP(-67837/I32)/($B$4*6))*$B$7*10^-6) -> 3.1627666e-09 | K32: =(((B31*10^5)^(1-$B$8))*((B32*10^5)^($B$8-1))*(K31^$B$8))^(1/$B$8) -> 2571.3327 | L32: =((4.7*10^13*$S$14*$R$14^0.5*EXP(-67837/K32)/($B$4*6))*$B$7*10^-6) -> 2.8548138e-09 | M32: =(((B31*10^5)^(1-$B$8))*((B32*10^5)^($B$8-1))*(M31^$B$8))^(1/$B$8) -> 2547.0775 | N32: =((4.7*10^13*$S$15*$R$15^0.5*EXP(-67837/M32)/($B$4*6))*$B$7*10^-6) -> 2.4833199e-09 | O32: =(((B31*10^5)^(1-$B$8))*((B32*10^5)^($B$8-1))*(O31^$B$8))^(1/$B$8) -> 2426.2028 | P32: =((4.7*10^13*$S$16*$R$16^0.5*EXP(-67837/O32)/($B$4*6))*$B$7*10^-6) -> 9.3288548e-10 | Q32: =(((B31*10^5)^(1-$B$8))*((B32*10^5)^($B$8-1))*(Q31^$B$8))^(1/$B$8) -> 2306.9002 | R32: =((4.7*10^13*$S$17*$R$17^0.5*EXP(-67837/Q32)/($B$4*6))*$B$7*10^-6) -> 2.694228e-10 | S32: =(((B31*10^5)^(1-$B$8))*((B32*10^5)^($B$8-1))*(S31^$B$8))^(1/$B$8) -> 2188.869 | T32: =((4.7*10^13*$S$18*$R$18^0.5*EXP(-67837/S32)/($B$4*6))*$B$7*10^-6) -> 6.3795865e-11 | U32: =(((B31*10^5)^(1-$B$8))*((B32*10^5)^($B$8-1))*(U31^$B$8))^(1/$B$8) -> 2072.2201 | V32: =((4.7*10^13*$S$19*$R$19^0.5*EXP(-67837/U32)/($B$4*6))*$B$7*10^-6) -> 1.2477425e-11 | W32: =(((B31*10^5)^(1-$B$8))*((B32*10^5)^($B$8-1))*(W31^$B$8))^(1/$B$8) -> 1957.1654 | X32: =((4.7*10^13*$S$20*$R$20^0.5*EXP(-67837/W32)/($B$4*6))*$B$7*10^-6) -> 1.9974511e-12 | Y32: =(((B31*10^5)^(1-$B$8))*((B32*10^5)^($B$8-1))*(Y31^$B$8))^(1/$B$8) -> 1843.2044 | Z32: =((4.7*10^13*$S$21*$R$21^0.5*EXP(-67837/Y32)/($B$4*6))*$B$7*10^-6) -> 2.5339534e-13 | AA32: =(((B31*10^5)^(1-$B$8))*((B32*10^5)^($B$8-1))*(AA31^$B$8))^(1/$B$8) -> 1730.0815 | AB32: =((4.7*10^13*$S$22*$R$22^0.5*EXP(-67837/AA32)/($B$4*6))*$B$7*10^-6) -> 2.444711e-14
A33: 7 | B33: 24 | C33: =(((B32*10^5)^(1-$B$8))*((B33*10^5)^($B$8-1))*(C32^$B$8))^(1/$B$8) -> 2702.6768 | D33: =((4.7*(10^13)*($S$10*$R$10)^0.5)*EXP(-67837/C33)/($B$4*6))*$B$7*10^-6 -> 0 | E33: =(((B32*10^5)^(1-$B$8))*((B33*10^5)^($B$8-1))*(E32^$B$8))^(1/$B$8) -> 2677.9097 | F33: =((4.7*(10^13)*$S$11*$R$11^0.5*EXP(-67837/E33)/($B$4*6))*$B$7*10^-6) -> 4.0758642e-09 | G33: =(((B32*10^5)^(1-$B$8))*((B33*10^5)^($B$8-1))*(G32^$B$8))^(1/$B$8) -> 2653.2258 | H33: =((4.7*10^13*$S$12*$R$12^0.5*EXP(-67837/G33)/($B$4*6))*$B$7*10^-6) -> 4.5550246e-09 | I33: =(((B32*10^5)^(1-$B$8))*((B33*10^5)^($B$8-1))*(I32^$B$8))^(1/$B$8) -> 2628.6109 | J33: =((4.7*10^13*$S$13*$R$13^0.5*EXP(-67837/I33)/($B$4*6))*$B$7*10^-6) -> 4.3920235e-09 | K33: =(((B32*10^5)^(1-$B$8))*((B33*10^5)^($B$8-1))*(K32^$B$8))^(1/$B$8) -> 2604.0476 | L33: =((4.7*10^13*$S$14*$R$14^0.5*EXP(-67837/K33)/($B$4*6))*$B$7*10^-6) -> 3.9766776e-09 | M33: =(((B32*10^5)^(1-$B$8))*((B33*10^5)^($B$8-1))*(M32^$B$8))^(1/$B$8) -> 2579.4838 | N33: =((4.7*10^13*$S$15*$R$15^0.5*EXP(-67837/M33)/($B$4*6))*$B$7*10^-6) -> 3.4701321e-09 | O33: =(((B32*10^5)^(1-$B$8))*((B33*10^5)^($B$8-1))*(O32^$B$8))^(1/$B$8) -> 2457.0712 | P33: =((4.7*10^13*$S$16*$R$16^0.5*EXP(-67837/O33)/($B$4*6))*$B$7*10^-6) -> 1.3255046e-09 | Q33: =(((B32*10^5)^(1-$B$8))*((B33*10^5)^($B$8-1))*(Q32^$B$8))^(1/$B$8) -> 2336.2507 | R33: =((4.7*10^13*$S$17*$R$17^0.5*EXP(-67837/Q33)/($B$4*6))*$B$7*10^-6) -> 3.8983123e-10 | S33: =(((B32*10^5)^(1-$B$8))*((B33*10^5)^($B$8-1))*(S32^$B$8))^(1/$B$8) -> 2216.7178 | T33: =((4.7*10^13*$S$18*$R$18^0.5*EXP(-67837/S33)/($B$4*6))*$B$7*10^-6) -> 9.4164324e-11 | U33: =(((B32*10^5)^(1-$B$8))*((B33*10^5)^($B$8-1))*(U32^$B$8))^(1/$B$8) -> 2098.5848 | V33: =((4.7*10^13*$S$19*$R$19^0.5*EXP(-67837/U33)/($B$4*6))*$B$7*10^-6) -> 1.8825105e-11 | W33: =(((B32*10^5)^(1-$B$8))*((B33*10^5)^($B$8-1))*(W32^$B$8))^(1/$B$8) -> 1982.0662 | X33: =((4.7*10^13*$S$20*$R$20^0.5*EXP(-67837/W33)/($B$4*6))*$B$7*10^-6) -> 3.0873694e-12 | Y33: =(((B32*10^5)^(1-$B$8))*((B33*10^5)^($B$8-1))*(Y32^$B$8))^(1/$B$8) -> 1866.6554 | Z33: =((4.7*10^13*$S$21*$R$21^0.5*EXP(-67837/Y33)/($B$4*6))*$B$7*10^-6) -> 4.0234947e-13 | AA33: =(((B32*10^5)^(1-$B$8))*((B33*10^5)^($B$8-1))*(AA32^$B$8))^(1/$B$8) -> 1752.0932 | AB33: =((4.7*10^13*$S$22*$R$22^0.5*EXP(-67837/AA33)/($B$4*6))*$B$7*10^-6) -> 4.0009408e-14
A34: 8 | B34: 26 | C34: =(((B33*10^5)^(1-$B$8))*((B34*10^5)^($B$8-1))*(C33^$B$8))^(1/$B$8) -> 2734.2928 | D34: =((4.7*(10^13)*($S$10*$R$10)^0.5)*EXP(-67837/C34)/($B$4*6))*$B$7*10^-6 -> 0 | E34: =(((B33*10^5)^(1-$B$8))*((B34*10^5)^($B$8-1))*(E33^$B$8))^(1/$B$8) -> 2709.2359 | F34: =((4.7*(10^13)*$S$11*$R$11^0.5*EXP(-67837/E34)/($B$4*6))*$B$7*10^-6) -> 5.4629649e-09 | G34: =(((B33*10^5)^(1-$B$8))*((B34*10^5)^($B$8-1))*(G33^$B$8))^(1/$B$8) -> 2684.2633 | H34: =((4.7*10^13*$S$12*$R$12^0.5*EXP(-67837/G34)/($B$4*6))*$B$7*10^-6) -> 6.1218531e-09 | I34: =(((B33*10^5)^(1-$B$8))*((B34*10^5)^($B$8-1))*(I33^$B$8))^(1/$B$8) -> 2659.3605 | J34: =((4.7*10^13*$S$13*$R$13^0.5*EXP(-67837/I34)/($B$4*6))*$B$7*10^-6) -> 5.919147e-09 | K34: =(((B33*10^5)^(1-$B$8))*((B34*10^5)^($B$8-1))*(K33^$B$8))^(1/$B$8) -> 2634.5098 | L34: =((4.7*10^13*$S$14*$R$14^0.5*EXP(-67837/K34)/($B$4*6))*$B$7*10^-6) -> 5.3744903e-09 | M34: =(((B33*10^5)^(1-$B$8))*((B34*10^5)^($B$8-1))*(M33^$B$8))^(1/$B$8) -> 2609.6587 | N34: =((4.7*10^13*$S$15*$R$15^0.5*EXP(-67837/M34)/($B$4*6))*$B$7*10^-6) -> 4.7033646e-09 | O34: =(((B33*10^5)^(1-$B$8))*((B34*10^5)^($B$8-1))*(O33^$B$8))^(1/$B$8) -> 2485.8141 | P34: =((4.7*10^13*$S$16*$R$16^0.5*EXP(-67837/O34)/($B$4*6))*$B$7*10^-6) -> 1.8239936e-09 | Q34: =(((B33*10^5)^(1-$B$8))*((B34*10^5)^($B$8-1))*(Q33^$B$8))^(1/$B$8) -> 2363.5802 | R34: =((4.7*10^13*$S$17*$R$17^0.5*EXP(-67837/Q34)/($B$4*6))*$B$7*10^-6) -> 5.4536674e-10 | S34: =(((B33*10^5)^(1-$B$8))*((B34*10^5)^($B$8-1))*(S33^$B$8))^(1/$B$8) -> 2242.6491 | T34: =((4.7*10^13*$S$18*$R$18^0.5*EXP(-67837/S34)/($B$4*6))*$B$7*10^-6) -> 1.3414086e-10 | U34: =(((B33*10^5)^(1-$B$8))*((B34*10^5)^($B$8-1))*(U33^$B$8))^(1/$B$8) -> 2123.1341 | V34: =((4.7*10^13*$S$19*$R$19^0.5*EXP(-67837/U34)/($B$4*6))*$B$7*10^-6) -> 2.7356638e-11 | W34: =(((B33*10^5)^(1-$B$8))*((B34*10^5)^($B$8-1))*(W33^$B$8))^(1/$B$8) -> 2005.2525 | X34: =((4.7*10^13*$S$20*$R$20^0.5*EXP(-67837/W34)/($B$4*6))*$B$7*10^-6) -> 4.5862363e-12 | Y34: =(((B33*10^5)^(1-$B$8))*((B34*10^5)^($B$8-1))*(Y33^$B$8))^(1/$B$8) -> 1888.4916 | Z34: =((4.7*10^13*$S$21*$R$21^0.5*EXP(-67837/Y34)/($B$4*6))*$B$7*10^-6) -> 6.1248781e-13 | AA34: =(((B33*10^5)^(1-$B$8))*((B34*10^5)^($B$8-1))*(AA33^$B$8))^(1/$B$8) -> 1772.5893 | AB34: =((4.7*10^13*$S$22*$R$22^0.5*EXP(-67837/AA34)/($B$4*6))*$B$7*10^-6) -> 6.2602067e-14
A35: 9 | B35: 28 | C35: =(((B34*10^5)^(1-$B$8))*((B35*10^5)^($B$8-1))*(C34^$B$8))^(1/$B$8) -> 2763.8942 | D35: =((4.7*(10^13)*($S$10*$R$10)^0.5)*EXP(-67837/C35)/($B$4*6))*$B$7*10^-6 -> 0 | E35: =(((B34*10^5)^(1-$B$8))*((B35*10^5)^($B$8-1))*(E34^$B$8))^(1/$B$8) -> 2738.5661 | F35: =((4.7*(10^13)*$S$11*$R$11^0.5*EXP(-67837/E35)/($B$4*6))*$B$7*10^-6) -> 7.1432124e-09 | G35: =(((B34*10^5)^(1-$B$8))*((B35*10^5)^($B$8-1))*(G34^$B$8))^(1/$B$8) -> 2713.3231 | H35: =((4.7*10^13*$S$12*$R$12^0.5*EXP(-67837/G35)/($B$4*6))*$B$7*10^-6) -> 8.0247512e-09 | I35: =(((B34*10^5)^(1-$B$8))*((B35*10^5)^($B$8-1))*(I34^$B$8))^(1/$B$8) -> 2688.1508 | J35: =((4.7*10^13*$S$13*$R$13^0.5*EXP(-67837/I35)/($B$4*6))*$B$7*10^-6) -> 7.7787272e-09 | K35: =(((B34*10^5)^(1-$B$8))*((B35*10^5)^($B$8-1))*(K34^$B$8))^(1/$B$8) -> 2663.0311 | L35: =((4.7*10^13*$S$14*$R$14^0.5*EXP(-67837/K35)/($B$4*6))*$B$7*10^-6) -> 7.0811842e-09 | M35: =(((B34*10^5)^(1-$B$8))*((B35*10^5)^($B$8-1))*(M34^$B$8))^(1/$B$8) -> 2637.9109 | N35: =((4.7*10^13*$S$15*$R$15^0.5*EXP(-67837/M35)/($B$4*6))*$B$7*10^-6) -> 6.213235e-09 | O35: =(((B34*10^5)^(1-$B$8))*((B35*10^5)^($B$8-1))*(O34^$B$8))^(1/$B$8) -> 2512.7255 | P35: =((4.7*10^13*$S$16*$R$16^0.5*EXP(-67837/O35)/($B$4*6))*$B$7*10^-6) -> 2.4431842e-09 | Q35: =(((B34*10^5)^(1-$B$8))*((B35*10^5)^($B$8-1))*(Q34^$B$8))^(1/$B$8) -> 2389.1684 | R35: =((4.7*10^13*$S$17*$R$17^0.5*EXP(-67837/Q35)/($B$4*6))*$B$7*10^-6) -> 7.416277e-10 | S35: =(((B34*10^5)^(1-$B$8))*((B35*10^5)^($B$8-1))*(S34^$B$8))^(1/$B$8) -> 2266.928 | T35: =((4.7*10^13*$S$18*$R$18^0.5*EXP(-67837/S35)/($B$4*6))*$B$7*10^-6) -> 1.8546289e-10 | U35: =(((B34*10^5)^(1-$B$8))*((B35*10^5)^($B$8-1))*(U34^$B$8))^(1/$B$8) -> 2146.1192 | V35: =((4.7*10^13*$S$19*$R$19^0.5*EXP(-67837/U35)/($B$4*6))*$B$7*10^-6) -> 3.8519324e-11 | W35: =(((B34*10^5)^(1-$B$8))*((B35*10^5)^($B$8-1))*(W34^$B$8))^(1/$B$8) -> 2026.9614 | X35: =((4.7*10^13*$S$20*$R$20^0.5*EXP(-67837/W35)/($B$4*6))*$B$7*10^-6) -> 6.5888401e-12 | Y35: =(((B34*10^5)^(1-$B$8))*((B35*10^5)^($B$8-1))*(Y34^$B$8))^(1/$B$8) -> 1908.9364 | Z35: =((4.7*10^13*$S$21*$R$21^0.5*EXP(-67837/Y35)/($B$4*6))*$B$7*10^-6) -> 8.9986783e-13 | AA35: =(((B34*10^5)^(1-$B$8))*((B35*10^5)^($B$8-1))*(AA34^$B$8))^(1/$B$8) -> 1791.7793 | AB35: =((4.7*10^13*$S$22*$R$22^0.5*EXP(-67837/AA35)/($B$4*6))*$B$7*10^-6) -> 9.4318027e-14
A36: 10 | B36: 30 | C36: =(((B35*10^5)^(1-$B$8))*((B36*10^5)^($B$8-1))*(C35^$B$8))^(1/$B$8) -> 2791.7405 | D36: =((4.7*(10^13)*($S$10*$R$10)^0.5)*EXP(-67837/C36)/($B$4*6))*$B$7*10^-6 -> 0 | E36: =(((B35*10^5)^(1-$B$8))*((B36*10^5)^($B$8-1))*(E35^$B$8))^(1/$B$8) -> 2766.1573 | F36: =((4.7*(10^13)*$S$11*$R$11^0.5*EXP(-67837/E36)/($B$4*6))*$B$7*10^-6) -> 9.145313e-09 | G36: =(((B35*10^5)^(1-$B$8))*((B36*10^5)^($B$8-1))*(G35^$B$8))^(1/$B$8) -> 2740.6599 | H36: =((4.7*10^13*$S$12*$R$12^0.5*EXP(-67837/G36)/($B$4*6))*$B$7*10^-6) -> 1.0297573e-08 | I36: =(((B35*10^5)^(1-$B$8))*((B36*10^5)^($B$8-1))*(I35^$B$8))^(1/$B$8) -> 2715.2339 | J36: =((4.7*10^13*$S$13*$R$13^0.5*EXP(-67837/I36)/($B$4*6))*$B$7*10^-6) -> 1.0005206e-08 | K36: =(((B35*10^5)^(1-$B$8))*((B36*10^5)^($B$8-1))*(K35^$B$8))^(1/$B$8) -> 2689.8612 | L36: =((4.7*10^13*$S$14*$R$14^0.5*EXP(-67837/K36)/($B$4*6))*$B$7*10^-6) -> 9.1296585e-09 | M36: =(((B35*10^5)^(1-$B$8))*((B36*10^5)^($B$8-1))*(M35^$B$8))^(1/$B$8) -> 2664.4879 | N36: =((4.7*10^13*$S$15*$R$15^0.5*EXP(-67837/M36)/($B$4*6))*$B$7*10^-6) -> 8.0300314e-09 | O36: =(((B35*10^5)^(1-$B$8))*((B36*10^5)^($B$8-1))*(O35^$B$8))^(1/$B$8) -> 2538.0413 | P36: =((4.7*10^13*$S$16*$R$16^0.5*EXP(-67837/O36)/($B$4*6))*$B$7*10^-6) -> 3.1982003e-09 | Q36: =(((B35*10^5)^(1-$B$8))*((B36*10^5)^($B$8-1))*(Q35^$B$8))^(1/$B$8) -> 2413.2393 | R36: =((4.7*10^13*$S$17*$R$17^0.5*EXP(-67837/Q36)/($B$4*6))*$B$7*10^-6) -> 9.8442696e-10 | S36: =(((B35*10^5)^(1-$B$8))*((B36*10^5)^($B$8-1))*(S35^$B$8))^(1/$B$8) -> 2289.7673 | T36: =((4.7*10^13*$S$18*$R$18^0.5*EXP(-67837/S36)/($B$4*6))*$B$7*10^-6) -> 2.4996949e-10 | U36: =(((B35*10^5)^(1-$B$8))*((B36*10^5)^($B$8-1))*(U35^$B$8))^(1/$B$8) -> 2167.7414 | V36: =((4.7*10^13*$S$19*$R$19^0.5*EXP(-67837/U36)/($B$4*6))*$B$7*10^-6) -> 5.2796576e-11 | W36: =(((B35*10^5)^(1-$B$8))*((B36*10^5)^($B$8-1))*(W35^$B$8))^(1/$B$8) -> 2047.3831 | X36: =((4.7*10^13*$S$20*$R$20^0.5*EXP(-67837/W36)/($B$4*6))*$B$7*10^-6) -> 9.199951e-12 | Y36: =(((B35*10^5)^(1-$B$8))*((B36*10^5)^($B$8-1))*(Y35^$B$8))^(1/$B$8) -> 1928.169 | Z36: =((4.7*10^13*$S$21*$R$21^0.5*EXP(-67837/Y36)/($B$4*6))*$B$7*10^-6) -> 1.2826815e-12 | AA36: =(((B35*10^5)^(1-$B$8))*((B36*10^5)^($B$8-1))*(AA35^$B$8))^(1/$B$8) -> 1809.8315 | AB36: =((4.7*10^13*$S$22*$R$22^0.5*EXP(-67837/AA36)/($B$4*6))*$B$7*10^-6) -> 1.3759426e-13
A37: 11 | B37: 32 | C37: =(((B36*10^5)^(1-$B$8))*((B37*10^5)^($B$8-1))*(C36^$B$8))^(1/$B$8) -> 2818.0429 | D37: =((4.7*(10^13)*($S$10*$R$10)^0.5)*EXP(-67837/C37)/($B$4*6))*$B$7*10^-6 -> 0 | E37: =(((B36*10^5)^(1-$B$8))*((B37*10^5)^($B$8-1))*(E36^$B$8))^(1/$B$8) -> 2792.2186 | F37: =((4.7*(10^13)*$S$11*$R$11^0.5*EXP(-67837/E37)/($B$4*6))*$B$7*10^-6) -> 1.1497584e-08 | G37: =(((B36*10^5)^(1-$B$8))*((B37*10^5)^($B$8-1))*(G36^$B$8))^(1/$B$8) -> 2766.481 | H37: =((4.7*10^13*$S$12*$R$12^0.5*EXP(-67837/G37)/($B$4*6))*$B$7*10^-6) -> 1.2973816e-08 | I37: =(((B36*10^5)^(1-$B$8))*((B37*10^5)^($B$8-1))*(I36^$B$8))^(1/$B$8) -> 2740.8155 | J37: =((4.7*10^13*$S$13*$R$13^0.5*EXP(-67837/I37)/($B$4*6))*$B$7*10^-6) -> 1.2632765e-08 | K37: =(((B36*10^5)^(1-$B$8))*((B37*10^5)^($B$8-1))*(K36^$B$8))^(1/$B$8) -> 2715.2037 | L37: =((4.7*10^13*$S$14*$R$14^0.5*EXP(-67837/K37)/($B$4*6))*$B$7*10^-6) -> 1.1552666e-08 | M37: =(((B36*10^5)^(1-$B$8))*((B37*10^5)^($B$8-1))*(M36^$B$8))^(1/$B$8) -> 2689.5913 | N37: =((4.7*10^13*$S$15*$R$15^0.5*EXP(-67837/M37)/($B$4*6))*$B$7*10^-6) -> 1.0184e-08 | O37: =(((B36*10^5)^(1-$B$8))*((B37*10^5)^($B$8-1))*(O36^$B$8))^(1/$B$8) -> 2561.9535 | P37: =((4.7*10^13*$S$16*$R$16^0.5*EXP(-67837/O37)/($B$4*6))*$B$7*10^-6) -> 4.1043875e-09 | Q37: =(((B36*10^5)^(1-$B$8))*((B37*10^5)^($B$8-1))*(Q36^$B$8))^(1/$B$8) -> 2435.9756 | R37: =((4.7*10^13*$S$17*$R$17^0.5*EXP(-67837/Q37)/($B$4*6))*$B$7*10^-6) -> 1.279762e-09 | S37: =(((B36*10^5)^(1-$B$8))*((B37*10^5)^($B$8-1))*(S36^$B$8))^(1/$B$8) -> 2311.3404 | T37: =((4.7*10^13*$S$18*$R$18^0.5*EXP(-67837/S37)/($B$4*6))*$B$7*10^-6) -> 3.2959229e-10 | U37: =(((B36*10^5)^(1-$B$8))*((B37*10^5)^($B$8-1))*(U36^$B$8))^(1/$B$8) -> 2188.1647 | V37: =((4.7*10^13*$S$19*$R$19^0.5*EXP(-67837/U37)/($B$4*6))*$B$7*10^-6) -> 7.0705935e-11 | W37: =(((B36*10^5)^(1-$B$8))*((B37*10^5)^($B$8-1))*(W36^$B$8))^(1/$B$8) -> 2066.6725 | X37: =((4.7*10^13*$S$20*$R$20^0.5*EXP(-67837/W37)/($B$4*6))*$B$7*10^-6) -> 1.2534087e-11 | Y37: =(((B36*10^5)^(1-$B$8))*((B37*10^5)^($B$8-1))*(Y36^$B$8))^(1/$B$8) -> 1946.3352 | Z37: =((4.7*10^13*$S$21*$R$21^0.5*EXP(-67837/Y37)/($B$4*6))*$B$7*10^-6) -> 1.7812706e-12 | AA37: =(((B36*10^5)^(1-$B$8))*((B37*10^5)^($B$8-1))*(AA36^$B$8))^(1/$B$8) -> 1826.8829 | AB37: =((4.7*10^13*$S$22*$R$22^0.5*EXP(-67837/AA37)/($B$4*6))*$B$7*10^-6) -> 1.9522532e-13
A38: 12 | B38: 34 | C38: =(((B37*10^5)^(1-$B$8))*((B38*10^5)^($B$8-1))*(C37^$B$8))^(1/$B$8) -> 2842.9759 | D38: =((4.7*(10^13)*($S$10*$R$10)^0.5)*EXP(-67837/C38)/($B$4*6))*$B$7*10^-6 -> 0 | E38: =(((B37*10^5)^(1-$B$8))*((B38*10^5)^($B$8-1))*(E37^$B$8))^(1/$B$8) -> 2816.9231 | F38: =((4.7*(10^13)*$S$11*$R$11^0.5*EXP(-67837/E38)/($B$4*6))*$B$7*10^-6) -> 1.42279e-08 | G38: =(((B37*10^5)^(1-$B$8))*((B38*10^5)^($B$8-1))*(G37^$B$8))^(1/$B$8) -> 2790.9578 | H38: =((4.7*10^13*$S$12*$R$12^0.5*EXP(-67837/G38)/($B$4*6))*$B$7*10^-6) -> 1.6086546e-08 | I38: =(((B37*10^5)^(1-$B$8))*((B38*10^5)^($B$8-1))*(I37^$B$8))^(1/$B$8) -> 2765.0652 | J38: =((4.7*10^13*$S$13*$R$13^0.5*EXP(-67837/I38)/($B$4*6))*$B$7*10^-6) -> 1.5695244e-08 | K38: =(((B37*10^5)^(1-$B$8))*((B38*10^5)^($B$8-1))*(K37^$B$8))^(1/$B$8) -> 2739.2268 | L38: =((4.7*10^13*$S$14*$R$14^0.5*EXP(-67837/K38)/($B$4*6))*$B$7*10^-6) -> 1.4382721e-08 | M38: =(((B37*10^5)^(1-$B$8))*((B38*10^5)^($B$8-1))*(M37^$B$8))^(1/$B$8) -> 2713.3878 | N38: =((4.7*10^13*$S$15*$R$15^0.5*EXP(-67837/M38)/($B$4*6))*$B$7*10^-6) -> 1.2705257e-08 | O38: =(((B37*10^5)^(1-$B$8))*((B38*10^5)^($B$8-1))*(O37^$B$8))^(1/$B$8) -> 2584.6206 | P38: =((4.7*10^13*$S$16*$R$16^0.5*EXP(-67837/O38)/($B$4*6))*$B$7*10^-6) -> 5.1772533e-09 | Q38: =(((B37*10^5)^(1-$B$8))*((B38*10^5)^($B$8-1))*(Q37^$B$8))^(1/$B$8) -> 2457.5282 | R38: =((4.7*10^13*$S$17*$R$17^0.5*EXP(-67837/Q38)/($B$4*6))*$B$7*10^-6) -> 1.6337884e-09 | S38: =(((B37*10^5)^(1-$B$8))*((B38*10^5)^($B$8-1))*(S37^$B$8))^(1/$B$8) -> 2331.7902 | T38: =((4.7*10^13*$S$18*$R$18^0.5*EXP(-67837/S38)/($B$4*6))*$B$7*10^-6) -> 4.2634692e-10 | U38: =(((B37*10^5)^(1-$B$8))*((B38*10^5)^($B$8-1))*(U37^$B$8))^(1/$B$8) -> 2207.5248 | V38: =((4.7*10^13*$S$19*$R$19^0.5*EXP(-67837/U38)/($B$4*6))*$B$7*10^-6) -> 9.2797141e-11 | W38: =(((B37*10^5)^(1-$B$8))*((B38*10^5)^($B$8-1))*(W37^$B$8))^(1/$B$8) -> 2084.9576 | X38: =((4.7*10^13*$S$20*$R$20^0.5*EXP(-67837/W38)/($B$4*6))*$B$7*10^-6) -> 1.6715248e-11 | Y38: =(((B37*10^5)^(1-$B$8))*((B38*10^5)^($B$8-1))*(Y37^$B$8))^(1/$B$8) -> 1963.5556 | Z38: =((4.7*10^13*$S$21*$R$21^0.5*EXP(-67837/Y38)/($B$4*6))*$B$7*10^-6) -> 2.4181306e-12 | AA38: =(((B37*10^5)^(1-$B$8))*((B38*10^5)^($B$8-1))*(AA37^$B$8))^(1/$B$8) -> 1843.0464 | AB38: =((4.7*10^13*$S$22*$R$22^0.5*EXP(-67837/AA38)/($B$4*6))*$B$7*10^-6) -> 2.7037464e-13
... A41: 15 | B41: 40 | C41: =(((B40*10^5)^(1-$B$8))*((B41*10^5)^($B$8-1))*(C40^$B$8))^(1/$B$8) -> 2910.9084 | D41: =((4.7*(10^13)*($S$10*$R$10)^0.5)*EXP(-67837/C41)/($B$4*6))*$B$7*10^-6 -> 0 | E41: =(((B40*10^5)^(1-$B$8))*((B41*10^5)^($B$8-1))*(E40^$B$8))^(1/$B$8) -> 2884.2331 | F41: =((4.7*(10^13)*$S$11*$R$11^0.5*EXP(-67837/E41)/($B$4*6))*$B$7*10^-6) -> 2.4958413e-08 | G41: =(((B40*10^5)^(1-$B$8))*((B41*10^5)^($B$8-1))*(G40^$B$8))^(1/$B$8) -> 2857.6474 | H41: =((4.7*10^13*$S$12*$R$12^0.5*EXP(-67837/G41)/($B$4*6))*$B$7*10^-6) -> 2.8366758e-08 | I41: =(((B40*10^5)^(1-$B$8))*((B41*10^5)^($B$8-1))*(I40^$B$8))^(1/$B$8) -> 2831.1361 | J41: =((4.7*10^13*$S$13*$R$13^0.5*EXP(-67837/I41)/($B$4*6))*$B$7*10^-6) -> 2.7824143e-08 | K41: =(((B40*10^5)^(1-$B$8))*((B41*10^5)^($B$8-1))*(K40^$B$8))^(1/$B$8) -> 2804.6802 | L41: =((4.7*10^13*$S$14*$R$14^0.5*EXP(-67837/K41)/($B$4*6))*$B$7*10^-6) -> 2.5635411e-08 | M41: =(((B40*10^5)^(1-$B$8))*((B41*10^5)^($B$8-1))*(M40^$B$8))^(1/$B$8) -> 2778.2239 | N41: =((4.7*10^13*$S$15*$R$15^0.5*EXP(-67837/M41)/($B$4*6))*$B$7*10^-6) -> 2.2770516e-08 | O41: =(((B40*10^5)^(1-$B$8))*((B41*10^5)^($B$8-1))*(O40^$B$8))^(1/$B$8) -> 2646.3798 | P41: =((4.7*10^13*$S$16*$R$16^0.5*EXP(-67837/O41)/($B$4*6))*$B$7*10^-6) -> 9.5524074e-09 | Q41: =(((B40*10^5)^(1-$B$8))*((B41*10^5)^($B$8-1))*(Q40^$B$8))^(1/$B$8) -> 2516.2505 | R41: =((4.7*10^13*$S$17*$R$17^0.5*EXP(-67837/Q41)/($B$4*6))*$B$7*10^-6) -> 3.1114747e-09 | S41: =(((B40*10^5)^(1-$B$8))*((B41*10^5)^($B$8-1))*(S40^$B$8))^(1/$B$8) -> 2387.5081 | T41: =((4.7*10^13*$S$18*$R$18^0.5*EXP(-67837/S41)/($B$4*6))*$B$7*10^-6) -> 8.4065878e-10 | U41: =(((B40*10^5)^(1-$B$8))*((B41*10^5)^($B$8-1))*(U40^$B$8))^(1/$B$8) -> 2260.2733 | V41: =((4.7*10^13*$S$19*$R$19^0.5*EXP(-67837/U41)/($B$4*6))*$B$7*10^-6) -> 1.9010311e-10 | W41: =(((B40*10^5)^(1-$B$8))*((B41*10^5)^($B$8-1))*(W40^$B$8))^(1/$B$8) -> 2134.7774 | X41: =((4.7*10^13*$S$20*$R$20^0.5*EXP(-67837/W41)/($B$4*6))*$B$7*10^-6) -> 3.5717146e-11 | Y41: =(((B40*10^5)^(1-$B$8))*((B41*10^5)^($B$8-1))*(Y40^$B$8))^(1/$B$8) -> 2010.4746 | Z41: =((4.7*10^13*$S$21*$R$21^0.5*EXP(-67837/Y41)/($B$4*6))*$B$7*10^-6) -> 5.4154205e-12 | AA41: =(((B40*10^5)^(1-$B$8))*((B41*10^5)^($B$8-1))*(AA40^$B$8))^(1/$B$8) -> 1887.0858 | AB41: =((4.7*10^13*$S$22*$R$22^0.5*EXP(-67837/AA41)/($B$4*6))*$B$7*10^-6) -> 6.382832e-13
C42: Total Nox | D42: =SUM(D26:D41) -> 0 | E42: Total Nox | F42: =SUM(F26:F41) -> 1.2300988e-07 | G42: Total Nox | H42: =SUM(H26:H41) -> 1.3893648e-07 | I42: Total Nox | J42: =SUM(J26:J41) -> 1.354223e-07 | K42: Total Nox | L42: =SUM(L26:L41) -> 1.2397852e-07 | M42: Total Nox | N42: =SUM(N26:N41) -> 1.0941743e-07 | O42: Total Nox | P42: =SUM(P26:P41) -> 4.4405812e-08 | Q42: Total Nox | R42: =SUM(R26:R41) -> 1.3972458e-08 | S42: Total Nox | T42: =SUM(T26:T41) -> 3.6407026e-09 | U42: Total Nox | V42: =SUM(V26:V41) -> 7.9259355e-10 | W42: Total Nox | X42: =SUM(X26:X41) -> 1.431003e-10 | Y42: Total Nox | Z42: =SUM(Z26:Z41) -> 2.0804488e-11 | AA42: Total Nox | AB42: =SUM(AB26:AB41) -> 2.3454274e-12
A45: ='Enthalpy Data'!X1 -> Deg K | B45: ='Enthalpy Data'!Y1 -> Net Enthalpy | C45: ='Enthalpy Data'!Z1 -> 0.99 | D45: ='Enthalpy Data'!AA1 -> 0.98 | E45: ='Enthalpy Data'!AB1 -> 0.97 | F45: ='Enthalpy Data'!AC1 -> 0.96 | G45: ='Enthalpy Data'!AD1 -> 0.95 | H45: ='Enthalpy Data'!AE1 -> 0.9 | ... N45: ='Enthalpy Data'!AK1 -> 0.6 | P45: ='Enthalpy Data'!X38 -> Deg K | Q45: ='Enthalpy Data'!Y38 -> Net Enthalpy | R45: ='Enthalpy Data'!Z38 -> 0.99 | S45: ='Enthalpy Data'!AA38 -> 0.98 | T45: ='Enthalpy Data'!AB38 -> 0.97 | U45: ='Enthalpy Data'!AC38 -> 0.96 | V45: ='Enthalpy Data'!AD38 -> 0.95 | W45: ='Enthalpy Data'!AE38 -> 0.9 | ... AC45: ='Enthalpy Data'!AK38 -> 0.6
A46: ='Enthalpy Data'!X2 -> 1900 | B46: ='Enthalpy Data'!Y2 -> 3763.231 | C46: ='Enthalpy Data'!Z2 -> 3763.1246 | D46: ='Enthalpy Data'!AA2 -> 3763.2184 | E46: ='Enthalpy Data'!AB2 -> 3763.3122 | F46: ='Enthalpy Data'!AC2 -> 3763.406 | G46: ='Enthalpy Data'!AD2 -> 3763.4998 | H46: ='Enthalpy Data'!AE2 -> 3763.9688 | ... N46: ='Enthalpy Data'!AK2 -> 3766.7828 | P46: ='Enthalpy Data'!X39 -> 1000 | Q46: ='Enthalpy Data'!Y39 -> 1510.7894 | R46: ='Enthalpy Data'!Z39 -> 1510.9558 | S46: ='Enthalpy Data'!AA39 -> 1511.1222 | T46: ='Enthalpy Data'!AB39 -> 1511.2886 | U46: ='Enthalpy Data'!AC39 -> 1511.455 | V46: ='Enthalpy Data'!AD39 -> 1511.6214 | W46: ='Enthalpy Data'!AE39 -> 1512.4534 | ... AC46: ='Enthalpy Data'!AK39 -> 1517.4454
A47: ='Enthalpy Data'!X3 -> 1950 | B47: ='Enthalpy Data'!Y3 -> 3894.2536 | C47: ='Enthalpy Data'!Z3 -> 3894.1346 | D47: ='Enthalpy Data'!AA3 -> 3894.2226 | E47: ='Enthalpy Data'!AB3 -> 3894.3106 | F47: ='Enthalpy Data'!AC3 -> 3894.3986 | G47: ='Enthalpy Data'!AD3 -> 3894.4866 | H47: ='Enthalpy Data'!AE3 -> 3894.9266 | ... N47: ='Enthalpy Data'!AK3 -> 3897.5666 | P47: ='Enthalpy Data'!X40 -> 1050 | Q47: ='Enthalpy Data'!Y40 -> 1628.4622 | R47: ='Enthalpy Data'!Z40 -> 1628.629 | S47: ='Enthalpy Data'!AA40 -> 1628.7957 | T47: ='Enthalpy Data'!AB40 -> 1628.9624 | U47: ='Enthalpy Data'!AC40 -> 1629.1292 | V47: ='Enthalpy Data'!AD40 -> 1629.2959 | W47: ='Enthalpy Data'!AE40 -> 1630.1297 | ... AC47: ='Enthalpy Data'!AK40 -> 1635.1322
A48: ='Enthalpy Data'!X4 -> 2000 | B48: ='Enthalpy Data'!Y4 -> 4026.0064 | C48: ='Enthalpy Data'!Z4 -> 4025.8753 | D48: ='Enthalpy Data'!AA4 -> 4025.9579 | E48: ='Enthalpy Data'!AB4 -> 4026.0406 | F48: ='Enthalpy Data'!AC4 -> 4026.1232 | G48: ='Enthalpy Data'!AD4 -> 4026.2059 | H48: ='Enthalpy Data'!AE4 -> 4026.6191 | ... N48: ='Enthalpy Data'!AK4 -> 4029.0986 | P48: ='Enthalpy Data'!X41 -> 1100 | Q48: ='Enthalpy Data'!Y41 -> 1747.6754 | R48: ='Enthalpy Data'!Z41 -> 1747.8414 | S48: ='Enthalpy Data'!AA41 -> 1748.0073 | T48: ='Enthalpy Data'!AB41 -> 1748.1733 | U48: ='Enthalpy Data'!AC41 -> 1748.3392 | V48: ='Enthalpy Data'!AD41 -> 1748.5051 | W48: ='Enthalpy Data'!AE41 -> 1749.3349 | ... AC48: ='Enthalpy Data'!AK41 -> 1754.3134
A49: ='Enthalpy Data'!X5 -> 2050 | B49: ='Enthalpy Data'!Y5 -> 4157.9393 | C49: ='Enthalpy Data'!Z5 -> 4157.7959 | D49: ='Enthalpy Data'!AA5 -> 4157.8732 | E49: ='Enthalpy Data'!AB5 -> 4157.9505 | F49: ='Enthalpy Data'!AC5 -> 4158.0278 | G49: ='Enthalpy Data'!AD5 -> 4158.1051 | H49: ='Enthalpy Data'!AE5 -> 4158.4916 | ... N49: ='Enthalpy Data'!AK5 -> 4160.8106 | P49: ='Enthalpy Data'!X42 -> 1150 | Q49: ='Enthalpy Data'!Y42 -> 1867.7888 | R49: ='Enthalpy Data'!Z42 -> 1867.9536 | S49: ='Enthalpy Data'!AA42 -> 1868.1184 | T49: ='Enthalpy Data'!AB42 -> 1868.2832 | U49: ='Enthalpy Data'!AC42 -> 1868.448 | V49: ='Enthalpy Data'!AD42 -> 1868.6128 | W49: ='Enthalpy Data'!AE42 -> 1869.4368 | ... AC49: ='Enthalpy Data'!AK42 -> 1874.3808
A50: ='Enthalpy Data'!X6 -> 2100 | B50: ='Enthalpy Data'!Y6 -> 4290.0421 | C50: ='Enthalpy Data'!Z6 -> 4289.887 | D50: ='Enthalpy Data'!AA6 -> 4289.9594 | E50: ='Enthalpy Data'!AB6 -> 4290.0318 | F50: ='Enthalpy Data'!AC6 -> 4290.1042 | G50: ='Enthalpy Data'!AD6 -> 4290.1766 | H50: ='Enthalpy Data'!AE6 -> 4290.5386 | ... N50: ='Enthalpy Data'!AK6 -> 4292.7106 | P50: ='Enthalpy Data'!X43 -> 1200 | Q50: ='Enthalpy Data'!Y43 -> 1988.8024 | R50: ='Enthalpy Data'!Z43 -> 1988.9645 | S50: ='Enthalpy Data'!AA43 -> 1989.1265 | T50: ='Enthalpy Data'!AB43 -> 1989.2885 | U50: ='Enthalpy Data'!AC43 -> 1989.4506 | V50: ='Enthalpy Data'!AD43 -> 1989.6127 | W50: ='Enthalpy Data'!AE43 -> 1990.4229 | ... AC50: ='Enthalpy Data'!AK43 -> 1995.2844
A51: ='Enthalpy Data'!X7 -> 2150 | B51: ='Enthalpy Data'!Y7 -> 4422.7852 | C51: ='Enthalpy Data'!Z7 -> 4422.6175 | D51: ='Enthalpy Data'!AA7 -> 4422.6842 | E51: ='Enthalpy Data'!AB7 -> 4422.7509 | F51: ='Enthalpy Data'!AC7 -> 4422.8176 | G51: ='Enthalpy Data'!AD7 -> 4422.8843 | H51: ='Enthalpy Data'!AE7 -> 4423.2178 | ... N51: ='Enthalpy Data'!AK7 -> 4425.2188 | P51: ='Enthalpy Data'!X44 -> 1250 | Q51: ='Enthalpy Data'!Y44 -> 2110.6262 | R51: ='Enthalpy Data'!Z44 -> 2110.7864 | S51: ='Enthalpy Data'!AA44 -> 2110.9466 | T51: ='Enthalpy Data'!AB44 -> 2111.1068 | U51: ='Enthalpy Data'!AC44 -> 2111.267 | V51: ='Enthalpy Data'!AD44 -> 2111.4272 | W51: ='Enthalpy Data'!AE44 -> 2112.2282 | ... AC51: ='Enthalpy Data'!AK44 -> 2117.0342
A52: ='Enthalpy Data'!X8 -> 2200 | B52: ='Enthalpy Data'!Y8 -> 4556.3486 | C52: ='Enthalpy Data'!Z8 -> 4556.1686 | D52: ='Enthalpy Data'!AA8 -> 4556.2301 | E52: ='Enthalpy Data'!AB8 -> 4556.2915 | F52: ='Enthalpy Data'!AC8 -> 4556.353 | G52: ='Enthalpy Data'!AD8 -> 4556.4145 | H52: ='Enthalpy Data'!AE8 -> 4556.7217 | ... N52: ='Enthalpy Data'!AK8 -> 4558.5652 | P52: ='Enthalpy Data'!X45 -> 1300 | Q52: ='Enthalpy Data'!Y45 -> 2233.4402 | R52: ='Enthalpy Data'!Z45 -> 2233.597 | S52: ='Enthalpy Data'!AA45 -> 2233.7537 | T52: ='Enthalpy Data'!AB45 -> 2233.9104 | U52: ='Enthalpy Data'!AC45 -> 2234.0672 | V52: ='Enthalpy Data'!AD45 -> 2234.224 | W52: ='Enthalpy Data'!AE45 -> 2235.0077 | ... AC52: ='Enthalpy Data'!AK45 -> 2239.7102
A53: ='Enthalpy Data'!X9 -> 2250 | B53: ='Enthalpy Data'!Y9 -> 4689.4417 | C53: ='Enthalpy Data'!Z9 -> 4689.2509 | D53: ='Enthalpy Data'!AA9 -> 4689.3083 | E53: ='Enthalpy Data'!AB9 -> 4689.3657 | F53: ='Enthalpy Data'!AC9 -> 4689.4232 | G53: ='Enthalpy Data'!AD9 -> 4689.4806 | H53: ='Enthalpy Data'!AE9 -> 4689.7679 | ... N53: ='Enthalpy Data'!AK9 -> 4691.4914 | P53: ='Enthalpy Data'!X46 -> 1350 | Q53: ='Enthalpy Data'!Y46 -> 2357.0744 | R53: ='Enthalpy Data'!Z46 -> 2357.2281 | S53: ='Enthalpy Data'!AA46 -> 2357.3819 | T53: ='Enthalpy Data'!AB46 -> 2357.5357 | U53: ='Enthalpy Data'!AC46 -> 2357.6894 | V53: ='Enthalpy Data'!AD46 -> 2357.8431 | W53: ='Enthalpy Data'!AE46 -> 2358.6119 | ... AC53: ='Enthalpy Data'!AK46 -> 2363.2244
A54: ='Enthalpy Data'!X10 -> 2300 | B54: ='Enthalpy Data'!Y10 -> 4823.185 | C54: ='Enthalpy Data'!Z10 -> 4822.9833 | D54: ='Enthalpy Data'!AA10 -> 4823.0367 | E54: ='Enthalpy Data'!AB10 -> 4823.0901 | F54: ='Enthalpy Data'!AC10 -> 4823.1436 | G54: ='Enthalpy Data'!AD10 -> 4823.1971 | H54: ='Enthalpy Data'!AE10 -> 4823.4643 | ... N54: ='Enthalpy Data'!AK10 -> 4825.0678 | P54: ='Enthalpy Data'!X47 -> 1400 | Q54: ='Enthalpy Data'!Y47 -> 2481.5988 | R54: ='Enthalpy Data'!Z47 -> 2481.7472 | S54: ='Enthalpy Data'!AA47 -> 2481.8955 | T54: ='Enthalpy Data'!AB47 -> 2482.0439 | U54: ='Enthalpy Data'!AC47 -> 2482.1922 | V54: ='Enthalpy Data'!AD47 -> 2482.3405 | W54: ='Enthalpy Data'!AE47 -> 2483.0823 | ... AC54: ='Enthalpy Data'!AK47 -> 2487.5328
A55: ='Enthalpy Data'!X11 -> 2350 | B55: ='Enthalpy Data'!Y11 -> 4957.6486 | C55: ='Enthalpy Data'!Z11 -> 4957.4343 | D55: ='Enthalpy Data'!AA11 -> 4957.4821 | E55: ='Enthalpy Data'!AB11 -> 4957.53 | F55: ='Enthalpy Data'!AC11 -> 4957.5778 | G55: ='Enthalpy Data'!AD11 -> 4957.6256 | H55: ='Enthalpy Data'!AE11 -> 4957.8649 | ... N55: ='Enthalpy Data'!AK11 -> 4959.3004 | P55: ='Enthalpy Data'!X48 -> 1450 | Q55: ='Enthalpy Data'!Y48 -> 2606.9434 | R55: ='Enthalpy Data'!Z48 -> 2607.0881 | S55: ='Enthalpy Data'!AA48 -> 2607.2327 | T55: ='Enthalpy Data'!AB48 -> 2607.3774 | U55: ='Enthalpy Data'!AC48 -> 2607.522 | V55: ='Enthalpy Data'!AD48 -> 2607.6667 | W55: ='Enthalpy Data'!AE48 -> 2608.3899 | ... AC55: ='Enthalpy Data'!AK48 -> 2612.7294
A56: ='Enthalpy Data'!X12 -> 2400 | B56: ='Enthalpy Data'!Y12 -> 5091.7419 | C56: ='Enthalpy Data'!Z12 -> 5091.5171 | D56: ='Enthalpy Data'!AA12 -> 5091.5614 | E56: ='Enthalpy Data'!AB12 -> 5091.6057 | F56: ='Enthalpy Data'!AC12 -> 5091.65 | G56: ='Enthalpy Data'!AD12 -> 5091.6943 | H56: ='Enthalpy Data'!AE12 -> 5091.9158 | ... N56: ='Enthalpy Data'!AK12 -> 5093.2448 | P56: ='Enthalpy Data'!X49 -> 1500 | Q56: ='Enthalpy Data'!Y49 -> 2732.628 | R56: ='Enthalpy Data'!Z49 -> 2732.7674 | S56: ='Enthalpy Data'!AA49 -> 2732.9067 | T56: ='Enthalpy Data'!AB49 -> 2733.046 | U56: ='Enthalpy Data'!AC49 -> 2733.1854 | V56: ='Enthalpy Data'!AD49 -> 2733.3248 | W56: ='Enthalpy Data'!AE49 -> 2734.0215 | ... AC56: ='Enthalpy Data'!AK49 -> 2738.202
... A63: ='Enthalpy Data'!X19 -> 2750 | B63: ='Enthalpy Data'!Y19 -> 6039.4579 | C63: ='Enthalpy Data'!Z19 -> 6039.1664 | D63: ='Enthalpy Data'!AA19 -> 6039.1931 | E63: ='Enthalpy Data'!AB19 -> 6039.2198 | F63: ='Enthalpy Data'!AC19 -> 6039.2464 | G63: ='Enthalpy Data'!AD19 -> 6039.2731 | H63: ='Enthalpy Data'!AE19 -> 6039.4063 | ... N63: ='Enthalpy Data'!AK19 -> 6040.2058 | P63: ='Enthalpy Data'!X56 -> 1850 | Q63: ='Enthalpy Data'!Y56 -> 3632.275 | R63: ='Enthalpy Data'!Z56 -> 3632.3751 | S63: ='Enthalpy Data'!AA56 -> 3632.4751 | T63: ='Enthalpy Data'!AB56 -> 3632.5752 | U63: ='Enthalpy Data'!AC56 -> 3632.6752 | V63: ='Enthalpy Data'!AD56 -> 3632.7753 | W63: ='Enthalpy Data'!AE56 -> 3633.2755 | ... AC63: ='Enthalpy Data'!AK56 -> 3636.277
A64: ='Enthalpy Data'!X20 -> 2800 | B64: ='Enthalpy Data'!Y20 -> 6175.5317 | C64: ='Enthalpy Data'!Z20 -> 6175.2315 | D64: ='Enthalpy Data'!AA20 -> 6175.2564 | E64: ='Enthalpy Data'!AB20 -> 6175.2813 | F64: ='Enthalpy Data'!AC20 -> 6175.3062 | G64: ='Enthalpy Data'!AD20 -> 6175.3311 | H64: ='Enthalpy Data'!AE20 -> 6175.4556 | ... N64: ='Enthalpy Data'!AK20 -> 6176.2026
A65: ='Enthalpy Data'!X21 -> 2850 | B65: ='Enthalpy Data'!Y21 -> 6312.1657 | C65: ='Enthalpy Data'!Z21 -> 6311.8568 | D65: ='Enthalpy Data'!AA21 -> 6311.8799 | E65: ='Enthalpy Data'!AB21 -> 6311.9031 | F65: ='Enthalpy Data'!AC21 -> 6311.9262 | G65: ='Enthalpy Data'!AD21 -> 6311.9493 | H65: ='Enthalpy Data'!AE21 -> 6312.0651 | ... N65: ='Enthalpy Data'!AK21 -> 6312.7596
A66: ='Enthalpy Data'!X22 -> 2900 | B66: ='Enthalpy Data'!Y22 -> 6448.7998 | C66: ='Enthalpy Data'!Z22 -> 6448.4845 | D66: ='Enthalpy Data'!AA22 -> 6448.5084 | E66: ='Enthalpy Data'!AB22 -> 6448.5323 | F66: ='Enthalpy Data'!AC22 -> 6448.5562 | G66: ='Enthalpy Data'!AD22 -> 6448.5801 | H66: ='Enthalpy Data'!AE22 -> 6448.6996 | ... N66: ='Enthalpy Data'!AK22 -> 6449.4166
A67: ='Enthalpy Data'!X23 -> 2950 | B67: ='Enthalpy Data'!Y23 -> 6585.6938 | C67: ='Enthalpy Data'!Z23 -> 6585.3702 | D67: ='Enthalpy Data'!AA23 -> 6585.3928 | E67: ='Enthalpy Data'!AB23 -> 6585.4154 | F67: ='Enthalpy Data'!AC23 -> 6585.438 | G67: ='Enthalpy Data'!AD23 -> 6585.4606 | H67: ='Enthalpy Data'!AE23 -> 6585.5736 | ... N67: ='Enthalpy Data'!AK23 -> 6586.2516
A68: ='Enthalpy Data'!X24 -> 3000 | B68: ='Enthalpy Data'!Y24 -> 6722.5979 | C68: ='Enthalpy Data'!Z24 -> 6722.2679 | D68: ='Enthalpy Data'!AA24 -> 6722.2913 | E68: ='Enthalpy Data'!AB24 -> 6722.3146 | F68: ='Enthalpy Data'!AC24 -> 6722.338 | G68: ='Enthalpy Data'!AD24 -> 6722.3614 | H68: ='Enthalpy Data'!AE24 -> 6722.4781 | ... N68: ='Enthalpy Data'!AK24 -> 6723.1786
A69: ='Enthalpy Data'!X25 -> 3050 | B69: ='Enthalpy Data'!Y25 -> 6859.5819 | C69: ='Enthalpy Data'!Z25 -> 6859.2461 | D69: ='Enthalpy Data'!AA25 -> 6859.2707 | E69: ='Enthalpy Data'!AB25 -> 6859.2952 | F69: ='Enthalpy Data'!AC25 -> 6859.3198 | G69: ='Enthalpy Data'!AD25 -> 6859.3444 | H69: ='Enthalpy Data'!AE25 -> 6859.4671 | ... N69: ='Enthalpy Data'!AK25 -> 6860.2036
A70: ='Enthalpy Data'!X26 -> 3100 | B70: ='Enthalpy Data'!Y26 -> 6996.736 | C70: ='Enthalpy Data'!Z26 -> 6996.3923 | D70: ='Enthalpy Data'!AA26 -> 6996.416 | E70: ='Enthalpy Data'!AB26 -> 6996.4397 | F70: ='Enthalpy Data'!AC26 -> 6996.4634 | G70: ='Enthalpy Data'!AD26 -> 6996.4871 | H70: ='Enthalpy Data'!AE26 -> 6996.6056 | ... N70: ='Enthalpy Data'!AK26 -> 6997.3166
A71: ='Enthalpy Data'!X27 -> 3150 | B71: ='Enthalpy Data'!Y27 -> 7134.3702 | C71: ='Enthalpy Data'!Z27 -> 7134.022 | D71: ='Enthalpy Data'!AA27 -> 7134.0481 | E71: ='Enthalpy Data'!AB27 -> 7134.0743 | F71: ='Enthalpy Data'!AC27 -> 7134.1004 | G71: ='Enthalpy Data'!AD27 -> 7134.1266 | H71: ='Enthalpy Data'!AE27 -> 7134.2573 | ... N71: ='Enthalpy Data'!AK27 -> 7135.0418
A72: ='Enthalpy Data'!X28 -> 3200 | B72: ='Enthalpy Data'!Y28 -> 7271.6143 | C72: ='Enthalpy Data'!Z28 -> 7271.2594 | D72: ='Enthalpy Data'!AA28 -> 7271.2859 | E72: ='Enthalpy Data'!AB28 -> 7271.3124 | F72: ='Enthalpy Data'!AC28 -> 7271.339 | G72: ='Enthalpy Data'!AD28 -> 7271.3656 | H72: ='Enthalpy Data'!AE28 -> 7271.4983 | ... N72: ='Enthalpy Data'!AK28 -> 7272.2948
A73: ='Enthalpy Data'!X29 -> 3250 | B73: ='Enthalpy Data'!Y29 -> 7409.4186 | C73: ='Enthalpy Data'!Z29 -> 7409.0595 | D73: ='Enthalpy Data'!AA29 -> 7409.0889 | E73: ='Enthalpy Data'!AB29 -> 7409.1183 | F73: ='Enthalpy Data'!AC29 -> 7409.1478 | G73: ='Enthalpy Data'!AD29 -> 7409.1772 | H73: ='Enthalpy Data'!AE29 -> 7409.3245 | ... N73: ='Enthalpy Data'!AK29 -> 7410.208
A74: ='Enthalpy Data'!X30 -> 3300 | B74: ='Enthalpy Data'!Y30 -> 7547.3929 | C74: ='Enthalpy Data'!Z30 -> 7547.0275 | D74: ='Enthalpy Data'!AA30 -> 7547.0578 | E74: ='Enthalpy Data'!AB30 -> 7547.0881 | F74: ='Enthalpy Data'!AC30 -> 7547.1184 | G74: ='Enthalpy Data'!AD30 -> 7547.1487 | H74: ='Enthalpy Data'!AE30 -> 7547.3002 | ... N74: ='Enthalpy Data'!AK30 -> 7548.2092
A75: ='Enthalpy Data'!X31 -> 3350 | B75: ='Enthalpy Data'!Y31 -> 7685.3671 | C75: ='Enthalpy Data'!Z31 -> 7684.9968 | D75: ='Enthalpy Data'!AA31 -> 7685.0292 | E75: ='Enthalpy Data'!AB31 -> 7685.0616 | F75: ='Enthalpy Data'!AC31 -> 7685.094 | G75: ='Enthalpy Data'!AD31 -> 7685.1264 | H75: ='Enthalpy Data'!AE31 -> 7685.2884 | ... N75: ='Enthalpy Data'!AK31 -> 7686.2604
... A78: ='Enthalpy Data'!X34 -> 3500 | B78: ='Enthalpy Data'!Y34 -> 8100.2102 | C78: ='Enthalpy Data'!Z34 -> 8099.8287 | D78: ='Enthalpy Data'!AA34 -> 8099.8711 | E78: ='Enthalpy Data'!AB34 -> 8099.9136 | F78: ='Enthalpy Data'!AC34 -> 8099.956 | G78: ='Enthalpy Data'!AD34 -> 8099.9985 | H78: ='Enthalpy Data'!AE34 -> 8100.2107 | ... N78: ='Enthalpy Data'!AK34 -> 8101.4842

Sheet EGR 5%
A4: RPM | B4: 1800 | D4: PV/RT=n | E4: =((10^5*(B6*B5)*10^-6))/(8314*293) -> 6.5681391e-06 | F4: EGR 5%
A5: Vol. Eff % | B5: 0.4
A6: Swept vol. | B6: 400
A7: Clearance Vol. | B7: 40
A8: Polytropic index (n) | B8: 1.17
A9: ϕ | B9: CO2 | C9: Actual enthalpy | D9: H2O | E9: Actual enthalpy | F9: O2 | G9: Actual enthalpy | H9: N2 | I9: Actual enthalpy | J9: Net Enthalpy | K9: Ideal flame temp. (K) | L9: Co2 (poly) | M9: H2O (poly) | N9: O2 (poly) | O9: N2 (poly) | P9: Enthalpy (poly) | Q9: Flame temp (poly) | R9: [O2] | S9: [N2] | T9: α | U9: Exhaust composition (kmol) | V9: Total Nox | W9: Nox PPM
A10: 1 | B10: 8.4 | C10: 115.186 | D10: 9.45 | E10: 93.21294 | F10: 0 | G10: 74.39168 | H10: 49.375 | I10: 70.28073 | J10: 5065 | K10: =FORECAST(5065,A55:A56,B55:B56) -> 2390.0286 | L10: =(((-8.5358E-16*(K10^5))+(8.92213971E-12*(K10^4))-(3.576722317485E-08*(K10^3))+(0.0000699095086815875*(K10^2))-(0.00826892770480903*(K10))-(0.895619545925062)))*0.95 -> 109.1849 | M10: =(((6.7E-19*(K10^6))-(7.89843E-15*(K10^5))+(3.687984988E-11*(K10^4))-(8.638622855912E-08*(K10^3))+(0.000110740178605573*(K10^2))-(0.031241611607915*(K10))+(3.30066945333761)))*0.95 -> 89.411772 | N10: =(((6.5E-19*(K10^6))-(7.82245E-15*(K10^5))+(0.0000000000371204177*(K10^4))-(8.798317617007E-08*(K10^3))+(0.000109823272345614*(K10^2))-(0.0326064446414848*(K10))+(3.57864890028521)))*0.95 -> 70.434059 | O10: =(((5.9E-19*(K10^6))-(7.10207E-15*(K10^5))+(3.346089681E-11*(K10^4))-(7.890960163412E-08*(K10^3))+(0.000098599769211504*(K10^2))-(0.028172899155961*(K10))+(3.05378907997741)))*0.95 -> 66.086398 | P10: =(L10*B10)+(M10*D10)+(N10*F10)+(O10*H10)*0.95 -> 4861.9595 | Q10: =FORECAST(P10,A$54:A$55,B54:B55) -> 2314.4182 | R10: =(F10*T10)/($B$7*10^-6) -> 0 | S10: =(H10*T10)/($B$7*10^-6) -> 0.13395632 | T10: =$E$4/(A10+12.5*(1+(79/21))) -> 1.0852157e-07 | U10: =(B10+D10+F10+H10)*T10 -> 7.2953628e-06 | V10: =D42 -> 0 | W10: =(V10/U10)*10^6 -> 0
A11: 0.99 | B11: =$B$10*A11 -> 8.316 | C11: =$C$10*A11 -> 114.03414 | D11: =$D$10*A11 -> 9.3555 | E11: =$E$10*A11 -> 92.280811 | F11: =((12.5*(1-A11))*0.05)+(12.5*(1-A11)) -> 0.13125 | G11: =$G$10*A11 -> 73.647763 | H11: 49.375 | I11: =$I$10*A11 -> 69.577923 | J11: =$J$10*A11 -> 5014.35 | K11: =FORECAST(5014.35,A55:A56,C55:C56) -> 2371.2241 | L11: =(((-8.5358E-16*(K11^5))+(8.92213971E-12*(K11^4))-(3.576722317485E-08*(K11^3))+(0.0000699095086815875*(K11^2))-(0.00826892770480903*(K11))-(0.895619545925062)))*0.95 -> 108.09707 | M11: =(((6.7E-19*(K11^6))-(7.89843E-15*(K11^5))+(3.687984988E-11*(K11^4))-(8.638622855912E-08*(K11^3))+(0.000110740178605573*(K11^2))-(0.031241611607915*(K11))+(3.30066945333761)))*0.95 -> 88.402145 | N11: =(((6.5E-19*(K11^6))-(7.82245E-15*(K11^5))+(0.0000000000371204177*(K11^4))-(8.798317617007E-08*(K11^3))+(0.000109823272345614*(K11^2))-(0.0326064446414848*(K11))+(3.57864890028521)))*0.95 -> 69.725851 | O11: =(((5.9E-19*(K11^6))-(7.10207E-15*(K11^5))+(3.346089681E-11*(K11^4))-(7.890960163412E-08*(K11^3))+(0.000098599769211504*(K11^2))-(0.028172899155961*(K11))+(3.05378907997741)))*0.95 -> 65.450842 | P11: =(L11*B11)+(M11*D11)+(N11*F11)+(O11*H11)*0.95 -> 4805.1866 | Q11: =FORECAST(P11,A53:A54,B53:B54) -> 2293.2713 | R11: =(F11*T11)/($B$7*10^-6) -> 0.00035614526 | S11: =(H11*T11)/($B$7*10^-6) -> 0.13397846 | T11: =$E$4/(A11+12.5*(1+(79/21))) -> 1.0853951e-07 | U11: =(B11+D11+F11+H11)*T11 -> 7.2914399e-06 | V11: =F42 -> 6.6840928e-08 | W11: =(V11/U11)*10^6 -> 9167.041
A12: 0.98 | B12: =$B$10*A12 -> 8.232 | C12: =$C$10*A12 -> 112.88228 | D12: =$D$10*A12 -> 9.261 | E12: =$E$10*A12 -> 91.348681 | F12: =((12.5*(1-A12))*0.05)+(12.5*(1-A12)) -> 0.2625 | G12: =$G$10*A12 -> 72.903846 | H12: 49.375 | I12: =$I$10*A12 -> 68.875115 | J12: =$J$10*A12 -> 4963.7 | K12: =FORECAST(4963.7,A55:A56,D55:D56) -> 2352.3187 | L12: =(((-8.5358E-16*(K12^5))+(8.92213971E-12*(K12^4))-(3.576722317485E-08*(K12^3))+(0.0000699095086815875*(K12^2))-(0.00826892770480903*(K12))-(0.895619545925062)))*0.95 -> 107.00522 | M12: =(((6.7E-19*(K12^6))-(7.89843E-15*(K12^5))+(3.687984988E-11*(K12^4))-(8.638622855912E-08*(K12^3))+(0.000110740178605573*(K12^2))-(0.031241611607915*(K12))+(3.30066945333761)))*0.95 -> 87.390531 | N12: =(((6.5E-19*(K12^6))-(7.82245E-15*(K12^5))+(0.0000000000371204177*(K12^4))-(8.798317617007E-08*(K12^3))+(0.000109823272345614*(K12^2))-(0.0326064446414848*(K12))+(3.57864890028521)))*0.95 -> 69.014892 | O12: =(((5.9E-19*(K12^6))-(7.10207E-15*(K12^5))+(3.346089681E-11*(K12^4))-(7.890960163412E-08*(K12^3))+(0.000098599769211504*(K12^2))-(0.028172899155961*(K12))+(3.05378907997741)))*0.95 -> 64.811202 | P12: =(L12*B12)+(M12*D12)+(N12*F12)+(O12*H12)*0.95 -> 4748.3575 | Q12: =FORECAST(P12,A53:A54,D53:D54) -> 2272.078 | R12: =(F12*T12)/($B$7*10^-6) -> 0.00071240825 | S12: =(H12*T12)/($B$7*10^-6) -> 0.1340006 | T12: =$E$4/(A12+12.5*(1+(79/21))) -> 1.0855745e-07 | U12: =(B12+D12+F12+H12)*T12 -> 7.2875157e-06 | V12: =H42 -> 7.4982524e-08 | W12: =(V12/U12)*10^6 -> 10289.175
A13: 0.97 | B13: =$B$10*A13 -> 8.148 | C13: =$C$10*A13 -> 111.73042 | D13: =$D$10*A13 -> 9.1665 | E13: =$E$10*A13 -> 90.416552 | F13: =((12.5*(1-A13))*0.05)+(12.5*(1-A13)) -> 0.39375 | G13: =$G$10*A13 -> 72.15993 | H13: 49.375 | I13: =$I$10*A13 -> 68.172308 | J13: =$J$10*A13 -> 4913.05 | K13: =FORECAST(4913.05,A54:A55,E54:E55) -> 2333.4573 | L13: =(((-8.5358E-16*(K13^5))+(8.92213971E-12*(K13^4))-(3.576722317485E-08*(K13^3))+(0.0000699095086815875*(K13^2))-(0.00826892770480903*(K13))-(0.895619545925062)))*0.95 -> 105.91767 | M13: =(((6.7E-19*(K13^6))-(7.89843E-15*(K13^5))+(3.687984988E-11*(K13^4))-(8.638622855912E-08*(K13^3))+(0.000110740178605573*(K13^2))-(0.031241611607915*(K13))+(3.30066945333761)))*0.95 -> 86.384769 | N13: =(((6.5E-19*(K13^6))-(7.82245E-15*(K13^5))+(0.0000000000371204177*(K13^4))-(8.798317617007E-08*(K13^3))+(0.000109823272345614*(K13^2))-(0.0326064446414848*(K13))+(3.57864890028521)))*0.95 -> 68.306719 | O13: =(((5.9E-19*(K13^6))-(7.10207E-15*(K13^5))+(3.346089681E-11*(K13^4))-(7.890960163412E-08*(K13^3))+(0.000098599769211504*(K13^2))-(0.028172899155961*(K13))+(3.05378907997741)))*0.95 -> 64.172505 | P13: =(L13*B13)+(M13*D13)+(N13*F13)+(O13*H13)*0.95 -> 4691.8505 | Q13: =FORECAST(P13,A53:A54,E53:E54) -> 2250.9291 | R13: =(F13*T13)/($B$7*10^-6) -> 0.001068789 | S13: =(H13*T13)/($B$7*10^-6) -> 0.13402275 | T13: =$E$4/(A13+12.5*(1+(79/21))) -> 1.0857539e-07 | U13: =(B13+D13+F13+H13)*T13 -> 7.2835902e-06 | V13: =J42 -> 7.2568838e-08 | W13: =(V13/U13)*10^6 -> 9963.3335
A14: 0.96 | B14: =$B$10*A14 -> 8.064 | C14: =$C$10*A14 -> 110.57856 | D14: =$D$10*A14 -> 9.072 | E14: =$E$10*A14 -> 89.484422 | F14: =((12.5*(1-A14))*0.05)+(12.5*(1-A14)) -> 0.525 | G14: =$G$10*A14 -> 71.416013 | H14: 49.375 | I14: =$I$10*A14 -> 67.469501 | J14: =$J$10*A14 -> 4862.4 | K14: =FORECAST(4862.4,A54:A55,F54:F55) -> 2314.6006 | L14: =(((-8.5358E-16*(K14^5))+(8.92213971E-12*(K14^4))-(3.576722317485E-08*(K14^3))+(0.0000699095086815875*(K14^2))-(0.00826892770480903*(K14))-(0.895619545925062)))*0.95 -> 104.83212 | M14: =(((6.7E-19*(K14^6))-(7.89843E-15*(K14^5))+(3.687984988E-11*(K14^4))-(8.638622855912E-08*(K14^3))+(0.000110740178605573*(K14^2))-(0.031241611607915*(K14))+(3.30066945333761)))*0.95 -> 85.38283 | N14: =(((6.5E-19*(K14^6))-(7.82245E-15*(K14^5))+(0.0000000000371204177*(K14^4))-(8.798317617007E-08*(K14^3))+(0.000109823272345614*(K14^2))-(0.0326064446414848*(K14))+(3.57864890028521)))*0.95 -> 67.599947 | O14: =(((5.9E-19*(K14^6))-(7.10207E-15*(K14^5))+(3.346089681E-11*(K14^4))-(7.890960163412E-08*(K14^3))+(0.000098599769211504*(K14^2))-(0.028172899155961*(K14))+(3.05378907997741)))*0.95 -> 63.533559 | P14: =(L14*B14)+(M14*D14)+(N14*F14)+(O14*H14)*0.95 -> 4635.5702 | Q14: =FORECAST(P14,A52:A53,F52:F53) -> 2229.7652 | R14: =(F14*T14)/($B$7*10^-6) -> 0.0014252876 | S14: =(H14*T14)/($B$7*10^-6) -> 0.13404491 | T14: =$E$4/(A14+12.5*(1+(79/21))) -> 1.0859334e-07 | U14: =(B14+D14+F14+H14)*T14 -> 7.2796634e-06 | V14: =L42 -> 6.5912938e-08 | W14: =(V14/U14)*10^6 -> 9054.3937
A15: 0.95 | B15: =$B$10*A15 -> 7.98 | C15: =$C$10*A15 -> 109.4267 | D15: =$D$10*A15 -> 8.9775 | E15: =$E$10*A15 -> 88.552293 | F15: =((12.5*(1-A15))*0.05)+(12.5*(1-A15)) -> 0.65625 | G15: =$G$10*A15 -> 70.672096 | H15: 49.375 | I15: =$I$10*A15 -> 66.766694 | J15: =$J$10*A15 -> 4811.75 | K15: =FORECAST(4811.75,A53:A54,G53:G54) -> 2295.7197 | L15: =(((-8.5358E-16*(K15^5))+(8.92213971E-12*(K15^4))-(3.576722317485E-08*(K15^3))+(0.0000699095086815875*(K15^2))-(0.00826892770480903*(K15))-(0.895619545925062)))*0.95 -> 103.74687 | M15: =(((6.7E-19*(K15^6))-(7.89843E-15*(K15^5))+(3.687984988E-11*(K15^4))-(8.638622855912E-08*(K15^3))+(0.000110740178605573*(K15^2))-(0.031241611607915*(K15))+(3.30066945333761)))*0.95 -> 84.383256 | N15: =(((6.5E-19*(K15^6))-(7.82245E-15*(K15^5))+(0.0000000000371204177*(K15^4))-(8.798317617007E-08*(K15^3))+(0.000109823272345614*(K15^2))-(0.0326064446414848*(K15))+(3.57864890028521)))*0.95 -> 66.893575 | O15: =(((5.9E-19*(K15^6))-(7.10207E-15*(K15^5))+(3.346089681E-11*(K15^4))-(7.890960163412E-08*(K15^3))+(0.000098599769211504*(K15^2))-(0.028172899155961*(K15))+(3.05378907997741)))*0.95 -> 62.893507 | P15: =(L15*B15)+(M15*D15)+(N15*F15)+(O15*H15)*0.95 -> 4579.4482 | Q15: =FORECAST(P15,A$52:A$53,F52:F53) -> 2208.6778 | R15: =(F15*T15)/($B$7*10^-6) -> 0.0017819042 | S15: =(H15*T15)/($B$7*10^-6) -> 0.13406707 | T15: =$E$4/(A15+12.5*(1+(79/21))) -> 1.086113e-07 | U15: =(B15+D15+F15+H15)*T15 -> 7.2757353e-06 | V15: =N42 -> 5.7754739e-08 | W15: =(V15/U15)*10^6 -> 7937.9934
A16: 0.9 | B16: =$B$10*A16 -> 7.56 | C16: =$C$10*A16 -> 103.6674 | D16: =$D$10*A16 -> 8.505 | E16: =$E$10*A16 -> 83.891646 | F16: =((12.5*(1-A16))*0.05)+(12.5*(1-A16)) -> 1.3125 | G16: =$G$10*A16 -> 66.952512 | H16: 49.375 | I16: =$I$10*A16 -> 63.252657 | J16: =$J$10*A16 -> 4558.5 | K16: =FORECAST(4558.5,A52:A53,H52:H53) -> 2200.6683 | L16: =(((-8.5358E-16*(K16^5))+(8.92213971E-12*(K16^4))-(3.576722317485E-08*(K16^3))+(0.0000699095086815875*(K16^2))-(0.00826892770480903*(K16))-(0.895619545925062)))*0.95 -> 98.30751 | M16: =(((6.7E-19*(K16^6))-(7.89843E-15*(K16^5))+(3.687984988E-11*(K16^4))-(8.638622855912E-08*(K16^3))+(0.000110740178605573*(K16^2))-(0.031241611607915*(K16))+(3.30066945333761)))*0.95 -> 79.409168 | N16: =(((6.5E-19*(K16^6))-(7.82245E-15*(K16^5))+(0.0000000000371204177*(K16^4))-(8.798317617007E-08*(K16^3))+(0.000109823272345614*(K16^2))-(0.0326064446414848*(K16))+(3.57864890028521)))*0.95 -> 63.360205 | O16: =(((5.9E-19*(K16^6))-(7.10207E-15*(K16^5))+(3.346089681E-11*(K16^4))-(7.890960163412E-08*(K16^3))+(0.000098599769211504*(K16^2))-(0.028172899155961*(K16))+(3.05378907997741)))*0.95 -> 59.671265 | P16: =(L16*B16)+(M16*D16)+(N16*F16)+(O16*H16)*0.95 -> 4300.6953 | Q16: =FORECAST(P16,A$50:A$51,G50:G51) -> 2103.9631 | R16: =(F16*T16)/($B$7*10^-6) -> 0.0035667573 | S16: =(H16*T16)/($B$7*10^-6) -> 0.13417801 | T16: =$E$4/(A16+12.5*(1+(79/21))) -> 1.0870118e-07 | U16: =(B16+D16+F16+H16)*T16 -> 7.2560752e-06 | V16: =P42 -> 2.2669986e-08 | W16: =(V16/U16)*10^6 -> 3124.2766
A17: 0.85 | B17: =$B$10*A17 -> 7.14 | C17: =$C$10*A17 -> 97.9081 | D17: =$D$10*A17 -> 8.0325 | E17: =$E$10*A17 -> 79.230999 | F17: =((12.5*(1-A17))*0.05)+(12.5*(1-A17)) -> 1.96875 | G17: =$G$10*A17 -> 63.232928 | H17: 49.375 | I17: =$I$10*A17 -> 59.738621 | J17: =$J$10*A17 -> 4305.25 | K17: =FORECAST(4305.25,A50:A51,I50:I51) -> 2105.4087 | L17: =(((-8.5358E-16*(K17^5))+(8.92213971E-12*(K17^4))-(3.576722317485E-08*(K17^3))+(0.0000699095086815875*(K17^2))-(0.00826892770480903*(K17))-(0.895619545925062)))*0.95 -> 92.891606 | M17: =(((6.7E-19*(K17^6))-(7.89843E-15*(K17^5))+(3.687984988E-11*(K17^4))-(8.638622855912E-08*(K17^3))+(0.000110740178605573*(K17^2))-(0.031241611607915*(K17))+(3.30066945333761)))*0.95 -> 74.526993 | N17: =(((6.5E-19*(K17^6))-(7.82245E-15*(K17^5))+(0.0000000000371204177*(K17^4))-(8.798317617007E-08*(K17^3))+(0.000109823272345614*(K17^2))-(0.0326064446414848*(K17))+(3.57864890028521)))*0.95 -> 59.86315 | O17: =(((5.9E-19*(K17^6))-(7.10207E-15*(K17^5))+(3.346089681E-11*(K17^4))-(7.890960163412E-08*(K17^3))+(0.000098599769211504*(K17^2))-(0.028172899155961*(K17))+(3.05378907997741)))*0.95 -> 56.451746 | P17: =(L17*B17)+(M17*D17)+(N17*F17)+(O17*H17)*0.95 -> 4027.6794 | Q17: =FORECAST(P17,A$48:A$49,H48:H49) -> 2000.402 | R17: =(F17*T17)/($B$7*10^-6) -> 0.0053545668 | S17: =(H17*T17)/($B$7*10^-6) -> 0.13428914 | T17: =$E$4/(A17+12.5*(1+(79/21))) -> 1.087912e-07 | U17: =(B17+D17+F17+H17)*T17 -> 7.2363826e-06 | V17: =R42 -> 6.8592725e-09 | W17: =(V17/U17)*10^6 -> 947.88694
A18: 0.8 | B18: =$B$10*A18 -> 6.72 | C18: =$C$10*A18 -> 92.1488 | D18: =$D$10*A18 -> 7.56 | E18: =$E$10*A18 -> 74.570352 | F18: =((12.5*(1-A18))*0.05)+(12.5*(1-A18)) -> 2.625 | G18: =$G$10*A18 -> 59.513344 | H18: 49.375 | I18: =$I$10*A18 -> 56.224584 | J18: =$J$10*A18 -> 4052 | K18: =FORECAST(4052,A48:A49,J48:J49) -> 2009.3137 | L18: =(((-8.5358E-16*(K18^5))+(8.92213971E-12*(K18^4))-(3.576722317485E-08*(K18^3))+(0.0000699095086815875*(K18^2))-(0.00826892770480903*(K18))-(0.895619545925062)))*0.95 -> 87.456657 | M18: =(((6.7E-19*(K18^6))-(7.89843E-15*(K18^5))+(3.687984988E-11*(K18^4))-(8.638622855912E-08*(K18^3))+(0.000110740178605573*(K18^2))-(0.031241611607915*(K18))+(3.30066945333761)))*0.95 -> 69.712036 | N18: =(((6.5E-19*(K18^6))-(7.82245E-15*(K18^5))+(0.0000000000371204177*(K18^4))-(8.798317617007E-08*(K18^3))+(0.000109823272345614*(K18^2))-(0.0326064446414848*(K18))+(3.57864890028521)))*0.95 -> 56.385861 | O18: =(((5.9E-19*(K18^6))-(7.10207E-15*(K18^5))+(3.346089681E-11*(K18^4))-(7.890960163412E-08*(K18^3))+(0.000098599769211504*(K18^2))-(0.028172899155961*(K18))+(3.05378907997741)))*0.95 -> 53.2248 | P18: =(L18*B18)+(M18*D18)+(N18*F18)+(O18*H18)*0.95 -> 3759.3204 | Q18: =FORECAST(P18,A47:A$48,I47:I48) -> 1898.3365 | R18: =(F18*T18)/($B$7*10^-6) -> 0.00714534 | S18: =(H18*T18)/($B$7*10^-6) -> 0.13440044 | T18: =$E$4/(A18+12.5*(1+(79/21))) -> 1.0888137e-07 | U18: =(B18+D18+F18+H18)*T18 -> 7.2166573e-06 | V18: =T42 -> 1.7225118e-09 | W18: =(V18/U18)*10^6 -> 238.68555
A19: 0.75 | B19: =$B$10*A19 -> 6.3 | C19: =$C$10*A19 -> 86.3895 | D19: =$D$10*A19 -> 7.0875 | E19: =$E$10*A19 -> 69.909705 | F19: =((12.5*(1-A19))*0.05)+(12.5*(1-A19)) -> 3.28125 | G19: =$G$10*A19 -> 55.79376 | H19: 49.375 | I19: =$I$10*A19 -> 52.710548 | J19: =$J$10*A19 -> 3798.75 | K19: =FORECAST(3798.75,A46:A47,K46:K47) -> 1912.7508 | L19: =(((-8.5358E-16*(K19^5))+(8.92213971E-12*(K19^4))-(3.576722317485E-08*(K19^3))+(0.0000699095086815875*(K19^2))-(0.00826892770480903*(K19))-(0.895619545925062)))*0.95 -> 82.016365 | M19: =(((6.7E-19*(K19^6))-(7.89843E-15*(K19^5))+(3.687984988E-11*(K19^4))-(8.638622855912E-08*(K19^3))+(0.000110740178605573*(K19^2))-(0.031241611607915*(K19))+(3.30066945333761)))*0.95 -> 64.987525 | N19: =(((6.5E-19*(K19^6))-(7.82245E-15*(K19^5))+(0.0000000000371204177*(K19^4))-(8.798317617007E-08*(K19^3))+(0.000109823272345614*(K19^2))-(0.0326064446414848*(K19))+(3.57864890028521)))*0.95 -> 52.944663 | O19: =(((5.9E-19*(K19^6))-(7.10207E-15*(K19^5))+(3.346089681E-11*(K19^4))-(7.890960163412E-08*(K19^3))+(0.000098599769211504*(K19^2))-(0.028172899155961*(K19))+(3.05378907997741)))*0.95 -> 50.010282 | P19: =(L19*B19)+(M19*D19)+(N19*F19)+(O19*H19)*0.95 -> 3496.8217 | Q19: =FORECAST(P19,P61:P62,Z61:Z62) -> 1796.925 | R19: =(F19*T19)/($B$7*10^-6) -> 0.0089390842 | S19: =(H19*T19)/($B$7*10^-6) -> 0.13451193 | T19: =$E$4/(A19+12.5*(1+(79/21))) -> 1.0897169e-07 | U19: =(B19+D19+F19+H19)*T19 -> 7.1968993e-06 | V19: =V42 -> 3.5686107e-10 | W19: =(V19/U19)*10^6 -> 49.585392
A20: 0.7 | B20: =$B$10*A20 -> 5.88 | C20: =$C$10*A20 -> 80.6302 | D20: =$D$10*A20 -> 6.615 | E20: =$E$10*A20 -> 65.249058 | F20: =((12.5*(1-A20))*0.05)+(12.5*(1-A20)) -> 3.9375 | G20: =$G$10*A20 -> 52.074176 | H20: 49.375 | I20: =$I$10*A20 -> 49.196511 | J20: =$J$10*A20 -> 3545.5 | K20: =FORECAST(3545.5,P62:P63,AA62:AA63) -> 1815.4578 | L20: =(((-8.5358E-16*(K20^5))+(8.92213971E-12*(K20^4))-(3.576722317485E-08*(K20^3))+(0.0000699095086815875*(K20^2))-(0.00826892770480903*(K20))-(0.895619545925062)))*0.95 -> 76.549216 | M20: =(((6.7E-19*(K20^6))-(7.89843E-15*(K20^5))+(3.687984988E-11*(K20^4))-(8.638622855912E-08*(K20^3))+(0.000110740178605573*(K20^2))-(0.031241611607915*(K20))+(3.30066945333761)))*0.95 -> 60.341635 | N20: =(((6.5E-19*(K20^6))-(7.82245E-15*(K20^5))+(0.0000000000371204177*(K20^4))-(8.798317617007E-08*(K20^3))+(0.000109823272345614*(K20^2))-(0.0326064446414848*(K20))+(3.57864890028521)))*0.95 -> 49.529082 | O20: =(((5.9E-19*(K20^6))-(7.10207E-15*(K20^5))+(3.346089681E-11*(K20^4))-(7.890960163412E-08*(K20^3))+(0.000098599769211504*(K20^2))-(0.028172899155961*(K20))+(3.05378907997741)))*0.95 -> 46.802953 | P20: =(L20*B20)+(M20*D20)+(N20*F20)+(O20*H20)*0.95 -> 3239.6411 | Q20: =FORECAST(P20,P58:P59,AA58:AA59) -> 1697.3645 | R20: =(F20*T20)/($B$7*10^-6) -> 0.010735807 | S20: =(H20*T20)/($B$7*10^-6) -> 0.13462361 | T20: =$E$4/(A20+12.5*(1+(79/21))) -> 1.0906217e-07 | U20: =(B20+D20+F20+H20)*T20 -> 7.1771085e-06 | V20: =X42 -> 6.1531411e-11 | W20: =(V20/U20)*10^6 -> 8.573287
A21: 0.65 | B21: =$B$10*A21 -> 5.46 | C21: =$C$10*A21 -> 74.8709 | D21: =$D$10*A21 -> 6.1425 | E21: =$E$10*A21 -> 60.588411 | F21: =((12.5*(1-A21))*0.05)+(12.5*(1-A21)) -> 4.59375 | G21: =$G$10*A21 -> 48.354592 | H21: 49.375 | I21: =$I$10*A21 -> 45.682475 | J21: =$J$10*A21 -> 3292.25 | K21: =FORECAST(3292.25,P60:P61,AB60:AB61) -> 1717.432 | L21: =(((-8.5358E-16*(K21^5))+(8.92213971E-12*(K21^4))-(3.576722317485E-08*(K21^3))+(0.0000699095086815875*(K21^2))-(0.00826892770480903*(K21))-(0.895619545925062)))*0.95 -> 71.049657 | M21: =(((6.7E-19*(K21^6))-(7.89843E-15*(K21^5))+(3.687984988E-11*(K21^4))-(8.638622855912E-08*(K21^3))+(0.000110740178605573*(K21^2))-(0.031241611607915*(K21))+(3.30066945333761)))*0.95 -> 55.771852 | N21: =(((6.5E-19*(K21^6))-(7.82245E-15*(K21^5))+(0.0000000000371204177*(K21^4))-(8.798317617007E-08*(K21^3))+(0.000109823272345614*(K21^2))-(0.0326064446414848*(K21))+(3.57864890028521)))*0.95 -> 46.133933 | O21: =(((5.9E-19*(K21^6))-(7.10207E-15*(K21^5))+(3.346089681E-11*(K21^4))-(7.890960163412E-08*(K21^3))+(0.000098599769211504*(K21^2))-(0.028172899155961*(K21))+(3.05378907997741)))*0.95 -> 43.602234 | P21: =(L21*B21)+(M21*D21)+(N21*F21)+(O21*H21)*0.95 -> 2987.6548 | Q21: =FORECAST(P21,P58:P59,AB58:AB59) -> 1598.5346 | R21: =(F21*T21)/($B$7*10^-6) -> 0.012535516 | S21: =(H21*T21)/($B$7*10^-6) -> 0.13473547 | T21: =$E$4/(A21+12.5*(1+(79/21))) -> 1.0915279e-07 | U21: =(B21+D21+F21+H21)*T21 -> 7.1572848e-06 | V21: =Z42 -> 8.4628056e-12 | W21: =(V21/U21)*10^6 -> 1.1824045
A22: 0.6 | B22: =$B$10*A22 -> 5.04 | C22: =$C$10*A22 -> 69.1116 | D22: =$D$10*A22 -> 5.67 | E22: =$E$10*A22 -> 55.927764 | F22: =((12.5*(1-A22))*0.05)+(12.5*(1-A22)) -> 5.25 | G22: =$G$10*A22 -> 44.635008 | H22: 49.375 | I22: =$I$10*A22 -> 42.168438 | J22: =$J$10*A22 -> 3039 | K22: =FORECAST(3039,P58:P59,AC58:AC59) -> 1618.3786 | L22: =(((-8.5358E-16*(K22^5))+(8.92213971E-12*(K22^4))-(3.576722317485E-08*(K22^3))+(0.0000699095086815875*(K22^2))-(0.00826892770480903*(K22))-(0.895619545925062)))*0.95 -> 65.498022 | M22: =(((6.7E-19*(K22^6))-(7.89843E-15*(K22^5))+(3.687984988E-11*(K22^4))-(8.638622855912E-08*(K22^3))+(0.000110740178605573*(K22^2))-(0.031241611607915*(K22))+(3.30066945333761)))*0.95 -> 51.258795 | N22: =(((6.5E-19*(K22^6))-(7.82245E-15*(K22^5))+(0.0000000000371204177*(K22^4))-(8.798317617007E-08*(K22^3))+(0.000109823272345614*(K22^2))-(0.0326064446414848*(K22))+(3.57864890028521)))*0.95 -> 42.740157 | O22: =(((5.9E-19*(K22^6))-(7.10207E-15*(K22^5))+(3.346089681E-11*(K22^4))-(7.890960163412E-08*(K22^3))+(0.000098599769211504*(K22^2))-(0.028172899155961*(K22))+(3.05378907997741)))*0.95 -> 40.394243 | P22: =(L22*B22)+(M22*D22)+(N22*F22)+(O22*H22)*0.95 -> 2739.8757 | Q22: =FORECAST(P22,P53:P54,AC53:AC54) -> 1501.4987 | R22: =(F22*T22)/($B$7*10^-6) -> 0.014338217 | S22: =(H22*T22)/($B$7*10^-6) -> 0.13484752 | T22: =$E$4/(A22+12.5*(1+(79/21))) -> 1.0924356e-07 | U22: =(B22+D22+F22+H22)*T22 -> 7.1374281e-06 | V22: =AB42 -> 9.2079025e-13 | W22: =(V22/U22)*10^6 -> 0.12900869 | X22: =((V23-'EGR 10%'!V23)/'EGR 5%'!V23)*100 -> 53.912107
V23: =AVERAGE(V10:V22) -> 2.8441501e-08
B24: ϕ | C24: 1 | E24: 0.99 | G24: 0.98 | I24: 0.97 | K24: 0.96 | M24: 0.95 | O24: 0.9 | Q24: 0.85 | S24: 0.8 | U24: 0.75 | W24: 0.7 | Y24: 0.65 | AA24: 0.6
A25: φ | B25: Cylinder Pressure (BAR) | C25: Flame temp | D25: Nox (kmol/°) | E25: Flame temp | F25: Nox (kmol/°) | G25: Flame temp | H25: Nox (kmol/°) | I25: Flame temp | J25: Nox (kmol/°) | K25: Flame temp | L25: Nox (kmol/°) | M25: Flame temp | N25: Nox (kmol/°) | O25: Flame temp | P25: Nox (kmol/°) | Q25: Flame temp | R25: Nox (kmol/°) | S25: Flame temp | T25: Nox (kmol/°) | U25: Flame temp | V25: Nox (kmol/°) | W25: Flame temp | X25: Nox (kmol/°) | Y25: Flame temp | Z25: Nox (kmol/°) | AA25: Flame temp | AB25: Nox (kmol/°)
A26: 0 | B26: 10 | C26: =Q10 -> 2314.4182 | D26: =((4.7*10^13*($S$10*$R$10)^0.5)*EXP(-67837/C26)/($B$4*6))*$B$7*10^-6 -> 0 | E26: =Q11 -> 2293.2713 | F26: =((4.7*10^13*$S$11*$R$11^0.5*EXP(-67837/E26)/($B$4*6))*$B$7*10^-6) -> 6.26277e-11 | G26: =Q12 -> 2272.078 | H26: =((4.7*10^13*$S$12*$R$12^0.5*EXP(-67837/G26)/($B$4*6))*$B$7*10^-6) -> 6.7229193e-11 | I26: =Q13 -> 2250.9291 | J26: =((4.7*10^13*$S$13*$R$13^0.5*EXP(-67837/I26)/($B$4*6))*$B$7*10^-6) -> 6.2212964e-11 | K26: =Q14 -> 2229.7652 | L26: =((4.7*10^13*$S$14*$R$14^0.5*EXP(-67837/K26)/($B$4*6))*$B$7*10^-6) -> 5.3979453e-11 | M26: =Q15 -> 2208.6778 | N26: =((4.7*10^13*$S$15*$R$15^0.5*EXP(-67837/M26)/($B$4*6))*$B$7*10^-6) -> 4.5148432e-11 | O26: =Q16 -> 2103.9631 | P26: =((4.7*10^13*$S$16*$R$16^0.5*EXP(-67837/O26)/($B$4*6))*$B$7*10^-6) -> 1.3861771e-11 | Q26: =Q17 -> 2000.402 | R26: =((4.7*10^13*$S$17*$R$17^0.5*EXP(-67837/Q26)/($B$4*6))*$B$7*10^-6) -> 3.2024337e-12 | S26: =Q18 -> 1898.3365 | T26: =((4.7*10^13*$S$18*$R$18^0.5*EXP(-67837/S26)/($B$4*6))*$B$7*10^-6) -> 5.9792344e-13 | U26: =Q19 -> 1796.925 | V26: =((4.7*10^13*$S$19*$R$19^0.5*EXP(-67837/U26)/($B$4*6))*$B$7*10^-6) -> 8.9079935e-14 | W26: =Q20 -> 1697.3645 | X26: =((4.7*10^13*$S$20*$R$20^0.5*EXP(-67837/W26)/($B$4*6))*$B$7*10^-6) -> 1.0671513e-14 | Y26: =Q21 -> 1598.5346 | Z26: =((4.7*10^13*$S$21*$R$21^0.5*EXP(-67837/Y26)/($B$4*6))*$B$7*10^-6) -> 9.7529508e-16 | AA26: =Q22 -> 1501.4987 | AB26: =((4.7*10^13*$S$22*$R$22^0.5*EXP(-67837/AA26)/($B$4*6))*$B$7*10^-6) -> 6.7236655e-17
A27: 1 | B27: 12 | C27: =(((B26*10^5)^(1-$B$8))*((B27*10^5)^($B$8-1))*(C26^$B$8))^(1/$B$8) -> 2376.5492 | D27: =((4.7*10^13*($S$10*$R$10)^0.5)*EXP(-67837/C27)/($B$4*6))*$B$7*10^-6 -> 0 | E27: =(((B26*10^5)^(1-$B$8))*((B27*10^5)^($B$8-1))*(E26^$B$8))^(1/$B$8) -> 2354.8346 | F27: =((4.7*10^13*$S$11*$R$11^0.5*EXP(-67837/E27)/($B$4*6))*$B$7*10^-6) -> 1.3571421e-10 | G27: =(((B26*10^5)^(1-$B$8))*((B27*10^5)^($B$8-1))*(G26^$B$8))^(1/$B$8) -> 2333.0724 | H27: =((4.7*10^13*$S$12*$R$12^0.5*EXP(-67837/G27)/($B$4*6))*$B$7*10^-6) -> 1.4674035e-10 | I27: =(((B26*10^5)^(1-$B$8))*((B27*10^5)^($B$8-1))*(I26^$B$8))^(1/$B$8) -> 2311.3556 | J27: =((4.7*10^13*$S$13*$R$13^0.5*EXP(-67837/I27)/($B$4*6))*$B$7*10^-6) -> 1.3679102e-10 | K27: =(((B26*10^5)^(1-$B$8))*((B27*10^5)^($B$8-1))*(K26^$B$8))^(1/$B$8) -> 2289.6236 | L27: =((4.7*10^13*$S$14*$R$14^0.5*EXP(-67837/K27)/($B$4*6))*$B$7*10^-6) -> 1.1957846e-10 | M27: =(((B26*10^5)^(1-$B$8))*((B27*10^5)^($B$8-1))*(M26^$B$8))^(1/$B$8) -> 2267.9702 | N27: =((4.7*10^13*$S$15*$R$15^0.5*EXP(-67837/M27)/($B$4*6))*$B$7*10^-6) -> 1.0077785e-10 | O27: =(((B26*10^5)^(1-$B$8))*((B27*10^5)^($B$8-1))*(O26^$B$8))^(1/$B$8) -> 2160.4444 | P27: =((4.7*10^13*$S$16*$R$16^0.5*EXP(-67837/O27)/($B$4*6))*$B$7*10^-6) -> 3.2203059e-11 | Q27: =(((B26*10^5)^(1-$B$8))*((B27*10^5)^($B$8-1))*(Q26^$B$8))^(1/$B$8) -> 2054.1032 | R27: =((4.7*10^13*$S$17*$R$17^0.5*EXP(-67837/Q27)/($B$4*6))*$B$7*10^-6) -> 7.7716009e-12 | S27: =(((B26*10^5)^(1-$B$8))*((B27*10^5)^($B$8-1))*(S26^$B$8))^(1/$B$8) -> 1949.2977 | T27: =((4.7*10^13*$S$18*$R$18^0.5*EXP(-67837/S27)/($B$4*6))*$B$7*10^-6) -> 1.5218694e-12 | U27: =(((B26*10^5)^(1-$B$8))*((B27*10^5)^($B$8-1))*(U26^$B$8))^(1/$B$8) -> 1845.1638 | V27: =((4.7*10^13*$S$19*$R$19^0.5*EXP(-67837/U27)/($B$4*6))*$B$7*10^-6) -> 2.3900645e-13 | W27: =(((B26*10^5)^(1-$B$8))*((B27*10^5)^($B$8-1))*(W26^$B$8))^(1/$B$8) -> 1742.9305 | X27: =((4.7*10^13*$S$20*$R$20^0.5*EXP(-67837/W27)/($B$4*6))*$B$7*10^-6) -> 3.0338731e-14 | Y27: =(((B26*10^5)^(1-$B$8))*((B27*10^5)^($B$8-1))*(Y26^$B$8))^(1/$B$8) -> 1641.4476 | Z27: =((4.7*10^13*$S$21*$R$21^0.5*EXP(-67837/Y27)/($B$4*6))*$B$7*10^-6) -> 2.9577536e-15 | AA27: =(((B26*10^5)^(1-$B$8))*((B27*10^5)^($B$8-1))*(AA26^$B$8))^(1/$B$8) -> 1541.8067 | AB27: =((4.7*10^13*$S$22*$R$22^0.5*EXP(-67837/AA27)/($B$4*6))*$B$7*10^-6) -> 2.1906377e-16
A28: 2 | B28: 14 | C28: =(((B27*10^5)^(1-$B$8))*((B28*10^5)^($B$8-1))*(C27^$B$8))^(1/$B$8) -> 2430.3796 | D28: =((4.7*10^13*($S$10*$R$10)^0.5)*EXP(-67837/C28)/($B$4*6))*$B$7*10^-6 -> 0 | E28: =(((B27*10^5)^(1-$B$8))*((B28*10^5)^($B$8-1))*(E27^$B$8))^(1/$B$8) -> 2408.1732 | F28: =((4.7*10^13*$S$11*$R$11^0.5*EXP(-67837/E28)/($B$4*6))*$B$7*10^-6) -> 2.5688006e-10 | G28: =(((B27*10^5)^(1-$B$8))*((B28*10^5)^($B$8-1))*(G27^$B$8))^(1/$B$8) -> 2385.918 | H28: =((4.7*10^13*$S$12*$R$12^0.5*EXP(-67837/G28)/($B$4*6))*$B$7*10^-6) -> 2.7940834e-10 | I28: =(((B27*10^5)^(1-$B$8))*((B28*10^5)^($B$8-1))*(I27^$B$8))^(1/$B$8) -> 2363.7094 | J28: =((4.7*10^13*$S$13*$R$13^0.5*EXP(-67837/I28)/($B$4*6))*$B$7*10^-6) -> 2.6204464e-10 | K28: =(((B27*10^5)^(1-$B$8))*((B28*10^5)^($B$8-1))*(K27^$B$8))^(1/$B$8) -> 2341.4852 | L28: =((4.7*10^13*$S$14*$R$14^0.5*EXP(-67837/K28)/($B$4*6))*$B$7*10^-6) -> 2.3048904e-10 | M28: =(((B27*10^5)^(1-$B$8))*((B28*10^5)^($B$8-1))*(M27^$B$8))^(1/$B$8) -> 2319.3412 | N28: =((4.7*10^13*$S$15*$R$15^0.5*EXP(-67837/M28)/($B$4*6))*$B$7*10^-6) -> 1.9547149e-10 | O28: =(((B27*10^5)^(1-$B$8))*((B28*10^5)^($B$8-1))*(O27^$B$8))^(1/$B$8) -> 2209.3799 | P28: =((4.7*10^13*$S$16*$R$16^0.5*EXP(-67837/O28)/($B$4*6))*$B$7*10^-6) -> 6.4555799e-11 | Q28: =(((B27*10^5)^(1-$B$8))*((B28*10^5)^($B$8-1))*(Q27^$B$8))^(1/$B$8) -> 2100.63 | R28: =((4.7*10^13*$S$17*$R$17^0.5*EXP(-67837/Q28)/($B$4*6))*$B$7*10^-6) -> 1.6150471e-11 | S28: =(((B27*10^5)^(1-$B$8))*((B28*10^5)^($B$8-1))*(S27^$B$8))^(1/$B$8) -> 1993.4506 | T28: =((4.7*10^13*$S$18*$R$18^0.5*EXP(-67837/S28)/($B$4*6))*$B$7*10^-6) -> 3.2895166e-12 | U28: =(((B27*10^5)^(1-$B$8))*((B28*10^5)^($B$8-1))*(U27^$B$8))^(1/$B$8) -> 1886.958 | V28: =((4.7*10^13*$S$19*$R$19^0.5*EXP(-67837/U28)/($B$4*6))*$B$7*10^-6) -> 5.3958095e-13 | W28: =(((B27*10^5)^(1-$B$8))*((B28*10^5)^($B$8-1))*(W27^$B$8))^(1/$B$8) -> 1782.4091 | X28: =((4.7*10^13*$S$20*$R$20^0.5*EXP(-67837/W28)/($B$4*6))*$B$7*10^-6) -> 7.1843566e-14 | Y28: =(((B27*10^5)^(1-$B$8))*((B28*10^5)^($B$8-1))*(Y27^$B$8))^(1/$B$8) -> 1678.6275 | Z28: =((4.7*10^13*$S$21*$R$21^0.5*EXP(-67837/Y28)/($B$4*6))*$B$7*10^-6) -> 7.3875301e-15 | AA28: =(((B27*10^5)^(1-$B$8))*((B28*10^5)^($B$8-1))*(AA27^$B$8))^(1/$B$8) -> 1576.7297 | AB28: =((4.7*10^13*$S$22*$R$22^0.5*EXP(-67837/AA28)/($B$4*6))*$B$7*10^-6) -> 5.804958e-16
A29: 3 | B29: 16 | C29: =(((B28*10^5)^(1-$B$8))*((B29*10^5)^($B$8-1))*(C28^$B$8))^(1/$B$8) -> 2477.9943 | D29: =((4.7*10^13*($S$10*$R$10)^0.5)*EXP(-67837/C29)/($B$4*6))*$B$7*10^-6 -> 0 | E29: =(((B28*10^5)^(1-$B$8))*((B29*10^5)^($B$8-1))*(E28^$B$8))^(1/$B$8) -> 2455.3527 | F29: =((4.7*10^13*$S$11*$R$11^0.5*EXP(-67837/E29)/($B$4*6))*$B$7*10^-6) -> 4.4137094e-10 | G29: =(((B28*10^5)^(1-$B$8))*((B29*10^5)^($B$8-1))*(G28^$B$8))^(1/$B$8) -> 2432.6616 | H29: =((4.7*10^13*$S$12*$R$12^0.5*EXP(-67837/G29)/($B$4*6))*$B$7*10^-6) -> 4.8250899e-10 | I29: =(((B28*10^5)^(1-$B$8))*((B29*10^5)^($B$8-1))*(I28^$B$8))^(1/$B$8) -> 2410.0179 | J29: =((4.7*10^13*$S$13*$R$13^0.5*EXP(-67837/I29)/($B$4*6))*$B$7*10^-6) -> 4.5485251e-10 | K29: =(((B28*10^5)^(1-$B$8))*((B29*10^5)^($B$8-1))*(K28^$B$8))^(1/$B$8) -> 2387.3582 | L29: =((4.7*10^13*$S$14*$R$14^0.5*EXP(-67837/K29)/($B$4*6))*$B$7*10^-6) -> 4.0217842e-10 | M29: =(((B28*10^5)^(1-$B$8))*((B29*10^5)^($B$8-1))*(M28^$B$8))^(1/$B$8) -> 2364.7805 | N29: =((4.7*10^13*$S$15*$R$15^0.5*EXP(-67837/M29)/($B$4*6))*$B$7*10^-6) -> 3.4289424e-10 | O29: =(((B28*10^5)^(1-$B$8))*((B29*10^5)^($B$8-1))*(O28^$B$8))^(1/$B$8) -> 2252.6648 | P29: =((4.7*10^13*$S$16*$R$16^0.5*EXP(-67837/O29)/($B$4*6))*$B$7*10^-6) -> 1.1645544e-10 | Q29: =(((B28*10^5)^(1-$B$8))*((B29*10^5)^($B$8-1))*(Q28^$B$8))^(1/$B$8) -> 2141.7844 | R29: =((4.7*10^13*$S$17*$R$17^0.5*EXP(-67837/Q29)/($B$4*6))*$B$7*10^-6) -> 3.0038241e-11 | S29: =(((B28*10^5)^(1-$B$8))*((B29*10^5)^($B$8-1))*(S28^$B$8))^(1/$B$8) -> 2032.5052 | T29: =((4.7*10^13*$S$18*$R$18^0.5*EXP(-67837/S29)/($B$4*6))*$B$7*10^-6) -> 6.3257306e-12 | U29: =(((B28*10^5)^(1-$B$8))*((B29*10^5)^($B$8-1))*(U28^$B$8))^(1/$B$8) -> 1923.9262 | V29: =((4.7*10^13*$S$19*$R$19^0.5*EXP(-67837/U29)/($B$4*6))*$B$7*10^-6) -> 1.0766186e-12 | W29: =(((B28*10^5)^(1-$B$8))*((B29*10^5)^($B$8-1))*(W28^$B$8))^(1/$B$8) -> 1817.3291 | X29: =((4.7*10^13*$S$20*$R$20^0.5*EXP(-67837/W29)/($B$4*6))*$B$7*10^-6) -> 1.4927608e-13 | Y29: =(((B28*10^5)^(1-$B$8))*((B29*10^5)^($B$8-1))*(Y28^$B$8))^(1/$B$8) -> 1711.5142 | Z29: =((4.7*10^13*$S$21*$R$21^0.5*EXP(-67837/Y29)/($B$4*6))*$B$7*10^-6) -> 1.6059702e-14 | AA29: =(((B28*10^5)^(1-$B$8))*((B29*10^5)^($B$8-1))*(AA28^$B$8))^(1/$B$8) -> 1607.6201 | AB29: =((4.7*10^13*$S$22*$R$22^0.5*EXP(-67837/AA29)/($B$4*6))*$B$7*10^-6) -> 1.32688e-15
A30: 4 | B30: 18 | C30: =(((B29*10^5)^(1-$B$8))*((B30*10^5)^($B$8-1))*(C29^$B$8))^(1/$B$8) -> 2520.7671 | D30: =((4.7*10^13*($S$10*$R$10)^0.5)*EXP(-67837/C30)/($B$4*6))*$B$7*10^-6 -> 0 | E30: =(((B29*10^5)^(1-$B$8))*((B30*10^5)^($B$8-1))*(E29^$B$8))^(1/$B$8) -> 2497.7347 | F30: =((4.7*10^13*$S$11*$R$11^0.5*EXP(-67837/E30)/($B$4*6))*$B$7*10^-6) -> 7.0534405e-10 | G30: =(((B29*10^5)^(1-$B$8))*((B30*10^5)^($B$8-1))*(G29^$B$8))^(1/$B$8) -> 2474.6519 | H30: =((4.7*10^13*$S$12*$R$12^0.5*EXP(-67837/G30)/($B$4*6))*$B$7*10^-6) -> 7.7446495e-10 | I30: =(((B29*10^5)^(1-$B$8))*((B30*10^5)^($B$8-1))*(I29^$B$8))^(1/$B$8) -> 2451.6173 | J30: =((4.7*10^13*$S$13*$R$13^0.5*EXP(-67837/I30)/($B$4*6))*$B$7*10^-6) -> 7.333271e-10 | K30: =(((B29*10^5)^(1-$B$8))*((B30*10^5)^($B$8-1))*(K29^$B$8))^(1/$B$8) -> 2428.5666 | L30: =((4.7*10^13*$S$14*$R$14^0.5*EXP(-67837/K30)/($B$4*6))*$B$7*10^-6) -> 6.5135041e-10 | M30: =(((B29*10^5)^(1-$B$8))*((B30*10^5)^($B$8-1))*(M29^$B$8))^(1/$B$8) -> 2405.5991 | N30: =((4.7*10^13*$S$15*$R$15^0.5*EXP(-67837/M30)/($B$4*6))*$B$7*10^-6) -> 5.5789869e-10 | O30: =(((B29*10^5)^(1-$B$8))*((B30*10^5)^($B$8-1))*(O29^$B$8))^(1/$B$8) -> 2291.5482 | P30: =((4.7*10^13*$S$16*$R$16^0.5*EXP(-67837/O30)/($B$4*6))*$B$7*10^-6) -> 1.9412261e-10 | Q30: =(((B29*10^5)^(1-$B$8))*((B30*10^5)^($B$8-1))*(Q29^$B$8))^(1/$B$8) -> 2178.7538 | R30: =((4.7*10^13*$S$17*$R$17^0.5*EXP(-67837/Q30)/($B$4*6))*$B$7*10^-6) -> 5.1413772e-11 | S30: =(((B29*10^5)^(1-$B$8))*((B30*10^5)^($B$8-1))*(S29^$B$8))^(1/$B$8) -> 2067.5884 | T30: =((4.7*10^13*$S$18*$R$18^0.5*EXP(-67837/S30)/($B$4*6))*$B$7*10^-6) -> 1.114461e-11 | U30: =(((B29*10^5)^(1-$B$8))*((B30*10^5)^($B$8-1))*(U29^$B$8))^(1/$B$8) -> 1957.1352 | V30: =((4.7*10^13*$S$19*$R$19^0.5*EXP(-67837/U30)/($B$4*6))*$B$7*10^-6) -> 1.958379e-12 | W30: =(((B29*10^5)^(1-$B$8))*((B30*10^5)^($B$8-1))*(W29^$B$8))^(1/$B$8) -> 1848.6981 | X30: =((4.7*10^13*$S$20*$R$20^0.5*EXP(-67837/W30)/($B$4*6))*$B$7*10^-6) -> 2.8123279e-13 | Y30: =(((B29*10^5)^(1-$B$8))*((B30*10^5)^($B$8-1))*(Y29^$B$8))^(1/$B$8) -> 1741.0567 | Z30: =((4.7*10^13*$S$21*$R$21^0.5*EXP(-67837/Y30)/($B$4*6))*$B$7*10^-6) -> 3.1464428e-14 | AA30: =(((B29*10^5)^(1-$B$8))*((B30*10^5)^($B$8-1))*(AA29^$B$8))^(1/$B$8) -> 1635.3693 | AB30: =((4.7*10^13*$S$22*$R$22^0.5*EXP(-67837/AA30)/($B$4*6))*$B$7*10^-6) -> 2.715127e-15
A31: 5 | B31: 20 | C31: =(((B30*10^5)^(1-$B$8))*((B31*10^5)^($B$8-1))*(C30^$B$8))^(1/$B$8) -> 2559.6539 | D31: =((4.7*10^13*($S$10*$R$10)^0.5)*EXP(-67837/C31)/($B$4*6))*$B$7*10^-6 -> 0 | E31: =(((B30*10^5)^(1-$B$8))*((B31*10^5)^($B$8-1))*(E30^$B$8))^(1/$B$8) -> 2536.2662 | F31: =((4.7*10^13*$S$11*$R$11^0.5*EXP(-67837/E31)/($B$4*6))*$B$7*10^-6) -> 1.0656041e-09 | G31: =(((B30*10^5)^(1-$B$8))*((B31*10^5)^($B$8-1))*(G30^$B$8))^(1/$B$8) -> 2512.8273 | H31: =((4.7*10^13*$S$12*$R$12^0.5*EXP(-67837/G31)/($B$4*6))*$B$7*10^-6) -> 1.1745408e-09 | I31: =(((B30*10^5)^(1-$B$8))*((B31*10^5)^($B$8-1))*(I30^$B$8))^(1/$B$8) -> 2489.4374 | J31: =((4.7*10^13*$S$13*$R$13^0.5*EXP(-67837/I31)/($B$4*6))*$B$7*10^-6) -> 1.1165121e-09 | K31: =(((B30*10^5)^(1-$B$8))*((B31*10^5)^($B$8-1))*(K30^$B$8))^(1/$B$8) -> 2466.031 | L31: =((4.7*10^13*$S$14*$R$14^0.5*EXP(-67837/K31)/($B$4*6))*$B$7*10^-6) -> 9.9566495e-10 | M31: =(((B30*10^5)^(1-$B$8))*((B31*10^5)^($B$8-1))*(M30^$B$8))^(1/$B$8) -> 2442.7092 | N31: =((4.7*10^13*$S$15*$R$15^0.5*EXP(-67837/M31)/($B$4*6))*$B$7*10^-6) -> 8.5627538e-10 | O31: =(((B30*10^5)^(1-$B$8))*((B31*10^5)^($B$8-1))*(O30^$B$8))^(1/$B$8) -> 2326.8989 | P31: =((4.7*10^13*$S$16*$R$16^0.5*EXP(-67837/O31)/($B$4*6))*$B$7*10^-6) -> 3.0436477e-10 | Q31: =(((B30*10^5)^(1-$B$8))*((B31*10^5)^($B$8-1))*(Q30^$B$8))^(1/$B$8) -> 2212.3645 | R31: =((4.7*10^13*$S$17*$R$17^0.5*EXP(-67837/Q31)/($B$4*6))*$B$7*10^-6) -> 8.2510532e-11 | S31: =(((B30*10^5)^(1-$B$8))*((B31*10^5)^($B$8-1))*(S30^$B$8))^(1/$B$8) -> 2099.4842 | T31: =((4.7*10^13*$S$18*$R$18^0.5*EXP(-67837/S31)/($B$4*6))*$B$7*10^-6) -> 1.8345936e-11 | U31: =(((B30*10^5)^(1-$B$8))*((B31*10^5)^($B$8-1))*(U30^$B$8))^(1/$B$8) -> 1987.3271 | V31: =((4.7*10^13*$S$19*$R$19^0.5*EXP(-67837/U31)/($B$4*6))*$B$7*10^-6) -> 3.3158035e-12 | W31: =(((B30*10^5)^(1-$B$8))*((B31*10^5)^($B$8-1))*(W30^$B$8))^(1/$B$8) -> 1877.2172 | X31: =((4.7*10^13*$S$20*$R$20^0.5*EXP(-67837/W31)/($B$4*6))*$B$7*10^-6) -> 4.911025e-13 | Y31: =(((B30*10^5)^(1-$B$8))*((B31*10^5)^($B$8-1))*(Y30^$B$8))^(1/$B$8) -> 1767.9153 | Z31: =((4.7*10^13*$S$21*$R$21^0.5*EXP(-67837/Y31)/($B$4*6))*$B$7*10^-6) -> 5.687145e-14 | AA31: =(((B30*10^5)^(1-$B$8))*((B31*10^5)^($B$8-1))*(AA30^$B$8))^(1/$B$8) -> 1660.5975 | AB31: =((4.7*10^13*$S$22*$R$22^0.5*EXP(-67837/AA31)/($B$4*6))*$B$7*10^-6) -> 5.0989213e-15
A32: 6 | B32: 22 | C32: =(((B31*10^5)^(1-$B$8))*((B32*10^5)^($B$8-1))*(C31^$B$8))^(1/$B$8) -> 2595.3478 | D32: =((4.7*10^13*($S$10*$R$10)^0.5)*EXP(-67837/C32)/($B$4*6))*$B$7*10^-6 -> 0 | E32: =(((B31*10^5)^(1-$B$8))*((B32*10^5)^($B$8-1))*(E31^$B$8))^(1/$B$8) -> 2571.634 | F32: =((4.7*10^13*$S$11*$R$11^0.5*EXP(-67837/E32)/($B$4*6))*$B$7*10^-6) -> 1.5393982e-09 | G32: =(((B31*10^5)^(1-$B$8))*((B32*10^5)^($B$8-1))*(G31^$B$8))^(1/$B$8) -> 2547.8682 | H32: =((4.7*10^13*$S$12*$R$12^0.5*EXP(-67837/G32)/($B$4*6))*$B$7*10^-6) -> 1.7026029e-09 | I32: =(((B31*10^5)^(1-$B$8))*((B32*10^5)^($B$8-1))*(I31^$B$8))^(1/$B$8) -> 2524.1522 | J32: =((4.7*10^13*$S$13*$R$13^0.5*EXP(-67837/I32)/($B$4*6))*$B$7*10^-6) -> 1.6241409e-09 | K32: =(((B31*10^5)^(1-$B$8))*((B32*10^5)^($B$8-1))*(K31^$B$8))^(1/$B$8) -> 2500.4194 | L32: =((4.7*10^13*$S$14*$R$14^0.5*EXP(-67837/K32)/($B$4*6))*$B$7*10^-6) -> 1.453511e-09 | M32: =(((B31*10^5)^(1-$B$8))*((B32*10^5)^($B$8-1))*(M31^$B$8))^(1/$B$8) -> 2476.7724 | N32: =((4.7*10^13*$S$15*$R$15^0.5*EXP(-67837/M32)/($B$4*6))*$B$7*10^-6) -> 1.254548e-09 | O32: =(((B31*10^5)^(1-$B$8))*((B32*10^5)^($B$8-1))*(O31^$B$8))^(1/$B$8) -> 2359.3471 | P32: =((4.7*10^13*$S$16*$R$16^0.5*EXP(-67837/O32)/($B$4*6))*$B$7*10^-6) -> 4.5448942e-10 | Q32: =(((B31*10^5)^(1-$B$8))*((B32*10^5)^($B$8-1))*(Q31^$B$8))^(1/$B$8) -> 2243.2155 | R32: =((4.7*10^13*$S$17*$R$17^0.5*EXP(-67837/Q32)/($B$4*6))*$B$7*10^-6) -> 1.2579213e-10 | S32: =(((B31*10^5)^(1-$B$8))*((B32*10^5)^($B$8-1))*(S31^$B$8))^(1/$B$8) -> 2128.7611 | T32: =((4.7*10^13*$S$18*$R$18^0.5*EXP(-67837/S32)/($B$4*6))*$B$7*10^-6) -> 2.8610856e-11 | U32: =(((B31*10^5)^(1-$B$8))*((B32*10^5)^($B$8-1))*(U31^$B$8))^(1/$B$8) -> 2015.04 | V32: =((4.7*10^13*$S$19*$R$19^0.5*EXP(-67837/U32)/($B$4*6))*$B$7*10^-6) -> 5.302387e-12 | W32: =(((B31*10^5)^(1-$B$8))*((B32*10^5)^($B$8-1))*(W31^$B$8))^(1/$B$8) -> 1903.3946 | X32: =((4.7*10^13*$S$20*$R$20^0.5*EXP(-67837/W32)/($B$4*6))*$B$7*10^-6) -> 8.0726052e-13 | Y32: =(((B31*10^5)^(1-$B$8))*((B32*10^5)^($B$8-1))*(Y31^$B$8))^(1/$B$8) -> 1792.5685 | Z32: =((4.7*10^13*$S$21*$R$21^0.5*EXP(-67837/Y32)/($B$4*6))*$B$7*10^-6) -> 9.6400734e-14 | AA32: =(((B31*10^5)^(1-$B$8))*((B32*10^5)^($B$8-1))*(AA31^$B$8))^(1/$B$8) -> 1683.7542 | AB32: =((4.7*10^13*$S$22*$R$22^0.5*EXP(-67837/AA32)/($B$4*6))*$B$7*10^-6) -> 8.9428455e-15
A33: 7 | B33: 24 | C33: =(((B32*10^5)^(1-$B$8))*((B33*10^5)^($B$8-1))*(C32^$B$8))^(1/$B$8) -> 2628.3682 | D33: =((4.7*10^13*($S$10*$R$10)^0.5)*EXP(-67837/C33)/($B$4*6))*$B$7*10^-6 -> 0 | E33: =(((B32*10^5)^(1-$B$8))*((B33*10^5)^($B$8-1))*(E32^$B$8))^(1/$B$8) -> 2604.3527 | F33: =((4.7*10^13*$S$11*$R$11^0.5*EXP(-67837/E33)/($B$4*6))*$B$7*10^-6) -> 2.1442564e-09 | G33: =(((B32*10^5)^(1-$B$8))*((B33*10^5)^($B$8-1))*(G32^$B$8))^(1/$B$8) -> 2580.2846 | H33: =((4.7*10^13*$S$12*$R$12^0.5*EXP(-67837/G33)/($B$4*6))*$B$7*10^-6) -> 2.3789297e-09 | I33: =(((B32*10^5)^(1-$B$8))*((B33*10^5)^($B$8-1))*(I32^$B$8))^(1/$B$8) -> 2556.2668 | J33: =((4.7*10^13*$S$13*$R$13^0.5*EXP(-67837/I33)/($B$4*6))*$B$7*10^-6) -> 2.2764432e-09 | K33: =(((B32*10^5)^(1-$B$8))*((B33*10^5)^($B$8-1))*(K32^$B$8))^(1/$B$8) -> 2532.2321 | L33: =((4.7*10^13*$S$14*$R$14^0.5*EXP(-67837/K33)/($B$4*6))*$B$7*10^-6) -> 2.0438227e-09 | M33: =(((B32*10^5)^(1-$B$8))*((B33*10^5)^($B$8-1))*(M32^$B$8))^(1/$B$8) -> 2508.2842 | N33: =((4.7*10^13*$S$15*$R$15^0.5*EXP(-67837/M33)/($B$4*6))*$B$7*10^-6) -> 1.7698051e-09 | O33: =(((B32*10^5)^(1-$B$8))*((B33*10^5)^($B$8-1))*(O32^$B$8))^(1/$B$8) -> 2389.365 | P33: =((4.7*10^13*$S$16*$R$16^0.5*EXP(-67837/O33)/($B$4*6))*$B$7*10^-6) -> 6.5222811e-10 | Q33: =(((B32*10^5)^(1-$B$8))*((B33*10^5)^($B$8-1))*(Q32^$B$8))^(1/$B$8) -> 2271.7558 | R33: =((4.7*10^13*$S$17*$R$17^0.5*EXP(-67837/Q33)/($B$4*6))*$B$7*10^-6) -> 1.8392921e-10 | S33: =(((B32*10^5)^(1-$B$8))*((B33*10^5)^($B$8-1))*(S32^$B$8))^(1/$B$8) -> 2155.8452 | T33: =((4.7*10^13*$S$18*$R$18^0.5*EXP(-67837/S33)/($B$4*6))*$B$7*10^-6) -> 4.2697187e-11 | U33: =(((B32*10^5)^(1-$B$8))*((B33*10^5)^($B$8-1))*(U32^$B$8))^(1/$B$8) -> 2040.6772 | V33: =((4.7*10^13*$S$19*$R$19^0.5*EXP(-67837/U33)/($B$4*6))*$B$7*10^-6) -> 8.0937969e-12 | W33: =(((B32*10^5)^(1-$B$8))*((B33*10^5)^($B$8-1))*(W32^$B$8))^(1/$B$8) -> 1927.6114 | X33: =((4.7*10^13*$S$20*$R$20^0.5*EXP(-67837/W33)/($B$4*6))*$B$7*10^-6) -> 1.2631897e-12 | Y33: =(((B32*10^5)^(1-$B$8))*((B33*10^5)^($B$8-1))*(Y32^$B$8))^(1/$B$8) -> 1815.3753 | Z33: =((4.7*10^13*$S$21*$R$21^0.5*EXP(-67837/Y33)/($B$4*6))*$B$7*10^-6) -> 1.5508058e-13 | AA33: =(((B32*10^5)^(1-$B$8))*((B33*10^5)^($B$8-1))*(AA32^$B$8))^(1/$B$8) -> 1705.1765 | AB33: =((4.7*10^13*$S$22*$R$22^0.5*EXP(-67837/AA33)/($B$4*6))*$B$7*10^-6) -> 1.4835309e-14
A34: 8 | B34: 26 | C34: =(((B33*10^5)^(1-$B$8))*((B34*10^5)^($B$8-1))*(C33^$B$8))^(1/$B$8) -> 2659.115 | D34: =((4.7*10^13*($S$10*$R$10)^0.5)*EXP(-67837/C34)/($B$4*6))*$B$7*10^-6 -> 0 | E34: =(((B33*10^5)^(1-$B$8))*((B34*10^5)^($B$8-1))*(E33^$B$8))^(1/$B$8) -> 2634.8185 | F34: =((4.7*10^13*$S$11*$R$11^0.5*EXP(-67837/E34)/($B$4*6))*$B$7*10^-6) -> 2.8978659e-09 | G34: =(((B33*10^5)^(1-$B$8))*((B34*10^5)^($B$8-1))*(G33^$B$8))^(1/$B$8) -> 2610.4689 | H34: =((4.7*10^13*$S$12*$R$12^0.5*EXP(-67837/G34)/($B$4*6))*$B$7*10^-6) -> 3.224061e-09 | I34: =(((B33*10^5)^(1-$B$8))*((B34*10^5)^($B$8-1))*(I33^$B$8))^(1/$B$8) -> 2586.1701 | J34: =((4.7*10^13*$S$13*$R$13^0.5*EXP(-67837/I34)/($B$4*6))*$B$7*10^-6) -> 3.09399e-09 | K34: =(((B33*10^5)^(1-$B$8))*((B34*10^5)^($B$8-1))*(K33^$B$8))^(1/$B$8) -> 2561.8542 | L34: =((4.7*10^13*$S$14*$R$14^0.5*EXP(-67837/K34)/($B$4*6))*$B$7*10^-6) -> 2.7859298e-09 | M34: =(((B33*10^5)^(1-$B$8))*((B34*10^5)^($B$8-1))*(M33^$B$8))^(1/$B$8) -> 2537.6262 | N34: =((4.7*10^13*$S$15*$R$15^0.5*EXP(-67837/M34)/($B$4*6))*$B$7*10^-6) -> 2.4195621e-09 | O34: =(((B33*10^5)^(1-$B$8))*((B34*10^5)^($B$8-1))*(O33^$B$8))^(1/$B$8) -> 2417.3158 | P34: =((4.7*10^13*$S$16*$R$16^0.5*EXP(-67837/O34)/($B$4*6))*$B$7*10^-6) -> 9.0567048e-10 | Q34: =(((B33*10^5)^(1-$B$8))*((B34*10^5)^($B$8-1))*(Q33^$B$8))^(1/$B$8) -> 2298.3309 | R34: =((4.7*10^13*$S$17*$R$17^0.5*EXP(-67837/Q34)/($B$4*6))*$B$7*10^-6) -> 2.5977796e-10 | S34: =(((B33*10^5)^(1-$B$8))*((B34*10^5)^($B$8-1))*(S33^$B$8))^(1/$B$8) -> 2181.0643 | T34: =((4.7*10^13*$S$18*$R$18^0.5*EXP(-67837/S34)/($B$4*6))*$B$7*10^-6) -> 6.1434614e-11 | U34: =(((B33*10^5)^(1-$B$8))*((B34*10^5)^($B$8-1))*(U33^$B$8))^(1/$B$8) -> 2064.5491 | V34: =((4.7*10^13*$S$19*$R$19^0.5*EXP(-67837/U34)/($B$4*6))*$B$7*10^-6) -> 1.1887318e-11 | W34: =(((B33*10^5)^(1-$B$8))*((B34*10^5)^($B$8-1))*(W33^$B$8))^(1/$B$8) -> 1950.1606 | X34: =((4.7*10^13*$S$20*$R$20^0.5*EXP(-67837/W34)/($B$4*6))*$B$7*10^-6) -> 1.8975431e-12 | Y34: =(((B33*10^5)^(1-$B$8))*((B34*10^5)^($B$8-1))*(Y33^$B$8))^(1/$B$8) -> 1836.6116 | Z34: =((4.7*10^13*$S$21*$R$21^0.5*EXP(-67837/Y34)/($B$4*6))*$B$7*10^-6) -> 2.3889467e-13 | AA34: =(((B33*10^5)^(1-$B$8))*((B34*10^5)^($B$8-1))*(AA33^$B$8))^(1/$B$8) -> 1725.1237 | AB34: =((4.7*10^13*$S$22*$R$22^0.5*EXP(-67837/AA34)/($B$4*6))*$B$7*10^-6) -> 2.3500259e-14
A35: 9 | B35: 28 | C35: =(((B34*10^5)^(1-$B$8))*((B35*10^5)^($B$8-1))*(C34^$B$8))^(1/$B$8) -> 2687.9026 | D35: =((4.7*10^13*($S$10*$R$10)^0.5)*EXP(-67837/C35)/($B$4*6))*$B$7*10^-6 -> 0 | E35: =(((B34*10^5)^(1-$B$8))*((B35*10^5)^($B$8-1))*(E34^$B$8))^(1/$B$8) -> 2663.3431 | F35: =((4.7*10^13*$S$11*$R$11^0.5*EXP(-67837/E35)/($B$4*6))*$B$7*10^-6) -> 3.8179731e-09 | G35: =(((B34*10^5)^(1-$B$8))*((B35*10^5)^($B$8-1))*(G34^$B$8))^(1/$B$8) -> 2638.7298 | H35: =((4.7*10^13*$S$12*$R$12^0.5*EXP(-67837/G35)/($B$4*6))*$B$7*10^-6) -> 4.2586786e-09 | I35: =(((B34*10^5)^(1-$B$8))*((B35*10^5)^($B$8-1))*(I34^$B$8))^(1/$B$8) -> 2614.168 | J35: =((4.7*10^13*$S$13*$R$13^0.5*EXP(-67837/I35)/($B$4*6))*$B$7*10^-6) -> 4.0975682e-09 | K35: =(((B34*10^5)^(1-$B$8))*((B35*10^5)^($B$8-1))*(K34^$B$8))^(1/$B$8) -> 2589.5888 | L35: =((4.7*10^13*$S$14*$R$14^0.5*EXP(-67837/K35)/($B$4*6))*$B$7*10^-6) -> 3.6994357e-09 | M35: =(((B34*10^5)^(1-$B$8))*((B35*10^5)^($B$8-1))*(M34^$B$8))^(1/$B$8) -> 2565.0985 | N35: =((4.7*10^13*$S$15*$R$15^0.5*EXP(-67837/M35)/($B$4*6))*$B$7*10^-6) -> 3.2216475e-09 | O35: =(((B34*10^5)^(1-$B$8))*((B35*10^5)^($B$8-1))*(O34^$B$8))^(1/$B$8) -> 2443.4857 | P35: =((4.7*10^13*$S$16*$R$16^0.5*EXP(-67837/O35)/($B$4*6))*$B$7*10^-6) -> 1.223207e-09 | Q35: =(((B34*10^5)^(1-$B$8))*((B35*10^5)^($B$8-1))*(Q34^$B$8))^(1/$B$8) -> 2323.2126 | R35: =((4.7*10^13*$S$17*$R$17^0.5*EXP(-67837/Q35)/($B$4*6))*$B$7*10^-6) -> 3.5636051e-10 | S35: =(((B34*10^5)^(1-$B$8))*((B35*10^5)^($B$8-1))*(S34^$B$8))^(1/$B$8) -> 2204.6765 | T35: =((4.7*10^13*$S$18*$R$18^0.5*EXP(-67837/S35)/($B$4*6))*$B$7*10^-6) -> 8.5719921e-11 | U35: =(((B34*10^5)^(1-$B$8))*((B35*10^5)^($B$8-1))*(U34^$B$8))^(1/$B$8) -> 2086.8999 | V35: =((4.7*10^13*$S$19*$R$19^0.5*EXP(-67837/U35)/($B$4*6))*$B$7*10^-6) -> 1.690118e-11 | W35: =(((B34*10^5)^(1-$B$8))*((B35*10^5)^($B$8-1))*(W34^$B$8))^(1/$B$8) -> 1971.2731 | X35: =((4.7*10^13*$S$20*$R$20^0.5*EXP(-67837/W35)/($B$4*6))*$B$7*10^-6) -> 2.7541614e-12 | Y35: =(((B34*10^5)^(1-$B$8))*((B35*10^5)^($B$8-1))*(Y34^$B$8))^(1/$B$8) -> 1856.4948 | Z35: =((4.7*10^13*$S$21*$R$21^0.5*EXP(-67837/Y35)/($B$4*6))*$B$7*10^-6) -> 3.5481943e-13 | AA35: =(((B34*10^5)^(1-$B$8))*((B35*10^5)^($B$8-1))*(AA34^$B$8))^(1/$B$8) -> 1743.7999 | AB35: =((4.7*10^13*$S$22*$R$22^0.5*EXP(-67837/AA35)/($B$4*6))*$B$7*10^-6) -> 3.5807697e-14
A36: 10 | B36: 30 | C36: =(((B35*10^5)^(1-$B$8))*((B36*10^5)^($B$8-1))*(C35^$B$8))^(1/$B$8) -> 2714.9832 | D36: =((4.7*10^13*($S$10*$R$10)^0.5)*EXP(-67837/C36)/($B$4*6))*$B$7*10^-6 -> 0 | E36: =(((B35*10^5)^(1-$B$8))*((B36*10^5)^($B$8-1))*(E35^$B$8))^(1/$B$8) -> 2690.1763 | F36: =((4.7*10^13*$S$11*$R$11^0.5*EXP(-67837/E36)/($B$4*6))*$B$7*10^-6) -> 4.9223057e-09 | G36: =(((B35*10^5)^(1-$B$8))*((B36*10^5)^($B$8-1))*(G35^$B$8))^(1/$B$8) -> 2665.3151 | H36: =((4.7*10^13*$S$12*$R$12^0.5*EXP(-67837/G36)/($B$4*6))*$B$7*10^-6) -> 5.5035099e-09 | I36: =(((B35*10^5)^(1-$B$8))*((B36*10^5)^($B$8-1))*(I35^$B$8))^(1/$B$8) -> 2640.5057 | J36: =((4.7*10^13*$S$13*$R$13^0.5*EXP(-67837/I36)/($B$4*6))*$B$7*10^-6) -> 5.3080796e-09 | K36: =(((B35*10^5)^(1-$B$8))*((B36*10^5)^($B$8-1))*(K35^$B$8))^(1/$B$8) -> 2615.679 | L36: =((4.7*10^13*$S$14*$R$14^0.5*EXP(-67837/K36)/($B$4*6))*$B$7*10^-6) -> 4.8041181e-09 | M36: =(((B35*10^5)^(1-$B$8))*((B36*10^5)^($B$8-1))*(M35^$B$8))^(1/$B$8) -> 2590.9419 | N36: =((4.7*10^13*$S$15*$R$15^0.5*EXP(-67837/M36)/($B$4*6))*$B$7*10^-6) -> 4.1941083e-09 | O36: =(((B35*10^5)^(1-$B$8))*((B36*10^5)^($B$8-1))*(O35^$B$8))^(1/$B$8) -> 2468.1039 | P36: =((4.7*10^13*$S$16*$R$16^0.5*EXP(-67837/O36)/($B$4*6))*$B$7*10^-6) -> 1.613479e-09 | Q36: =(((B35*10^5)^(1-$B$8))*((B36*10^5)^($B$8-1))*(Q35^$B$8))^(1/$B$8) -> 2346.6191 | R36: =((4.7*10^13*$S$17*$R$17^0.5*EXP(-67837/Q36)/($B$4*6))*$B$7*10^-6) -> 4.7684695e-10 | S36: =(((B35*10^5)^(1-$B$8))*((B36*10^5)^($B$8-1))*(S35^$B$8))^(1/$B$8) -> 2226.8887 | T36: =((4.7*10^13*$S$18*$R$18^0.5*EXP(-67837/S36)/($B$4*6))*$B$7*10^-6) -> 1.1651236e-10 | U36: =(((B35*10^5)^(1-$B$8))*((B36*10^5)^($B$8-1))*(U35^$B$8))^(1/$B$8) -> 2107.9255 | V36: =((4.7*10^13*$S$19*$R$19^0.5*EXP(-67837/U36)/($B$4*6))*$B$7*10^-6) -> 2.3373818e-11 | W36: =(((B35*10^5)^(1-$B$8))*((B36*10^5)^($B$8-1))*(W35^$B$8))^(1/$B$8) -> 1991.1337 | X36: =((4.7*10^13*$S$20*$R$20^0.5*EXP(-67837/W36)/($B$4*6))*$B$7*10^-6) -> 3.8820534e-12 | Y36: =(((B35*10^5)^(1-$B$8))*((B36*10^5)^($B$8-1))*(Y35^$B$8))^(1/$B$8) -> 1875.199 | Z36: =((4.7*10^13*$S$21*$R$21^0.5*EXP(-67837/Y36)/($B$4*6))*$B$7*10^-6) -> 5.1085299e-13 | AA36: =(((B35*10^5)^(1-$B$8))*((B36*10^5)^($B$8-1))*(AA35^$B$8))^(1/$B$8) -> 1761.3687 | AB36: =((4.7*10^13*$S$22*$R$22^0.5*EXP(-67837/AA36)/($B$4*6))*$B$7*10^-6) -> 5.2783053e-14
A37: 11 | B37: 32 | C37: =(((B36*10^5)^(1-$B$8))*((B37*10^5)^($B$8-1))*(C36^$B$8))^(1/$B$8) -> 2740.5624 | D37: =((4.7*10^13*($S$10*$R$10)^0.5)*EXP(-67837/C37)/($B$4*6))*$B$7*10^-6 -> 0 | E37: =(((B36*10^5)^(1-$B$8))*((B37*10^5)^($B$8-1))*(E36^$B$8))^(1/$B$8) -> 2715.5218 | F37: =((4.7*10^13*$S$11*$R$11^0.5*EXP(-67837/E37)/($B$4*6))*$B$7*10^-6) -> 6.2285116e-09 | G37: =(((B36*10^5)^(1-$B$8))*((B37*10^5)^($B$8-1))*(G36^$B$8))^(1/$B$8) -> 2690.4263 | H37: =((4.7*10^13*$S$12*$R$12^0.5*EXP(-67837/G37)/($B$4*6))*$B$7*10^-6) -> 6.9792521e-09 | I37: =(((B36*10^5)^(1-$B$8))*((B37*10^5)^($B$8-1))*(I36^$B$8))^(1/$B$8) -> 2665.3833 | J37: =((4.7*10^13*$S$13*$R$13^0.5*EXP(-67837/I37)/($B$4*6))*$B$7*10^-6) -> 6.7464593e-09 | K37: =(((B36*10^5)^(1-$B$8))*((B37*10^5)^($B$8-1))*(K36^$B$8))^(1/$B$8) -> 2640.3226 | L37: =((4.7*10^13*$S$14*$R$14^0.5*EXP(-67837/K37)/($B$4*6))*$B$7*10^-6) -> 6.1198472e-09 | M37: =(((B36*10^5)^(1-$B$8))*((B37*10^5)^($B$8-1))*(M36^$B$8))^(1/$B$8) -> 2615.3525 | N37: =((4.7*10^13*$S$15*$R$15^0.5*EXP(-67837/M37)/($B$4*6))*$B$7*10^-6) -> 5.3551329e-09 | O37: =(((B36*10^5)^(1-$B$8))*((B37*10^5)^($B$8-1))*(O36^$B$8))^(1/$B$8) -> 2491.3571 | P37: =((4.7*10^13*$S$16*$R$16^0.5*EXP(-67837/O37)/($B$4*6))*$B$7*10^-6) -> 2.0853362e-09 | Q37: =(((B36*10^5)^(1-$B$8))*((B37*10^5)^($B$8-1))*(Q36^$B$8))^(1/$B$8) -> 2368.7277 | R37: =((4.7*10^13*$S$17*$R$17^0.5*EXP(-67837/Q37)/($B$4*6))*$B$7*10^-6) -> 6.2453908e-10 | S37: =(((B36*10^5)^(1-$B$8))*((B37*10^5)^($B$8-1))*(S36^$B$8))^(1/$B$8) -> 2247.8693 | T37: =((4.7*10^13*$S$18*$R$18^0.5*EXP(-67837/S37)/($B$4*6))*$B$7*10^-6) -> 1.5482921e-10 | U37: =(((B36*10^5)^(1-$B$8))*((B37*10^5)^($B$8-1))*(U36^$B$8))^(1/$B$8) -> 2127.7853 | V37: =((4.7*10^13*$S$19*$R$19^0.5*EXP(-67837/U37)/($B$4*6))*$B$7*10^-6) -> 3.1563078e-11 | W37: =(((B36*10^5)^(1-$B$8))*((B37*10^5)^($B$8-1))*(W36^$B$8))^(1/$B$8) -> 2009.8932 | X37: =((4.7*10^13*$S$20*$R$20^0.5*EXP(-67837/W37)/($B$4*6))*$B$7*10^-6) -> 5.3353492e-12 | Y37: =(((B36*10^5)^(1-$B$8))*((B37*10^5)^($B$8-1))*(Y36^$B$8))^(1/$B$8) -> 1892.8662 | Z37: =((4.7*10^13*$S$21*$R$21^0.5*EXP(-67837/Y37)/($B$4*6))*$B$7*10^-6) -> 7.1603696e-13 | AA37: =(((B36*10^5)^(1-$B$8))*((B37*10^5)^($B$8-1))*(AA36^$B$8))^(1/$B$8) -> 1777.9635 | AB37: =((4.7*10^13*$S$22*$R$22^0.5*EXP(-67837/AA37)/($B$4*6))*$B$7*10^-6) -> 7.5615483e-14
A38: 12 | B38: 34 | C38: =(((B37*10^5)^(1-$B$8))*((B38*10^5)^($B$8-1))*(C37^$B$8))^(1/$B$8) -> 2764.8099 | D38: =((4.7*10^13*($S$10*$R$10)^0.5)*EXP(-67837/C38)/($B$4*6))*$B$7*10^-6 -> 0 | E38: =(((B37*10^5)^(1-$B$8))*((B38*10^5)^($B$8-1))*(E37^$B$8))^(1/$B$8) -> 2739.5477 | F38: =((4.7*10^13*$S$11*$R$11^0.5*EXP(-67837/E38)/($B$4*6))*$B$7*10^-6) -> 7.7541107e-09 | G38: =(((B37*10^5)^(1-$B$8))*((B38*10^5)^($B$8-1))*(G37^$B$8))^(1/$B$8) -> 2714.2302 | H38: =((4.7*10^13*$S$12*$R$12^0.5*EXP(-67837/G38)/($B$4*6))*$B$7*10^-6) -> 8.7065102e-09 | I38: =(((B37*10^5)^(1-$B$8))*((B38*10^5)^($B$8-1))*(I37^$B$8))^(1/$B$8) -> 2688.9656 | J38: =((4.7*10^13*$S$13*$R$13^0.5*EXP(-67837/I38)/($B$4*6))*$B$7*10^-6) -> 8.4336087e-09 | K38: =(((B37*10^5)^(1-$B$8))*((B38*10^5)^($B$8-1))*(K37^$B$8))^(1/$B$8) -> 2663.6832 | L38: =((4.7*10^13*$S$14*$R$14^0.5*EXP(-67837/K38)/($B$4*6))*$B$7*10^-6) -> 7.6665188e-09 | M38: =(((B37*10^5)^(1-$B$8))*((B38*10^5)^($B$8-1))*(M37^$B$8))^(1/$B$8) -> 2638.4921 | N38: =((4.7*10^13*$S$15*$R$15^0.5*EXP(-67837/M38)/($B$4*6))*$B$7*10^-6) -> 6.7229855e-09 | O38: =(((B37*10^5)^(1-$B$8))*((B38*10^5)^($B$8-1))*(O37^$B$8))^(1/$B$8) -> 2513.3997 | P38: =((4.7*10^13*$S$16*$R$16^0.5*EXP(-67837/O38)/($B$4*6))*$B$7*10^-6) -> 2.6477983e-09 | Q38: =(((B37*10^5)^(1-$B$8))*((B38*10^5)^($B$8-1))*(Q37^$B$8))^(1/$B$8) -> 2389.6853 | R38: =((4.7*10^13*$S$17*$R$17^0.5*EXP(-67837/Q38)/($B$4*6))*$B$7*10^-6) -> 8.0285562e-10 | S38: =(((B37*10^5)^(1-$B$8))*((B38*10^5)^($B$8-1))*(S37^$B$8))^(1/$B$8) -> 2267.7576 | T38: =((4.7*10^13*$S$18*$R$18^0.5*EXP(-67837/S38)/($B$4*6))*$B$7*10^-6) -> 2.0174157e-10 | U38: =(((B37*10^5)^(1-$B$8))*((B38*10^5)^($B$8-1))*(U37^$B$8))^(1/$B$8) -> 2146.6111 | V38: =((4.7*10^13*$S$19*$R$19^0.5*EXP(-67837/U38)/($B$4*6))*$B$7*10^-6) -> 4.1745412e-11 | W38: =(((B37*10^5)^(1-$B$8))*((B38*10^5)^($B$8-1))*(W37^$B$8))^(1/$B$8) -> 2027.6759 | X38: =((4.7*10^13*$S$20*$R$20^0.5*EXP(-67837/W38)/($B$4*6))*$B$7*10^-6) -> 7.1732309e-12 | Y38: =(((B37*10^5)^(1-$B$8))*((B38*10^5)^($B$8-1))*(Y37^$B$8))^(1/$B$8) -> 1909.6135 | Z38: =((4.7*10^13*$S$21*$R$21^0.5*EXP(-67837/Y38)/($B$4*6))*$B$7*10^-6) -> 9.8047191e-13 | AA38: =(((B37*10^5)^(1-$B$8))*((B38*10^5)^($B$8-1))*(AA37^$B$8))^(1/$B$8) -> 1793.6942 | AB38: =((4.7*10^13*$S$22*$R$22^0.5*EXP(-67837/AA38)/($B$4*6))*$B$7*10^-6) -> 1.0566518e-13
... A41: 15 | B41: 40 | C41: =(((B40*10^5)^(1-$B$8))*((B41*10^5)^($B$8-1))*(C40^$B$8))^(1/$B$8) -> 2830.8747 | D41: =((4.7*10^13*($S$10*$R$10)^0.5)*EXP(-67837/C41)/($B$4*6))*$B$7*10^-6 -> 0 | E41: =(((B40*10^5)^(1-$B$8))*((B41*10^5)^($B$8-1))*(E40^$B$8))^(1/$B$8) -> 2805.0089 | F41: =((4.7*10^13*$S$11*$R$11^0.5*EXP(-67837/E41)/($B$4*6))*$B$7*10^-6) -> 1.3819802e-08 | G41: =(((B40*10^5)^(1-$B$8))*((B41*10^5)^($B$8-1))*(G40^$B$8))^(1/$B$8) -> 2779.0864 | H41: =((4.7*10^13*$S$12*$R$12^0.5*EXP(-67837/G41)/($B$4*6))*$B$7*10^-6) -> 1.5601089e-08 | I41: =(((B40*10^5)^(1-$B$8))*((B41*10^5)^($B$8-1))*(I40^$B$8))^(1/$B$8) -> 2753.2181 | J41: =((4.7*10^13*$S$13*$R$13^0.5*EXP(-67837/I41)/($B$4*6))*$B$7*10^-6) -> 1.5195124e-08 | K41: =(((B40*10^5)^(1-$B$8))*((B41*10^5)^($B$8-1))*(K40^$B$8))^(1/$B$8) -> 2727.3315 | L41: =((4.7*10^13*$S$14*$R$14^0.5*EXP(-67837/K41)/($B$4*6))*$B$7*10^-6) -> 1.3890437e-08 | M41: =(((B40*10^5)^(1-$B$8))*((B41*10^5)^($B$8-1))*(M40^$B$8))^(1/$B$8) -> 2701.5386 | N41: =((4.7*10^13*$S$15*$R$15^0.5*EXP(-67837/M41)/($B$4*6))*$B$7*10^-6) -> 1.2250231e-08 | O41: =(((B40*10^5)^(1-$B$8))*((B41*10^5)^($B$8-1))*(O40^$B$8))^(1/$B$8) -> 2573.457 | P41: =((4.7*10^13*$S$16*$R$16^0.5*EXP(-67837/O41)/($B$4*6))*$B$7*10^-6) -> 4.9709136e-09 | Q41: =(((B40*10^5)^(1-$B$8))*((B41*10^5)^($B$8-1))*(Q40^$B$8))^(1/$B$8) -> 2446.7866 | R41: =((4.7*10^13*$S$17*$R$17^0.5*EXP(-67837/Q41)/($B$4*6))*$B$7*10^-6) -> 1.5572221e-09 | S41: =(((B40*10^5)^(1-$B$8))*((B41*10^5)^($B$8-1))*(S40^$B$8))^(1/$B$8) -> 2321.9454 | T41: =((4.7*10^13*$S$18*$R$18^0.5*EXP(-67837/S41)/($B$4*6))*$B$7*10^-6) -> 4.0548764e-10 | U41: =(((B40*10^5)^(1-$B$8))*((B41*10^5)^($B$8-1))*(U40^$B$8))^(1/$B$8) -> 2197.9042 | V41: =((4.7*10^13*$S$19*$R$19^0.5*EXP(-67837/U41)/($B$4*6))*$B$7*10^-6) -> 8.7277322e-11 | W41: =(((B40*10^5)^(1-$B$8))*((B41*10^5)^($B$8-1))*(W40^$B$8))^(1/$B$8) -> 2076.127 | X41: =((4.7*10^13*$S$20*$R$20^0.5*EXP(-67837/W41)/($B$4*6))*$B$7*10^-6) -> 1.56601e-11 | Y41: =(((B40*10^5)^(1-$B$8))*((B41*10^5)^($B$8-1))*(Y40^$B$8))^(1/$B$8) -> 1955.2435 | Z41: =((4.7*10^13*$S$21*$R$21^0.5*EXP(-67837/Y41)/($B$4*6))*$B$7*10^-6) -> 2.246356e-12 | AA41: =(((B40*10^5)^(1-$B$8))*((B41*10^5)^($B$8-1))*(AA40^$B$8))^(1/$B$8) -> 1836.5543 | AB41: =((4.7*10^13*$S$22*$R$22^0.5*EXP(-67837/AA41)/($B$4*6))*$B$7*10^-6) -> 2.5541329e-13
C42: Total Nox | D42: =SUM(D26:D41) -> 0 | E42: Total Nox | F42: =SUM(F26:F41) -> 6.6840928e-08 | G42: Total Nox | H42: =SUM(H26:H41) -> 7.4982524e-08 | I42: Total Nox | J42: =SUM(J26:J41) -> 7.2568838e-08 | K42: Total Nox | L42: =SUM(L26:L41) -> 6.5912938e-08 | M42: Total Nox | N42: =SUM(N26:N41) -> 5.7754739e-08 | O42: Total Nox | P42: =SUM(P26:P41) -> 2.2669986e-08 | Q42: Total Nox | R42: =SUM(R26:R41) -> 6.8592725e-09 | S42: Total Nox | T42: =SUM(T26:T41) -> 1.7225118e-09 | U42: Total Nox | V42: =SUM(V26:V41) -> 3.5686107e-10 | W42: Total Nox | X42: =SUM(X26:X41) -> 6.1531411e-11 | Y42: Total Nox | Z42: =SUM(Z26:Z41) -> 8.4628056e-12 | AA42: Total Nox | AB42: =SUM(AB26:AB41) -> 9.2079025e-13
A45: ='Enthalpy Data'!X1 -> Deg K | B45: ='Enthalpy Data'!Y1 -> Net Enthalpy | C45: ='Enthalpy Data'!Z1 -> 0.99 | D45: ='Enthalpy Data'!AA1 -> 0.98 | E45: ='Enthalpy Data'!AB1 -> 0.97 | F45: ='Enthalpy Data'!AC1 -> 0.96 | G45: ='Enthalpy Data'!AD1 -> 0.95 | H45: ='Enthalpy Data'!AE1 -> 0.9 | ... N45: ='Enthalpy Data'!AK1 -> 0.6 | P45: ='Enthalpy Data'!X38 -> Deg K | Q45: ='Enthalpy Data'!Y38 -> Net Enthalpy | R45: ='Enthalpy Data'!Z38 -> 0.99 | S45: ='Enthalpy Data'!AA38 -> 0.98 | T45: ='Enthalpy Data'!AB38 -> 0.97 | U45: ='Enthalpy Data'!AC38 -> 0.96 | V45: ='Enthalpy Data'!AD38 -> 0.95 | W45: ='Enthalpy Data'!AE38 -> 0.9 | ... AC45: ='Enthalpy Data'!AK38 -> 0.6
A46: ='Enthalpy Data'!X2 -> 1900 | B46: ='Enthalpy Data'!Y2 -> 3763.231 | C46: ='Enthalpy Data'!Z2 -> 3763.1246 | D46: ='Enthalpy Data'!AA2 -> 3763.2184 | E46: ='Enthalpy Data'!AB2 -> 3763.3122 | F46: ='Enthalpy Data'!AC2 -> 3763.406 | G46: ='Enthalpy Data'!AD2 -> 3763.4998 | H46: ='Enthalpy Data'!AE2 -> 3763.9688 | ... N46: ='Enthalpy Data'!AK2 -> 3766.7828 | P46: ='Enthalpy Data'!X39 -> 1000 | Q46: ='Enthalpy Data'!Y39 -> 1510.7894 | R46: ='Enthalpy Data'!Z39 -> 1510.9558 | S46: ='Enthalpy Data'!AA39 -> 1511.1222 | T46: ='Enthalpy Data'!AB39 -> 1511.2886 | U46: ='Enthalpy Data'!AC39 -> 1511.455 | V46: ='Enthalpy Data'!AD39 -> 1511.6214 | W46: ='Enthalpy Data'!AE39 -> 1512.4534 | ... AC46: ='Enthalpy Data'!AK39 -> 1517.4454
A47: ='Enthalpy Data'!X3 -> 1950 | B47: ='Enthalpy Data'!Y3 -> 3894.2536 | C47: ='Enthalpy Data'!Z3 -> 3894.1346 | D47: ='Enthalpy Data'!AA3 -> 3894.2226 | E47: ='Enthalpy Data'!AB3 -> 3894.3106 | F47: ='Enthalpy Data'!AC3 -> 3894.3986 | G47: ='Enthalpy Data'!AD3 -> 3894.4866 | H47: ='Enthalpy Data'!AE3 -> 3894.9266 | ... N47: ='Enthalpy Data'!AK3 -> 3897.5666 | P47: ='Enthalpy Data'!X40 -> 1050 | Q47: ='Enthalpy Data'!Y40 -> 1628.4622 | R47: ='Enthalpy Data'!Z40 -> 1628.629 | S47: ='Enthalpy Data'!AA40 -> 1628.7957 | T47: ='Enthalpy Data'!AB40 -> 1628.9624 | U47: ='Enthalpy Data'!AC40 -> 1629.1292 | V47: ='Enthalpy Data'!AD40 -> 1629.2959 | W47: ='Enthalpy Data'!AE40 -> 1630.1297 | ... AC47: ='Enthalpy Data'!AK40 -> 1635.1322
A48: ='Enthalpy Data'!X4 -> 2000 | B48: ='Enthalpy Data'!Y4 -> 4026.0064 | C48: ='Enthalpy Data'!Z4 -> 4025.8753 | D48: ='Enthalpy Data'!AA4 -> 4025.9579 | E48: ='Enthalpy Data'!AB4 -> 4026.0406 | F48: ='Enthalpy Data'!AC4 -> 4026.1232 | G48: ='Enthalpy Data'!AD4 -> 4026.2059 | H48: ='Enthalpy Data'!AE4 -> 4026.6191 | ... N48: ='Enthalpy Data'!AK4 -> 4029.0986 | P48: ='Enthalpy Data'!X41 -> 1100 | Q48: ='Enthalpy Data'!Y41 -> 1747.6754 | R48: ='Enthalpy Data'!Z41 -> 1747.8414 | S48: ='Enthalpy Data'!AA41 -> 1748.0073 | T48: ='Enthalpy Data'!AB41 -> 1748.1733 | U48: ='Enthalpy Data'!AC41 -> 1748.3392 | V48: ='Enthalpy Data'!AD41 -> 1748.5051 | W48: ='Enthalpy Data'!AE41 -> 1749.3349 | ... AC48: ='Enthalpy Data'!AK41 -> 1754.3134
A49: ='Enthalpy Data'!X5 -> 2050 | B49: ='Enthalpy Data'!Y5 -> 4157.9393 | C49: ='Enthalpy Data'!Z5 -> 4157.7959 | D49: ='Enthalpy Data'!AA5 -> 4157.8732 | E49: ='Enthalpy Data'!AB5 -> 4157.9505 | F49: ='Enthalpy Data'!AC5 -> 4158.0278 | G49: ='Enthalpy Data'!AD5 -> 4158.1051 | H49: ='Enthalpy Data'!AE5 -> 4158.4916 | ... N49: ='Enthalpy Data'!AK5 -> 4160.8106 | P49: ='Enthalpy Data'!X42 -> 1150 | Q49: ='Enthalpy Data'!Y42 -> 1867.7888 | R49: ='Enthalpy Data'!Z42 -> 1867.9536 | S49: ='Enthalpy Data'!AA42 -> 1868.1184 | T49: ='Enthalpy Data'!AB42 -> 1868.2832 | U49: ='Enthalpy Data'!AC42 -> 1868.448 | V49: ='Enthalpy Data'!AD42 -> 1868.6128 | W49: ='Enthalpy Data'!AE42 -> 1869.4368 | ... AC49: ='Enthalpy Data'!AK42 -> 1874.3808
A50: ='Enthalpy Data'!X6 -> 2100 | B50: ='Enthalpy Data'!Y6 -> 4290.0421 | C50: ='Enthalpy Data'!Z6 -> 4289.887 | D50: ='Enthalpy Data'!AA6 -> 4289.9594 | E50: ='Enthalpy Data'!AB6 -> 4290.0318 | F50: ='Enthalpy Data'!AC6 -> 4290.1042 | G50: ='Enthalpy Data'!AD6 -> 4290.1766 | H50: ='Enthalpy Data'!AE6 -> 4290.5386 | ... N50: ='Enthalpy Data'!AK6 -> 4292.7106 | P50: ='Enthalpy Data'!X43 -> 1200 | Q50: ='Enthalpy Data'!Y43 -> 1988.8024 | R50: ='Enthalpy Data'!Z43 -> 1988.9645 | S50: ='Enthalpy Data'!AA43 -> 1989.1265 | T50: ='Enthalpy Data'!AB43 -> 1989.2885 | U50: ='Enthalpy Data'!AC43 -> 1989.4506 | V50: ='Enthalpy Data'!AD43 -> 1989.6127 | W50: ='Enthalpy Data'!AE43 -> 1990.4229 | ... AC50: ='Enthalpy Data'!AK43 -> 1995.2844
A51: ='Enthalpy Data'!X7 -> 2150 | B51: ='Enthalpy Data'!Y7 -> 4422.7852 | C51: ='Enthalpy Data'!Z7 -> 4422.6175 | D51: ='Enthalpy Data'!AA7 -> 4422.6842 | E51: ='Enthalpy Data'!AB7 -> 4422.7509 | F51: ='Enthalpy Data'!AC7 -> 4422.8176 | G51: ='Enthalpy Data'!AD7 -> 4422.8843 | H51: ='Enthalpy Data'!AE7 -> 4423.2178 | ... N51: ='Enthalpy Data'!AK7 -> 4425.2188 | P51: ='Enthalpy Data'!X44 -> 1250 | Q51: ='Enthalpy Data'!Y44 -> 2110.6262 | R51: ='Enthalpy Data'!Z44 -> 2110.7864 | S51: ='Enthalpy Data'!AA44 -> 2110.9466 | T51: ='Enthalpy Data'!AB44 -> 2111.1068 | U51: ='Enthalpy Data'!AC44 -> 2111.267 | V51: ='Enthalpy Data'!AD44 -> 2111.4272 | W51: ='Enthalpy Data'!AE44 -> 2112.2282 | ... AC51: ='Enthalpy Data'!AK44 -> 2117.0342
A52: ='Enthalpy Data'!X8 -> 2200 | B52: ='Enthalpy Data'!Y8 -> 4556.3486 | C52: ='Enthalpy Data'!Z8 -> 4556.1686 | D52: ='Enthalpy Data'!AA8 -> 4556.2301 | E52: ='Enthalpy Data'!AB8 -> 4556.2915 | F52: ='Enthalpy Data'!AC8 -> 4556.353 | G52: ='Enthalpy Data'!AD8 -> 4556.4145 | H52: ='Enthalpy Data'!AE8 -> 4556.7217 | ... N52: ='Enthalpy Data'!AK8 -> 4558.5652 | P52: ='Enthalpy Data'!X45 -> 1300 | Q52: ='Enthalpy Data'!Y45 -> 2233.4402 | R52: ='Enthalpy Data'!Z45 -> 2233.597 | S52: ='Enthalpy Data'!AA45 -> 2233.7537 | T52: ='Enthalpy Data'!AB45 -> 2233.9104 | U52: ='Enthalpy Data'!AC45 -> 2234.0672 | V52: ='Enthalpy Data'!AD45 -> 2234.224 | W52: ='Enthalpy Data'!AE45 -> 2235.0077 | ... AC52: ='Enthalpy Data'!AK45 -> 2239.7102
A53: ='Enthalpy Data'!X9 -> 2250 | B53: ='Enthalpy Data'!Y9 -> 4689.4417 | C53: ='Enthalpy Data'!Z9 -> 4689.2509 | D53: ='Enthalpy Data'!AA9 -> 4689.3083 | E53: ='Enthalpy Data'!AB9 -> 4689.3657 | F53: ='Enthalpy Data'!AC9 -> 4689.4232 | G53: ='Enthalpy Data'!AD9 -> 4689.4806 | H53: ='Enthalpy Data'!AE9 -> 4689.7679 | ... N53: ='Enthalpy Data'!AK9 -> 4691.4914 | P53: ='Enthalpy Data'!X46 -> 1350 | Q53: ='Enthalpy Data'!Y46 -> 2357.0744 | R53: ='Enthalpy Data'!Z46 -> 2357.2281 | S53: ='Enthalpy Data'!AA46 -> 2357.3819 | T53: ='Enthalpy Data'!AB46 -> 2357.5357 | U53: ='Enthalpy Data'!AC46 -> 2357.6894 | V53: ='Enthalpy Data'!AD46 -> 2357.8431 | W53: ='Enthalpy Data'!AE46 -> 2358.6119 | ... AC53: ='Enthalpy Data'!AK46 -> 2363.2244
A54: ='Enthalpy Data'!X10 -> 2300 | B54: ='Enthalpy Data'!Y10 -> 4823.185 | C54: ='Enthalpy Data'!Z10 -> 4822.9833 | D54: ='Enthalpy Data'!AA10 -> 4823.0367 | E54: ='Enthalpy Data'!AB10 -> 4823.0901 | F54: ='Enthalpy Data'!AC10 -> 4823.1436 | G54: ='Enthalpy Data'!AD10 -> 4823.1971 | H54: ='Enthalpy Data'!AE10 -> 4823.4643 | ... N54: ='Enthalpy Data'!AK10 -> 4825.0678 | P54: ='Enthalpy Data'!X47 -> 1400 | Q54: ='Enthalpy Data'!Y47 -> 2481.5988 | R54: ='Enthalpy Data'!Z47 -> 2481.7472 | S54: ='Enthalpy Data'!AA47 -> 2481.8955 | T54: ='Enthalpy Data'!AB47 -> 2482.0439 | U54: ='Enthalpy Data'!AC47 -> 2482.1922 | V54: ='Enthalpy Data'!AD47 -> 2482.3405 | W54: ='Enthalpy Data'!AE47 -> 2483.0823 | ... AC54: ='Enthalpy Data'!AK47 -> 2487.5328
A55: ='Enthalpy Data'!X11 -> 2350 | B55: ='Enthalpy Data'!Y11 -> 4957.6486 | C55: ='Enthalpy Data'!Z11 -> 4957.4343 | D55: ='Enthalpy Data'!AA11 -> 4957.4821 | E55: ='Enthalpy Data'!AB11 -> 4957.53 | F55: ='Enthalpy Data'!AC11 -> 4957.5778 | G55: ='Enthalpy Data'!AD11 -> 4957.6256 | H55: ='Enthalpy Data'!AE11 -> 4957.8649 | ... N55: ='Enthalpy Data'!AK11 -> 4959.3004 | P55: ='Enthalpy Data'!X48 -> 1450 | Q55: ='Enthalpy Data'!Y48 -> 2606.9434 | R55: ='Enthalpy Data'!Z48 -> 2607.0881 | S55: ='Enthalpy Data'!AA48 -> 2607.2327 | T55: ='Enthalpy Data'!AB48 -> 2607.3774 | U55: ='Enthalpy Data'!AC48 -> 2607.522 | V55: ='Enthalpy Data'!AD48 -> 2607.6667 | W55: ='Enthalpy Data'!AE48 -> 2608.3899 | ... AC55: ='Enthalpy Data'!AK48 -> 2612.7294
A56: ='Enthalpy Data'!X12 -> 2400 | B56: ='Enthalpy Data'!Y12 -> 5091.7419 | C56: ='Enthalpy Data'!Z12 -> 5091.5171 | D56: ='Enthalpy Data'!AA12 -> 5091.5614 | E56: ='Enthalpy Data'!AB12 -> 5091.6057 | F56: ='Enthalpy Data'!AC12 -> 5091.65 | G56: ='Enthalpy Data'!AD12 -> 5091.6943 | H56: ='Enthalpy Data'!AE12 -> 5091.9158 | ... N56: ='Enthalpy Data'!AK12 -> 5093.2448 | P56: ='Enthalpy Data'!X49 -> 1500 | Q56: ='Enthalpy Data'!Y49 -> 2732.628 | R56: ='Enthalpy Data'!Z49 -> 2732.7674 | S56: ='Enthalpy Data'!AA49 -> 2732.9067 | T56: ='Enthalpy Data'!AB49 -> 2733.046 | U56: ='Enthalpy Data'!AC49 -> 2733.1854 | V56: ='Enthalpy Data'!AD49 -> 2733.3248 | W56: ='Enthalpy Data'!AE49 -> 2734.0215 | ... AC56: ='Enthalpy Data'!AK49 -> 2738.202
... A63: ='Enthalpy Data'!X19 -> 2750 | B63: ='Enthalpy Data'!Y19 -> 6039.4579 | C63: ='Enthalpy Data'!Z19 -> 6039.1664 | D63: ='Enthalpy Data'!AA19 -> 6039.1931 | E63: ='Enthalpy Data'!AB19 -> 6039.2198 | F63: ='Enthalpy Data'!AC19 -> 6039.2464 | G63: ='Enthalpy Data'!AD19 -> 6039.2731 | H63: ='Enthalpy Data'!AE19 -> 6039.4063 | ... N63: ='Enthalpy Data'!AK19 -> 6040.2058 | P63: ='Enthalpy Data'!X56 -> 1850 | Q63: ='Enthalpy Data'!Y56 -> 3632.275 | R63: ='Enthalpy Data'!Z56 -> 3632.3751 | S63: ='Enthalpy Data'!AA56 -> 3632.4751 | T63: ='Enthalpy Data'!AB56 -> 3632.5752 | U63: ='Enthalpy Data'!AC56 -> 3632.6752 | V63: ='Enthalpy Data'!AD56 -> 3632.7753 | W63: ='Enthalpy Data'!AE56 -> 3633.2755 | ... AC63: ='Enthalpy Data'!AK56 -> 3636.277
A64: ='Enthalpy Data'!X20 -> 2800 | B64: ='Enthalpy Data'!Y20 -> 6175.5317 | C64: ='Enthalpy Data'!Z20 -> 6175.2315 | D64: ='Enthalpy Data'!AA20 -> 6175.2564 | E64: ='Enthalpy Data'!AB20 -> 6175.2813 | F64: ='Enthalpy Data'!AC20 -> 6175.3062 | G64: ='Enthalpy Data'!AD20 -> 6175.3311 | H64: ='Enthalpy Data'!AE20 -> 6175.4556 | ... N64: ='Enthalpy Data'!AK20 -> 6176.2026
A65: ='Enthalpy Data'!X21 -> 2850 | B65: ='Enthalpy Data'!Y21 -> 6312.1657 | C65: ='Enthalpy Data'!Z21 -> 6311.8568 | D65: ='Enthalpy Data'!AA21 -> 6311.8799 | E65: ='Enthalpy Data'!AB21 -> 6311.9031 | F65: ='Enthalpy Data'!AC21 -> 6311.9262 | G65: ='Enthalpy Data'!AD21 -> 6311.9493 | H65: ='Enthalpy Data'!AE21 -> 6312.0651 | ... N65: ='Enthalpy Data'!AK21 -> 6312.7596
A66: ='Enthalpy Data'!X22 -> 2900 | B66: ='Enthalpy Data'!Y22 -> 6448.7998 | C66: ='Enthalpy Data'!Z22 -> 6448.4845 | D66: ='Enthalpy Data'!AA22 -> 6448.5084 | E66: ='Enthalpy Data'!AB22 -> 6448.5323 | F66: ='Enthalpy Data'!AC22 -> 6448.5562 | G66: ='Enthalpy Data'!AD22 -> 6448.5801 | H66: ='Enthalpy Data'!AE22 -> 6448.6996 | ... N66: ='Enthalpy Data'!AK22 -> 6449.4166
A67: ='Enthalpy Data'!X23 -> 2950 | B67: ='Enthalpy Data'!Y23 -> 6585.6938 | C67: ='Enthalpy Data'!Z23 -> 6585.3702 | D67: ='Enthalpy Data'!AA23 -> 6585.3928 | E67: ='Enthalpy Data'!AB23 -> 6585.4154 | F67: ='Enthalpy Data'!AC23 -> 6585.438 | G67: ='Enthalpy Data'!AD23 -> 6585.4606 | H67: ='Enthalpy Data'!AE23 -> 6585.5736 | ... N67: ='Enthalpy Data'!AK23 -> 6586.2516
A68: ='Enthalpy Data'!X24 -> 3000 | B68: ='Enthalpy Data'!Y24 -> 6722.5979 | C68: ='Enthalpy Data'!Z24 -> 6722.2679 | D68: ='Enthalpy Data'!AA24 -> 6722.2913 | E68: ='Enthalpy Data'!AB24 -> 6722.3146 | F68: ='Enthalpy Data'!AC24 -> 6722.338 | G68: ='Enthalpy Data'!AD24 -> 6722.3614 | H68: ='Enthalpy Data'!AE24 -> 6722.4781 | ... N68: ='Enthalpy Data'!AK24 -> 6723.1786
A69: ='Enthalpy Data'!X25 -> 3050 | B69: ='Enthalpy Data'!Y25 -> 6859.5819 | C69: ='Enthalpy Data'!Z25 -> 6859.2461 | D69: ='Enthalpy Data'!AA25 -> 6859.2707 | E69: ='Enthalpy Data'!AB25 -> 6859.2952 | F69: ='Enthalpy Data'!AC25 -> 6859.3198 | G69: ='Enthalpy Data'!AD25 -> 6859.3444 | H69: ='Enthalpy Data'!AE25 -> 6859.4671 | ... N69: ='Enthalpy Data'!AK25 -> 6860.2036
A70: ='Enthalpy Data'!X26 -> 3100 | B70: ='Enthalpy Data'!Y26 -> 6996.736 | C70: ='Enthalpy Data'!Z26 -> 6996.3923 | D70: ='Enthalpy Data'!AA26 -> 6996.416 | E70: ='Enthalpy Data'!AB26 -> 6996.4397 | F70: ='Enthalpy Data'!AC26 -> 6996.4634 | G70: ='Enthalpy Data'!AD26 -> 6996.4871 | H70: ='Enthalpy Data'!AE26 -> 6996.6056 | ... N70: ='Enthalpy Data'!AK26 -> 6997.3166
A71: ='Enthalpy Data'!X27 -> 3150 | B71: ='Enthalpy Data'!Y27 -> 7134.3702 | C71: ='Enthalpy Data'!Z27 -> 7134.022 | D71: ='Enthalpy Data'!AA27 -> 7134.0481 | E71: ='Enthalpy Data'!AB27 -> 7134.0743 | F71: ='Enthalpy Data'!AC27 -> 7134.1004 | G71: ='Enthalpy Data'!AD27 -> 7134.1266 | H71: ='Enthalpy Data'!AE27 -> 7134.2573 | ... N71: ='Enthalpy Data'!AK27 -> 7135.0418
A72: ='Enthalpy Data'!X28 -> 3200 | B72: ='Enthalpy Data'!Y28 -> 7271.6143 | C72: ='Enthalpy Data'!Z28 -> 7271.2594 | D72: ='Enthalpy Data'!AA28 -> 7271.2859 | E72: ='Enthalpy Data'!AB28 -> 7271.3124 | F72: ='Enthalpy Data'!AC28 -> 7271.339 | G72: ='Enthalpy Data'!AD28 -> 7271.3656 | H72: ='Enthalpy Data'!AE28 -> 7271.4983 | ... N72: ='Enthalpy Data'!AK28 -> 7272.2948
A73: ='Enthalpy Data'!X29 -> 3250 | B73: ='Enthalpy Data'!Y29 -> 7409.4186 | C73: ='Enthalpy Data'!Z29 -> 7409.0595 | D73: ='Enthalpy Data'!AA29 -> 7409.0889 | E73: ='Enthalpy Data'!AB29 -> 7409.1183 | F73: ='Enthalpy Data'!AC29 -> 7409.1478 | G73: ='Enthalpy Data'!AD29 -> 7409.1772 | H73: ='Enthalpy Data'!AE29 -> 7409.3245 | ... N73: ='Enthalpy Data'!AK29 -> 7410.208
A74: ='Enthalpy Data'!X30 -> 3300 | B74: ='Enthalpy Data'!Y30 -> 7547.3929 | C74: ='Enthalpy Data'!Z30 -> 7547.0275 | D74: ='Enthalpy Data'!AA30 -> 7547.0578 | E74: ='Enthalpy Data'!AB30 -> 7547.0881 | F74: ='Enthalpy Data'!AC30 -> 7547.1184 | G74: ='Enthalpy Data'!AD30 -> 7547.1487 | H74: ='Enthalpy Data'!AE30 -> 7547.3002 | ... N74: ='Enthalpy Data'!AK30 -> 7548.2092
A75: ='Enthalpy Data'!X31 -> 3350 | B75: ='Enthalpy Data'!Y31 -> 7685.3671 | C75: ='Enthalpy Data'!Z31 -> 7684.9968 | D75: ='Enthalpy Data'!AA31 -> 7685.0292 | E75: ='Enthalpy Data'!AB31 -> 7685.0616 | F75: ='Enthalpy Data'!AC31 -> 7685.094 | G75: ='Enthalpy Data'!AD31 -> 7685.1264 | H75: ='Enthalpy Data'!AE31 -> 7685.2884 | ... N75: ='Enthalpy Data'!AK31 -> 7686.2604
... A78: ='Enthalpy Data'!X34 -> 3500 | B78: ='Enthalpy Data'!Y34 -> 8100.2102 | C78: ='Enthalpy Data'!Z34 -> 8099.8287 | D78: ='Enthalpy Data'!AA34 -> 8099.8711 | E78: ='Enthalpy Data'!AB34 -> 8099.9136 | F78: ='Enthalpy Data'!AC34 -> 8099.956 | G78: ='Enthalpy Data'!AD34 -> 8099.9985 | H78: ='Enthalpy Data'!AE34 -> 8100.2107 | ... N78: ='Enthalpy Data'!AK34 -> 8101.4842

Sheet EGR 10%
A4: RPM | B4: 1800 | D4: PV/RT=n | E4: =((10^5*(B6*B5)*10^-6))/(8314*293) -> 6.5681391e-06 | F4: EGR 10%
A5: Vol. Eff % | B5: 0.4
A6: Swept vol. | B6: 400
A7: Clearance Vol. | B7: 40
A8: Polytropic index (n) | B8: 1.17
A9: ϕ | B9: CO2 | C9: Actual enthalpy | D9: H2O | E9: Actual enthalpy | F9: O2 | G9: Actual enthalpy | H9: N2 | I9: Actual enthalpy | J9: Net Enthalpy | K9: Ideal flame temp. (K) | L9: Co2 (poly) | M9: H2O (poly) | N9: O2 (poly) | O9: N2 (poly) | P9: Enthalpy (poly) | Q9: Flame temp (poly) | R9: [O2] | S9: [N2] | T9: α | U9: Exhaust composition (kmol) | V9: Total Nox | W9: Nox PPM
A10: 1 | B10: =8*110% -> 8.8 | C10: 115.186 | D10: =9*110% -> 9.9 | E10: 93.21294 | F10: =0*110% -> 0 | G10: 74.39168 | H10: =((79/21)*12.5)*110% -> 51.72619 | I10: 70.28073 | J10: 5065 | K10: =FORECAST(5065,A55:A56,B55:B56) -> 2390.0286 | L10: =(((-8.5358E-16*(K10^5))+(8.92213971E-12*(K10^4))-(3.576722317485E-08*(K10^3))+(0.0000699095086815875*(K10^2))-(0.00826892770480903*(K10))-(0.895619545925062)))*0.9 -> 103.43833 | M10: =(((6.7E-19*(K10^6))-(7.89843E-15*(K10^5))+(3.687984988E-11*(K10^4))-(8.638622855912E-08*(K10^3))+(0.000110740178605573*(K10^2))-(0.031241611607915*(K10))+(3.30066945333761)))*0.9 -> 84.705889 | N10: =(((6.5E-19*(K10^6))-(7.82245E-15*(K10^5))+(0.0000000000371204177*(K10^4))-(8.798317617007E-08*(K10^3))+(0.000109823272345614*(K10^2))-(0.0326064446414848*(K10))+(3.57864890028521)))*0.9 -> 66.727003 | O10: =(((5.9E-19*(K10^6))-(7.10207E-15*(K10^5))+(3.346089681E-11*(K10^4))-(7.890960163412E-08*(K10^3))+(0.000098599769211504*(K10^2))-(0.028172899155961*(K10))+(3.05378907997741)))*0.9 -> 62.608166 | P10: =(L10*B10)+(M10*D10)+(N10*F10)+(O10*H10)*0.9 -> 4663.4793 | Q10: =FORECAST(P10,A$52:A$53,B52:B53) -> 2240.2465 | R10: =(F10*T10)/($B$7*10^-6) -> 0 | S10: =(H10*T10)/($B$7*10^-6) -> 0.14033519 | T10: =$E$4/(A10+12.5*(1+(79/21))) -> 1.0852157e-07 | U10: =(B10+D10+F10+H10)*T10 -> 7.6427611e-06 | V10: =D42 -> 0 | W10: =(V10/U10)*10^6 -> 0
A11: 0.99 | B11: =$B$10*A11 -> 8.712 | C11: =$C$10*A11 -> 114.03414 | D11: =$D$10*A11 -> 9.801 | E11: =$E$10*A11 -> 92.280811 | F11: =(12.5*(1-A11))*110% -> 0.1375 | G11: =$G$10*A11 -> 73.647763 | H11: =((79/21)*12.5)*110% -> 51.72619 | I11: =$I$10*A11 -> 69.577923 | J11: =$J$10*A11 -> 5014.35 | K11: =FORECAST(5014.35,A55:A56,C55:C56) -> 2371.2241 | L11: =(((-8.5358E-16*(K11^5))+(8.92213971E-12*(K11^4))-(3.576722317485E-08*(K11^3))+(0.0000699095086815875*(K11^2))-(0.00826892770480903*(K11))-(0.895619545925062)))*0.9 -> 102.40775 | M11: =(((6.7E-19*(K11^6))-(7.89843E-15*(K11^5))+(3.687984988E-11*(K11^4))-(8.638622855912E-08*(K11^3))+(0.000110740178605573*(K11^2))-(0.031241611607915*(K11))+(3.30066945333761)))*0.9 -> 83.749401 | N11: =(((6.5E-19*(K11^6))-(7.82245E-15*(K11^5))+(0.0000000000371204177*(K11^4))-(8.798317617007E-08*(K11^3))+(0.000109823272345614*(K11^2))-(0.0326064446414848*(K11))+(3.57864890028521)))*0.9 -> 66.05607 | O11: =(((5.9E-19*(K11^6))-(7.10207E-15*(K11^5))+(3.346089681E-11*(K11^4))-(7.890960163412E-08*(K11^3))+(0.000098599769211504*(K11^2))-(0.028172899155961*(K11))+(3.05378907997741)))*0.9 -> 62.006061 | P11: =(L11*B11)+(M11*D11)+(N11*F11)+(O11*H11)*0.9 -> 4608.6905 | Q11: =FORECAST(P11,A52:A53,B52:B53) -> 2219.6637 | R11: =(F11*T11)/($B$7*10^-6) -> 0.00037310456 | S11: =(H11*T11)/($B$7*10^-6) -> 0.14035838 | T11: =$E$4/(A11+12.5*(1+(79/21))) -> 1.0853951e-07 | U11: =(B11+D11+F11+H11)*T11 -> 7.6386514e-06 | V11: =F42 -> 3.1435443e-08 | W11: =(V11/U11)*10^6 -> 4115.3132
A12: 0.98 | B12: =$B$10*A12 -> 8.624 | C12: =$C$10*A12 -> 112.88228 | D12: =$D$10*A12 -> 9.702 | E12: =$E$10*A12 -> 91.348681 | F12: =(12.5*(1-A12))*110% -> 0.275 | G12: =$G$10*A12 -> 72.903846 | H12: =((79/21)*12.5)*110% -> 51.72619 | I12: =$I$10*A12 -> 68.875115 | J12: =$J$10*A12 -> 4963.7 | K12: =FORECAST(4963.7,A55:A56,D55:D56) -> 2352.3187 | L12: =(((-8.5358E-16*(K12^5))+(8.92213971E-12*(K12^4))-(3.576722317485E-08*(K12^3))+(0.0000699095086815875*(K12^2))-(0.00826892770480903*(K12))-(0.895619545925062)))*0.9 -> 101.37336 | M12: =(((6.7E-19*(K12^6))-(7.89843E-15*(K12^5))+(3.687984988E-11*(K12^4))-(8.638622855912E-08*(K12^3))+(0.000110740178605573*(K12^2))-(0.031241611607915*(K12))+(3.30066945333761)))*0.9 -> 82.79103 | N12: =(((6.5E-19*(K12^6))-(7.82245E-15*(K12^5))+(0.0000000000371204177*(K12^4))-(8.798317617007E-08*(K12^3))+(0.000109823272345614*(K12^2))-(0.0326064446414848*(K12))+(3.57864890028521)))*0.9 -> 65.382529 | O12: =(((5.9E-19*(K12^6))-(7.10207E-15*(K12^5))+(3.346089681E-11*(K12^4))-(7.890960163412E-08*(K12^3))+(0.000098599769211504*(K12^2))-(0.028172899155961*(K12))+(3.05378907997741)))*0.9 -> 61.400086 | P12: =(L12*B12)+(M12*D12)+(N12*F12)+(O12*H12)*0.9 -> 4553.8559 | Q12: =FORECAST(P12,A51:A52,D51:D52) -> 2199.1111 | R12: =(F12*T12)/($B$7*10^-6) -> 0.00074633245 | S12: =(H12*T12)/($B$7*10^-6) -> 0.14038158 | T12: =$E$4/(A12+12.5*(1+(79/21))) -> 1.0855745e-07 | U12: =(B12+D12+F12+H12)*T12 -> 7.6345403e-06 | V12: =H42 -> 3.4984275e-08 | W12: =(V12/U12)*10^6 -> 4582.3683
A13: 0.97 | B13: =$B$10*A13 -> 8.536 | C13: =$C$10*A13 -> 111.73042 | D13: =$D$10*A13 -> 9.603 | E13: =$E$10*A13 -> 90.416552 | F13: =(12.5*(1-A13))*110% -> 0.4125 | G13: =$G$10*A13 -> 72.15993 | H13: =((79/21)*12.5)*110% -> 51.72619 | I13: =$I$10*A13 -> 68.172308 | J13: =$J$10*A13 -> 4913.05 | K13: =FORECAST(4913.05,A54:A55,E54:E55) -> 2333.4573 | L13: =(((-8.5358E-16*(K13^5))+(8.92213971E-12*(K13^4))-(3.576722317485E-08*(K13^3))+(0.0000699095086815875*(K13^2))-(0.00826892770480903*(K13))-(0.895619545925062)))*0.9 -> 100.34305 | M13: =(((6.7E-19*(K13^6))-(7.89843E-15*(K13^5))+(3.687984988E-11*(K13^4))-(8.638622855912E-08*(K13^3))+(0.000110740178605573*(K13^2))-(0.031241611607915*(K13))+(3.30066945333761)))*0.9 -> 81.838202 | N13: =(((6.5E-19*(K13^6))-(7.82245E-15*(K13^5))+(0.0000000000371204177*(K13^4))-(8.798317617007E-08*(K13^3))+(0.000109823272345614*(K13^2))-(0.0326064446414848*(K13))+(3.57864890028521)))*0.9 -> 64.711629 | O13: =(((5.9E-19*(K13^6))-(7.10207E-15*(K13^5))+(3.346089681E-11*(K13^4))-(7.890960163412E-08*(K13^3))+(0.000098599769211504*(K13^2))-(0.028172899155961*(K13))+(3.05378907997741)))*0.9 -> 60.795005 | P13: =(L13*B13)+(M13*D13)+(N13*F13)+(O13*H13)*0.9 -> 4499.3387 | Q13: =FORECAST(P13,A51:A52,E51:E52) -> 2178.6758 | R13: =(F13*T13)/($B$7*10^-6) -> 0.0011196837 | S13: =(H13*T13)/($B$7*10^-6) -> 0.14040479 | T13: =$E$4/(A13+12.5*(1+(79/21))) -> 1.0857539e-07 | U13: =(B13+D13+F13+H13)*T13 -> 7.6304278e-06 | V13: =J42 -> 3.361437e-08 | W13: =(V13/U13)*10^6 -> 4405.3061
A14: 0.96 | B14: =$B$10*A14 -> 8.448 | C14: =$C$10*A14 -> 110.57856 | D14: =$D$10*A14 -> 9.504 | E14: =$E$10*A14 -> 89.484422 | F14: =(12.5*(1-A14))*110% -> 0.55 | G14: =$G$10*A14 -> 71.416013 | H14: =((79/21)*12.5)*110% -> 51.72619 | I14: =$I$10*A14 -> 67.469501 | J14: =$J$10*A14 -> 4862.4 | K14: =FORECAST(4862.4,A54:A55,F54:F55) -> 2314.6006 | L14: =(((-8.5358E-16*(K14^5))+(8.92213971E-12*(K14^4))-(3.576722317485E-08*(K14^3))+(0.0000699095086815875*(K14^2))-(0.00826892770480903*(K14))-(0.895619545925062)))*0.9 -> 99.314642 | M14: =(((6.7E-19*(K14^6))-(7.89843E-15*(K14^5))+(3.687984988E-11*(K14^4))-(8.638622855912E-08*(K14^3))+(0.000110740178605573*(K14^2))-(0.031241611607915*(K14))+(3.30066945333761)))*0.9 -> 80.888997 | N14: =(((6.5E-19*(K14^6))-(7.82245E-15*(K14^5))+(0.0000000000371204177*(K14^4))-(8.798317617007E-08*(K14^3))+(0.000109823272345614*(K14^2))-(0.0326064446414848*(K14))+(3.57864890028521)))*0.9 -> 64.042055 | O14: =(((5.9E-19*(K14^6))-(7.10207E-15*(K14^5))+(3.346089681E-11*(K14^4))-(7.890960163412E-08*(K14^3))+(0.000098599769211504*(K14^2))-(0.028172899155961*(K14))+(3.05378907997741)))*0.9 -> 60.189687 | P14: =(L14*B14)+(M14*D14)+(N14*F14)+(O14*H14)*0.9 -> 4445.0472 | Q14: =FORECAST(P14,A51:A52,F51:F52) -> 2158.3235 | R14: =(F14*T14)/($B$7*10^-6) -> 0.0014931585 | S14: =(H14*T14)/($B$7*10^-6) -> 0.140428 | T14: =$E$4/(A14+12.5*(1+(79/21))) -> 1.0859334e-07 | U14: =(B14+D14+F14+H14)*T14 -> 7.626314e-06 | V14: =L42 -> 3.0343502e-08 | W14: =(V14/U14)*10^6 -> 3978.79
A15: 0.95 | B15: =$B$10*A15 -> 8.36 | C15: =$C$10*A15 -> 109.4267 | D15: =$D$10*A15 -> 9.405 | E15: =$E$10*A15 -> 88.552293 | F15: =(12.5*(1-A15))*110% -> 0.6875 | G15: =$G$10*A15 -> 70.672096 | H15: =((79/21)*12.5)*110% -> 51.72619 | I15: =$I$10*A15 -> 66.766694 | J15: =$J$10*A15 -> 4811.75 | K15: =FORECAST(4811.75,A53:A54,G53:G54) -> 2295.7197 | L15: =(((-8.5358E-16*(K15^5))+(8.92213971E-12*(K15^4))-(3.576722317485E-08*(K15^3))+(0.0000699095086815875*(K15^2))-(0.00826892770480903*(K15))-(0.895619545925062)))*0.9 -> 98.28651 | M15: =(((6.7E-19*(K15^6))-(7.89843E-15*(K15^5))+(3.687984988E-11*(K15^4))-(8.638622855912E-08*(K15^3))+(0.000110740178605573*(K15^2))-(0.031241611607915*(K15))+(3.30066945333761)))*0.9 -> 79.942032 | N15: =(((6.5E-19*(K15^6))-(7.82245E-15*(K15^5))+(0.0000000000371204177*(K15^4))-(8.798317617007E-08*(K15^3))+(0.000109823272345614*(K15^2))-(0.0326064446414848*(K15))+(3.57864890028521)))*0.9 -> 63.372861 | O15: =(((5.9E-19*(K15^6))-(7.10207E-15*(K15^5))+(3.346089681E-11*(K15^4))-(7.890960163412E-08*(K15^3))+(0.000098599769211504*(K15^2))-(0.028172899155961*(K15))+(3.05378907997741)))*0.9 -> 59.583322 | P15: =(L15*B15)+(M15*D15)+(N15*F15)+(O15*H15)*0.9 -> 4390.9153 | Q15: =FORECAST(P15,A$50:A$51,F50:F51) -> 2137.9808 | R15: =(F15*T15)/($B$7*10^-6) -> 0.0018667567 | S15: =(H15*T15)/($B$7*10^-6) -> 0.14045122 | T15: =$E$4/(A15+12.5*(1+(79/21))) -> 1.086113e-07 | U15: =(B15+D15+F15+H15)*T15 -> 7.6221988e-06 | V15: =N42 -> 2.6401559e-08 | W15: =(V15/U15)*10^6 -> 3463.7719
A16: 0.9 | B16: =$B$10*A16 -> 7.92 | C16: =$C$10*A16 -> 103.6674 | D16: =$D$10*A16 -> 8.91 | E16: =$E$10*A16 -> 83.891646 | F16: =(12.5*(1-A16))*110% -> 1.375 | G16: =$G$10*A16 -> 66.952512 | H16: =((79/21)*12.5)*110% -> 51.72619 | I16: =$I$10*A16 -> 63.252657 | J16: =$J$10*A16 -> 4558.5 | K16: =FORECAST(4558.5,A52:A53,H52:H53) -> 2200.6683 | L16: =(((-8.5358E-16*(K16^5))+(8.92213971E-12*(K16^4))-(3.576722317485E-08*(K16^3))+(0.0000699095086815875*(K16^2))-(0.00826892770480903*(K16))-(0.895619545925062)))*0.9 -> 93.133431 | M16: =(((6.7E-19*(K16^6))-(7.89843E-15*(K16^5))+(3.687984988E-11*(K16^4))-(8.638622855912E-08*(K16^3))+(0.000110740178605573*(K16^2))-(0.031241611607915*(K16))+(3.30066945333761)))*0.9 -> 75.229738 | N16: =(((6.5E-19*(K16^6))-(7.82245E-15*(K16^5))+(0.0000000000371204177*(K16^4))-(8.798317617007E-08*(K16^3))+(0.000109823272345614*(K16^2))-(0.0326064446414848*(K16))+(3.57864890028521)))*0.9 -> 60.025458 | O16: =(((5.9E-19*(K16^6))-(7.10207E-15*(K16^5))+(3.346089681E-11*(K16^4))-(7.890960163412E-08*(K16^3))+(0.000098599769211504*(K16^2))-(0.028172899155961*(K16))+(3.05378907997741)))*0.9 -> 56.530672 | P16: =(L16*B16)+(M16*D16)+(N16*F16)+(O16*H16)*0.9 -> 4122.1534 | Q16: =FORECAST(P16,A$48:A$49,G48:G49) -> 2036.3715 | R16: =(F16*T16)/($B$7*10^-6) -> 0.0037366029 | S16: =(H16*T16)/($B$7*10^-6) -> 0.14056744 | T16: =$E$4/(A16+12.5*(1+(79/21))) -> 1.0870118e-07 | U16: =(B16+D16+F16+H16)*T16 -> 7.6016026e-06 | V16: =P42 -> 9.9087386e-09 | W16: =(V16/U16)*10^6 -> 1303.5065
A17: 0.85 | B17: =$B$10*A17 -> 7.48 | C17: =$C$10*A17 -> 97.9081 | D17: =$D$10*A17 -> 8.415 | E17: =$E$10*A17 -> 79.230999 | F17: =(12.5*(1-A17))*110% -> 2.0625 | G17: =$G$10*A17 -> 63.232928 | H17: =((79/21)*12.5)*110% -> 51.72619 | I17: =$I$10*A17 -> 59.738621 | J17: =$J$10*A17 -> 4305.25 | K17: =FORECAST(4305.25,A50:A51,I50:I51) -> 2105.4087 | L17: =(((-8.5358E-16*(K17^5))+(8.92213971E-12*(K17^4))-(3.576722317485E-08*(K17^3))+(0.0000699095086815875*(K17^2))-(0.00826892770480903*(K17))-(0.895619545925062)))*0.9 -> 88.002574 | M17: =(((6.7E-19*(K17^6))-(7.89843E-15*(K17^5))+(3.687984988E-11*(K17^4))-(8.638622855912E-08*(K17^3))+(0.000110740178605573*(K17^2))-(0.031241611607915*(K17))+(3.30066945333761)))*0.9 -> 70.604519 | N17: =(((6.5E-19*(K17^6))-(7.82245E-15*(K17^5))+(0.0000000000371204177*(K17^4))-(8.798317617007E-08*(K17^3))+(0.000109823272345614*(K17^2))-(0.0326064446414848*(K17))+(3.57864890028521)))*0.9 -> 56.712458 | O17: =(((5.9E-19*(K17^6))-(7.10207E-15*(K17^5))+(3.346089681E-11*(K17^4))-(7.890960163412E-08*(K17^3))+(0.000098599769211504*(K17^2))-(0.028172899155961*(K17))+(3.05378907997741)))*0.9 -> 53.480601 | P17: =(L17*B17)+(M17*D17)+(N17*F17)+(O17*H17)*0.9 -> 3859.0787 | Q17: =FORECAST(P17,A$47:A$48,H47:H48) -> 1936.3895 | R17: =(F17*T17)/($B$7*10^-6) -> 0.0056095462 | S17: =(H17*T17)/($B$7*10^-6) -> 0.14068386 | T17: =$E$4/(A17+12.5*(1+(79/21))) -> 1.087912e-07 | U17: =(B17+D17+F17+H17)*T17 -> 7.5809722e-06 | V17: =R42 -> 2.8759166e-09 | W17: =(V17/U17)*10^6 -> 379.35987
A18: 0.8 | B18: =$B$10*A18 -> 7.04 | C18: =$C$10*A18 -> 92.1488 | D18: =$D$10*A18 -> 7.92 | E18: =$E$10*A18 -> 74.570352 | F18: =(12.5*(1-A18))*110% -> 2.75 | G18: =$G$10*A18 -> 59.513344 | H18: =((79/21)*12.5)*110% -> 51.72619 | I18: =$I$10*A18 -> 56.224584 | J18: =$J$10*A18 -> 4052 | K18: =FORECAST(4052,A48:A49,J48:J49) -> 2009.3137 | L18: =(((-8.5358E-16*(K18^5))+(8.92213971E-12*(K18^4))-(3.576722317485E-08*(K18^3))+(0.0000699095086815875*(K18^2))-(0.00826892770480903*(K18))-(0.895619545925062)))*0.9 -> 82.853675 | M18: =(((6.7E-19*(K18^6))-(7.89843E-15*(K18^5))+(3.687984988E-11*(K18^4))-(8.638622855912E-08*(K18^3))+(0.000110740178605573*(K18^2))-(0.031241611607915*(K18))+(3.30066945333761)))*0.9 -> 66.042981 | N18: =(((6.5E-19*(K18^6))-(7.82245E-15*(K18^5))+(0.0000000000371204177*(K18^4))-(8.798317617007E-08*(K18^3))+(0.000109823272345614*(K18^2))-(0.0326064446414848*(K18))+(3.57864890028521)))*0.9 -> 53.418184 | O18: =(((5.9E-19*(K18^6))-(7.10207E-15*(K18^5))+(3.346089681E-11*(K18^4))-(7.890960163412E-08*(K18^3))+(0.000098599769211504*(K18^2))-(0.028172899155961*(K18))+(3.05378907997741)))*0.9 -> 50.423494 | P18: =(L18*B18)+(M18*D18)+(N18*F18)+(O18*H18)*0.9 -> 3600.644 | Q18: =FORECAST(P18,P62:P63,Y62:Y63) -> 1837.0653 | R18: =(F18*T18)/($B$7*10^-6) -> 0.0074855943 | S18: =(H18*T18)/($B$7*10^-6) -> 0.14080046 | T18: =$E$4/(A18+12.5*(1+(79/21))) -> 1.0888137e-07 | U18: =(B18+D18+F18+H18)*T18 -> 7.5603076e-06 | V18: =T42 -> 6.813633e-10 | W18: =(V18/U18)*10^6 -> 90.123753
A19: 0.75 | B19: =$B$10*A19 -> 6.6 | C19: =$C$10*A19 -> 86.3895 | D19: =$D$10*A19 -> 7.425 | E19: =$E$10*A19 -> 69.909705 | F19: =(12.5*(1-A19))*110% -> 3.4375 | G19: =$G$10*A19 -> 55.79376 | H19: =((79/21)*12.5)*110% -> 51.72619 | I19: =$I$10*A19 -> 52.710548 | J19: =$J$10*A19 -> 3798.75 | K19: =FORECAST(3798.75,A46:A47,K46:K47) -> 1912.7508 | L19: =(((-8.5358E-16*(K19^5))+(8.92213971E-12*(K19^4))-(3.576722317485E-08*(K19^3))+(0.0000699095086815875*(K19^2))-(0.00826892770480903*(K19))-(0.895619545925062)))*0.9 -> 77.699715 | M19: =(((6.7E-19*(K19^6))-(7.89843E-15*(K19^5))+(3.687984988E-11*(K19^4))-(8.638622855912E-08*(K19^3))+(0.000110740178605573*(K19^2))-(0.031241611607915*(K19))+(3.30066945333761)))*0.9 -> 61.567129 | N19: =(((6.5E-19*(K19^6))-(7.82245E-15*(K19^5))+(0.0000000000371204177*(K19^4))-(8.798317617007E-08*(K19^3))+(0.000109823272345614*(K19^2))-(0.0326064446414848*(K19))+(3.57864890028521)))*0.9 -> 50.158102 | O19: =(((5.9E-19*(K19^6))-(7.10207E-15*(K19^5))+(3.346089681E-11*(K19^4))-(7.890960163412E-08*(K19^3))+(0.000098599769211504*(K19^2))-(0.028172899155961*(K19))+(3.05378907997741)))*0.9 -> 47.378162 | P19: =(L19*B19)+(M19*D19)+(N19*F19)+(O19*H19)*0.9 -> 3347.9952 | Q19: =FORECAST(P19,P60:P61,Z60:Z61) -> 1739.4868 | R19: =(F19*T19)/($B$7*10^-6) -> 0.0093647549 | S19: =(H19*T19)/($B$7*10^-6) -> 0.14091726 | T19: =$E$4/(A19+12.5*(1+(79/21))) -> 1.0897169e-07 | U19: =(B19+D19+F19+H19)*T19 -> 7.5396088e-06 | V19: =V42 -> 1.3500335e-10 | W19: =(V19/U19)*10^6 -> 17.905883
A20: 0.7 | B20: =$B$10*A20 -> 6.16 | C20: =$C$10*A20 -> 80.6302 | D20: =$D$10*A20 -> 6.93 | E20: =$E$10*A20 -> 65.249058 | F20: =(12.5*(1-A20))*110% -> 4.125 | G20: =$G$10*A20 -> 52.074176 | H20: =((79/21)*12.5)*110% -> 51.72619 | I20: =$I$10*A20 -> 49.196511 | J20: =$J$10*A20 -> 3545.5 | K20: =FORECAST(3545.5,P62:P63,AA62:AA63) -> 1815.4578 | L20: =(((-8.5358E-16*(K20^5))+(8.92213971E-12*(K20^4))-(3.576722317485E-08*(K20^3))+(0.0000699095086815875*(K20^2))-(0.00826892770480903*(K20))-(0.895619545925062)))*0.9 -> 72.52031 | M20: =(((6.7E-19*(K20^6))-(7.89843E-15*(K20^5))+(3.687984988E-11*(K20^4))-(8.638622855912E-08*(K20^3))+(0.000110740178605573*(K20^2))-(0.031241611607915*(K20))+(3.30066945333761)))*0.9 -> 57.165759 | N20: =(((6.5E-19*(K20^6))-(7.82245E-15*(K20^5))+(0.0000000000371204177*(K20^4))-(8.798317617007E-08*(K20^3))+(0.000109823272345614*(K20^2))-(0.0326064446414848*(K20))+(3.57864890028521)))*0.9 -> 46.922289 | O20: =(((5.9E-19*(K20^6))-(7.10207E-15*(K20^5))+(3.346089681E-11*(K20^4))-(7.890960163412E-08*(K20^3))+(0.000098599769211504*(K20^2))-(0.028172899155961*(K20))+(3.05378907997741)))*0.9 -> 44.339639 | P20: =(L20*B20)+(M20*D20)+(N20*F20)+(O20*H20)*0.9 -> 3100.6068 | Q20: =FORECAST(P20,P58:P59,AA58:AA59) -> 1642.9732 | R20: =(F20*T20)/($B$7*10^-6) -> 0.011247036 | S20: =(H20*T20)/($B$7*10^-6) -> 0.14103426 | T20: =$E$4/(A20+12.5*(1+(79/21))) -> 1.0906217e-07 | U20: =(B20+D20+F20+H20)*T20 -> 7.5188756e-06 | V20: =X42 -> 2.1863008e-11 | W20: =(V20/U20)*10^6 -> 2.9077496
A21: 0.65 | B21: =$B$10*A21 -> 5.72 | C21: =$C$10*A21 -> 74.8709 | D21: =$D$10*A21 -> 6.435 | E21: =$E$10*A21 -> 60.588411 | F21: =(12.5*(1-A21))*110% -> 4.8125 | G21: =$G$10*A21 -> 48.354592 | H21: =((79/21)*12.5)*110% -> 51.72619 | I21: =$I$10*A21 -> 45.682475 | J21: =$J$10*A21 -> 3292.25 | K21: =FORECAST(3292.25,P60:P61,AB60:AB61) -> 1717.432 | L21: =(((-8.5358E-16*(K21^5))+(8.92213971E-12*(K21^4))-(3.576722317485E-08*(K21^3))+(0.0000699095086815875*(K21^2))-(0.00826892770480903*(K21))-(0.895619545925062)))*0.9 -> 67.310201 | M21: =(((6.7E-19*(K21^6))-(7.89843E-15*(K21^5))+(3.687984988E-11*(K21^4))-(8.638622855912E-08*(K21^3))+(0.000110740178605573*(K21^2))-(0.031241611607915*(K21))+(3.30066945333761)))*0.9 -> 52.836491 | N21: =(((6.5E-19*(K21^6))-(7.82245E-15*(K21^5))+(0.0000000000371204177*(K21^4))-(8.798317617007E-08*(K21^3))+(0.000109823272345614*(K21^2))-(0.0326064446414848*(K21))+(3.57864890028521)))*0.9 -> 43.705831 | O21: =(((5.9E-19*(K21^6))-(7.10207E-15*(K21^5))+(3.346089681E-11*(K21^4))-(7.890960163412E-08*(K21^3))+(0.000098599769211504*(K21^2))-(0.028172899155961*(K21))+(3.05378907997741)))*0.9 -> 41.307379 | P21: =(L21*B21)+(M21*D21)+(N21*F21)+(O21*H21)*0.9 -> 2858.3575 | Q21: =FORECAST(P21,P56:P57,AB56:AB57) -> 1547.6527 | R21: =(F21*T21)/($B$7*10^-6) -> 0.013132445 | S21: =(H21*T21)/($B$7*10^-6) -> 0.14115145 | T21: =$E$4/(A21+12.5*(1+(79/21))) -> 1.0915279e-07 | U21: =(B21+D21+F21+H21)*T21 -> 7.4981079e-06 | V21: =Z42 -> 2.8350911e-12 | W21: =(V21/U21)*10^6 -> 0.37810753
A22: 0.6 | B22: =$B$10*A22 -> 5.28 | C22: =$C$10*A22 -> 69.1116 | D22: =$D$10*A22 -> 5.94 | E22: =$E$10*A22 -> 55.927764 | F22: =(12.5*(1-A22))*110% -> 5.5 | G22: =$G$10*A22 -> 44.635008 | H22: =((79/21)*12.5)*110% -> 51.72619 | I22: =$I$10*A22 -> 42.168438 | J22: =$J$10*A22 -> 3039 | K22: =FORECAST(3039,P58:P59,AC58:AC59) -> 1618.3786 | L22: =(((-8.5358E-16*(K22^5))+(8.92213971E-12*(K22^4))-(3.576722317485E-08*(K22^3))+(0.0000699095086815875*(K22^2))-(0.00826892770480903*(K22))-(0.895619545925062)))*0.9 -> 62.050757 | M22: =(((6.7E-19*(K22^6))-(7.89843E-15*(K22^5))+(3.687984988E-11*(K22^4))-(8.638622855912E-08*(K22^3))+(0.000110740178605573*(K22^2))-(0.031241611607915*(K22))+(3.30066945333761)))*0.9 -> 48.560963 | N22: =(((6.5E-19*(K22^6))-(7.82245E-15*(K22^5))+(0.0000000000371204177*(K22^4))-(8.798317617007E-08*(K22^3))+(0.000109823272345614*(K22^2))-(0.0326064446414848*(K22))+(3.57864890028521)))*0.9 -> 40.490675 | O22: =(((5.9E-19*(K22^6))-(7.10207E-15*(K22^5))+(3.346089681E-11*(K22^4))-(7.890960163412E-08*(K22^3))+(0.000098599769211504*(K22^2))-(0.028172899155961*(K22))+(3.05378907997741)))*0.9 -> 38.268231 | P22: =(L22*B22)+(M22*D22)+(N22*F22)+(O22*H22)*0.9 -> 2620.3016 | Q22: =FORECAST(P22,P55:P56,AC55:AC56) -> 1453.0175 | R22: =(F22*T22)/($B$7*10^-6) -> 0.01502099 | S22: =(H22*T22)/($B$7*10^-6) -> 0.14126883 | T22: =$E$4/(A22+12.5*(1+(79/21))) -> 1.0924356e-07 | U22: =(B22+D22+F22+H22)*T22 -> 7.4773056e-06 | V22: =AB42 -> 2.813135e-13 | W22: =(V22/U22)*10^6 -> 0.037622308 | X22: =((V23-'EGR 15%'!V23)/'EGR 10%'!V23)*100 -> 60.625312
V23: =AVERAGE(V10:V22) -> 1.3108088e-08
B24: ϕ | C24: 1 | E24: 0.99 | G24: 0.98 | I24: 0.97 | K24: 0.96 | M24: 0.95 | O24: 0.9 | Q24: 0.85 | S24: 0.8 | U24: 0.75 | W24: 0.7 | Y24: 0.65 | AA24: 0.6
A25: φ | B25: Cylinder Pressure (BAR) | C25: Flame temp | D25: Nox (kmol/°) | E25: Flame temp | F25: Nox (kmol/°) | G25: Flame temp | H25: Nox (kmol/°) | I25: Flame temp | J25: Nox (kmol/°) | K25: Flame temp | L25: Nox (kmol/°) | M25: Flame temp | N25: Nox (kmol/°) | O25: Flame temp | P25: Nox (kmol/°) | Q25: Flame temp | R25: Nox (kmol/°) | S25: Flame temp | T25: Nox (kmol/°) | U25: Flame temp | V25: Nox (kmol/°) | W25: Flame temp | X25: Nox (kmol/°) | Y25: Flame temp | Z25: Nox (kmol/°) | AA25: Flame temp | AB25: Nox (kmol/°)
A26: 0 | B26: 10 | C26: =Q10 -> 2240.2465 | D26: =((4.7*10^13*($S$10*$R$10)^0.5)*EXP(-67837/C26)/($B$4*6))*$B$7*10^-6 -> 0 | E26: =Q11 -> 2219.6637 | F26: =((4.7*10^13*$S$11*$R$11^0.5*EXP(-67837/E26)/($B$4*6))*$B$7*10^-6) -> 2.5179689e-11 | G26: =Q12 -> 2199.1111 | H26: =((4.7*10^13*$S$12*$R$12^0.5*EXP(-67837/G26)/($B$4*6))*$B$7*10^-6) -> 2.6768691e-11 | I26: =Q13 -> 2178.6758 | J26: =((4.7*10^13*$S$13*$R$13^0.5*EXP(-67837/I26)/($B$4*6))*$B$7*10^-6) -> 2.455399e-11 | K26: =Q14 -> 2158.3235 | L26: =((4.7*10^13*$S$14*$R$14^0.5*EXP(-67837/K26)/($B$4*6))*$B$7*10^-6) -> 2.1143917e-11 | M26: =Q15 -> 2137.9808 | N26: =((4.7*10^13*$S$15*$R$15^0.5*EXP(-67837/M26)/($B$4*6))*$B$7*10^-6) -> 1.7533517e-11 | O26: =Q16 -> 2036.3715 | P26: =((4.7*10^13*$S$16*$R$16^0.5*EXP(-67837/O26)/($B$4*6))*$B$7*10^-6) -> 5.097331e-12 | Q26: =Q17 -> 1936.3895 | R26: =((4.7*10^13*$S$17*$R$17^0.5*EXP(-67837/Q26)/($B$4*6))*$B$7*10^-6) -> 1.1192411e-12 | S26: =Q18 -> 1837.0653 | T26: =((4.7*10^13*$S$18*$R$18^0.5*EXP(-67837/S26)/($B$4*6))*$B$7*10^-6) -> 1.9468488e-13 | U26: =Q19 -> 1739.4868 | V26: =((4.7*10^13*$S$19*$R$19^0.5*EXP(-67837/U26)/($B$4*6))*$B$7*10^-6) -> 2.7460407e-14 | W26: =Q20 -> 1642.9732 | X26: =((4.7*10^13*$S$20*$R$20^0.5*EXP(-67837/W26)/($B$4*6))*$B$7*10^-6) -> 3.0473243e-15 | Y26: =Q21 -> 1547.6527 | Z26: =((4.7*10^13*$S$21*$R$21^0.5*EXP(-67837/Y26)/($B$4*6))*$B$7*10^-6) -> 2.5912903e-16 | AA26: =Q22 -> 1453.0175 | AB26: =((4.7*10^13*$S$22*$R$22^0.5*EXP(-67837/AA26)/($B$4*6))*$B$7*10^-6) -> 1.5967299e-17
A27: 1 | B27: 12 | C27: =(((B26*10^5)^(1-$B$8))*((B27*10^5)^($B$8-1))*(C26^$B$8))^(1/$B$8) -> 2300.3864 | D27: =((4.7*10^13*($S$10*$R$10)^0.5)*EXP(-67837/C27)/($B$4*6))*$B$7*10^-6 -> 0 | E27: =(((B26*10^5)^(1-$B$8))*((B27*10^5)^($B$8-1))*(E26^$B$8))^(1/$B$8) -> 2279.2509 | F27: =((4.7*10^13*$S$11*$R$11^0.5*EXP(-67837/E27)/($B$4*6))*$B$7*10^-6) -> 5.5981798e-11 | G27: =(((B26*10^5)^(1-$B$8))*((B27*10^5)^($B$8-1))*(G26^$B$8))^(1/$B$8) -> 2258.1466 | H27: =((4.7*10^13*$S$12*$R$12^0.5*EXP(-67837/G27)/($B$4*6))*$B$7*10^-6) -> 5.9960686e-11 | I27: =(((B26*10^5)^(1-$B$8))*((B27*10^5)^($B$8-1))*(I26^$B$8))^(1/$B$8) -> 2237.1628 | J27: =((4.7*10^13*$S$13*$R$13^0.5*EXP(-67837/I27)/($B$4*6))*$B$7*10^-6) -> 5.5417467e-11 | K27: =(((B26*10^5)^(1-$B$8))*((B27*10^5)^($B$8-1))*(K26^$B$8))^(1/$B$8) -> 2216.264 | L27: =((4.7*10^13*$S$14*$R$14^0.5*EXP(-67837/K27)/($B$4*6))*$B$7*10^-6) -> 4.808877e-11 | M27: =(((B26*10^5)^(1-$B$8))*((B27*10^5)^($B$8-1))*(M26^$B$8))^(1/$B$8) -> 2195.3752 | N27: =((4.7*10^13*$S$15*$R$15^0.5*EXP(-67837/M27)/($B$4*6))*$B$7*10^-6) -> 4.0190437e-11 | O27: =(((B26*10^5)^(1-$B$8))*((B27*10^5)^($B$8-1))*(O26^$B$8))^(1/$B$8) -> 2091.0383 | P27: =((4.7*10^13*$S$16*$R$16^0.5*EXP(-67837/O27)/($B$4*6))*$B$7*10^-6) -> 1.2177894e-11 | Q27: =(((B26*10^5)^(1-$B$8))*((B27*10^5)^($B$8-1))*(Q26^$B$8))^(1/$B$8) -> 1988.3723 | R27: =((4.7*10^13*$S$17*$R$17^0.5*EXP(-67837/Q27)/($B$4*6))*$B$7*10^-6) -> 2.7969337e-12 | S27: =(((B26*10^5)^(1-$B$8))*((B27*10^5)^($B$8-1))*(S26^$B$8))^(1/$B$8) -> 1886.3816 | T27: =((4.7*10^13*$S$18*$R$18^0.5*EXP(-67837/S27)/($B$4*6))*$B$7*10^-6) -> 5.1120642e-13 | U27: =(((B26*10^5)^(1-$B$8))*((B27*10^5)^($B$8-1))*(U26^$B$8))^(1/$B$8) -> 1786.1836 | V27: =((4.7*10^13*$S$19*$R$19^0.5*EXP(-67837/U27)/($B$4*6))*$B$7*10^-6) -> 7.6118486e-14 | W27: =(((B26*10^5)^(1-$B$8))*((B27*10^5)^($B$8-1))*(W26^$B$8))^(1/$B$8) -> 1687.0791 | X27: =((4.7*10^13*$S$20*$R$20^0.5*EXP(-67837/W27)/($B$4*6))*$B$7*10^-6) -> 8.9683464e-15 | Y27: =(((B26*10^5)^(1-$B$8))*((B27*10^5)^($B$8-1))*(Y26^$B$8))^(1/$B$8) -> 1589.1997 | Z27: =((4.7*10^13*$S$21*$R$21^0.5*EXP(-67837/Y27)/($B$4*6))*$B$7*10^-6) -> 8.1504754e-16 | AA27: =(((B26*10^5)^(1-$B$8))*((B27*10^5)^($B$8-1))*(AA26^$B$8))^(1/$B$8) -> 1492.024 | AB27: =((4.7*10^13*$S$22*$R$22^0.5*EXP(-67837/AA27)/($B$4*6))*$B$7*10^-6) -> 5.4114224e-17
A28: 2 | B28: 14 | C28: =(((B27*10^5)^(1-$B$8))*((B28*10^5)^($B$8-1))*(C27^$B$8))^(1/$B$8) -> 2352.4917 | D28: =((4.7*10^13*($S$10*$R$10)^0.5)*EXP(-67837/C28)/($B$4*6))*$B$7*10^-6 -> 0 | E28: =(((B27*10^5)^(1-$B$8))*((B28*10^5)^($B$8-1))*(E27^$B$8))^(1/$B$8) -> 2330.8775 | F28: =((4.7*10^13*$S$11*$R$11^0.5*EXP(-67837/E28)/($B$4*6))*$B$7*10^-6) -> 1.0822838e-10 | G28: =(((B27*10^5)^(1-$B$8))*((B28*10^5)^($B$8-1))*(G27^$B$8))^(1/$B$8) -> 2309.2952 | H28: =((4.7*10^13*$S$12*$R$12^0.5*EXP(-67837/G28)/($B$4*6))*$B$7*10^-6) -> 1.1663706e-10 | I28: =(((B27*10^5)^(1-$B$8))*((B28*10^5)^($B$8-1))*(I27^$B$8))^(1/$B$8) -> 2287.836 | J28: =((4.7*10^13*$S$13*$R$13^0.5*EXP(-67837/I28)/($B$4*6))*$B$7*10^-6) -> 1.0847436e-10 | K28: =(((B27*10^5)^(1-$B$8))*((B28*10^5)^($B$8-1))*(K27^$B$8))^(1/$B$8) -> 2266.4639 | L28: =((4.7*10^13*$S$14*$R$14^0.5*EXP(-67837/K28)/($B$4*6))*$B$7*10^-6) -> 9.4727168e-11 | M28: =(((B27*10^5)^(1-$B$8))*((B28*10^5)^($B$8-1))*(M27^$B$8))^(1/$B$8) -> 2245.102 | N28: =((4.7*10^13*$S$15*$R$15^0.5*EXP(-67837/M28)/($B$4*6))*$B$7*10^-6) -> 7.968106e-11 | O28: =(((B27*10^5)^(1-$B$8))*((B28*10^5)^($B$8-1))*(O27^$B$8))^(1/$B$8) -> 2138.4017 | P28: =((4.7*10^13*$S$16*$R$16^0.5*EXP(-67837/O28)/($B$4*6))*$B$7*10^-6) -> 2.4982484e-11 | Q28: =(((B27*10^5)^(1-$B$8))*((B28*10^5)^($B$8-1))*(Q27^$B$8))^(1/$B$8) -> 2033.4102 | R28: =((4.7*10^13*$S$17*$R$17^0.5*EXP(-67837/Q28)/($B$4*6))*$B$7*10^-6) -> 5.9546802e-12 | S28: =(((B27*10^5)^(1-$B$8))*((B28*10^5)^($B$8-1))*(S27^$B$8))^(1/$B$8) -> 1929.1095 | T28: =((4.7*10^13*$S$18*$R$18^0.5*EXP(-67837/S28)/($B$4*6))*$B$7*10^-6) -> 1.1337466e-12 | U28: =(((B27*10^5)^(1-$B$8))*((B28*10^5)^($B$8-1))*(U27^$B$8))^(1/$B$8) -> 1826.6419 | V28: =((4.7*10^13*$S$19*$R$19^0.5*EXP(-67837/U28)/($B$4*6))*$B$7*10^-6) -> 1.7652841e-13 | W28: =(((B27*10^5)^(1-$B$8))*((B28*10^5)^($B$8-1))*(W27^$B$8))^(1/$B$8) -> 1725.2926 | X28: =((4.7*10^13*$S$20*$R$20^0.5*EXP(-67837/W28)/($B$4*6))*$B$7*10^-6) -> 2.1852302e-14 | Y28: =(((B27*10^5)^(1-$B$8))*((B28*10^5)^($B$8-1))*(Y27^$B$8))^(1/$B$8) -> 1625.1962 | Z28: =((4.7*10^13*$S$21*$R$21^0.5*EXP(-67837/Y28)/($B$4*6))*$B$7*10^-6) -> 2.0979251e-15 | AA28: =(((B27*10^5)^(1-$B$8))*((B28*10^5)^($B$8-1))*(AA27^$B$8))^(1/$B$8) -> 1525.8194 | AB28: =((4.7*10^13*$S$22*$R$22^0.5*EXP(-67837/AA28)/($B$4*6))*$B$7*10^-6) -> 1.4813626e-16
A29: 3 | B29: 16 | C29: =(((B28*10^5)^(1-$B$8))*((B29*10^5)^($B$8-1))*(C28^$B$8))^(1/$B$8) -> 2398.5804 | D29: =((4.7*10^13*($S$10*$R$10)^0.5)*EXP(-67837/C29)/($B$4*6))*$B$7*10^-6 -> 0 | E29: =(((B28*10^5)^(1-$B$8))*((B29*10^5)^($B$8-1))*(E28^$B$8))^(1/$B$8) -> 2376.5428 | F29: =((4.7*10^13*$S$11*$R$11^0.5*EXP(-67837/E29)/($B$4*6))*$B$7*10^-6) -> 1.8932585e-10 | G29: =(((B28*10^5)^(1-$B$8))*((B29*10^5)^($B$8-1))*(G28^$B$8))^(1/$B$8) -> 2354.5376 | H29: =((4.7*10^13*$S$12*$R$12^0.5*EXP(-67837/G29)/($B$4*6))*$B$7*10^-6) -> 2.0510448e-10 | I29: =(((B28*10^5)^(1-$B$8))*((B29*10^5)^($B$8-1))*(I28^$B$8))^(1/$B$8) -> 2332.658 | J29: =((4.7*10^13*$S$13*$R$13^0.5*EXP(-67837/I29)/($B$4*6))*$B$7*10^-6) -> 1.9176308e-10 | K29: =(((B28*10^5)^(1-$B$8))*((B29*10^5)^($B$8-1))*(K28^$B$8))^(1/$B$8) -> 2310.8672 | L29: =((4.7*10^13*$S$14*$R$14^0.5*EXP(-67837/K29)/($B$4*6))*$B$7*10^-6) -> 1.6836264e-10 | M29: =(((B28*10^5)^(1-$B$8))*((B29*10^5)^($B$8-1))*(M28^$B$8))^(1/$B$8) -> 2289.0868 | N29: =((4.7*10^13*$S$15*$R$15^0.5*EXP(-67837/M29)/($B$4*6))*$B$7*10^-6) -> 1.4239765e-10 | O29: =(((B28*10^5)^(1-$B$8))*((B29*10^5)^($B$8-1))*(O28^$B$8))^(1/$B$8) -> 2180.2961 | P29: =((4.7*10^13*$S$16*$R$16^0.5*EXP(-67837/O29)/($B$4*6))*$B$7*10^-6) -> 4.5958388e-11 | Q29: =(((B28*10^5)^(1-$B$8))*((B29*10^5)^($B$8-1))*(Q28^$B$8))^(1/$B$8) -> 2073.2477 | R29: =((4.7*10^13*$S$17*$R$17^0.5*EXP(-67837/Q29)/($B$4*6))*$B$7*10^-6) -> 1.1304632e-11 | S29: =(((B28*10^5)^(1-$B$8))*((B29*10^5)^($B$8-1))*(S28^$B$8))^(1/$B$8) -> 1966.9035 | T29: =((4.7*10^13*$S$18*$R$18^0.5*EXP(-67837/S29)/($B$4*6))*$B$7*10^-6) -> 2.2282612e-12 | U29: =(((B28*10^5)^(1-$B$8))*((B29*10^5)^($B$8-1))*(U28^$B$8))^(1/$B$8) -> 1862.4284 | V29: =((4.7*10^13*$S$19*$R$19^0.5*EXP(-67837/U29)/($B$4*6))*$B$7*10^-6) -> 3.6035132e-13 | W29: =(((B28*10^5)^(1-$B$8))*((B29*10^5)^($B$8-1))*(W28^$B$8))^(1/$B$8) -> 1759.0935 | X29: =((4.7*10^13*$S$20*$R$20^0.5*EXP(-67837/W29)/($B$4*6))*$B$7*10^-6) -> 4.6517238e-14 | Y29: =(((B28*10^5)^(1-$B$8))*((B29*10^5)^($B$8-1))*(Y28^$B$8))^(1/$B$8) -> 1657.0361 | Z29: =((4.7*10^13*$S$21*$R$21^0.5*EXP(-67837/Y29)/($B$4*6))*$B$7*10^-6) -> 4.6785957e-15 | AA29: =(((B28*10^5)^(1-$B$8))*((B29*10^5)^($B$8-1))*(AA28^$B$8))^(1/$B$8) -> 1555.7124 | AB29: =((4.7*10^13*$S$22*$R$22^0.5*EXP(-67837/AA29)/($B$4*6))*$B$7*10^-6) -> 3.4807545e-16
A30: 4 | B30: 18 | C30: =(((B29*10^5)^(1-$B$8))*((B30*10^5)^($B$8-1))*(C29^$B$8))^(1/$B$8) -> 2439.9824 | D30: =((4.7*10^13*($S$10*$R$10)^0.5)*EXP(-67837/C30)/($B$4*6))*$B$7*10^-6 -> 0 | E30: =(((B29*10^5)^(1-$B$8))*((B30*10^5)^($B$8-1))*(E29^$B$8))^(1/$B$8) -> 2417.5644 | F30: =((4.7*10^13*$S$11*$R$11^0.5*EXP(-67837/E30)/($B$4*6))*$B$7*10^-6) -> 3.0729734e-10 | G30: =(((B29*10^5)^(1-$B$8))*((B30*10^5)^($B$8-1))*(G29^$B$8))^(1/$B$8) -> 2395.1794 | H30: =((4.7*10^13*$S$12*$R$12^0.5*EXP(-67837/G30)/($B$4*6))*$B$7*10^-6) -> 3.3441821e-10 | I30: =(((B29*10^5)^(1-$B$8))*((B30*10^5)^($B$8-1))*(I29^$B$8))^(1/$B$8) -> 2372.9222 | J30: =((4.7*10^13*$S$13*$R$13^0.5*EXP(-67837/I30)/($B$4*6))*$B$7*10^-6) -> 3.1410236e-10 | K30: =(((B29*10^5)^(1-$B$8))*((B30*10^5)^($B$8-1))*(K29^$B$8))^(1/$B$8) -> 2350.7552 | L30: =((4.7*10^13*$S$14*$R$14^0.5*EXP(-67837/K30)/($B$4*6))*$B$7*10^-6) -> 2.7705933e-10 | M30: =(((B29*10^5)^(1-$B$8))*((B30*10^5)^($B$8-1))*(M29^$B$8))^(1/$B$8) -> 2328.5988 | N30: =((4.7*10^13*$S$15*$R$15^0.5*EXP(-67837/M30)/($B$4*6))*$B$7*10^-6) -> 2.3544431e-10 | O30: =(((B29*10^5)^(1-$B$8))*((B30*10^5)^($B$8-1))*(O29^$B$8))^(1/$B$8) -> 2217.9303 | P30: =((4.7*10^13*$S$16*$R$16^0.5*EXP(-67837/O30)/($B$4*6))*$B$7*10^-6) -> 7.7919651e-11 | Q30: =(((B29*10^5)^(1-$B$8))*((B30*10^5)^($B$8-1))*(Q29^$B$8))^(1/$B$8) -> 2109.0341 | R30: =((4.7*10^13*$S$17*$R$17^0.5*EXP(-67837/Q30)/($B$4*6))*$B$7*10^-6) -> 1.9695963e-11 | S30: =(((B29*10^5)^(1-$B$8))*((B30*10^5)^($B$8-1))*(S29^$B$8))^(1/$B$8) -> 2000.8543 | T30: =((4.7*10^13*$S$18*$R$18^0.5*EXP(-67837/S30)/($B$4*6))*$B$7*10^-6) -> 4.0005851e-12 | U30: =(((B29*10^5)^(1-$B$8))*((B30*10^5)^($B$8-1))*(U29^$B$8))^(1/$B$8) -> 1894.5759 | V30: =((4.7*10^13*$S$19*$R$19^0.5*EXP(-67837/U30)/($B$4*6))*$B$7*10^-6) -> 6.685606e-13 | W30: =(((B29*10^5)^(1-$B$8))*((B30*10^5)^($B$8-1))*(W29^$B$8))^(1/$B$8) -> 1789.4573 | X30: =((4.7*10^13*$S$20*$R$20^0.5*EXP(-67837/W30)/($B$4*6))*$B$7*10^-6) -> 8.9494458e-14 | Y30: =(((B29*10^5)^(1-$B$8))*((B30*10^5)^($B$8-1))*(Y29^$B$8))^(1/$B$8) -> 1685.6383 | Z30: =((4.7*10^13*$S$21*$R$21^0.5*EXP(-67837/Y30)/($B$4*6))*$B$7*10^-6) -> 9.3713169e-15 | AA30: =(((B29*10^5)^(1-$B$8))*((B30*10^5)^($B$8-1))*(AA29^$B$8))^(1/$B$8) -> 1582.5656 | AB30: =((4.7*10^13*$S$22*$R$22^0.5*EXP(-67837/AA30)/($B$4*6))*$B$7*10^-6) -> 7.2946974e-16
A31: 5 | B31: 20 | C31: =(((B30*10^5)^(1-$B$8))*((B31*10^5)^($B$8-1))*(C30^$B$8))^(1/$B$8) -> 2477.623 | D31: =((4.7*10^13*($S$10*$R$10)^0.5)*EXP(-67837/C31)/($B$4*6))*$B$7*10^-6 -> 0 | E31: =(((B30*10^5)^(1-$B$8))*((B31*10^5)^($B$8-1))*(E30^$B$8))^(1/$B$8) -> 2454.8591 | F31: =((4.7*10^13*$S$11*$R$11^0.5*EXP(-67837/E31)/($B$4*6))*$B$7*10^-6) -> 4.7064783e-10 | G31: =(((B30*10^5)^(1-$B$8))*((B31*10^5)^($B$8-1))*(G30^$B$8))^(1/$B$8) -> 2432.1288 | H31: =((4.7*10^13*$S$12*$R$12^0.5*EXP(-67837/G31)/($B$4*6))*$B$7*10^-6) -> 5.1423003e-10 | I31: =(((B30*10^5)^(1-$B$8))*((B31*10^5)^($B$8-1))*(I30^$B$8))^(1/$B$8) -> 2409.5282 | J31: =((4.7*10^13*$S$13*$R$13^0.5*EXP(-67837/I31)/($B$4*6))*$B$7*10^-6) -> 4.8494387e-10 | K31: =(((B30*10^5)^(1-$B$8))*((B31*10^5)^($B$8-1))*(K30^$B$8))^(1/$B$8) -> 2387.0193 | L31: =((4.7*10^13*$S$14*$R$14^0.5*EXP(-67837/K31)/($B$4*6))*$B$7*10^-6) -> 4.2950842e-10 | M31: =(((B30*10^5)^(1-$B$8))*((B31*10^5)^($B$8-1))*(M30^$B$8))^(1/$B$8) -> 2364.5211 | N31: =((4.7*10^13*$S$15*$R$15^0.5*EXP(-67837/M31)/($B$4*6))*$B$7*10^-6) -> 3.665209e-10 | O31: =(((B30*10^5)^(1-$B$8))*((B31*10^5)^($B$8-1))*(O30^$B$8))^(1/$B$8) -> 2252.1454 | P31: =((4.7*10^13*$S$16*$R$16^0.5*EXP(-67837/O31)/($B$4*6))*$B$7*10^-6) -> 1.240076e-10 | Q31: =(((B30*10^5)^(1-$B$8))*((B31*10^5)^($B$8-1))*(Q30^$B$8))^(1/$B$8) -> 2141.5693 | R31: =((4.7*10^13*$S$17*$R$17^0.5*EXP(-67837/Q31)/($B$4*6))*$B$7*10^-6) -> 3.2106885e-11 | S31: =(((B30*10^5)^(1-$B$8))*((B31*10^5)^($B$8-1))*(S30^$B$8))^(1/$B$8) -> 2031.7206 | T31: =((4.7*10^13*$S$18*$R$18^0.5*EXP(-67837/S31)/($B$4*6))*$B$7*10^-6) -> 6.6960483e-12 | U31: =(((B30*10^5)^(1-$B$8))*((B31*10^5)^($B$8-1))*(U30^$B$8))^(1/$B$8) -> 1923.8027 | V31: =((4.7*10^13*$S$19*$R$19^0.5*EXP(-67837/U31)/($B$4*6))*$B$7*10^-6) -> 1.1518191e-12 | W31: =(((B30*10^5)^(1-$B$8))*((B31*10^5)^($B$8-1))*(W30^$B$8))^(1/$B$8) -> 1817.0625 | X31: =((4.7*10^13*$S$20*$R$20^0.5*EXP(-67837/W31)/($B$4*6))*$B$7*10^-6) -> 1.5919058e-13 | Y31: =(((B30*10^5)^(1-$B$8))*((B31*10^5)^($B$8-1))*(Y30^$B$8))^(1/$B$8) -> 1711.6419 | Z31: =((4.7*10^13*$S$21*$R$21^0.5*EXP(-67837/Y31)/($B$4*6))*$B$7*10^-6) -> 1.7271374e-14 | AA31: =(((B30*10^5)^(1-$B$8))*((B31*10^5)^($B$8-1))*(AA30^$B$8))^(1/$B$8) -> 1606.9792 | AB31: =((4.7*10^13*$S$22*$R$22^0.5*EXP(-67837/AA31)/($B$4*6))*$B$7*10^-6) -> 1.3990309e-15
A32: 6 | B32: 22 | C32: =(((B31*10^5)^(1-$B$8))*((B32*10^5)^($B$8-1))*(C31^$B$8))^(1/$B$8) -> 2512.173 | D32: =((4.7*10^13*($S$10*$R$10)^0.5)*EXP(-67837/C32)/($B$4*6))*$B$7*10^-6 -> 0 | E32: =(((B31*10^5)^(1-$B$8))*((B32*10^5)^($B$8-1))*(E31^$B$8))^(1/$B$8) -> 2489.0917 | F32: =((4.7*10^13*$S$11*$R$11^0.5*EXP(-67837/E32)/($B$4*6))*$B$7*10^-6) -> 6.8825426e-10 | G32: =(((B31*10^5)^(1-$B$8))*((B32*10^5)^($B$8-1))*(G31^$B$8))^(1/$B$8) -> 2466.0444 | H32: =((4.7*10^13*$S$12*$R$12^0.5*EXP(-67837/G32)/($B$4*6))*$B$7*10^-6) -> 7.5466263e-10 | I32: =(((B31*10^5)^(1-$B$8))*((B32*10^5)^($B$8-1))*(I31^$B$8))^(1/$B$8) -> 2443.1287 | J32: =((4.7*10^13*$S$13*$R$13^0.5*EXP(-67837/I32)/($B$4*6))*$B$7*10^-6) -> 7.1424876e-10 | K32: =(((B31*10^5)^(1-$B$8))*((B32*10^5)^($B$8-1))*(K31^$B$8))^(1/$B$8) -> 2420.3059 | L32: =((4.7*10^13*$S$14*$R$14^0.5*EXP(-67837/K32)/($B$4*6))*$B$7*10^-6) -> 6.3491471e-10 | M32: =(((B31*10^5)^(1-$B$8))*((B32*10^5)^($B$8-1))*(M31^$B$8))^(1/$B$8) -> 2397.4939 | N32: =((4.7*10^13*$S$15*$R$15^0.5*EXP(-67837/M32)/($B$4*6))*$B$7*10^-6) -> 5.4382297e-10 | O32: =(((B31*10^5)^(1-$B$8))*((B32*10^5)^($B$8-1))*(O31^$B$8))^(1/$B$8) -> 2283.5511 | P32: =((4.7*10^13*$S$16*$R$16^0.5*EXP(-67837/O32)/($B$4*6))*$B$7*10^-6) -> 1.8765383e-10 | Q32: =(((B31*10^5)^(1-$B$8))*((B32*10^5)^($B$8-1))*(Q31^$B$8))^(1/$B$8) -> 2171.4331 | R32: =((4.7*10^13*$S$17*$R$17^0.5*EXP(-67837/Q32)/($B$4*6))*$B$7*10^-6) -> 4.9635977e-11 | S32: =(((B31*10^5)^(1-$B$8))*((B32*10^5)^($B$8-1))*(S31^$B$8))^(1/$B$8) -> 2060.0526 | T32: =((4.7*10^13*$S$18*$R$18^0.5*EXP(-67837/S32)/($B$4*6))*$B$7*10^-6) -> 1.0598547e-11 | U32: =(((B31*10^5)^(1-$B$8))*((B32*10^5)^($B$8-1))*(U31^$B$8))^(1/$B$8) -> 1950.6298 | V32: =((4.7*10^13*$S$19*$R$19^0.5*EXP(-67837/U32)/($B$4*6))*$B$7*10^-6) -> 1.8706785e-12 | W32: =(((B31*10^5)^(1-$B$8))*((B32*10^5)^($B$8-1))*(W31^$B$8))^(1/$B$8) -> 1842.4011 | X32: =((4.7*10^13*$S$20*$R$20^0.5*EXP(-67837/W32)/($B$4*6))*$B$7*10^-6) -> 2.6601397e-13 | Y32: =(((B31*10^5)^(1-$B$8))*((B32*10^5)^($B$8-1))*(Y31^$B$8))^(1/$B$8) -> 1735.5105 | Z32: =((4.7*10^13*$S$21*$R$21^0.5*EXP(-67837/Y32)/($B$4*6))*$B$7*10^-6) -> 2.9788445e-14 | AA32: =(((B31*10^5)^(1-$B$8))*((B32*10^5)^($B$8-1))*(AA31^$B$8))^(1/$B$8) -> 1629.3882 | AB32: =((4.7*10^13*$S$22*$R$22^0.5*EXP(-67837/AA32)/($B$4*6))*$B$7*10^-6) -> 2.5001492e-15
A33: 7 | B33: 24 | C33: =(((B32*10^5)^(1-$B$8))*((B33*10^5)^($B$8-1))*(C32^$B$8))^(1/$B$8) -> 2544.1352 | D33: =((4.7*10^13*($S$10*$R$10)^0.5)*EXP(-67837/C33)/($B$4*6))*$B$7*10^-6 -> 0 | E33: =(((B32*10^5)^(1-$B$8))*((B33*10^5)^($B$8-1))*(E32^$B$8))^(1/$B$8) -> 2520.7602 | F33: =((4.7*10^13*$S$11*$R$11^0.5*EXP(-67837/E33)/($B$4*6))*$B$7*10^-6) -> 9.6927599e-10 | G33: =(((B32*10^5)^(1-$B$8))*((B33*10^5)^($B$8-1))*(G32^$B$8))^(1/$B$8) -> 2497.4197 | H33: =((4.7*10^13*$S$12*$R$12^0.5*EXP(-67837/G33)/($B$4*6))*$B$7*10^-6) -> 1.066206e-09 | I33: =(((B32*10^5)^(1-$B$8))*((B33*10^5)^($B$8-1))*(I32^$B$8))^(1/$B$8) -> 2474.2124 | J33: =((4.7*10^13*$S$13*$R$13^0.5*EXP(-67837/I33)/($B$4*6))*$B$7*10^-6) -> 1.0123846e-09 | K33: =(((B32*10^5)^(1-$B$8))*((B33*10^5)^($B$8-1))*(K32^$B$8))^(1/$B$8) -> 2451.0993 | L33: =((4.7*10^13*$S$14*$R$14^0.5*EXP(-67837/K33)/($B$4*6))*$B$7*10^-6) -> 9.029007e-10 | M33: =(((B32*10^5)^(1-$B$8))*((B33*10^5)^($B$8-1))*(M32^$B$8))^(1/$B$8) -> 2427.9971 | N33: =((4.7*10^13*$S$15*$R$15^0.5*EXP(-67837/M33)/($B$4*6))*$B$7*10^-6) -> 7.7595621e-10 | O33: =(((B32*10^5)^(1-$B$8))*((B33*10^5)^($B$8-1))*(O32^$B$8))^(1/$B$8) -> 2312.6046 | P33: =((4.7*10^13*$S$16*$R$16^0.5*EXP(-67837/O33)/($B$4*6))*$B$7*10^-6) -> 2.7254625e-10 | Q33: =(((B32*10^5)^(1-$B$8))*((B33*10^5)^($B$8-1))*(Q32^$B$8))^(1/$B$8) -> 2199.0601 | R33: =((4.7*10^13*$S$17*$R$17^0.5*EXP(-67837/Q33)/($B$4*6))*$B$7*10^-6) -> 7.3493378e-11 | S33: =(((B32*10^5)^(1-$B$8))*((B33*10^5)^($B$8-1))*(S32^$B$8))^(1/$B$8) -> 2086.2625 | T33: =((4.7*10^13*$S$18*$R$18^0.5*EXP(-67837/S33)/($B$4*6))*$B$7*10^-6) -> 1.602927e-11 | U33: =(((B32*10^5)^(1-$B$8))*((B33*10^5)^($B$8-1))*(U32^$B$8))^(1/$B$8) -> 1975.4476 | V33: =((4.7*10^13*$S$19*$R$19^0.5*EXP(-67837/U33)/($B$4*6))*$B$7*10^-6) -> 2.8956443e-12 | W33: =(((B32*10^5)^(1-$B$8))*((B33*10^5)^($B$8-1))*(W32^$B$8))^(1/$B$8) -> 1865.8419 | X33: =((4.7*10^13*$S$20*$R$20^0.5*EXP(-67837/W33)/($B$4*6))*$B$7*10^-6) -> 4.2247091e-13 | Y33: =(((B32*10^5)^(1-$B$8))*((B33*10^5)^($B$8-1))*(Y32^$B$8))^(1/$B$8) -> 1757.5912 | Z33: =((4.7*10^13*$S$21*$R$21^0.5*EXP(-67837/Y33)/($B$4*6))*$B$7*10^-6) -> 4.8675814e-14 | AA33: =(((B32*10^5)^(1-$B$8))*((B33*10^5)^($B$8-1))*(AA32^$B$8))^(1/$B$8) -> 1650.1188 | AB33: =((4.7*10^13*$S$22*$R$22^0.5*EXP(-67837/AA33)/($B$4*6))*$B$7*10^-6) -> 4.2181431e-15
A34: 8 | B34: 26 | C34: =(((B33*10^5)^(1-$B$8))*((B34*10^5)^($B$8-1))*(C33^$B$8))^(1/$B$8) -> 2573.8966 | D34: =((4.7*10^13*($S$10*$R$10)^0.5)*EXP(-67837/C34)/($B$4*6))*$B$7*10^-6 -> 0 | E34: =(((B33*10^5)^(1-$B$8))*((B34*10^5)^($B$8-1))*(E33^$B$8))^(1/$B$8) -> 2550.2482 | F34: =((4.7*10^13*$S$11*$R$11^0.5*EXP(-67837/E34)/($B$4*6))*$B$7*10^-6) -> 1.3230816e-09 | G34: =(((B33*10^5)^(1-$B$8))*((B34*10^5)^($B$8-1))*(G33^$B$8))^(1/$B$8) -> 2526.6346 | H34: =((4.7*10^13*$S$12*$R$12^0.5*EXP(-67837/G34)/($B$4*6))*$B$7*10^-6) -> 1.4596316e-09 | I34: =(((B33*10^5)^(1-$B$8))*((B34*10^5)^($B$8-1))*(I33^$B$8))^(1/$B$8) -> 2503.1559 | J34: =((4.7*10^13*$S$13*$R$13^0.5*EXP(-67837/I34)/($B$4*6))*$B$7*10^-6) -> 1.3900393e-09 | K34: =(((B33*10^5)^(1-$B$8))*((B34*10^5)^($B$8-1))*(K33^$B$8))^(1/$B$8) -> 2479.7723 | L34: =((4.7*10^13*$S$14*$R$14^0.5*EXP(-67837/K34)/($B$4*6))*$B$7*10^-6) -> 1.2434257e-09 | M34: =(((B33*10^5)^(1-$B$8))*((B34*10^5)^($B$8-1))*(M33^$B$8))^(1/$B$8) -> 2456.3999 | N34: =((4.7*10^13*$S$15*$R$15^0.5*EXP(-67837/M34)/($B$4*6))*$B$7*10^-6) -> 1.0718634e-09 | O34: =(((B33*10^5)^(1-$B$8))*((B34*10^5)^($B$8-1))*(O33^$B$8))^(1/$B$8) -> 2339.6575 | P34: =((4.7*10^13*$S$16*$R$16^0.5*EXP(-67837/O34)/($B$4*6))*$B$7*10^-6) -> 3.8259839e-10 | Q34: =(((B33*10^5)^(1-$B$8))*((B34*10^5)^($B$8-1))*(Q33^$B$8))^(1/$B$8) -> 2224.7848 | R34: =((4.7*10^13*$S$17*$R$17^0.5*EXP(-67837/Q34)/($B$4*6))*$B$7*10^-6) -> 1.0499216e-10 | S34: =(((B33*10^5)^(1-$B$8))*((B34*10^5)^($B$8-1))*(S33^$B$8))^(1/$B$8) -> 2110.6677 | T34: =((4.7*10^13*$S$18*$R$18^0.5*EXP(-67837/S34)/($B$4*6))*$B$7*10^-6) -> 2.3345211e-11 | U34: =(((B33*10^5)^(1-$B$8))*((B34*10^5)^($B$8-1))*(U33^$B$8))^(1/$B$8) -> 1998.5564 | V34: =((4.7*10^13*$S$19*$R$19^0.5*EXP(-67837/U34)/($B$4*6))*$B$7*10^-6) -> 4.307139e-12 | W34: =(((B33*10^5)^(1-$B$8))*((B34*10^5)^($B$8-1))*(W33^$B$8))^(1/$B$8) -> 1887.6686 | X34: =((4.7*10^13*$S$20*$R$20^0.5*EXP(-67837/W34)/($B$4*6))*$B$7*10^-6) -> 6.4323607e-13 | Y34: =(((B33*10^5)^(1-$B$8))*((B34*10^5)^($B$8-1))*(Y33^$B$8))^(1/$B$8) -> 1778.1516 | Z34: =((4.7*10^13*$S$21*$R$21^0.5*EXP(-67837/Y34)/($B$4*6))*$B$7*10^-6) -> 7.6055666e-14 | AA34: =(((B33*10^5)^(1-$B$8))*((B34*10^5)^($B$8-1))*(AA33^$B$8))^(1/$B$8) -> 1669.4219 | AB34: =((4.7*10^13*$S$22*$R$22^0.5*EXP(-67837/AA34)/($B$4*6))*$B$7*10^-6) -> 6.7852066e-15
A35: 9 | B35: 28 | C35: =(((B34*10^5)^(1-$B$8))*((B35*10^5)^($B$8-1))*(C34^$B$8))^(1/$B$8) -> 2601.7616 | D35: =((4.7*10^13*($S$10*$R$10)^0.5)*EXP(-67837/C35)/($B$4*6))*$B$7*10^-6 -> 0 | E35: =(((B34*10^5)^(1-$B$8))*((B35*10^5)^($B$8-1))*(E34^$B$8))^(1/$B$8) -> 2577.8572 | F35: =((4.7*10^13*$S$11*$R$11^0.5*EXP(-67837/E35)/($B$4*6))*$B$7*10^-6) -> 1.7591888e-09 | G35: =(((B34*10^5)^(1-$B$8))*((B35*10^5)^($B$8-1))*(G34^$B$8))^(1/$B$8) -> 2553.988 | H35: =((4.7*10^13*$S$12*$R$12^0.5*EXP(-67837/G35)/($B$4*6))*$B$7*10^-6) -> 1.9459219e-09 | I35: =(((B34*10^5)^(1-$B$8))*((B35*10^5)^($B$8-1))*(I34^$B$8))^(1/$B$8) -> 2530.255 | J35: =((4.7*10^13*$S$13*$R$13^0.5*EXP(-67837/I35)/($B$4*6))*$B$7*10^-6) -> 1.8581493e-09 | K35: =(((B34*10^5)^(1-$B$8))*((B35*10^5)^($B$8-1))*(K34^$B$8))^(1/$B$8) -> 2506.6183 | L35: =((4.7*10^13*$S$14*$R$14^0.5*EXP(-67837/K35)/($B$4*6))*$B$7*10^-6) -> 1.6667175e-09 | M35: =(((B34*10^5)^(1-$B$8))*((B35*10^5)^($B$8-1))*(M34^$B$8))^(1/$B$8) -> 2482.9929 | N35: =((4.7*10^13*$S$15*$R$15^0.5*EXP(-67837/M35)/($B$4*6))*$B$7*10^-6) -> 1.4407622e-09 | O35: =(((B34*10^5)^(1-$B$8))*((B35*10^5)^($B$8-1))*(O34^$B$8))^(1/$B$8) -> 2364.9867 | P35: =((4.7*10^13*$S$16*$R$16^0.5*EXP(-67837/O35)/($B$4*6))*$B$7*10^-6) -> 5.2192179e-10 | Q35: =(((B34*10^5)^(1-$B$8))*((B35*10^5)^($B$8-1))*(Q34^$B$8))^(1/$B$8) -> 2248.8703 | R35: =((4.7*10^13*$S$17*$R$17^0.5*EXP(-67837/Q35)/($B$4*6))*$B$7*10^-6) -> 1.4554005e-10 | S35: =(((B34*10^5)^(1-$B$8))*((B35*10^5)^($B$8-1))*(S34^$B$8))^(1/$B$8) -> 2133.5178 | T35: =((4.7*10^13*$S$18*$R$18^0.5*EXP(-67837/S35)/($B$4*6))*$B$7*10^-6) -> 3.2937569e-11 | U35: =(((B34*10^5)^(1-$B$8))*((B35*10^5)^($B$8-1))*(U34^$B$8))^(1/$B$8) -> 2020.1928 | V35: =((4.7*10^13*$S$19*$R$19^0.5*EXP(-67837/U35)/($B$4*6))*$B$7*10^-6) -> 6.1953898e-12 | W35: =(((B34*10^5)^(1-$B$8))*((B35*10^5)^($B$8-1))*(W34^$B$8))^(1/$B$8) -> 1908.1045 | X35: =((4.7*10^13*$S$20*$R$20^0.5*EXP(-67837/W35)/($B$4*6))*$B$7*10^-6) -> 9.4520173e-13 | Y35: =(((B34*10^5)^(1-$B$8))*((B35*10^5)^($B$8-1))*(Y34^$B$8))^(1/$B$8) -> 1797.4019 | Z35: =((4.7*10^13*$S$21*$R$21^0.5*EXP(-67837/Y35)/($B$4*6))*$B$7*10^-6) -> 1.1444077e-13 | AA35: =(((B34*10^5)^(1-$B$8))*((B35*10^5)^($B$8-1))*(AA34^$B$8))^(1/$B$8) -> 1687.4951 | AB35: =((4.7*10^13*$S$22*$R$22^0.5*EXP(-67837/AA35)/($B$4*6))*$B$7*10^-6) -> 1.0485027e-14
A36: 10 | B36: 30 | C36: =(((B35*10^5)^(1-$B$8))*((B36*10^5)^($B$8-1))*(C35^$B$8))^(1/$B$8) -> 2627.9744 | D36: =((4.7*10^13*($S$10*$R$10)^0.5)*EXP(-67837/C36)/($B$4*6))*$B$7*10^-6 -> 0 | E36: =(((B35*10^5)^(1-$B$8))*((B36*10^5)^($B$8-1))*(E35^$B$8))^(1/$B$8) -> 2603.8291 | F36: =((4.7*10^13*$S$11*$R$11^0.5*EXP(-67837/E36)/($B$4*6))*$B$7*10^-6) -> 2.2872154e-09 | G36: =(((B35*10^5)^(1-$B$8))*((B36*10^5)^($B$8-1))*(G35^$B$8))^(1/$B$8) -> 2579.7195 | H36: =((4.7*10^13*$S$12*$R$12^0.5*EXP(-67837/G36)/($B$4*6))*$B$7*10^-6) -> 2.5362112e-09 | I36: =(((B35*10^5)^(1-$B$8))*((B36*10^5)^($B$8-1))*(I35^$B$8))^(1/$B$8) -> 2555.7474 | J36: =((4.7*10^13*$S$13*$R$13^0.5*EXP(-67837/I36)/($B$4*6))*$B$7*10^-6) -> 2.4278387e-09 | K36: =(((B35*10^5)^(1-$B$8))*((B36*10^5)^($B$8-1))*(K35^$B$8))^(1/$B$8) -> 2531.8726 | L36: =((4.7*10^13*$S$14*$R$14^0.5*EXP(-67837/K36)/($B$4*6))*$B$7*10^-6) -> 2.1832144e-09 | M36: =(((B35*10^5)^(1-$B$8))*((B36*10^5)^($B$8-1))*(M35^$B$8))^(1/$B$8) -> 2508.0091 | N36: =((4.7*10^13*$S$15*$R$15^0.5*EXP(-67837/M36)/($B$4*6))*$B$7*10^-6) -> 1.8920917e-09 | O36: =(((B35*10^5)^(1-$B$8))*((B36*10^5)^($B$8-1))*(O35^$B$8))^(1/$B$8) -> 2388.814 | P36: =((4.7*10^13*$S$16*$R$16^0.5*EXP(-67837/O36)/($B$4*6))*$B$7*10^-6) -> 6.9480129e-10 | Q36: =(((B35*10^5)^(1-$B$8))*((B36*10^5)^($B$8-1))*(Q35^$B$8))^(1/$B$8) -> 2271.5277 | R36: =((4.7*10^13*$S$17*$R$17^0.5*EXP(-67837/Q36)/($B$4*6))*$B$7*10^-6) -> 1.9663164e-10 | S36: =(((B35*10^5)^(1-$B$8))*((B36*10^5)^($B$8-1))*(S35^$B$8))^(1/$B$8) -> 2155.013 | T36: =((4.7*10^13*$S$18*$R$18^0.5*EXP(-67837/S36)/($B$4*6))*$B$7*10^-6) -> 4.5230082e-11 | U36: =(((B35*10^5)^(1-$B$8))*((B36*10^5)^($B$8-1))*(U35^$B$8))^(1/$B$8) -> 2040.5463 | V36: =((4.7*10^13*$S$19*$R$19^0.5*EXP(-67837/U36)/($B$4*6))*$B$7*10^-6) -> 8.6602598e-12 | W36: =(((B35*10^5)^(1-$B$8))*((B36*10^5)^($B$8-1))*(W35^$B$8))^(1/$B$8) -> 1927.3287 | X36: =((4.7*10^13*$S$20*$R$20^0.5*EXP(-67837/W36)/($B$4*6))*$B$7*10^-6) -> 1.3475092e-12 | Y36: =(((B35*10^5)^(1-$B$8))*((B36*10^5)^($B$8-1))*(Y35^$B$8))^(1/$B$8) -> 1815.5107 | Z36: =((4.7*10^13*$S$21*$R$21^0.5*EXP(-67837/Y36)/($B$4*6))*$B$7*10^-6) -> 1.6675288e-13 | AA36: =(((B35*10^5)^(1-$B$8))*((B36*10^5)^($B$8-1))*(AA35^$B$8))^(1/$B$8) -> 1704.4966 | AB36: =((4.7*10^13*$S$22*$R$22^0.5*EXP(-67837/AA36)/($B$4*6))*$B$7*10^-6) -> 1.5657068e-14
A37: 11 | B37: 32 | C37: =(((B36*10^5)^(1-$B$8))*((B37*10^5)^($B$8-1))*(C36^$B$8))^(1/$B$8) -> 2652.7338 | D37: =((4.7*10^13*($S$10*$R$10)^0.5)*EXP(-67837/C37)/($B$4*6))*$B$7*10^-6 -> 0 | E37: =(((B36*10^5)^(1-$B$8))*((B37*10^5)^($B$8-1))*(E36^$B$8))^(1/$B$8) -> 2628.3611 | F37: =((4.7*10^13*$S$11*$R$11^0.5*EXP(-67837/E37)/($B$4*6))*$B$7*10^-6) -> 2.9168387e-09 | G37: =(((B36*10^5)^(1-$B$8))*((B37*10^5)^($B$8-1))*(G36^$B$8))^(1/$B$8) -> 2604.0243 | H37: =((4.7*10^13*$S$12*$R$12^0.5*EXP(-67837/G37)/($B$4*6))*$B$7*10^-6) -> 3.2417366e-09 | I37: =(((B36*10^5)^(1-$B$8))*((B37*10^5)^($B$8-1))*(I36^$B$8))^(1/$B$8) -> 2579.8264 | J37: =((4.7*10^13*$S$13*$R$13^0.5*EXP(-67837/I37)/($B$4*6))*$B$7*10^-6) -> 3.1103691e-09 | K37: =(((B36*10^5)^(1-$B$8))*((B37*10^5)^($B$8-1))*(K36^$B$8))^(1/$B$8) -> 2555.7266 | L37: =((4.7*10^13*$S$14*$R$14^0.5*EXP(-67837/K37)/($B$4*6))*$B$7*10^-6) -> 2.8035161e-09 | M37: =(((B36*10^5)^(1-$B$8))*((B37*10^5)^($B$8-1))*(M36^$B$8))^(1/$B$8) -> 2531.6383 | N37: =((4.7*10^13*$S$15*$R$15^0.5*EXP(-67837/M37)/($B$4*6))*$B$7*10^-6) -> 2.4354668e-09 | O37: =(((B36*10^5)^(1-$B$8))*((B37*10^5)^($B$8-1))*(O36^$B$8))^(1/$B$8) -> 2411.3202 | P37: =((4.7*10^13*$S$16*$R$16^0.5*EXP(-67837/O37)/($B$4*6))*$B$7*10^-6) -> 9.0567295e-10 | Q37: =(((B36*10^5)^(1-$B$8))*((B37*10^5)^($B$8-1))*(Q36^$B$8))^(1/$B$8) -> 2292.9289 | R37: =((4.7*10^13*$S$17*$R$17^0.5*EXP(-67837/Q37)/($B$4*6))*$B$7*10^-6) -> 2.5984103e-10 | S37: =(((B36*10^5)^(1-$B$8))*((B37*10^5)^($B$8-1))*(S36^$B$8))^(1/$B$8) -> 2175.3165 | T37: =((4.7*10^13*$S$18*$R$18^0.5*EXP(-67837/S37)/($B$4*6))*$B$7*10^-6) -> 6.0677366e-11 | U37: =(((B36*10^5)^(1-$B$8))*((B37*10^5)^($B$8-1))*(U36^$B$8))^(1/$B$8) -> 2059.7713 | V37: =((4.7*10^13*$S$19*$R$19^0.5*EXP(-67837/U37)/($B$4*6))*$B$7*10^-6) -> 1.1811039e-11 | W37: =(((B36*10^5)^(1-$B$8))*((B37*10^5)^($B$8-1))*(W36^$B$8))^(1/$B$8) -> 1945.487 | X37: =((4.7*10^13*$S$20*$R$20^0.5*EXP(-67837/W37)/($B$4*6))*$B$7*10^-6) -> 1.8715653e-12 | Y37: =(((B36*10^5)^(1-$B$8))*((B37*10^5)^($B$8-1))*(Y36^$B$8))^(1/$B$8) -> 1832.6156 | Z37: =((4.7*10^13*$S$21*$R$21^0.5*EXP(-67837/Y37)/($B$4*6))*$B$7*10^-6) -> 2.3633818e-13 | AA37: =(((B36*10^5)^(1-$B$8))*((B37*10^5)^($B$8-1))*(AA36^$B$8))^(1/$B$8) -> 1720.5556 | AB37: =((4.7*10^13*$S$22*$R$22^0.5*EXP(-67837/AA37)/($B$4*6))*$B$7*10^-6) -> 2.270051e-14
A38: 12 | B38: 34 | C38: =(((B37*10^5)^(1-$B$8))*((B38*10^5)^($B$8-1))*(C37^$B$8))^(1/$B$8) -> 2676.2042 | D38: =((4.7*10^13*($S$10*$R$10)^0.5)*EXP(-67837/C38)/($B$4*6))*$B$7*10^-6 -> 0 | E38: =(((B37*10^5)^(1-$B$8))*((B38*10^5)^($B$8-1))*(E37^$B$8))^(1/$B$8) -> 2651.6158 | F38: =((4.7*10^13*$S$11*$R$11^0.5*EXP(-67837/E38)/($B$4*6))*$B$7*10^-6) -> 3.6577614e-09 | G38: =(((B37*10^5)^(1-$B$8))*((B38*10^5)^($B$8-1))*(G37^$B$8))^(1/$B$8) -> 2627.0637 | H38: =((4.7*10^13*$S$12*$R$12^0.5*EXP(-67837/G38)/($B$4*6))*$B$7*10^-6) -> 4.0737973e-09 | I38: =(((B37*10^5)^(1-$B$8))*((B38*10^5)^($B$8-1))*(I37^$B$8))^(1/$B$8) -> 2602.6517 | J38: =((4.7*10^13*$S$13*$R$13^0.5*EXP(-67837/I38)/($B$4*6))*$B$7*10^-6) -> 3.9170967e-09 | K38: =(((B37*10^5)^(1-$B$8))*((B38*10^5)^($B$8-1))*(K37^$B$8))^(1/$B$8) -> 2578.3387 | L38: =((4.7*10^13*$S$14*$R$14^0.5*EXP(-67837/K38)/($B$4*6))*$B$7*10^-6) -> 3.5383422e-09 | M38: =(((B37*10^5)^(1-$B$8))*((B38*10^5)^($B$8-1))*(M37^$B$8))^(1/$B$8) -> 2554.0372 | N38: =((4.7*10^13*$S$15*$R$15^0.5*EXP(-67837/M38)/($B$4*6))*$B$7*10^-6) -> 3.0806398e-09 | O38: =(((B37*10^5)^(1-$B$8))*((B38*10^5)^($B$8-1))*(O37^$B$8))^(1/$B$8) -> 2432.6546 | P38: =((4.7*10^13*$S$16*$R$16^0.5*EXP(-67837/O38)/($B$4*6))*$B$7*10^-6) -> 1.1591043e-09 | Q38: =(((B37*10^5)^(1-$B$8))*((B38*10^5)^($B$8-1))*(Q37^$B$8))^(1/$B$8) -> 2313.2159 | R38: =((4.7*10^13*$S$17*$R$17^0.5*EXP(-67837/Q38)/($B$4*6))*$B$7*10^-6) -> 3.36815e-10 | S38: =(((B37*10^5)^(1-$B$8))*((B38*10^5)^($B$8-1))*(S37^$B$8))^(1/$B$8) -> 2194.5628 | T38: =((4.7*10^13*$S$18*$R$18^0.5*EXP(-67837/S38)/($B$4*6))*$B$7*10^-6) -> 7.9763253e-11 | U38: =(((B37*10^5)^(1-$B$8))*((B38*10^5)^($B$8-1))*(U37^$B$8))^(1/$B$8) -> 2077.9953 | V38: =((4.7*10^13*$S$19*$R$19^0.5*EXP(-67837/U38)/($B$4*6))*$B$7*10^-6) -> 1.5766203e-11 | W38: =(((B37*10^5)^(1-$B$8))*((B38*10^5)^($B$8-1))*(W37^$B$8))^(1/$B$8) -> 1962.6999 | X38: =((4.7*10^13*$S$20*$R$20^0.5*EXP(-67837/W38)/($B$4*6))*$B$7*10^-6) -> 2.541047e-12 | Y38: =(((B37*10^5)^(1-$B$8))*((B38*10^5)^($B$8-1))*(Y37^$B$8))^(1/$B$8) -> 1848.8298 | Z38: =((4.7*10^13*$S$21*$R$21^0.5*EXP(-67837/Y38)/($B$4*6))*$B$7*10^-6) -> 3.2698008e-13 | AA38: =(((B37*10^5)^(1-$B$8))*((B38*10^5)^($B$8-1))*(AA37^$B$8))^(1/$B$8) -> 1735.7784 | AB38: =((4.7*10^13*$S$22*$R$22^0.5*EXP(-67837/AA38)/($B$4*6))*$B$7*10^-6) -> 3.2077872e-14
... A41: 15 | B41: 40 | C41: =(((B40*10^5)^(1-$B$8))*((B41*10^5)^($B$8-1))*(C40^$B$8))^(1/$B$8) -> 2740.1518 | D41: =((4.7*10^13*($S$10*$R$10)^0.5)*EXP(-67837/C41)/($B$4*6))*$B$7*10^-6 -> 0 | E41: =(((B40*10^5)^(1-$B$8))*((B41*10^5)^($B$8-1))*(E40^$B$8))^(1/$B$8) -> 2714.9759 | F41: =((4.7*10^13*$S$11*$R$11^0.5*EXP(-67837/E41)/($B$4*6))*$B$7*10^-6) -> 6.6451955e-09 | G41: =(((B40*10^5)^(1-$B$8))*((B41*10^5)^($B$8-1))*(G40^$B$8))^(1/$B$8) -> 2689.8371 | H41: =((4.7*10^13*$S$12*$R$12^0.5*EXP(-67837/G41)/($B$4*6))*$B$7*10^-6) -> 7.4424359e-09 | I41: =(((B40*10^5)^(1-$B$8))*((B41*10^5)^($B$8-1))*(I40^$B$8))^(1/$B$8) -> 2664.8417 | J41: =((4.7*10^13*$S$13*$R$13^0.5*EXP(-67837/I41)/($B$4*6))*$B$7*10^-6) -> 7.196723e-09 | K41: =(((B40*10^5)^(1-$B$8))*((B41*10^5)^($B$8-1))*(K40^$B$8))^(1/$B$8) -> 2639.9478 | L41: =((4.7*10^13*$S$14*$R$14^0.5*EXP(-67837/K41)/($B$4*6))*$B$7*10^-6) -> 6.5382478e-09 | M41: =(((B40*10^5)^(1-$B$8))*((B41*10^5)^($B$8-1))*(M40^$B$8))^(1/$B$8) -> 2615.0656 | N41: =((4.7*10^13*$S$15*$R$15^0.5*EXP(-67837/M41)/($B$4*6))*$B$7*10^-6) -> 5.7258468e-09 | O41: =(((B40*10^5)^(1-$B$8))*((B41*10^5)^($B$8-1))*(O40^$B$8))^(1/$B$8) -> 2490.7826 | P41: =((4.7*10^13*$S$16*$R$16^0.5*EXP(-67837/O41)/($B$4*6))*$B$7*10^-6) -> 2.2220489e-09 | Q41: =(((B40*10^5)^(1-$B$8))*((B41*10^5)^($B$8-1))*(Q40^$B$8))^(1/$B$8) -> 2368.4899 | R41: =((4.7*10^13*$S$17*$R$17^0.5*EXP(-67837/Q41)/($B$4*6))*$B$7*10^-6) -> 6.6775268e-10 | S41: =(((B40*10^5)^(1-$B$8))*((B41*10^5)^($B$8-1))*(S40^$B$8))^(1/$B$8) -> 2247.0017 | T41: =((4.7*10^13*$S$18*$R$18^0.5*EXP(-67837/S41)/($B$4*6))*$B$7*10^-6) -> 1.6409564e-10 | U41: =(((B40*10^5)^(1-$B$8))*((B41*10^5)^($B$8-1))*(U40^$B$8))^(1/$B$8) -> 2127.6488 | V41: =((4.7*10^13*$S$19*$R$19^0.5*EXP(-67837/U41)/($B$4*6))*$B$7*10^-6) -> 3.3775042e-11 | W41: =(((B40*10^5)^(1-$B$8))*((B41*10^5)^($B$8-1))*(W40^$B$8))^(1/$B$8) -> 2009.5984 | X41: =((4.7*10^13*$S$20*$R$20^0.5*EXP(-67837/W41)/($B$4*6))*$B$7*10^-6) -> 5.6926934e-12 | Y41: =(((B40*10^5)^(1-$B$8))*((B41*10^5)^($B$8-1))*(Y40^$B$8))^(1/$B$8) -> 1893.0074 | Z41: =((4.7*10^13*$S$21*$R$21^0.5*EXP(-67837/Y41)/($B$4*6))*$B$7*10^-6) -> 7.6984235e-13 | AA41: =(((B40*10^5)^(1-$B$8))*((B41*10^5)^($B$8-1))*(AA40^$B$8))^(1/$B$8) -> 1777.2546 | AB41: =((4.7*10^13*$S$22*$R$22^0.5*EXP(-67837/AA41)/($B$4*6))*$B$7*10^-6) -> 7.985584e-14
C42: Total Nox | D42: =SUM(D26:D41) -> 0 | E42: Total Nox | F42: =SUM(F26:F41) -> 3.1435443e-08 | G42: Total Nox | H42: =SUM(H26:H41) -> 3.4984275e-08 | I42: Total Nox | J42: =SUM(J26:J41) -> 3.361437e-08 | K42: Total Nox | L42: =SUM(L26:L41) -> 3.0343502e-08 | M42: Total Nox | N42: =SUM(N26:N41) -> 2.6401559e-08 | O42: Total Nox | P42: =SUM(P26:P41) -> 9.9087386e-09 | Q42: Total Nox | R42: =SUM(R26:R41) -> 2.8759166e-09 | S42: Total Nox | T42: =SUM(T26:T41) -> 6.813633e-10 | U42: Total Nox | V42: =SUM(V26:V41) -> 1.3500335e-10 | W42: Total Nox | X42: =SUM(X26:X41) -> 2.1863008e-11 | Y42: Total Nox | Z42: =SUM(Z26:Z41) -> 2.8350911e-12 | AA42: Total Nox | AB42: =SUM(AB26:AB41) -> 2.813135e-13
A45: ='Enthalpy Data'!X1 -> Deg K | B45: ='Enthalpy Data'!Y1 -> Net Enthalpy | C45: ='Enthalpy Data'!Z1 -> 0.99 | D45: ='Enthalpy Data'!AA1 -> 0.98 | E45: ='Enthalpy Data'!AB1 -> 0.97 | F45: ='Enthalpy Data'!AC1 -> 0.96 | G45: ='Enthalpy Data'!AD1 -> 0.95 | H45: ='Enthalpy Data'!AE1 -> 0.9 | ... N45: ='Enthalpy Data'!AK1 -> 0.6 | P45: ='Enthalpy Data'!X38 -> Deg K | Q45: ='Enthalpy Data'!Y38 -> Net Enthalpy | R45: ='Enthalpy Data'!Z38 -> 0.99 | S45: ='Enthalpy Data'!AA38 -> 0.98 | T45: ='Enthalpy Data'!AB38 -> 0.97 | U45: ='Enthalpy Data'!AC38 -> 0.96 | V45: ='Enthalpy Data'!AD38 -> 0.95 | W45: ='Enthalpy Data'!AE38 -> 0.9 | ... AC45: ='Enthalpy Data'!AK38 -> 0.6
A46: ='Enthalpy Data'!X2 -> 1900 | B46: ='Enthalpy Data'!Y2 -> 3763.231 | C46: ='Enthalpy Data'!Z2 -> 3763.1246 | D46: ='Enthalpy Data'!AA2 -> 3763.2184 | E46: ='Enthalpy Data'!AB2 -> 3763.3122 | F46: ='Enthalpy Data'!AC2 -> 3763.406 | G46: ='Enthalpy Data'!AD2 -> 3763.4998 | H46: ='Enthalpy Data'!AE2 -> 3763.9688 | ... N46: ='Enthalpy Data'!AK2 -> 3766.7828 | P46: ='Enthalpy Data'!X39 -> 1000 | Q46: ='Enthalpy Data'!Y39 -> 1510.7894 | R46: ='Enthalpy Data'!Z39 -> 1510.9558 | S46: ='Enthalpy Data'!AA39 -> 1511.1222 | T46: ='Enthalpy Data'!AB39 -> 1511.2886 | U46: ='Enthalpy Data'!AC39 -> 1511.455 | V46: ='Enthalpy Data'!AD39 -> 1511.6214 | W46: ='Enthalpy Data'!AE39 -> 1512.4534 | ... AC46: ='Enthalpy Data'!AK39 -> 1517.4454
A47: ='Enthalpy Data'!X3 -> 1950 | B47: ='Enthalpy Data'!Y3 -> 3894.2536 | C47: ='Enthalpy Data'!Z3 -> 3894.1346 | D47: ='Enthalpy Data'!AA3 -> 3894.2226 | E47: ='Enthalpy Data'!AB3 -> 3894.3106 | F47: ='Enthalpy Data'!AC3 -> 3894.3986 | G47: ='Enthalpy Data'!AD3 -> 3894.4866 | H47: ='Enthalpy Data'!AE3 -> 3894.9266 | ... N47: ='Enthalpy Data'!AK3 -> 3897.5666 | P47: ='Enthalpy Data'!X40 -> 1050 | Q47: ='Enthalpy Data'!Y40 -> 1628.4622 | R47: ='Enthalpy Data'!Z40 -> 1628.629 | S47: ='Enthalpy Data'!AA40 -> 1628.7957 | T47: ='Enthalpy Data'!AB40 -> 1628.9624 | U47: ='Enthalpy Data'!AC40 -> 1629.1292 | V47: ='Enthalpy Data'!AD40 -> 1629.2959 | W47: ='Enthalpy Data'!AE40 -> 1630.1297 | ... AC47: ='Enthalpy Data'!AK40 -> 1635.1322
A48: ='Enthalpy Data'!X4 -> 2000 | B48: ='Enthalpy Data'!Y4 -> 4026.0064 | C48: ='Enthalpy Data'!Z4 -> 4025.8753 | D48: ='Enthalpy Data'!AA4 -> 4025.9579 | E48: ='Enthalpy Data'!AB4 -> 4026.0406 | F48: ='Enthalpy Data'!AC4 -> 4026.1232 | G48: ='Enthalpy Data'!AD4 -> 4026.2059 | H48: ='Enthalpy Data'!AE4 -> 4026.6191 | ... N48: ='Enthalpy Data'!AK4 -> 4029.0986 | P48: ='Enthalpy Data'!X41 -> 1100 | Q48: ='Enthalpy Data'!Y41 -> 1747.6754 | R48: ='Enthalpy Data'!Z41 -> 1747.8414 | S48: ='Enthalpy Data'!AA41 -> 1748.0073 | T48: ='Enthalpy Data'!AB41 -> 1748.1733 | U48: ='Enthalpy Data'!AC41 -> 1748.3392 | V48: ='Enthalpy Data'!AD41 -> 1748.5051 | W48: ='Enthalpy Data'!AE41 -> 1749.3349 | ... AC48: ='Enthalpy Data'!AK41 -> 1754.3134
A49: ='Enthalpy Data'!X5 -> 2050 | B49: ='Enthalpy Data'!Y5 -> 4157.9393 | C49: ='Enthalpy Data'!Z5 -> 4157.7959 | D49: ='Enthalpy Data'!AA5 -> 4157.8732 | E49: ='Enthalpy Data'!AB5 -> 4157.9505 | F49: ='Enthalpy Data'!AC5 -> 4158.0278 | G49: ='Enthalpy Data'!AD5 -> 4158.1051 | H49: ='Enthalpy Data'!AE5 -> 4158.4916 | ... N49: ='Enthalpy Data'!AK5 -> 4160.8106 | P49: ='Enthalpy Data'!X42 -> 1150 | Q49: ='Enthalpy Data'!Y42 -> 1867.7888 | R49: ='Enthalpy Data'!Z42 -> 1867.9536 | S49: ='Enthalpy Data'!AA42 -> 1868.1184 | T49: ='Enthalpy Data'!AB42 -> 1868.2832 | U49: ='Enthalpy Data'!AC42 -> 1868.448 | V49: ='Enthalpy Data'!AD42 -> 1868.6128 | W49: ='Enthalpy Data'!AE42 -> 1869.4368 | ... AC49: ='Enthalpy Data'!AK42 -> 1874.3808
A50: ='Enthalpy Data'!X6 -> 2100 | B50: ='Enthalpy Data'!Y6 -> 4290.0421 | C50: ='Enthalpy Data'!Z6 -> 4289.887 | D50: ='Enthalpy Data'!AA6 -> 4289.9594 | E50: ='Enthalpy Data'!AB6 -> 4290.0318 | F50: ='Enthalpy Data'!AC6 -> 4290.1042 | G50: ='Enthalpy Data'!AD6 -> 4290.1766 | H50: ='Enthalpy Data'!AE6 -> 4290.5386 | ... N50: ='Enthalpy Data'!AK6 -> 4292.7106 | P50: ='Enthalpy Data'!X43 -> 1200 | Q50: ='Enthalpy Data'!Y43 -> 1988.8024 | R50: ='Enthalpy Data'!Z43 -> 1988.9645 | S50: ='Enthalpy Data'!AA43 -> 1989.1265 | T50: ='Enthalpy Data'!AB43 -> 1989.2885 | U50: ='Enthalpy Data'!AC43 -> 1989.4506 | V50: ='Enthalpy Data'!AD43 -> 1989.6127 | W50: ='Enthalpy Data'!AE43 -> 1990.4229 | ... AC50: ='Enthalpy Data'!AK43 -> 1995.2844
A51: ='Enthalpy Data'!X7 -> 2150 | B51: ='Enthalpy Data'!Y7 -> 4422.7852 | C51: ='Enthalpy Data'!Z7 -> 4422.6175 | D51: ='Enthalpy Data'!AA7 -> 4422.6842 | E51: ='Enthalpy Data'!AB7 -> 4422.7509 | F51: ='Enthalpy Data'!AC7 -> 4422.8176 | G51: ='Enthalpy Data'!AD7 -> 4422.8843 | H51: ='Enthalpy Data'!AE7 -> 4423.2178 | ... N51: ='Enthalpy Data'!AK7 -> 4425.2188 | P51: ='Enthalpy Data'!X44 -> 1250 | Q51: ='Enthalpy Data'!Y44 -> 2110.6262 | R51: ='Enthalpy Data'!Z44 -> 2110.7864 | S51: ='Enthalpy Data'!AA44 -> 2110.9466 | T51: ='Enthalpy Data'!AB44 -> 2111.1068 | U51: ='Enthalpy Data'!AC44 -> 2111.267 | V51: ='Enthalpy Data'!AD44 -> 2111.4272 | W51: ='Enthalpy Data'!AE44 -> 2112.2282 | ... AC51: ='Enthalpy Data'!AK44 -> 2117.0342
A52: ='Enthalpy Data'!X8 -> 2200 | B52: ='Enthalpy Data'!Y8 -> 4556.3486 | C52: ='Enthalpy Data'!Z8 -> 4556.1686 | D52: ='Enthalpy Data'!AA8 -> 4556.2301 | E52: ='Enthalpy Data'!AB8 -> 4556.2915 | F52: ='Enthalpy Data'!AC8 -> 4556.353 | G52: ='Enthalpy Data'!AD8 -> 4556.4145 | H52: ='Enthalpy Data'!AE8 -> 4556.7217 | ... N52: ='Enthalpy Data'!AK8 -> 4558.5652 | P52: ='Enthalpy Data'!X45 -> 1300 | Q52: ='Enthalpy Data'!Y45 -> 2233.4402 | R52: ='Enthalpy Data'!Z45 -> 2233.597 | S52: ='Enthalpy Data'!AA45 -> 2233.7537 | T52: ='Enthalpy Data'!AB45 -> 2233.9104 | U52: ='Enthalpy Data'!AC45 -> 2234.0672 | V52: ='Enthalpy Data'!AD45 -> 2234.224 | W52: ='Enthalpy Data'!AE45 -> 2235.0077 | ... AC52: ='Enthalpy Data'!AK45 -> 2239.7102
A53: ='Enthalpy Data'!X9 -> 2250 | B53: ='Enthalpy Data'!Y9 -> 4689.4417 | C53: ='Enthalpy Data'!Z9 -> 4689.2509 | D53: ='Enthalpy Data'!AA9 -> 4689.3083 | E53: ='Enthalpy Data'!AB9 -> 4689.3657 | F53: ='Enthalpy Data'!AC9 -> 4689.4232 | G53: ='Enthalpy Data'!AD9 -> 4689.4806 | H53: ='Enthalpy Data'!AE9 -> 4689.7679 | ... N53: ='Enthalpy Data'!AK9 -> 4691.4914 | P53: ='Enthalpy Data'!X46 -> 1350 | Q53: ='Enthalpy Data'!Y46 -> 2357.0744 | R53: ='Enthalpy Data'!Z46 -> 2357.2281 | S53: ='Enthalpy Data'!AA46 -> 2357.3819 | T53: ='Enthalpy Data'!AB46 -> 2357.5357 | U53: ='Enthalpy Data'!AC46 -> 2357.6894 | V53: ='Enthalpy Data'!AD46 -> 2357.8431 | W53: ='Enthalpy Data'!AE46 -> 2358.6119 | ... AC53: ='Enthalpy Data'!AK46 -> 2363.2244
A54: ='Enthalpy Data'!X10 -> 2300 | B54: ='Enthalpy Data'!Y10 -> 4823.185 | C54: ='Enthalpy Data'!Z10 -> 4822.9833 | D54: ='Enthalpy Data'!AA10 -> 4823.0367 | E54: ='Enthalpy Data'!AB10 -> 4823.0901 | F54: ='Enthalpy Data'!AC10 -> 4823.1436 | G54: ='Enthalpy Data'!AD10 -> 4823.1971 | H54: ='Enthalpy Data'!AE10 -> 4823.4643 | ... N54: ='Enthalpy Data'!AK10 -> 4825.0678 | P54: ='Enthalpy Data'!X47 -> 1400 | Q54: ='Enthalpy Data'!Y47 -> 2481.5988 | R54: ='Enthalpy Data'!Z47 -> 2481.7472 | S54: ='Enthalpy Data'!AA47 -> 2481.8955 | T54: ='Enthalpy Data'!AB47 -> 2482.0439 | U54: ='Enthalpy Data'!AC47 -> 2482.1922 | V54: ='Enthalpy Data'!AD47 -> 2482.3405 | W54: ='Enthalpy Data'!AE47 -> 2483.0823 | ... AC54: ='Enthalpy Data'!AK47 -> 2487.5328
A55: ='Enthalpy Data'!X11 -> 2350 | B55: ='Enthalpy Data'!Y11 -> 4957.6486 | C55: ='Enthalpy Data'!Z11 -> 4957.4343 | D55: ='Enthalpy Data'!AA11 -> 4957.4821 | E55: ='Enthalpy Data'!AB11 -> 4957.53 | F55: ='Enthalpy Data'!AC11 -> 4957.5778 | G55: ='Enthalpy Data'!AD11 -> 4957.6256 | H55: ='Enthalpy Data'!AE11 -> 4957.8649 | ... N55: ='Enthalpy Data'!AK11 -> 4959.3004 | P55: ='Enthalpy Data'!X48 -> 1450 | Q55: ='Enthalpy Data'!Y48 -> 2606.9434 | R55: ='Enthalpy Data'!Z48 -> 2607.0881 | S55: ='Enthalpy Data'!AA48 -> 2607.2327 | T55: ='Enthalpy Data'!AB48 -> 2607.3774 | U55: ='Enthalpy Data'!AC48 -> 2607.522 | V55: ='Enthalpy Data'!AD48 -> 2607.6667 | W55: ='Enthalpy Data'!AE48 -> 2608.3899 | ... AC55: ='Enthalpy Data'!AK48 -> 2612.7294
A56: ='Enthalpy Data'!X12 -> 2400 | B56: ='Enthalpy Data'!Y12 -> 5091.7419 | C56: ='Enthalpy Data'!Z12 -> 5091.5171 | D56: ='Enthalpy Data'!AA12 -> 5091.5614 | E56: ='Enthalpy Data'!AB12 -> 5091.6057 | F56: ='Enthalpy Data'!AC12 -> 5091.65 | G56: ='Enthalpy Data'!AD12 -> 5091.6943 | H56: ='Enthalpy Data'!AE12 -> 5091.9158 | ... N56: ='Enthalpy Data'!AK12 -> 5093.2448 | P56: ='Enthalpy Data'!X49 -> 1500 | Q56: ='Enthalpy Data'!Y49 -> 2732.628 | R56: ='Enthalpy Data'!Z49 -> 2732.7674 | S56: ='Enthalpy Data'!AA49 -> 2732.9067 | T56: ='Enthalpy Data'!AB49 -> 2733.046 | U56: ='Enthalpy Data'!AC49 -> 2733.1854 | V56: ='Enthalpy Data'!AD49 -> 2733.3248 | W56: ='Enthalpy Data'!AE49 -> 2734.0215 | ... AC56: ='Enthalpy Data'!AK49 -> 2738.202
... A63: ='Enthalpy Data'!X19 -> 2750 | B63: ='Enthalpy Data'!Y19 -> 6039.4579 | C63: ='Enthalpy Data'!Z19 -> 6039.1664 | D63: ='Enthalpy Data'!AA19 -> 6039.1931 | E63: ='Enthalpy Data'!AB19 -> 6039.2198 | F63: ='Enthalpy Data'!AC19 -> 6039.2464 | G63: ='Enthalpy Data'!AD19 -> 6039.2731 | H63: ='Enthalpy Data'!AE19 -> 6039.4063 | ... N63: ='Enthalpy Data'!AK19 -> 6040.2058 | P63: ='Enthalpy Data'!X56 -> 1850 | Q63: ='Enthalpy Data'!Y56 -> 3632.275 | R63: ='Enthalpy Data'!Z56 -> 3632.3751 | S63: ='Enthalpy Data'!AA56 -> 3632.4751 | T63: ='Enthalpy Data'!AB56 -> 3632.5752 | U63: ='Enthalpy Data'!AC56 -> 3632.6752 | V63: ='Enthalpy Data'!AD56 -> 3632.7753 | W63: ='Enthalpy Data'!AE56 -> 3633.2755 | ... AC63: ='Enthalpy Data'!AK56 -> 3636.277
A64: ='Enthalpy Data'!X20 -> 2800 | B64: ='Enthalpy Data'!Y20 -> 6175.5317 | C64: ='Enthalpy Data'!Z20 -> 6175.2315 | D64: ='Enthalpy Data'!AA20 -> 6175.2564 | E64: ='Enthalpy Data'!AB20 -> 6175.2813 | F64: ='Enthalpy Data'!AC20 -> 6175.3062 | G64: ='Enthalpy Data'!AD20 -> 6175.3311 | H64: ='Enthalpy Data'!AE20 -> 6175.4556 | ... N64: ='Enthalpy Data'!AK20 -> 6176.2026
A65: ='Enthalpy Data'!X21 -> 2850 | B65: ='Enthalpy Data'!Y21 -> 6312.1657 | C65: ='Enthalpy Data'!Z21 -> 6311.8568 | D65: ='Enthalpy Data'!AA21 -> 6311.8799 | E65: ='Enthalpy Data'!AB21 -> 6311.9031 | F65: ='Enthalpy Data'!AC21 -> 6311.9262 | G65: ='Enthalpy Data'!AD21 -> 6311.9493 | H65: ='Enthalpy Data'!AE21 -> 6312.0651 | ... N65: ='Enthalpy Data'!AK21 -> 6312.7596
A66: ='Enthalpy Data'!X22 -> 2900 | B66: ='Enthalpy Data'!Y22 -> 6448.7998 | C66: ='Enthalpy Data'!Z22 -> 6448.4845 | D66: ='Enthalpy Data'!AA22 -> 6448.5084 | E66: ='Enthalpy Data'!AB22 -> 6448.5323 | F66: ='Enthalpy Data'!AC22 -> 6448.5562 | G66: ='Enthalpy Data'!AD22 -> 6448.5801 | H66: ='Enthalpy Data'!AE22 -> 6448.6996 | ... N66: ='Enthalpy Data'!AK22 -> 6449.4166
A67: ='Enthalpy Data'!X23 -> 2950 | B67: ='Enthalpy Data'!Y23 -> 6585.6938 | C67: ='Enthalpy Data'!Z23 -> 6585.3702 | D67: ='Enthalpy Data'!AA23 -> 6585.3928 | E67: ='Enthalpy Data'!AB23 -> 6585.4154 | F67: ='Enthalpy Data'!AC23 -> 6585.438 | G67: ='Enthalpy Data'!AD23 -> 6585.4606 | H67: ='Enthalpy Data'!AE23 -> 6585.5736 | ... N67: ='Enthalpy Data'!AK23 -> 6586.2516
A68: ='Enthalpy Data'!X24 -> 3000 | B68: ='Enthalpy Data'!Y24 -> 6722.5979 | C68: ='Enthalpy Data'!Z24 -> 6722.2679 | D68: ='Enthalpy Data'!AA24 -> 6722.2913 | E68: ='Enthalpy Data'!AB24 -> 6722.3146 | F68: ='Enthalpy Data'!AC24 -> 6722.338 | G68: ='Enthalpy Data'!AD24 -> 6722.3614 | H68: ='Enthalpy Data'!AE24 -> 6722.4781 | ... N68: ='Enthalpy Data'!AK24 -> 6723.1786
A69: ='Enthalpy Data'!X25 -> 3050 | B69: ='Enthalpy Data'!Y25 -> 6859.5819 | C69: ='Enthalpy Data'!Z25 -> 6859.2461 | D69: ='Enthalpy Data'!AA25 -> 6859.2707 | E69: ='Enthalpy Data'!AB25 -> 6859.2952 | F69: ='Enthalpy Data'!AC25 -> 6859.3198 | G69: ='Enthalpy Data'!AD25 -> 6859.3444 | H69: ='Enthalpy Data'!AE25 -> 6859.4671 | ... N69: ='Enthalpy Data'!AK25 -> 6860.2036
