Workbook

Sheet ROD 
B1: CPT Assignment | H1: Input values | I1: Rod length (L) | J1: Crank Radius (R) | K1: Angular velocity | R1: Piston mass (kg) | S1: Pin | T1: Rings | U1: Rod | V1: Reciprocating mass | W1: Cylinder bore | X1: Piston area | Y1: Mu | Z1: Rod CSA | AA1: endurance limit | AB1: UTS (Pa)
I2: 0.134 | J2: 0.0407 | K2: 1000 | L2: 2000 | M2: 3000 | N2: 4000 | O2: 5000 | P2: 6000 | Q2: 7000 | R2: 0.258 | S2: 0.08 | T2: 0.009 | U2: 0.372 | V2: =R2+S2+T2+(U2/3) -> 0.471 | W2: 0.079 | X2: =(PI()*W2^2)/4 -> 0.0049016699 | Y2: 0.1 | Z2: 0.00013965 | AA2: 0.45 | AB2: 750000000
K3: =(K2*2*PI()/60) -> 104.71976 | L3: =(L2*2*PI()/60) -> 209.43951 | M3: =(M2*2*PI()/60) -> 314.15927 | N3: =(N2*2*PI()/60) -> 418.87902 | O3: =(O2*2*PI()/60) -> 523.59878 | P3: =(P2*2*PI()/60) -> 628.31853 | Q3: =(Q2*2*PI()/60) -> 733.03829
C5: Rod angle | E5: Piston position | F5: piston velocity | G5: Piston Velocity (m/s) | N5: Piston acceleration (m/s^2) | U5: Inertia Force | AB5: Piston force (gas force) | AH5: Net Force | AN5: Rod force | AT5: Piston lateral force | AZ5: Frictional force | BG5: Frod max | BM5: Frod min | BT5: Shear stress
C6: Phi (Rad) | D6: Phi (deg) | E6: S(m) | F6: V(m/°) | G6: 1000 | H6: 2000 | I6: 3000 | J6: 4000 | K6: 5000 | L6: 6000 | M6: 7000 | N6: 1000 | O6: 2000 | P6: 3000 | Q6: 4000 | R6: 5000 | S6: 6000 | T6: 7000 | U6: 1000 | V6: 2000 | W6: 3000 | X6: 4000 | Y6: 5000 | Z6: 6000 | AA6: 7000 | AB6: 1000 | AC6: 2000 | AD6: 3000 | AE6: 4000 | AF6: 5000 | AG6: 6000 | AH6: 1000 | AI6: 2000 | AJ6: 3000 | AK6: 4000 | AL6: 5000 | AM6: 6000 | AN6: 1000 | AO6: 2000 | AP6: 3000 | AQ6: 4000 | AR6: 5000 | AS6: 6000 | AT6: 1000 | AU6: 2000 | AV6: 3000 | AW6: 4000 | AX6: 5000 | AY6: 6000 | AZ6: 1000 | BA6: 2000 | BB6: 3000 | BC6: 4000 | BD6: 5000 | BE6: 6000 | BG6: 1000 | BH6: 2000 | BI6: 3000 | BJ6: 4000 | BK6: 5000 | BL6: 6000 | BM6: 1000 | BN6: 2000 | BO6: 3000 | BP6: 4000 | BQ6: 5000 | BR6: 6000 | BT6: 1000
A7: =B7*(PI()/180) -> -6.2831853 | B7: -360 | C7: =ASIN(($J$2*SIN(A7))/$I$2) -> 7.4423197e-17 | D7: =C7*180/PI() -> 4.2641351e-15 | E7: =($J$2+$I$2)-(($J$2*COS(A7))+($I$2*COS(C7))) -> 0 | F7: =E8-E7 -> 8.081449e-06 | G7: =$F7*6*G$6 -> 0.048488694 | H7: =$F7*6*H$6 -> 0.096977388 | I7: =$F7*6*I$6 -> 0.14546608 | J7: =$F7*6*J$6 -> 0.19395478 | K7: =$F7*6*K$6 -> 0.24244347 | L7: =$F7*6*L$6 -> 0.29093216 | M7: =$F7*6*M$6 -> 0.33942086 | N7: =($J$2*K$3^2*COS($A7))+(($J$2^2/$I$2)*K$3^2*COS(2*$A7)) -> 581.88847 | O7: =($J$2*L$3^2*COS($A7))+(($J$2^2/$I$2)*L$3^2*COS(2*$A7)) -> 2327.5539 | P7: =($J$2*M$3^2*COS($A7))+(($J$2^2/$I$2)*M$3^2*COS(2*$A7)) -> 5236.9962 | Q7: =($J$2*N$3^2*COS($A7))+(($J$2^2/$I$2)*N$3^2*COS(2*$A7)) -> 9310.2155 | R7: =($J$2*O$3^2*COS($A7))+(($J$2^2/$I$2)*O$3^2*COS(2*$A7)) -> 14547.212 | S7: =($J$2*P$3^2*COS($A7))+(($J$2^2/$I$2)*P$3^2*COS(2*$A7)) -> 20947.985 | T7: =($J$2*Q$3^2*COS($A7))+(($J$2^2/$I$2)*Q$3^2*COS(2*$A7)) -> 28512.535 | U7: =$V$2*N7 -> 274.06947 | V7: =$V$2*O7 -> 1096.2779 | W7: =$V$2*P7 -> 2466.6252 | X7: =$V$2*Q7 -> 4385.1115 | Y7: =$V$2*R7 -> 6851.7367 | Z7: =$V$2*S7 -> 9866.5009 | AA7: =$V$2*T7 -> 13429.404 | AB7: =$X$2*('Preassure data '!B5*10^5) -> 499.97033 | AC7: =$X$2*('Preassure data '!C5*10^5) -> 490.65716 | AD7: =$X$2*('Preassure data '!D5*10^5) -> 416.64194 | AE7: =$X$2*('Preassure data '!E5*10^5) -> 441.64046 | AF7: =$X$2*('Preassure data '!F5*10^5) -> 451.4438 | AG7: =$X$2*('Preassure data '!G5*10^5) -> 528.89019 | AH7: =U7-AB7 -> -225.90086 | AI7: =V7-AC7 -> 605.62072 | AJ7: =W7-AD7 -> 2049.9833 | AK7: =X7-AE7 -> 3943.471 | AL7: =Y7-AF7 -> 6400.2929 | AM7: =Z7-AG7 -> 9337.6107 | AN7: =AH7/COS($C7) -> -225.90086 | AO7: =AI7/COS($C7) -> 605.62072 | AP7: =AJ7/COS($C7) -> 2049.9833 | AQ7: =AK7/COS($C7) -> 3943.471 | AR7: =AL7/COS($C7) -> 6400.2929 | AS7: =AM7/COS($C7) -> 9337.6107 | AT7: =AH7*TAN($C7) -> -1.6812265e-14 | AU7: =AI7*TAN($C7) -> 4.507223e-14 | AV7: =AJ7*TAN($C7) -> 1.5256631e-13 | AW7: =AK7*TAN($C7) -> 2.9348572e-13 | AX7: =AL7*TAN($C7) -> 4.7633026e-13 | AY7: =AM7*TAN($C7) -> 6.9493484e-13 | AZ7: =AT7*$Y$2 -> -1.6812265e-15 | BA7: =AU7*$Y$2 -> 4.507223e-15 | BB7: =AV7*$Y$2 -> 1.5256631e-14 | BC7: =AW7*$Y$2 -> 2.9348572e-14 | BD7: =AX7*$Y$2 -> 4.7633026e-14 | BE7: =AY7*$Y$2 -> 6.9493484e-14 | BG7: =MAX(AN7:AN726) -> -218.75468 | BH7: =MAX(AO7:AO726) -> 608.77679 | BI7: =MAX(AP7:AP726) -> 2050.4871 | BJ7: =MAX(AQ7:AQ726) -> 3945.823 | BK7: =MAX(AR7:AR726) -> 6457.5163 | BL7: =MAX(AS7:AS726) -> 9369.0028 | BM7: =MIN(AN7:AN726) -> -23049.246 | BN7: =MIN(AO7:AO726) -> -29646.305 | BO7: =MIN(AP7:AP726) -> -30781.985 | BP7: =MIN(AQ7:AQ726) -> -29893.293 | BQ7: =MIN(AR7:AR726) -> -26225.084 | BR7: =MIN(AS7:AS726) -> -21906.769
A8: =B8*(PI()/180) -> -6.265732 | B8: -359 | C8: =ASIN(($J$2*SIN(A8))/$I$2) -> 0.0053008677 | D8: =C8*180/PI() -> 0.30371735 | E8: =($J$2+$I$2)-(($J$2*COS(A8))+($I$2*COS(C8))) -> 8.081449e-06 | F8: =E9-E8 -> 2.4240324e-05 | G8: =F8*6*$G$6 -> 0.14544194 | H8: =$F8*6*H$6 -> 0.29088388 | I8: =$F8*6*I$6 -> 0.43632583 | J8: =$F8*6*J$6 -> 0.58176777 | K8: =$F8*6*K$6 -> 0.72720971 | L8: =$F8*6*L$6 -> 0.87265165 | M8: =$F8*6*M$6 -> 1.0180936 | N8: =($J$2*K$3^2*COS($A8))+(($J$2^2/$I$2)*K$3^2*COS(2*$A8)) -> 581.73791 | O8: =($J$2*L$3^2*COS($A8))+(($J$2^2/$I$2)*L$3^2*COS(2*$A8)) -> 2326.9516 | P8: =($J$2*M$3^2*COS($A8))+(($J$2^2/$I$2)*M$3^2*COS(2*$A8)) -> 5235.6412 | Q8: =($J$2*N$3^2*COS($A8))+(($J$2^2/$I$2)*N$3^2*COS(2*$A8)) -> 9307.8066 | R8: =($J$2*O$3^2*COS($A8))+(($J$2^2/$I$2)*O$3^2*COS(2*$A8)) -> 14543.448 | S8: =($J$2*P$3^2*COS($A8))+(($J$2^2/$I$2)*P$3^2*COS(2*$A8)) -> 20942.565 | T8: =($J$2*Q$3^2*COS($A8))+(($J$2^2/$I$2)*Q$3^2*COS(2*$A8)) -> 28505.158 | U8: =$V$2*N8 -> 273.99856 | V8: =$V$2*O8 -> 1095.9942 | W8: =$V$2*P8 -> 2465.987 | X8: =$V$2*Q8 -> 4383.9769 | Y8: =$V$2*R8 -> 6849.9639 | Z8: =$V$2*S8 -> 9863.948 | AA8: =$V$2*T8 -> 13425.929 | AB8: =$X$2*('Preassure data '!B6*10^5) -> 498.49983 | AC8: =$X$2*('Preassure data '!C6*10^5) -> 487.22599 | AD8: =$X$2*('Preassure data '!D6*10^5) -> 416.64194 | AE8: =$X$2*('Preassure data '!E6*10^5) -> 438.20929 | AF8: =$X$2*('Preassure data '!F6*10^5) -> 427.91579 | AG8: =$X$2*('Preassure data '!G6*10^5) -> 519.57701 | AH8: =U8-AB8 -> -224.50128 | AI8: =V8-AC8 -> 608.76823 | AJ8: =W8-AD8 -> 2049.3451 | AK8: =X8-AE8 -> 3945.7676 | AL8: =Y8-AF8 -> 6422.0481 | AM8: =Z8-AG8 -> 9344.371 | AN8: =AH8/COS($C8) -> -224.50443 | AO8: =AI8/COS($C8) -> 608.77679 | AP8: =AJ8/COS($C8) -> 2049.3739 | AQ8: =AK8/COS($C8) -> 3945.823 | AR8: =AL8/COS($C8) -> 6422.1383 | AS8: =AM8/COS($C8) -> 9344.5023 | AT8: =AH8*TAN(C8) -> -1.1900627 | AU8: =AI8*TAN($C8) -> 3.2270301 | AV8: =AJ8*TAN($C8) -> 10.863409 | AW8: =AK8*TAN($C8) -> 20.916188 | AX8: =AL8*TAN($C8) -> 34.042746 | AY8: =AM8*TAN($C8) -> 49.533738 | AZ8: =AT8*$Y$2 -> -0.11900627 | BA8: =AU8*$Y$2 -> 0.32270301 | BB8: =AV8*$Y$2 -> 1.0863409 | BC8: =AW8*$Y$2 -> 2.0916188 | BD8: =AX8*$Y$2 -> 3.4042746 | BE8: =AY8*$Y$2 -> 4.9533738
A9: =B9*(PI()/180) -> -6.2482787 | B9: -358 | C9: =ASIN(($J$2*SIN(A9))/$I$2) -> 0.01060027 | D9: =C9*180/PI() -> 0.60735071 | E9: =($J$2+$I$2)-(($J$2*COS(A9))+($I$2*COS(C9))) -> 3.2321773e-05 | F9: =E10-E9 -> 4.0387131e-05 | G9: =F9*6*$G$6 -> 0.24232278 | H9: =$F9*6*H$6 -> 0.48464557 | I9: =$F9*6*I$6 -> 0.72696835 | J9: =$F9*6*J$6 -> 0.96929114 | K9: =$F9*6*K$6 -> 1.2116139 | L9: =$F9*6*L$6 -> 1.4539367 | M9: =$F9*6*M$6 -> 1.6962595 | N9: =($J$2*K$3^2*COS($A9))+(($J$2^2/$I$2)*K$3^2*COS(2*$A9)) -> 581.28636 | O9: =($J$2*L$3^2*COS($A9))+(($J$2^2/$I$2)*L$3^2*COS(2*$A9)) -> 2325.1454 | P9: =($J$2*M$3^2*COS($A9))+(($J$2^2/$I$2)*M$3^2*COS(2*$A9)) -> 5231.5772 | Q9: =($J$2*N$3^2*COS($A9))+(($J$2^2/$I$2)*N$3^2*COS(2*$A9)) -> 9300.5817 | R9: =($J$2*O$3^2*COS($A9))+(($J$2^2/$I$2)*O$3^2*COS(2*$A9)) -> 14532.159 | S9: =($J$2*P$3^2*COS($A9))+(($J$2^2/$I$2)*P$3^2*COS(2*$A9)) -> 20926.309 | T9: =($J$2*Q$3^2*COS($A9))+(($J$2^2/$I$2)*Q$3^2*COS(2*$A9)) -> 28483.031 | U9: =$V$2*N9 -> 273.78587 | V9: =$V$2*O9 -> 1095.1435 | W9: =$V$2*P9 -> 2464.0729 | X9: =$V$2*Q9 -> 4380.574 | Y9: =$V$2*R9 -> 6844.6468 | Z9: =$V$2*S9 -> 9856.2914 | AA9: =$V$2*T9 -> 13415.508 | AB9: =$X$2*('Preassure data '!B7*10^5) -> 497.5195 | AC9: =$X$2*('Preassure data '!C7*10^5) -> 488.69649 | AD9: =$X$2*('Preassure data '!D7*10^5) -> 417.62228 | AE9: =$X$2*('Preassure data '!E7*10^5) -> 439.67979 | AF9: =$X$2*('Preassure data '!F7*10^5) -> 409.28944 | AG9: =$X$2*('Preassure data '!G7*10^5) -> 502.42117 | AH9: =U9-AB9 -> -223.73363 | AI9: =V9-AC9 -> 606.447 | AJ9: =W9-AD9 -> 2046.4506 | AK9: =X9-AE9 -> 3940.8942 | AL9: =Y9-AF9 -> 6435.3574 | AM9: =Z9-AG9 -> 9353.8703 | AN9: =AH9/COS($C9) -> -223.7462 | AO9: =AI9/COS($C9) -> 606.48108 | AP9: =AJ9/COS($C9) -> 2046.5656 | AQ9: =AK9/COS($C9) -> 3941.1156 | AR9: =AL9/COS($C9) -> 6435.719 | AS9: =AM9/COS($C9) -> 9354.3958 | AT9: =AH9*TAN(C9) -> -2.3717256 | AU9: =AI9*TAN($C9) -> 6.4287425 | AV9: =AJ9*TAN($C9) -> 21.69374 | AW9: =AK9*TAN($C9) -> 41.776105 | AX9: =AL9*TAN($C9) -> 68.219078 | AY9: =AM9*TAN($C9) -> 99.15726 | AZ9: =AT9*$Y$2 -> -0.23717256 | BA9: =AU9*$Y$2 -> 0.64287425 | BB9: =AV9*$Y$2 -> 2.169374 | BC9: =AW9*$Y$2 -> 4.1776105 | BD9: =AX9*$Y$2 -> 6.8219078 | BE9: =AY9*$Y$2 -> 9.915726 | BG9: Max Stress | BM9: Min Stress
A10: =B10*(PI()/180) -> -6.2308254 | B10: -357 | C10: =ASIN(($J$2*SIN(A10))/$I$2) -> 0.01589674 | D10: =C10*180/PI() -> 0.9108161 | E10: =($J$2+$I$2)-(($J$2*COS(A10))+($I$2*COS(C10))) -> 7.2708904e-05 | F10: =E11-E10 -> 5.6513834e-05 | G10: =F10*6*$G$6 -> 0.339083 | H10: =$F10*6*H$6 -> 0.678166 | I10: =$F10*6*I$6 -> 1.017249 | J10: =$F10*6*J$6 -> 1.356332 | K10: =$F10*6*K$6 -> 1.695415 | L10: =$F10*6*L$6 -> 2.034498 | M10: =$F10*6*M$6 -> 2.373581 | N10: =($J$2*K$3^2*COS($A10))+(($J$2^2/$I$2)*K$3^2*COS(2*$A10)) -> 580.53417 | O10: =($J$2*L$3^2*COS($A10))+(($J$2^2/$I$2)*L$3^2*COS(2*$A10)) -> 2322.1367 | P10: =($J$2*M$3^2*COS($A10))+(($J$2^2/$I$2)*M$3^2*COS(2*$A10)) -> 5224.8075 | Q10: =($J$2*N$3^2*COS($A10))+(($J$2^2/$I$2)*N$3^2*COS(2*$A10)) -> 9288.5467 | R10: =($J$2*O$3^2*COS($A10))+(($J$2^2/$I$2)*O$3^2*COS(2*$A10)) -> 14513.354 | S10: =($J$2*P$3^2*COS($A10))+(($J$2^2/$I$2)*P$3^2*COS(2*$A10)) -> 20899.23 | T10: =($J$2*Q$3^2*COS($A10))+(($J$2^2/$I$2)*Q$3^2*COS(2*$A10)) -> 28446.174 | U10: =$V$2*N10 -> 273.43159 | V10: =$V$2*O10 -> 1093.7264 | W10: =$V$2*P10 -> 2460.8843 | X10: =$V$2*Q10 -> 4374.9055 | Y10: =$V$2*R10 -> 6835.7898 | Z10: =$V$2*S10 -> 9843.5374 | AA10: =$V$2*T10 -> 13398.148 | AB10: =$X$2*('Preassure data '!B8*10^5) -> 495.06866 | AC10: =$X$2*('Preassure data '!C8*10^5) -> 486.73582 | AD10: =$X$2*('Preassure data '!D8*10^5) -> 420.07311 | AE10: =$X$2*('Preassure data '!E8*10^5) -> 441.64046 | AF10: =$X$2*('Preassure data '!F8*10^5) -> 394.58443 | AG10: =$X$2*('Preassure data '!G8*10^5) -> 478.89315 | AH10: =U10-AB10 -> -221.63707 | AI10: =V10-AC10 -> 606.99055 | AJ10: =W10-AD10 -> 2040.8112 | AK10: =X10-AE10 -> 3933.265 | AL10: =Y10-AF10 -> 6441.2054 | AM10: =Z10-AG10 -> 9364.6442 | AN10: =AH10/COS($C10) -> -221.66508 | AO10: =AI10/COS($C10) -> 607.06725 | AP10: =AJ10/COS($C10) -> 2041.0691 | AQ10: =AK10/COS($C10) -> 3933.7621 | AR10: =AL10/COS($C10) -> 6442.0194 | AS10: =AM10/COS($C10) -> 9365.8276 | AT10: =AH10*TAN(C10) -> -3.5236037 | AU10: =AI10*TAN($C10) -> 9.6499837 | AV10: =AJ10*TAN($C10) -> 32.444978 | AW10: =AK10*TAN($C10) -> 62.531358 | AX10: =AL10*TAN($C10) -> 102.40279 | AY10: =AM10*TAN($C10) -> 148.87985 | AZ10: =AT10*$Y$2 -> -0.35236037 | BA10: =AU10*$Y$2 -> 0.96499837 | BB10: =AV10*$Y$2 -> 3.2444978 | BC10: =AW10*$Y$2 -> 6.2531358 | BD10: =AX10*$Y$2 -> 10.240279 | BE10: =AY10*$Y$2 -> 14.887985 | BG10: =BG7/$Z$2 -> -1566449.6 | BH10: =BH7/$Z$2 -> 4359303.9 | BI10: =BI7/$Z$2 -> 14683044 | BJ10: =BJ7/$Z$2 -> 28255088 | BK10: =BK7/$Z$2 -> 46240718 | BL10: =BL7/$Z$2 -> 67089172 | BM10: =BM7/$Z$2 -> -1.650501e+08 | BN10: =BN7/$Z$2 -> -2.1229005e+08 | ... BR10: =BR7/$Z$2 -> -1.5686909e+08
A11: =B11*(PI()/180) -> -6.2133721 | B11: -356 | C11: =ASIN(($J$2*SIN(A11))/$I$2) -> 0.021188813 | D11: =C11*180/PI() -> 1.2140296 | E11: =($J$2+$I$2)-(($J$2*COS(A11))+($I$2*COS(C11))) -> 0.00012922274 | F11: =E12-E11 -> 7.2612408e-05 | G11: =F11*6*$G$6 -> 0.43567445 | H11: =$F11*6*H$6 -> 0.87134889 | I11: =$F11*6*I$6 -> 1.3070233 | J11: =$F11*6*J$6 -> 1.7426978 | K11: =$F11*6*K$6 -> 2.1783722 | L11: =$F11*6*L$6 -> 2.6140467 | M11: =$F11*6*M$6 -> 3.0497211 | N11: =($J$2*K$3^2*COS($A11))+(($J$2^2/$I$2)*K$3^2*COS(2*$A11)) -> 579.48195 | O11: =($J$2*L$3^2*COS($A11))+(($J$2^2/$I$2)*L$3^2*COS(2*$A11)) -> 2317.9278 | P11: =($J$2*M$3^2*COS($A11))+(($J$2^2/$I$2)*M$3^2*COS(2*$A11)) -> 5215.3376 | Q11: =($J$2*N$3^2*COS($A11))+(($J$2^2/$I$2)*N$3^2*COS(2*$A11)) -> 9271.7113 | R11: =($J$2*O$3^2*COS($A11))+(($J$2^2/$I$2)*O$3^2*COS(2*$A11)) -> 14487.049 | S11: =($J$2*P$3^2*COS($A11))+(($J$2^2/$I$2)*P$3^2*COS(2*$A11)) -> 20861.35 | T11: =($J$2*Q$3^2*COS($A11))+(($J$2^2/$I$2)*Q$3^2*COS(2*$A11)) -> 28394.616 | U11: =$V$2*N11 -> 272.936 | V11: =$V$2*O11 -> 1091.744 | W11: =$V$2*P11 -> 2456.424 | X11: =$V$2*Q11 -> 4366.976 | Y11: =$V$2*R11 -> 6823.4 | Z11: =$V$2*S11 -> 9825.696 | AA11: =$V$2*T11 -> 13373.864 | AB11: =$X$2*('Preassure data '!B9*10^5) -> 492.61783 | AC11: =$X$2*('Preassure data '!C9*10^5) -> 487.71616 | AD11: =$X$2*('Preassure data '!D9*10^5) -> 421.05345 | AE11: =$X$2*('Preassure data '!E9*10^5) -> 440.16996 | AF11: =$X$2*('Preassure data '!F9*10^5) -> 377.91875 | AG11: =$X$2*('Preassure data '!G9*10^5) -> 458.79631 | AH11: =U11-AB11 -> -219.68183 | AI11: =V11-AC11 -> 604.02784 | AJ11: =W11-AD11 -> 2035.3706 | AK11: =X11-AE11 -> 3926.806 | AL11: =Y11-AF11 -> 6445.4813 | AM11: =Z11-AG11 -> 9366.8997 | AN11: =AH11/COS($C11) -> -219.73115 | AO11: =AI11/COS($C11) -> 604.16346 | AP11: =AJ11/COS($C11) -> 2035.8275 | AQ11: =AK11/COS($C11) -> 3927.6877 | AR11: =AL11/COS($C11) -> 6446.9284 | AS11: =AM11/COS($C11) -> 9369.0028 | AT11: =AH11*TAN(C11) -> -4.6554939 | AU11: =AI11*TAN($C11) -> 12.800549 | AV11: =AJ11*TAN($C11) -> 43.133541 | AW11: =AK11*TAN($C11) -> 83.216813 | AX11: =AL11*TAN($C11) -> 136.59254 | AY11: =AM11*TAN($C11) -> 198.50319 | AZ11: =AT11*$Y$2 -> -0.46554939 | BA11: =AU11*$Y$2 -> 1.2800549 | BB11: =AV11*$Y$2 -> 4.3133541 | BC11: =AW11*$Y$2 -> 8.3216813 | BD11: =AX11*$Y$2 -> 13.659254 | BE11: =AY11*$Y$2 -> 19.850319
A12: =B12*(PI()/180) -> -6.1959188 | B12: -355 | C12: =ASIN(($J$2*SIN(A12))/$I$2) -> 0.026475024 | D12: =C12*180/PI() -> 1.5169071 | E12: =($J$2+$I$2)-(($J$2*COS(A12))+($I$2*COS(C12))) -> 0.00020183515 | F12: =E13-E12 -> 8.8674846e-05 | G12: =F12*6*$G$6 -> 0.53204908 | H12: =$F12*6*H$6 -> 1.0640982 | I12: =$F12*6*I$6 -> 1.5961472 | J12: =$F12*6*J$6 -> 2.1281963 | K12: =$F12*6*K$6 -> 2.6602454 | L12: =$F12*6*L$6 -> 3.1922945 | M12: =$F12*6*M$6 -> 3.7243435 | N12: =($J$2*K$3^2*COS($A12))+(($J$2^2/$I$2)*K$3^2*COS(2*$A12)) -> 578.13056 | O12: =($J$2*L$3^2*COS($A12))+(($J$2^2/$I$2)*L$3^2*COS(2*$A12)) -> 2312.5222 | P12: =($J$2*M$3^2*COS($A12))+(($J$2^2/$I$2)*M$3^2*COS(2*$A12)) -> 5203.175 | Q12: =($J$2*N$3^2*COS($A12))+(($J$2^2/$I$2)*N$3^2*COS(2*$A12)) -> 9250.089 | R12: =($J$2*O$3^2*COS($A12))+(($J$2^2/$I$2)*O$3^2*COS(2*$A12)) -> 14453.264 | S12: =($J$2*P$3^2*COS($A12))+(($J$2^2/$I$2)*P$3^2*COS(2*$A12)) -> 20812.7 | T12: =($J$2*Q$3^2*COS($A12))+(($J$2^2/$I$2)*Q$3^2*COS(2*$A12)) -> 28328.397 | U12: =$V$2*N12 -> 272.29949 | V12: =$V$2*O12 -> 1089.198 | W12: =$V$2*P12 -> 2450.6954 | X12: =$V$2*Q12 -> 4356.7919 | Y12: =$V$2*R12 -> 6807.4873 | Z12: =$V$2*S12 -> 9802.7818 | AA12: =$V$2*T12 -> 13342.675 | AB12: =$X$2*('Preassure data '!B10*10^5) -> 492.61783 | AC12: =$X$2*('Preassure data '!C10*10^5) -> 485.75549 | AD12: =$X$2*('Preassure data '!D10*10^5) -> 422.52395 | AE12: =$X$2*('Preassure data '!E10*10^5) -> 435.26829 | AF12: =$X$2*('Preassure data '!F10*10^5) -> 354.8809 | AG12: =$X$2*('Preassure data '!G10*10^5) -> 450.95363 | AH12: =U12-AB12 -> -220.31834 | AI12: =V12-AC12 -> 603.44248 | AJ12: =W12-AD12 -> 2028.1715 | AK12: =X12-AE12 -> 3921.5236 | AL12: =Y12-AF12 -> 6452.6064 | AM12: =Z12-AG12 -> 9351.8281 | AN12: =AH12/COS($C12) -> -220.39557 | AO12: =AI12/COS($C12) -> 603.65403 | AP12: =AJ12/COS($C12) -> 2028.8825 | AQ12: =AK12/COS($C12) -> 3922.8984 | AR12: =AL12/COS($C12) -> 6454.8685 | AS12: =AM12/COS($C12) -> 9355.1066 | AT12: =AH12*TAN(C12) -> -5.8342963 | AU12: =AI12*TAN($C12) -> 15.979888 | AV12: =AJ12*TAN($C12) -> 53.708437 | AW12: =AK12*TAN($C12) -> 103.84669 | AX12: =AL12*TAN($C12) -> 170.87283 | AY12: =AM12*TAN($C12) -> 247.64773 | AZ12: =AT12*$Y$2 -> -0.58342963 | BA12: =AU12*$Y$2 -> 1.5979888 | BB12: =AV12*$Y$2 -> 5.3708437 | BC12: =AW12*$Y$2 -> 10.384669 | BD12: =AX12*$Y$2 -> 17.087283 | BE12: =AY12*$Y$2 -> 24.764773 | BG12: Stress Range
A13: =B13*(PI()/180) -> -6.1784656 | B13: -354 | C13: =ASIN(($J$2*SIN(A13))/$I$2) -> 0.031753907 | D13: =C13*180/PI() -> 1.8193648 | E13: =($J$2+$I$2)-(($J$2*COS(A13))+($I$2*COS(C13))) -> 0.00029050999 | F13: =E14-E13 -> 0.00010469316 | G13: =F13*6*$G$6 -> 0.62815898 | H13: =$F13*6*H$6 -> 1.256318 | I13: =$F13*6*I$6 -> 1.8844769 | J13: =$F13*6*J$6 -> 2.5126359 | K13: =$F13*6*K$6 -> 3.1407949 | L13: =$F13*6*L$6 -> 3.7689539 | M13: =$F13*6*M$6 -> 4.3971129 | N13: =($J$2*K$3^2*COS($A13))+(($J$2^2/$I$2)*K$3^2*COS(2*$A13)) -> 576.48108 | O13: =($J$2*L$3^2*COS($A13))+(($J$2^2/$I$2)*L$3^2*COS(2*$A13)) -> 2305.9243 | P13: =($J$2*M$3^2*COS($A13))+(($J$2^2/$I$2)*M$3^2*COS(2*$A13)) -> 5188.3297 | Q13: =($J$2*N$3^2*COS($A13))+(($J$2^2/$I$2)*N$3^2*COS(2*$A13)) -> 9223.6972 | R13: =($J$2*O$3^2*COS($A13))+(($J$2^2/$I$2)*O$3^2*COS(2*$A13)) -> 14412.027 | S13: =($J$2*P$3^2*COS($A13))+(($J$2^2/$I$2)*P$3^2*COS(2*$A13)) -> 20753.319 | T13: =($J$2*Q$3^2*COS($A13))+(($J$2^2/$I$2)*Q$3^2*COS(2*$A13)) -> 28247.573 | U13: =$V$2*N13 -> 271.52259 | V13: =$V$2*O13 -> 1086.0903 | W13: =$V$2*P13 -> 2443.7033 | X13: =$V$2*Q13 -> 4344.3614 | Y13: =$V$2*R13 -> 6788.0647 | Z13: =$V$2*S13 -> 9774.8131 | AA13: =$V$2*T13 -> 13304.607 | AB13: =$X$2*('Preassure data '!B11*10^5) -> 490.16699 | AC13: =$X$2*('Preassure data '!C11*10^5) -> 485.26532 | AD13: =$X$2*('Preassure data '!D11*10^5) -> 423.99445 | AE13: =$X$2*('Preassure data '!E11*10^5) -> 430.36662 | AF13: =$X$2*('Preassure data '!F11*10^5) -> 333.80372 | AG13: =$X$2*('Preassure data '!G11*10^5) -> 452.9143 | AH13: =U13-AB13 -> -218.64441 | AI13: =V13-AC13 -> 600.82502 | AJ13: =W13-AD13 -> 2019.7088 | AK13: =X13-AE13 -> 3913.9948 | AL13: =Y13-AF13 -> 6454.2609 | AM13: =Z13-AG13 -> 9321.8988 | AN13: =AH13/COS($C13) -> -218.75468 | AO13: =AI13/COS($C13) -> 601.12806 | AP13: =AJ13/COS($C13) -> 2020.7275 | AQ13: =AK13/COS($C13) -> 3915.9689 | AR13: =AL13/COS($C13) -> 6457.5163 | AS13: =AM13/COS($C13) -> 9326.6005 | AT13: =AH13*TAN(C13) -> -6.9451485 | AU13: =AI13*TAN($C13) -> 19.084957 | AV13: =AJ13*TAN($C13) -> 64.15521 | AW13: =AK13*TAN($C13) -> 124.32641 | AX13: =AL13*TAN($C13) -> 205.01691 | AY13: =AM13*TAN($C13) -> 296.10623 | AZ13: =AT13*$Y$2 -> -0.69451485 | BA13: =AU13*$Y$2 -> 1.9084957 | BB13: =AV13*$Y$2 -> 6.415521 | BC13: =AW13*$Y$2 -> 12.432641 | BD13: =AX13*$Y$2 -> 20.501691 | BE13: =AY13*$Y$2 -> 29.610623 | BG13: =BG10-BM10 -> 1.6348365e+08 | BH13: =BH10-BN10 -> 2.1664935e+08 | BI13: =BI10-BO10 -> 2.3510542e+08 | BJ13: =BJ10-BP10 -> 2.4231375e+08 | BK13: =BK10-BQ10 -> 2.3403222e+08 | BL13: =BL10-BR10 -> 2.2395826e+08
A14: =B14*(PI()/180) -> -6.1610123 | B14: -353 | C14: =ASIN(($J$2*SIN(A14))/$I$2) -> 0.037023997 | D14: =C14*180/PI() -> 2.1213188 | E14: =($J$2+$I$2)-(($J$2*COS(A14))+($I$2*COS(C14))) -> 0.00039520316 | F14: =E15-E14 -> 0.0001206594 | G14: =F14*6*$G$6 -> 0.72395642 | H14: =$F14*6*H$6 -> 1.4479128 | I14: =$F14*6*I$6 -> 2.1718693 | J14: =$F14*6*J$6 -> 2.8958257 | K14: =$F14*6*K$6 -> 3.6197821 | L14: =$F14*6*L$6 -> 4.3437385 | M14: =$F14*6*M$6 -> 5.0676949 | N14: =($J$2*K$3^2*COS($A14))+(($J$2^2/$I$2)*K$3^2*COS(2*$A14)) -> 574.53483 | O14: =($J$2*L$3^2*COS($A14))+(($J$2^2/$I$2)*L$3^2*COS(2*$A14)) -> 2298.1393 | P14: =($J$2*M$3^2*COS($A14))+(($J$2^2/$I$2)*M$3^2*COS(2*$A14)) -> 5170.8134 | Q14: =($J$2*N$3^2*COS($A14))+(($J$2^2/$I$2)*N$3^2*COS(2*$A14)) -> 9192.5572 | R14: =($J$2*O$3^2*COS($A14))+(($J$2^2/$I$2)*O$3^2*COS(2*$A14)) -> 14363.371 | S14: =($J$2*P$3^2*COS($A14))+(($J$2^2/$I$2)*P$3^2*COS(2*$A14)) -> 20683.254 | T14: =($J$2*Q$3^2*COS($A14))+(($J$2^2/$I$2)*Q$3^2*COS(2*$A14)) -> 28152.207 | U14: =$V$2*N14 -> 270.6059 | V14: =$V$2*O14 -> 1082.4236 | W14: =$V$2*P14 -> 2435.4531 | X14: =$V$2*Q14 -> 4329.6945 | Y14: =$V$2*R14 -> 6765.1476 | Z14: =$V$2*S14 -> 9741.8125 | AA14: =$V$2*T14 -> 13259.689 | AB14: =$X$2*('Preassure data '!B12*10^5) -> 490.16699 | AC14: =$X$2*('Preassure data '!C12*10^5) -> 482.81449 | AD14: =$X$2*('Preassure data '!D12*10^5) -> 421.05345 | AE14: =$X$2*('Preassure data '!E12*10^5) -> 428.40595 | AF14: =$X$2*('Preassure data '!F12*10^5) -> 317.13804 | AG14: =$X$2*('Preassure data '!G12*10^5) -> 446.05196 | AH14: =U14-AB14 -> -219.56109 | AI14: =V14-AC14 -> 599.60912 | AJ14: =W14-AD14 -> 2014.3997 | AK14: =X14-AE14 -> 3901.2885 | AL14: =Y14-AF14 -> 6448.0095 | AM14: =Z14-AG14 -> 9295.7606 | AN14: =AH14/COS($C14) -> -219.71166 | AO14: =AI14/COS($C14) -> 600.02032 | AP14: =AJ14/COS($C14) -> 2015.7811 | AQ14: =AK14/COS($C14) -> 3903.9639 | AR14: =AL14/COS($C14) -> 6452.4315 | AS14: =AM14/COS($C14) -> 9302.1354 | AT14: =AH14*TAN(C14) -> -8.1327456 | AU14: =AI14*TAN($C14) -> 22.210076 | AV14: =AJ14*TAN($C14) -> 74.615225 | AW14: =AK14*TAN($C14) -> 144.50733 | AX14: =AL14*TAN($C14) -> 238.84023 | AY14: =AM14*TAN($C14) -> 344.32356 | AZ14: =AT14*$Y$2 -> -0.81327456 | BA14: =AU14*$Y$2 -> 2.2210076 | BB14: =AV14*$Y$2 -> 7.4615225 | BC14: =AW14*$Y$2 -> 14.450733 | BD14: =AX14*$Y$2 -> 23.884023 | BE14: =AY14*$Y$2 -> 34.432356
A15: =B15*(PI()/180) -> -6.143559 | B15: -352 | C15: =ASIN(($J$2*SIN(A15))/$I$2) -> 0.042283832 | D15: =C15*180/PI() -> 2.4226851 | E15: =($J$2+$I$2)-(($J$2*COS(A15))+($I$2*COS(C15))) -> 0.00051586256 | F15: =E16-E15 -> 0.00013656564 | G15: =F15*6*$G$6 -> 0.81939383 | H15: =$F15*6*H$6 -> 1.6387877 | I15: =$F15*6*I$6 -> 2.4581815 | J15: =$F15*6*J$6 -> 3.2775753 | K15: =$F15*6*K$6 -> 4.0969692 | L15: =$F15*6*L$6 -> 4.916363 | M15: =$F15*6*M$6 -> 5.7357568 | N15: =($J$2*K$3^2*COS($A15))+(($J$2^2/$I$2)*K$3^2*COS(2*$A15)) -> 572.29338 | O15: =($J$2*L$3^2*COS($A15))+(($J$2^2/$I$2)*L$3^2*COS(2*$A15)) -> 2289.1735 | P15: =($J$2*M$3^2*COS($A15))+(($J$2^2/$I$2)*M$3^2*COS(2*$A15)) -> 5150.6404 | Q15: =($J$2*N$3^2*COS($A15))+(($J$2^2/$I$2)*N$3^2*COS(2*$A15)) -> 9156.6941 | R15: =($J$2*O$3^2*COS($A15))+(($J$2^2/$I$2)*O$3^2*COS(2*$A15)) -> 14307.334 | S15: =($J$2*P$3^2*COS($A15))+(($J$2^2/$I$2)*P$3^2*COS(2*$A15)) -> 20602.562 | T15: =($J$2*Q$3^2*COS($A15))+(($J$2^2/$I$2)*Q$3^2*COS(2*$A15)) -> 28042.376 | U15: =$V$2*N15 -> 269.55018 | V15: =$V$2*O15 -> 1078.2007 | W15: =$V$2*P15 -> 2425.9516 | X15: =$V$2*Q15 -> 4312.8029 | Y15: =$V$2*R15 -> 6738.7545 | Z15: =$V$2*S15 -> 9703.8065 | AA15: =$V$2*T15 -> 13207.959 | AB15: =$X$2*('Preassure data '!B13*10^5) -> 490.16699 | AC15: =$X$2*('Preassure data '!C13*10^5) -> 482.32432 | AD15: =$X$2*('Preassure data '!D13*10^5) -> 420.07311 | AE15: =$X$2*('Preassure data '!E13*10^5) -> 430.36662 | AF15: =$X$2*('Preassure data '!F13*10^5) -> 303.90354 | AG15: =$X$2*('Preassure data '!G13*10^5) -> 428.40595 | AH15: =U15-AB15 -> -220.61681 | AI15: =V15-AC15 -> 595.87641 | AJ15: =W15-AD15 -> 2005.8785 | AK15: =X15-AE15 -> 3882.4363 | AL15: =Y15-AF15 -> 6434.851 | AM15: =Z15-AG15 -> 9275.4006 | AN15: =AH15/COS($C15) -> -220.81418 | AO15: =AI15/COS($C15) -> 596.40949 | AP15: =AJ15/COS($C15) -> 2007.673 | AQ15: =AK15/COS($C15) -> 3885.9096 | AR15: =AL15/COS($C15) -> 6440.6078 | AS15: =AM15/COS($C15) -> 9283.6986 | AT15: =AH15*TAN(C15) -> -9.3340877 | AU15: =AI15*TAN($C15) -> 25.210965 | AV15: =AJ15*TAN($C15) -> 84.866815 | AW15: =AK15*TAN($C15) -> 164.26219 | AX15: =AL15*TAN($C15) -> 272.25243 | AY15: =AM15*TAN($C15) -> 392.43339 | AZ15: =AT15*$Y$2 -> -0.93340877 | BA15: =AU15*$Y$2 -> 2.5210965 | BB15: =AV15*$Y$2 -> 8.4866815 | BC15: =AW15*$Y$2 -> 16.426219 | BD15: =AX15*$Y$2 -> 27.225243 | BE15: =AY15*$Y$2 -> 39.243339 | BG15: Stress mean
A16: =B16*(PI()/180) -> -6.1261057 | B16: -351 | C16: =ASIN(($J$2*SIN(A16))/$I$2) -> 0.047531946 | D16: =C16*180/PI() -> 2.7233799 | E16: =($J$2+$I$2)-(($J$2*COS(A16))+($I$2*COS(C16))) -> 0.0006524282 | F16: =E17-E16 -> 0.00015240398 | G16: =F16*6*$G$6 -> 0.91442389 | H16: =$F16*6*H$6 -> 1.8288478 | I16: =$F16*6*I$6 -> 2.7432717 | J16: =$F16*6*J$6 -> 3.6576956 | K16: =$F16*6*K$6 -> 4.5721194 | L16: =$F16*6*L$6 -> 5.4865433 | M16: =$F16*6*M$6 -> 6.4009672 | N16: =($J$2*K$3^2*COS($A16))+(($J$2^2/$I$2)*K$3^2*COS(2*$A16)) -> 569.75854 | O16: =($J$2*L$3^2*COS($A16))+(($J$2^2/$I$2)*L$3^2*COS(2*$A16)) -> 2279.0341 | P16: =($J$2*M$3^2*COS($A16))+(($J$2^2/$I$2)*M$3^2*COS(2*$A16)) -> 5127.8268 | Q16: =($J$2*N$3^2*COS($A16))+(($J$2^2/$I$2)*N$3^2*COS(2*$A16)) -> 9116.1366 | R16: =($J$2*O$3^2*COS($A16))+(($J$2^2/$I$2)*O$3^2*COS(2*$A16)) -> 14243.963 | S16: =($J$2*P$3^2*COS($A16))+(($J$2^2/$I$2)*P$3^2*COS(2*$A16)) -> 20511.307 | T16: =($J$2*Q$3^2*COS($A16))+(($J$2^2/$I$2)*Q$3^2*COS(2*$A16)) -> 27918.168 | U16: =$V$2*N16 -> 268.35627 | V16: =$V$2*O16 -> 1073.4251 | W16: =$V$2*P16 -> 2415.2064 | X16: =$V$2*Q16 -> 4293.7003 | Y16: =$V$2*R16 -> 6708.9068 | Z16: =$V$2*S16 -> 9660.8257 | AA16: =$V$2*T16 -> 13149.457 | AB16: =$X$2*('Preassure data '!B14*10^5) -> 488.69649 | AC16: =$X$2*('Preassure data '!C14*10^5) -> 483.79482 | AD16: =$X$2*('Preassure data '!D14*10^5) -> 419.58295 | AE16: =$X$2*('Preassure data '!E14*10^5) -> 427.91579 | AF16: =$X$2*('Preassure data '!F14*10^5) -> 294.1002 | AG16: =$X$2*('Preassure data '!G14*10^5) -> 410.26977 | AH16: =U16-AB16 -> -220.34022 | AI16: =V16-AC16 -> 589.63026 | AJ16: =W16-AD16 -> 1995.6235 | AK16: =X16-AE16 -> 3865.7845 | AL16: =Y16-AF16 -> 6414.8066 | AM16: =Z16-AG16 -> 9250.556 | AN16: =AH16/COS($C16) -> -220.58936 | AO16: =AI16/COS($C16) -> 590.29696 | AP16: =AJ16/COS($C16) -> 1997.88 | AQ16: =AK16/COS($C16) -> 3870.1556 | AR16: =AL16/COS($C16) -> 6422.0598 | AS16: =AM16/COS($C16) -> 9261.0156 | AT16: =AH16*TAN(C16) -> -10.481094 | AU16: =AI16*TAN($C16) -> 28.047399 | AV16: =AJ16*TAN($C16) -> 94.927368 | AW16: =AK16*TAN($C16) -> 183.88677 | AX16: =AL16*TAN($C16) -> 305.13807 | AY16: =AM16*TAN($C16) -> 440.02836 | AZ16: =AT16*$Y$2 -> -1.0481094 | BA16: =AU16*$Y$2 -> 2.8047399 | BB16: =AV16*$Y$2 -> 9.4927368 | BC16: =AW16*$Y$2 -> 18.388677 | BD16: =AX16*$Y$2 -> 30.513807 | BE16: =AY16*$Y$2 -> 44.002836 | BG16: =(BM10+BG10)/2 -> -83308274 | BH16: =(BN10+BH10)/2 -> -1.0396537e+08 | BI16: =(BO10+BI10)/2 -> -1.0286967e+08 | BJ16: =(BP10+BJ10)/2 -> -92901789 | BK16: =(BQ10+BK10)/2 -> -70775394 | BL16: =(BR10+BL10)/2 -> -44889961
A17: =B17*(PI()/180) -> -6.1086524 | B17: -350 | C17: =ASIN(($J$2*SIN(A17))/$I$2) -> 0.052766878 | D17: =C17*180/PI() -> 3.0233194 | E17: =($J$2+$I$2)-(($J$2*COS(A17))+($I$2*COS(C17))) -> 0.00080483218 | F17: =E18-E17 -> 0.00016816659 | G17: =F17*6*$G$6 -> 1.0089995 | H17: =$F17*6*H$6 -> 2.017999 | I17: =$F17*6*I$6 -> 3.0269985 | J17: =$F17*6*J$6 -> 4.035998 | K17: =$F17*6*K$6 -> 5.0449976 | L17: =$F17*6*L$6 -> 6.0539971 | M17: =$F17*6*M$6 -> 7.0629966 | N17: =($J$2*K$3^2*COS($A17))+(($J$2^2/$I$2)*K$3^2*COS(2*$A17)) -> 566.93233 | O17: =($J$2*L$3^2*COS($A17))+(($J$2^2/$I$2)*L$3^2*COS(2*$A17)) -> 2267.7293 | P17: =($J$2*M$3^2*COS($A17))+(($J$2^2/$I$2)*M$3^2*COS(2*$A17)) -> 5102.391 | Q17: =($J$2*N$3^2*COS($A17))+(($J$2^2/$I$2)*N$3^2*COS(2*$A17)) -> 9070.9173 | R17: =($J$2*O$3^2*COS($A17))+(($J$2^2/$I$2)*O$3^2*COS(2*$A17)) -> 14173.308 | S17: =($J$2*P$3^2*COS($A17))+(($J$2^2/$I$2)*P$3^2*COS(2*$A17)) -> 20409.564 | T17: =($J$2*Q$3^2*COS($A17))+(($J$2^2/$I$2)*Q$3^2*COS(2*$A17)) -> 27779.684 | U17: =$V$2*N17 -> 267.02513 | V17: =$V$2*O17 -> 1068.1005 | W17: =$V$2*P17 -> 2403.2262 | X17: =$V$2*Q17 -> 4272.4021 | Y17: =$V$2*R17 -> 6675.6282 | Z17: =$V$2*S17 -> 9612.9046 | AA17: =$V$2*T17 -> 13084.231 | AB17: =$X$2*('Preassure data '!B15*10^5) -> 487.71616 | AC17: =$X$2*('Preassure data '!C15*10^5) -> 484.28499 | AD17: =$X$2*('Preassure data '!D15*10^5) -> 417.62228 | AE17: =$X$2*('Preassure data '!E15*10^5) -> 420.56328 | AF17: =$X$2*('Preassure data '!F15*10^5) -> 290.66903 | AG17: =$X$2*('Preassure data '!G15*10^5) -> 397.52543 | AH17: =U17-AB17 -> -220.69103 | AI17: =V17-AC17 -> 583.81553 | AJ17: =W17-AD17 -> 1985.6039 | AK17: =X17-AE17 -> 3851.8388 | AL17: =Y17-AF17 -> 6384.9592 | AM17: =Z17-AG17 -> 9215.3792 | AN17: =AH17/COS($C17) -> -220.99863 | AO17: =AI17/COS($C17) -> 584.62924 | AP17: =AJ17/COS($C17) -> 1988.3714 | AQ17: =AK17/COS($C17) -> 3857.2074 | AR17: =AL17/COS($C17) -> 6393.8585 | AS17: =AM17/COS($C17) -> 9228.2235 | AT17: =AH17*TAN(C17) -> -11.655997 | AU17: =AI17*TAN($C17) -> 30.834746 | AV17: =AJ17*TAN($C17) -> 104.87147 | AW17: =AK17*TAN($C17) -> 203.43835 | AX17: =AL17*TAN($C17) -> 337.2274 | AY17: =AM17*TAN($C17) -> 486.7186 | AZ17: =AT17*$Y$2 -> -1.1655997 | BA17: =AU17*$Y$2 -> 3.0834746 | BB17: =AV17*$Y$2 -> 10.487147 | BC17: =AW17*$Y$2 -> 20.343835 | BD17: =AX17*$Y$2 -> 33.72274 | BE17: =AY17*$Y$2 -> 48.67186
A18: =B18*(PI()/180) -> -6.0911991 | B18: -349 | C18: =ASIN(($J$2*SIN(A18))/$I$2) -> 0.057987164 | D18: =C18*180/PI() -> 3.3224198 | E18: =($J$2+$I$2)-(($J$2*COS(A18))+($I$2*COS(C18))) -> 0.00097299876 | F18: =E19-E18 -> 0.00018384565 | G18: =F18*6*$G$6 -> 1.1030739 | H18: =$F18*6*H$6 -> 2.2061478 | I18: =$F18*6*I$6 -> 3.3092217 | J18: =$F18*6*J$6 -> 4.4122956 | K18: =$F18*6*K$6 -> 5.5153695 | L18: =$F18*6*L$6 -> 6.6184434 | M18: =$F18*6*M$6 -> 7.7215174 | N18: =($J$2*K$3^2*COS($A18))+(($J$2^2/$I$2)*K$3^2*COS(2*$A18)) -> 563.81704 | O18: =($J$2*L$3^2*COS($A18))+(($J$2^2/$I$2)*L$3^2*COS(2*$A18)) -> 2255.2681 | P18: =($J$2*M$3^2*COS($A18))+(($J$2^2/$I$2)*M$3^2*COS(2*$A18)) -> 5074.3533 | Q18: =($J$2*N$3^2*COS($A18))+(($J$2^2/$I$2)*N$3^2*COS(2*$A18)) -> 9021.0726 | R18: =($J$2*O$3^2*COS($A18))+(($J$2^2/$I$2)*O$3^2*COS(2*$A18)) -> 14095.426 | S18: =($J$2*P$3^2*COS($A18))+(($J$2^2/$I$2)*P$3^2*COS(2*$A18)) -> 20297.413 | T18: =($J$2*Q$3^2*COS($A18))+(($J$2^2/$I$2)*Q$3^2*COS(2*$A18)) -> 27627.035 | U18: =$V$2*N18 -> 265.55782 | V18: =$V$2*O18 -> 1062.2313 | W18: =$V$2*P18 -> 2390.0204 | X18: =$V$2*Q18 -> 4248.9252 | Y18: =$V$2*R18 -> 6638.9456 | Z18: =$V$2*S18 -> 9560.0817 | AA18: =$V$2*T18 -> 13012.333 | AB18: =$X$2*('Preassure data '!B16*10^5) -> 486.73582 | AC18: =$X$2*('Preassure data '!C16*10^5) -> 485.75549 | AD18: =$X$2*('Preassure data '!D16*10^5) -> 417.62228 | AE18: =$X$2*('Preassure data '!E16*10^5) -> 409.28944 | AF18: =$X$2*('Preassure data '!F16*10^5) -> 290.66903 | AG18: =$X$2*('Preassure data '!G16*10^5) -> 388.70243 | AH18: =U18-AB18 -> -221.178 | AI18: =V18-AC18 -> 576.47581 | AJ18: =W18-AD18 -> 1972.3981 | AK18: =X18-AE18 -> 3839.6358 | AL18: =Y18-AF18 -> 6348.2766 | AM18: =Z18-AG18 -> 9171.3793 | AN18: =AH18/COS($C18) -> -221.55038 | AO18: =AI18/COS($C18) -> 577.44637 | AP18: =AJ18/COS($C18) -> 1975.7189 | AQ18: =AK18/COS($C18) -> 3846.1002 | AR18: =AL18/COS($C18) -> 6358.9646 | AS18: =AM18/COS($C18) -> 9186.8203 | AT18: =AH18*TAN(C18) -> -12.83988 | AU18: =AI18*TAN($C18) -> 33.465715 | AV18: =AJ18*TAN($C18) -> 114.50214 | AW18: =AK18*TAN($C18) -> 222.89948 | AX18: =AL18*TAN($C18) -> 368.53171 | AY18: =AM18*TAN($C18) -> 532.41916 | AZ18: =AT18*$Y$2 -> -1.283988 | BA18: =AU18*$Y$2 -> 3.3465715 | BB18: =AV18*$Y$2 -> 11.450214 | BC18: =AW18*$Y$2 -> 22.289948 | BD18: =AX18*$Y$2 -> 36.853171 | BE18: =AY18*$Y$2 -> 53.241916 | BG18: Allowable stress
A19: =B19*(PI()/180) -> -6.0737458 | B19: -348 | C19: =ASIN(($J$2*SIN(A19))/$I$2) -> 0.063191344 | D19: =C19*180/PI() -> 3.6205973 | E19: =($J$2+$I$2)-(($J$2*COS(A19))+($I$2*COS(C19))) -> 0.0011568444 | F19: =E20-E19 -> 0.00019943343 | G19: =F19*6*$G$6 -> 1.1966006 | H19: =$F19*6*H$6 -> 2.3932012 | I19: =$F19*6*I$6 -> 3.5898018 | J19: =$F19*6*J$6 -> 4.7864024 | K19: =$F19*6*K$6 -> 5.983003 | L19: =$F19*6*L$6 -> 7.1796035 | M19: =$F19*6*M$6 -> 8.3762041 | N19: =($J$2*K$3^2*COS($A19))+(($J$2^2/$I$2)*K$3^2*COS(2*$A19)) -> 560.41515 | O19: =($J$2*L$3^2*COS($A19))+(($J$2^2/$I$2)*L$3^2*COS(2*$A19)) -> 2241.6606 | P19: =($J$2*M$3^2*COS($A19))+(($J$2^2/$I$2)*M$3^2*COS(2*$A19)) -> 5043.7363 | Q19: =($J$2*N$3^2*COS($A19))+(($J$2^2/$I$2)*N$3^2*COS(2*$A19)) -> 8966.6424 | R19: =($J$2*O$3^2*COS($A19))+(($J$2^2/$I$2)*O$3^2*COS(2*$A19)) -> 14010.379 | S19: =($J$2*P$3^2*COS($A19))+(($J$2^2/$I$2)*P$3^2*COS(2*$A19)) -> 20174.945 | T19: =($J$2*Q$3^2*COS($A19))+(($J$2^2/$I$2)*Q$3^2*COS(2*$A19)) -> 27460.342 | U19: =$V$2*N19 -> 263.95554 | V19: =$V$2*O19 -> 1055.8221 | W19: =$V$2*P19 -> 2375.5998 | X19: =$V$2*Q19 -> 4223.2886 | Y19: =$V$2*R19 -> 6598.8884 | Z19: =$V$2*S19 -> 9502.3993 | AA19: =$V$2*T19 -> 12933.821 | AB19: =$X$2*('Preassure data '!B17*10^5) -> 488.20633 | AC19: =$X$2*('Preassure data '!C17*10^5) -> 486.73582 | AD19: =$X$2*('Preassure data '!D17*10^5) -> 419.58295 | AE19: =$X$2*('Preassure data '!E17*10^5) -> 394.09426 | AF19: =$X$2*('Preassure data '!F17*10^5) -> 295.5707 | AG19: =$X$2*('Preassure data '!G17*10^5) -> 386.25159 | AH19: =U19-AB19 -> -224.25079 | AI19: =V19-AC19 -> 569.08632 | AJ19: =W19-AD19 -> 1956.0169 | AK19: =X19-AE19 -> 3829.1943 | AL19: =Y19-AF19 -> 6303.3177 | AM19: =Z19-AG19 -> 9116.1477 | AN19: =AH19/COS($C19) -> -224.69927 | AO19: =AI19/COS($C19) -> 570.22443 | AP19: =AJ19/COS($C19) -> 1959.9287 | AQ19: =AK19/COS($C19) -> 3836.8523 | AR19: =AL19/COS($C19) -> 6315.9237 | AS19: =AM19/COS($C19) -> 9134.3791 | AT19: =AH19*TAN(C19) -> -14.189601 | AU19: =AI19*TAN($C19) -> 36.009272 | AV19: =AJ19*TAN($C19) -> 123.76812 | AW19: =AK19*TAN($C19) -> 242.29453 | AX19: =AL19*TAN($C19) -> 398.84614 | AY19: =AM19*TAN($C19) -> 576.82962 | AZ19: =AT19*$Y$2 -> -1.4189601 | BA19: =AU19*$Y$2 -> 3.6009272 | BB19: =AV19*$Y$2 -> 12.376812 | BC19: =AW19*$Y$2 -> 24.229453 | BD19: =AX19*$Y$2 -> 39.884614 | BE19: =AY19*$Y$2 -> 57.682962 | BG19: =2*($AA$2*$AB$2)*(1-(BG16/$AB$2)) -> 7.4997745e+08 | BH19: =2*($AA$2*$AB$2)*(1-(BH16/$AB$2)) -> 7.6856883e+08 | BI19: =2*($AA$2*$AB$2)*(1-(BI16/$AB$2)) -> 7.675827e+08 | BJ19: =2*($AA$2*$AB$2)*(1-(BJ16/$AB$2)) -> 7.5861161e+08 | BK19: =2*($AA$2*$AB$2)*(1-(BK16/$AB$2)) -> 7.3869785e+08 | BL19: =2*($AA$2*$AB$2)*(1-(BL16/$AB$2)) -> 7.1540096e+08
A20: =B20*(PI()/180) -> -6.0562925 | B20: -347 | C20: =ASIN(($J$2*SIN(A20))/$I$2) -> 0.068377957 | D20: =C20*180/PI() -> 3.9177684 | E20: =($J$2+$I$2)-(($J$2*COS(A20))+($I$2*COS(C20))) -> 0.0013562778 | F20: =E21-E20 -> 0.00021492224 | G20: =F20*6*$G$6 -> 1.2895334 | H20: =$F20*6*H$6 -> 2.5790668 | I20: =$F20*6*I$6 -> 3.8686002 | J20: =$F20*6*J$6 -> 5.1581337 | K20: =$F20*6*K$6 -> 6.4476671 | L20: =$F20*6*L$6 -> 7.7372005 | M20: =$F20*6*M$6 -> 9.0267339 | N20: =($J$2*K$3^2*COS($A20))+(($J$2^2/$I$2)*K$3^2*COS(2*$A20)) -> 556.72939 | O20: =($J$2*L$3^2*COS($A20))+(($J$2^2/$I$2)*L$3^2*COS(2*$A20)) -> 2226.9176 | P20: =($J$2*M$3^2*COS($A20))+(($J$2^2/$I$2)*M$3^2*COS(2*$A20)) -> 5010.5645 | Q20: =($J$2*N$3^2*COS($A20))+(($J$2^2/$I$2)*N$3^2*COS(2*$A20)) -> 8907.6703 | R20: =($J$2*O$3^2*COS($A20))+(($J$2^2/$I$2)*O$3^2*COS(2*$A20)) -> 13918.235 | S20: =($J$2*P$3^2*COS($A20))+(($J$2^2/$I$2)*P$3^2*COS(2*$A20)) -> 20042.258 | T20: =($J$2*Q$3^2*COS($A20))+(($J$2^2/$I$2)*Q$3^2*COS(2*$A20)) -> 27279.74 | U20: =$V$2*N20 -> 262.21954 | V20: =$V$2*O20 -> 1048.8782 | W20: =$V$2*P20 -> 2359.9759 | X20: =$V$2*Q20 -> 4195.5127 | Y20: =$V$2*R20 -> 6555.4886 | Z20: =$V$2*S20 -> 9439.9036 | AA20: =$V$2*T20 -> 12848.758 | AB20: =$X$2*('Preassure data '!B18*10^5) -> 488.69649 | AC20: =$X$2*('Preassure data '!C18*10^5) -> 489.67683 | AD20: =$X$2*('Preassure data '!D18*10^5) -> 421.54361 | AE20: =$X$2*('Preassure data '!E18*10^5) -> 383.80076 | AF20: =$X$2*('Preassure data '!F18*10^5) -> 300.47237 | AG20: =$X$2*('Preassure data '!G18*10^5) -> 395.0746 | AH20: =U20-AB20 -> -226.47695 | AI20: =V20-AC20 -> 559.20135 | AJ20: =W20-AD20 -> 1938.4323 | AK20: =X20-AE20 -> 3811.7119 | AL20: =Y20-AF20 -> 6255.0162 | AM20: =Z20-AG20 -> 9044.829 | AN20: =AH20/COS($C20) -> -227.00743 | AO20: =AI20/COS($C20) -> 560.51119 | AP20: =AJ20/COS($C20) -> 1942.9727 | AQ20: =AK20/COS($C20) -> 3820.6403 | AR20: =AL20/COS($C20) -> 6269.6676 | AS20: =AM20/COS($C20) -> 9066.015 | AT20: =AH20*TAN(C20) -> -15.510212 | AU20: =AI20*TAN($C20) -> 38.296751 | AV20: =AJ20*TAN($C20) -> 132.753 | AW20: =AK20*TAN($C20) -> 261.04405 | AX20: =AL20*TAN($C20) -> 428.37307 | AY20: =AM20*TAN($C20) -> 619.43263 | AZ20: =AT20*$Y$2 -> -1.5510212 | BA20: =AU20*$Y$2 -> 3.8296751 | BB20: =AV20*$Y$2 -> 13.2753 | BC20: =AW20*$Y$2 -> 26.104405 | BD20: =AX20*$Y$2 -> 42.837307 | BE20: =AY20*$Y$2 -> 61.943263
A21: =B21*(PI()/180) -> -6.0388392 | B21: -346 | C21: =ASIN(($J$2*SIN(A21))/$I$2) -> 0.073545545 | D21: =C21*180/PI() -> 4.2138493 | E21: =($J$2+$I$2)-(($J$2*COS(A21))+($I$2*COS(C21))) -> 0.0015712001 | F21: =E22-E21 -> 0.00023030444 | G21: =F21*6*$G$6 -> 1.3818266 | H21: =$F21*6*H$6 -> 2.7636532 | I21: =$F21*6*I$6 -> 4.1454798 | J21: =$F21*6*J$6 -> 5.5273065 | K21: =$F21*6*K$6 -> 6.9091331 | L21: =$F21*6*L$6 -> 8.2909597 | M21: =$F21*6*M$6 -> 9.6727863 | N21: =($J$2*K$3^2*COS($A21))+(($J$2^2/$I$2)*K$3^2*COS(2*$A21)) -> 552.76272 | O21: =($J$2*L$3^2*COS($A21))+(($J$2^2/$I$2)*L$3^2*COS(2*$A21)) -> 2211.0509 | P21: =($J$2*M$3^2*COS($A21))+(($J$2^2/$I$2)*M$3^2*COS(2*$A21)) -> 4974.8645 | Q21: =($J$2*N$3^2*COS($A21))+(($J$2^2/$I$2)*N$3^2*COS(2*$A21)) -> 8844.2035 | R21: =($J$2*O$3^2*COS($A21))+(($J$2^2/$I$2)*O$3^2*COS(2*$A21)) -> 13819.068 | S21: =($J$2*P$3^2*COS($A21))+(($J$2^2/$I$2)*P$3^2*COS(2*$A21)) -> 19899.458 | T21: =($J$2*Q$3^2*COS($A21))+(($J$2^2/$I$2)*Q$3^2*COS(2*$A21)) -> 27085.373 | U21: =$V$2*N21 -> 260.35124 | V21: =$V$2*O21 -> 1041.405 | W21: =$V$2*P21 -> 2343.1612 | X21: =$V$2*Q21 -> 4165.6198 | Y21: =$V$2*R21 -> 6508.781 | Z21: =$V$2*S21 -> 9372.6447 | AA21: =$V$2*T21 -> 12757.211 | AB21: =$X$2*('Preassure data '!B19*10^5) -> 489.67683 | AC21: =$X$2*('Preassure data '!C19*10^5) -> 491.63749 | AD21: =$X$2*('Preassure data '!D19*10^5) -> 423.50428 | AE21: =$X$2*('Preassure data '!E19*10^5) -> 378.40892 | AF21: =$X$2*('Preassure data '!F19*10^5) -> 304.88387 | AG21: =$X$2*('Preassure data '!G19*10^5) -> 409.77961 | AH21: =U21-AB21 -> -229.32559 | AI21: =V21-AC21 -> 549.76747 | AJ21: =W21-AD21 -> 1919.6569 | AK21: =X21-AE21 -> 3787.2109 | AL21: =Y21-AF21 -> 6203.8971 | AM21: =Z21-AG21 -> 8962.865 | AN21: =AH21/COS($C21) -> -229.94719 | AO21: =AI21/COS($C21) -> 551.25766 | AP21: =AJ21/COS($C21) -> 1924.8603 | AQ21: =AK21/COS($C21) -> 3797.4765 | AR21: =AL21/COS($C21) -> 6220.7133 | AS21: =AM21/COS($C21) -> 8987.1596 | AT21: =AH21*TAN(C21) -> -16.89635 | AU21: =AI21*TAN($C21) -> 40.506006 | AV21: =AJ21*TAN($C21) -> 141.43731 | AW21: =AK21*TAN($C21) -> 279.03577 | AX21: =AL21*TAN($C21) -> 457.09343 | AY21: =AM21*TAN($C21) -> 660.36986 | AZ21: =AT21*$Y$2 -> -1.689635 | BA21: =AU21*$Y$2 -> 4.0506006 | BB21: =AV21*$Y$2 -> 14.143731 | BC21: =AW21*$Y$2 -> 27.903577 | BD21: =AX21*$Y$2 -> 45.709343 | BE21: =AY21*$Y$2 -> 66.036986 | BG21: FSF
A22: =B22*(PI()/180) -> -6.0213859 | B22: -345 | C22: =ASIN(($J$2*SIN(A22))/$I$2) -> 0.078692649 | D22: =C22*180/PI() -> 4.5087567 | E22: =($J$2+$I$2)-(($J$2*COS(A22))+($I$2*COS(C22))) -> 0.0018015045 | F22: =E23-E22 -> 0.00024557247 | G22: =F22*6*$G$6 -> 1.4734348 | H22: =$F22*6*H$6 -> 2.9468696 | I22: =$F22*6*I$6 -> 4.4203044 | J22: =$F22*6*J$6 -> 5.8937393 | K22: =$F22*6*K$6 -> 7.3671741 | L22: =$F22*6*L$6 -> 8.8406089 | M22: =$F22*6*M$6 -> 10.314044 | N22: =($J$2*K$3^2*COS($A22))+(($J$2^2/$I$2)*K$3^2*COS(2*$A22)) -> 548.5183 | O22: =($J$2*L$3^2*COS($A22))+(($J$2^2/$I$2)*L$3^2*COS(2*$A22)) -> 2194.0732 | P22: =($J$2*M$3^2*COS($A22))+(($J$2^2/$I$2)*M$3^2*COS(2*$A22)) -> 4936.6647 | Q22: =($J$2*N$3^2*COS($A22))+(($J$2^2/$I$2)*N$3^2*COS(2*$A22)) -> 8776.2928 | R22: =($J$2*O$3^2*COS($A22))+(($J$2^2/$I$2)*O$3^2*COS(2*$A22)) -> 13712.957 | S22: =($J$2*P$3^2*COS($A22))+(($J$2^2/$I$2)*P$3^2*COS(2*$A22)) -> 19746.659 | T22: =($J$2*Q$3^2*COS($A22))+(($J$2^2/$I$2)*Q$3^2*COS(2*$A22)) -> 26877.397 | U22: =$V$2*N22 -> 258.35212 | V22: =$V$2*O22 -> 1033.4085 | W22: =$V$2*P22 -> 2325.1691 | X22: =$V$2*Q22 -> 4133.6339 | Y22: =$V$2*R22 -> 6458.803 | Z22: =$V$2*S22 -> 9300.6763 | AA22: =$V$2*T22 -> 12659.254 | AB22: =$X$2*('Preassure data '!B20*10^5) -> 491.63749 | AC22: =$X$2*('Preassure data '!C20*10^5) -> 493.108 | AD22: =$X$2*('Preassure data '!D20*10^5) -> 425.46495 | AE22: =$X$2*('Preassure data '!E20*10^5) -> 375.95808 | AF22: =$X$2*('Preassure data '!F20*10^5) -> 305.37404 | AG22: =$X$2*('Preassure data '!G20*10^5) -> 424.48462 | AH22: =U22-AB22 -> -233.28538 | AI22: =V22-AC22 -> 540.30048 | AJ22: =W22-AD22 -> 1899.7041 | AK22: =X22-AE22 -> 3757.6758 | AL22: =Y22-AF22 -> 6153.4289 | AM22: =Z22-AG22 -> 8876.1916 | AN22: =AH22/COS($C22) -> -234.00956 | AO22: =AI22/COS($C22) -> 541.97772 | AP22: =AJ22/COS($C22) -> 1905.6013 | AQ22: =AK22/COS($C22) -> 3769.3407 | AR22: =AL22/COS($C22) -> 6172.5309 | AS22: =AM22/COS($C22) -> 8903.7458 | AT22: =AH22*TAN(C22) -> -18.395832 | AU22: =AI22*TAN($C22) -> 42.605658 | AV22: =AJ22*TAN($C22) -> 149.80209 | AW22: =AK22*TAN($C22) -> 296.31336 | AX22: =AL22*TAN($C22) -> 485.23164 | AY22: =AM22*TAN($C22) -> 699.93642 | AZ22: =AT22*$Y$2 -> -1.8395832 | BA22: =AU22*$Y$2 -> 4.2605658 | BB22: =AV22*$Y$2 -> 14.980209 | BC22: =AW22*$Y$2 -> 29.631336 | BD22: =AX22*$Y$2 -> 48.523164 | BE22: =AY22*$Y$2 -> 69.993642 | BG22: =BG19/BG13 -> 4.5874768 | BH22: =BH19/BH13 -> 3.5475243 | BI22: =BI19/BI13 -> 3.2648448 | BJ22: =BJ19/BJ13 -> 3.1306998 | BK22: =BK19/BK13 -> 3.1563938 | BL22: =BL19/BL13 -> 3.1943495
A23: =B23*(PI()/180) -> -6.0039326 | B23: -344 | C23: =ASIN(($J$2*SIN(A23))/$I$2) -> 0.083817813 | D23: =C23*180/PI() -> 4.8024069 | E23: =($J$2+$I$2)-(($J$2*COS(A23))+($I$2*COS(C23))) -> 0.002047077 | F23: =E24-E23 -> 0.00026071885 | G23: =F23*6*$G$6 -> 1.5643131 | H23: =$F23*6*H$6 -> 3.1286262 | I23: =$F23*6*I$6 -> 4.6929392 | J23: =$F23*6*J$6 -> 6.2572523 | K23: =$F23*6*K$6 -> 7.8215654 | L23: =$F23*6*L$6 -> 9.3858785 | M23: =$F23*6*M$6 -> 10.950192 | N23: =($J$2*K$3^2*COS($A23))+(($J$2^2/$I$2)*K$3^2*COS(2*$A23)) -> 543.99952 | O23: =($J$2*L$3^2*COS($A23))+(($J$2^2/$I$2)*L$3^2*COS(2*$A23)) -> 2175.9981 | P23: =($J$2*M$3^2*COS($A23))+(($J$2^2/$I$2)*M$3^2*COS(2*$A23)) -> 4895.9957 | Q23: =($J$2*N$3^2*COS($A23))+(($J$2^2/$I$2)*N$3^2*COS(2*$A23)) -> 8703.9923 | R23: =($J$2*O$3^2*COS($A23))+(($J$2^2/$I$2)*O$3^2*COS(2*$A23)) -> 13599.988 | S23: =($J$2*P$3^2*COS($A23))+(($J$2^2/$I$2)*P$3^2*COS(2*$A23)) -> 19583.983 | T23: =($J$2*Q$3^2*COS($A23))+(($J$2^2/$I$2)*Q$3^2*COS(2*$A23)) -> 26655.976 | U23: =$V$2*N23 -> 256.22377 | V23: =$V$2*O23 -> 1024.8951 | W23: =$V$2*P23 -> 2306.014 | X23: =$V$2*Q23 -> 4099.5804 | Y23: =$V$2*R23 -> 6405.5943 | Z23: =$V$2*S23 -> 9224.0558 | AA23: =$V$2*T23 -> 12554.965 | AB23: =$X$2*('Preassure data '!B21*10^5) -> 493.108 | AC23: =$X$2*('Preassure data '!C21*10^5) -> 495.55883 | AD23: =$X$2*('Preassure data '!D21*10^5) -> 425.46495 | AE23: =$X$2*('Preassure data '!E21*10^5) -> 373.99742 | AF23: =$X$2*('Preassure data '!F21*10^5) -> 304.3937 | AG23: =$X$2*('Preassure data '!G21*10^5) -> 429.87645 | AH23: =U23-AB23 -> -236.88422 | AI23: =V23-AC23 -> 529.33626 | AJ23: =W23-AD23 -> 1880.549 | AK23: =X23-AE23 -> 3725.583 | AL23: =Y23-AF23 -> 6101.2006 | AM23: =Z23-AG23 -> 8794.1794 | AN23: =AH23/COS($C23) -> -237.71877 | AO23: =AI23/COS($C23) -> 531.20113 | AP23: =AJ23/COS($C23) -> 1887.1742 | AQ23: =AK23/COS($C23) -> 3738.7083 | AR23: =AL23/COS($C23) -> 6122.6953 | AS23: =AM23/COS($C23) -> 8825.1615 | AT23: =AH23*TAN(C23) -> -19.901745 | AU23: =AI23*TAN($C23) -> 44.472001 | AV23: =AJ23*TAN($C23) -> 157.99367 | AW23: =AK23*TAN($C23) -> 313.00355 | AX23: =AL23*TAN($C23) -> 512.59024 | AY23: =AM23*TAN($C23) -> 738.83991 | AZ23: =AT23*$Y$2 -> -1.9901745 | BA23: =AU23*$Y$2 -> 4.4472001 | BB23: =AV23*$Y$2 -> 15.799367 | BC23: =AW23*$Y$2 -> 31.300355 | BD23: =AX23*$Y$2 -> 51.259024 | BE23: =AY23*$Y$2 -> 73.883991
A24: =B24*(PI()/180) -> -5.9864793 | B24: -343 | C24: =ASIN(($J$2*SIN(A24))/$I$2) -> 0.088919581 | D24: =C24*180/PI() -> 5.0947167 | E24: =($J$2+$I$2)-(($J$2*COS(A24))+($I$2*COS(C24))) -> 0.0023077958 | F24: =E25-E24 -> 0.00027573615 | G24: =F24*6*$G$6 -> 1.6544169 | H24: =$F24*6*H$6 -> 3.3088339 | I24: =$F24*6*I$6 -> 4.9632508 | J24: =$F24*6*J$6 -> 6.6176677 | K24: =$F24*6*K$6 -> 8.2720846 | L24: =$F24*6*L$6 -> 9.9265016 | M24: =$F24*6*M$6 -> 11.580918 | N24: =($J$2*K$3^2*COS($A24))+(($J$2^2/$I$2)*K$3^2*COS(2*$A24)) -> 539.20999 | O24: =($J$2*L$3^2*COS($A24))+(($J$2^2/$I$2)*L$3^2*COS(2*$A24)) -> 2156.8399 | P24: =($J$2*M$3^2*COS($A24))+(($J$2^2/$I$2)*M$3^2*COS(2*$A24)) -> 4852.8899 | Q24: =($J$2*N$3^2*COS($A24))+(($J$2^2/$I$2)*N$3^2*COS(2*$A24)) -> 8627.3598 | R24: =($J$2*O$3^2*COS($A24))+(($J$2^2/$I$2)*O$3^2*COS(2*$A24)) -> 13480.25 | S24: =($J$2*P$3^2*COS($A24))+(($J$2^2/$I$2)*P$3^2*COS(2*$A24)) -> 19411.56 | T24: =($J$2*Q$3^2*COS($A24))+(($J$2^2/$I$2)*Q$3^2*COS(2*$A24)) -> 26421.289 | U24: =$V$2*N24 -> 253.9679 | V24: =$V$2*O24 -> 1015.8716 | W24: =$V$2*P24 -> 2285.7111 | X24: =$V$2*Q24 -> 4063.4865 | Y24: =$V$2*R24 -> 6349.1976 | Z24: =$V$2*S24 -> 9142.8445 | AA24: =$V$2*T24 -> 12444.427 | AB24: =$X$2*('Preassure data '!B22*10^5) -> 492.12766 | AC24: =$X$2*('Preassure data '!C22*10^5) -> 500.95067 | AD24: =$X$2*('Preassure data '!D22*10^5) -> 426.44528 | AE24: =$X$2*('Preassure data '!E22*10^5) -> 373.01708 | AF24: =$X$2*('Preassure data '!F22*10^5) -> 302.9232 | AG24: =$X$2*('Preassure data '!G22*10^5) -> 429.38629 | AH24: =U24-AB24 -> -238.15976 | AI24: =V24-AC24 -> 514.92095 | AJ24: =W24-AD24 -> 1859.2658 | AK24: =X24-AE24 -> 3690.4694 | AL24: =Y24-AF24 -> 6046.2744 | AM24: =Z24-AG24 -> 8713.4582 | AN24: =AH24/COS($C24) -> -239.1044 | AO24: =AI24/COS($C24) -> 516.96334 | AP24: =AJ24/COS($C24) -> 1866.6405 | AQ24: =AK24/COS($C24) -> 3705.1073 | AR24: =AL24/COS($C24) -> 6070.2564 | AS24: =AM24/COS($C24) -> 8748.0194 | AT24: =AH24*TAN(C24) -> -21.233056 | AU24: =AI24*TAN($C24) -> 45.907611 | AV24: =AJ24*TAN($C24) -> 165.76225 | AW24: =AK24*TAN($C24) -> 329.02261 | AX24: =AL24*TAN($C24) -> 539.05364 | AY24: =AM24*TAN($C24) -> 776.84556 | AZ24: =AT24*$Y$2 -> -2.1233056 | BA24: =AU24*$Y$2 -> 4.5907611 | BB24: =AV24*$Y$2 -> 16.576225 | BC24: =AW24*$Y$2 -> 32.902261 | BD24: =AX24*$Y$2 -> 53.905364 | BE24: =AY24*$Y$2 -> 77.684556
A25: =B25*(PI()/180) -> -5.969026 | B25: -342 | C25: =ASIN(($J$2*SIN(A25))/$I$2) -> 0.093996501 | D25: =C25*180/PI() -> 5.3856028 | E25: =($J$2+$I$2)-(($J$2*COS(A25))+($I$2*COS(C25))) -> 0.002583532 | F25: =E26-E25 -> 0.00029061706 | G25: =F25*6*$G$6 -> 1.7437024 | H25: =$F25*6*H$6 -> 3.4874047 | I25: =$F25*6*I$6 -> 5.2311071 | J25: =$F25*6*J$6 -> 6.9748095 | K25: =$F25*6*K$6 -> 8.7185119 | L25: =$F25*6*L$6 -> 10.462214 | M25: =$F25*6*M$6 -> 12.205917 | N25: =($J$2*K$3^2*COS($A25))+(($J$2^2/$I$2)*K$3^2*COS(2*$A25)) -> 534.15351 | O25: =($J$2*L$3^2*COS($A25))+(($J$2^2/$I$2)*L$3^2*COS(2*$A25)) -> 2136.6141 | P25: =($J$2*M$3^2*COS($A25))+(($J$2^2/$I$2)*M$3^2*COS(2*$A25)) -> 4807.3816 | Q25: =($J$2*N$3^2*COS($A25))+(($J$2^2/$I$2)*N$3^2*COS(2*$A25)) -> 8546.4562 | R25: =($J$2*O$3^2*COS($A25))+(($J$2^2/$I$2)*O$3^2*COS(2*$A25)) -> 13353.838 | S25: =($J$2*P$3^2*COS($A25))+(($J$2^2/$I$2)*P$3^2*COS(2*$A25)) -> 19229.526 | T25: =($J$2*Q$3^2*COS($A25))+(($J$2^2/$I$2)*Q$3^2*COS(2*$A25)) -> 26173.522 | U25: =$V$2*N25 -> 251.5863 | V25: =$V$2*O25 -> 1006.3452 | W25: =$V$2*P25 -> 2264.2767 | X25: =$V$2*Q25 -> 4025.3809 | Y25: =$V$2*R25 -> 6289.6576 | Z25: =$V$2*S25 -> 9057.107 | AA25: =$V$2*T25 -> 12327.729 | AB25: =$X$2*('Preassure data '!B23*10^5) -> 492.61783 | AC25: =$X$2*('Preassure data '!C23*10^5) -> 506.83267 | AD25: =$X$2*('Preassure data '!D23*10^5) -> 428.89612 | AE25: =$X$2*('Preassure data '!E23*10^5) -> 375.46792 | AF25: =$X$2*('Preassure data '!F23*10^5) -> 302.9232 | AG25: =$X$2*('Preassure data '!G23*10^5) -> 427.42562 | AH25: =U25-AB25 -> -241.03152 | AI25: =V25-AC25 -> 499.51255 | AJ25: =W25-AD25 -> 1835.3806 | AK25: =X25-AE25 -> 3649.913 | AL25: =Y25-AF25 -> 5986.7344 | AM25: =Z25-AG25 -> 8629.6814 | AN25: =AH25/COS($C25) -> -242.10026 | AO25: =AI25/COS($C25) -> 501.72738 | AP25: =AJ25/COS($C25) -> 1843.5187 | AQ25: =AK25/COS($C25) -> 3666.0966 | AR25: =AL25/COS($C25) -> 6013.2796 | AS25: =AM25/COS($C25) -> 8667.9453 | AT25: =AH25*TAN(C25) -> -22.723081 | AU25: =AI25*TAN($C25) -> 47.091202 | AV25: =AJ25*TAN($C25) -> 173.02925 | AW25: =AK25*TAN($C25) -> 344.09304 | AX25: =AL25*TAN($C25) -> 564.39528 | AY25: =AM25*TAN($C25) -> 813.55728 | AZ25: =AT25*$Y$2 -> -2.2723081 | BA25: =AU25*$Y$2 -> 4.7091202 | BB25: =AV25*$Y$2 -> 17.302925 | BC25: =AW25*$Y$2 -> 34.409304 | BD25: =AX25*$Y$2 -> 56.439528 | BE25: =AY25*$Y$2 -> 81.355728
A26: =B26*(PI()/180) -> -5.9515727 | B26: -341 | C26: =ASIN(($J$2*SIN(A26))/$I$2) -> 0.099047121 | D26: =C26*180/PI() -> 5.674982 | E26: =($J$2+$I$2)-(($J$2*COS(A26))+($I$2*COS(C26))) -> 0.0028741491 | F26: =E27-E26 -> 0.00030535433 | G26: =F26*6*$G$6 -> 1.832126 | H26: =$F26*6*H$6 -> 3.6642519 | I26: =$F26*6*I$6 -> 5.4963779 | J26: =$F26*6*J$6 -> 7.3285038 | K26: =$F26*6*K$6 -> 9.1606298 | L26: =$F26*6*L$6 -> 10.992756 | M26: =$F26*6*M$6 -> 12.824882 | N26: =($J$2*K$3^2*COS($A26))+(($J$2^2/$I$2)*K$3^2*COS(2*$A26)) -> 528.83412 | O26: =($J$2*L$3^2*COS($A26))+(($J$2^2/$I$2)*L$3^2*COS(2*$A26)) -> 2115.3365 | P26: =($J$2*M$3^2*COS($A26))+(($J$2^2/$I$2)*M$3^2*COS(2*$A26)) -> 4759.5071 | Q26: =($J$2*N$3^2*COS($A26))+(($J$2^2/$I$2)*N$3^2*COS(2*$A26)) -> 8461.3459 | R26: =($J$2*O$3^2*COS($A26))+(($J$2^2/$I$2)*O$3^2*COS(2*$A26)) -> 13220.853 | S26: =($J$2*P$3^2*COS($A26))+(($J$2^2/$I$2)*P$3^2*COS(2*$A26)) -> 19038.028 | T26: =($J$2*Q$3^2*COS($A26))+(($J$2^2/$I$2)*Q$3^2*COS(2*$A26)) -> 25912.872 | U26: =$V$2*N26 -> 249.08087 | V26: =$V$2*O26 -> 996.32348 | W26: =$V$2*P26 -> 2241.7278 | X26: =$V$2*Q26 -> 3985.2939 | Y26: =$V$2*R26 -> 6227.0218 | Z26: =$V$2*S26 -> 8966.9113 | AA26: =$V$2*T26 -> 12204.963 | AB26: =$X$2*('Preassure data '!B24*10^5) -> 494.08833 | AC26: =$X$2*('Preassure data '!C24*10^5) -> 508.30317 | AD26: =$X$2*('Preassure data '!D24*10^5) -> 428.40595 | AE26: =$X$2*('Preassure data '!E24*10^5) -> 380.36959 | AF26: =$X$2*('Preassure data '!F24*10^5) -> 303.41337 | AG26: =$X$2*('Preassure data '!G24*10^5) -> 419.58295 | AH26: =U26-AB26 -> -245.00746 | AI26: =V26-AC26 -> 488.02031 | AJ26: =W26-AD26 -> 1813.3219 | AK26: =X26-AE26 -> 3604.9243 | AL26: =Y26-AF26 -> 5923.6084 | AM26: =Z26-AG26 -> 8547.3284 | AN26: =AH26/COS($C26) -> -246.21419 | AO26: =AI26/COS($C26) -> 490.42395 | AP26: =AJ26/COS($C26) -> 1822.253 | AQ26: =AK26/COS($C26) -> 3622.6797 | AR26: =AL26/COS($C26) -> 5952.7839 | AS26: =AM26/COS($C26) -> 8589.4265 | AT26: =AH26*TAN(C26) -> -24.346953 | AU26: =AI26*TAN($C26) -> 48.495697 | AV26: =AJ26*TAN($C26) -> 180.19395 | AW26: =AK26*TAN($C26) -> 358.22959 | AX26: =AL26*TAN($C26) -> 588.64254 | AY26: =AM26*TAN($C26) -> 849.36761 | AZ26: =AT26*$Y$2 -> -2.4346953 | BA26: =AU26*$Y$2 -> 4.8495697 | BB26: =AV26*$Y$2 -> 18.019395 | BC26: =AW26*$Y$2 -> 35.822959 | BD26: =AX26*$Y$2 -> 58.864254 | BE26: =AY26*$Y$2 -> 84.936761
A27: =B27*(PI()/180) -> -5.9341195 | B27: -340 | C27: =ASIN(($J$2*SIN(A27))/$I$2) -> 0.10406999 | D27: =C27*180/PI() -> 5.9627713 | E27: =($J$2+$I$2)-(($J$2*COS(A27))+($I$2*COS(C27))) -> 0.0031795034 | F27: =E28-E27 -> 0.00031994079 | G27: =F27*6*$G$6 -> 1.9196447 | H27: =$F27*6*H$6 -> 3.8392895 | I27: =$F27*6*I$6 -> 5.7589342 | J27: =$F27*6*J$6 -> 7.678579 | K27: =$F27*6*K$6 -> 9.5982237 | L27: =$F27*6*L$6 -> 11.517868 | M27: =$F27*6*M$6 -> 13.437513 | N27: =($J$2*K$3^2*COS($A27))+(($J$2^2/$I$2)*K$3^2*COS(2*$A27)) -> 523.25603 | O27: =($J$2*L$3^2*COS($A27))+(($J$2^2/$I$2)*L$3^2*COS(2*$A27)) -> 2093.0241 | P27: =($J$2*M$3^2*COS($A27))+(($J$2^2/$I$2)*M$3^2*COS(2*$A27)) -> 4709.3043 | Q27: =($J$2*N$3^2*COS($A27))+(($J$2^2/$I$2)*N$3^2*COS(2*$A27)) -> 8372.0965 | R27: =($J$2*O$3^2*COS($A27))+(($J$2^2/$I$2)*O$3^2*COS(2*$A27)) -> 13081.401 | S27: =($J$2*P$3^2*COS($A27))+(($J$2^2/$I$2)*P$3^2*COS(2*$A27)) -> 18837.217 | T27: =($J$2*Q$3^2*COS($A27))+(($J$2^2/$I$2)*Q$3^2*COS(2*$A27)) -> 25639.545 | U27: =$V$2*N27 -> 246.45359 | V27: =$V$2*O27 -> 985.81436 | W27: =$V$2*P27 -> 2218.0823 | X27: =$V$2*Q27 -> 3943.2574 | Y27: =$V$2*R27 -> 6161.3397 | Z27: =$V$2*S27 -> 8872.3292 | AA27: =$V$2*T27 -> 12076.226 | AB27: =$X$2*('Preassure data '!B25*10^5) -> 493.108 | AC27: =$X$2*('Preassure data '!C25*10^5) -> 509.28351 | AD27: =$X$2*('Preassure data '!D25*10^5) -> 429.38629 | AE27: =$X$2*('Preassure data '!E25*10^5) -> 385.76142 | AF27: =$X$2*('Preassure data '!F25*10^5) -> 303.90354 | AG27: =$X$2*('Preassure data '!G25*10^5) -> 408.30911 | AH27: =U27-AB27 -> -246.65441 | AI27: =V27-AC27 -> 476.53085 | AJ27: =W27-AD27 -> 1788.696 | AK27: =X27-AE27 -> 3557.496 | AL27: =Y27-AF27 -> 5857.4362 | AM27: =Z27-AG27 -> 8464.0201 | AN27: =AH27/COS($C27) -> -247.99616 | AO27: =AI27/COS($C27) -> 479.1231 | AP27: =AJ27/COS($C27) -> 1798.4262 | AQ27: =AK27/COS($C27) -> 3576.8482 | AR27: =AL27/COS($C27) -> 5889.2996 | AS27: =AM27/COS($C27) -> 8510.0629 | AT27: =AH27*TAN(C27) -> -25.762396 | AU27: =AI27*TAN($C27) -> 49.772379 | AV27: =AJ27*TAN($C27) -> 186.82454 | AW27: =AK27*TAN($C27) -> 371.57099 | AX27: =AL27*TAN($C27) -> 611.79362 | AY27: =AM27*TAN($C27) -> 884.04438 | AZ27: =AT27*$Y$2 -> -2.5762396 | BA27: =AU27*$Y$2 -> 4.9772379 | BB27: =AV27*$Y$2 -> 18.682454 | BC27: =AW27*$Y$2 -> 37.157099 | BD27: =AX27*$Y$2 -> 61.179362 | BE27: =AY27*$Y$2 -> 88.404438
A28: =B28*(PI()/180) -> -5.9166662 | B28: -339 | C28: =ASIN(($J$2*SIN(A28))/$I$2) -> 0.10906367 | D28: =C28*180/PI() -> 6.2488878 | E28: =($J$2+$I$2)-(($J$2*COS(A28))+($I$2*COS(C28))) -> 0.0034994442 | F28: =E29-E28 -> 0.0003343694 | G28: =F28*6*$G$6 -> 2.0062164 | H28: =$F28*6*H$6 -> 4.0124328 | I28: =$F28*6*I$6 -> 6.0186493 | J28: =$F28*6*J$6 -> 8.0248657 | K28: =$F28*6*K$6 -> 10.031082 | L28: =$F28*6*L$6 -> 12.037299 | M28: =$F28*6*M$6 -> 14.043515 | N28: =($J$2*K$3^2*COS($A28))+(($J$2^2/$I$2)*K$3^2*COS(2*$A28)) -> 517.42366 | O28: =($J$2*L$3^2*COS($A28))+(($J$2^2/$I$2)*L$3^2*COS(2*$A28)) -> 2069.6946 | P28: =($J$2*M$3^2*COS($A28))+(($J$2^2/$I$2)*M$3^2*COS(2*$A28)) -> 4656.8129 | Q28: =($J$2*N$3^2*COS($A28))+(($J$2^2/$I$2)*N$3^2*COS(2*$A28)) -> 8278.7786 | R28: =($J$2*O$3^2*COS($A28))+(($J$2^2/$I$2)*O$3^2*COS(2*$A28)) -> 12935.591 | S28: =($J$2*P$3^2*COS($A28))+(($J$2^2/$I$2)*P$3^2*COS(2*$A28)) -> 18627.252 | T28: =($J$2*Q$3^2*COS($A28))+(($J$2^2/$I$2)*Q$3^2*COS(2*$A28)) -> 25353.759 | U28: =$V$2*N28 -> 243.70654 | V28: =$V$2*O28 -> 974.82617 | W28: =$V$2*P28 -> 2193.3589 | X28: =$V$2*Q28 -> 3899.3047 | Y28: =$V$2*R28 -> 6092.6636 | Z28: =$V$2*S28 -> 8773.4356 | AA28: =$V$2*T28 -> 11941.621 | AB28: =$X$2*('Preassure data '!B26*10^5) -> 493.59816 | AC28: =$X$2*('Preassure data '!C26*10^5) -> 510.26384 | AD28: =$X$2*('Preassure data '!D26*10^5) -> 428.40595 | AE28: =$X$2*('Preassure data '!E26*10^5) -> 391.15326 | AF28: =$X$2*('Preassure data '!F26*10^5) -> 304.3937 | AG28: =$X$2*('Preassure data '!G26*10^5) -> 393.6041 | AH28: =U28-AB28 -> -249.89162 | AI28: =V28-AC28 -> 464.56233 | AJ28: =W28-AD28 -> 1764.9529 | AK28: =X28-AE28 -> 3508.1514 | AL28: =Y28-AF28 -> 5788.2699 | AM28: =Z28-AG28 -> 8379.8315 | AN28: =AH28/COS($C28) -> -251.38524 | AO28: =AI28/COS($C28) -> 467.33905 | AP28: =AJ28/COS($C28) -> 1775.5022 | AQ28: =AK28/COS($C28) -> 3529.1199 | AR28: =AL28/COS($C28) -> 5822.8667 | AS28: =AM28/COS($C28) -> 8429.9182 | AT28: =AH28*TAN(C28) -> -27.362674 | AU28: =AI28*TAN($C28) -> 50.868724 | AV28: =AJ28*TAN($C28) -> 193.25911 | AW28: =AK28*TAN($C28) -> 384.13615 | AX28: =AL28*TAN($C28) -> 633.80495 | AY28: =AM28*TAN($C28) -> 917.57619 | AZ28: =AT28*$Y$2 -> -2.7362674 | BA28: =AU28*$Y$2 -> 5.0868724 | BB28: =AV28*$Y$2 -> 19.325911 | BC28: =AW28*$Y$2 -> 38.413615 | BD28: =AX28*$Y$2 -> 63.380495 | BE28: =AY28*$Y$2 -> 91.757619
A29: =B29*(PI()/180) -> -5.8992129 | B29: -338 | C29: =ASIN(($J$2*SIN(A29))/$I$2) -> 0.1140267 | D29: =C29*180/PI() -> 6.5332487 | E29: =($J$2+$I$2)-(($J$2*COS(A29))+($I$2*COS(C29))) -> 0.0038338136 | F29: =E30-E29 -> 0.00034863321 | G29: =F29*6*$G$6 -> 2.0917992 | H29: =$F29*6*H$6 -> 4.1835985 | I29: =$F29*6*I$6 -> 6.2753977 | J29: =$F29*6*J$6 -> 8.367197 | K29: =$F29*6*K$6 -> 10.458996 | L29: =$F29*6*L$6 -> 12.550795 | M29: =$F29*6*M$6 -> 14.642595 | N29: =($J$2*K$3^2*COS($A29))+(($J$2^2/$I$2)*K$3^2*COS(2*$A29)) -> 511.34163 | O29: =($J$2*L$3^2*COS($A29))+(($J$2^2/$I$2)*L$3^2*COS(2*$A29)) -> 2045.3665 | P29: =($J$2*M$3^2*COS($A29))+(($J$2^2/$I$2)*M$3^2*COS(2*$A29)) -> 4602.0746 | Q29: =($J$2*N$3^2*COS($A29))+(($J$2^2/$I$2)*N$3^2*COS(2*$A29)) -> 8181.466 | R29: =($J$2*O$3^2*COS($A29))+(($J$2^2/$I$2)*O$3^2*COS(2*$A29)) -> 12783.541 | S29: =($J$2*P$3^2*COS($A29))+(($J$2^2/$I$2)*P$3^2*COS(2*$A29)) -> 18408.299 | T29: =($J$2*Q$3^2*COS($A29))+(($J$2^2/$I$2)*Q$3^2*COS(2*$A29)) -> 25055.74 | U29: =$V$2*N29 -> 240.84191 | V29: =$V$2*O29 -> 963.36762 | W29: =$V$2*P29 -> 2167.5772 | X29: =$V$2*Q29 -> 3853.4705 | Y29: =$V$2*R29 -> 6021.0476 | Z29: =$V$2*S29 -> 8670.3086 | AA29: =$V$2*T29 -> 11801.253 | AB29: =$X$2*('Preassure data '!B27*10^5) -> 494.5785 | AC29: =$X$2*('Preassure data '!C27*10^5) -> 513.20484 | AD29: =$X$2*('Preassure data '!D27*10^5) -> 426.93545 | AE29: =$X$2*('Preassure data '!E27*10^5) -> 394.09426 | AF29: =$X$2*('Preassure data '!F27*10^5) -> 304.3937 | AG29: =$X$2*('Preassure data '!G27*10^5) -> 373.01708 | AH29: =U29-AB29 -> -253.73659 | AI29: =V29-AC29 -> 450.16278 | AJ29: =W29-AD29 -> 1740.6417 | AK29: =X29-AE29 -> 3459.3762 | AL29: =Y29-AF29 -> 5716.6539 | AM29: =Z29-AG29 -> 8297.2915 | AN29: =AH29/COS($C29) -> -255.39513 | AO29: =AI29/COS($C29) -> 453.10525 | AP29: =AJ29/COS($C29) -> 1752.0193 | AQ29: =AK29/COS($C29) -> 3481.9883 | AR29: =AL29/COS($C29) -> 5754.0206 | AS29: =AM29/COS($C29) -> 8351.5264 | AT29: =AH29*TAN(C29) -> -29.058797 | AU29: =AI29*TAN($C29) -> 51.554208 | AV29: =AJ29*TAN($C29) -> 199.34434 | AW29: =AK29*TAN($C29) -> 396.1798 | AX29: =AL29*TAN($C29) -> 654.6911 | AY29: =AM29*TAN($C29) -> 950.2347 | AZ29: =AT29*$Y$2 -> -2.9058797 | BA29: =AU29*$Y$2 -> 5.1554208 | BB29: =AV29*$Y$2 -> 19.934434 | BC29: =AW29*$Y$2 -> 39.61798 | BD29: =AX29*$Y$2 -> 65.46911 | BE29: =AY29*$Y$2 -> 95.02347
