Workbook

Sheet Tracking
E1: C11A | F1: Subject / Area of learning | H1: English
F3: Name of Trainee: | H3: Joe Bloggs
F5: Class / Age of Learners | H5: Year 3
B7: RAG Rating | D7: R | F7: A | H7: G
A8: LO | B8: =Session1!F5 -> LO:1 | C8: =Session2!F5 -> LO:2 | D8: =Session3!F5 -> LO:3 | E8: =Session4!F5 -> LO:4 | F8: =Session5!F5 -> LO:5 | G8: =Session6!F5 -> LO:6
A9: Name of Pupil | B9: =Session1!F4 -> E001 | C9: =Session2!F4 -> E002 | D9: =Session3!F4 -> E003 | E9: =Session4!F4 -> E004 | F9: =Session5!F4 -> E005 | G9: =Session6!F4 -> E006 | H9: Comments
A10: Pupil 1 | B10: =Session1!B8 -> 0 | C10: =Session2!B8 -> 0 | D10: =Session3!B8 -> 0 | E10: =Session4!B8 -> 0 | F10: =Session5!B8 -> 0 | G10: =Session6!B8 -> 0
A11: Pupil 2 | B11: =Session1!B9 -> 0 | C11: =Session2!B9 -> 0 | D11: =Session3!B9 -> 0 | E11: =Session4!B9 -> 0 | F11: =Session5!B9 -> 0 | G11: =Session6!B9 -> 0
A12: Pupil 3 | B12: =Session1!B10 -> 0 | C12: =Session2!B10 -> 0 | D12: =Session3!B10 -> 0 | E12: =Session4!B10 -> 0 | F12: =Session5!B10 -> 0 | G12: =Session6!B10 -> 0
A13: Pupil 4 | B13: =Session1!B11 -> 0 | C13: =Session2!B11 -> 0 | D13: =Session3!B11 -> 0 | E13: =Session4!B11 -> 0 | F13: =Session5!B11 -> 0 | G13: =Session6!B11 -> 0
A14: Pupil 5 | B14: =Session1!B12 -> 0 | C14: =Session2!B12 -> 0 | D14: =Session3!B12 -> 0 | E14: =Session4!B12 -> 0 | F14: =Session5!B12 -> 0 | G14: =Session6!B12 -> 0
A15: Pupil 6 | B15: =Session1!B13 -> 0 | C15: =Session2!B13 -> 0 | D15: =Session3!B13 -> 0 | E15: =Session4!B13 -> 0 | F15: =Session5!B13 -> 0 | G15: =Session6!B13 -> 0
A16: Pupil 7 | B16: =Session1!B14 -> 0 | C16: =Session2!B14 -> 0 | D16: =Session3!B14 -> 0 | E16: =Session4!B14 -> 0 | F16: =Session5!B14 -> 0 | G16: =Session6!B14 -> 0
A17: Pupil 8 | B17: =Session1!B15 -> 0 | C17: =Session2!B15 -> 0 | D17: =Session3!B15 -> 0 | E17: =Session4!B15 -> 0 | F17: =Session5!B15 -> 0 | G17: =Session6!B15 -> 0
A18: Pupil 9 | B18: =Session1!B16 -> 0 | C18: =Session2!B16 -> 0 | D18: =Session3!B16 -> 0 | E18: =Session4!B16 -> 0 | F18: =Session5!B16 -> 0 | G18: =Session6!B16 -> 0
A19: Pupil 10 | B19: =Session1!B17 -> 0 | C19: =Session2!B17 -> 0 | D19: =Session3!B17 -> 0 | E19: =Session4!B17 -> 0 | F19: =Session5!B17 -> 0 | G19: =Session6!B17 -> 0
A20: Pupil 11 | B20: =Session1!B18 -> 0 | C20: =Session2!B18 -> 0 | D20: =Session3!B18 -> 0 | E20: =Session4!B18 -> 0 | F20: =Session5!B18 -> 0 | G20: =Session6!B18 -> 0
A21: Pupil 12 | B21: =Session1!B19 -> 0 | C21: =Session2!B19 -> 0 | D21: =Session3!B19 -> 0 | E21: =Session4!B19 -> 0 | F21: =Session5!B19 -> 0 | G21: =Session6!B19 -> 0
... A42: Pupil 33 | B42: =Session1!B40 -> 0 | C42: =Session2!B40 -> 0 | D42: =Session3!B40 -> 0 | E42: =Session4!B40 -> 0 | F42: =Session5!B40 -> 0 | G42: =Session6!B40 -> 0

Sheet Session1
C1: C11A | D1: Subject / Area of learning | F1: =Tracking!H1 -> English
D2: Name of Trainee: | F2: =Tracking!H3 -> Joe Bloggs
D3: Class / Age of Learners | F3: =Tracking!H5 -> Year 3
D4: Session Number | F4: E001
D5: Learning outcome | F5: LO:1
A6: RAG Rating | C6: R | E6: A | G6: G
A7: Name of Pupil | B7: RAG | C7: Comments
A8: =Tracking!A10 -> Pupil 1 | C8: Requires further support
A9: =Tracking!A11 -> Pupil 2
A10: =Tracking!A12 -> Pupil 3
A11: =Tracking!A13 -> Pupil 4
A12: =Tracking!A14 -> Pupil 5
A13: =Tracking!A15 -> Pupil 6
A14: =Tracking!A16 -> Pupil 7
A15: =Tracking!A17 -> Pupil 8
A16: =Tracking!A18 -> Pupil 9
A17: =Tracking!A19 -> Pupil 10
A18: =Tracking!A20 -> Pupil 11
A19: =Tracking!A21 -> Pupil 12
A20: =Tracking!A22 -> Pupil 13 | C20: Interventions
A21: =Tracking!A23 -> Pupil 14
A22: =Tracking!A24 -> Pupil 15
A23: =Tracking!A25 -> Pupil 16
A24: =Tracking!A26 -> Pupil 17
A25: =Tracking!A27 -> Pupil 18
A26: =Tracking!A28 -> Pupil 19
A27: =Tracking!A29 -> Pupil 20
A28: =Tracking!A30 -> Pupil 21
A29: =Tracking!A31 -> Pupil 22
A30: =Tracking!A32 -> Pupil 23
A31: =Tracking!A33 -> Pupil 24
A32: =Tracking!A34 -> Pupil 25
... A40: =Tracking!A42 -> Pupil 33

Sheet Session2
C1: C11A | D1: Subject / Area of learning | F1: =Tracking!H1 -> English
D2: Name of Trainee: | F2: =Tracking!H3 -> Joe Bloggs
D3: Class / Age of Learners | F3: =Tracking!H5 -> Year 3
D4: Session Number | F4: E002
D5: Learning outcome | F5: LO:2
A6: RAG Rating | C6: R | E6: A | G6: G
A7: Name of Pupil | B7: RAG | C7: Comments
A8: =Tracking!A10 -> Pupil 1 | C8: Requires further support
A9: =Tracking!A11 -> Pupil 2
A10: =Tracking!A12 -> Pupil 3
A11: =Tracking!A13 -> Pupil 4
A12: =Tracking!A14 -> Pupil 5
A13: =Tracking!A15 -> Pupil 6
A14: =Tracking!A16 -> Pupil 7
A15: =Tracking!A17 -> Pupil 8
A16: =Tracking!A18 -> Pupil 9
A17: =Tracking!A19 -> Pupil 10
A18: =Tracking!A20 -> Pupil 11
A19: =Tracking!A21 -> Pupil 12
A20: =Tracking!A22 -> Pupil 13 | C20: Interventions
A21: =Tracking!A23 -> Pupil 14
A22: =Tracking!A24 -> Pupil 15
A23: =Tracking!A25 -> Pupil 16
A24: =Tracking!A26 -> Pupil 17
A25: =Tracking!A27 -> Pupil 18
A26: =Tracking!A28 -> Pupil 19
A27: =Tracking!A29 -> Pupil 20
A28: =Tracking!A30 -> Pupil 21
A29: =Tracking!A31 -> Pupil 22
A30: =Tracking!A32 -> Pupil 23
A31: =Tracking!A33 -> Pupil 24
A32: =Tracking!A34 -> Pupil 25
... A40: =Tracking!A42 -> Pupil 33

Sheet Session3
C1: C11A | D1: Subject / Area of learning | F1: =Tracking!H1 -> English
D2: Name of Trainee: | F2: =Tracking!H3 -> Joe Bloggs
D3: Class / Age of Learners | F3: =Tracking!H5 -> Year 3
D4: Session Number | F4: E003
D5: Learning outcome | F5: LO:3
A6: RAG Rating | C6: R | E6: A | G6: G
A7: Name of Pupil | B7: RAG | C7: Comments
A8: =Tracking!A10 -> Pupil 1 | C8: Requires further support
A9: =Tracking!A11 -> Pupil 2
A10: =Tracking!A12 -> Pupil 3
A11: =Tracking!A13 -> Pupil 4
A12: =Tracking!A14 -> Pupil 5
A13: =Tracking!A15 -> Pupil 6
A14: =Tracking!A16 -> Pupil 7
A15: =Tracking!A17 -> Pupil 8
A16: =Tracking!A18 -> Pupil 9
A17: =Tracking!A19 -> Pupil 10
A18: =Tracking!A20 -> Pupil 11
A19: =Tracking!A21 -> Pupil 12
A20: =Tracking!A22 -> Pupil 13 | C20: Interventions
A21: =Tracking!A23 -> Pupil 14
A22: =Tracking!A24 -> Pupil 15
A23: =Tracking!A25 -> Pupil 16
A24: =Tracking!A26 -> Pupil 17
A25: =Tracking!A27 -> Pupil 18
A26: =Tracking!A28 -> Pupil 19
A27: =Tracking!A29 -> Pupil 20
A28: =Tracking!A30 -> Pupil 21
A29: =Tracking!A31 -> Pupil 22
A30: =Tracking!A32 -> Pupil 23
A31: =Tracking!A33 -> Pupil 24
A32: =Tracking!A34 -> Pupil 25
... A40: =Tracking!A42 -> Pupil 33

Sheet Session4
C1: C11A | D1: Subject / Area of learning | F1: =Tracking!H1 -> English
D2: Name of Trainee: | F2: =Tracking!H3 -> Joe Bloggs
D3: Class / Age of Learners | F3: =Tracking!H5 -> Year 3
D4: Session Number | F4: E004
D5: Learning outcome | F5: LO:4
A6: RAG Rating | C6: R | E6: A | G6: G
A7: Name of Pupil | B7: RAG | C7: Comments
A8: =Tracking!A10 -> Pupil 1 | C8: Requires further support
A9: =Tracking!A11 -> Pupil 2
A10: =Tracking!A12 -> Pupil 3
A11: =Tracking!A13 -> Pupil 4
A12: =Tracking!A14 -> Pupil 5
A13: =Tracking!A15 -> Pupil 6
A14: =Tracking!A16 -> Pupil 7
A15: =Tracking!A17 -> Pupil 8
A16: =Tracking!A18 -> Pupil 9
A17: =Tracking!A19 -> Pupil 10
A18: =Tracking!A20 -> Pupil 11
A19: =Tracking!A21 -> Pupil 12
A20: =Tracking!A22 -> Pupil 13 | C20: Interventions
A21: =Tracking!A23 -> Pupil 14
A22: =Tracking!A24 -> Pupil 15
A23: =Tracking!A25 -> Pupil 16
A24: =Tracking!A26 -> Pupil 17
A25: =Tracking!A27 -> Pupil 18
A26: =Tracking!A28 -> Pupil 19
A27: =Tracking!A29 -> Pupil 20
A28: =Tracking!A30 -> Pupil 21
A29: =Tracking!A31 -> Pupil 22
A30: =Tracking!A32 -> Pupil 23
A31: =Tracking!A33 -> Pupil 24
A32: =Tracking!A34 -> Pupil 25
... A40: =Tracking!A42 -> Pupil 33

Sheet Session5
C1: C11A | D1: Subject / Area of learning | F1: =Tracking!H1 -> English
D2: Name of Trainee: | F2: =Tracking!H3 -> Joe Bloggs
D3: Class / Age of Learners | F3: =Tracking!H5 -> Year 3
D4: Session Number | F4: E005
D5: Learning outcome | F5: LO:5
A6: RAG Rating | C6: R | E6: A | G6: G
A7: Name of Pupil | B7: RAG | C7: Comments
A8: =Tracking!A10 -> Pupil 1 | C8: Requires further support
A9: =Tracking!A11 -> Pupil 2
A10: =Tracking!A12 -> Pupil 3
A11: =Tracking!A13 -> Pupil 4
A12: =Tracking!A14 -> Pupil 5
A13: =Tracking!A15 -> Pupil 6
A14: =Tracking!A16 -> Pupil 7
A15: =Tracking!A17 -> Pupil 8
A16: =Tracking!A18 -> Pupil 9
A17: =Tracking!A19 -> Pupil 10
A18: =Tracking!A20 -> Pupil 11
A19: =Tracking!A21 -> Pupil 12
A20: =Tracking!A22 -> Pupil 13 | C20: Interventions
A21: =Tracking!A23 -> Pupil 14
A22: =Tracking!A24 -> Pupil 15
A23: =Tracking!A25 -> Pupil 16
A24: =Tracking!A26 -> Pupil 17
A25: =Tracking!A27 -> Pupil 18
A26: =Tracking!A28 -> Pupil 19
A27: =Tracking!A29 -> Pupil 20
A28: =Tracking!A30 -> Pupil 21
A29: =Tracking!A31 -> Pupil 22
A30: =Tracking!A32 -> Pupil 23
A31: =Tracking!A33 -> Pupil 24
A32: =Tracking!A34 -> Pupil 25
... A40: =Tracking!A42 -> Pupil 33

Sheet Session6
C1: C11A | D1: Subject / Area of learning | F1: =Tracking!H1 -> English
D2: Name of Trainee: | F2: =Tracking!H3 -> Joe Bloggs
D3: Class / Age of Learners | F3: =Tracking!H5 -> Year 3
D4: Session Number | F4: E006
D5: Learning outcome | F5: LO:6
A6: RAG Rating | C6: R | E6: A | G6: G
A7: Name of Pupil | B7: RAG | C7: Comments
A8: =Tracking!A10 -> Pupil 1 | C8: Requires further support
A9: =Tracking!A11 -> Pupil 2
A10: =Tracking!A12 -> Pupil 3
A11: =Tracking!A13 -> Pupil 4
A12: =Tracking!A14 -> Pupil 5
A13: =Tracking!A15 -> Pupil 6
A14: =Tracking!A16 -> Pupil 7
A15: =Tracking!A17 -> Pupil 8
A16: =Tracking!A18 -> Pupil 9
A17: =Tracking!A19 -> Pupil 10
A18: =Tracking!A20 -> Pupil 11
A19: =Tracking!A21 -> Pupil 12
A20: =Tracking!A22 -> Pupil 13 | C20: Interventions
A21: =Tracking!A23 -> Pupil 14
A22: =Tracking!A24 -> Pupil 15
A23: =Tracking!A25 -> Pupil 16
A24: =Tracking!A26 -> Pupil 17
A25: =Tracking!A27 -> Pupil 18
A26: =Tracking!A28 -> Pupil 19
A27: =Tracking!A29 -> Pupil 20
A28: =Tracking!A30 -> Pupil 21
A29: =Tracking!A31 -> Pupil 22
A30: =Tracking!A32 -> Pupil 23
A31: =Tracking!A33 -> Pupil 24
A32: =Tracking!A34 -> Pupil 25
... A40: =Tracking!A42 -> Pupil 33
