Workbook
Name ____INF1: #REF!
Name ____INF1: #REF!
Name ____INF2: #REF!
Name ____INF2: #REF!
Name ___INF1: #REF!
Name ___INF1: #REF!
Name ___INF2: #REF!
Name ___INF2: #REF!
Name __INF1: #REF!
Name __INF1: #REF!
Name __INF2: #REF!
Name __INF2: #REF!
Name _bar1: #REF!
Name _bar1: #REF!
Name _boh1: #REF!
Name _boh1: #REF!
Name _foh1: #REF!
Name _foh1: #REF!
Name _INF1: #REF!
Name _INF1: #REF!
Name _INF2: #REF!
Name _INF2: #REF!
Name Accept: [0]!Accept
Name Access: '[1]KING INPUT SHEET'!$D$28
Name ADDRESS1: #REF!
Name ADDRESS1: #REF!
Name ADDRESS2: #REF!
Name ADDRESS2: #REF!
Name admin1: #REF!
Name admin1: #REF!
Name Area: [2]Indices!$D$2:$F$81
Name BASE_DATE: '[3]Master Data Sheet'!$D$41
Name Base_Date: '[4]PROJECT INPUTS'!$E$9
Name bathrooms1: #REF!
Name bathrooms1: #REF!
Name BCIS_Location: [5]Library!$H$15:$I$94
Name BCIS_TPI: [5]Library!$K$15:$L$44
Name bedroomcorridors1: #REF!
Name bedroomcorridors1: #REF!
Name bedrooms1: #REF!
Name bedrooms1: #REF!
Name Beds: [6]DATA!$F$13
Name BlockABath: '[7]Block A - Data'!$H$54
Name BlockAens: '[7]Block A - Data'!$H$55
Name BlockAGIA: '[7]Block A - Data'!$E$31
Name BlockANIA: '[7]Block A - Data'!$G$31
Name BlockAUnits: '[7]Block A - Data'!$H$49
Name BlockBbath: '[7]Block B - Data'!$H$56
Name BlockBens: '[7]Block B - Data'!$H$57
Name BlockBGIA: '[7]Block B - Data'!$E$31
Name BlockBNIA: '[7]Block B - Data'!$G$31
Name BlockBUnits: '[7]Block B - Data'!$H$51
Name BlockCBath: '[7]Block C - Data'!$H$55
Name BlockCEns: '[7]Block C - Data'!$H$56
Name BlockCGIA: '[7]Block C - Data'!$E$31
Name BlockCNIA: '[7]Block C - Data'!$G$31
Name BlockCUnits: '[7]Block C - Data'!$H$50
Name BlockDBath: '[7]Block D - Data'!$H$60
Name BlockDEns: '[7]Block D - Data'!$H$61
Name BlockDGIA: '[7]Block D - Data'!$E$35

Sheet Front

Sheet Information Used
B6: Information Used & Assumptions
B8: 1 | C8: Information Used
C10: Architectural Drawings;
C11: UWTSD_STL_04_00_DR_A_ZZZZ_11D01_C119_Ground Floor Plan
C12: UWTSD_STL_04_01_DR_A_ZZZZ_11D02_C119_First Floor Plan
C13: UWTSD_STL_04_02_DR_A_ZZZZ_11D03_C119_Second Floor Plan
C14: UWTSD_STL_04_ZZ_DR_A_ZZZZ_21D01_C119_Technical Elevations Sheet 1
C15: UWTSD_STL_04_ZZ_DR_A_ZZZZ_21D02_C119_Technical Elevations Sheet 2
C16: UWTSD_STL_04_ZZ_DR_A_ZZZZ_62D01_C119_Window Elevations
C17: UWTSD_STL_04_ZZ_DR_A_ZZZZ_64D01_C119_Curtain Wall Elevations Sheet 1
C18: UWTSD_STL_04_ZZ_DR_A_ZZZZ_64D02_C119_Curtain Wall Elevations Sheet 2
C19: UWTSD_STL_04_ZZ_DR_A_ZZZZ_71D02_C119_Library Door Elevations
C20: UWTSD_STL_04_ZZ_SH_A_ZZZZ_71D01_C119_Library Door Schedule
C22: Engineering Drawings;
... C39: Spon's Architects and builders price book 2020 (Edited by Aecom, 145th Edition)
B41: 2 | C41: General assumptions;
C42: FF&E is excluded unless specifically identified within the cost plan.
C43: Costs are based upon the information as provided.
C44: We have assumed a project bank account will not be required for this scheme.
C45: We have assumed that the area of works will be decanted for the project. No allowance is made for throughways or dealing with building occupants.
C46: The exact nature of specification for internal doors, screens, folding partitions and finishes is assumed.
B48: 3 | C48: General notes and exclusions;
C49: All included costs are subject to variation following design development.
C50: Risks associated with BREXIT are not considered.
C51: A risk allowance of 5% is included for this estimate.
C52: VAT is excluded from the estimate.
C53: Works will be undertaken in a single phase.

Sheet Summary Original
B2: Project details | D2: UWTSD Library, University of Wales Trinity Saint David.Swansea. SA1
B5: Description | D5: Y Fforwm Building’
B7: Works cost estimate
E9: Cost
B10: Building works estimate
C11: Proposed Ground Floor Plan | D11: ='NRM1 CP template '!C12 -> FACILITATING WORKS | E11: ='NRM1 CP template '!I12 -> 0
C12: Group element 1 | D12: ='NRM1 CP template '!C22 -> SUBSTRUCTURE | E12: ='NRM1 CP template '!I22 -> 483382.39
C13: Group element 2 | D13: ='NRM1 CP template '!C42 -> SUPERSTRUCTURE | E13: ='NRM1 CP template '!I42 -> 2504900.7
C14: Group element 3 | D14: ='NRM1 CP template '!C156 -> INTERNAL FINISHES | E14: ='NRM1 CP template '!I156 -> 294620 | F14: 0
C15: Group element 4 | D15: ='NRM1 CP template '!C170 -> FITTINGS AND FURNISHINGS | E15: ='NRM1 CP template '!I170 -> 43420
C16: Group element 5 | D16: ='NRM1 CP template '!C193 -> SERVICES | E16: ='NRM1 CP template '!I193 -> 624016 | F16: 0
C17: Group element 9 | D17: ='NRM1 CP template '!C267 -> MAIN CONTRACTOR'S PRELIMINARIES | E17: ='NRM1 CP template '!I267 -> 395033.91
B19: Works cost estimate (sub total A) | E19: =SUM(E10:E18) -> 4345373 | F19: 0
B22: Project design team fees and other development costs (sub total B)
F24: 0
B25: Base cost estimate A + B (sub total C) | E25: =E19+E23 -> 4345373
C27: Group element 10 | D27: Risk allowance @ 5% of total Value | E27: =E25*0.05 -> 217268.65
B29: Total Risk allowances (sub total D) | E29: =E27 -> 217268.65
D30: 0
B31: Total Construction Cost (C + D) | E31: =E25+E29 -> 4562641.6
D33: 0
D37: 0
D38: 0
D39: 0
D40: 0
D44: 0
D45: 0
D49: 0
D50: 0 | F50: 0
D55: 0 | F55: 0
D56: 0 | F56: 0
D57: 0 | F57: 0
D58: 0 | F58: 0
D59: 0 | F59: 0
D63: 0 | F63: 0
D64: 0 | F64: 0
D65: 0 | F65: 0
D69: 0 | F69: 0
D70: 0 | F70: 0
D72: 0 | F72: 0
...

Sheet NRM1 CP template 
A2: Cost Plan for Y Fforwm Building’ in UWTSD Library, University of Wales Trinity Saint David.Swansea. SA1
A3: NRM 1 phaseologies
A4: Elemental Cost Plan
C8: Elements in red are NRM1 Phraseologies
A10: Ref. | C10: Element | D10: Quantity / unit | G10: 2189 | H10: Sub-Total | I10: Group-Total | J10: Notes
C11: Proposed Ground Floor Plan | G11: £ | H11: £ | I11: £
A12: 0 | C12: FACILITATING WORKS | I12: =SUM(H14:H21) -> 0
A13: 0.1 | C13: Toxic/hazardous material
C14: Toxic or hazardous material removal: Details to be stated e.g Removal of asbestos | F14: item | G14: 0 | H14: =E14*G14 -> 0 | J14: No Allowance made refer to Query Sheet
C15: Contaminated land
C16: Contaminated ground material removal: Details to be stated. | F16: item | G16: 0 | H16: =E16*G16 -> 0 | J16: No Allowance made refer to Query Sheet
A18: 0.2 | C18: Major demolition works
C19: Demolition of entire buildings: details to be stated.
C20: Demolition of entire structure | E20: 0 | F20: item | G20: 0 | H20: =E20*G20 -> 0 | J20: No Allowance made refer to Query Sheet
A22: 1 | C22: SUBSTRUCTURE | I22: =SUM(I24:I39) -> 483382.39
A24: 1.1 | C24: Piled foundations:
A25: 1.4 | C25: Moving piling rig to pile position. | E25: 96 | F25: nr | G25: 50000 | H25: =G25 -> 50000 | I25: =H25 -> 50000
C26: (Mob and Demob of Piling rig) | E26: 1 | F26: Item | G26: =100*96 -> 9600 | H26: =E26*G26 -> 9600 | I26: =H26 -> 9600 | J26: Sum for moving to each location (£100 x 96No Locations)
C28: Piles: details, Driven pile, 250/244 (mm) and 5 - 20 (m) of piles, with Minimum 1.5m concrete infil. | E28: =96*20 -> 1920 | F28: m | G28: 63 | H28: =G28*E28 -> 120960 | I28: =H28 -> 120960 | J28: rate from 1.1.2 Speciflist Foundation ' 450mm dia reinforced concrete CFA pile'
A30: 1.12 | C30: Pile caps: details, Refer to 16109-181-C7 and 16109-180-C4. Reinforcement rate (kg/m3) to pile cap, to be stated. | H30: =E30*G30 -> 0
C31: Extra Over; Single cap (750mm x 750mm deep) | E31: 28 | F31: nr | G31: 910 | H31: =E31*G31 -> 25480 | I31: =H31 -> 25480 | J31: Rate from 1.1 Substructure, pile Caps 1-2, 2-3, 3-5'
C32: Extra Over; Double Cap (1300mm x 750mm deep) | E32: 19 | F32: nr | G32: 2050 | H32: =E32*G32 -> 38950 | I32: =H32 -> 38950 | J32: Rate from 1.1 Substructure, pile Caps 1-2, 2-3, 3-5'
C33: Extra Over; Triple Pile Cap Tripe cap (1300mm x 1249mm). | E33: 10 | F33: nr | G33: 4100 | H33: =E33*G33 -> 41000 | I33: =H33 -> 41000 | J33: Rate from 1.1 Substructure, pile Caps 1-2, 2-3, 3-5'
A35: 1.9 | C35: Cutting off tops of concrete piles and preparing pile heads. (Included above) | E35: =SUM(E31:E33) -> 57 | F35: nr | G35: 0 | H35: =E35*G35 -> 0 | I35: =H35 -> 0
C36: Extra Over; H16 Bar reinforcement up to 1400mm long (included with 650mm embedment) | E36: =3*96 -> 288 | F36: Nr | G36: 7.46 | H36: =E36*G36 -> 2148.48 | I36: =H36 -> 2148.48 | J36: Rate from 14.07 forming Cavities - Cont, Sundries - cont
A37: 1.13 | C37: Ground floor slab including insulation and DPM (200mm thick with 1 Layer of A393 Mesh reinforcement | E37: =996.6*1.1 -> 1096.26 | F37: m2 | G37: 125 | H37: =E37*G37 -> 137032.5 | I37: =H37 -> 137032.5
C38: Extra Over; A393 Mesh Reinforcement | E38: =996.6*1.1 -> 1096.26 | F38: m2 | G38: =45*1.18 -> 53.1 | H38: =G38*E38 -> 58211.406 | I38: =H38 -> 58211.406 | J38: Current industry Rate with mark up
A42: 2 | C42: SUPERSTRUCTURE | I42: =SUM(H42:H155) -> 2504900.7
A44: 2.1 | C44: Frame
C45: Structural steel frame, including fittings and fixings: details to be stated.
A46: 2.4.1 | C46: Columns: details, 500x300 (mm), concrete grade, reinforcement rate (kg/m3) and type offormwork finish, to be stated. | E46: 187.44 | F46: m | G46: 235 | H46: =E46*G46 -> 44048.4 | J46: Rate from 2.1.1 Concrete Frames (300x600mm)
C47: Columns: details, 500x385 (mm), concrete grade, reinforcement rate (kg/m3) and type offormwork finish, to be stated. | E47: 47.41 | F47: m | G47: 235 | H47: =E47*G47 -> 11141.35 | J47: Rate from 2.1.1 Concrete Frames (300x600mm)
C48: Columns: details, 500 Diameter (mm), concrete grade, reinforcement rate (kg/m3) and type offormwork finish, to be stated. | E48: 252.84 | F48: m | G48: 235 | H48: =E48*G48 -> 59417.4 | J48: Rate from 2.1.1 Concrete Frames (300x600mm)
A49: 2.4.2 | C49: Beams: details,, beam size 150 x 490 (mm), reinforcement rate (kg/m3) and type of formwork finish, to be stated. | E49: 635.4 | F49: Lm | G49: 150 | H49: =E49*G49 -> 95310 | J49: Rate from 2.1.1 Concrete Frames
A50: 2.5.1 | C50: Walls:External walls: Panelled walling 200mm thick including Reinforcement sheer sheets | E50: =420*11.151 -> 4683.42 | F50: m2 | G50: 185 | H50: =E50*G50 -> 866432.7 | J50: 2.5 External Walls. Reinforced concrete wall
A52: 2.4.4 | C52: Extra over walls for forming openings i, windows details, including 200 (mm) wall thickness, overall size of opening spanding from 1.15(m2) to 11.26 (m2). As stated in 62D01 Window Elevations. | E52: 42 | F52: nr | G52: 200 | H52: =E52*G52 -> 8400 | J52: Expected cost for forming opening in external walls
A56: 2.4.4 | C56: Extra over walls for forming openings , for Curtain Walling details, including 200 (mm) wall thickness, overall size of opening spanding from 4.6(m2) to 50.83 (m2). As stated in 64D01 Curtain Wall Elevations Sheet 1 and 64D02 Curtain Wall Elevations Sheet 2 | E56: 44 | F56: nr | G56: 500 | H56: =E56*G56 -> 22000 | J56: Expected cost for forming opening in external walls
A58: 2.2 | C58: Upper Floors
C59: Reinforced Suspended Concrete Floor Slab - First Floor (275mm Thick) | E59: 960 | F59: m2 | G59: 194.4 | H59: =E59*G59 -> 186624 | J59: Rate from 2.1.1 Concrete Frame: Flat Slab
C60: Reinforce Suspended Concrete Floor Slab - Second Floor (275mm Thick) | E60: 960 | F60: m2 | G60: 194.4 | H60: =E60*G60 -> 186624 | J60: Rate from 2.1.1 Concrete Frame: Flat Slab
...
