Workbook
Name ____INF1: #REF!
Name ____INF1: #REF!
Name ____INF2: #REF!
Name ____INF2: #REF!
Name ___INF1: #REF!
Name ___INF1: #REF!
Name ___INF2: #REF!
Name ___INF2: #REF!
Name __INF1: #REF!
Name __INF1: #REF!
Name __INF2: #REF!
Name __INF2: #REF!
Name _bar1: #REF!
Name _bar1: #REF!
Name _boh1: #REF!
Name _boh1: #REF!
Name _foh1: #REF!
Name _foh1: #REF!
Name _INF1: #REF!
Name _INF1: #REF!
Name _INF2: #REF!
Name _INF2: #REF!
Name Accept: [0]!Accept
Name Access: '[1]KING INPUT SHEET'!$D$28
Name ADDRESS1: #REF!
Name ADDRESS1: #REF!
Name ADDRESS2: #REF!
Name ADDRESS2: #REF!
Name admin1: #REF!
Name admin1: #REF!
Name Area: [2]Indices!$D$2:$F$81
Name BASE_DATE: '[3]Master Data Sheet'!$D$41
Name Base_Date: '[4]PROJECT INPUTS'!$E$9
Name bathrooms1: #REF!
Name bathrooms1: #REF!
Name BCIS_Location: [5]Library!$H$15:$I$94
Name BCIS_TPI: [5]Library!$K$15:$L$44
Name bedroomcorridors1: #REF!
Name bedroomcorridors1: #REF!
Name bedrooms1: #REF!
Name bedrooms1: #REF!
Name Beds: [6]DATA!$F$13
Name BlockABath: '[7]Block A - Data'!$H$54
Name BlockAens: '[7]Block A - Data'!$H$55
Name BlockAGIA: '[7]Block A - Data'!$E$31
Name BlockANIA: '[7]Block A - Data'!$G$31
Name BlockAUnits: '[7]Block A - Data'!$H$49
Name BlockBbath: '[7]Block B - Data'!$H$56
Name BlockBens: '[7]Block B - Data'!$H$57
Name BlockBGIA: '[7]Block B - Data'!$E$31
Name BlockBNIA: '[7]Block B - Data'!$G$31
Name BlockBUnits: '[7]Block B - Data'!$H$51
Name BlockCBath: '[7]Block C - Data'!$H$55
Name BlockCEns: '[7]Block C - Data'!$H$56
Name BlockCGIA: '[7]Block C - Data'!$E$31
Name BlockCNIA: '[7]Block C - Data'!$G$31
Name BlockCUnits: '[7]Block C - Data'!$H$50
Name BlockDBath: '[7]Block D - Data'!$H$60
Name BlockDEns: '[7]Block D - Data'!$H$61
Name BlockDGIA: '[7]Block D - Data'!$E$35

Sheet Front

Sheet Information Used
B6: Information Used & Assumptions
B8: 1 | C8: Information Used
C10: Architectural Drawings;
C11: UWTSD_STL_04_00_DR_A_ZZZZ_11D01_C119_Ground Floor Plan
C12: UWTSD_STL_04_01_DR_A_ZZZZ_11D02_C119_First Floor Plan
C13: UWTSD_STL_04_02_DR_A_ZZZZ_11D03_C119_Second Floor Plan
C14: UWTSD_STL_04_ZZ_DR_A_ZZZZ_21D01_C119_Technical Elevations Sheet 1
C15: UWTSD_STL_04_ZZ_DR_A_ZZZZ_21D02_C119_Technical Elevations Sheet 2
C16: UWTSD_STL_04_ZZ_DR_A_ZZZZ_62D01_C119_Window Elevations
C17: UWTSD_STL_04_ZZ_DR_A_ZZZZ_64D01_C119_Curtain Wall Elevations Sheet 1
C18: UWTSD_STL_04_ZZ_DR_A_ZZZZ_64D02_C119_Curtain Wall Elevations Sheet 2
C19: UWTSD_STL_04_ZZ_DR_A_ZZZZ_71D02_C119_Library Door Elevations
C20: UWTSD_STL_04_ZZ_SH_A_ZZZZ_71D01_C119_Library Door Schedule
C22: Engineering Drawings;
... C39: Spon's Architects and builders price book 2020 (Edited by Aecom, 145th Edition)
B41: 2 | C41: General assumptions;
C42: FF&E is excluded unless specifically identified within the cost plan.
C43: Costs are based upon the information as provided.
C44: We have assumed a project bank account will not be required for this scheme.
C45: We have assumed that the area of works will be decanted for the project. No allowance is made for throughways or dealing with building occupants.
C46: The exact nature of specification for internal doors, screens, folding partitions and finishes is assumed.
B48: 3 | C48: General notes and exclusions;
C49: All included costs are subject to variation following design development.
C50: Risks associated with BREXIT are not considered.
C51: A risk allowance of 5% is included for this estimate.
C52: VAT is excluded from the estimate.
C53: Works will be undertaken in a single phase.

Sheet Summary Original
B2: Project details | D2: UWTSD Library, University of Wales Trinity Saint David.Swansea. SA1
B5: Description | D5: Y Fforwm Building’
B7: Works cost estimate
E9: Cost
B10: Building works estimate
C11: Proposed Ground Floor Plan | D11: ='NRM1 CP template '!C12 -> FACILITATING WORKS | E11: ='NRM1 CP template '!I12 -> 0
C12: Group element 1 | D12: ='NRM1 CP template '!C22 -> SUBSTRUCTURE | E12: ='NRM1 CP template '!I22 -> 483382.39
C13: Group element 2 | D13: ='NRM1 CP template '!C42 -> SUPERSTRUCTURE | E13: ='NRM1 CP template '!I42 -> 2504900.7
C14: Group element 3 | D14: ='NRM1 CP template '!C156 -> INTERNAL FINISHES | E14: ='NRM1 CP template '!I156 -> 294620 | F14: 0
C15: Group element 4 | D15: ='NRM1 CP template '!C170 -> FITTINGS AND FURNISHINGS | E15: ='NRM1 CP template '!I170 -> 43420
C16: Group element 5 | D16: ='NRM1 CP template '!C193 -> SERVICES | E16: ='NRM1 CP template '!I193 -> 624016 | F16: 0
C17: Group element 9 | D17: ='NRM1 CP template '!C267 -> MAIN CONTRACTOR'S PRELIMINARIES | E17: ='NRM1 CP template '!I267 -> 395033.91
B19: Works cost estimate (sub total A) | E19: =SUM(E10:E18) -> 4345373 | F19: 0
B22: Project design team fees and other development costs (sub total B)
F24: 0
B25: Base cost estimate A + B (sub total C) | E25: =E19+E23 -> 4345373
C27: Group element 10 | D27: Risk allowance @ 5% of total Value | E27: =E25*0.05 -> 217268.65
B29: Total Risk allowances (sub total D) | E29: =E27 -> 217268.65
D30: 0
B31: Total Construction Cost (C + D) | E31: =E25+E29 -> 4562641.6
D33: 0
D37: 0
D38: 0
D39: 0
D40: 0
D44: 0
D45: 0
D49: 0
D50: 0 | F50: 0
D55: 0 | F55: 0
D56: 0 | F56: 0
D57: 0 | F57: 0
D58: 0 | F58: 0
D59: 0 | F59: 0
D63: 0 | F63: 0
D64: 0 | F64: 0
D65: 0 | F65: 0
D69: 0 | F69: 0
D70: 0 | F70: 0
D72: 0 | F72: 0
... D110: 0 | F110: 0
D111: 0
D114: 0 | F114: 0
D118: 0 | F118: 0
D122: 0 | F122: 0
D125: 0 | F125: 0
D129: 0 | F129: 0
D132: 0 | F132: 0
D137: 0 | F137: 0
D147: 0 | F147: 0
D148: 0 | F148: 0
D152: 0 | F152: 0
D156: 0 | F156: 0
D158: 0 | F158: 0
... D187: 0 | F187: 0

Sheet NRM1 CP template 
A2: Cost Plan for Y Fforwm Building’ in UWTSD Library, University of Wales Trinity Saint David.Swansea. SA1
A3: NRM 1 phaseologies
A4: Elemental Cost Plan
C8: Elements in red are NRM1 Phraseologies
A10: Ref. | C10: Element | D10: Quantity / unit | G10: 2189 | H10: Sub-Total | I10: Group-Total | J10: Notes
C11: Proposed Ground Floor Plan | G11: £ | H11: £ | I11: £
A12: 0 | C12: FACILITATING WORKS | I12: =SUM(H14:H21) -> 0
A13: 0.1 | C13: Toxic/hazardous material
C14: Toxic or hazardous material removal: Details to be stated e.g Removal of asbestos | F14: item | G14: 0 | H14: =E14*G14 -> 0 | J14: No Allowance made refer to Query Sheet
C15: Contaminated land
C16: Contaminated ground material removal: Details to be stated. | F16: item | G16: 0 | H16: =E16*G16 -> 0 | J16: No Allowance made refer to Query Sheet
A18: 0.2 | C18: Major demolition works
C19: Demolition of entire buildings: details to be stated.
C20: Demolition of entire structure | E20: 0 | F20: item | G20: 0 | H20: =E20*G20 -> 0 | J20: No Allowance made refer to Query Sheet
A22: 1 | C22: SUBSTRUCTURE | I22: =SUM(I24:I39) -> 483382.39
A24: 1.1 | C24: Piled foundations:
A25: 1.4 | C25: Moving piling rig to pile position. | E25: 96 | F25: nr | G25: 50000 | H25: =G25 -> 50000 | I25: =H25 -> 50000
C26: (Mob and Demob of Piling rig) | E26: 1 | F26: Item | G26: =100*96 -> 9600 | H26: =E26*G26 -> 9600 | I26: =H26 -> 9600 | J26: Sum for moving to each location (£100 x 96No Locations)
C28: Piles: details, Driven pile, 250/244 (mm) and 5 - 20 (m) of piles, with Minimum 1.5m concrete infil. | E28: =96*20 -> 1920 | F28: m | G28: 63 | H28: =G28*E28 -> 120960 | I28: =H28 -> 120960 | J28: rate from 1.1.2 Speciflist Foundation ' 450mm dia reinforced concrete CFA pile'
A30: 1.12 | C30: Pile caps: details, Refer to 16109-181-C7 and 16109-180-C4. Reinforcement rate (kg/m3) to pile cap, to be stated. | H30: =E30*G30 -> 0
C31: Extra Over; Single cap (750mm x 750mm deep) | E31: 28 | F31: nr | G31: 910 | H31: =E31*G31 -> 25480 | I31: =H31 -> 25480 | J31: Rate from 1.1 Substructure, pile Caps 1-2, 2-3, 3-5'
C32: Extra Over; Double Cap (1300mm x 750mm deep) | E32: 19 | F32: nr | G32: 2050 | H32: =E32*G32 -> 38950 | I32: =H32 -> 38950 | J32: Rate from 1.1 Substructure, pile Caps 1-2, 2-3, 3-5'
C33: Extra Over; Triple Pile Cap Tripe cap (1300mm x 1249mm). | E33: 10 | F33: nr | G33: 4100 | H33: =E33*G33 -> 41000 | I33: =H33 -> 41000 | J33: Rate from 1.1 Substructure, pile Caps 1-2, 2-3, 3-5'
A35: 1.9 | C35: Cutting off tops of concrete piles and preparing pile heads. (Included above) | E35: =SUM(E31:E33) -> 57 | F35: nr | G35: 0 | H35: =E35*G35 -> 0 | I35: =H35 -> 0
C36: Extra Over; H16 Bar reinforcement up to 1400mm long (included with 650mm embedment) | E36: =3*96 -> 288 | F36: Nr | G36: 7.46 | H36: =E36*G36 -> 2148.48 | I36: =H36 -> 2148.48 | J36: Rate from 14.07 forming Cavities - Cont, Sundries - cont
A37: 1.13 | C37: Ground floor slab including insulation and DPM (200mm thick with 1 Layer of A393 Mesh reinforcement | E37: =996.6*1.1 -> 1096.26 | F37: m2 | G37: 125 | H37: =E37*G37 -> 137032.5 | I37: =H37 -> 137032.5
C38: Extra Over; A393 Mesh Reinforcement | E38: =996.6*1.1 -> 1096.26 | F38: m2 | G38: =45*1.18 -> 53.1 | H38: =G38*E38 -> 58211.406 | I38: =H38 -> 58211.406 | J38: Current industry Rate with mark up
A42: 2 | C42: SUPERSTRUCTURE | I42: =SUM(H42:H155) -> 2504900.7
A44: 2.1 | C44: Frame
C45: Structural steel frame, including fittings and fixings: details to be stated.
A46: 2.4.1 | C46: Columns: details, 500x300 (mm), concrete grade, reinforcement rate (kg/m3) and type offormwork finish, to be stated. | E46: 187.44 | F46: m | G46: 235 | H46: =E46*G46 -> 44048.4 | J46: Rate from 2.1.1 Concrete Frames (300x600mm)
C47: Columns: details, 500x385 (mm), concrete grade, reinforcement rate (kg/m3) and type offormwork finish, to be stated. | E47: 47.41 | F47: m | G47: 235 | H47: =E47*G47 -> 11141.35 | J47: Rate from 2.1.1 Concrete Frames (300x600mm)
C48: Columns: details, 500 Diameter (mm), concrete grade, reinforcement rate (kg/m3) and type offormwork finish, to be stated. | E48: 252.84 | F48: m | G48: 235 | H48: =E48*G48 -> 59417.4 | J48: Rate from 2.1.1 Concrete Frames (300x600mm)
A49: 2.4.2 | C49: Beams: details,, beam size 150 x 490 (mm), reinforcement rate (kg/m3) and type of formwork finish, to be stated. | E49: 635.4 | F49: Lm | G49: 150 | H49: =E49*G49 -> 95310 | J49: Rate from 2.1.1 Concrete Frames
A50: 2.5.1 | C50: Walls:External walls: Panelled walling 200mm thick including Reinforcement sheer sheets | E50: =420*11.151 -> 4683.42 | F50: m2 | G50: 185 | H50: =E50*G50 -> 866432.7 | J50: 2.5 External Walls. Reinforced concrete wall
A52: 2.4.4 | C52: Extra over walls for forming openings i, windows details, including 200 (mm) wall thickness, overall size of opening spanding from 1.15(m2) to 11.26 (m2). As stated in 62D01 Window Elevations. | E52: 42 | F52: nr | G52: 200 | H52: =E52*G52 -> 8400 | J52: Expected cost for forming opening in external walls
A56: 2.4.4 | C56: Extra over walls for forming openings , for Curtain Walling details, including 200 (mm) wall thickness, overall size of opening spanding from 4.6(m2) to 50.83 (m2). As stated in 64D01 Curtain Wall Elevations Sheet 1 and 64D02 Curtain Wall Elevations Sheet 2 | E56: 44 | F56: nr | G56: 500 | H56: =E56*G56 -> 22000 | J56: Expected cost for forming opening in external walls
A58: 2.2 | C58: Upper Floors
C59: Reinforced Suspended Concrete Floor Slab - First Floor (275mm Thick) | E59: 960 | F59: m2 | G59: 194.4 | H59: =E59*G59 -> 186624 | J59: Rate from 2.1.1 Concrete Frame: Flat Slab
C60: Reinforce Suspended Concrete Floor Slab - Second Floor (275mm Thick) | E60: 960 | F60: m2 | G60: 194.4 | H60: =E60*G60 -> 186624 | J60: Rate from 2.1.1 Concrete Frame: Flat Slab
A63: 2.3 | C63: Roof
A64: 2.3.1 | C64: Roof structure –pitched roofs: details, including design loads (0.18W/m2K), 50 span (m) and angle of pitch greater than (4°), to be stated. | E64: 1300 | F64: m2 | G64: 57 | H64: =E64*G64 -> 74100 | J64: Rate from 2.3 Roof
A65: 2.3.5 | C65: Rooflights, skylights and openings: type and size to be stated.
C66: PPCAluminium rooflight - H11/110C (1340mm x 1400mm) | E66: 4 | F66: nr | G66: 774.84 | H66: =E66*G66 -> 3099.36 | J66: 23.02 Rooflights
C67: PPC Metal Vertilation louvres (300mm deep) | E67: =5*10 -> 50 | F67: m | G67: =170.82 -> 170.82 | H67: =E67*G67 -> 8541 | J67: 23.03 Lourves (10 Rows of Lourves)
A68: 2.3.4 | C68: Gutters:150mm Cast iron gutter, Decorated | E68: =51.36*2 -> 102.72 | F68: m | G68: 92 | H68: =E68*G68 -> 9450.24 | J68: 2.3.4 Roof Drainage
A69: 2.3.4 | C69: allowance for rainwater goods (Downpipes,100mm Cast Iron; decorated | E69: =10.86*4 -> 43.44 | F69: m | G69: 110 | H69: =E69*G69 -> 4778.4 | J69: 2.3.4 Roof Drainage
A71: 2.4 | C71: Stairs & Ramps
A72: 2.4.1 | C72: Stair structures: on Ground Floor to Second Floor , includng vrtical rise of 2353mm raisers per floor. Note 2Nr Stairs per Floor. (Main Staircase) | E72: 6 | F72: nr | G72: 18000 | H72: =E72*G72 -> 108000 | J72: page.121 Extra Care Home. Stairs
A74: 2.4.2 | C74: Stair finishes: Ground Floor to Second Floor , includng vrtical rise of 2353mm raisers per floor.Note 2Nr Stairs per Floor. (Main Staircase). | E74: 6 | F74: nr | G74: 0 | H74: =E74*G74 -> 0 | J74: Included in Rate above
A76: 2.4.3 | C76: Wall handrails: Ground Floor to Second Floor , includng vrtical rise of 2353mm raisers per floor.Note 2Nr Stairs per Floor. (Main Staircase) (both Sides 2353mm) | E76: 6 | F76: nr | G76: 0 | H76: =E76*G76 -> 0 | J76: Included in Rate above
A78: 2.5 | C78: External Walls
A80: 2.5.1 | C80: Walls:External walls: Panelled walling 200mm thick including Reinforcement sheer sheets | E80: =420*11.151 -> 4683.42 | F80: m2 | G80: 0 | H80: =E80*G80 -> 0 | J80: Cost included in 2.0 'SUPERSTRUCTURE
A81: 2.5.1 | C81: Finishes applied to external walls: | E81: =420*11.151 -> 4683.42 | F81: m2 | G81: 0 | H81: =E81*G81 -> 0 | J81: Included in Rate above (2.5 external walls)
A82: 2.5.1 | C82: Finishes applied to external walls: Aluminium rainscreen cladding for library - Ash & Lacy Ashtech Lingrid, Dark Grey PPC, colour RAL 7016 - H92/120A (1m x 3.5m High x 4No) | E82: =(1*3.5)*4 -> 14 | F82: m2 | G82: 63 | H82: =E82*G82 -> 882 | J82: Rate from '2.5 External Walls, Page 197 ' Metal profiled cladding
A83: 2.5.1 | C83: Curtain walling (designed and fixed as an integrated assembly – complete with opening lights, doors, ventilators, and the like). UWTSD-STL-04-ZZ-DR-A-ZZZZ-64D01 C1119 and UWTSD-STL-04-ZZ-DR-A-ZZZZ-64D02 C119 | E83: 747.88 | F83: m2 | G83: 650 | H83: =E83*G83 -> 486122 | J83: Rate from '2.5 External Walls, Page 197 ' Glazed walling
A84: 2.5.1 | C84: Extra Over for 'Facing brickwork - Ibstock Chester Red Blend - F10/110C 215x102.5x65mm (404 per Pack) | E84: 584.915 | F84: m2 | G84: 110 | H84: =E84*G84 -> 64340.65 | J84: Rate taken from Spons 2.5 External walls
A86: 2.6 | C86: Windows and external doors 144
C87: Windows : As per schedules on UWTSD_STL_04_ZZ_DR_A_ZZZZ_62D01_C119_Window Elevations
A88: 2.6.1 | C88: Windows
C89: W Type 1 2400x460 | E89: =1.1*3 -> 3.3 | F89: m2 | G89: 490 | H89: =E89*G89 -> 1617 | J89: rate from page 139 ''Windows and External Doors'
C90: W Type 2 2400x1360 | E90: =14*3.26 -> 45.64 | F90: m2 | G90: 490 | H90: =E90*G90 -> 22363.6 | J90: rate from page 139 ''Windows and External Doors'
C91: W Type 2a 2400x1360 | E91: =5*3.26 -> 16.3 | F91: m2 | G91: 490 | H91: =E91*G91 -> 7987 | J91: rate from page 139 ''Windows and External Doors'
C92: W Type 3 2400x1360 | E92: =3*3.26 -> 9.78 | F92: m2 | G92: 490 | H92: =E92*G92 -> 4792.2 | J92: rate from page 139 ''Windows and External Doors'
C93: W Type 3a 2400x1360 | E93: 3.26 | F93: m2 | G93: 490 | H93: =E93*G93 -> 1597.4 | J93: rate from page 139 ''Windows and External Doors'
C94: W Type 4 2400x1360 | E94: 3.26 | F94: m2 | G94: 490 | H94: =E94*G94 -> 1597.4 | J94: rate from page 139 ''Windows and External Doors'
C95: W Type 5 3225x1360 | E95: =7*4.39 -> 30.73 | F95: m2 | G95: 490 | H95: =E95*G95 -> 15057.7 | J95: rate from page 139 ''Windows and External Doors'
C96: W Type 6 3225x1360 | E96: =3*4.39 -> 13.17 | F96: m2 | G96: 490 | H96: =E96*G96 -> 6453.3 | J96: rate from page 139 ''Windows and External Doors'
C97: W Type 7 3265x3450 | E97: =4*11.26 -> 45.04 | F97: m2 | G97: 490 | H97: =E97*G97 -> 22069.6 | J97: rate from page 139 ''Windows and External Doors'
C99: Extra Over; CW Type 14a Wider flashing | E99: 1 | F99: nr | G99: 500 | H99: =E99*G99 -> 500 | J99: Extra sum for wider flashing as there is no current rate
A103: 2.6.2 | C103: External doors
C104: Curtain wall system incorporating single leaf door. External doors: details, including type, number ofdoor leaves (nr), size of each door 3305 leaf (mm) andoverall size of opening 6610(mm), to be stated. | E104: 2 | F104: nr | G104: 500 | H104: =E104*G104 -> 1000
A106: 2.8.1 | C106: External Door Type 1 Double leaf door (2110mnm x 1810mm) | E106: =2 -> 2 | F106: nr | G106: 2000 | H106: =E106*G106 -> 4000 | J106: Rate from page 139 ''Windows and External Doors'
A108: 2.7 | C108: Internal walls
A109: 2.7.1 | C109: fixed partitions:details,'New internal metal stud partitions, including skim to receive plaster both sides 12mm Plaster-75Std-12mm Plaster | E109: 1199 | F109: m2 | G109: 46 | H109: =E109*G109 -> 55154 | J109: Rate from page 139 ''Internal Walls and Partitions
A111: 2.7.1 | C111: Extra over fixed partitions for forming openings in partitions for internal doors spanding to largest opening of 1010mm x 2110mm | E111: 45 | F111: nr | G111: 250 | H111: =E111*G111 -> 11250 | J111: Assummed rate
A115: 2.8 | C115: Internal doors & screens (173)
C116: Internal doors: details, including type, number of door leaves (nr), size of each door leaf (mm), and overall size of opening (mm), to be stated. As per Schedule on UWTSD-STL-04-ZZ-SH-A-ZZZZ-71D01 Library Door Schedule and UWTSD-STL-04-ZZ-DR-A-ZZZZ-71D02 Library Door Elevations
C117: Internal Door Type 1 (2110mm x 1010mm) L20/230 FD30 | E117: 19 | F117: nr | G117: 1150 | H117: =G117*E117 -> 21850 | J117: Rate from Rate from page 140 'Internal Doors' with vison panel
A118: 2.8.1 | C118: Composite door and sidelights/over panel units: Vision Panel 140mm x 1385mm 'Fire rated doors single leaf, timber veneer with vision panel | E118: 19 | F118: nr | G118: 0 | H118: =G118*E118 -> 0
A119: 2.8.1 | C119: Painting and decorating to internal doors. Fire/toilet symbol | E119: 19 | F119: nr | G119: 0 | H119: =G119*E119 -> 0
A120: 2.8.1 | C120: Ironmongery sets - Kick plates (250mmx 926mm) | E120: 19 | F120: nr | G120: 600 | H120: =G120*E120 -> 11400
A123: 2.8.1 | C123: Internal Door Type 2 (2110mm x 810mm) L20/230A | E123: 13 | F123: nr | G123: 1150 | H123: =G123*E123 -> 14950 | J123: Rate from Rate from page 140 'Internal Doors' with vison panel
A124: 2.8.1 | C124: Kick plates (250mmx 726mm) | E124: 13 | F124: nr | G124: 0 | H124: =G124*E124 -> 0
A126: 2.8.1 | C126: Internal Door Type 4 (2110mm x 1010mm) | E126: 10 | F126: nr | G126: 0 | H126: =G126*E126 -> 0
A127: 2.8.1 | C127: Kick plates (250mmx 726mm) and Ironmongery sets | E127: 10 | F127: nr | G127: 600 | H127: =G127*E127 -> 6000
A130: 2.8.1 | C130: Internal Door Type 5 (2110mm x 926mm) L20/230A | E130: 9 | F130: nr | G130: 1650 | H130: =G130*E130 -> 14850 | J130: Rate from Rate from page 140 'Internal Doors' Double fire door, Georgian wired glass, stainless steel ironmongery to corridor
A131: 2.8.1 | C131: Composite door and sidelights/over panel units: Vision Glass Panel in opening 2110mm x 984mm | E131: 9 | F131: nr | G131: 0 | H131: =G131*E131 -> 0
A132: 2.8.1 | C132: Composite door and sidelights/over panel units: Vision Glass Panel in door 1385mm x 140mm 'Fire rated doors single leaf, timber veneer with vision panel | E132: 9 | F132: nr | G132: 0 | H132: =G132*E132 -> 0
A133: 2.8.1 | C133: graphic manifestation zone 984mm x 600mm | E133: 9 | F133: nr | G133: 0 | H133: =G133*E133 -> 0
A134: 2.8.1 | C134: Kick plates (250mmx 926mm) and Ironmongery sets | E134: 9 | F134: nr | G134: 600 | H134: =G134*E134 -> 5400
A137: 2.8.1 | C137: Internal Door Type 5B (2110mm x 926mm) L20/230A | E137: 5 | F137: nr | G137: 1650 | H137: =G137*E137 -> 8250 | J137: Rate from Rate from page 140 'Internal Doors' Double fire door, Georgian wired glass, stainless steel ironmongery to corridor
A138: 2.8.1 | C138: Composite door and sidelights/over panel units: Vision Glass Panel in opening 1124mm x 2110mm | E138: 5 | F138: nr | G138: 0 | H138: =G138*E138 -> 0
A139: 2.8.1 | C139: Composite door and sidelights/over panel units: Vision Glass Panel in door 1385mm x 140mm 'Fire rated doors single leaf, timber veneer with vision panel | E139: 5 | F139: nr | G139: 0 | H139: =G139*E139 -> 0
A140: 2.8.1 | C140: graphic manifestation zone 1124mm x 600mm | E140: 5 | F140: nr | G140: 0 | H140: =G140*E140 -> 0
A141: 2.8.1 | C141: Kick plates (250mmx 926mm) and Ironmongery sets | E141: 5 | F141: nr | G141: 600 | H141: =G141*E141 -> 3000
A144: 2.8.1 | C144: Internal Door Type 5C (2110mm x 926mm) L20/230A | E144: 2 | F144: nr | G144: 1650 | H144: =G144*E144 -> 3300 | J144: Rate from Rate from page 140 'Internal Doors' Double fire door, Georgian wired glass, stainless steel ironmongery to corridor
A145: 2.8.1 | C145: Composite door and sidelights/over panel units: Vision Glass Panel in opening 884mm x 2110mm | E145: 2 | F145: nr | G145: 0 | H145: =G145*E145 -> 0
A146: 2.8.1 | C146: Composite door and sidelights/over panel units: Vision Glass Panel in door 1385mm x 140mm 'Fire rated doors single leaf, timber veneer with vision panel | E146: 2 | F146: nr | G146: 0 | H146: =G146*E146 -> 0
A147: 2.8.1 | C147: graphic manifestation zone 884mm x 600mm | E147: 2 | F147: nr | G147: 0 | H147: =G147*E147 -> 0
...
