Workbook

Sheet no passenger
B5: Total Length | C5: 2.99 | D5: m
B6: Total Mass | C6: 1880 | D6: kg
A7: Mass Distribution front | C7: 47 | D7: %
B8: b | C8: 1.4053 | D8: m
B9: a | C9: =C5-C8 -> 1.5847 | D9: m
B10: Rotational Inertia | C10: 4003.19 | F10: Gear box | N10: Engine
B11: Inertial Conjugate | C11: =C10/(C6*C9) -> 1.3436968 | K11: CoG | Q11: PTU
B12: Dynamic Index | C12: =C10/(C6*C8*C9) -> 0.95616369
H15: Rear | Q15: Front

Sheet Inertia Summation
C1: No Passenger | D1: 2 Passengers | E1: 4 Passengers
B2: Cog from front (m) | C2: ='no passenger'!C9 -> 1.5847 | D2: ='2 Passengers'!D9 -> 1.604 | E2: ='4 Passengers'!D10 -> 1.644
B3: Weight Distribution front % | C3: ='no passenger'!C7 -> 47 | D3: ='2 Passengers'!D7 -> 46.35 | E3: ='4 Passengers'!D9 -> 45
B4: Inertia (Kgm^2) | C4: ='no passenger'!C10 -> 4003.19 | D4: ='2 Passengers'!D10 -> 4017.097 | E4: ='4 Passengers'!D12 -> 4096.53
B5: Inertial Conjugate (m) | C5: ='no passenger'!C11 -> 1.3436968 | D5: ='2 Passengers'!D11 -> 1.2314016 | E5: ='4 Passengers'!D13 -> 1.1771573
B6: DI | C6: ='no passenger'!C12 -> 0.95616369 | D6: ='2 Passengers'!D12 -> 0.88845714 | E6: ='4 Passengers'!D14 -> 0.87455966

Sheet 2 Passengers
C5: Total Length | D5: 2.99 | E5: m
C6: Total Mass | D6: 2033.8 | E6: kg
A7: New Mass Distribution To rear | D7: 46.35
C8: b | D8: 1.386 | E8: m
C9: a | D9: =D5-D8 -> 1.604 | E9: m
C10: Rotational Inertia | D10: 4017.097
C11: Inertial Conjugate | D11: =D10/(D6*D9) -> 1.2314016 | G11: Gear box | O11: Engine
C12: Dynamic Index | D12: =D10/(D6*D8*D9) -> 0.88845714 | L12: CoG | R12: PTU
I16: Rear | R16: Front

Sheet 4 Passengers
C7: Total Length | D7: 2.99 | E7: m
C8: Total Mass | D8: 2116.8 | E8: kg
A9: New Mass Distribution To rear | D9: 45 | E9: %
C10: a | D10: 1.644 | E10: m
C11: b | D11: =D7-D10 -> 1.346 | E11: m
C12: Rotational Inertia | D12: 4096.53
C13: Inertial Conjugate | D13: =D12/(D8*D10) -> 1.1771573 | G13: Gear box | O13: Engine
C14: Dynamic Index | D14: =D12/(D8*D10*D11) -> 0.87455966 | L14: CoG
I18: Rear | R18: Front

Sheet Drive
A1: Gear rear | B1: Rear Ratio | C1: Final Drive Ratio | D1: Overall Ratio | E1: Rear wheel speed 6000rpm | F1: Front gear box output @6000 RPM | G1: Front Ratio | H1: Max Torque Capacity front | I1: Max Torque Capacity rear | J1: Dif rpm | K1: Power loss W | L1: Power loss kW | N1: Axial Force Uniform wear N | O1: Axial Force Uniform Pressure N | Q1: Gear | R1: Max force front wheels | S1: Max force rear wheels | T1: Total tractive force awd | U1: Just rear Wheel Drive | X1: AWD
A2: 1 | B2: 3.4 | C2: 4.38 | D2: =B2*C2 -> 14.892 | E2: =6000/D2 -> 402.90089 | F2: =$E$3+(0.06*$E$3) -> 666.08018 | G2: =6000/F2 -> 9.0079245 | H2: =(0.1*683)*G2 -> 615.24125 | I2: =(683*0.4)*D2 -> 4068.4944 | J2: =F2-E2 -> 263.17929 | K2: =H2*((J2*(2*PI()))/60) -> 16956.093 | L2: =K2/1000 -> 16.956093 | N2: =(H2*2)/(12*$F$13*($F$12+$F$11)) -> 6031.7769 | O2: =(3*H2*(($F$11^2)-($F$12^2)))/(2*$F$13*12*(($F$11^3)-($F$12^3))) -> 5709.1164 | Q2: 1 | R2: =H2/0.254 -> 2422.2096 | S2: =I2/0.254 -> 16017.694 | T2: =(R2+S2)*2 -> 36879.808 | U2: Yaw moment Just rear | V2: Yaw gain rads/s | W2: Yaw gain degs/s | X2: Yaw Moment AWD | Y2: Yaw Gain Rad/s | Z2: Yaw gain Degs/s
A3: 2 | B3: 2.18 | C3: 4.38 | D3: =B3*C3 -> 9.5484 | E3: =6000/D3 -> 628.37753 | F3: =$E$3+(0.06*$E$3) -> 666.08018 | G3: =6000/F3 -> 9.0079245 | H3: =(0.1*683)*G3 -> 615.24125 | I3: =(683*0.4)*D3 -> 2608.6229 | J3: =F3-E3 -> 37.702652 | K3: =H3*((J3*(2*PI()))/60) -> 2429.1031 | L3: =K3/1000 -> 2.4291031 | N3: =(H3*2)/(12*$F$13*($F$12+$F$11)) -> 6031.7769 | O3: =(3*H3*(($F$11^2)-($F$12^2)))/(2*$F$13*12*(($F$11^3)-($F$12^3))) -> 5709.1164 | Q3: 2 | R3: =H3/0.254 -> 2422.2096 | S3: =I3/0.254 -> 10270.169 | T3: =(R3+S3)*2 -> 25384.757 | U3: =(S2*(0.83+0.046)) -> 14031.5 | V3: =U3/'4 Passengers'!$D$12 -> 3.4252161 | W3: =V3*(180/PI()) -> 196.25042 | X3: =((R2*(0.834+0.046))/1.664)+U3 -> 15312.477 | Y3: =X3/'4 Passengers'!$D$12 -> 3.7379139 | Z3: =Y3*(180/PI()) -> 214.16669
A4: 3 | B4: 1.63 | C4: 4.38 | D4: =B4*C4 -> 7.1394 | E4: =6000/D4 -> 840.40676 | F4: =$E$5+(0.06*$E$5) -> 1125.6239 | G4: =6000/F4 -> 5.3303774 | H4: =(0.1*683)*G4 -> 364.06477 | I4: =(683*0.4)*D4 -> 1950.4841 | J4: =F4-E4 -> 285.21711 | K4: =H4*((J4*(2*PI()))/60) -> 10873.838 | L4: =K4/1000 -> 10.873838 | N4: =(H4*2)/(12*$F$13*($F$12+$F$11)) -> 3569.2625 | O4: =(3*H4*(($F$11^2)-($F$12^2)))/(2*$F$13*12*(($F$11^3)-($F$12^3))) -> 3378.3303 | Q4: 3 | R4: =H4/0.254 -> 1433.3259 | S4: =I4/0.254 -> 7679.0712 | T4: =(R4+S4)*2 -> 18224.794 | U4: =(S3*(0.83+0.046)) -> 8996.6679 | V4: =U4/'4 Passengers'!$D$12 -> 2.1961679 | W4: =V4*(180/PI()) -> 125.83115 | X4: =((R3*(0.834+0.046))/1.664)+U4 -> 10277.644 | Y4: =X4/'4 Passengers'!$D$12 -> 2.5088658 | Z4: =Y4*(180/PI()) -> 143.74742
A5: 4 | B5: 1.29 | C5: 4.38 | D5: =B5*C5 -> 5.6502 | E5: =6000/D5 -> 1061.9093 | F5: =$E$5+(0.06*$E$5) -> 1125.6239 | G5: =6000/F5 -> 5.3303774 | H5: =(0.1*683)*G5 -> 364.06477 | I5: =(683*0.4)*D5 -> 1543.6346 | J5: =F5-E5 -> 63.714559 | K5: =H5*((J5*(2*PI()))/60) -> 2429.1031 | L5: =K5/1000 -> 2.4291031 | N5: =(H5*2)/(12*$F$13*($F$12+$F$11)) -> 3569.2625 | O5: =(3*H5*(($F$11^2)-($F$12^2)))/(2*$F$13*12*(($F$11^3)-($F$12^3))) -> 3378.3303 | Q5: 4 | R5: =H5/0.254 -> 1433.3259 | S5: =I5/0.254 -> 6077.3017 | T5: =(R5+S5)*2 -> 15021.255 | U5: =(S4*(0.83+0.046)) -> 6726.8664 | V5: =U5/'4 Passengers'!$D$12 -> 1.6420889 | W5: =V5*(180/PI()) -> 94.084762 | X5: =((R4*(0.834+0.046))/1.664)+U5 -> 7484.8752 | Y5: =X5/'4 Passengers'!$D$12 -> 1.8271257 | Z5: =Y5*(180/PI()) -> 104.68659
A6: 5 | B6: 1.03 | C6: 4.38 | D6: =B6*C6 -> 4.5114 | E6: =6000/D6 -> 1329.9641 | F6: 0 | G6: 0 | H6: 0 | I6: =(683*0.4)*D6 -> 1232.5145 | J6: 0 | K6: 0 | L6: 0 | N6: =(H6*2)/(12*$F$13*($F$12+$F$11)) -> 0 | O6: =(3*H6*(($F$11^2)-($F$12^2)))/(2*$F$13*12*(($F$11^3)-($F$12^3))) -> 0 | Q6: 5 | R6: =H6/0.254 -> 0 | S6: =I6/0.254 -> 4852.4192 | T6: =(R6+S6)*2 -> 9704.8384 | U6: =(S5*(0.83+0.046)) -> 5323.7163 | V6: =U6/'4 Passengers'!$D$12 -> 1.2995673 | W6: =V6*(180/PI()) -> 74.45972 | X6: =((R5*(0.834+0.046))/1.664)+U6 -> 6081.7252 | Y6: =X6/'4 Passengers'!$D$12 -> 1.4846041 | Z6: =Y6*(180/PI()) -> 85.061549
A7: 6 | B7: 0.84 | C7: 4.38 | D7: =B7*C7 -> 3.6792 | E7: =6000/D7 -> 1630.7893 | F7: 0 | G7: 0 | H7: 0 | I7: =(683*0.4)*D7 -> 1005.1574 | J7: 0 | K7: 0 | L7: 0 | N7: =(H7*2)/(12*$F$13*($F$12+$F$11)) -> 0 | O7: =(3*H7*(($F$11^2)-($F$12^2)))/(2*$F$13*12*(($F$11^3)-($F$12^3))) -> 0 | Q7: 6 | R7: =H7/0.254 -> 0 | S7: =I7/0.254 -> 3957.3128 | T7: =(R7+S7)*2 -> 7914.6255 | U7: =(S6*(0.83+0.046)) -> 4250.7192 | V7: =U7/'4 Passengers'!$D$12 -> 1.037639 | W7: =V7*(180/PI()) -> 59.452334 | X7: =((R6*(0.834+0.046))/1.664)+U7 -> 4250.7192 | Y7: =X7/'4 Passengers'!$D$12 -> 1.037639 | Z7: =Y7*(180/PI()) -> 59.452334
U8: =(S7*(0.83+0.046)) -> 3466.606 | V8: =U8/'4 Passengers'!$D$12 -> 0.84622985 | W8: =V8*(180/PI()) -> 48.485399 | X8: =((R7*(0.834+0.046))/1.664)+U8 -> 3466.606 | Y8: =X8/'4 Passengers'!$D$12 -> 0.84622985 | Z8: =Y8*(180/PI()) -> 48.485399
E10: Assumptions
E11: Outer Radius | F11: 0.12 | U11: RWD | Y11: AWD
E12: Inner Radius | F12: 0.05 | U12: Lat force a front wheels | V12: Slip angle | W12: required wheel travel | X12: hand wheel movement | Y12: Lat force at front wheels | Z12: Slip angle | AA12: required wheel travel | AB12: hand wheel movement
E13: Mue coefficient | F13: 0.1 | U13: =U3/2.99 -> 4692.8095 | V13: =U13/500 -> 9.385619 | W13: =V13/90 -> 0.10428466 | X13: =W13*1035 -> 107.93462 | Y13: =U13+R2 -> 7115.0191 | Z13: =Y13/500 -> 14.230038 | AA13: =Z13/90 -> 0.15811154 | AB13: =AA13*1035 -> 163.64544
E14: No. of plates | F14: 6 | U14: =U4/2.99 -> 3008.919 | V14: =U14/500 -> 6.0178381 | W14: =V14/90 -> 0.066864867 | X14: =W14*1035 -> 69.205138 | Y14: =U14+R3 -> 5431.1287 | Z14: =Y14/500 -> 10.862257 | AA14: =Z14/90 -> 0.12069175 | AB14: =AA14*1035 -> 124.91596
U15: =U5/2.99 -> 2249.7881 | V15: =U15/500 -> 4.4995762 | W15: =V15/90 -> 0.049995291 | X15: =W15*1035 -> 51.745126 | Y15: =U15+R4 -> 3683.114 | Z15: =Y15/500 -> 7.3662279 | AA15: =Z15/90 -> 0.081846977 | AB15: =AA15*1035 -> 84.711621
U16: =U6/2.99 -> 1780.5071 | V16: =U16/500 -> 3.5610143 | W16: =V16/90 -> 0.039566825 | X16: =W16*1035 -> 40.951664 | Y16: =U16+R5 -> 3213.833 | Z16: =Y16/500 -> 6.427666 | AA16: =Z16/90 -> 0.071418511 | AB16: =AA16*1035 -> 73.918159
U17: =U7/2.99 -> 1421.6452 | V17: =U17/500 -> 2.8432905 | W17: =V17/90 -> 0.031592116 | X17: =W17*1035 -> 32.69784 | Y17: =U17+R6 -> 1421.6452 | Z17: =Y17/500 -> 2.8432905 | AA17: =Z17/90 -> 0.031592116 | AB17: =AA17*1035 -> 32.69784
U18: =U8/2.99 -> 1159.4 | V18: =U18/500 -> 2.3188 | W18: =V18/90 -> 0.025764444 | X18: =W18*1035 -> 26.6662 | Y18: =U18+R7 -> 1159.4 | Z18: =Y18/500 -> 2.3188 | AA18: =Z18/90 -> 0.025764444 | AB18: =AA18*1035 -> 26.6662
V21: Assumptions
V22: road wheel can move +-45
V23: hand wheel lock to lock 3.5deg

Sheet Data Sheet
A1: Assumptions and Vehicle Specifcations used
A2: Vehicle Mass | B2: 1880kg | C2: 4th gear ratio rear | D2: 1.29
A3: Wheelbase | B3: 2.990m | C3: 5th gear ratio rear | D3: 1.03
A4: Front Track | B4: 1676mm | C4: 6th gear ratio rear | D4: 0.84
A5: Rear Track | B5: 1660mm | C5: Final Drive Ratio Rear | D5: 4.38
A6: Longitudinal Mass Distribution | B6: 47% front 53% rear | C6: 1st gear ratio front | D6: 6% taller than 2nd rear
A7: Lateral Mass Distribution | B7: 50% 50% | C7: 2nd Gear ratio front | D7: 6% taller than 3rd rear
A8: Wheel and tyre Diameter | B8: 0.508m | C8: Outer Radius of clutch | D8: 0.12
A9: Maximum Torque | B9: 683Nm | C9: Inner Radius of clutch | D9: 0.05
A10: Torque Split Front Rear | B10: 20% Front 80% Rear | C10: Mue coefficient of clutch | D10: 0.1
A11: No of Gear | B11: 6+Reverse | C11: No. of plates in clutch | D11: 6
A12: Mass of Front Passengers | B12: 153.8kg | C12: Mue coefficient of dry tarmac | D12: 1
A13: Mass of Rear Passengers | B13: 83kg | C13: Mue coefficient of wet tarmac | D13: 0.85
A14: 1st gear ratio rear | B14: 3.4 | C14: Mue coefficient of ice | D14: 0.1
A15: 2nd gear ratio rear | B15: 2.18 | C15: Mue coefficient of gravel | D15: 0.66
A16: 3rd gear ratio rear | B16: 1.63 | C16: Steering Ratio | D16: 11.5

Sheet Longitudinal Acceleration
A1: Mechanical limited grip
A2: gear | B2: Max force front wheels | C2: Max force rear wheels | D2: Total tractive force awd | E2: Max accel awd | F2: Max Accel rear only
A3: 1 | B3: =Drive!H2/0.254 -> 2422.2096 | C3: =Drive!I2/0.357 -> 11396.343 | D3: =(B3+C3)*2 -> 27637.105 | E3: =D3/2116.8 -> 13.056078 | F3: =C3/2116.8 -> 5.3837599
A4: 2 | B4: =Drive!H3/0.254 -> 2422.2096 | C4: =Drive!I3/0.357 -> 7307.0669 | D4: =(B4+C4)*2 -> 19458.553 | E4: =D4/2116.8 -> 9.1924381 | F4: =C4/2116.8 -> 3.4519401
A5: 3 | B5: =Drive!H4/0.254 -> 1433.3259 | C5: =Drive!I4/0.357 -> 5463.5408 | D5: =(B5+C5)*2 -> 13793.733 | E5: =D5/2116.8 -> 6.516314 | F5: =C5/2116.8 -> 2.5810378
A6: 4 | B6: =Drive!H5/0.254 -> 1433.3259 | C6: =Drive!I5/0.357 -> 4323.9066 | D6: =(B6+C6)*2 -> 11514.465 | E6: =D6/2116.8 -> 5.439562 | F6: =C6/2116.8 -> 2.0426618
A7: 5 | B7: =Drive!H6/0.254 -> 0 | C7: =Drive!I6/0.357 -> 3452.4215 | D7: =(B7+C7)*2 -> 6904.843 | E7: =D7/2116.8 -> 3.2619251 | F7: =C7/2116.8 -> 1.6309625
A8: 6 | B8: =Drive!H7/0.254 -> 0 | C8: =Drive!I7/0.357 -> 2815.5671 | D8: =(B8+C8)*2 -> 5631.1341 | E8: =D8/2116.8 -> 2.6602108 | F8: =C8/2116.8 -> 1.3301054
A10: Road Suface limited grip
A11: Surface | B11: Mue | C11: Tractive Force 1 Front N | D11: Tractive Force 1 Rear N | E11: Total Tractive Force with Front N | F11: Total Tractive Force just Rear N | G11: Max Accel with Front m/s/s | H11: Max Accel without Front m/s/s
A12: tarmac | B12: 1 | C12: =476.28*B12*9.81 -> 4672.3068 | D12: =582.12*9.81*B12 -> 5710.5972 | E12: =(C12*2)+(D12*2) -> 20765.808 | F12: =D12*2 -> 11421.194 | G12: =(E12+F12)/2116.8 -> 15.2055 | H12: =D12/2116.8 -> 2.69775
A13: wet tarmac | B13: 0.85 | C13: =476.28*B13*9.81 -> 3971.4608 | D13: =582.12*9.81*B13 -> 4854.0076 | E13: =(C13*2)+(D13*2) -> 17650.937 | F13: =D13*2 -> 9708.0152 | G13: =(E13+F13)/2116.8 -> 12.924675 | H13: =D13/2116.8 -> 2.2930875
A14: gravel | B14: 0.66 | C14: =476.28*B14*9.81 -> 3083.7225 | D14: =582.12*9.81*B14 -> 3768.9942 | E14: =(C14*2)+(D14*2) -> 13705.433 | F14: =D14*2 -> 7537.9883 | G14: =(E14+F14)/2116.8 -> 10.03563 | H14: =D14/2116.8 -> 1.780515
A15: Ice | B15: 0.1 | C15: =476.28*B15*9.81 -> 467.23068 | D15: =582.12*9.81*B15 -> 571.05972 | E15: =(C15*2)+(D15*2) -> 2076.5808 | F15: =D15*2 -> 1142.1194 | G15: =(E15+F15)/2116.8 -> 1.52055 | H15: =D15/2116.8 -> 0.269775
A17: Surface | B17: Max Accel with Front m/s/s | C17: Max Accel without Front m/s/s | D17: % Difference
A18: tarmac | B18: =MIN(E3,G12) -> 13.056078 | C18: =MIN(F3,H12) -> 2.69775 | D18: =(C18/B18)*100 -> 20.662791
A19: wet tarmac | B19: =MIN(E4,G13) -> 9.1924381 | C19: =MIN(F4,H13) -> 2.2930875 | D19: =(C19/B19)*100 -> 24.945368
A20: gravel | B20: =MIN(E5,G14) -> 6.516314 | C20: =MIN(F5,H14) -> 1.780515 | D20: =(C20/B20)*100 -> 27.32396
A21: Ice | B21: =MIN(E6,G15) -> 1.52055 | C21: =MIN(F6,H15) -> 0.269775 | D21: =(C21/B21)*100 -> 17.741935
