Workbook

Sheet Overall Results
D3: GOEN5000-Group Project 2023-2024
C5: Student Name | D5: Group Presentation/Interim Report | E5: Group Showcase | F5: Final Report | G5: O/All
D6: 0.3 | E6: 0.3 | F6: 0.4 | G6: %
C8: BYR13852790 (Ethan) | D8: ='Interim and Presentation'!G8 -> 55 | E8: ='Group Showcase'!G6 -> 50 | F8: 49 | G8: =D8*0.3+E8*0.3+F8*0.4 -> 51.1
C9: HEN19852873(Tommy) | D9: ='Interim and Presentation'!G9 -> 48 | E9: ='Group Showcase'!G7 -> 29 | F9: 41 | G9: =(D9*0.3)+(E9*0.3)+(F9*0.4) -> 39.5
C10: TAV19852707(Scott) | D10: ='Interim and Presentation'!G10 -> 53 | E10: ='Group Showcase'!G8 -> 50 | F10: 56 | G10: =(D10*0.3)+(E10*0.3)+(F10*0.4) -> 53.3
C11: WEA19853802(Steffan) | D11: ='Interim and Presentation'!G11 -> 52 | E11: ='Group Showcase'!G9 -> 47 | F11: 44 | G11: =(D11*0.3)+(E11*0.3)+(F11*0.4) -> 47.3
G16: =AVERAGE(G8:G11) -> 47.8 | H16: Average
G17: =_xlfn.STDEV.P(G8:G14) -> 5.2507142 | H17: STD

Sheet Interim and Presentation
D5: Student Name | E5: Presentation | F5: Group Report | G5: Total
E6: Out of 40 | F6: Out of 60 | G6: Out of 100
D8: BYR13852790 (Ethan) | E8: 23 | F8: 32 | G8: =E8+F8 -> 55
D9: HEN19852873(Tommy) | E9: 16 | F9: 32 | G9: =E9+F9 -> 48
D10: TAV19852707(Scott) | E10: 21 | F10: 32 | G10: =E10+F10 -> 53
D11: WEA19853802(Steffan) | E11: 20 | F11: 32 | G11: =E11+F11 -> 52

Sheet Group Showcase
D3: Student Name | E3: Individual Presentation | F3: Group Showcase Poster
E4: 0.5 | F4: 0.5 | G4: Total
D6: BYR13852790 (Ethan) | E6: 52 | F6: 48 | G6: =(E6*0.5)+(F6*0.5) -> 50
D7: HEN19852873(Tommy) | E7: 10 | F7: 48 | G7: =(E7*0.5)+(F7*0.5) -> 29
D8: TAV19852707(Scott) | E8: 52 | F8: 48 | G8: =(E8*0.5)+(F8*0.5) -> 50
D9: WEA19853802(Steffan) | E9: 46 | F9: 48 | G9: =(E9*0.5)+(F9*0.5) -> 47
