Workbook

Sheet Menu
B2: Motorcycle Technology - Assessment 1
B5: SELECT BIKE
B9: Panigale 1199
B14: Raw Data
B20: 350 EXC-f 2022
B25: Raw Data
B31: Resistance to Motion Calculator | G31: Manual CoG Calculations | M31: Workshop Risk Assessment

Sheet Ducati Panigale
B2: 2012 Ducati Panigale 1199
B6: Centre of Gravity | I6: Gear Box
B9: Without rider | C9: Level | D9: lifted | F9: Stand | G9: 0.345 | I9: Primary drive | J9: 30 | K9: 53
B10: Front Wheel | C10: 99.2 | D10: 106.1 | F10: Wheelbase | G10: 1.437 | I10: Final drive | J10: 15 | K10: 39 | AB10: 100
B11: Rear Wheel | C11: 87.7 | D11: 81 | F11: FW radius | G11: 0.31 | AB11: 200
B12: Total weight | C12: =SUM(C10:C11) -> 186.9 | D12: =SUM(D10:D11) -> 187.1 | F12: RW radius | G12: 0.32 | I12: RPM | J12: 11500 | AB12: 300
F13: Av wheel radius | G13: =AVERAGE(G11:G12) -> 0.315 | AB13: 400
B14: With rider | C14: Level | D14: lifted | F14: Rider | G14: 72.85 | I14: Ratios | J14: Input Gear | K14: Output Gear | L14: Wheel Speed | M14: RPM drop | N14: New RPM | AB14: 500
B15: Front Wheel | C15: 129.1 | D15: 144.1 | F15: Lifted Angle | G15: =DEGREES(ASIN(G9/G10)) -> 13.891469 | I15: 1st | J15: 15 | K15: 37 | L15: =SUM(($J$12*60*(J15/K15)*$K$40*PI()*($J$9/$K$9)/1000)*($J$10/$K$10)) -> 124.70242 | AB15: 600
B16: Rear Wheel | C16: 130.75 | D16: 115 | F16: Lifted Angle | G16: =RADIANS(G15) -> 0.24245187 | M16: =SUM($J$12-N16) -> 2758.4459 | N16: =SUM($J$12*(J15/K15)*(K17/J17)) -> 8741.5541 | AB16: 700
B17: Total weight | C17: =SUM(C15:C16) -> 259.85 | D17: =SUM(D15:D16) -> 259.1 | I17: 2nd | J17: 16 | K17: 30 | L17: =SUM(($J$12*60*(J17/K17)*$K$40*PI()*($J$9/$K$9)/1000)*($J$10/$K$10)) -> 164.05297 | AB17: 800
M18: =SUM($J$12-N18) -> 2300 | N18: =SUM($J$12*(J17/K17)*(K19/J19)) -> 9200 | AB18: 900
I19: 3rd | J19: 18 | K19: 27 | L19: =SUM(($J$12*60*(J19/K19)*$K$40*PI()*($J$9/$K$9)/1000)*($J$10/$K$10)) -> 205.06621 | AB19: 1000
M20: =SUM($J$12-N20) -> 1916.6667 | N20: =SUM($J$12*(J19/K19)*(K21/J21)) -> 9583.3333 | AB20: 1100
B21: CoG Xcog | E21: BIAS | F21: % of Front | G21: % of Rear | I21: 4th | J21: 20 | K21: 25 | L21: =SUM(($J$12*60*(J21/K21)*$K$40*PI()*($J$9/$K$9)/1000)*($J$10/$K$10)) -> 246.07945 | AB21: 1200
B22: Level W/out Rider | C22: =SUM(C11*G10)/C12 -> 0.67429053 | E22: W/out rider | F22: =SUM(($G$10-C22)/$G$10) -> 0.53076512 | G22: =SUM(C22/$G$10) -> 0.46923488 | M22: =SUM($J$12-N22) -> 1463.6364 | N22: =SUM($J$12*(J21/K21)*(K23/J23)) -> 10036.364 | AB22: 1300
B23: Level With Rider | C23: =SUM(C16*G10)/C17 -> 0.72306234 | E23: With rider | F23: =SUM(($G$10-C23)/$G$10) -> 0.49682509 | G23: =SUM(C23/$G$10) -> 0.50317491 | I23: 5th | J23: 22 | K23: 24 | L23: =SUM(($J$12*60*(J23/K23)*$K$40*PI()*($J$9/$K$9)/1000)*($J$10/$K$10)) -> 281.96603 | AB23: 1400
M24: =SUM($J$12-N24) -> 1397.5694 | N24: =SUM($J$12*(J23/K23)*(K25/J25)) -> 10102.431 | AB24: 1500
B25: CoG Ycog | E25: SQUAT | I25: 6th | J25: 24 | K25: 23 | L25: =SUM(($J$12*60*(J25/K25)*$K$40*PI()*($J$9/$K$9)/1000)*($J$10/$K$10)) -> 320.97319 | AB25: 1600
B26: W/out Rider | C26: =SUM(($G$10*($C$11-$D$11))/($C$12*(TAN($G$16))))+($G$13) -> 0.52328996 | E26: Xcog | F26: 0.848 | AB26: 1700
B27: With Rider | C27: =SUM(($G$10*($C$16-$D$16))/($C$17*(TAN($G$16))))+($G$13) -> 0.66717675 | E27: Ycog | F27: 0.41 | I27: Resistance to Motion | AB27: 1800
I28: Frontal Area | J28: 0.33 | L28: Top Speed | N28: =L25 -> 320.97319 | AB28: 1900
I29: Coefficent of Drag | J29: 0.6 | L29: Aero Drag | N29: ='Resistance to Motion Calc'!I10 -> 918.41417 | AB29: 2000
I30: Road Plane | J30: 0 | L30: Road Plane | N30: ='Resistance to Motion Calc'!I12 -> 0 | AB30: 2100
L31: Rolling Resistance | N31: ='Resistance to Motion Calc'!I11 -> 50.99238 | AB31: 2200
L32: Total Resistance | N32: =SUM(N29:N31) -> 969.40655 | AB32: 2300
AB33: 2400
B34: RETURN TO MENU | I34: Tyres | J34: Front | K34: Rear | M34: Chain & Swing Arm | AB34: 2500
I35: Brand | J35: Pirelli | K35: Pirelli | AB35: 2600
I36: Profile | J36: 120/70 | K36: 200/55 | M36: Chain Size | N36: =5/8 -> 0.625 | AB36: 2700
I37: Tyre width | J37: 120 | K37: 200 | M37: Chain | N37: 103 | AB37: 2800
I38: Aspect Ratio | J38: 70 | K38: 55 | M38: Distance between front sprocket & pivot | N38: 80 | AB38: 2900
I39: Rim Size | J39: 17 | K39: 17 | AB39: 3000
I40: Tyre Diameter | J40: =SUM(((J37/25.4*J38/100+J39/2)*2*PI()*25.4))/PI()/1000 -> 0.5998 | K40: =SUM(((K37/25.4*K38/100+K39/2)*2*PI()*25.4))/PI()/1000 -> 0.6518 | AB40: 3100
M41: Swing Arm Length | N41: =SUM(0.5*(N37-0.5*(C7+D7))*25.4*N36-N38) -> 737.5625 | AB41: 3200
AB42: 3300
AB43: 3400
AB44: 3500
AB45: 3600
AB46: 3700
...

Sheet Ducati Panigale data
E2: Panigale | H2: Road Speed km/h | O2: Driving Force (N) | V2: rpm | W2: driving force | X2: resistance to motion
B4: RPM | C4: Power (hp) | D4: Torque (Foot pounds) | E4: Torque (Nm) | F4: Power (Kw) | H4: 1st Gear | I4: 2nd Gear | J4: 3rd Gear | K4: 4th Gear | L4: 5th Gear | M4: 6th Gear | O4: 1st Gear | P4: 2nd Gear | Q4: 3rd Gear | R4: 4th Gear | S4: 5th Gear | T4: 6th Gear
B5: 2500 | C5: 25 | D5: 51 | E5: =SUM(D5*$C$29) -> 69.1458 | F5: =SUM(0.7457*C5) -> 18.6425 | H5: =SUM(($B5*60*('Ducati Panigale'!$J$15/'Ducati Panigale'!$K$15)*'Ducati Panigale'!$K$40*PI()*('Ducati Panigale'!$J$9/'Ducati Panigale'!$K$9)/1000)*('Ducati Panigale'!$J$10/'Ducati Panigale'!$K$10)) -> 27.109222 | I5: =SUM(($B5*60*('Ducati Panigale'!$J$17/'Ducati Panigale'!$K$17)*'Ducati Panigale'!$K$40*PI()*('Ducati Panigale'!$J$9/'Ducati Panigale'!$K$9)/1000)*('Ducati Panigale'!$J$10/'Ducati Panigale'!$K$10)) -> 35.663688 | J5: =SUM(($B5*60*('Ducati Panigale'!$J$19/'Ducati Panigale'!$K$19)*'Ducati Panigale'!$K$40*PI()*('Ducati Panigale'!$J$9/'Ducati Panigale'!$K$9)/1000)*('Ducati Panigale'!$J$10/'Ducati Panigale'!$K$10)) -> 44.57961 | K5: =SUM(($B5*60*('Ducati Panigale'!$J$21/'Ducati Panigale'!$K$21)*'Ducati Panigale'!$K$40*PI()*('Ducati Panigale'!$J$9/'Ducati Panigale'!$K$9)/1000)*('Ducati Panigale'!$J$10/'Ducati Panigale'!$K$10)) -> 53.495532 | L5: =SUM(($B5*60*('Ducati Panigale'!$J$23/'Ducati Panigale'!$K$23)*'Ducati Panigale'!$K$40*PI()*('Ducati Panigale'!$J$9/'Ducati Panigale'!$K$9)/1000)*('Ducati Panigale'!$J$10/'Ducati Panigale'!$K$10)) -> 61.296964 | M5: =SUM(($B5*60*('Ducati Panigale'!$J$25/'Ducati Panigale'!$K$25)*'Ducati Panigale'!$K$40*PI()*('Ducati Panigale'!$J$9/'Ducati Panigale'!$K$9)/1000)*('Ducati Panigale'!$J$10/'Ducati Panigale'!$K$10)) -> 69.776781 | O5: =SUM($C5*1000)/(H5*(1000/3600)) -> 3319.9034 | P5: =SUM($C5*1000)/(I5*(1000/3600)) -> 2523.5752 | Q5: =SUM($C5*1000)/(J5*(1000/3600)) -> 2018.8602 | R5: =SUM($C5*1000)/(K5*(1000/3600)) -> 1682.3835 | S5: =SUM($C5*1000)/(L5*(1000/3600)) -> 1468.262 | T5: =SUM($C5*1000)/(M5*(1000/3600)) -> 1289.8273 | V5: 2500 | W5: 1289.8273 | X5: 94.4
B6: 3000 | C6: 29 | D6: 50 | E6: =SUM(D6*$C$29) -> 67.79 | F6: =SUM(0.7457*C6) -> 21.6253 | H6: =SUM(($B6*60*('Ducati Panigale'!$J$15/'Ducati Panigale'!$K$15)*'Ducati Panigale'!$K$40*PI()*('Ducati Panigale'!$J$9/'Ducati Panigale'!$K$9)/1000)*('Ducati Panigale'!$J$10/'Ducati Panigale'!$K$10)) -> 32.531067 | I6: =SUM(($B6*60*('Ducati Panigale'!$J$17/'Ducati Panigale'!$K$17)*'Ducati Panigale'!$K$40*PI()*('Ducati Panigale'!$J$9/'Ducati Panigale'!$K$9)/1000)*('Ducati Panigale'!$J$10/'Ducati Panigale'!$K$10)) -> 42.796426 | J6: =SUM(($B6*60*('Ducati Panigale'!$J$19/'Ducati Panigale'!$K$19)*'Ducati Panigale'!$K$40*PI()*('Ducati Panigale'!$J$9/'Ducati Panigale'!$K$9)/1000)*('Ducati Panigale'!$J$10/'Ducati Panigale'!$K$10)) -> 53.495532 | K6: =SUM(($B6*60*('Ducati Panigale'!$J$21/'Ducati Panigale'!$K$21)*'Ducati Panigale'!$K$40*PI()*('Ducati Panigale'!$J$9/'Ducati Panigale'!$K$9)/1000)*('Ducati Panigale'!$J$10/'Ducati Panigale'!$K$10)) -> 64.194639 | L6: =SUM(($B6*60*('Ducati Panigale'!$J$23/'Ducati Panigale'!$K$23)*'Ducati Panigale'!$K$40*PI()*('Ducati Panigale'!$J$9/'Ducati Panigale'!$K$9)/1000)*('Ducati Panigale'!$J$10/'Ducati Panigale'!$K$10)) -> 73.556357 | M6: =SUM(($B6*60*('Ducati Panigale'!$J$25/'Ducati Panigale'!$K$25)*'Ducati Panigale'!$K$40*PI()*('Ducati Panigale'!$J$9/'Ducati Panigale'!$K$9)/1000)*('Ducati Panigale'!$J$10/'Ducati Panigale'!$K$10)) -> 83.732137 | O6: =SUM($C6*1000)/(H6*(1000/3600)) -> 3209.24 | P6: =SUM($C6*1000)/(I6*(1000/3600)) -> 2439.4561 | Q6: =SUM($C6*1000)/(J6*(1000/3600)) -> 1951.5648 | R6: =SUM($C6*1000)/(K6*(1000/3600)) -> 1626.304 | S6: =SUM($C6*1000)/(L6*(1000/3600)) -> 1419.3199 | T6: =SUM($C6*1000)/(M6*(1000/3600)) -> 1246.8331 | V6: 3000 | W6: 1246.8331 | X6: 113.49
B7: 3500 | C7: 42 | D7: 65 | E7: =SUM(D7*$C$29) -> 88.127 | F7: =SUM(0.7457*C7) -> 31.3194 | H7: =SUM(($B7*60*('Ducati Panigale'!$J$15/'Ducati Panigale'!$K$15)*'Ducati Panigale'!$K$40*PI()*('Ducati Panigale'!$J$9/'Ducati Panigale'!$K$9)/1000)*('Ducati Panigale'!$J$10/'Ducati Panigale'!$K$10)) -> 37.952911 | I7: =SUM(($B7*60*('Ducati Panigale'!$J$17/'Ducati Panigale'!$K$17)*'Ducati Panigale'!$K$40*PI()*('Ducati Panigale'!$J$9/'Ducati Panigale'!$K$9)/1000)*('Ducati Panigale'!$J$10/'Ducati Panigale'!$K$10)) -> 49.929163 | J7: =SUM(($B7*60*('Ducati Panigale'!$J$19/'Ducati Panigale'!$K$19)*'Ducati Panigale'!$K$40*PI()*('Ducati Panigale'!$J$9/'Ducati Panigale'!$K$9)/1000)*('Ducati Panigale'!$J$10/'Ducati Panigale'!$K$10)) -> 62.411454 | K7: =SUM(($B7*60*('Ducati Panigale'!$J$21/'Ducati Panigale'!$K$21)*'Ducati Panigale'!$K$40*PI()*('Ducati Panigale'!$J$9/'Ducati Panigale'!$K$9)/1000)*('Ducati Panigale'!$J$10/'Ducati Panigale'!$K$10)) -> 74.893745 | L7: =SUM(($B7*60*('Ducati Panigale'!$J$23/'Ducati Panigale'!$K$23)*'Ducati Panigale'!$K$40*PI()*('Ducati Panigale'!$J$9/'Ducati Panigale'!$K$9)/1000)*('Ducati Panigale'!$J$10/'Ducati Panigale'!$K$10)) -> 85.815749 | M7: =SUM(($B7*60*('Ducati Panigale'!$J$25/'Ducati Panigale'!$K$25)*'Ducati Panigale'!$K$40*PI()*('Ducati Panigale'!$J$9/'Ducati Panigale'!$K$9)/1000)*('Ducati Panigale'!$J$10/'Ducati Panigale'!$K$10)) -> 97.687493 | O7: =SUM($C7*1000)/(H7*(1000/3600)) -> 3983.8841 | P7: =SUM($C7*1000)/(I7*(1000/3600)) -> 3028.2903 | Q7: =SUM($C7*1000)/(J7*(1000/3600)) -> 2422.6322 | R7: =SUM($C7*1000)/(K7*(1000/3600)) -> 2018.8602 | S7: =SUM($C7*1000)/(L7*(1000/3600)) -> 1761.9143 | T7: =SUM($C7*1000)/(M7*(1000/3600)) -> 1547.7928 | V7: 3500 | W7: 1547.7928 | X7: 136.06
B8: 4000 | C8: 53 | D8: 70 | E8: =SUM(D8*$C$29) -> 94.906 | F8: =SUM(0.7457*C8) -> 39.5221 | H8: =SUM(($B8*60*('Ducati Panigale'!$J$15/'Ducati Panigale'!$K$15)*'Ducati Panigale'!$K$40*PI()*('Ducati Panigale'!$J$9/'Ducati Panigale'!$K$9)/1000)*('Ducati Panigale'!$J$10/'Ducati Panigale'!$K$10)) -> 43.374756 | I8: =SUM(($B8*60*('Ducati Panigale'!$J$17/'Ducati Panigale'!$K$17)*'Ducati Panigale'!$K$40*PI()*('Ducati Panigale'!$J$9/'Ducati Panigale'!$K$9)/1000)*('Ducati Panigale'!$J$10/'Ducati Panigale'!$K$10)) -> 57.061901 | J8: =SUM(($B8*60*('Ducati Panigale'!$J$19/'Ducati Panigale'!$K$19)*'Ducati Panigale'!$K$40*PI()*('Ducati Panigale'!$J$9/'Ducati Panigale'!$K$9)/1000)*('Ducati Panigale'!$J$10/'Ducati Panigale'!$K$10)) -> 71.327376 | K8: =SUM(($B8*60*('Ducati Panigale'!$J$21/'Ducati Panigale'!$K$21)*'Ducati Panigale'!$K$40*PI()*('Ducati Panigale'!$J$9/'Ducati Panigale'!$K$9)/1000)*('Ducati Panigale'!$J$10/'Ducati Panigale'!$K$10)) -> 85.592851 | L8: =SUM(($B8*60*('Ducati Panigale'!$J$23/'Ducati Panigale'!$K$23)*'Ducati Panigale'!$K$40*PI()*('Ducati Panigale'!$J$9/'Ducati Panigale'!$K$9)/1000)*('Ducati Panigale'!$J$10/'Ducati Panigale'!$K$10)) -> 98.075142 | M8: =SUM(($B8*60*('Ducati Panigale'!$J$25/'Ducati Panigale'!$K$25)*'Ducati Panigale'!$K$40*PI()*('Ducati Panigale'!$J$9/'Ducati Panigale'!$K$9)/1000)*('Ducati Panigale'!$J$10/'Ducati Panigale'!$K$10)) -> 111.64285 | O8: =SUM($C8*1000)/(H8*(1000/3600)) -> 4398.872 | P8: =SUM($C8*1000)/(I8*(1000/3600)) -> 3343.7372 | Q8: =SUM($C8*1000)/(J8*(1000/3600)) -> 2674.9897 | R8: =SUM($C8*1000)/(K8*(1000/3600)) -> 2229.1581 | S8: =SUM($C8*1000)/(L8*(1000/3600)) -> 1945.4471 | T8: =SUM($C8*1000)/(M8*(1000/3600)) -> 1709.0212 | V8: 4000 | W8: 1709.0212 | X8: 162.1
B9: 4500 | C9: 58 | D9: 67 | E9: =SUM(D9*$C$29) -> 90.8386 | F9: =SUM(0.7457*C9) -> 43.2506 | H9: =SUM(($B9*60*('Ducati Panigale'!$J$15/'Ducati Panigale'!$K$15)*'Ducati Panigale'!$K$40*PI()*('Ducati Panigale'!$J$9/'Ducati Panigale'!$K$9)/1000)*('Ducati Panigale'!$J$10/'Ducati Panigale'!$K$10)) -> 48.7966 | I9: =SUM(($B9*60*('Ducati Panigale'!$J$17/'Ducati Panigale'!$K$17)*'Ducati Panigale'!$K$40*PI()*('Ducati Panigale'!$J$9/'Ducati Panigale'!$K$9)/1000)*('Ducati Panigale'!$J$10/'Ducati Panigale'!$K$10)) -> 64.194639 | J9: =SUM(($B9*60*('Ducati Panigale'!$J$19/'Ducati Panigale'!$K$19)*'Ducati Panigale'!$K$40*PI()*('Ducati Panigale'!$J$9/'Ducati Panigale'!$K$9)/1000)*('Ducati Panigale'!$J$10/'Ducati Panigale'!$K$10)) -> 80.243298 | K9: =SUM(($B9*60*('Ducati Panigale'!$J$21/'Ducati Panigale'!$K$21)*'Ducati Panigale'!$K$40*PI()*('Ducati Panigale'!$J$9/'Ducati Panigale'!$K$9)/1000)*('Ducati Panigale'!$J$10/'Ducati Panigale'!$K$10)) -> 96.291958 | L9: =SUM(($B9*60*('Ducati Panigale'!$J$23/'Ducati Panigale'!$K$23)*'Ducati Panigale'!$K$40*PI()*('Ducati Panigale'!$J$9/'Ducati Panigale'!$K$9)/1000)*('Ducati Panigale'!$J$10/'Ducati Panigale'!$K$10)) -> 110.33454 | M9: =SUM(($B9*60*('Ducati Panigale'!$J$25/'Ducati Panigale'!$K$25)*'Ducati Panigale'!$K$40*PI()*('Ducati Panigale'!$J$9/'Ducati Panigale'!$K$9)/1000)*('Ducati Panigale'!$J$10/'Ducati Panigale'!$K$10)) -> 125.59821 | O9: =SUM($C9*1000)/(H9*(1000/3600)) -> 4278.9866 | P9: =SUM($C9*1000)/(I9*(1000/3600)) -> 3252.6081 | Q9: =SUM($C9*1000)/(J9*(1000/3600)) -> 2602.0865 | R9: =SUM($C9*1000)/(K9*(1000/3600)) -> 2168.4054 | S9: =SUM($C9*1000)/(L9*(1000/3600)) -> 1892.4265 | T9: =SUM($C9*1000)/(M9*(1000/3600)) -> 1662.4441 | V9: 4500 | W9: 1662.4441 | X9: 191.62
B10: 5000 | C10: 60 | D10: 62 | E10: =SUM(D10*$C$29) -> 84.0596 | F10: =SUM(0.7457*C10) -> 44.742 | H10: =SUM(($B10*60*('Ducati Panigale'!$J$15/'Ducati Panigale'!$K$15)*'Ducati Panigale'!$K$40*PI()*('Ducati Panigale'!$J$9/'Ducati Panigale'!$K$9)/1000)*('Ducati Panigale'!$J$10/'Ducati Panigale'!$K$10)) -> 54.218445 | I10: =SUM(($B10*60*('Ducati Panigale'!$J$17/'Ducati Panigale'!$K$17)*'Ducati Panigale'!$K$40*PI()*('Ducati Panigale'!$J$9/'Ducati Panigale'!$K$9)/1000)*('Ducati Panigale'!$J$10/'Ducati Panigale'!$K$10)) -> 71.327376 | J10: =SUM(($B10*60*('Ducati Panigale'!$J$19/'Ducati Panigale'!$K$19)*'Ducati Panigale'!$K$40*PI()*('Ducati Panigale'!$J$9/'Ducati Panigale'!$K$9)/1000)*('Ducati Panigale'!$J$10/'Ducati Panigale'!$K$10)) -> 89.15922 | K10: =SUM(($B10*60*('Ducati Panigale'!$J$21/'Ducati Panigale'!$K$21)*'Ducati Panigale'!$K$40*PI()*('Ducati Panigale'!$J$9/'Ducati Panigale'!$K$9)/1000)*('Ducati Panigale'!$J$10/'Ducati Panigale'!$K$10)) -> 106.99106 | L10: =SUM(($B10*60*('Ducati Panigale'!$J$23/'Ducati Panigale'!$K$23)*'Ducati Panigale'!$K$40*PI()*('Ducati Panigale'!$J$9/'Ducati Panigale'!$K$9)/1000)*('Ducati Panigale'!$J$10/'Ducati Panigale'!$K$10)) -> 122.59393 | M10: =SUM(($B10*60*('Ducati Panigale'!$J$25/'Ducati Panigale'!$K$25)*'Ducati Panigale'!$K$40*PI()*('Ducati Panigale'!$J$9/'Ducati Panigale'!$K$9)/1000)*('Ducati Panigale'!$J$10/'Ducati Panigale'!$K$10)) -> 139.55356 | O10: =SUM($C10*1000)/(H10*(1000/3600)) -> 3983.8841 | P10: =SUM($C10*1000)/(I10*(1000/3600)) -> 3028.2903 | Q10: =SUM($C10*1000)/(J10*(1000/3600)) -> 2422.6322 | R10: =SUM($C10*1000)/(K10*(1000/3600)) -> 2018.8602 | S10: =SUM($C10*1000)/(L10*(1000/3600)) -> 1761.9143 | T10: =SUM($C10*1000)/(M10*(1000/3600)) -> 1547.7928 | V10: 5000 | W10: 1547.7928 | X10: 224.61
B11: 5500 | C11: 66 | D11: 63 | E11: =SUM(D11*$C$29) -> 85.4154 | F11: =SUM(0.7457*C11) -> 49.2162 | H11: =SUM(($B11*60*('Ducati Panigale'!$J$15/'Ducati Panigale'!$K$15)*'Ducati Panigale'!$K$40*PI()*('Ducati Panigale'!$J$9/'Ducati Panigale'!$K$9)/1000)*('Ducati Panigale'!$J$10/'Ducati Panigale'!$K$10)) -> 59.640289 | I11: =SUM(($B11*60*('Ducati Panigale'!$J$17/'Ducati Panigale'!$K$17)*'Ducati Panigale'!$K$40*PI()*('Ducati Panigale'!$J$9/'Ducati Panigale'!$K$9)/1000)*('Ducati Panigale'!$J$10/'Ducati Panigale'!$K$10)) -> 78.460114 | J11: =SUM(($B11*60*('Ducati Panigale'!$J$19/'Ducati Panigale'!$K$19)*'Ducati Panigale'!$K$40*PI()*('Ducati Panigale'!$J$9/'Ducati Panigale'!$K$9)/1000)*('Ducati Panigale'!$J$10/'Ducati Panigale'!$K$10)) -> 98.075142 | K11: =SUM(($B11*60*('Ducati Panigale'!$J$21/'Ducati Panigale'!$K$21)*'Ducati Panigale'!$K$40*PI()*('Ducati Panigale'!$J$9/'Ducati Panigale'!$K$9)/1000)*('Ducati Panigale'!$J$10/'Ducati Panigale'!$K$10)) -> 117.69017 | L11: =SUM(($B11*60*('Ducati Panigale'!$J$23/'Ducati Panigale'!$K$23)*'Ducati Panigale'!$K$40*PI()*('Ducati Panigale'!$J$9/'Ducati Panigale'!$K$9)/1000)*('Ducati Panigale'!$J$10/'Ducati Panigale'!$K$10)) -> 134.85332 | M11: =SUM(($B11*60*('Ducati Panigale'!$J$25/'Ducati Panigale'!$K$25)*'Ducati Panigale'!$K$40*PI()*('Ducati Panigale'!$J$9/'Ducati Panigale'!$K$9)/1000)*('Ducati Panigale'!$J$10/'Ducati Panigale'!$K$10)) -> 153.50892 | O11: =SUM($C11*1000)/(H11*(1000/3600)) -> 3983.8841 | P11: =SUM($C11*1000)/(I11*(1000/3600)) -> 3028.2903 | Q11: =SUM($C11*1000)/(J11*(1000/3600)) -> 2422.6322 | R11: =SUM($C11*1000)/(K11*(1000/3600)) -> 2018.8602 | S11: =SUM($C11*1000)/(L11*(1000/3600)) -> 1761.9143 | T11: =SUM($C11*1000)/(M11*(1000/3600)) -> 1547.7928 | V11: 5500 | W11: 1547.7928 | X11: 261.06
B12: 6000 | C12: 75 | D12: 65 | E12: =SUM(D12*$C$29) -> 88.127 | F12: =SUM(0.7457*C12) -> 55.9275 | H12: =SUM(($B12*60*('Ducati Panigale'!$J$15/'Ducati Panigale'!$K$15)*'Ducati Panigale'!$K$40*PI()*('Ducati Panigale'!$J$9/'Ducati Panigale'!$K$9)/1000)*('Ducati Panigale'!$J$10/'Ducati Panigale'!$K$10)) -> 65.062134 | I12: =SUM(($B12*60*('Ducati Panigale'!$J$17/'Ducati Panigale'!$K$17)*'Ducati Panigale'!$K$40*PI()*('Ducati Panigale'!$J$9/'Ducati Panigale'!$K$9)/1000)*('Ducati Panigale'!$J$10/'Ducati Panigale'!$K$10)) -> 85.592851 | J12: =SUM(($B12*60*('Ducati Panigale'!$J$19/'Ducati Panigale'!$K$19)*'Ducati Panigale'!$K$40*PI()*('Ducati Panigale'!$J$9/'Ducati Panigale'!$K$9)/1000)*('Ducati Panigale'!$J$10/'Ducati Panigale'!$K$10)) -> 106.99106 | K12: =SUM(($B12*60*('Ducati Panigale'!$J$21/'Ducati Panigale'!$K$21)*'Ducati Panigale'!$K$40*PI()*('Ducati Panigale'!$J$9/'Ducati Panigale'!$K$9)/1000)*('Ducati Panigale'!$J$10/'Ducati Panigale'!$K$10)) -> 128.38928 | L12: =SUM(($B12*60*('Ducati Panigale'!$J$23/'Ducati Panigale'!$K$23)*'Ducati Panigale'!$K$40*PI()*('Ducati Panigale'!$J$9/'Ducati Panigale'!$K$9)/1000)*('Ducati Panigale'!$J$10/'Ducati Panigale'!$K$10)) -> 147.11271 | M12: =SUM(($B12*60*('Ducati Panigale'!$J$25/'Ducati Panigale'!$K$25)*'Ducati Panigale'!$K$40*PI()*('Ducati Panigale'!$J$9/'Ducati Panigale'!$K$9)/1000)*('Ducati Panigale'!$J$10/'Ducati Panigale'!$K$10)) -> 167.46427 | O12: =SUM($C12*1000)/(H12*(1000/3600)) -> 4149.8793 | P12: =SUM($C12*1000)/(I12*(1000/3600)) -> 3154.469 | Q12: =SUM($C12*1000)/(J12*(1000/3600)) -> 2523.5752 | R12: =SUM($C12*1000)/(K12*(1000/3600)) -> 2102.9794 | S12: =SUM($C12*1000)/(L12*(1000/3600)) -> 1835.3274 | T12: =SUM($C12*1000)/(M12*(1000/3600)) -> 1612.2842 | V12: 6000 | W12: 1612.2842 | X12: 301
B13: 6500 | C13: 75 | D13: 63 | E13: =SUM(D13*$C$29) -> 85.4154 | F13: =SUM(0.7457*C13) -> 55.9275 | H13: =SUM(($B13*60*('Ducati Panigale'!$J$15/'Ducati Panigale'!$K$15)*'Ducati Panigale'!$K$40*PI()*('Ducati Panigale'!$J$9/'Ducati Panigale'!$K$9)/1000)*('Ducati Panigale'!$J$10/'Ducati Panigale'!$K$10)) -> 70.483978 | I13: =SUM(($B13*60*('Ducati Panigale'!$J$17/'Ducati Panigale'!$K$17)*'Ducati Panigale'!$K$40*PI()*('Ducati Panigale'!$J$9/'Ducati Panigale'!$K$9)/1000)*('Ducati Panigale'!$J$10/'Ducati Panigale'!$K$10)) -> 92.725589 | J13: =SUM(($B13*60*('Ducati Panigale'!$J$19/'Ducati Panigale'!$K$19)*'Ducati Panigale'!$K$40*PI()*('Ducati Panigale'!$J$9/'Ducati Panigale'!$K$9)/1000)*('Ducati Panigale'!$J$10/'Ducati Panigale'!$K$10)) -> 115.90699 | K13: =SUM(($B13*60*('Ducati Panigale'!$J$21/'Ducati Panigale'!$K$21)*'Ducati Panigale'!$K$40*PI()*('Ducati Panigale'!$J$9/'Ducati Panigale'!$K$9)/1000)*('Ducati Panigale'!$J$10/'Ducati Panigale'!$K$10)) -> 139.08838 | L13: =SUM(($B13*60*('Ducati Panigale'!$J$23/'Ducati Panigale'!$K$23)*'Ducati Panigale'!$K$40*PI()*('Ducati Panigale'!$J$9/'Ducati Panigale'!$K$9)/1000)*('Ducati Panigale'!$J$10/'Ducati Panigale'!$K$10)) -> 159.37211 | M13: =SUM(($B13*60*('Ducati Panigale'!$J$25/'Ducati Panigale'!$K$25)*'Ducati Panigale'!$K$40*PI()*('Ducati Panigale'!$J$9/'Ducati Panigale'!$K$9)/1000)*('Ducati Panigale'!$J$10/'Ducati Panigale'!$K$10)) -> 181.41963 | O13: =SUM($C13*1000)/(H13*(1000/3600)) -> 3830.6578 | P13: =SUM($C13*1000)/(I13*(1000/3600)) -> 2911.8176 | Q13: =SUM($C13*1000)/(J13*(1000/3600)) -> 2329.4541 | R13: =SUM($C13*1000)/(K13*(1000/3600)) -> 1941.2117 | S13: =SUM($C13*1000)/(L13*(1000/3600)) -> 1694.1484 | T13: =SUM($C13*1000)/(M13*(1000/3600)) -> 1488.2623 | V13: 6500 | W13: 1488.2623 | X13: 344.4
B14: 7000 | C14: 90 | D14: 66 | E14: =SUM(D14*$C$29) -> 89.4828 | F14: =SUM(0.7457*C14) -> 67.113 | H14: =SUM(($B14*60*('Ducati Panigale'!$J$15/'Ducati Panigale'!$K$15)*'Ducati Panigale'!$K$40*PI()*('Ducati Panigale'!$J$9/'Ducati Panigale'!$K$9)/1000)*('Ducati Panigale'!$J$10/'Ducati Panigale'!$K$10)) -> 75.905823 | I14: =SUM(($B14*60*('Ducati Panigale'!$J$17/'Ducati Panigale'!$K$17)*'Ducati Panigale'!$K$40*PI()*('Ducati Panigale'!$J$9/'Ducati Panigale'!$K$9)/1000)*('Ducati Panigale'!$J$10/'Ducati Panigale'!$K$10)) -> 99.858327 | J14: =SUM(($B14*60*('Ducati Panigale'!$J$19/'Ducati Panigale'!$K$19)*'Ducati Panigale'!$K$40*PI()*('Ducati Panigale'!$J$9/'Ducati Panigale'!$K$9)/1000)*('Ducati Panigale'!$J$10/'Ducati Panigale'!$K$10)) -> 124.82291 | K14: =SUM(($B14*60*('Ducati Panigale'!$J$21/'Ducati Panigale'!$K$21)*'Ducati Panigale'!$K$40*PI()*('Ducati Panigale'!$J$9/'Ducati Panigale'!$K$9)/1000)*('Ducati Panigale'!$J$10/'Ducati Panigale'!$K$10)) -> 149.78749 | L14: =SUM(($B14*60*('Ducati Panigale'!$J$23/'Ducati Panigale'!$K$23)*'Ducati Panigale'!$K$40*PI()*('Ducati Panigale'!$J$9/'Ducati Panigale'!$K$9)/1000)*('Ducati Panigale'!$J$10/'Ducati Panigale'!$K$10)) -> 171.6315 | M14: =SUM(($B14*60*('Ducati Panigale'!$J$25/'Ducati Panigale'!$K$25)*'Ducati Panigale'!$K$40*PI()*('Ducati Panigale'!$J$9/'Ducati Panigale'!$K$9)/1000)*('Ducati Panigale'!$J$10/'Ducati Panigale'!$K$10)) -> 195.37499 | O14: =SUM($C14*1000)/(H14*(1000/3600)) -> 4268.4473 | P14: =SUM($C14*1000)/(I14*(1000/3600)) -> 3244.5967 | Q14: =SUM($C14*1000)/(J14*(1000/3600)) -> 2595.6774 | R14: =SUM($C14*1000)/(K14*(1000/3600)) -> 2163.0645 | S14: =SUM($C14*1000)/(L14*(1000/3600)) -> 1887.7654 | T14: =SUM($C14*1000)/(M14*(1000/3600)) -> 1658.3494 | V14: 7000 | W14: 1658.3494 | X14: 391.27
B15: 7500 | C15: 102 | D15: 70 | E15: =SUM(D15*$C$29) -> 94.906 | F15: =SUM(0.7457*C15) -> 76.0614 | H15: =SUM(($B15*60*('Ducati Panigale'!$J$15/'Ducati Panigale'!$K$15)*'Ducati Panigale'!$K$40*PI()*('Ducati Panigale'!$J$9/'Ducati Panigale'!$K$9)/1000)*('Ducati Panigale'!$J$10/'Ducati Panigale'!$K$10)) -> 81.327667 | I15: =SUM(($B15*60*('Ducati Panigale'!$J$17/'Ducati Panigale'!$K$17)*'Ducati Panigale'!$K$40*PI()*('Ducati Panigale'!$J$9/'Ducati Panigale'!$K$9)/1000)*('Ducati Panigale'!$J$10/'Ducati Panigale'!$K$10)) -> 106.99106 | J15: =SUM(($B15*60*('Ducati Panigale'!$J$19/'Ducati Panigale'!$K$19)*'Ducati Panigale'!$K$40*PI()*('Ducati Panigale'!$J$9/'Ducati Panigale'!$K$9)/1000)*('Ducati Panigale'!$J$10/'Ducati Panigale'!$K$10)) -> 133.73883 | K15: =SUM(($B15*60*('Ducati Panigale'!$J$21/'Ducati Panigale'!$K$21)*'Ducati Panigale'!$K$40*PI()*('Ducati Panigale'!$J$9/'Ducati Panigale'!$K$9)/1000)*('Ducati Panigale'!$J$10/'Ducati Panigale'!$K$10)) -> 160.4866 | L15: =SUM(($B15*60*('Ducati Panigale'!$J$23/'Ducati Panigale'!$K$23)*'Ducati Panigale'!$K$40*PI()*('Ducati Panigale'!$J$9/'Ducati Panigale'!$K$9)/1000)*('Ducati Panigale'!$J$10/'Ducati Panigale'!$K$10)) -> 183.89089 | M15: =SUM(($B15*60*('Ducati Panigale'!$J$25/'Ducati Panigale'!$K$25)*'Ducati Panigale'!$K$40*PI()*('Ducati Panigale'!$J$9/'Ducati Panigale'!$K$9)/1000)*('Ducati Panigale'!$J$10/'Ducati Panigale'!$K$10)) -> 209.33034 | O15: =SUM($C15*1000)/(H15*(1000/3600)) -> 4515.0686 | P15: =SUM($C15*1000)/(I15*(1000/3600)) -> 3432.0623 | Q15: =SUM($C15*1000)/(J15*(1000/3600)) -> 2745.6499 | R15: =SUM($C15*1000)/(K15*(1000/3600)) -> 2288.0415 | S15: =SUM($C15*1000)/(L15*(1000/3600)) -> 1996.8363 | T15: =SUM($C15*1000)/(M15*(1000/3600)) -> 1754.1652 | V15: 7500 | W15: 1754.1652 | X15: 441.62
B16: 8000 | C16: 120 | D16: 80 | E16: =SUM(D16*$C$29) -> 108.464 | F16: =SUM(0.7457*C16) -> 89.484 | H16: =SUM(($B16*60*('Ducati Panigale'!$J$15/'Ducati Panigale'!$K$15)*'Ducati Panigale'!$K$40*PI()*('Ducati Panigale'!$J$9/'Ducati Panigale'!$K$9)/1000)*('Ducati Panigale'!$J$10/'Ducati Panigale'!$K$10)) -> 86.749512 | I16: =SUM(($B16*60*('Ducati Panigale'!$J$17/'Ducati Panigale'!$K$17)*'Ducati Panigale'!$K$40*PI()*('Ducati Panigale'!$J$9/'Ducati Panigale'!$K$9)/1000)*('Ducati Panigale'!$J$10/'Ducati Panigale'!$K$10)) -> 114.1238 | J16: =SUM(($B16*60*('Ducati Panigale'!$J$19/'Ducati Panigale'!$K$19)*'Ducati Panigale'!$K$40*PI()*('Ducati Panigale'!$J$9/'Ducati Panigale'!$K$9)/1000)*('Ducati Panigale'!$J$10/'Ducati Panigale'!$K$10)) -> 142.65475 | K16: =SUM(($B16*60*('Ducati Panigale'!$J$21/'Ducati Panigale'!$K$21)*'Ducati Panigale'!$K$40*PI()*('Ducati Panigale'!$J$9/'Ducati Panigale'!$K$9)/1000)*('Ducati Panigale'!$J$10/'Ducati Panigale'!$K$10)) -> 171.1857 | L16: =SUM(($B16*60*('Ducati Panigale'!$J$23/'Ducati Panigale'!$K$23)*'Ducati Panigale'!$K$40*PI()*('Ducati Panigale'!$J$9/'Ducati Panigale'!$K$9)/1000)*('Ducati Panigale'!$J$10/'Ducati Panigale'!$K$10)) -> 196.15028 | M16: =SUM(($B16*60*('Ducati Panigale'!$J$25/'Ducati Panigale'!$K$25)*'Ducati Panigale'!$K$40*PI()*('Ducati Panigale'!$J$9/'Ducati Panigale'!$K$9)/1000)*('Ducati Panigale'!$J$10/'Ducati Panigale'!$K$10)) -> 223.2857 | O16: =SUM($C16*1000)/(H16*(1000/3600)) -> 4979.8551 | P16: =SUM($C16*1000)/(I16*(1000/3600)) -> 3785.3628 | Q16: =SUM($C16*1000)/(J16*(1000/3600)) -> 3028.2903 | R16: =SUM($C16*1000)/(K16*(1000/3600)) -> 2523.5752 | S16: =SUM($C16*1000)/(L16*(1000/3600)) -> 2202.3929 | T16: =SUM($C16*1000)/(M16*(1000/3600)) -> 1934.741 | V16: 8000 | W16: 1934.741 | X16: 495.44
... B24: 12000 | C24: 170 | D24: 79 | E24: =SUM(D24*$C$29) -> 107.1082 | F24: =SUM(0.7457*C24) -> 126.769 | H24: =SUM(($B24*60*('Ducati Panigale'!$J$15/'Ducati Panigale'!$K$15)*'Ducati Panigale'!$K$40*PI()*('Ducati Panigale'!$J$9/'Ducati Panigale'!$K$9)/1000)*('Ducati Panigale'!$J$10/'Ducati Panigale'!$K$10)) -> 130.12427 | I24: =SUM(($B24*60*('Ducati Panigale'!$J$17/'Ducati Panigale'!$K$17)*'Ducati Panigale'!$K$40*PI()*('Ducati Panigale'!$J$9/'Ducati Panigale'!$K$9)/1000)*('Ducati Panigale'!$J$10/'Ducati Panigale'!$K$10)) -> 171.1857 | J24: =SUM(($B24*60*('Ducati Panigale'!$J$19/'Ducati Panigale'!$K$19)*'Ducati Panigale'!$K$40*PI()*('Ducati Panigale'!$J$9/'Ducati Panigale'!$K$9)/1000)*('Ducati Panigale'!$J$10/'Ducati Panigale'!$K$10)) -> 213.98213 | K24: =SUM(($B24*60*('Ducati Panigale'!$J$21/'Ducati Panigale'!$K$21)*'Ducati Panigale'!$K$40*PI()*('Ducati Panigale'!$J$9/'Ducati Panigale'!$K$9)/1000)*('Ducati Panigale'!$J$10/'Ducati Panigale'!$K$10)) -> 256.77855 | L24: =SUM(($B24*60*('Ducati Panigale'!$J$23/'Ducati Panigale'!$K$23)*'Ducati Panigale'!$K$40*PI()*('Ducati Panigale'!$J$9/'Ducati Panigale'!$K$9)/1000)*('Ducati Panigale'!$J$10/'Ducati Panigale'!$K$10)) -> 294.22543 | M24: =SUM(($B24*60*('Ducati Panigale'!$J$25/'Ducati Panigale'!$K$25)*'Ducati Panigale'!$K$40*PI()*('Ducati Panigale'!$J$9/'Ducati Panigale'!$K$9)/1000)*('Ducati Panigale'!$J$10/'Ducati Panigale'!$K$10)) -> 334.92855 | O24: =SUM($C24*1000)/(H24*(1000/3600)) -> 4703.1965 | P24: =SUM($C24*1000)/(I24*(1000/3600)) -> 3575.0649 | Q24: =SUM($C24*1000)/(J24*(1000/3600)) -> 2860.0519 | R24: =SUM($C24*1000)/(K24*(1000/3600)) -> 2383.3766 | S24: =SUM($C24*1000)/(L24*(1000/3600)) -> 2080.0378 | T24: =SUM($C24*1000)/(M24*(1000/3600)) -> 1827.2554 | V24: 12000 | W24: 1827.2554 | X24: 1051
B29: Foot pounds to Nm | C29: 1.3558
B35: RETURN TO MENU

Sheet KTM 350 EXC-f
B2: 2022 350 EXC-F
B6: Centre of Gravity | I6: Gear Box
W8: 100 | X8: 48
B9: Without rider | C9: Level | D9: lifted | F9: Stand | G9: 0.394 | I9: Primary drive | J9: 24 | K9: 73 | W9: 200 | X9: 50
B10: Front Wheel | C10: 55.5 | D10: 60.85 | F10: Wheelbase | G10: 1.5 | I10: Final drive | J10: 14 | K10: 52 | W10: 300 | X10: 52
B11: Rear Wheel | C11: 57.75 | D11: 52.3 | F11: FW radius | G11: 0.344 | W11: 400
B12: Total weight | C12: =SUM(C10:C11) -> 113.25 | D12: =SUM(D10:D11) -> 113.15 | F12: RW radius | G12: 0.335 | I12: RPM | J12: 3000 | W12: 500
F13: Av wheel radius | G13: =AVERAGE(G11:G12) -> 0.3395 | W13: 600
B14: With rider | C14: Level | D14: lifted | F14: Rider | G14: 87.75 | I14: Gear | J14: Input Gear | K14: Output Gear | L14: Wheel Speed | M14: RPM Drop | N14: New RPM | W14: 700
B15: Front Wheel | C15: 86.2 | D15: 104.27 | F15: Lifted Angle | G15: =DEGREES(ASIN(G9/G10)) -> 15.228352 | I15: 1st | J15: 14 | K15: 32 | L15: =SUM(($J$12*60*(J15/K15)*$K$43*PI()*($J$9/$K$9)/1000)*($J$10/$K$10)) -> 14.917229 | W15: 800
B16: Rear Wheel | C16: 114.5 | D16: 96.24 | F16: Lifted Angle | G16: =RADIANS(G15) -> 0.26578488 | M16: =SUM($J$12-N16) -> 867.1875 | N16: =SUM($J$12*(J15/K15)*(K17/J17)) -> 2132.8125 | W16: 900
B17: Total weight | C17: =SUM(C15:C16) -> 200.7 | D17: =SUM(D15:D16) -> 200.51 | I17: 2nd | J17: 16 | K17: 26 | L17: =SUM(($J$12*60*(J17/K17)*$K$43*PI()*($J$9/$K$9)/1000)*($J$10/$K$10)) -> 20.982476 | W17: 1000
M18: =SUM($J$12-N18) -> 692.30769 | N18: =SUM($J$12*(J17/K17)*(K19/J19)) -> 2307.6923 | W18: 1100
B19: Centre of Gravity RESULTS | I19: 3rd | J19: 20 | K19: 25 | L19: =SUM(($J$12*60*(J19/K19)*$K$43*PI()*($J$9/$K$9)/1000)*($J$10/$K$10)) -> 27.277218 | W19: 1200
M20: =SUM($J$12-N20) -> 490.90909 | N20: =SUM($J$12*(J19/K19)*(K21/J21)) -> 2509.0909 | W20: 1300
B21: Xcog | E21: BIAS | F21: % of Front | G21: % of Rear | I21: 4th | J21: 22 | K21: 23 | L21: =SUM(($J$12*60*(J21/K21)*$K$43*PI()*($J$9/$K$9)/1000)*($J$10/$K$10)) -> 32.614065 | W21: 1400
B22: Level W/out Rider | C22: =SUM(C11*G10)/C12 -> 0.76490066 | E22: W/out rider | F22: =SUM(($G$10-C22)/$G$10) -> 0.49006623 | G22: =SUM(C22/$G$10) -> 0.50993377 | M22: =SUM($J$12-N22) -> 474.78261 | N22: =SUM($J$12*(J21/K21)*(K23/J23)) -> 2525.2174 | W22: 1500
B23: Level With Rider | C23: =SUM(C16*G10)/C17 -> 0.85575486 | E23: With rider | F23: =SUM(($G$10-C23)/$G$10) -> 0.42949676 | G23: =SUM(C23/$G$10) -> 0.57050324 | I23: 5th | J23: 25 | K23: 22 | L23: =SUM(($J$12*60*(J23/K23)*$K$43*PI()*($J$9/$K$9)/1000)*($J$10/$K$10)) -> 38.746049 | W23: 1600
M24: =SUM($J$12-N24) -> 377.62238 | N24: =SUM($J$12*(J23/K23)*(K25/J25)) -> 2622.3776 | W24: 1700
B25: Ycog | I25: 6th | J25: 26 | K25: 20 | L25: =SUM(($J$12*60*(J25/K25)*$K$43*PI()*($J$9/$K$9)/1000)*($J$10/$K$10)) -> 44.32548 | W25: 1800
B26: W/out Rider | C26: =SUM(($G$10*($C$11-$D$11))/($C$12*(TAN($G$16))))+($G$13) -> 0.60466786 | W26: 1900
B27: With Rider | C27: =SUM(($G$10*($C$16-$D$16))/($C$17*(TAN($G$16))))+($G$13) -> 0.84082111 | I27: Resistance to Motion | W27: 2000
I28: Frontal Area | J28: 0.49 | L28: Top Speed | N28: =L25 -> 44.32548 | W28: 2100
I29: Coefficent of Drag | J29: 1 | L29: Aero Drag | N29: ='Resistance to Motion Calc'!I27 -> 43.344982 | W29: 2200
I30: Road Plane | J30: 0 | L30: Road Plane | N30: ='Resistance to Motion Calc'!I29 -> 0 | W30: 2300
L31: Rolling Resistance | N31: ='Resistance to Motion Calc'!I28 -> 39.37734 | W31: 2400
L32: Total Resistance | N32: =SUM(N29:N31) -> 82.722322 | W32: 2500
W33: 2600
B34: RETURN TO MENU | I34: Tyre Data | M34: Chain & Swing Arm | W34: 2700
W35: 2800
W36: 2900
I37: Tyres | J37: Front | K37: Rear | M37: Chain Size | N37: 15.875 | W37: 3000
I38: Brand | J38: Maxxis Maxx Enduro | K38: Maxxis Maxx Enduro | M38: Chain | N38: 118 | W38: 3100
I39: Profile | J39: 80/100 -21 | K39: 140/80-18 | M39: Distance between front sprocket & pivot | N39: 65 | W39: 3200
I40: Tyre width | J40: 80 | K40: 140 | W40: 3300
I41: Aspect Ratio | J41: 100 | K41: 80 | W41: 3400
I42: Rim Size | J42: 21 | K42: 18 | M42: Swing Arm Length | N42: =SUM(0.5*(N38-0.5*(J10+K10))*N37-N39) -> 609.6875 | W42: 3500
I43: Tyre Diameter | J43: =SUM(((J40/25.4*J41/100+J42/2)*2*PI()*25.4))/PI()/1000 -> 0.6934 | K43: =SUM(((K40/25.4*K41/100+K42/2)*2*PI()*25.4))/PI()/1000 -> 0.6812 | W43: 3600
W44: 3700
W45: 3800
...

Sheet KTM 350 EXC-f data
E2: 350 EXC-F | H2: Road Speed (km/h) | O2: Driving Force (N) | V2: rpm | W2: road speed | X2: Resistance to Motion
B4: RPM | C4: Power (hp) | D4: Torque (Foot pounds) | E4: Torque (Nm) | F4: Power (Kw) | H4: 1st Gear | I4: 2nd Gear | J4: 3rd Gear | K4: 4th Gear | L4: 5th Gear | M4: 6th Gear | O4: 1st Gear | P4: 2nd Gear | Q4: 3rd Gear | R4: 4th Gear | S4: 5th Gear | T4: 6th Gear
B5: 3000 | C5: 10 | D5: 17.5 | E5: =SUM(D5*$C$27) -> 23.7265 | F5: =SUM(0.7457*C5) -> 7.457 | H5: =SUM(($B5*60*('KTM 350 EXC-f'!$J$15/'KTM 350 EXC-f'!$K$15)*'KTM 350 EXC-f'!$K$43*PI()*('KTM 350 EXC-f'!$J$9/'KTM 350 EXC-f'!$K$9)/1000)*('KTM 350 EXC-f'!$J$10/'KTM 350 EXC-f'!$K$10)) -> 14.917229 | I5: =SUM(($B5*60*('KTM 350 EXC-f'!$J$17/'KTM 350 EXC-f'!$K$17)*'KTM 350 EXC-f'!$K$43*PI()*('KTM 350 EXC-f'!$J$9/'KTM 350 EXC-f'!$K$9)/1000)*('KTM 350 EXC-f'!$J$10/'KTM 350 EXC-f'!$K$10)) -> 20.982476 | J5: =SUM(($B5*60*('KTM 350 EXC-f'!$J$19/'KTM 350 EXC-f'!$K$19)*'KTM 350 EXC-f'!$K$43*PI()*('KTM 350 EXC-f'!$J$9/'KTM 350 EXC-f'!$K$9)/1000)*('KTM 350 EXC-f'!$J$10/'KTM 350 EXC-f'!$K$10)) -> 27.277218 | K5: =SUM(($B5*60*('KTM 350 EXC-f'!$J$21/'KTM 350 EXC-f'!$K$21)*'KTM 350 EXC-f'!$K$43*PI()*('KTM 350 EXC-f'!$J$9/'KTM 350 EXC-f'!$K$9)/1000)*('KTM 350 EXC-f'!$J$10/'KTM 350 EXC-f'!$K$10)) -> 32.614065 | L5: =SUM(($B5*60*('KTM 350 EXC-f'!$J$23/'KTM 350 EXC-f'!$K$23)*'KTM 350 EXC-f'!$K$43*PI()*('KTM 350 EXC-f'!$J$9/'KTM 350 EXC-f'!$K$9)/1000)*('KTM 350 EXC-f'!$J$10/'KTM 350 EXC-f'!$K$10)) -> 38.746049 | M5: =SUM(($B5*60*('KTM 350 EXC-f'!$J$25/'KTM 350 EXC-f'!$K$25)*'KTM 350 EXC-f'!$K$43*PI()*('KTM 350 EXC-f'!$J$9/'KTM 350 EXC-f'!$K$9)/1000)*('KTM 350 EXC-f'!$J$10/'KTM 350 EXC-f'!$K$10)) -> 44.32548 | O5: =SUM($C5*1000)/(H5*(1000/3600)) -> 2413.3169 | P5: =SUM($C5*1000)/(I5*(1000/3600)) -> 1715.7175 | Q5: =SUM($C5*1000)/(J5*(1000/3600)) -> 1319.7827 | R5: =SUM($C5*1000)/(K5*(1000/3600)) -> 1103.8182 | S5: =SUM($C5*1000)/(L5*(1000/3600)) -> 929.127 | T5: =SUM($C5*1000)/(M5*(1000/3600)) -> 812.17395 | V5: 3000 | W5: 812.17395 | X5: 82.72
B6: 3500 | C6: 12 | D6: 17 | E6: =SUM(D6*$C$27) -> 23.0486 | F6: =SUM(0.7457*C6) -> 8.9484 | H6: =SUM(($B6*60*('KTM 350 EXC-f'!$J$15/'KTM 350 EXC-f'!$K$15)*'KTM 350 EXC-f'!$K$43*PI()*('KTM 350 EXC-f'!$J$9/'KTM 350 EXC-f'!$K$9)/1000)*('KTM 350 EXC-f'!$J$10/'KTM 350 EXC-f'!$K$10)) -> 17.403433 | I6: =SUM(($B6*60*('KTM 350 EXC-f'!$J$17/'KTM 350 EXC-f'!$K$17)*'KTM 350 EXC-f'!$K$43*PI()*('KTM 350 EXC-f'!$J$9/'KTM 350 EXC-f'!$K$9)/1000)*('KTM 350 EXC-f'!$J$10/'KTM 350 EXC-f'!$K$10)) -> 24.479555 | J6: =SUM(($B6*60*('KTM 350 EXC-f'!$J$19/'KTM 350 EXC-f'!$K$19)*'KTM 350 EXC-f'!$K$43*PI()*('KTM 350 EXC-f'!$J$9/'KTM 350 EXC-f'!$K$9)/1000)*('KTM 350 EXC-f'!$J$10/'KTM 350 EXC-f'!$K$10)) -> 31.823421 | K6: =SUM(($B6*60*('KTM 350 EXC-f'!$J$21/'KTM 350 EXC-f'!$K$21)*'KTM 350 EXC-f'!$K$43*PI()*('KTM 350 EXC-f'!$J$9/'KTM 350 EXC-f'!$K$9)/1000)*('KTM 350 EXC-f'!$J$10/'KTM 350 EXC-f'!$K$10)) -> 38.049743 | L6: =SUM(($B6*60*('KTM 350 EXC-f'!$J$23/'KTM 350 EXC-f'!$K$23)*'KTM 350 EXC-f'!$K$43*PI()*('KTM 350 EXC-f'!$J$9/'KTM 350 EXC-f'!$K$9)/1000)*('KTM 350 EXC-f'!$J$10/'KTM 350 EXC-f'!$K$10)) -> 45.203723 | M6: =SUM(($B6*60*('KTM 350 EXC-f'!$J$25/'KTM 350 EXC-f'!$K$25)*'KTM 350 EXC-f'!$K$43*PI()*('KTM 350 EXC-f'!$J$9/'KTM 350 EXC-f'!$K$9)/1000)*('KTM 350 EXC-f'!$J$10/'KTM 350 EXC-f'!$K$10)) -> 51.713059 | O6: =SUM($C6*1000)/(H6*(1000/3600)) -> 2482.2688 | P6: =SUM($C6*1000)/(I6*(1000/3600)) -> 1764.738 | Q6: =SUM($C6*1000)/(J6*(1000/3600)) -> 1357.4908 | R6: =SUM($C6*1000)/(K6*(1000/3600)) -> 1135.3559 | S6: =SUM($C6*1000)/(L6*(1000/3600)) -> 955.67349 | T6: =SUM($C6*1000)/(M6*(1000/3600)) -> 835.37892 | V6: 3500 | W6: 835.37892 | X6: 98.37
B7: 4000 | C7: 14 | D7: 17.5 | E7: =SUM(D7*$C$27) -> 23.7265 | F7: =SUM(0.7457*C7) -> 10.4398 | H7: =SUM(($B7*60*('KTM 350 EXC-f'!$J$15/'KTM 350 EXC-f'!$K$15)*'KTM 350 EXC-f'!$K$43*PI()*('KTM 350 EXC-f'!$J$9/'KTM 350 EXC-f'!$K$9)/1000)*('KTM 350 EXC-f'!$J$10/'KTM 350 EXC-f'!$K$10)) -> 19.889638 | I7: =SUM(($B7*60*('KTM 350 EXC-f'!$J$17/'KTM 350 EXC-f'!$K$17)*'KTM 350 EXC-f'!$K$43*PI()*('KTM 350 EXC-f'!$J$9/'KTM 350 EXC-f'!$K$9)/1000)*('KTM 350 EXC-f'!$J$10/'KTM 350 EXC-f'!$K$10)) -> 27.976634 | J7: =SUM(($B7*60*('KTM 350 EXC-f'!$J$19/'KTM 350 EXC-f'!$K$19)*'KTM 350 EXC-f'!$K$43*PI()*('KTM 350 EXC-f'!$J$9/'KTM 350 EXC-f'!$K$9)/1000)*('KTM 350 EXC-f'!$J$10/'KTM 350 EXC-f'!$K$10)) -> 36.369624 | K7: =SUM(($B7*60*('KTM 350 EXC-f'!$J$21/'KTM 350 EXC-f'!$K$21)*'KTM 350 EXC-f'!$K$43*PI()*('KTM 350 EXC-f'!$J$9/'KTM 350 EXC-f'!$K$9)/1000)*('KTM 350 EXC-f'!$J$10/'KTM 350 EXC-f'!$K$10)) -> 43.48542 | L7: =SUM(($B7*60*('KTM 350 EXC-f'!$J$23/'KTM 350 EXC-f'!$K$23)*'KTM 350 EXC-f'!$K$43*PI()*('KTM 350 EXC-f'!$J$9/'KTM 350 EXC-f'!$K$9)/1000)*('KTM 350 EXC-f'!$J$10/'KTM 350 EXC-f'!$K$10)) -> 51.661398 | M7: =SUM(($B7*60*('KTM 350 EXC-f'!$J$25/'KTM 350 EXC-f'!$K$25)*'KTM 350 EXC-f'!$K$43*PI()*('KTM 350 EXC-f'!$J$9/'KTM 350 EXC-f'!$K$9)/1000)*('KTM 350 EXC-f'!$J$10/'KTM 350 EXC-f'!$K$10)) -> 59.100639 | O7: =SUM($C7*1000)/(H7*(1000/3600)) -> 2533.9827 | P7: =SUM($C7*1000)/(I7*(1000/3600)) -> 1801.5034 | Q7: =SUM($C7*1000)/(J7*(1000/3600)) -> 1385.7718 | R7: =SUM($C7*1000)/(K7*(1000/3600)) -> 1159.0091 | S7: =SUM($C7*1000)/(L7*(1000/3600)) -> 975.58335 | T7: =SUM($C7*1000)/(M7*(1000/3600)) -> 852.78265 | V7: 4000 | W7: 852.78265 | X7: 116.44
B8: 4500 | C8: 17 | D8: 19.5 | E8: =SUM(D8*$C$27) -> 26.4381 | F8: =SUM(0.7457*C8) -> 12.6769 | H8: =SUM(($B8*60*('KTM 350 EXC-f'!$J$15/'KTM 350 EXC-f'!$K$15)*'KTM 350 EXC-f'!$K$43*PI()*('KTM 350 EXC-f'!$J$9/'KTM 350 EXC-f'!$K$9)/1000)*('KTM 350 EXC-f'!$J$10/'KTM 350 EXC-f'!$K$10)) -> 22.375843 | I8: =SUM(($B8*60*('KTM 350 EXC-f'!$J$17/'KTM 350 EXC-f'!$K$17)*'KTM 350 EXC-f'!$K$43*PI()*('KTM 350 EXC-f'!$J$9/'KTM 350 EXC-f'!$K$9)/1000)*('KTM 350 EXC-f'!$J$10/'KTM 350 EXC-f'!$K$10)) -> 31.473713 | J8: =SUM(($B8*60*('KTM 350 EXC-f'!$J$19/'KTM 350 EXC-f'!$K$19)*'KTM 350 EXC-f'!$K$43*PI()*('KTM 350 EXC-f'!$J$9/'KTM 350 EXC-f'!$K$9)/1000)*('KTM 350 EXC-f'!$J$10/'KTM 350 EXC-f'!$K$10)) -> 40.915827 | K8: =SUM(($B8*60*('KTM 350 EXC-f'!$J$21/'KTM 350 EXC-f'!$K$21)*'KTM 350 EXC-f'!$K$43*PI()*('KTM 350 EXC-f'!$J$9/'KTM 350 EXC-f'!$K$9)/1000)*('KTM 350 EXC-f'!$J$10/'KTM 350 EXC-f'!$K$10)) -> 48.921098 | L8: =SUM(($B8*60*('KTM 350 EXC-f'!$J$23/'KTM 350 EXC-f'!$K$23)*'KTM 350 EXC-f'!$K$43*PI()*('KTM 350 EXC-f'!$J$9/'KTM 350 EXC-f'!$K$9)/1000)*('KTM 350 EXC-f'!$J$10/'KTM 350 EXC-f'!$K$10)) -> 58.119073 | M8: =SUM(($B8*60*('KTM 350 EXC-f'!$J$25/'KTM 350 EXC-f'!$K$25)*'KTM 350 EXC-f'!$K$43*PI()*('KTM 350 EXC-f'!$J$9/'KTM 350 EXC-f'!$K$9)/1000)*('KTM 350 EXC-f'!$J$10/'KTM 350 EXC-f'!$K$10)) -> 66.488219 | O8: =SUM($C8*1000)/(H8*(1000/3600)) -> 2735.0925 | P8: =SUM($C8*1000)/(I8*(1000/3600)) -> 1944.4798 | Q8: =SUM($C8*1000)/(J8*(1000/3600)) -> 1495.7537 | R8: =SUM($C8*1000)/(K8*(1000/3600)) -> 1250.994 | S8: =SUM($C8*1000)/(L8*(1000/3600)) -> 1053.0106 | T8: =SUM($C8*1000)/(M8*(1000/3600)) -> 920.46381 | V8: 4500 | W8: 920.46381 | X8: 136.9
B9: 5000 | C9: 19 | D9: 20.5 | E9: =SUM(D9*$C$27) -> 27.7939 | F9: =SUM(0.7457*C9) -> 14.1683 | H9: =SUM(($B9*60*('KTM 350 EXC-f'!$J$15/'KTM 350 EXC-f'!$K$15)*'KTM 350 EXC-f'!$K$43*PI()*('KTM 350 EXC-f'!$J$9/'KTM 350 EXC-f'!$K$9)/1000)*('KTM 350 EXC-f'!$J$10/'KTM 350 EXC-f'!$K$10)) -> 24.862048 | I9: =SUM(($B9*60*('KTM 350 EXC-f'!$J$17/'KTM 350 EXC-f'!$K$17)*'KTM 350 EXC-f'!$K$43*PI()*('KTM 350 EXC-f'!$J$9/'KTM 350 EXC-f'!$K$9)/1000)*('KTM 350 EXC-f'!$J$10/'KTM 350 EXC-f'!$K$10)) -> 34.970793 | J9: =SUM(($B9*60*('KTM 350 EXC-f'!$J$19/'KTM 350 EXC-f'!$K$19)*'KTM 350 EXC-f'!$K$43*PI()*('KTM 350 EXC-f'!$J$9/'KTM 350 EXC-f'!$K$9)/1000)*('KTM 350 EXC-f'!$J$10/'KTM 350 EXC-f'!$K$10)) -> 45.46203 | K9: =SUM(($B9*60*('KTM 350 EXC-f'!$J$21/'KTM 350 EXC-f'!$K$21)*'KTM 350 EXC-f'!$K$43*PI()*('KTM 350 EXC-f'!$J$9/'KTM 350 EXC-f'!$K$9)/1000)*('KTM 350 EXC-f'!$J$10/'KTM 350 EXC-f'!$K$10)) -> 54.356775 | L9: =SUM(($B9*60*('KTM 350 EXC-f'!$J$23/'KTM 350 EXC-f'!$K$23)*'KTM 350 EXC-f'!$K$43*PI()*('KTM 350 EXC-f'!$J$9/'KTM 350 EXC-f'!$K$9)/1000)*('KTM 350 EXC-f'!$J$10/'KTM 350 EXC-f'!$K$10)) -> 64.576748 | M9: =SUM(($B9*60*('KTM 350 EXC-f'!$J$25/'KTM 350 EXC-f'!$K$25)*'KTM 350 EXC-f'!$K$43*PI()*('KTM 350 EXC-f'!$J$9/'KTM 350 EXC-f'!$K$9)/1000)*('KTM 350 EXC-f'!$J$10/'KTM 350 EXC-f'!$K$10)) -> 73.875799 | O9: =SUM($C9*1000)/(H9*(1000/3600)) -> 2751.1813 | P9: =SUM($C9*1000)/(I9*(1000/3600)) -> 1955.9179 | Q9: =SUM($C9*1000)/(J9*(1000/3600)) -> 1504.5522 | R9: =SUM($C9*1000)/(K9*(1000/3600)) -> 1258.3528 | S9: =SUM($C9*1000)/(L9*(1000/3600)) -> 1059.2048 | T9: =SUM($C9*1000)/(M9*(1000/3600)) -> 925.87831 | V9: 5000 | W9: 925.87831 | X9: 159.78
B10: 5500 | C10: 23 | D10: 21.5 | E10: =SUM(D10*$C$27) -> 29.1497 | F10: =SUM(0.7457*C10) -> 17.1511 | H10: =SUM(($B10*60*('KTM 350 EXC-f'!$J$15/'KTM 350 EXC-f'!$K$15)*'KTM 350 EXC-f'!$K$43*PI()*('KTM 350 EXC-f'!$J$9/'KTM 350 EXC-f'!$K$9)/1000)*('KTM 350 EXC-f'!$J$10/'KTM 350 EXC-f'!$K$10)) -> 27.348253 | I10: =SUM(($B10*60*('KTM 350 EXC-f'!$J$17/'KTM 350 EXC-f'!$K$17)*'KTM 350 EXC-f'!$K$43*PI()*('KTM 350 EXC-f'!$J$9/'KTM 350 EXC-f'!$K$9)/1000)*('KTM 350 EXC-f'!$J$10/'KTM 350 EXC-f'!$K$10)) -> 38.467872 | J10: =SUM(($B10*60*('KTM 350 EXC-f'!$J$19/'KTM 350 EXC-f'!$K$19)*'KTM 350 EXC-f'!$K$43*PI()*('KTM 350 EXC-f'!$J$9/'KTM 350 EXC-f'!$K$9)/1000)*('KTM 350 EXC-f'!$J$10/'KTM 350 EXC-f'!$K$10)) -> 50.008233 | K10: =SUM(($B10*60*('KTM 350 EXC-f'!$J$21/'KTM 350 EXC-f'!$K$21)*'KTM 350 EXC-f'!$K$43*PI()*('KTM 350 EXC-f'!$J$9/'KTM 350 EXC-f'!$K$9)/1000)*('KTM 350 EXC-f'!$J$10/'KTM 350 EXC-f'!$K$10)) -> 59.792453 | L10: =SUM(($B10*60*('KTM 350 EXC-f'!$J$23/'KTM 350 EXC-f'!$K$23)*'KTM 350 EXC-f'!$K$43*PI()*('KTM 350 EXC-f'!$J$9/'KTM 350 EXC-f'!$K$9)/1000)*('KTM 350 EXC-f'!$J$10/'KTM 350 EXC-f'!$K$10)) -> 71.034422 | M10: =SUM(($B10*60*('KTM 350 EXC-f'!$J$25/'KTM 350 EXC-f'!$K$25)*'KTM 350 EXC-f'!$K$43*PI()*('KTM 350 EXC-f'!$J$9/'KTM 350 EXC-f'!$K$9)/1000)*('KTM 350 EXC-f'!$J$10/'KTM 350 EXC-f'!$K$10)) -> 81.263379 | O10: =SUM($C10*1000)/(H10*(1000/3600)) -> 3027.6157 | P10: =SUM($C10*1000)/(I10*(1000/3600)) -> 2152.4456 | Q10: =SUM($C10*1000)/(J10*(1000/3600)) -> 1655.7274 | R10: =SUM($C10*1000)/(K10*(1000/3600)) -> 1384.7902 | S10: =SUM($C10*1000)/(L10*(1000/3600)) -> 1165.6321 | T10: =SUM($C10*1000)/(M10*(1000/3600)) -> 1018.9091 | V10: 5500 | W10: 1018.9091 | X10: 185.06
B11: 6000 | C11: 25 | D11: 22 | E11: =SUM(D11*$C$27) -> 29.8276 | F11: =SUM(0.7457*C11) -> 18.6425 | H11: =SUM(($B11*60*('KTM 350 EXC-f'!$J$15/'KTM 350 EXC-f'!$K$15)*'KTM 350 EXC-f'!$K$43*PI()*('KTM 350 EXC-f'!$J$9/'KTM 350 EXC-f'!$K$9)/1000)*('KTM 350 EXC-f'!$J$10/'KTM 350 EXC-f'!$K$10)) -> 29.834457 | I11: =SUM(($B11*60*('KTM 350 EXC-f'!$J$17/'KTM 350 EXC-f'!$K$17)*'KTM 350 EXC-f'!$K$43*PI()*('KTM 350 EXC-f'!$J$9/'KTM 350 EXC-f'!$K$9)/1000)*('KTM 350 EXC-f'!$J$10/'KTM 350 EXC-f'!$K$10)) -> 41.964951 | J11: =SUM(($B11*60*('KTM 350 EXC-f'!$J$19/'KTM 350 EXC-f'!$K$19)*'KTM 350 EXC-f'!$K$43*PI()*('KTM 350 EXC-f'!$J$9/'KTM 350 EXC-f'!$K$9)/1000)*('KTM 350 EXC-f'!$J$10/'KTM 350 EXC-f'!$K$10)) -> 54.554436 | K11: =SUM(($B11*60*('KTM 350 EXC-f'!$J$21/'KTM 350 EXC-f'!$K$21)*'KTM 350 EXC-f'!$K$43*PI()*('KTM 350 EXC-f'!$J$9/'KTM 350 EXC-f'!$K$9)/1000)*('KTM 350 EXC-f'!$J$10/'KTM 350 EXC-f'!$K$10)) -> 65.22813 | L11: =SUM(($B11*60*('KTM 350 EXC-f'!$J$23/'KTM 350 EXC-f'!$K$23)*'KTM 350 EXC-f'!$K$43*PI()*('KTM 350 EXC-f'!$J$9/'KTM 350 EXC-f'!$K$9)/1000)*('KTM 350 EXC-f'!$J$10/'KTM 350 EXC-f'!$K$10)) -> 77.492097 | M11: =SUM(($B11*60*('KTM 350 EXC-f'!$J$25/'KTM 350 EXC-f'!$K$25)*'KTM 350 EXC-f'!$K$43*PI()*('KTM 350 EXC-f'!$J$9/'KTM 350 EXC-f'!$K$9)/1000)*('KTM 350 EXC-f'!$J$10/'KTM 350 EXC-f'!$K$10)) -> 88.650959 | O11: =SUM($C11*1000)/(H11*(1000/3600)) -> 3016.6461 | P11: =SUM($C11*1000)/(I11*(1000/3600)) -> 2144.6468 | Q11: =SUM($C11*1000)/(J11*(1000/3600)) -> 1649.7283 | R11: =SUM($C11*1000)/(K11*(1000/3600)) -> 1379.7728 | S11: =SUM($C11*1000)/(L11*(1000/3600)) -> 1161.4088 | T11: =SUM($C11*1000)/(M11*(1000/3600)) -> 1015.2174 | V11: 6000 | W11: 1015.2174 | X11: 212.76
B12: 6500 | C12: 27 | D12: 23 | E12: =SUM(D12*$C$27) -> 31.1834 | F12: =SUM(0.7457*C12) -> 20.1339 | H12: =SUM(($B12*60*('KTM 350 EXC-f'!$J$15/'KTM 350 EXC-f'!$K$15)*'KTM 350 EXC-f'!$K$43*PI()*('KTM 350 EXC-f'!$J$9/'KTM 350 EXC-f'!$K$9)/1000)*('KTM 350 EXC-f'!$J$10/'KTM 350 EXC-f'!$K$10)) -> 32.320662 | I12: =SUM(($B12*60*('KTM 350 EXC-f'!$J$17/'KTM 350 EXC-f'!$K$17)*'KTM 350 EXC-f'!$K$43*PI()*('KTM 350 EXC-f'!$J$9/'KTM 350 EXC-f'!$K$9)/1000)*('KTM 350 EXC-f'!$J$10/'KTM 350 EXC-f'!$K$10)) -> 45.46203 | J12: =SUM(($B12*60*('KTM 350 EXC-f'!$J$19/'KTM 350 EXC-f'!$K$19)*'KTM 350 EXC-f'!$K$43*PI()*('KTM 350 EXC-f'!$J$9/'KTM 350 EXC-f'!$K$9)/1000)*('KTM 350 EXC-f'!$J$10/'KTM 350 EXC-f'!$K$10)) -> 59.100639 | K12: =SUM(($B12*60*('KTM 350 EXC-f'!$J$21/'KTM 350 EXC-f'!$K$21)*'KTM 350 EXC-f'!$K$43*PI()*('KTM 350 EXC-f'!$J$9/'KTM 350 EXC-f'!$K$9)/1000)*('KTM 350 EXC-f'!$J$10/'KTM 350 EXC-f'!$K$10)) -> 70.663808 | L12: =SUM(($B12*60*('KTM 350 EXC-f'!$J$23/'KTM 350 EXC-f'!$K$23)*'KTM 350 EXC-f'!$K$43*PI()*('KTM 350 EXC-f'!$J$9/'KTM 350 EXC-f'!$K$9)/1000)*('KTM 350 EXC-f'!$J$10/'KTM 350 EXC-f'!$K$10)) -> 83.949772 | M12: =SUM(($B12*60*('KTM 350 EXC-f'!$J$25/'KTM 350 EXC-f'!$K$25)*'KTM 350 EXC-f'!$K$43*PI()*('KTM 350 EXC-f'!$J$9/'KTM 350 EXC-f'!$K$9)/1000)*('KTM 350 EXC-f'!$J$10/'KTM 350 EXC-f'!$K$10)) -> 96.038539 | O12: =SUM($C12*1000)/(H12*(1000/3600)) -> 3007.3641 | P12: =SUM($C12*1000)/(I12*(1000/3600)) -> 2138.0479 | Q12: =SUM($C12*1000)/(J12*(1000/3600)) -> 1644.6523 | R12: =SUM($C12*1000)/(K12*(1000/3600)) -> 1375.5273 | S12: =SUM($C12*1000)/(L12*(1000/3600)) -> 1157.8352 | T12: =SUM($C12*1000)/(M12*(1000/3600)) -> 1012.0937 | V12: 6500 | W12: 1012.0937 | X12: 242.86
B13: 7000 | C13: 30 | D13: 23 | E13: =SUM(D13*$C$27) -> 31.1834 | F13: =SUM(0.7457*C13) -> 22.371 | H13: =SUM(($B13*60*('KTM 350 EXC-f'!$J$15/'KTM 350 EXC-f'!$K$15)*'KTM 350 EXC-f'!$K$43*PI()*('KTM 350 EXC-f'!$J$9/'KTM 350 EXC-f'!$K$9)/1000)*('KTM 350 EXC-f'!$J$10/'KTM 350 EXC-f'!$K$10)) -> 34.806867 | I13: =SUM(($B13*60*('KTM 350 EXC-f'!$J$17/'KTM 350 EXC-f'!$K$17)*'KTM 350 EXC-f'!$K$43*PI()*('KTM 350 EXC-f'!$J$9/'KTM 350 EXC-f'!$K$9)/1000)*('KTM 350 EXC-f'!$J$10/'KTM 350 EXC-f'!$K$10)) -> 48.95911 | J13: =SUM(($B13*60*('KTM 350 EXC-f'!$J$19/'KTM 350 EXC-f'!$K$19)*'KTM 350 EXC-f'!$K$43*PI()*('KTM 350 EXC-f'!$J$9/'KTM 350 EXC-f'!$K$9)/1000)*('KTM 350 EXC-f'!$J$10/'KTM 350 EXC-f'!$K$10)) -> 63.646842 | K13: =SUM(($B13*60*('KTM 350 EXC-f'!$J$21/'KTM 350 EXC-f'!$K$21)*'KTM 350 EXC-f'!$K$43*PI()*('KTM 350 EXC-f'!$J$9/'KTM 350 EXC-f'!$K$9)/1000)*('KTM 350 EXC-f'!$J$10/'KTM 350 EXC-f'!$K$10)) -> 76.099486 | L13: =SUM(($B13*60*('KTM 350 EXC-f'!$J$23/'KTM 350 EXC-f'!$K$23)*'KTM 350 EXC-f'!$K$43*PI()*('KTM 350 EXC-f'!$J$9/'KTM 350 EXC-f'!$K$9)/1000)*('KTM 350 EXC-f'!$J$10/'KTM 350 EXC-f'!$K$10)) -> 90.407447 | M13: =SUM(($B13*60*('KTM 350 EXC-f'!$J$25/'KTM 350 EXC-f'!$K$25)*'KTM 350 EXC-f'!$K$43*PI()*('KTM 350 EXC-f'!$J$9/'KTM 350 EXC-f'!$K$9)/1000)*('KTM 350 EXC-f'!$J$10/'KTM 350 EXC-f'!$K$10)) -> 103.42612 | O13: =SUM($C13*1000)/(H13*(1000/3600)) -> 3102.836 | P13: =SUM($C13*1000)/(I13*(1000/3600)) -> 2205.9225 | Q13: =SUM($C13*1000)/(J13*(1000/3600)) -> 1696.8634 | R13: =SUM($C13*1000)/(K13*(1000/3600)) -> 1419.1949 | S13: =SUM($C13*1000)/(L13*(1000/3600)) -> 1194.5919 | T13: =SUM($C13*1000)/(M13*(1000/3600)) -> 1044.2237 | V13: 7000 | W13: 1044.2237 | X13: 275.37
B14: 7500 | C14: 33 | D14: 23.2 | E14: =SUM(D14*$C$27) -> 31.45456 | F14: =SUM(0.7457*C14) -> 24.6081 | H14: =SUM(($B14*60*('KTM 350 EXC-f'!$J$15/'KTM 350 EXC-f'!$K$15)*'KTM 350 EXC-f'!$K$43*PI()*('KTM 350 EXC-f'!$J$9/'KTM 350 EXC-f'!$K$9)/1000)*('KTM 350 EXC-f'!$J$10/'KTM 350 EXC-f'!$K$10)) -> 37.293072 | I14: =SUM(($B14*60*('KTM 350 EXC-f'!$J$17/'KTM 350 EXC-f'!$K$17)*'KTM 350 EXC-f'!$K$43*PI()*('KTM 350 EXC-f'!$J$9/'KTM 350 EXC-f'!$K$9)/1000)*('KTM 350 EXC-f'!$J$10/'KTM 350 EXC-f'!$K$10)) -> 52.456189 | J14: =SUM(($B14*60*('KTM 350 EXC-f'!$J$19/'KTM 350 EXC-f'!$K$19)*'KTM 350 EXC-f'!$K$43*PI()*('KTM 350 EXC-f'!$J$9/'KTM 350 EXC-f'!$K$9)/1000)*('KTM 350 EXC-f'!$J$10/'KTM 350 EXC-f'!$K$10)) -> 68.193045 | K14: =SUM(($B14*60*('KTM 350 EXC-f'!$J$21/'KTM 350 EXC-f'!$K$21)*'KTM 350 EXC-f'!$K$43*PI()*('KTM 350 EXC-f'!$J$9/'KTM 350 EXC-f'!$K$9)/1000)*('KTM 350 EXC-f'!$J$10/'KTM 350 EXC-f'!$K$10)) -> 81.535163 | L14: =SUM(($B14*60*('KTM 350 EXC-f'!$J$23/'KTM 350 EXC-f'!$K$23)*'KTM 350 EXC-f'!$K$43*PI()*('KTM 350 EXC-f'!$J$9/'KTM 350 EXC-f'!$K$9)/1000)*('KTM 350 EXC-f'!$J$10/'KTM 350 EXC-f'!$K$10)) -> 96.865121 | M14: =SUM(($B14*60*('KTM 350 EXC-f'!$J$25/'KTM 350 EXC-f'!$K$25)*'KTM 350 EXC-f'!$K$43*PI()*('KTM 350 EXC-f'!$J$9/'KTM 350 EXC-f'!$K$9)/1000)*('KTM 350 EXC-f'!$J$10/'KTM 350 EXC-f'!$K$10)) -> 110.8137 | O14: =SUM($C14*1000)/(H14*(1000/3600)) -> 3185.5783 | P14: =SUM($C14*1000)/(I14*(1000/3600)) -> 2264.7471 | Q14: =SUM($C14*1000)/(J14*(1000/3600)) -> 1742.1131 | R14: =SUM($C14*1000)/(K14*(1000/3600)) -> 1457.0401 | S14: =SUM($C14*1000)/(L14*(1000/3600)) -> 1226.4476 | T14: =SUM($C14*1000)/(M14*(1000/3600)) -> 1072.0696 | V14: 7500 | W14: 1072.0696 | X14: 310.28
B15: 8000 | C15: 34 | D15: 23 | E15: =SUM(D15*$C$27) -> 31.1834 | F15: =SUM(0.7457*C15) -> 25.3538 | H15: =SUM(($B15*60*('KTM 350 EXC-f'!$J$15/'KTM 350 EXC-f'!$K$15)*'KTM 350 EXC-f'!$K$43*PI()*('KTM 350 EXC-f'!$J$9/'KTM 350 EXC-f'!$K$9)/1000)*('KTM 350 EXC-f'!$J$10/'KTM 350 EXC-f'!$K$10)) -> 39.779277 | I15: =SUM(($B15*60*('KTM 350 EXC-f'!$J$17/'KTM 350 EXC-f'!$K$17)*'KTM 350 EXC-f'!$K$43*PI()*('KTM 350 EXC-f'!$J$9/'KTM 350 EXC-f'!$K$9)/1000)*('KTM 350 EXC-f'!$J$10/'KTM 350 EXC-f'!$K$10)) -> 55.953268 | J15: =SUM(($B15*60*('KTM 350 EXC-f'!$J$19/'KTM 350 EXC-f'!$K$19)*'KTM 350 EXC-f'!$K$43*PI()*('KTM 350 EXC-f'!$J$9/'KTM 350 EXC-f'!$K$9)/1000)*('KTM 350 EXC-f'!$J$10/'KTM 350 EXC-f'!$K$10)) -> 72.739249 | K15: =SUM(($B15*60*('KTM 350 EXC-f'!$J$21/'KTM 350 EXC-f'!$K$21)*'KTM 350 EXC-f'!$K$43*PI()*('KTM 350 EXC-f'!$J$9/'KTM 350 EXC-f'!$K$9)/1000)*('KTM 350 EXC-f'!$J$10/'KTM 350 EXC-f'!$K$10)) -> 86.970841 | L15: =SUM(($B15*60*('KTM 350 EXC-f'!$J$23/'KTM 350 EXC-f'!$K$23)*'KTM 350 EXC-f'!$K$43*PI()*('KTM 350 EXC-f'!$J$9/'KTM 350 EXC-f'!$K$9)/1000)*('KTM 350 EXC-f'!$J$10/'KTM 350 EXC-f'!$K$10)) -> 103.3228 | M15: =SUM(($B15*60*('KTM 350 EXC-f'!$J$25/'KTM 350 EXC-f'!$K$25)*'KTM 350 EXC-f'!$K$43*PI()*('KTM 350 EXC-f'!$J$9/'KTM 350 EXC-f'!$K$9)/1000)*('KTM 350 EXC-f'!$J$10/'KTM 350 EXC-f'!$K$10)) -> 118.20128 | O15: =SUM($C15*1000)/(H15*(1000/3600)) -> 3076.979 | P15: =SUM($C15*1000)/(I15*(1000/3600)) -> 2187.5398 | Q15: =SUM($C15*1000)/(J15*(1000/3600)) -> 1682.7229 | R15: =SUM($C15*1000)/(K15*(1000/3600)) -> 1407.3683 | S15: =SUM($C15*1000)/(L15*(1000/3600)) -> 1184.6369 | T15: =SUM($C15*1000)/(M15*(1000/3600)) -> 1035.5218 | V15: 8000 | W15: 1035.5218 | X15: 347.61
B16: 8500 | C16: 34.5 | D16: 22 | E16: =SUM(D16*$C$27) -> 29.8276 | F16: =SUM(0.7457*C16) -> 25.72665 | H16: =SUM(($B16*60*('KTM 350 EXC-f'!$J$15/'KTM 350 EXC-f'!$K$15)*'KTM 350 EXC-f'!$K$43*PI()*('KTM 350 EXC-f'!$J$9/'KTM 350 EXC-f'!$K$9)/1000)*('KTM 350 EXC-f'!$J$10/'KTM 350 EXC-f'!$K$10)) -> 42.265481 | I16: =SUM(($B16*60*('KTM 350 EXC-f'!$J$17/'KTM 350 EXC-f'!$K$17)*'KTM 350 EXC-f'!$K$43*PI()*('KTM 350 EXC-f'!$J$9/'KTM 350 EXC-f'!$K$9)/1000)*('KTM 350 EXC-f'!$J$10/'KTM 350 EXC-f'!$K$10)) -> 59.450347 | J16: =SUM(($B16*60*('KTM 350 EXC-f'!$J$19/'KTM 350 EXC-f'!$K$19)*'KTM 350 EXC-f'!$K$43*PI()*('KTM 350 EXC-f'!$J$9/'KTM 350 EXC-f'!$K$9)/1000)*('KTM 350 EXC-f'!$J$10/'KTM 350 EXC-f'!$K$10)) -> 77.285452 | K16: =SUM(($B16*60*('KTM 350 EXC-f'!$J$21/'KTM 350 EXC-f'!$K$21)*'KTM 350 EXC-f'!$K$43*PI()*('KTM 350 EXC-f'!$J$9/'KTM 350 EXC-f'!$K$9)/1000)*('KTM 350 EXC-f'!$J$10/'KTM 350 EXC-f'!$K$10)) -> 92.406518 | L16: =SUM(($B16*60*('KTM 350 EXC-f'!$J$23/'KTM 350 EXC-f'!$K$23)*'KTM 350 EXC-f'!$K$43*PI()*('KTM 350 EXC-f'!$J$9/'KTM 350 EXC-f'!$K$9)/1000)*('KTM 350 EXC-f'!$J$10/'KTM 350 EXC-f'!$K$10)) -> 109.78047 | M16: =SUM(($B16*60*('KTM 350 EXC-f'!$J$25/'KTM 350 EXC-f'!$K$25)*'KTM 350 EXC-f'!$K$43*PI()*('KTM 350 EXC-f'!$J$9/'KTM 350 EXC-f'!$K$9)/1000)*('KTM 350 EXC-f'!$J$10/'KTM 350 EXC-f'!$K$10)) -> 125.58886 | O16: =SUM($C16*1000)/(H16*(1000/3600)) -> 2938.5682 | P16: =SUM($C16*1000)/(I16*(1000/3600)) -> 2089.1383 | Q16: =SUM($C16*1000)/(J16*(1000/3600)) -> 1607.0295 | R16: =SUM($C16*1000)/(K16*(1000/3600)) -> 1344.061 | S16: =SUM($C16*1000)/(L16*(1000/3600)) -> 1131.3488 | T16: =SUM($C16*1000)/(M16*(1000/3600)) -> 988.94123 | V16: 8500 | W16: 988.94123 | X16: 387.34
... B22: 11500 | C22: 33 | D22: 14.5 | E22: =SUM(D22*$C$27) -> 19.6591 | F22: =SUM(0.7457*C22) -> 24.6081 | H22: =SUM(($B22*60*('KTM 350 EXC-f'!$J$15/'KTM 350 EXC-f'!$K$15)*'KTM 350 EXC-f'!$K$43*PI()*('KTM 350 EXC-f'!$J$9/'KTM 350 EXC-f'!$K$9)/1000)*('KTM 350 EXC-f'!$J$10/'KTM 350 EXC-f'!$K$10)) -> 57.18271 | I22: =SUM(($B22*60*('KTM 350 EXC-f'!$J$17/'KTM 350 EXC-f'!$K$17)*'KTM 350 EXC-f'!$K$43*PI()*('KTM 350 EXC-f'!$J$9/'KTM 350 EXC-f'!$K$9)/1000)*('KTM 350 EXC-f'!$J$10/'KTM 350 EXC-f'!$K$10)) -> 80.432823 | J22: =SUM(($B22*60*('KTM 350 EXC-f'!$J$19/'KTM 350 EXC-f'!$K$19)*'KTM 350 EXC-f'!$K$43*PI()*('KTM 350 EXC-f'!$J$9/'KTM 350 EXC-f'!$K$9)/1000)*('KTM 350 EXC-f'!$J$10/'KTM 350 EXC-f'!$K$10)) -> 104.56267 | K22: =SUM(($B22*60*('KTM 350 EXC-f'!$J$21/'KTM 350 EXC-f'!$K$21)*'KTM 350 EXC-f'!$K$43*PI()*('KTM 350 EXC-f'!$J$9/'KTM 350 EXC-f'!$K$9)/1000)*('KTM 350 EXC-f'!$J$10/'KTM 350 EXC-f'!$K$10)) -> 125.02058 | L22: =SUM(($B22*60*('KTM 350 EXC-f'!$J$23/'KTM 350 EXC-f'!$K$23)*'KTM 350 EXC-f'!$K$43*PI()*('KTM 350 EXC-f'!$J$9/'KTM 350 EXC-f'!$K$9)/1000)*('KTM 350 EXC-f'!$J$10/'KTM 350 EXC-f'!$K$10)) -> 148.52652 | M22: =SUM(($B22*60*('KTM 350 EXC-f'!$J$25/'KTM 350 EXC-f'!$K$25)*'KTM 350 EXC-f'!$K$43*PI()*('KTM 350 EXC-f'!$J$9/'KTM 350 EXC-f'!$K$9)/1000)*('KTM 350 EXC-f'!$J$10/'KTM 350 EXC-f'!$K$10)) -> 169.91434 | O22: =SUM($C22*1000)/(H22*(1000/3600)) -> 2077.5511 | P22: =SUM($C22*1000)/(I22*(1000/3600)) -> 1477.009 | Q22: =SUM($C22*1000)/(J22*(1000/3600)) -> 1136.1607 | R22: =SUM($C22*1000)/(K22*(1000/3600)) -> 950.24353 | S22: =SUM($C22*1000)/(L22*(1000/3600)) -> 799.85716 | T22: =SUM($C22*1000)/(M22*(1000/3600)) -> 699.17584 | V22: 11500 | W22: 699.17584 | X22: 676.31
B27: Foot pounds to Nm | C27: 1.3558
B31: RETURN TO MENU

Sheet Resistance to Motion Calc
B2: ACHA4003 Motorcycle Technology: RESISTANCE TO MOTION CALCULATOR
B5: DATA INPUT - GREEN CELLS ONLY | G5: RESULTS
B8: DUCATI PANIGALE | C8: symbol | D8: Input in SI Units | E8: unit | G8: FORCE | L8: POWER
B9: Mass | C9: M | D9: 259.9 | E9: kg
B10: Area | C10: A | D10: ='Ducati Panigale'!J28 -> 0.33 | G10: Aero Drag Force | H10: FD | I10: =SUM(0.5*D14*D11*D10*(D13*D13)) -> 918.41417 | J10: Nm | L10: Power | M10: P | N10: =SUM(I13*D13) -> 86431.532 | O10: Watts
B11: Drag Coeficient | C11: CD | D11: ='Ducati Panigale'!J29 -> 0.6 | G11: Rolling resistence | H11: FW | I11: =SUM(0.02*D9*D15) -> 50.99238 | J11: Nm
B12: Velocity | C12: v | D12: ='Ducati Panigale'!N28 -> 320.97319 | E12: km/h | G12: Road Plane | H12: FP | I12: =SUM(D9*D15*(SIN(D17))) -> 0 | J12: Nm
B13: Velocity | C13: v | D13: =D12*1000/3600 -> 89.15922 | E13: m/s | G13: Total Force | H13: F | I13: =SUM(I10:I12) -> 969.40655 | J13: Nm
B14: Density | D14: 1.167
B15: Gravity | C15: g | D15: 9.81
B16: Angle of road plane | D16: ='Ducati Panigale'!J30 -> 0
B17: Angle of road plane | D17: =RADIANS(D16) -> 0 | E17: radians
B19: ACHA4003 Motorcycle Technology: RESISTANCE TO MOTION CALCULATOR
B22: DATA INPUT - GREEN CELLS ONLY | G22: RESULTS
B25: KTM EXC-F | C25: symbol | D25: Input in SI Units | E25: unit | G25: FORCE | L25: POWER
B26: Mass | C26: M | D26: ='KTM 350 EXC-f'!C17 -> 200.7 | E26: kg
B27: Area | C27: A | D27: ='KTM 350 EXC-f'!J28 -> 0.49 | G27: Aero Drag Force | H27: FD | I27: =SUM(0.5*D31*D28*D27*(D30*D30)) -> 43.344982 | J27: Nm | L27: Power | M27: P | N27: =SUM(I30*D30) -> 1018.5296 | O27: Watts
B28: Drag Coeficient | C28: CD | D28: ='KTM 350 EXC-f'!J29 -> 1 | G28: Rolling resistence | H28: FW | I28: =SUM(0.02*D26*D32) -> 39.37734 | J28: Nm
B29: Velocity | C29: v | D29: ='KTM 350 EXC-f'!L25 -> 44.32548 | E29: km/h | G29: Road Plane | H29: FP | I29: =SUM(D26*D32*(SIN(D34))) -> 0 | J29: Nm
B30: Velocity | C30: v | D30: =D29*1000/3600 -> 12.312633 | E30: m/s | G30: Total Force | H30: F | I30: =SUM(I27:I29) -> 82.722322 | J30: Nm
B31: Density | D31: 1.167 | L31: RETURN TO MENU
B32: Gravity | C32: g | D32: 9.81
B33: Angle of road plane | D33: ='KTM 350 EXC-f'!J30 -> 0
B34: Angle of road plane | D34: =RADIANS(D33) -> 0 | E34: radians

Sheet Calculations
B2: SAMPLE OF MANUAL CALCULATIONS Ducati Panigale - CoG Calculations
B5: X Centre of Gravity Level w/out rider | F5: Y Centre of Gravity Lifted w/out rider | J5: X Centre of Gravity Level with rider | N5: Y Centre of Gravity with rider
B20: % of Front Bias w/out rider | F20: % of Rear Bias w/out rider | J20: % of Front Bias with rider | N20: % of Rear Bias with rider
B38: RETURN TO MENU

Sheet Risk Assessment
R4: RETURN TO MENU
