Workbook

Sheet Student data
A1: ID | B1: First name | C1: Surname | D1: Assignment 1 | E1: Assignment 2 | F1: Module grade
A2: 1706594 | B2: Asgar | C2: Ali | D2: 40 | E2: 72 | F2: =AVERAGE(D2:E2) -> 56
A3: 1708309 | B3: Mohamad | C3: Baghdadi | D3: 76 | E3: 72 | F3: =AVERAGE(D3:E3) -> 74
A4: 1703131 | B4: William | C4: Baker | D4: 46 | E4: 80 | F4: =AVERAGE(D4:E4) -> 63
A5: 1903281 | B5: Shannon | C5: Boulting | D5: 61 | E5: 45 | F5: =AVERAGE(D5:E5) -> 53
A6: 1704746 | B6: Andrew | C6: Cooper | D6: 44 | E6: 0 | F6: =AVERAGE(D6:E6) -> 22
A7: 1705149 | B7: Callum | C7: Cross | D7: 67 | E7: 85 | F7: =AVERAGE(D7:E7) -> 76
A8: 1701603 | B8: Daniel | C8: Davies | D8: 47 | E8: 40 | F8: =AVERAGE(D8:E8) -> 43.5
A9: 1707239 | B9: Jonathan | C9: Davies | D9: 86 | E9: 88 | F9: =AVERAGE(D9:E9) -> 87
A10: 1701574 | B10: Richard | C10: Davies | D10: 44 | E10: 74 | F10: =AVERAGE(D10:E10) -> 59
A11: 1708355 | B11: Matthew | C11: Dickinson | D11: 48 | E11: 80 | F11: =AVERAGE(D11:E11) -> 64
A12: 1701153 | B12: Dylan | C12: Evans | D12: 55 | E12: 71 | F12: =AVERAGE(D12:E12) -> 63
A13: P149401 | B13: Steffan Luke | C13: Evans | D13: 6 | E13: 0 | F13: =AVERAGE(D13:E13) -> 3
... A25: P115266 | B25: Eben David | C25: Stewart | D25: 80 | E25: 25 | F25: =AVERAGE(D25:E25) -> 52.5
H28: Students who did not submit one or both assignments.

Sheet Statistics
A1: Note, all stats exclude students who failed to submit either assignment.
A3: Mean: | B3: =AVERAGE('Student data'!F2:F5,'Student data'!F7:F12,'Student data'!F14:F16,'Student data'!F19,'Student data'!F21:F25) -> 64.815789
A4: Number of firsts: | B4: =COUNTIF('Student data'!F2:F25, ">= 70") -> 6
A5: Number of 2:1s: | B5: =COUNTIFS('Student data'!F2:F25, ">=60", 'Student data'!F2:F25, "<70") -> 5
A6: Number of 2:2s: | B6: =COUNTIFS('Student data'!F2:F25, ">=50", 'Student data'!F2:F25, "<60") -> 6
A7: Number of 3rds: | B7: =COUNTIFS('Student data'!F2:F25, ">=40", 'Student data'!F2:F25, "<50") -1 -> 2
A8: Number of fails: | B8: 0
A10: Std.dev | B10: =_xlfn.STDEV.P('Student data'!F2:F5,'Student data'!F7:F12,'Student data'!F14:F16,'Student data'!F19,'Student data'!F21:F25) -> 15.520963
