Workbook

Sheet WLTP Class 3
B2: Phase | C2: Total elapsed time | D2: Phase elapsed time | E2: WLTC class 3, version 5, vehicle speed | F2: WLTC class 3, version 5, vehicle speed | G2: WLTC class 3, version 5, acceleration | H2: WLTC class 3, version 5, acceleration | I2: Cumulative Distance | J2: Change in Distance | K2: Acceleration reistance | L2: Rolling Resistance | M2: Aerodynamic Resistence | N2: Total Resistence | O2: Recoverable Energy Periods | P2: Tractive Energy | Q2: Cumulative Energy | R2: Cumulative Tractive Energy | S2: Braking Energy | T2: Inverse braking energy | V2: Cumulative Braking Energy | W2: Inverse Cumulative braking Energy | X2: Cumulative Braking Energy | Y2: Energy Loss | Z2: Total Energy | AA2: Driving Kinetic energy | AC2: Cumulative Tractive Energy | AD2: Cumulative Braking Energy | AE2: Energy Loss | AF2: Recoverable energy @60% | AG2: Tractive Power | AH2: Braking Power | AI2: Inverse Braking Power | AJ2: Total Power
B3: Phase | C3: s | D3: s | E3: m/s | F3: km/h | G3: m/s² | H3: km/h/s | I3: M | J3: N | K3: N | L3: N | M3: N | N3: N | P3: J | Q3: J | R3: kJ | S3: J | T3: J | U3: kJ | V3: J | W3: J | X3: kJ | Y3: kJ | Z3: J | AA3: J | AB3: kJ | AC3: kW/h | AD3: kW/h | AE3: kW/h | AF3: kW/h | AG3: kW | AH3: kW | AI3: kW | AJ3: kW
B4: Low | C4: 0 | D4: 0 | E4: =(F4*1000)/3600 -> 0 | F4: 0 | G4: =($F5-0)/2/3.6 -> 0 | H4: =($F5-0)/2 -> 0 | I4: =SUM($E$4:$E4) -> 0 | J4: =I4 -> 0 | K4: ='Vehicle Data'!$D$4*'WLTP Class 3'!$G4 -> 0 | L4: =('Vehicle Data'!$D$4*9.81)*'Vehicle Data'!$D$10 -> 138.66435 | M4: =(1/2)*1.225*'Vehicle Data'!$D$8*'Vehicle Data'!$D$9*'WLTP Class 3'!$E4^2 -> 0 | N4: =SUM(K4:M4) -> 138.66435 | O4: =IF($N4>0.0001, 0, 1) -> 0 | P4: =IF(G4<0.00001,0,$N4*$J4) -> 0 | Q4: =SUM($P$4:$P4) -> 0 | R4: =Q4/1000 -> 0 | S4: =IF($N4>0,0,$N4*$J4) -> 0 | T4: =S4*-1 -> 0 | U4: =T4/1000 -> 0 | V4: =SUM($S$4:$S4) -> 0 | W4: =V4*-1 -> 0 | X4: =W4/1000 -> 0 | Y4: =R4-X4 -> 0 | Z4: =$P4+$S4 -> 0 | AA4: =1/2*'Vehicle Data'!$D$4*$E4^2 -> 0 | AB4: =AA4/1000 -> 0 | AC4: =$R4/3600 -> 0 | AD4: =X4/3600 -> 0 | AE4: =AC4-AD4 -> 0 | AF4: =$X4*80% -> 0 | AG4: =IF($AJ4>0,$AJ4,0) -> 0 | AH4: =IF($AJ4<0,$AJ4,0) -> 0 | AI4: =AH4*-1 -> 0 | AJ4: =($E4*$N4)/1000 -> 0
B5: Low | C5: 1 | D5: 1 | E5: =(F5*1000)/3600 -> 0 | F5: 0 | G5: =($F6-$F4)/2/3.6 -> 0 | H5: =($F6-$F4)/2 -> 0 | I5: =SUM($E$4:$E5) -> 0 | J5: =I5-I4 -> 0 | K5: ='Vehicle Data'!$D$4*'WLTP Class 3'!$G5 -> 0 | L5: =('Vehicle Data'!$D$4*9.81)*'Vehicle Data'!$D$10 -> 138.66435 | M5: =(1/2)*1.225*'Vehicle Data'!$D$8*'Vehicle Data'!$D$9*'WLTP Class 3'!$E5^2 -> 0 | N5: =SUM(K5:M5) -> 138.66435 | O5: =IF($N5>0.0001, 0, 1) -> 0 | P5: =IF(G5<0.00001,0,$N5*$J5) -> 0 | Q5: =SUM($P$4:$P5) -> 0 | R5: =Q5/1000 -> 0 | S5: =IF($N5>0,0,$N5*$J5) -> 0 | T5: =S5*-1 -> 0 | U5: =T5/1000 -> 0 | V5: =SUM($S$4:$S5) -> 0 | W5: =V5*-1 -> 0 | X5: =W5/1000 -> 0 | Y5: =R5-X5 -> 0 | Z5: =$P5+$S5 -> 0 | AA5: =1/2*'Vehicle Data'!$D$4*$E5^2 -> 0 | AB5: =AA5/1000 -> 0 | AC5: =$R5/3600 -> 0 | AD5: =X5/3600 -> 0 | AE5: =AC5-AD5 -> 0 | AF5: =$X5*80% -> 0 | AG5: =IF($AJ5>0,$AJ5,0) -> 0 | AH5: =IF($AJ5<0,$AJ5,0) -> 0 | AI5: =AH5*-1 -> 0 | AJ5: =($E5*$N5)/1000 -> 0
B6: Low | C6: 2 | D6: 2 | E6: =(F6*1000)/3600 -> 0 | F6: 0 | G6: =($F7-$F5)/2/3.6 -> 0 | H6: =($F7-$F5)/2 -> 0 | I6: =SUM($E$4:$E6) -> 0 | J6: =I6-I5 -> 0 | K6: ='Vehicle Data'!$D$4*'WLTP Class 3'!$G6 -> 0 | L6: =('Vehicle Data'!$D$4*9.81)*'Vehicle Data'!$D$10 -> 138.66435 | M6: =(1/2)*1.225*'Vehicle Data'!$D$8*'Vehicle Data'!$D$9*'WLTP Class 3'!$E6^2 -> 0 | N6: =SUM(K6:M6) -> 138.66435 | O6: =IF($N6>0.0001, 0, 1) -> 0 | P6: =IF(G6<0.00001,0,$N6*$J6) -> 0 | Q6: =SUM($P$4:$P6) -> 0 | R6: =Q6/1000 -> 0 | S6: =IF($N6>0,0,$N6*$J6) -> 0 | T6: =S6*-1 -> 0 | U6: =T6/1000 -> 0 | V6: =SUM($S$4:$S6) -> 0 | W6: =V6*-1 -> 0 | X6: =W6/1000 -> 0 | Y6: =R6-X6 -> 0 | Z6: =$P6+$S6 -> 0 | AA6: =1/2*'Vehicle Data'!$D$4*$E6^2 -> 0 | AB6: =AA6/1000 -> 0 | AC6: =$R6/3600 -> 0 | AD6: =X6/3600 -> 0 | AE6: =AC6-AD6 -> 0 | AF6: =$X6*80% -> 0 | AG6: =IF($AJ6>0,$AJ6,0) -> 0 | AH6: =IF($AJ6<0,$AJ6,0) -> 0 | AI6: =AH6*-1 -> 0 | AJ6: =($E6*$N6)/1000 -> 0
B7: Low | C7: 3 | D7: 3 | E7: =(F7*1000)/3600 -> 0 | F7: 0 | G7: =($F8-$F6)/2/3.6 -> 0 | H7: =($F8-$F6)/2 -> 0 | I7: =SUM($E$4:$E7) -> 0 | J7: =I7-I6 -> 0 | K7: ='Vehicle Data'!$D$4*'WLTP Class 3'!$G7 -> 0 | L7: =('Vehicle Data'!$D$4*9.81)*'Vehicle Data'!$D$10 -> 138.66435 | M7: =(1/2)*1.225*'Vehicle Data'!$D$8*'Vehicle Data'!$D$9*'WLTP Class 3'!$E7^2 -> 0 | N7: =SUM(K7:M7) -> 138.66435 | O7: =IF($N7>0.0001, 0, 1) -> 0 | P7: =IF(G7<0.00001,0,$N7*$J7) -> 0 | Q7: =SUM($P$4:$P7) -> 0 | R7: =Q7/1000 -> 0 | S7: =IF($N7>0,0,$N7*$J7) -> 0 | T7: =S7*-1 -> 0 | U7: =T7/1000 -> 0 | V7: =SUM($S$4:$S7) -> 0 | W7: =V7*-1 -> 0 | X7: =W7/1000 -> 0 | Y7: =R7-X7 -> 0 | Z7: =$P7+$S7 -> 0 | AA7: =1/2*'Vehicle Data'!$D$4*$E7^2 -> 0 | AB7: =AA7/1000 -> 0 | AC7: =$R7/3600 -> 0 | AD7: =X7/3600 -> 0 | AE7: =AC7-AD7 -> 0 | AF7: =$X7*80% -> 0 | AG7: =IF($AJ7>0,$AJ7,0) -> 0 | AH7: =IF($AJ7<0,$AJ7,0) -> 0 | AI7: =AH7*-1 -> 0 | AJ7: =($E7*$N7)/1000 -> 0
B8: Low | C8: 4 | D8: 4 | E8: =(F8*1000)/3600 -> 0 | F8: 0 | G8: =($F9-$F7)/2/3.6 -> 0 | H8: =($F9-$F7)/2 -> 0 | I8: =SUM($E$4:$E8) -> 0 | J8: =I8-I7 -> 0 | K8: ='Vehicle Data'!$D$4*'WLTP Class 3'!$G8 -> 0 | L8: =('Vehicle Data'!$D$4*9.81)*'Vehicle Data'!$D$10 -> 138.66435 | M8: =(1/2)*1.225*'Vehicle Data'!$D$8*'Vehicle Data'!$D$9*'WLTP Class 3'!$E8^2 -> 0 | N8: =SUM(K8:M8) -> 138.66435 | O8: =IF($N8>0.0001, 0, 1) -> 0 | P8: =IF(G8<0.00001,0,$N8*$J8) -> 0 | Q8: =SUM($P$4:$P8) -> 0 | R8: =Q8/1000 -> 0 | S8: =IF($N8>0,0,$N8*$J8) -> 0 | T8: =S8*-1 -> 0 | U8: =T8/1000 -> 0 | V8: =SUM($S$4:$S8) -> 0 | W8: =V8*-1 -> 0 | X8: =W8/1000 -> 0 | Y8: =R8-X8 -> 0 | Z8: =$P8+$S8 -> 0 | AA8: =1/2*'Vehicle Data'!$D$4*$E8^2 -> 0 | AB8: =AA8/1000 -> 0 | AC8: =$R8/3600 -> 0 | AD8: =X8/3600 -> 0 | AE8: =AC8-AD8 -> 0 | AF8: =$X8*80% -> 0 | AG8: =IF($AJ8>0,$AJ8,0) -> 0 | AH8: =IF($AJ8<0,$AJ8,0) -> 0 | AI8: =AH8*-1 -> 0 | AJ8: =($E8*$N8)/1000 -> 0
B9: Low | C9: 5 | D9: 5 | E9: =(F9*1000)/3600 -> 0 | F9: 0 | G9: =($F10-$F8)/2/3.6 -> 0 | H9: =($F10-$F8)/2 -> 0 | I9: =SUM($E$4:$E9) -> 0 | J9: =I9-I8 -> 0 | K9: ='Vehicle Data'!$D$4*'WLTP Class 3'!$G9 -> 0 | L9: =('Vehicle Data'!$D$4*9.81)*'Vehicle Data'!$D$10 -> 138.66435 | M9: =(1/2)*1.225*'Vehicle Data'!$D$8*'Vehicle Data'!$D$9*'WLTP Class 3'!$E9^2 -> 0 | N9: =SUM(K9:M9) -> 138.66435 | O9: =IF($N9>0.0001, 0, 1) -> 0 | P9: =IF(G9<0.00001,0,$N9*$J9) -> 0 | Q9: =SUM($P$4:$P9) -> 0 | R9: =Q9/1000 -> 0 | S9: =IF($N9>0,0,$N9*$J9) -> 0 | T9: =S9*-1 -> 0 | U9: =T9/1000 -> 0 | V9: =SUM($S$4:$S9) -> 0 | W9: =V9*-1 -> 0 | X9: =W9/1000 -> 0 | Y9: =R9-X9 -> 0 | Z9: =$P9+$S9 -> 0 | AA9: =1/2*'Vehicle Data'!$D$4*$E9^2 -> 0 | AB9: =AA9/1000 -> 0 | AC9: =$R9/3600 -> 0 | AD9: =X9/3600 -> 0 | AE9: =AC9-AD9 -> 0 | AF9: =$X9*80% -> 0 | AG9: =IF($AJ9>0,$AJ9,0) -> 0 | AH9: =IF($AJ9<0,$AJ9,0) -> 0 | AI9: =AH9*-1 -> 0 | AJ9: =($E9*$N9)/1000 -> 0
B10: Low | C10: 6 | D10: 6 | E10: =(F10*1000)/3600 -> 0 | F10: 0 | G10: =($F11-$F9)/2/3.6 -> 0 | H10: =($F11-$F9)/2 -> 0 | I10: =SUM($E$4:$E10) -> 0 | J10: =I10-I9 -> 0 | K10: ='Vehicle Data'!$D$4*'WLTP Class 3'!$G10 -> 0 | L10: =('Vehicle Data'!$D$4*9.81)*'Vehicle Data'!$D$10 -> 138.66435 | M10: =(1/2)*1.225*'Vehicle Data'!$D$8*'Vehicle Data'!$D$9*'WLTP Class 3'!$E10^2 -> 0 | N10: =SUM(K10:M10) -> 138.66435 | O10: =IF($N10>0.0001, 0, 1) -> 0 | P10: =IF(G10<0.00001,0,$N10*$J10) -> 0 | Q10: =SUM($P$4:$P10) -> 0 | R10: =Q10/1000 -> 0 | S10: =IF($N10>0,0,$N10*$J10) -> 0 | T10: =S10*-1 -> 0 | U10: =T10/1000 -> 0 | V10: =SUM($S$4:$S10) -> 0 | W10: =V10*-1 -> 0 | X10: =W10/1000 -> 0 | Y10: =R10-X10 -> 0 | Z10: =$P10+$S10 -> 0 | AA10: =1/2*'Vehicle Data'!$D$4*$E10^2 -> 0 | AB10: =AA10/1000 -> 0 | AC10: =$R10/3600 -> 0 | AD10: =X10/3600 -> 0 | AE10: =AC10-AD10 -> 0 | AF10: =$X10*80% -> 0 | AG10: =IF($AJ10>0,$AJ10,0) -> 0 | AH10: =IF($AJ10<0,$AJ10,0) -> 0 | AI10: =AH10*-1 -> 0 | AJ10: =($E10*$N10)/1000 -> 0
B11: Low | C11: 7 | D11: 7 | E11: =(F11*1000)/3600 -> 0 | F11: 0 | G11: =($F12-$F10)/2/3.6 -> 0 | H11: =($F12-$F10)/2 -> 0 | I11: =SUM($E$4:$E11) -> 0 | J11: =I11-I10 -> 0 | K11: ='Vehicle Data'!$D$4*'WLTP Class 3'!$G11 -> 0 | L11: =('Vehicle Data'!$D$4*9.81)*'Vehicle Data'!$D$10 -> 138.66435 | M11: =(1/2)*1.225*'Vehicle Data'!$D$8*'Vehicle Data'!$D$9*'WLTP Class 3'!$E11^2 -> 0 | N11: =SUM(K11:M11) -> 138.66435 | O11: =IF($N11>0.0001, 0, 1) -> 0 | P11: =IF(G11<0.00001,0,$N11*$J11) -> 0 | Q11: =SUM($P$4:$P11) -> 0 | R11: =Q11/1000 -> 0 | S11: =IF($N11>0,0,$N11*$J11) -> 0 | T11: =S11*-1 -> 0 | U11: =T11/1000 -> 0 | V11: =SUM($S$4:$S11) -> 0 | W11: =V11*-1 -> 0 | X11: =W11/1000 -> 0 | Y11: =R11-X11 -> 0 | Z11: =$P11+$S11 -> 0 | AA11: =1/2*'Vehicle Data'!$D$4*$E11^2 -> 0 | AB11: =AA11/1000 -> 0 | AC11: =$R11/3600 -> 0 | AD11: =X11/3600 -> 0 | AE11: =AC11-AD11 -> 0 | AF11: =$X11*80% -> 0 | AG11: =IF($AJ11>0,$AJ11,0) -> 0 | AH11: =IF($AJ11<0,$AJ11,0) -> 0 | AI11: =AH11*-1 -> 0 | AJ11: =($E11*$N11)/1000 -> 0
B12: Low | C12: 8 | D12: 8 | E12: =(F12*1000)/3600 -> 0 | F12: 0 | G12: =($F13-$F11)/2/3.6 -> 0 | H12: =($F13-$F11)/2 -> 0 | I12: =SUM($E$4:$E12) -> 0 | J12: =I12-I11 -> 0 | K12: ='Vehicle Data'!$D$4*'WLTP Class 3'!$G12 -> 0 | L12: =('Vehicle Data'!$D$4*9.81)*'Vehicle Data'!$D$10 -> 138.66435 | M12: =(1/2)*1.225*'Vehicle Data'!$D$8*'Vehicle Data'!$D$9*'WLTP Class 3'!$E12^2 -> 0 | N12: =SUM(K12:M12) -> 138.66435 | O12: =IF($N12>0.0001, 0, 1) -> 0 | P12: =IF(G12<0.00001,0,$N12*$J12) -> 0 | Q12: =SUM($P$4:$P12) -> 0 | R12: =Q12/1000 -> 0 | S12: =IF($N12>0,0,$N12*$J12) -> 0 | T12: =S12*-1 -> 0 | U12: =T12/1000 -> 0 | V12: =SUM($S$4:$S12) -> 0 | W12: =V12*-1 -> 0 | X12: =W12/1000 -> 0 | Y12: =R12-X12 -> 0 | Z12: =$P12+$S12 -> 0 | AA12: =1/2*'Vehicle Data'!$D$4*$E12^2 -> 0 | AB12: =AA12/1000 -> 0 | AC12: =$R12/3600 -> 0 | AD12: =X12/3600 -> 0 | AE12: =AC12-AD12 -> 0 | AF12: =$X12*80% -> 0 | AG12: =IF($AJ12>0,$AJ12,0) -> 0 | AH12: =IF($AJ12<0,$AJ12,0) -> 0 | AI12: =AH12*-1 -> 0 | AJ12: =($E12*$N12)/1000 -> 0
B13: Low | C13: 9 | D13: 9 | E13: =(F13*1000)/3600 -> 0 | F13: 0 | G13: =($F14-$F12)/2/3.6 -> 0 | H13: =($F14-$F12)/2 -> 0 | I13: =SUM($E$4:$E13) -> 0 | J13: =I13-I12 -> 0 | K13: ='Vehicle Data'!$D$4*'WLTP Class 3'!$G13 -> 0 | L13: =('Vehicle Data'!$D$4*9.81)*'Vehicle Data'!$D$10 -> 138.66435 | M13: =(1/2)*1.225*'Vehicle Data'!$D$8*'Vehicle Data'!$D$9*'WLTP Class 3'!$E13^2 -> 0 | N13: =SUM(K13:M13) -> 138.66435 | O13: =IF($N13>0.0001, 0, 1) -> 0 | P13: =IF(G13<0.00001,0,$N13*$J13) -> 0 | Q13: =SUM($P$4:$P13) -> 0 | R13: =Q13/1000 -> 0 | S13: =IF($N13>0,0,$N13*$J13) -> 0 | T13: =S13*-1 -> 0 | U13: =T13/1000 -> 0 | V13: =SUM($S$4:$S13) -> 0 | W13: =V13*-1 -> 0 | X13: =W13/1000 -> 0 | Y13: =R13-X13 -> 0 | Z13: =$P13+$S13 -> 0 | AA13: =1/2*'Vehicle Data'!$D$4*$E13^2 -> 0 | AB13: =AA13/1000 -> 0 | AC13: =$R13/3600 -> 0 | AD13: =X13/3600 -> 0 | AE13: =AC13-AD13 -> 0 | AF13: =$X13*80% -> 0 | AG13: =IF($AJ13>0,$AJ13,0) -> 0 | AH13: =IF($AJ13<0,$AJ13,0) -> 0 | AI13: =AH13*-1 -> 0 | AJ13: =($E13*$N13)/1000 -> 0
B14: Low | C14: 10 | D14: 10 | E14: =(F14*1000)/3600 -> 0 | F14: 0 | G14: =($F15-$F13)/2/3.6 -> 0 | H14: =($F15-$F13)/2 -> 0 | I14: =SUM($E$4:$E14) -> 0 | J14: =I14-I13 -> 0 | K14: ='Vehicle Data'!$D$4*'WLTP Class 3'!$G14 -> 0 | L14: =('Vehicle Data'!$D$4*9.81)*'Vehicle Data'!$D$10 -> 138.66435 | M14: =(1/2)*1.225*'Vehicle Data'!$D$8*'Vehicle Data'!$D$9*'WLTP Class 3'!$E14^2 -> 0 | N14: =SUM(K14:M14) -> 138.66435 | O14: =IF($N14>0.0001, 0, 1) -> 0 | P14: =IF(G14<0.00001,0,$N14*$J14) -> 0 | Q14: =SUM($P$4:$P14) -> 0 | R14: =Q14/1000 -> 0 | S14: =IF($N14>0,0,$N14*$J14) -> 0 | T14: =S14*-1 -> 0 | U14: =T14/1000 -> 0 | V14: =SUM($S$4:$S14) -> 0 | W14: =V14*-1 -> 0 | X14: =W14/1000 -> 0 | Y14: =R14-X14 -> 0 | Z14: =$P14+$S14 -> 0 | AA14: =1/2*'Vehicle Data'!$D$4*$E14^2 -> 0 | AB14: =AA14/1000 -> 0 | AC14: =$R14/3600 -> 0 | AD14: =X14/3600 -> 0 | AE14: =AC14-AD14 -> 0 | AF14: =$X14*80% -> 0 | AG14: =IF($AJ14>0,$AJ14,0) -> 0 | AH14: =IF($AJ14<0,$AJ14,0) -> 0 | AI14: =AH14*-1 -> 0 | AJ14: =($E14*$N14)/1000 -> 0
B15: Low | C15: 11 | D15: 11 | E15: =(F15*1000)/3600 -> 0 | F15: 0 | G15: =($F16-$F14)/2/3.6 -> 0.027777778 | H15: =($F16-$F14)/2 -> 0.1 | I15: =SUM($E$4:$E15) -> 0 | J15: =I15-I14 -> 0 | K15: ='Vehicle Data'!$D$4*'WLTP Class 3'!$G15 -> 35.694444 | L15: =('Vehicle Data'!$D$4*9.81)*'Vehicle Data'!$D$10 -> 138.66435 | M15: =(1/2)*1.225*'Vehicle Data'!$D$8*'Vehicle Data'!$D$9*'WLTP Class 3'!$E15^2 -> 0 | N15: =SUM(K15:M15) -> 174.35879 | O15: =IF($N15>0.0001, 0, 1) -> 0 | P15: =IF(G15<0.00001,0,$N15*$J15) -> 0 | Q15: =SUM($P$4:$P15) -> 0 | R15: =Q15/1000 -> 0 | S15: =IF($N15>0,0,$N15*$J15) -> 0 | T15: =S15*-1 -> 0 | U15: =T15/1000 -> 0 | V15: =SUM($S$4:$S15) -> 0 | W15: =V15*-1 -> 0 | X15: =W15/1000 -> 0 | Y15: =R15-X15 -> 0 | Z15: =$P15+$S15 -> 0 | AA15: =1/2*'Vehicle Data'!$D$4*$E15^2 -> 0 | AB15: =AA15/1000 -> 0 | AC15: =$R15/3600 -> 0 | AD15: =X15/3600 -> 0 | AE15: =AC15-AD15 -> 0 | AF15: =$X15*80% -> 0 | AG15: =IF($AJ15>0,$AJ15,0) -> 0 | AH15: =IF($AJ15<0,$AJ15,0) -> 0 | AI15: =AH15*-1 -> 0 | AJ15: =($E15*$N15)/1000 -> 0
B16: Low | C16: 12 | D16: 12 | E16: =(F16*1000)/3600 -> 0.055555556 | F16: 0.2 | G16: =($F17-$F15)/2/3.6 -> 0.23611111 | H16: =($F17-$F15)/2 -> 0.85 | I16: =SUM($E$4:$E16) -> 0.055555556 | J16: =I16-I15 -> 0.055555556 | K16: ='Vehicle Data'!$D$4*'WLTP Class 3'!$G16 -> 303.40278 | L16: =('Vehicle Data'!$D$4*9.81)*'Vehicle Data'!$D$10 -> 138.66435 | M16: =(1/2)*1.225*'Vehicle Data'!$D$8*'Vehicle Data'!$D$9*'WLTP Class 3'!$E16^2 -> 0.0011115741 | N16: =SUM(K16:M16) -> 442.06824 | O16: =IF($N16>0.0001, 0, 1) -> 0 | P16: =IF(G16<0.00001,0,$N16*$J16) -> 24.559347 | Q16: =SUM($P$4:$P16) -> 24.559347 | R16: =Q16/1000 -> 0.024559347 | S16: =IF($N16>0,0,$N16*$J16) -> 0 | T16: =S16*-1 -> 0 | U16: =T16/1000 -> 0 | V16: =SUM($S$4:$S16) -> 0 | W16: =V16*-1 -> 0 | X16: =W16/1000 -> 0 | Y16: =R16-X16 -> 0.024559347 | Z16: =$P16+$S16 -> 24.559347 | AA16: =1/2*'Vehicle Data'!$D$4*$E16^2 -> 1.9830247 | AB16: =AA16/1000 -> 0.0019830247 | AC16: =$R16/3600 -> 6.8220407e-06 | AD16: =X16/3600 -> 0 | AE16: =AC16-AD16 -> 6.8220407e-06 | AF16: =$X16*80% -> 0 | AG16: =IF($AJ16>0,$AJ16,0) -> 0.024559347 | AH16: =IF($AJ16<0,$AJ16,0) -> 0 | AI16: =AH16*-1 -> 0 | AJ16: =($E16*$N16)/1000 -> 0.024559347
... B1804: Extra-high | C1804: 1800 | D1804: 323 | E1804: =(F1804*1000)/3600 -> 0 | F1804: 0 | G1804: =($F1805-$F1803)/2/3.6 -> 0 | H1804: =($F1805-$F1803)/2 -> 0 | I1804: =SUM($E$4:$E1804) -> 23262.389 | J1804: =I1804-I1803 -> 0 | K1804: ='Vehicle Data'!$D$4*'WLTP Class 3'!$G1804 -> 0 | L1804: =('Vehicle Data'!$D$4*9.81)*'Vehicle Data'!$D$10 -> 138.66435 | M1804: =(1/2)*1.225*'Vehicle Data'!$D$8*'Vehicle Data'!$D$9*'WLTP Class 3'!$E1804^2 -> 0 | N1804: =SUM(K1804:M1804) -> 138.66435 | O1804: =IF($N1804>0.0001, 0, 1) -> 0 | P1804: =IF(G1804<0.00001,0,$N1804*$J1804) -> 0 | Q1804: =SUM($P$4:$P1804) -> 8279819.1 | R1804: =Q1804/1000 -> 8279.8191 | S1804: =IF($N1804>0,0,$N1804*$J1804) -> 0 | T1804: =S1804*-1 -> 0 | U1804: =T1804/1000 -> 0 | V1804: =SUM($S$4:$S1804) -> -2566836.5 | W1804: =V1804*-1 -> 2566836.5 | X1804: =W1804/1000 -> 2566.8365 | Y1804: =R1804-X1804 -> 5712.9827 | Z1804: =$P1804+$S1804 -> 0 | AA1804: =1/2*'Vehicle Data'!$D$4*$E1804^2 -> 0 | AB1804: =AA1804/1000 -> 0 | AC1804: =$R1804/3600 -> 2.2999498 | AD1804: =X1804/3600 -> 0.71301013 | AE1804: =AC1804-AD1804 -> 1.5869396 | AF1804: =$X1804*80% -> 2053.4692 | AG1804: =IF($AJ1804>0,$AJ1804,0) -> 0 | AH1804: =IF($AJ1804<0,$AJ1804,0) -> 0 | AI1804: =AH1804*-1 -> 0 | AJ1804: =($E1804*$N1804)/1000 -> 0
M1805: =(1/2)*1.225*'Vehicle Data'!$D$8*'Vehicle Data'!$D$9*'WLTP Class 3'!$E1805^2 -> 0 | N1805: =SUM(K1805:M1805) -> 0 | O1805: =IF($N1805>0.0001, 0, 1) -> 1 | P1805: =IF(G1805<0.00001,0,$N1805*$J1805) -> 0 | Q1805: =SUM($P$4:$P1805) -> 8279819.1 | R1805: =Q1805/1000 -> 8279.8191 | S1805: =IF($N1805>0,0,$N1805*$J1805) -> 0 | T1805: =S1805*-1 -> 0 | U1805: =T1805/1000 -> 0 | V1805: =SUM($S$4:$S1805) -> -2566836.5 | W1805: =V1805*-1 -> 2566836.5 | X1805: =W1805/1000 -> 2566.8365 | Y1805: =R1805-X1805 -> 5712.9827 | Z1805: =$P1805+$S1805 -> 0 | AA1805: =1/2*'Vehicle Data'!$D$4*$E1805^2 -> 0 | AB1805: =AA1805/1000 -> 0 | AC1805: =$R1805/3600 -> 2.2999498 | AD1805: =X1805/3600 -> 0.71301013 | AE1805: =AC1805-AD1805 -> 1.5869396 | AF1805: =$X1805*80% -> 2053.4692 | AG1805: =IF($AJ1805>0,$AJ1805,0) -> 0 | AH1805: =IF($AJ1805<0,$AJ1805,0) -> 0 | AI1805: =AH1805*-1 -> 0 | AJ1805: =($E1805*$N1805)/1000 -> 0

Sheet Graphs

Sheet Vehicle Data
B2: 1996 BMW E36 316I
B3: Kerb Mass | D3: 1190 | E3: kg
B4: Test Mass | D4: 1285 | E4: kg (Kerb mass + Driver and Luggage
B5: Length | E5: m
B6: Height | E6: m
B7: Width | E7: m
B8: Estimated front area | D8: 1.96 | E8: m^2
B9: Estimated Drag coefficient | D9: 0.3 | E9: cd
B10: Coefficient of rolling resistance | D10: 0.011 | E10: Car tyres on Tarmac
