Workbook

Sheet Explanations
C1: This file contains the WLTC cycles for validation 2, based on the following preliminary vehicle classification:
C5: Class 3 | D5: ratio of rated power in W / kerb mass in kg > 34
C6: (version 5) | D6: The table with the speed trace is named "WLTC_class_3" and contains a low, a medium, a high and an extra high speed part.
D7: If v_max < 135 km/h, phase high is replaced by a repetition of phase low.
D9: If a vehicle with a ratio of rated power in W divided by kerb masin kg > 34, but close to this borderline cannot follow the WLTC class 3, version 5 speed trace
D10: it shall proceed at full throttle until the reference speed profile is reached again. This test shall be repeated at least 3 times. Additionally, the same vehicle can be tested
D11: with the WLTC, class 2 , version 1.4 driving cycle (3 tests), provided that all the other provisions of the WLTP are the same as before.
D14: kerb mass means the "unladen mass" as defined in ECE R83.
D15: v_max is the maximum speed of the vehicle as declared by the manufacturer (ECE R 68) and not any use restriction or safety based limitation.
D18: If a vehicle has a ratio of rated power in W divided by kerb mass in kg between 22 and 34, but close to the upper borderline, any additional tests with the WLTC, class 3, version 5 cycle are highly welcomed.

Sheet Data
B2: Volvo 940 Estate
B3: Engine | C3: 2.0l B200F | K3: Breaking Events (s) | L3: Amount
B5: 940 Charateristics | C5: Data | D5: Unit | K5: 29 | L5: 1
B6: Frontal Height | C6: 1.435 | D6: m | F6: Breaking Events | K6: 15 | L6: 2
B7: frontal Width | C7: 1.75 | D7: m | F7: Total Breaking Time | G7: =SUM(K5:K63) -> 452 | K7: 4 | L7: 3
B8: Frontal Area | C8: 2.10945 | D8: m^2 | F8: Breaking Events | G8: 59 | K8: 7 | L8: 4
B9: Coeffient rolling resistence | C9: 0.011 | F9: Average Breaking Event Period | G9: =G7/G8 -> 7.6610169 | K9: 5 | L9: 5
B10: Rolling Resistance | C10: =C12*C9*9.81 -> 156.4695 | K10: 3 | L10: 6
B11: Coeffiecent of Drag | C11: 0.35 | F11: Flywheel Efficiency | G11: % | K11: 7 | L11: 7
B12: Kerb Weight | C12: 1450 | D12: kg | F12: Flywheel Efficiency | G12: 95 | K12: 3 | L12: 8
B13: test mass for 1 person | C13: =1450+95 -> 1545 | D13: kg | F13: Output Gear Train Efficiency | G13: 95 | K13: 11 | L13: 9
B14: Hp | C14: 112 | F14: CVT Efficiency | G14: 85 | K14: 8 | L14: 10
B15: Power | C15: 83518.4 | D15: w | F15: Electrical Efficiency | G15: 90 | K15: 3 | L15: 11
B16: w / kerb | C16: =C15/C12 -> 57.598897 | F16: Overall Efficiency | G16: 68.8 | K16: 12 | L16: 12
B17: Max Speed | C17: 120 | D17: mph | K17: 5 | L17: 13
B18: max speed in kmh | C18: 193.121 | D18: kmh | K18: 15 | L18: 14
F19: Flyweel Data | G19: Data | H19: Unit | K19: 3 | L19: 15
F20: Mass | G20: 6 | H20: kg | K20: 2 | L20: 16
B21: Energy | D21: Unit | F21: Diameter | G21: 20 | H21: cm | K21: 4 | L21: 17
B22: Total Tractive | C22: =WLTC_class_3!P1810 -> 10092.158 | D22: kj | F22: Inertia | G22: =0.5*G20*((0.1)^2+(0.05)^2) -> 0.0375 | K22: 3 | L22: 18
B23: Total Breaking | C23: =WLTC_class_3!R1810*-1 -> 3078.1828 | D23: kj | F23: Usuable Energy | G23: =((0.5*G22*((2*PI()*G26/60)^2))*0.688)/1000 -> 509.27159 | H23: kj | K23: 13 | L23: 19
B24: Total Losses | C24: =C22-C23 -> 7013.9757 | D24: kj | F24: Max Power Output | G24: =G23/13 -> 39.174737 | H24: kw | I24: 13s discharge | K24: 17 | L24: 20
B25: Max Breaking | C25: =WLTC_class_3!S1810 -> 289.44435 | D25: kj | F25: Energy Captured per Breaking Event | G25: =((C25*1000)*(G16/100))/1000 -> 199.13771 | H25: kw | K25: 8 | L25: 21
B26: Recovered Energy | C26: 2124 | D26: kj | F26: Max Speed | G26: 60000 | H26: rpm | K26: 3 | L26: 22
F27: Flywheel Speed After One Event | G27: =((SQRT(2*(G25*1000)/G22))/2*PI()*60)/10 -> 30714.769 | H27: rpm | K27: 3 | L27: 23
F28: No. of Breaking Events to Fully Charge | G28: =G23/G25 -> 2.5573839 | I28: 3 Full Events | K28: 6 | L28: 24
K29: 5 | L29: 25
K30: 1 | L30: 26
K31: 3 | L31: 27
F32: Power Required | G32: =Data!C25/Data!G9 -> 37.781453 | H32: kw | K32: 11 | L32: 28
F33: Margin for Error Percentage | G33: =(G24-G32)/G32*100 -> 3.6877482 | H33: % | K33: 7 | L33: 29
F34: Power Required with Margin | G34: 39.174737 | H34: kw | K34: 12 | L34: 30
K35: 4 | L35: 31
K36: 5 | L36: 32
K37: 5 | L37: 33
K38: 8 | L38: 34
K39: 14 | L39: 35
K40: 4 | L40: 36
K41: 4 | L41: 37
K42: 11 | L42: 38
K43: 10 | L43: 39
K44: 9 | L44: 40
K45: 2 | L45: 41
K46: 3 | L46: 42
... K63: 13 | L63: 59

Sheet WLTC_class_3
B2: Class 3 vehicles: | C2: vehicles with a ratio of rated power in W / kerb mass in kg > 34
B6: Phase | C6: Total elapsed time | D6: Phase elapsed time | E6: WLTC class 3, version 5, vehicle speed | F6: WLTC class 3, version 5, vehicle speed | G6: WLTC class 3, version 5, acceleration | H6: WLTC class 3, version 5, acceleration | I6: Cumlative Distance | J6: Change in Distance | K6: Acceleration | L6: Roll | M6: Aero | N6: Total | O6: Total Energy Required | P6: Tractive energy | Q6: Cumalitive Tractive Energy | R6: braking energy | S6: Sum of Each Braking Event | T6: Cumalitive Braking | U6: Kinetic Energy | V6: Recoverable Energy | W6: Cumlative Energy | X6: Power | Y6: Total Power | Z6: Cumlative Total Power
B7: Phase | C7: s | E7: m/s | F7: km/h | G7: m/s² | H7: km/h/s | I7: m | J7: m | K7: N | L7: N | M7: N | N7: N | O7: Watts | P7: J | Q7: Kwh | R7: J | T7: Kwh | U7: Kj | V7: Kj | W7: Kwh | X7: Kw | Y7: Kw | Z7: Kw
B8: Low | C8: 0 | D8: 0 | E8: =F8*0.277778 -> 0 | F8: 0 | G8: =($F9-0)/2/3.6 -> 0 | H8: =($F9-0)/2 -> 0 | I8: 0 | J8: 0 | K8: =G8*1545 -> 0 | L8: 156.4695 | M8: =0.5*2.10945*1.29*0.35*WLTC_class_3!E8^2 -> 0 | N8: =M8+L8+K8 -> 156.4695 | O8: =((IF(P8>0,P8,R8))*E8)/1000 -> 0 | P8: =IF(G8<0.00001,0,N8*J8) -> 0 | Q8: 0 | R8: =IF(G8>0,0,N8*J8) -> 0 | T8: 0 | U8: =(0.5*1545*(E8)^2)/1000 -> 0 | V8: 0 | W8: 0 | X8: =(N8*E8)/1000 -> 0 | Y8: =X8+$M$1810 -> 20.904288 | Z8: 0
B9: Low | C9: 1 | D9: 1 | E9: =F9/3.6 -> 0 | F9: 0 | G9: =($F10-$F8)/2/3.6 -> 0 | H9: =($F10-$F8)/2 -> 0 | I9: =SUM(E$8:E9) -> 0 | J9: =I9-I8 -> 0 | K9: =G9*1545 -> 0 | L9: 156.4695 | M9: =0.5*2.10945*1.29*0.35*WLTC_class_3!E9^2 -> 0 | N9: =M9+L9+K9 -> 156.4695 | O9: =((IF(P9>0,P9,R9))*E9)/1000 -> 0 | P9: =IF(G9>0,N9*J9,0) -> 0 | Q9: =(SUM(P$8:P9))/3600000 -> 0 | R9: =IF(N9<0,J9*N9,0) -> 0 | T9: =(SUMIF(R$8:R9,"<0"))/3600000*-1 -> 0 | U9: =(0.5*1545*(E9^2-E8^2))/1000 -> 0 | V9: =R9*0.688 -> 0 | W9: =SUM(V$8:V9)/3600000*-1 -> 0 | X9: =(N9*E9)/1000 -> 0 | Y9: =X9+$M$1810 -> 20.904288 | Z9: =SUM(Y$8:Y9)/1000 -> 0.041808577
B10: Low | C10: 2 | D10: 2 | E10: =F10/3.6 -> 0 | F10: 0 | G10: =($F11-$F9)/2/3.6 -> 0 | H10: =($F11-$F9)/2 -> 0 | I10: =SUM(E$8:E10) -> 0 | J10: =I10-I9 -> 0 | K10: =G10*1545 -> 0 | L10: 156.4695 | M10: =0.5*2.10945*1.29*0.35*WLTC_class_3!E10^2 -> 0 | N10: =M10+L10+K10 -> 156.4695 | O10: =((IF(P10>0,P10,R10))*E10)/1000 -> 0 | P10: =IF(G10>0,N10*J10,0) -> 0 | Q10: =(SUM(P$8:P10))/3600000 -> 0 | R10: =IF(N10<0,J10*N10,0) -> 0 | T10: =(SUMIF(R$8:R10,"<0"))/3600000*-1 -> 0 | U10: =((0.5*1545*(E10^2-E9^2))/1000)*0.8 -> 0 | V10: =R10*0.688 -> 0 | W10: =SUM(V$8:V10)/3600000*-1 -> 0 | X10: =(N10*E10)/1000 -> 0 | Y10: =X10+$M$1810 -> 20.904288 | Z10: =SUM(Y$8:Y10)/1000 -> 0.062712865
B11: Low | C11: 3 | D11: 3 | E11: =F11/3.6 -> 0 | F11: 0 | G11: =($F12-$F10)/2/3.6 -> 0 | H11: =($F12-$F10)/2 -> 0 | I11: =SUM(E$8:E11) -> 0 | J11: =I11-I10 -> 0 | K11: =G11*1545 -> 0 | L11: 156.4695 | M11: =0.5*2.10945*1.29*0.35*WLTC_class_3!E11^2 -> 0 | N11: =M11+L11+K11 -> 156.4695 | O11: =((IF(P11>0,P11,R11))*E11)/1000 -> 0 | P11: =IF(G11>0,N11*J11,0) -> 0 | Q11: =(SUM(P$8:P11))/3600000 -> 0 | R11: =IF(N11<0,J11*N11,0) -> 0 | T11: =(SUMIF(R$8:R11,"<0"))/3600000*-1 -> 0 | U11: =((0.5*1545*(E11^2-E10^2))/1000)*0.8 -> 0 | V11: =R11*0.688 -> 0 | W11: =SUM(V$8:V11)/3600000*-1 -> 0 | X11: =(N11*E11)/1000 -> 0 | Y11: =X11+$M$1810 -> 20.904288 | Z11: =SUM(Y$8:Y11)/1000 -> 0.083617153
B12: Low | C12: 4 | D12: 4 | E12: =F12/3.6 -> 0 | F12: 0 | G12: =($F13-$F11)/2/3.6 -> 0 | H12: =($F13-$F11)/2 -> 0 | I12: =SUM(E$8:E12) -> 0 | J12: =I12-I11 -> 0 | K12: =G12*1545 -> 0 | L12: 156.4695 | M12: =0.5*2.10945*1.29*0.35*WLTC_class_3!E12^2 -> 0 | N12: =M12+L12+K12 -> 156.4695 | O12: =((IF(P12>0,P12,R12))*E12)/1000 -> 0 | P12: =IF(G12>0,N12*J12,0) -> 0 | Q12: =(SUM(P$8:P12))/3600000 -> 0 | R12: =IF(N12<0,J12*N12,0) -> 0 | T12: =(SUMIF(R$8:R12,"<0"))/3600000*-1 -> 0 | U12: =((0.5*1545*(E12^2-E11^2))/1000)*0.8 -> 0 | V12: =R12*0.688 -> 0 | W12: =SUM(V$8:V12)/3600000*-1 -> 0 | X12: =(N12*E12)/1000 -> 0 | Y12: =X12+$M$1810 -> 20.904288 | Z12: =SUM(Y$8:Y12)/1000 -> 0.10452144
B13: Low | C13: 5 | D13: 5 | E13: =F13/3.6 -> 0 | F13: 0 | G13: =($F14-$F12)/2/3.6 -> 0 | H13: =($F14-$F12)/2 -> 0 | I13: =SUM(E$8:E13) -> 0 | J13: =I13-I12 -> 0 | K13: =G13*1545 -> 0 | L13: 156.4695 | M13: =0.5*2.10945*1.29*0.35*WLTC_class_3!E13^2 -> 0 | N13: =M13+L13+K13 -> 156.4695 | O13: =((IF(P13>0,P13,R13))*E13)/1000 -> 0 | P13: =IF(G13>0,N13*J13,0) -> 0 | Q13: =(SUM(P$8:P13))/3600000 -> 0 | R13: =IF(N13<0,J13*N13,0) -> 0 | T13: =(SUMIF(R$8:R13,"<0"))/3600000*-1 -> 0 | U13: =((0.5*1545*(E13^2-E12^2))/1000)*0.8 -> 0 | V13: =R13*0.688 -> 0 | W13: =SUM(V$8:V13)/3600000*-1 -> 0 | X13: =(N13*E13)/1000 -> 0 | Y13: =X13+$M$1810 -> 20.904288 | Z13: =SUM(Y$8:Y13)/1000 -> 0.12542573
B14: Low | C14: 6 | D14: 6 | E14: =F14/3.6 -> 0 | F14: 0 | G14: =($F15-$F13)/2/3.6 -> 0 | H14: =($F15-$F13)/2 -> 0 | I14: =SUM(E$8:E14) -> 0 | J14: =I14-I13 -> 0 | K14: =G14*1545 -> 0 | L14: 156.4695 | M14: =0.5*2.10945*1.29*0.35*WLTC_class_3!E14^2 -> 0 | N14: =M14+L14+K14 -> 156.4695 | O14: =((IF(P14>0,P14,R14))*E14)/1000 -> 0 | P14: =IF(G14>0,N14*J14,0) -> 0 | Q14: =(SUM(P$8:P14))/3600000 -> 0 | R14: =IF(N14<0,J14*N14,0) -> 0 | T14: =(SUMIF(R$8:R14,"<0"))/3600000*-1 -> 0 | U14: =((0.5*1545*(E14^2-E13^2))/1000)*0.8 -> 0 | V14: =R14*0.688 -> 0 | W14: =SUM(V$8:V14)/3600000*-1 -> 0 | X14: =(N14*E14)/1000 -> 0 | Y14: =X14+$M$1810 -> 20.904288 | Z14: =SUM(Y$8:Y14)/1000 -> 0.14633002
B15: Low | C15: 7 | D15: 7 | E15: =F15/3.6 -> 0 | F15: 0 | G15: =($F16-$F14)/2/3.6 -> 0 | H15: =($F16-$F14)/2 -> 0 | I15: =SUM(E$8:E15) -> 0 | J15: =I15-I14 -> 0 | K15: =G15*1545 -> 0 | L15: 156.4695 | M15: =0.5*2.10945*1.29*0.35*WLTC_class_3!E15^2 -> 0 | N15: =M15+L15+K15 -> 156.4695 | O15: =((IF(P15>0,P15,R15))*E15)/1000 -> 0 | P15: =IF(G15>0,N15*J15,0) -> 0 | Q15: =(SUM(P$8:P15))/3600000 -> 0 | R15: =IF(N15<0,J15*N15,0) -> 0 | T15: =(SUMIF(R$8:R15,"<0"))/3600000*-1 -> 0 | U15: =((0.5*1545*(E15^2-E14^2))/1000)*0.8 -> 0 | V15: =R15*0.688 -> 0 | W15: =SUM(V$8:V15)/3600000*-1 -> 0 | X15: =(N15*E15)/1000 -> 0 | Y15: =X15+$M$1810 -> 20.904288 | Z15: =SUM(Y$8:Y15)/1000 -> 0.16723431
B16: Low | C16: 8 | D16: 8 | E16: =F16/3.6 -> 0 | F16: 0 | G16: =($F17-$F15)/2/3.6 -> 0 | H16: =($F17-$F15)/2 -> 0 | I16: =SUM(E$8:E16) -> 0 | J16: =I16-I15 -> 0 | K16: =G16*1545 -> 0 | L16: 156.4695 | M16: =0.5*2.10945*1.29*0.35*WLTC_class_3!E16^2 -> 0 | N16: =M16+L16+K16 -> 156.4695 | O16: =((IF(P16>0,P16,R16))*E16)/1000 -> 0 | P16: =IF(G16>0,N16*J16,0) -> 0 | Q16: =(SUM(P$8:P16))/3600000 -> 0 | R16: =IF(N16<0,J16*N16,0) -> 0 | T16: =(SUMIF(R$8:R16,"<0"))/3600000*-1 -> 0 | U16: =((0.5*1545*(E16^2-E15^2))/1000)*0.8 -> 0 | V16: =R16*0.688 -> 0 | W16: =SUM(V$8:V16)/3600000*-1 -> 0 | X16: =(N16*E16)/1000 -> 0 | Y16: =X16+$M$1810 -> 20.904288 | Z16: =SUM(Y$8:Y16)/1000 -> 0.18813859
B17: Low | C17: 9 | D17: 9 | E17: =F17/3.6 -> 0 | F17: 0 | G17: =($F18-$F16)/2/3.6 -> 0 | H17: =($F18-$F16)/2 -> 0 | I17: =SUM(E$8:E17) -> 0 | J17: =I17-I16 -> 0 | K17: =G17*1545 -> 0 | L17: 156.4695 | M17: =0.5*2.10945*1.29*0.35*WLTC_class_3!E17^2 -> 0 | N17: =M17+L17+K17 -> 156.4695 | O17: =((IF(P17>0,P17,R17))*E17)/1000 -> 0 | P17: =IF(G17>0,N17*J17,0) -> 0 | Q17: =(SUM(P$8:P17))/3600000 -> 0 | R17: =IF(N17<0,J17*N17,0) -> 0 | T17: =(SUMIF(R$8:R17,"<0"))/3600000*-1 -> 0 | U17: =((0.5*1545*(E17^2-E16^2))/1000)*0.8 -> 0 | V17: =R17*0.688 -> 0 | W17: =SUM(V$8:V17)/3600000*-1 -> 0 | X17: =(N17*E17)/1000 -> 0 | Y17: =X17+$M$1810 -> 20.904288 | Z17: =SUM(Y$8:Y17)/1000 -> 0.20904288
B18: Low | C18: 10 | D18: 10 | E18: =F18/3.6 -> 0 | F18: 0 | G18: =($F19-$F17)/2/3.6 -> 0 | H18: =($F19-$F17)/2 -> 0 | I18: =SUM(E$8:E18) -> 0 | J18: =I18-I17 -> 0 | K18: =G18*1545 -> 0 | L18: 156.4695 | M18: =0.5*2.10945*1.29*0.35*WLTC_class_3!E18^2 -> 0 | N18: =M18+L18+K18 -> 156.4695 | O18: =((IF(P18>0,P18,R18))*E18)/1000 -> 0 | P18: =IF(G18>0,N18*J18,0) -> 0 | Q18: =(SUM(P$8:P18))/3600000 -> 0 | R18: =IF(N18<0,J18*N18,0) -> 0 | T18: =(SUMIF(R$8:R18,"<0"))/3600000*-1 -> 0 | U18: =((0.5*1545*(E18^2-E17^2))/1000)*0.8 -> 0 | V18: =R18*0.688 -> 0 | W18: =SUM(V$8:V18)/3600000*-1 -> 0 | X18: =(N18*E18)/1000 -> 0 | Y18: =X18+$M$1810 -> 20.904288 | Z18: =SUM(Y$8:Y18)/1000 -> 0.22994717
B19: Low | C19: 11 | D19: 11 | E19: =F19/3.6 -> 0 | F19: 0 | G19: =($F20-$F18)/2/3.6 -> 0.027777778 | H19: =($F20-$F18)/2 -> 0.1 | I19: =SUM(E$8:E19) -> 0 | J19: =I19-I18 -> 0 | K19: =G19*1545 -> 42.916667 | L19: 156.4695 | M19: =0.5*2.10945*1.29*0.35*WLTC_class_3!E19^2 -> 0 | N19: =M19+L19+K19 -> 199.38617 | O19: =((IF(P19>0,P19,R19))*E19)/1000 -> 0 | P19: =IF(G19>0,N19*J19,0) -> 0 | Q19: =(SUM(P$8:P19))/3600000 -> 0 | R19: =IF(N19<0,J19*N19,0) -> 0 | T19: =(SUMIF(R$8:R19,"<0"))/3600000*-1 -> 0 | U19: =((0.5*1545*(E19^2-E18^2))/1000)*0.8 -> 0 | V19: =R19*0.688 -> 0 | W19: =SUM(V$8:V19)/3600000*-1 -> 0 | X19: =(N19*E19)/1000 -> 0 | Y19: =X19+$M$1810 -> 20.904288 | Z19: =SUM(Y$8:Y19)/1000 -> 0.25085146
B20: Low | C20: 12 | D20: 12 | E20: =F20/3.6 -> 0.055555556 | F20: 0.2 | G20: =($F21-$F19)/2/3.6 -> 0.23611111 | H20: =($F21-$F19)/2 -> 0.85 | I20: =SUM(E$8:E20) -> 0.055555556 | J20: =I20-I19 -> 0.055555556 | K20: =G20*1545 -> 364.79167 | L20: 156.4695 | M20: =0.5*2.10945*1.29*0.35*WLTC_class_3!E20^2 -> 0.0014697788 | N20: =M20+L20+K20 -> 521.26264 | O20: =((IF(P20>0,P20,R20))*E20)/1000 -> 0.0016088353 | P20: =IF(G20>0,N20*J20,0) -> 28.959035 | Q20: =(SUM(P$8:P20))/3600000 -> 8.0441765e-06 | R20: =IF(N20<0,J20*N20,0) -> 0 | T20: =(SUMIF(R$8:R20,"<0"))/3600000*-1 -> 0 | U20: =((0.5*1545*(E20^2-E19^2))/1000)*0.8 -> 0.0019074074 | V20: =R20*0.688 -> 0 | W20: =SUM(V$8:V20)/3600000*-1 -> 0 | X20: =(N20*E20)/1000 -> 0.028959035 | Y20: =X20+$M$1810 -> 20.933247 | Z20: =SUM(Y$8:Y20)/1000 -> 0.27178471
B21: Low | C21: 13 | D21: 13 | E21: =F21/3.6 -> 0.47222222 | F21: 1.7 | G21: =($F22-$F20)/2/3.6 -> 0.72222222 | H21: =($F22-$F20)/2 -> 2.6 | I21: =SUM(E$8:E21) -> 0.52777778 | J21: =I21-I20 -> 0.47222222 | K21: =G21*1545 -> 1115.8333 | L21: 156.4695 | M21: =0.5*2.10945*1.29*0.35*WLTC_class_3!E21^2 -> 0.10619152 | N21: =M21+L21+K21 -> 1272.409 | O21: =((IF(P21>0,P21,R21))*E21)/1000 -> 0.28373936 | P21: =IF(G21>0,N21*J21,0) -> 600.85982 | Q21: =(SUM(P$8:P21))/3600000 -> 0.00017494968 | R21: =IF(N21<0,J21*N21,0) -> 0 | T21: =(SUMIF(R$8:R21,"<0"))/3600000*-1 -> 0 | U21: =((0.5*1545*(E21^2-E20^2))/1000)*0.8 -> 0.13590278 | V21: =R21*0.688 -> 0 | W21: =SUM(V$8:V21)/3600000*-1 -> 0 | X21: =(N21*E21)/1000 -> 0.60085982 | Y21: =X21+$M$1810 -> 21.505148 | Z21: =SUM(Y$8:Y21)/1000 -> 0.29328985
... B43: Low | C43: 35 | D43: 35 | E43: =F43/3.6 -> 12.361111 | F43: 44.5 | G43: =($F44-$F42)/2/3.6 -> -0.027777778 | H43: =($F44-$F42)/2 -> -0.1 | I43: =SUM(E$8:E43) -> 185.86111 | J43: =I43-I42 -> 12.361111 | K43: =G43*1545 -> -42.916667 | L43: 156.4695 | M43: =0.5*2.10945*1.29*0.35*WLTC_class_3!E43^2 -> 72.763238 | N43: =M43+L43+K43 -> 186.31607 | O43: =((IF(P43>0,P43,R43))*E43)/1000 -> 0 | P43: =IF(G43>0,N43*J43,0) -> 0 | Q43: =(SUM(P$8:P43))/3600000 -> 0.042412147 | R43: =IF(N43<0,J43*N43,0) -> 0 | T43: =(SUMIF(R$8:R43,"<0"))/3600000*-1 -> 0 | U43: =((0.5*1545*(E43^2-E42^2))/1000)*0.8 -> 0.4239213 | V43: =R43*0.688 -> 0 | W43: =SUM(V$8:V43)/3600000*-1 -> 0 | X43: =(N43*E43)/1000 -> 2.3030737 | Y43: =X43+$M$1810 -> 23.207362 | Z43: =SUM(Y$8:Y43)/1000 -> 0.90754118
B44: Low | C44: 36 | D44: 36 | E44: =F44/3.6 -> 12.277778 | F44: 44.2 | G44: =($F45-$F43)/2/3.6 -> -0.25 | H44: =($F45-$F43)/2 -> -0.9 | I44: =SUM(E$8:E44) -> 198.13889 | J44: =I44-I43 -> 12.277778 | K44: =G44*1545 -> -386.25 | L44: 156.4695 | M44: =0.5*2.10945*1.29*0.35*WLTC_class_3!E44^2 -> 71.785467 | N44: =M44+L44+K44 -> -157.99503 | O44: =((IF(P44>0,P44,R44))*E44)/1000 -> -23.816776 | P44: =IF(G44>0,N44*J44,0) -> 0 | Q44: =(SUM(P$8:P44))/3600000 -> 0.042412147 | R44: =IF(N44<0,J44*N44,0) -> -1939.8279 | S44: =SUM(R44:R56) -> -76482.767 | T44: =(SUMIF(R$8:R44,"<0"))/3600000*-1 -> 0.00053884108 | U44: =((0.5*1545*(E44^2-E43^2))/1000)*0.8 -> -1.2689028 | V44: =R44*0.688 -> -1334.6016 | W44: =SUM(V$8:V44)/3600000*-1 -> 0.00037072267 | X44: =(N44*E44)/1000 -> -1.9398279 | Y44: =X44+$M$1810 -> 18.96446 | Z44: =SUM(Y$8:Y44)/1000 -> 0.92650564
B45: Low | C45: 37 | D45: 37 | E45: =F45/3.6 -> 11.861111 | F45: 42.7 | G45: =($F46-$F44)/2/3.6 -> -0.59722222 | H45: =($F46-$F44)/2 -> -2.15 | I45: =SUM(E$8:E45) -> 210 | J45: =I45-I44 -> 11.861111 | K45: =G45*1545 -> -922.70833 | L45: 156.4695 | M45: =0.5*2.10945*1.29*0.35*WLTC_class_3!E45^2 -> 66.995826 | N45: =M45+L45+K45 -> -699.24301 | O45: =((IF(P45>0,P45,R45))*E45)/1000 -> -98.373672 | P45: =IF(G45>0,N45*J45,0) -> 0 | Q45: =(SUM(P$8:P45))/3600000 -> 0.042412147 | R45: =IF(N45<0,J45*N45,0) -> -8293.799 | T45: =(SUMIF(R$8:R45,"<0"))/3600000*-1 -> 0.0028426741 | U45: =((0.5*1545*(E45^2-E44^2))/1000)*0.8 -> -6.2157639 | V45: =R45*0.688 -> -5706.1337 | W45: =SUM(V$8:V45)/3600000*-1 -> 0.0019557598 | X45: =(N45*E45)/1000 -> -8.293799 | Y45: =X45+$M$1810 -> 12.610489 | Z45: =SUM(Y$8:Y45)/1000 -> 0.93911613
B46: Low | C46: 38 | D46: 38 | E46: =F46/3.6 -> 11.083333 | F46: 39.9 | G46: =($F47-$F45)/2/3.6 -> -0.79166667 | H46: =($F47-$F45)/2 -> -2.85 | I46: =SUM(E$8:E46) -> 221.08333 | J46: =I46-I45 -> 11.083333 | K46: =G46*1545 -> -1223.125 | L46: 156.4695 | M46: =0.5*2.10945*1.29*0.35*WLTC_class_3!E46^2 -> 58.497564 | N46: =M46+L46+K46 -> -1008.1579 | O46: =((IF(P46>0,P46,R46))*E46)/1000 -> -123.8424 | P46: =IF(G46>0,N46*J46,0) -> 0 | Q46: =(SUM(P$8:P46))/3600000 -> 0.042412147 | R46: =IF(N46<0,J46*N46,0) -> -11173.75 | T46: =(SUMIF(R$8:R46,"<0"))/3600000*-1 -> 0.0059464937 | U46: =((0.5*1545*(E46^2-E45^2))/1000)*0.8 -> -11.02863 | V46: =R46*0.688 -> -7687.5403 | W46: =SUM(V$8:V46)/3600000*-1 -> 0.0040911877 | X46: =(N46*E46)/1000 -> -11.17375 | Y46: =X46+$M$1810 -> 9.7305378 | Z46: =SUM(Y$8:Y46)/1000 -> 0.94884667
B47: Low | C47: 39 | D47: 39 | E47: =F47/3.6 -> 10.277778 | F47: 37 | G47: =($F48-$F46)/2/3.6 -> -0.73611111 | H47: =($F48-$F46)/2 -> -2.65 | I47: =SUM(E$8:E47) -> 231.36111 | J47: =I47-I46 -> 10.277778 | K47: =G47*1545 -> -1137.2917 | L47: 156.4695 | M47: =0.5*2.10945*1.29*0.35*WLTC_class_3!E47^2 -> 50.30318 | N47: =M47+L47+K47 -> -930.51899 | O47: =((IF(P47>0,P47,R47))*E47)/1000 -> -98.293248 | P47: =IF(G47>0,N47*J47,0) -> 0 | Q47: =(SUM(P$8:P47))/3600000 -> 0.042412147 | R47: =IF(N47<0,J47*N47,0) -> -9563.6674 | T47: =(SUMIF(R$8:R47,"<0"))/3600000*-1 -> 0.008603068 | U47: =((0.5*1545*(E47^2-E46^2))/1000)*0.8 -> -10.634273 | V47: =R47*0.688 -> -6579.8031 | W47: =SUM(V$8:V47)/3600000*-1 -> 0.0059189108 | X47: =(N47*E47)/1000 -> -9.5636674 | Y47: =X47+$M$1810 -> 11.340621 | Z47: =SUM(Y$8:Y47)/1000 -> 0.96018729
B48: Low | C48: 40 | D48: 40 | E48: =F48/3.6 -> 9.6111111 | F48: 34.6 | G48: =($F49-$F47)/2/3.6 -> -0.65277778 | H48: =($F49-$F47)/2 -> -2.35 | I48: =SUM(E$8:E48) -> 240.97222 | J48: =I48-I47 -> 9.6111111 | K48: =G48*1545 -> -1008.5417 | L48: 156.4695 | M48: =0.5*2.10945*1.29*0.35*WLTC_class_3!E48^2 -> 43.98901 | N48: =M48+L48+K48 -> -808.08316 | O48: =((IF(P48>0,P48,R48))*E48)/1000 -> -74.645435 | P48: =IF(G48>0,N48*J48,0) -> 0 | Q48: =(SUM(P$8:P48))/3600000 -> 0.042412147 | R48: =IF(N48<0,J48*N48,0) -> -7766.577 | T48: =(SUMIF(R$8:R48,"<0"))/3600000*-1 -> 0.01076045 | U48: =((0.5*1545*(E48^2-E47^2))/1000)*0.8 -> -8.1942222 | V48: =R48*0.688 -> -5343.405 | W48: =SUM(V$8:V48)/3600000*-1 -> 0.0074031899 | X48: =(N48*E48)/1000 -> -7.766577 | Y48: =X48+$M$1810 -> 13.137711 | Z48: =SUM(Y$8:Y48)/1000 -> 0.973325
B49: Low | C49: 41 | D49: 41 | E49: =F49/3.6 -> 8.9722222 | F49: 32.3 | G49: =($F50-$F48)/2/3.6 -> -0.77777778 | H49: =($F50-$F48)/2 -> -2.8 | I49: =SUM(E$8:E49) -> 249.94444 | J49: =I49-I48 -> 8.9722222 | K49: =G49*1545 -> -1201.6667 | L49: 156.4695 | M49: =0.5*2.10945*1.29*0.35*WLTC_class_3!E49^2 -> 38.335139 | N49: =M49+L49+K49 -> -1006.862 | O49: =((IF(P49>0,P49,R49))*E49)/1000 -> -81.05317 | P49: =IF(G49>0,N49*J49,0) -> 0 | Q49: =(SUM(P$8:P49))/3600000 -> 0.042412147 | R49: =IF(N49<0,J49*N49,0) -> -9033.7899 | T49: =(SUMIF(R$8:R49,"<0"))/3600000*-1 -> 0.013269837 | U49: =((0.5*1545*(E49^2-E48^2))/1000)*0.8 -> -7.3373194 | V49: =R49*0.688 -> -6215.2474 | W49: =SUM(V$8:V49)/3600000*-1 -> 0.0091296475 | X49: =(N49*E49)/1000 -> -9.0337899 | Y49: =X49+$M$1810 -> 11.870498 | Z49: =SUM(Y$8:Y49)/1000 -> 0.9851955
B50: Low | C50: 42 | D50: 42 | E50: =F50/3.6 -> 8.0555556 | F50: 29 | G50: =($F51-$F49)/2/3.6 -> -1 | H50: =($F51-$F49)/2 -> -3.6 | I50: =SUM(E$8:E50) -> 258 | J50: =I50-I49 -> 8.0555556 | K50: =G50*1545 -> -1545 | L50: 156.4695 | M50: =0.5*2.10945*1.29*0.35*WLTC_class_3!E50^2 -> 30.9021 | N50: =M50+L50+K50 -> -1357.6284 | O50: =((IF(P50>0,P50,R50))*E50)/1000 -> -88.099189 | P50: =IF(G50>0,N50*J50,0) -> 0 | Q50: =(SUM(P$8:P50))/3600000 -> 0.042412147 | R50: =IF(N50<0,J50*N50,0) -> -10936.451 | T50: =(SUMIF(R$8:R50,"<0"))/3600000*-1 -> 0.01630774 | U50: =((0.5*1545*(E50^2-E49^2))/1000)*0.8 -> -9.6462361 | V50: =R50*0.688 -> -7524.2783 | W50: =SUM(V$8:V50)/3600000*-1 -> 0.011219725 | X50: =(N50*E50)/1000 -> -10.936451 | Y50: =X50+$M$1810 -> 9.9678373 | Z50: =SUM(Y$8:Y50)/1000 -> 0.99516333
B51: Low | C51: 43 | D51: 43 | E51: =F51/3.6 -> 6.9722222 | F51: 25.1 | G51: =($F52-$F50)/2/3.6 -> -0.94444444 | H51: =($F52-$F50)/2 -> -3.4 | I51: =SUM(E$8:E51) -> 264.97222 | J51: =I51-I50 -> 6.9722222 | K51: =G51*1545 -> -1459.1667 | L51: 156.4695 | M51: =0.5*2.10945*1.29*0.35*WLTC_class_3!E51^2 -> 23.149384 | N51: =M51+L51+K51 -> -1279.5478 | O51: =((IF(P51>0,P51,R51))*E51)/1000 -> -62.201227 | P51: =IF(G51>0,N51*J51,0) -> 0 | Q51: =(SUM(P$8:P51))/3600000 -> 0.042412147 | R51: =IF(N51<0,J51*N51,0) -> -8921.2915 | T51: =(SUMIF(R$8:R51,"<0"))/3600000*-1 -> 0.018785876 | U51: =((0.5*1545*(E51^2-E50^2))/1000)*0.8 -> -10.061097 | V51: =R51*0.688 -> -6137.8485 | W51: =SUM(V$8:V51)/3600000*-1 -> 0.012924683 | X51: =(N51*E51)/1000 -> -8.9212915 | Y51: =X51+$M$1810 -> 11.982997 | Z51: =SUM(Y$8:Y51)/1000 -> 1.0071463
B52: Low | C52: 44 | D52: 44 | E52: =F52/3.6 -> 6.1666667 | F52: 22.2 | G52: =($F53-$F51)/2/3.6 -> -0.58333333 | H52: =($F53-$F51)/2 -> -2.1 | I52: =SUM(E$8:E52) -> 271.13889 | J52: =I52-I51 -> 6.1666667 | K52: =G52*1545 -> -901.25 | L52: 156.4695 | M52: =0.5*2.10945*1.29*0.35*WLTC_class_3!E52^2 -> 18.109145 | N52: =M52+L52+K52 -> -726.67136 | O52: =((IF(P52>0,P52,R52))*E52)/1000 -> -27.633697 | P52: =IF(G52>0,N52*J52,0) -> 0 | Q52: =(SUM(P$8:P52))/3600000 -> 0.042412147 | R52: =IF(N52<0,J52*N52,0) -> -4481.14 | T52: =(SUMIF(R$8:R52,"<0"))/3600000*-1 -> 0.020030637 | U52: =((0.5*1545*(E52^2-E51^2))/1000)*0.8 -> -6.5409769 | V52: =R52*0.688 -> -3083.0243 | W52: =SUM(V$8:V52)/3600000*-1 -> 0.013781078 | X52: =(N52*E52)/1000 -> -4.48114 | Y52: =X52+$M$1810 -> 16.423148 | Z52: =SUM(Y$8:Y52)/1000 -> 1.0235695
B53: Low | C53: 45 | D53: 45 | E53: =F53/3.6 -> 5.8055556 | F53: 20.9 | G53: =($F54-$F52)/2/3.6 -> -0.25 | H53: =($F54-$F52)/2 -> -0.9 | I53: =SUM(E$8:E53) -> 276.94444 | J53: =I53-I52 -> 5.8055556 | K53: =G53*1545 -> -386.25 | L53: 156.4695 | M53: =0.5*2.10945*1.29*0.35*WLTC_class_3!E53^2 -> 16.050352 | N53: =M53+L53+K53 -> -213.73015 | O53: =((IF(P53>0,P53,R53))*E53)/1000 -> -7.2036625 | P53: =IF(G53>0,N53*J53,0) -> 0 | Q53: =(SUM(P$8:P53))/3600000 -> 0.042412147 | R53: =IF(N53<0,J53*N53,0) -> -1240.8222 | T53: =(SUMIF(R$8:R53,"<0"))/3600000*-1 -> 0.02037531 | U53: =((0.5*1545*(E53^2-E52^2))/1000)*0.8 -> -2.6718009 | V53: =R53*0.688 -> -853.68571 | W53: =SUM(V$8:V53)/3600000*-1 -> 0.014018213 | X53: =(N53*E53)/1000 -> -1.2408222 | Y53: =X53+$M$1810 -> 19.663466 | Z53: =SUM(Y$8:Y53)/1000 -> 1.0432329
B54: Low | C54: 46 | D54: 46 | E54: =F54/3.6 -> 5.6666667 | F54: 20.4 | G54: =($F55-$F53)/2/3.6 -> -0.19444444 | H54: =($F55-$F53)/2 -> -0.7 | I54: =SUM(E$8:E54) -> 282.61111 | J54: =I54-I53 -> 5.6666667 | K54: =G54*1545 -> -300.41667 | L54: 156.4695 | M54: =0.5*2.10945*1.29*0.35*WLTC_class_3!E54^2 -> 15.291579 | N54: =M54+L54+K54 -> -128.65559 | O54: =((IF(P54>0,P54,R54))*E54)/1000 -> -4.1312739 | P54: =IF(G54>0,N54*J54,0) -> 0 | Q54: =(SUM(P$8:P54))/3600000 -> 0.042412147 | R54: =IF(N54<0,J54*N54,0) -> -729.04833 | T54: =(SUMIF(R$8:R54,"<0"))/3600000*-1 -> 0.020577824 | U54: =((0.5*1545*(E54^2-E53^2))/1000)*0.8 -> -0.98469907 | V54: =R54*0.688 -> -501.58525 | W54: =SUM(V$8:V54)/3600000*-1 -> 0.014157543 | X54: =(N54*E54)/1000 -> -0.72904833 | Y54: =X54+$M$1810 -> 20.17524 | Z54: =SUM(Y$8:Y54)/1000 -> 1.0634082
B55: Low | C55: 47 | D55: 47 | E55: =F55/3.6 -> 5.4166667 | F55: 19.5 | G55: =($F56-$F54)/2/3.6 -> -0.27777778 | H55: =($F56-$F54)/2 -> -1 | I55: =SUM(E$8:E55) -> 288.02778 | J55: =I55-I54 -> 5.4166667 | K55: =G55*1545 -> -429.16667 | L55: 156.4695 | M55: =0.5*2.10945*1.29*0.35*WLTC_class_3!E55^2 -> 13.972085 | N55: =M55+L55+K55 -> -258.72508 | O55: =((IF(P55>0,P55,R55))*E55)/1000 -> -7.5910658 | P55: =IF(G55>0,N55*J55,0) -> 0 | Q55: =(SUM(P$8:P55))/3600000 -> 0.042412147 | R55: =IF(N55<0,J55*N55,0) -> -1401.4275 | T55: =(SUMIF(R$8:R55,"<0"))/3600000*-1 -> 0.020967109 | U55: =((0.5*1545*(E55^2-E54^2))/1000)*0.8 -> -1.712375 | V55: =R55*0.688 -> -964.18214 | W55: =SUM(V$8:V55)/3600000*-1 -> 0.014425371 | X55: =(N55*E55)/1000 -> -1.4014275 | Y55: =X55+$M$1810 -> 19.502861 | Z55: =SUM(Y$8:Y55)/1000 -> 1.082911
B56: Low | C56: 48 | D56: 48 | E56: =F56/3.6 -> 5.1111111 | F56: 18.4 | G56: =($F57-$F55)/2/3.6 -> -0.23611111 | H56: =($F57-$F55)/2 -> -0.85 | I56: =SUM(E$8:E56) -> 293.13889 | J56: =I56-I55 -> 5.1111111 | K56: =G56*1545 -> -364.79167 | L56: 156.4695 | M56: =0.5*2.10945*1.29*0.35*WLTC_class_3!E56^2 -> 12.440208 | N56: =M56+L56+K56 -> -195.88196 | O56: =((IF(P56>0,P56,R56))*E56)/1000 -> -5.1171139 | P56: =IF(G56>0,N56*J56,0) -> 0 | Q56: =(SUM(P$8:P56))/3600000 -> 0.042412147 | R56: =IF(N56<0,J56*N56,0) -> -1001.1745 | T56: =(SUMIF(R$8:R56,"<0"))/3600000*-1 -> 0.021245213 | U56: =((0.5*1545*(E56^2-E55^2))/1000)*0.8 -> -1.9879954 | V56: =R56*0.688 -> -688.80803 | W56: =SUM(V$8:V56)/3600000*-1 -> 0.014616707 | X56: =(N56*E56)/1000 -> -1.0011745 | Y56: =X56+$M$1810 -> 19.903114 | Z56: =SUM(Y$8:Y56)/1000 -> 1.1028142
... B58: Low | C58: 50 | D58: 50 | E58: =F58/3.6 -> 4.9444444 | F58: 17.8 | G58: =($F59-$F57)/2/3.6 -> -0.055555556 | H58: =($F59-$F57)/2 -> -0.2 | I58: =SUM(E$8:E58) -> 303.02778 | J58: =I58-I57 -> 4.9444444 | K58: =G58*1545 -> -85.833333 | L58: 156.4695 | M58: =0.5*2.10945*1.29*0.35*WLTC_class_3!E58^2 -> 11.642118 | N58: =M58+L58+K58 -> 82.278285 | O58: =((IF(P58>0,P58,R58))*E58)/1000 -> 0 | P58: =IF(G58>0,N58*J58,0) -> 0 | Q58: =(SUM(P$8:P58))/3600000 -> 0.042412147 | R58: =IF(N58<0,J58*N58,0) -> 0 | T58: =(SUMIF(R$8:R58,"<0"))/3600000*-1 -> 0.021245213 | U58: =((0.5*1545*(E58^2-E57^2))/1000)*0.8 -> 0 | V58: =R58*0.688 -> 0 | W58: =SUM(V$8:V58)/3600000*-1 -> 0.014616707 | X58: =(N58*E58)/1000 -> 0.40682041 | Y58: =X58+$M$1810 -> 21.311109 | Z58: =SUM(Y$8:Y58)/1000 -> 1.1452242
B59: Low | C59: 51 | D59: 51 | E59: =F59/3.6 -> 4.8333333 | F59: 17.4 | G59: =($F60-$F58)/2/3.6 -> -0.29166667 | H59: =($F60-$F58)/2 -> -1.05 | I59: =SUM(E$8:E59) -> 307.86111 | J59: =I59-I58 -> 4.8333333 | K59: =G59*1545 -> -450.625 | L59: 156.4695 | M59: =0.5*2.10945*1.29*0.35*WLTC_class_3!E59^2 -> 11.124756 | N59: =M59+L59+K59 -> -283.03074 | O59: =((IF(P59>0,P59,R59))*E59)/1000 -> -6.6119127 | P59: =IF(G59>0,N59*J59,0) -> 0 | Q59: =(SUM(P$8:P59))/3600000 -> 0.042412147 | R59: =IF(N59<0,J59*N59,0) -> -1367.9819 | S59: =SUM(R59:R62) -> -7138.2251 | T59: =(SUMIF(R$8:R59,"<0"))/3600000*-1 -> 0.021625208 | U59: =((0.5*1545*(E59^2-E58^2))/1000)*0.8 -> -0.67140741 | V59: =R59*0.688 -> -941.17157 | W59: =SUM(V$8:V59)/3600000*-1 -> 0.014878143 | X59: =(N59*E59)/1000 -> -1.3679819 | Y59: =X59+$M$1810 -> 19.536306 | Z59: =SUM(Y$8:Y59)/1000 -> 1.1647605
B60: Low | C60: 52 | D60: 52 | E60: =F60/3.6 -> 4.3611111 | F60: 15.7 | G60: =($F61-$F59)/2/3.6 -> -0.59722222 | H60: =($F61-$F59)/2 -> -2.15 | I60: =SUM(E$8:E60) -> 312.22222 | J60: =I60-I59 -> 4.3611111 | K60: =G60*1545 -> -922.70833 | L60: 156.4695 | M60: =0.5*2.10945*1.29*0.35*WLTC_class_3!E60^2 -> 9.0571445 | N60: =M60+L60+K60 -> -757.18169 | O60: =((IF(P60>0,P60,R60))*E60)/1000 -> -14.401058 | P60: =IF(G60>0,N60*J60,0) -> 0 | Q60: =(SUM(P$8:P60))/3600000 -> 0.042412147 | R60: =IF(N60<0,J60*N60,0) -> -3302.1535 | T60: =(SUMIF(R$8:R60,"<0"))/3600000*-1 -> 0.022542473 | U60: =((0.5*1545*(E60^2-E59^2))/1000)*0.8 -> -2.6832454 | V60: =R60*0.688 -> -2271.8816 | W60: =SUM(V$8:V60)/3600000*-1 -> 0.015509221 | X60: =(N60*E60)/1000 -> -3.3021535 | Y60: =X60+$M$1810 -> 17.602135 | Z60: =SUM(Y$8:Y60)/1000 -> 1.1823626
B61: Low | C61: 53 | D61: 53 | E61: =F61/3.6 -> 3.6388889 | F61: 13.1 | G61: =($F62-$F60)/2/3.6 -> -0.5 | H61: =($F62-$F60)/2 -> -1.8 | I61: =SUM(E$8:E61) -> 315.86111 | J61: =I61-I60 -> 3.6388889 | K61: =G61*1545 -> -772.5 | L61: 156.4695 | M61: =0.5*2.10945*1.29*0.35*WLTC_class_3!E61^2 -> 6.3057186 | N61: =M61+L61+K61 -> -609.72478 | O61: =((IF(P61>0,P61,R61))*E61)/1000 -> -8.0736782 | P61: =IF(G61>0,N61*J61,0) -> 0 | Q61: =(SUM(P$8:P61))/3600000 -> 0.042412147 | R61: =IF(N61<0,J61*N61,0) -> -2218.7207 | T61: =(SUMIF(R$8:R61,"<0"))/3600000*-1 -> 0.023158784 | U61: =((0.5*1545*(E61^2-E60^2))/1000)*0.8 -> -3.5706667 | V61: =R61*0.688 -> -1526.4799 | W61: =SUM(V$8:V61)/3600000*-1 -> 0.015933243 | X61: =(N61*E61)/1000 -> -2.2187207 | Y61: =X61+$M$1810 -> 18.685568 | Z61: =SUM(Y$8:Y61)/1000 -> 1.2010482
B62: Low | C62: 54 | D62: 54 | E62: =F62/3.6 -> 3.3611111 | F62: 12.1 | G62: =($F63-$F61)/2/3.6 -> -0.15277778 | H62: =($F63-$F61)/2 -> -0.55 | I62: =SUM(E$8:E62) -> 319.22222 | J62: =I62-I61 -> 3.3611111 | K62: =G62*1545 -> -236.04167 | L62: 156.4695 | M62: =0.5*2.10945*1.29*0.35*WLTC_class_3!E62^2 -> 5.3797579 | N62: =M62+L62+K62 -> -74.192409 | O62: =((IF(P62>0,P62,R62))*E62)/1000 -> -0.83815668 | P62: =IF(G62>0,N62*J62,0) -> 0 | Q62: =(SUM(P$8:P62))/3600000 -> 0.042412147 | R62: =IF(N62<0,J62*N62,0) -> -249.36893 | T62: =(SUMIF(R$8:R62,"<0"))/3600000*-1 -> 0.023228053 | U62: =((0.5*1545*(E62^2-E61^2))/1000)*0.8 -> -1.2016667 | V62: =R62*0.688 -> -171.56582 | W62: =SUM(V$8:V62)/3600000*-1 -> 0.015980901 | X62: =(N62*E62)/1000 -> -0.24936893 | Y62: =X62+$M$1810 -> 20.654919 | Z62: =SUM(Y$8:Y62)/1000 -> 1.2217031
B63: Low | C63: 55 | D63: 55 | E63: =F63/3.6 -> 3.3333333 | F63: 12 | G63: =($F64-$F62)/2/3.6 -> -0.013888889 | H63: =($F64-$F62)/2 -> -0.05 | I63: =SUM(E$8:E63) -> 322.55556 | J63: =I63-I62 -> 3.3333333 | K63: =G63*1545 -> -21.458333 | L63: 156.4695 | M63: =0.5*2.10945*1.29*0.35*WLTC_class_3!E63^2 -> 5.2912037 | N63: =M63+L63+K63 -> 140.30237 | O63: =((IF(P63>0,P63,R63))*E63)/1000 -> 0 | P63: =IF(G63>0,N63*J63,0) -> 0 | Q63: =(SUM(P$8:P63))/3600000 -> 0.042412147 | R63: =IF(N63<0,J63*N63,0) -> 0 | T63: =(SUMIF(R$8:R63,"<0"))/3600000*-1 -> 0.023228053 | U63: =((0.5*1545*(E63^2-E62^2))/1000)*0.8 -> -0.1149213 | V63: =R63*0.688 -> 0 | W63: =SUM(V$8:V63)/3600000*-1 -> 0.015980901 | X63: =(N63*E63)/1000 -> 0.46767457 | Y63: =X63+$M$1810 -> 21.371963 | Z63: =SUM(Y$8:Y63)/1000 -> 1.2430751
B64: Low | C64: 56 | D64: 56 | E64: =F64/3.6 -> 3.3333333 | F64: 12 | G64: =($F65-$F63)/2/3.6 -> 0 | H64: =($F65-$F63)/2 -> 0 | I64: =SUM(E$8:E64) -> 325.88889 | J64: =I64-I63 -> 3.3333333 | K64: =G64*1545 -> 0 | L64: 156.4695 | M64: =0.5*2.10945*1.29*0.35*WLTC_class_3!E64^2 -> 5.2912037 | N64: =M64+L64+K64 -> 161.7607 | O64: =((IF(P64>0,P64,R64))*E64)/1000 -> 0 | P64: =IF(G64>0,N64*J64,0) -> 0 | Q64: =(SUM(P$8:P64))/3600000 -> 0.042412147 | R64: =IF(N64<0,J64*N64,0) -> 0 | T64: =(SUMIF(R$8:R64,"<0"))/3600000*-1 -> 0.023228053 | U64: =((0.5*1545*(E64^2-E63^2))/1000)*0.8 -> 0 | V64: =R64*0.688 -> 0 | W64: =SUM(V$8:V64)/3600000*-1 -> 0.015980901 | X64: =(N64*E64)/1000 -> 0.53920235 | Y64: =X64+$M$1810 -> 21.443491 | Z64: =SUM(Y$8:Y64)/1000 -> 1.2645186
B65: Low | C65: 57 | D65: 57 | E65: =F65/3.6 -> 3.3333333 | F65: 12 | G65: =($F66-$F64)/2/3.6 -> 0.041666667 | H65: =($F66-$F64)/2 -> 0.15 | I65: =SUM(E$8:E65) -> 329.22222 | J65: =I65-I64 -> 3.3333333 | K65: =G65*1545 -> 64.375 | L65: 156.4695 | M65: =0.5*2.10945*1.29*0.35*WLTC_class_3!E65^2 -> 5.2912037 | N65: =M65+L65+K65 -> 226.1357 | O65: =((IF(P65>0,P65,R65))*E65)/1000 -> 2.5126189 | P65: =IF(G65>0,N65*J65,0) -> 753.78568 | Q65: =(SUM(P$8:P65))/3600000 -> 0.042621532 | R65: =IF(N65<0,J65*N65,0) -> 0 | T65: =(SUMIF(R$8:R65,"<0"))/3600000*-1 -> 0.023228053 | U65: =((0.5*1545*(E65^2-E64^2))/1000)*0.8 -> 0 | V65: =R65*0.688 -> 0 | W65: =SUM(V$8:V65)/3600000*-1 -> 0.015980901 | X65: =(N65*E65)/1000 -> 0.75378568 | Y65: =X65+$M$1810 -> 21.658074 | Z65: =SUM(Y$8:Y65)/1000 -> 1.2861766
B66: Low | C66: 58 | D66: 58 | E66: =F66/3.6 -> 3.4166667 | F66: 12.3 | G66: =($F67-$F65)/2/3.6 -> 0.083333333 | H66: =($F67-$F65)/2 -> 0.3 | I66: =SUM(E$8:E66) -> 332.63889 | J66: =I66-I65 -> 3.4166667 | K66: =G66*1545 -> 128.75 | L66: 156.4695 | M66: =0.5*2.10945*1.29*0.35*WLTC_class_3!E66^2 -> 5.5590709 | N66: =M66+L66+K66 -> 290.77857 | O66: =((IF(P66>0,P66,R66))*E66)/1000 -> 3.394436 | P66: =IF(G66>0,N66*J66,0) -> 993.49345 | Q66: =(SUM(P$8:P66))/3600000 -> 0.042897502 | R66: =IF(N66<0,J66*N66,0) -> 0 | T66: =(SUMIF(R$8:R66,"<0"))/3600000*-1 -> 0.023228053 | U66: =((0.5*1545*(E66^2-E65^2))/1000)*0.8 -> 0.347625 | V66: =R66*0.688 -> 0 | W66: =SUM(V$8:V66)/3600000*-1 -> 0.015980901 | X66: =(N66*E66)/1000 -> 0.99349345 | Y66: =X66+$M$1810 -> 21.897782 | Z66: =SUM(Y$8:Y66)/1000 -> 1.3080744
B67: Low | C67: 59 | D67: 59 | E67: =F67/3.6 -> 3.5 | F67: 12.6 | G67: =($F68-$F66)/2/3.6 -> 0.33333333 | H67: =($F68-$F66)/2 -> 1.2 | I67: =SUM(E$8:E67) -> 336.13889 | J67: =I67-I66 -> 3.5 | K67: =G67*1545 -> 515 | L67: 156.4695 | M67: =0.5*2.10945*1.29*0.35*WLTC_class_3!E67^2 -> 5.8335521 | N67: =M67+L67+K67 -> 677.30305 | O67: =((IF(P67>0,P67,R67))*E67)/1000 -> 8.2969624 | P67: =IF(G67>0,N67*J67,0) -> 2370.5607 | Q67: =(SUM(P$8:P67))/3600000 -> 0.043555991 | R67: =IF(N67<0,J67*N67,0) -> 0 | T67: =(SUMIF(R$8:R67,"<0"))/3600000*-1 -> 0.023228053 | U67: =((0.5*1545*(E67^2-E66^2))/1000)*0.8 -> 0.35620833 | V67: =R67*0.688 -> 0 | W67: =SUM(V$8:V67)/3600000*-1 -> 0.015980901 | X67: =(N67*E67)/1000 -> 2.3705607 | Y67: =X67+$M$1810 -> 23.274849 | Z67: =SUM(Y$8:Y67)/1000 -> 1.3313493
B68: Low | C68: 60 | D68: 60 | E68: =F68/3.6 -> 4.0833333 | F68: 14.7 | G68: =($F69-$F67)/2/3.6 -> 0.375 | H68: =($F69-$F67)/2 -> 1.35 | I68: =SUM(E$8:E68) -> 340.22222 | J68: =I68-I67 -> 4.0833333 | K68: =G68*1545 -> 579.375 | L68: 156.4695 | M68: =0.5*2.10945*1.29*0.35*WLTC_class_3!E68^2 -> 7.9401126 | N68: =M68+L68+K68 -> 743.78461 | O68: =((IF(P68>0,P68,R68))*E68)/1000 -> 12.401575 | P68: =IF(G68>0,N68*J68,0) -> 3037.1205 | Q68: =(SUM(P$8:P68))/3600000 -> 0.044399636 | R68: =IF(N68<0,J68*N68,0) -> 0 | T68: =(SUMIF(R$8:R68,"<0"))/3600000*-1 -> 0.023228053 | U68: =((0.5*1545*(E68^2-E67^2))/1000)*0.8 -> 2.7337917 | V68: =R68*0.688 -> 0 | W68: =SUM(V$8:V68)/3600000*-1 -> 0.015980901 | X68: =(N68*E68)/1000 -> 3.0371205 | Y68: =X68+$M$1810 -> 23.941409 | Z68: =SUM(Y$8:Y68)/1000 -> 1.3552907
B69: Low | C69: 61 | D69: 61 | E69: =F69/3.6 -> 4.25 | F69: 15.3 | G69: =($F70-$F68)/2/3.6 -> 0.16666667 | H69: =($F70-$F68)/2 -> 0.6 | I69: =SUM(E$8:E69) -> 344.47222 | J69: =I69-I68 -> 4.25 | K69: =G69*1545 -> 257.5 | L69: 156.4695 | M69: =0.5*2.10945*1.29*0.35*WLTC_class_3!E69^2 -> 8.6015131 | N69: =M69+L69+K69 -> 422.57101 | O69: =((IF(P69>0,P69,R69))*E69)/1000 -> 7.6326889 | P69: =IF(G69>0,N69*J69,0) -> 1795.9268 | Q69: =(SUM(P$8:P69))/3600000 -> 0.044898504 | R69: =IF(N69<0,J69*N69,0) -> 0 | T69: =(SUMIF(R$8:R69,"<0"))/3600000*-1 -> 0.023228053 | U69: =((0.5*1545*(E69^2-E68^2))/1000)*0.8 -> 0.85833333 | V69: =R69*0.688 -> 0 | W69: =SUM(V$8:V69)/3600000*-1 -> 0.015980901 | X69: =(N69*E69)/1000 -> 1.7959268 | Y69: =X69+$M$1810 -> 22.700215 | Z69: =SUM(Y$8:Y69)/1000 -> 1.3779909
B70: Low | C70: 62 | D70: 62 | E70: =F70/3.6 -> 4.4166667 | F70: 15.9 | G70: =($F71-$F69)/2/3.6 -> 0.125 | H70: =($F71-$F69)/2 -> 0.45 | I70: =SUM(E$8:E70) -> 348.88889 | J70: =I70-I69 -> 4.4166667 | K70: =G70*1545 -> 193.125 | L70: 156.4695 | M70: =0.5*2.10945*1.29*0.35*WLTC_class_3!E70^2 -> 9.2893696 | N70: =M70+L70+K70 -> 358.88387 | O70: =((IF(P70>0,P70,R70))*E70)/1000 -> 7.0007277 | P70: =IF(G70>0,N70*J70,0) -> 1585.0704 | Q70: =(SUM(P$8:P70))/3600000 -> 0.045338802 | R70: =IF(N70<0,J70*N70,0) -> 0 | T70: =(SUMIF(R$8:R70,"<0"))/3600000*-1 -> 0.023228053 | U70: =((0.5*1545*(E70^2-E69^2))/1000)*0.8 -> 0.89266667 | V70: =R70*0.688 -> 0 | W70: =SUM(V$8:V70)/3600000*-1 -> 0.015980901 | X70: =(N70*E70)/1000 -> 1.5850704 | Y70: =X70+$M$1810 -> 22.489359 | Z70: =SUM(Y$8:Y70)/1000 -> 1.4004802
B71: Low | C71: 63 | D71: 63 | E71: =F71/3.6 -> 4.5 | F71: 16.2 | G71: =($F72-$F70)/2/3.6 -> 0.16666667 | H71: =($F72-$F70)/2 -> 0.6 | I71: =SUM(E$8:E71) -> 353.38889 | J71: =I71-I70 -> 4.5 | K71: =G71*1545 -> 257.5 | L71: 156.4695 | M71: =0.5*2.10945*1.29*0.35*WLTC_class_3!E71^2 -> 9.6432188 | N71: =M71+L71+K71 -> 423.61272 | O71: =((IF(P71>0,P71,R71))*E71)/1000 -> 8.5781576 | P71: =IF(G71>0,N71*J71,0) -> 1906.2572 | Q71: =(SUM(P$8:P71))/3600000 -> 0.045868318 | R71: =IF(N71<0,J71*N71,0) -> 0 | T71: =(SUMIF(R$8:R71,"<0"))/3600000*-1 -> 0.023228053 | U71: =((0.5*1545*(E71^2-E70^2))/1000)*0.8 -> 0.45920833 | V71: =R71*0.688 -> 0 | W71: =SUM(V$8:V71)/3600000*-1 -> 0.015980901 | X71: =(N71*E71)/1000 -> 1.9062572 | Y71: =X71+$M$1810 -> 22.810545 | Z71: =SUM(Y$8:Y71)/1000 -> 1.4232908
... B87: Low | C87: 79 | D87: 79 | E87: =F87/3.6 -> 10.972222 | F87: 39.5 | G87: =($F88-$F86)/2/3.6 -> -0.041666667 | H87: =($F88-$F86)/2 -> -0.15 | I87: =SUM(E$8:E87) -> 482.5 | J87: =I87-I86 -> 10.972222 | K87: =G87*1545 -> -64.375 | L87: 156.4695 | M87: =0.5*2.10945*1.29*0.35*WLTC_class_3!E87^2 -> 57.33056 | N87: =M87+L87+K87 -> 149.42506 | O87: =((IF(P87>0,P87,R87))*E87)/1000 -> 0 | P87: =IF(G87>0,N87*J87,0) -> 0 | Q87: =(SUM(P$8:P87))/3600000 -> 0.073330163 | R87: =IF(N87<0,J87*N87,0) -> 0 | T87: =(SUMIF(R$8:R87,"<0"))/3600000*-1 -> 0.023228053 | U87: =((0.5*1545*(E87^2-E86^2))/1000)*0.8 -> 0.75151852 | V87: =R87*0.688 -> 0 | W87: =SUM(V$8:V87)/3600000*-1 -> 0.015980901 | X87: =(N87*E87)/1000 -> 1.639525 | Y87: =X87+$M$1810 -> 22.543813 | Z87: =SUM(Y$8:Y87)/1000 -> 1.8582616
B88: Low | C88: 80 | D88: 80 | E88: =F88/3.6 -> 10.833333 | F88: 39 | G88: =($F89-$F87)/2/3.6 -> -0.13888889 | H88: =($F89-$F87)/2 -> -0.5 | I88: =SUM(E$8:E88) -> 493.33333 | J88: =I88-I87 -> 10.833333 | K88: =G88*1545 -> -214.58333 | L88: 156.4695 | M88: =0.5*2.10945*1.29*0.35*WLTC_class_3!E88^2 -> 55.88834 | N88: =M88+L88+K88 -> -2.2254937 | O88: =((IF(P88>0,P88,R88))*E88)/1000 -> -0.26118642 | P88: =IF(G88>0,N88*J88,0) -> 0 | Q88: =(SUM(P$8:P88))/3600000 -> 0.073330163 | R88: =IF(N88<0,J88*N88,0) -> -24.109515 | S88: =SUM(R88:R106) -> -66794.859 | T88: =(SUMIF(R$8:R88,"<0"))/3600000*-1 -> 0.02323475 | U88: =((0.5*1545*(E88^2-E87^2))/1000)*0.8 -> -1.8716435 | V88: =R88*0.688 -> -16.587347 | W88: =SUM(V$8:V88)/3600000*-1 -> 0.015985508 | X88: =(N88*E88)/1000 -> -0.024109515 | Y88: =X88+$M$1810 -> 20.880179 | Z88: =SUM(Y$8:Y88)/1000 -> 1.8791418
B89: Low | C89: 81 | D89: 81 | E89: =F89/3.6 -> 10.694444 | F89: 38.5 | G89: =($F90-$F88)/2/3.6 -> -0.23611111 | H89: =($F90-$F88)/2 -> -0.85 | I89: =SUM(E$8:E89) -> 504.02778 | J89: =I89-I88 -> 10.694444 | K89: =G89*1545 -> -364.79167 | L89: 156.4695 | M89: =0.5*2.10945*1.29*0.35*WLTC_class_3!E89^2 -> 54.464491 | N89: =M89+L89+K89 -> -153.85768 | O89: =((IF(P89>0,P89,R89))*E89)/1000 -> -17.596878 | P89: =IF(G89>0,N89*J89,0) -> 0 | Q89: =(SUM(P$8:P89))/3600000 -> 0.073330163 | R89: =IF(N89<0,J89*N89,0) -> -1645.4224 | T89: =(SUMIF(R$8:R89,"<0"))/3600000*-1 -> 0.023691812 | U89: =((0.5*1545*(E89^2-E88^2))/1000)*0.8 -> -1.8478009 | V89: =R89*0.688 -> -1132.0506 | W89: =SUM(V$8:V89)/3600000*-1 -> 0.016299967 | X89: =(N89*E89)/1000 -> -1.6454224 | Y89: =X89+$M$1810 -> 19.258866 | Z89: =SUM(Y$8:Y89)/1000 -> 1.8984006
B90: Low | C90: 82 | D90: 82 | E90: =F90/3.6 -> 10.361111 | F90: 37.3 | G90: =($F91-$F89)/2/3.6 -> -0.20833333 | H90: =($F91-$F89)/2 -> -0.75 | I90: =SUM(E$8:E90) -> 514.38889 | J90: =I90-I89 -> 10.361111 | K90: =G90*1545 -> -321.875 | L90: 156.4695 | M90: =0.5*2.10945*1.29*0.35*WLTC_class_3!E90^2 -> 51.122214 | N90: =M90+L90+K90 -> -114.28329 | O90: =((IF(P90>0,P90,R90))*E90)/1000 -> -12.268611 | P90: =IF(G90>0,N90*J90,0) -> 0 | Q90: =(SUM(P$8:P90))/3600000 -> 0.073330163 | R90: =IF(N90<0,J90*N90,0) -> -1184.1018 | T90: =(SUMIF(R$8:R90,"<0"))/3600000*-1 -> 0.024020729 | U90: =((0.5*1545*(E90^2-E89^2))/1000)*0.8 -> -4.3374444 | V90: =R90*0.688 -> -814.66205 | W90: =SUM(V$8:V90)/3600000*-1 -> 0.016526262 | X90: =(N90*E90)/1000 -> -1.1841018 | Y90: =X90+$M$1810 -> 19.720186 | Z90: =SUM(Y$8:Y90)/1000 -> 1.9181208
B91: Low | C91: 83 | D91: 83 | E91: =F91/3.6 -> 10.277778 | F91: 37 | G91: =($F92-$F90)/2/3.6 -> -0.083333333 | H91: =($F92-$F90)/2 -> -0.3 | I91: =SUM(E$8:E91) -> 524.66667 | J91: =I91-I90 -> 10.277778 | K91: =G91*1545 -> -128.75 | L91: 156.4695 | M91: =0.5*2.10945*1.29*0.35*WLTC_class_3!E91^2 -> 50.30318 | N91: =M91+L91+K91 -> 78.02268 | O91: =((IF(P91>0,P91,R91))*E91)/1000 -> 0 | P91: =IF(G91>0,N91*J91,0) -> 0 | Q91: =(SUM(P$8:P91))/3600000 -> 0.073330163 | R91: =IF(N91<0,J91*N91,0) -> 0 | T91: =(SUMIF(R$8:R91,"<0"))/3600000*-1 -> 0.024020729 | U91: =((0.5*1545*(E91^2-E90^2))/1000)*0.8 -> -1.0629028 | V91: =R91*0.688 -> 0 | W91: =SUM(V$8:V91)/3600000*-1 -> 0.016526262 | X91: =(N91*E91)/1000 -> 0.80189977 | Y91: =X91+$M$1810 -> 21.706188 | Z91: =SUM(Y$8:Y91)/1000 -> 1.939827
B92: Low | C92: 84 | D92: 84 | E92: =F92/3.6 -> 10.194444 | F92: 36.7 | G92: =($F93-$F91)/2/3.6 -> -0.15277778 | H92: =($F93-$F91)/2 -> -0.55 | I92: =SUM(E$8:E92) -> 534.86111 | J92: =I92-I91 -> 10.194444 | K92: =G92*1545 -> -236.04167 | L92: 156.4695 | M92: =0.5*2.10945*1.29*0.35*WLTC_class_3!E92^2 -> 49.49076 | N92: =M92+L92+K92 -> -30.081407 | O92: =((IF(P92>0,P92,R92))*E92)/1000 -> -3.1262613 | P92: =IF(G92>0,N92*J92,0) -> 0 | Q92: =(SUM(P$8:P92))/3600000 -> 0.073330163 | R92: =IF(N92<0,J92*N92,0) -> -306.66323 | T92: =(SUMIF(R$8:R92,"<0"))/3600000*-1 -> 0.024105914 | U92: =((0.5*1545*(E92^2-E91^2))/1000)*0.8 -> -1.0543194 | V92: =R92*0.688 -> -210.9843 | W92: =SUM(V$8:V92)/3600000*-1 -> 0.016584868 | X92: =(N92*E92)/1000 -> -0.30666323 | Y92: =X92+$M$1810 -> 20.597625 | Z92: =SUM(Y$8:Y92)/1000 -> 1.9604246
B93: Low | C93: 85 | D93: 85 | E93: =F93/3.6 -> 9.9722222 | F93: 35.9 | G93: =($F94-$F92)/2/3.6 -> -0.19444444 | H93: =($F94-$F92)/2 -> -0.7 | I93: =SUM(E$8:E93) -> 544.83333 | J93: =I93-I92 -> 9.9722222 | K93: =G93*1545 -> -300.41667 | L93: 156.4695 | M93: =0.5*2.10945*1.29*0.35*WLTC_class_3!E93^2 -> 47.356641 | N93: =M93+L93+K93 -> -96.590526 | O93: =((IF(P93>0,P93,R93))*E93)/1000 -> -9.6054657 | P93: =IF(G93>0,N93*J93,0) -> 0 | Q93: =(SUM(P$8:P93))/3600000 -> 0.073330163 | R93: =IF(N93<0,J93*N93,0) -> -963.22219 | T93: =(SUMIF(R$8:R93,"<0"))/3600000*-1 -> 0.024373475 | U93: =((0.5*1545*(E93^2-E92^2))/1000)*0.8 -> -2.7695556 | V93: =R93*0.688 -> -662.69686 | W93: =SUM(V$8:V93)/3600000*-1 -> 0.016768951 | X93: =(N93*E93)/1000 -> -0.96322219 | Y93: =X93+$M$1810 -> 19.941066 | Z93: =SUM(Y$8:Y93)/1000 -> 1.9803657
B94: Low | C94: 86 | D94: 86 | E94: =F94/3.6 -> 9.8055556 | F94: 35.3 | G94: =($F95-$F93)/2/3.6 -> -0.18055556 | H94: =($F95-$F93)/2 -> -0.65 | I94: =SUM(E$8:E94) -> 554.63889 | J94: =I94-I93 -> 9.8055556 | K94: =G94*1545 -> -278.95833 | L94: 156.4695 | M94: =0.5*2.10945*1.29*0.35*WLTC_class_3!E94^2 -> 45.786917 | N94: =M94+L94+K94 -> -76.701916 | O94: =((IF(P94>0,P94,R94))*E94)/1000 -> -7.3748064 | P94: =IF(G94>0,N94*J94,0) -> 0 | Q94: =(SUM(P$8:P94))/3600000 -> 0.073330163 | R94: =IF(N94<0,J94*N94,0) -> -752.1049 | T94: =(SUMIF(R$8:R94,"<0"))/3600000*-1 -> 0.024582393 | U94: =((0.5*1545*(E94^2-E93^2))/1000)*0.8 -> -2.0371111 | V94: =R94*0.688 -> -517.44817 | W94: =SUM(V$8:V94)/3600000*-1 -> 0.016912687 | X94: =(N94*E94)/1000 -> -0.7521049 | Y94: =X94+$M$1810 -> 20.152183 | Z94: =SUM(Y$8:Y94)/1000 -> 2.0005179
B95: Low | C95: 87 | D95: 87 | E95: =F95/3.6 -> 9.6111111 | F95: 34.6 | G95: =($F96-$F94)/2/3.6 -> -0.15277778 | H95: =($F96-$F94)/2 -> -0.55 | I95: =SUM(E$8:E95) -> 564.25 | J95: =I95-I94 -> 9.6111111 | K95: =G95*1545 -> -236.04167 | L95: 156.4695 | M95: =0.5*2.10945*1.29*0.35*WLTC_class_3!E95^2 -> 43.98901 | N95: =M95+L95+K95 -> -35.583156 | O95: =((IF(P95>0,P95,R95))*E95)/1000 -> -3.2869392 | P95: =IF(G95>0,N95*J95,0) -> 0 | Q95: =(SUM(P$8:P95))/3600000 -> 0.073330163 | R95: =IF(N95<0,J95*N95,0) -> -341.99367 | T95: =(SUMIF(R$8:R95,"<0"))/3600000*-1 -> 0.024677392 | U95: =((0.5*1545*(E95^2-E94^2))/1000)*0.8 -> -2.3332361 | V95: =R95*0.688 -> -235.29164 | W95: =SUM(V$8:V95)/3600000*-1 -> 0.016978045 | X95: =(N95*E95)/1000 -> -0.34199367 | Y95: =X95+$M$1810 -> 20.562295 | Z95: =SUM(Y$8:Y95)/1000 -> 2.0210802
B96: Low | C96: 88 | D96: 88 | E96: =F96/3.6 -> 9.5 | F96: 34.2 | G96: =($F97-$F95)/2/3.6 -> -0.375 | H96: =($F97-$F95)/2 -> -1.35 | I96: =SUM(E$8:E96) -> 573.75 | J96: =I96-I95 -> 9.5 | K96: =G96*1545 -> -579.375 | L96: 156.4695 | M96: =0.5*2.10945*1.29*0.35*WLTC_class_3!E96^2 -> 42.977802 | N96: =M96+L96+K96 -> -379.9277 | O96: =((IF(P96>0,P96,R96))*E96)/1000 -> -34.288475 | P96: =IF(G96>0,N96*J96,0) -> 0 | Q96: =(SUM(P$8:P96))/3600000 -> 0.073330163 | R96: =IF(N96<0,J96*N96,0) -> -3609.3131 | T96: =(SUMIF(R$8:R96,"<0"))/3600000*-1 -> 0.025679978 | U96: =((0.5*1545*(E96^2-E95^2))/1000)*0.8 -> -1.3122963 | V96: =R96*0.688 -> -2483.2074 | W96: =SUM(V$8:V96)/3600000*-1 -> 0.017667825 | X96: =(N96*E96)/1000 -> -3.6093131 | Y96: =X96+$M$1810 -> 17.294975 | Z96: =SUM(Y$8:Y96)/1000 -> 2.0383751
B97: Low | C97: 89 | D97: 89 | E97: =F97/3.6 -> 8.8611111 | F97: 31.9 | G97: =($F98-$F96)/2/3.6 -> -0.95833333 | H97: =($F98-$F96)/2 -> -3.45 | I97: =SUM(E$8:E97) -> 582.61111 | J97: =I97-I96 -> 8.8611111 | K97: =G97*1545 -> -1480.625 | L97: 156.4695 | M97: =0.5*2.10945*1.29*0.35*WLTC_class_3!E97^2 -> 37.391541 | N97: =M97+L97+K97 -> -1286.764 | O97: =((IF(P97>0,P97,R97))*E97)/1000 -> -101.03579 | P97: =IF(G97>0,N97*J97,0) -> 0 | Q97: =(SUM(P$8:P97))/3600000 -> 0.073330163 | R97: =IF(N97<0,J97*N97,0) -> -11402.158 | T97: =(SUMIF(R$8:R97,"<0"))/3600000*-1 -> 0.028847245 | U97: =((0.5*1545*(E97^2-E96^2))/1000)*0.8 -> -7.2495787 | V97: =R97*0.688 -> -7844.685 | W97: =SUM(V$8:V97)/3600000*-1 -> 0.019846904 | X97: =(N97*E97)/1000 -> -11.402158 | Y97: =X97+$M$1810 -> 9.5021298 | Z97: =SUM(Y$8:Y97)/1000 -> 2.0478773
B98: Low | C98: 90 | D98: 90 | E98: =F98/3.6 -> 7.5833333 | F98: 27.3 | G98: =($F99-$F97)/2/3.6 -> -1.375 | H98: =($F99-$F97)/2 -> -4.95 | I98: =SUM(E$8:E98) -> 590.19444 | J98: =I98-I97 -> 7.5833333 | K98: =G98*1545 -> -2124.375 | L98: 156.4695 | M98: =0.5*2.10945*1.29*0.35*WLTC_class_3!E98^2 -> 27.385286 | N98: =M98+L98+K98 -> -1940.5202 | O98: =((IF(P98>0,P98,R98))*E98)/1000 -> -111.59339 | P98: =IF(G98>0,N98*J98,0) -> 0 | Q98: =(SUM(P$8:P98))/3600000 -> 0.073330163 | R98: =IF(N98<0,J98*N98,0) -> -14715.612 | T98: =(SUMIF(R$8:R98,"<0"))/3600000*-1 -> 0.032934915 | U98: =((0.5*1545*(E98^2-E97^2))/1000)*0.8 -> -12.98563 | V98: =R98*0.688 -> -10124.341 | W98: =SUM(V$8:V98)/3600000*-1 -> 0.022659221 | X98: =(N98*E98)/1000 -> -14.715612 | Y98: =X98+$M$1810 -> 6.1886766 | Z98: =SUM(Y$8:Y98)/1000 -> 2.0540659
B99: Low | C99: 91 | D99: 91 | E99: =F99/3.6 -> 6.1111111 | F99: 22 | G99: =($F100-$F98)/2/3.6 -> -1.4305556 | H99: =($F100-$F98)/2 -> -5.15 | I99: =SUM(E$8:E99) -> 596.30556 | J99: =I99-I98 -> 6.1111111 | K99: =G99*1545 -> -2210.2083 | L99: 156.4695 | M99: =0.5*2.10945*1.29*0.35*WLTC_class_3!E99^2 -> 17.784324 | N99: =M99+L99+K99 -> -2035.9545 | O99: =((IF(P99>0,P99,R99))*E99)/1000 -> -76.034104 | P99: =IF(G99>0,N99*J99,0) -> 0 | Q99: =(SUM(P$8:P99))/3600000 -> 0.073330163 | R99: =IF(N99<0,J99*N99,0) -> -12441.944 | T99: =(SUMIF(R$8:R99,"<0"))/3600000*-1 -> 0.03639101 | U99: =((0.5*1545*(E99^2-E98^2))/1000)*0.8 -> -12.459662 | V99: =R99*0.688 -> -8560.0576 | W99: =SUM(V$8:V99)/3600000*-1 -> 0.025037015 | X99: =(N99*E99)/1000 -> -12.441944 | Y99: =X99+$M$1810 -> 8.462344 | Z99: =SUM(Y$8:Y99)/1000 -> 2.0625283
B100: Low | C100: 92 | D100: 92 | E100: =F100/3.6 -> 4.7222222 | F100: 17 | G100: =($F101-$F99)/2/3.6 -> -1.0833333 | H100: =($F101-$F99)/2 -> -3.9 | I100: =SUM(E$8:E100) -> 601.02778 | J100: =I100-I99 -> 4.7222222 | K100: =G100*1545 -> -1673.75 | L100: 156.4695 | M100: =0.5*2.10945*1.29*0.35*WLTC_class_3!E100^2 -> 10.619152 | N100: =M100+L100+K100 -> -1506.6613 | O100: =((IF(P100>0,P100,R100))*E100)/1000 -> -33.597618 | P100: =IF(G100>0,N100*J100,0) -> 0 | Q100: =(SUM(P$8:P100))/3600000 -> 0.073330163 | R100: =IF(N100<0,J100*N100,0) -> -7114.7897 | T100: =(SUMIF(R$8:R100,"<0"))/3600000*-1 -> 0.038367341 | U100: =((0.5*1545*(E100^2-E99^2))/1000)*0.8 -> -9.2986111 | V100: =R100*0.688 -> -4894.9753 | W100: =SUM(V$8:V100)/3600000*-1 -> 0.02639673 | X100: =(N100*E100)/1000 -> -7.1147897 | Y100: =X100+$M$1810 -> 13.789499 | Z100: =SUM(Y$8:Y100)/1000 -> 2.0763178
... B158: Low | C158: 150 | D158: 150 | E158: =F158/3.6 -> 8.2777778 | F158: 29.8 | G158: =($F159-$F157)/2/3.6 -> 0.027777778 | H158: =($F159-$F157)/2 -> 0.1 | I158: =SUM(E$8:E158) -> 678.16667 | J158: =I158-I157 -> 8.2777778 | K158: =G158*1545 -> 42.916667 | L158: 156.4695 | M158: =0.5*2.10945*1.29*0.35*WLTC_class_3!E158^2 -> 32.63056 | N158: =M158+L158+K158 -> 232.01673 | O158: =((IF(P158>0,P158,R158))*E158)/1000 -> 15.898158 | P158: =IF(G158>0,N158*J158,0) -> 1920.5829 | Q158: =(SUM(P$8:P158))/3600000 -> 0.090993555 | R158: =IF(N158<0,J158*N158,0) -> 0 | T158: =(SUMIF(R$8:R158,"<0"))/3600000*-1 -> 0.041782181 | U158: =((0.5*1545*(E158^2-E157^2))/1000)*0.8 -> 1.6880556 | V158: =R158*0.688 -> 0 | W158: =SUM(V$8:V158)/3600000*-1 -> 0.02874614 | X158: =(N158*E158)/1000 -> 1.9205829 | Y158: =X158+$M$1810 -> 22.824871 | Z158: =SUM(Y$8:Y158)/1000 -> 3.3400613
B159: Low | C159: 151 | D159: 151 | E159: =F159/3.6 -> 8.1666667 | F159: 29.4 | G159: =($F160-$F158)/2/3.6 -> -0.36111111 | H159: =($F160-$F158)/2 -> -1.3 | I159: =SUM(E$8:E159) -> 686.33333 | J159: =I159-I158 -> 8.1666667 | K159: =G159*1545 -> -557.91667 | L159: 156.4695 | M159: =0.5*2.10945*1.29*0.35*WLTC_class_3!E159^2 -> 31.760451 | N159: =M159+L159+K159 -> -369.68672 | O159: =((IF(P159>0,P159,R159))*E159)/1000 -> -24.65605 | P159: =IF(G159>0,N159*J159,0) -> 0 | Q159: =(SUM(P$8:P159))/3600000 -> 0.090993555 | R159: =IF(N159<0,J159*N159,0) -> -3019.1082 | S159: =SUM(R159:R163) -> -37277.462 | T159: =(SUMIF(R$8:R159,"<0"))/3600000*-1 -> 0.042620822 | U159: =((0.5*1545*(E159^2-E158^2))/1000)*0.8 -> -1.1291852 | V159: =R159*0.688 -> -2077.1464 | W159: =SUM(V$8:V159)/3600000*-1 -> 0.029323126 | X159: =(N159*E159)/1000 -> -3.0191082 | Y159: =X159+$M$1810 -> 17.88518 | Z159: =SUM(Y$8:Y159)/1000 -> 3.3579465
B160: Low | C160: 152 | D160: 152 | E160: =F160/3.6 -> 7.5555556 | F160: 27.2 | G160: =($F161-$F159)/2/3.6 -> -0.94444444 | H160: =($F161-$F159)/2 -> -3.4 | I160: =SUM(E$8:E160) -> 693.88889 | J160: =I160-I159 -> 7.5555556 | K160: =G160*1545 -> -1459.1667 | L160: 156.4695 | M160: =0.5*2.10945*1.29*0.35*WLTC_class_3!E160^2 -> 27.185029 | N160: =M160+L160+K160 -> -1275.5121 | O160: =((IF(P160>0,P160,R160))*E160)/1000 -> -72.814421 | P160: =IF(G160>0,N160*J160,0) -> 0 | Q160: =(SUM(P$8:P160))/3600000 -> 0.090993555 | R160: =IF(N160<0,J160*N160,0) -> -9637.2028 | T160: =(SUMIF(R$8:R160,"<0"))/3600000*-1 -> 0.045297823 | U160: =((0.5*1545*(E160^2-E159^2))/1000)*0.8 -> -5.9377593 | V160: =R160*0.688 -> -6630.3955 | W160: =SUM(V$8:V160)/3600000*-1 -> 0.031164902 | X160: =(N160*E160)/1000 -> -9.6372028 | Y160: =X160+$M$1810 -> 11.267085 | Z160: =SUM(Y$8:Y160)/1000 -> 3.3692136
B161: Low | C161: 153 | D161: 153 | E161: =F161/3.6 -> 6.2777778 | F161: 22.6 | G161: =($F162-$F160)/2/3.6 -> -1.375 | H161: =($F162-$F160)/2 -> -4.95 | I161: =SUM(E$8:E161) -> 700.16667 | J161: =I161-I160 -> 6.2777778 | K161: =G161*1545 -> -2124.375 | L161: 156.4695 | M161: =0.5*2.10945*1.29*0.35*WLTC_class_3!E161^2 -> 18.767606 | N161: =M161+L161+K161 -> -1949.1379 | O161: =((IF(P161>0,P161,R161))*E161)/1000 -> -76.816487 | P161: =IF(G161>0,N161*J161,0) -> 0 | Q161: =(SUM(P$8:P161))/3600000 -> 0.090993555 | R161: =IF(N161<0,J161*N161,0) -> -12236.255 | T161: =(SUMIF(R$8:R161,"<0"))/3600000*-1 -> 0.048696782 | U161: =((0.5*1545*(E161^2-E160^2))/1000)*0.8 -> -10.923722 | V161: =R161*0.688 -> -8418.5431 | W161: =SUM(V$8:V161)/3600000*-1 -> 0.033503386 | X161: =(N161*E161)/1000 -> -12.236255 | Y161: =X161+$M$1810 -> 8.6680337 | Z161: =SUM(Y$8:Y161)/1000 -> 3.3778816
B162: Low | C162: 154 | D162: 154 | E162: =F162/3.6 -> 4.8055556 | F162: 17.3 | G162: =($F163-$F161)/2/3.6 -> -1.2916667 | H162: =($F163-$F161)/2 -> -4.65 | I162: =SUM(E$8:E162) -> 704.97222 | J162: =I162-I161 -> 4.8055556 | K162: =G162*1545 -> -1995.625 | L162: 156.4695 | M162: =0.5*2.10945*1.29*0.35*WLTC_class_3!E162^2 -> 10.997253 | N162: =M162+L162+K162 -> -1828.1582 | O162: =((IF(P162>0,P162,R162))*E162)/1000 -> -42.218324 | P162: =IF(G162>0,N162*J162,0) -> 0 | Q162: =(SUM(P$8:P162))/3600000 -> 0.090993555 | R162: =IF(N162<0,J162*N162,0) -> -8785.316 | T162: =(SUMIF(R$8:R162,"<0"))/3600000*-1 -> 0.051137148 | U162: =((0.5*1545*(E162^2-E161^2))/1000)*0.8 -> -10.083986 | V162: =R162*0.688 -> -6044.2974 | W162: =SUM(V$8:V162)/3600000*-1 -> 0.035182358 | X162: =(N162*E162)/1000 -> -8.785316 | Y162: =X162+$M$1810 -> 12.118972 | Z162: =SUM(Y$8:Y162)/1000 -> 3.3900006
B163: Low | C163: 155 | D163: 155 | E163: =F163/3.6 -> 3.6944444 | F163: 13.3 | G163: =($F164-$F162)/2/3.6 -> -0.73611111 | H163: =($F164-$F162)/2 -> -2.65 | I163: =SUM(E$8:E163) -> 708.66667 | J163: =I163-I162 -> 3.6944444 | K163: =G163*1545 -> -1137.2917 | L163: 156.4695 | M163: =0.5*2.10945*1.29*0.35*WLTC_class_3!E163^2 -> 6.4997294 | N163: =M163+L163+K163 -> -974.32244 | O163: =((IF(P163>0,P163,R163))*E163)/1000 -> -13.298449 | P163: =IF(G163>0,N163*J163,0) -> 0 | Q163: =(SUM(P$8:P163))/3600000 -> 0.090993555 | R163: =IF(N163<0,J163*N163,0) -> -3599.5801 | T163: =(SUMIF(R$8:R163,"<0"))/3600000*-1 -> 0.052137031 | U163: =((0.5*1545*(E163^2-E162^2))/1000)*0.8 -> -5.8366667 | V163: =R163*0.688 -> -2476.5111 | W163: =SUM(V$8:V163)/3600000*-1 -> 0.035870278 | X163: =(N163*E163)/1000 -> -3.5995801 | Y163: =X163+$M$1810 -> 17.304708 | Z163: =SUM(Y$8:Y163)/1000 -> 3.4073053
B164: Low | C164: 156 | D164: 156 | E164: =F164/3.6 -> 3.3333333 | F164: 12 | G164: =($F165-$F163)/2/3.6 -> -0.097222222 | H164: =($F165-$F163)/2 -> -0.35 | I164: =SUM(E$8:E164) -> 712 | J164: =I164-I163 -> 3.3333333 | K164: =G164*1545 -> -150.20833 | L164: 156.4695 | M164: =0.5*2.10945*1.29*0.35*WLTC_class_3!E164^2 -> 5.2912037 | N164: =M164+L164+K164 -> 11.55237 | O164: =((IF(P164>0,P164,R164))*E164)/1000 -> 0 | P164: =IF(G164>0,N164*J164,0) -> 0 | Q164: =(SUM(P$8:P164))/3600000 -> 0.090993555 | R164: =IF(N164<0,J164*N164,0) -> 0 | T164: =(SUMIF(R$8:R164,"<0"))/3600000*-1 -> 0.052137031 | U164: =((0.5*1545*(E164^2-E163^2))/1000)*0.8 -> -1.5683657 | V164: =R164*0.688 -> 0 | W164: =SUM(V$8:V164)/3600000*-1 -> 0.035870278 | X164: =(N164*E164)/1000 -> 0.038507901 | Y164: =X164+$M$1810 -> 20.942796 | Z164: =SUM(Y$8:Y164)/1000 -> 3.4282481
B165: Low | C165: 157 | D165: 157 | E165: =F165/3.6 -> 3.5 | F165: 12.6 | G165: =($F166-$F164)/2/3.6 -> 0.29166667 | H165: =($F166-$F164)/2 -> 1.05 | I165: =SUM(E$8:E165) -> 715.5 | J165: =I165-I164 -> 3.5 | K165: =G165*1545 -> 450.625 | L165: 156.4695 | M165: =0.5*2.10945*1.29*0.35*WLTC_class_3!E165^2 -> 5.8335521 | N165: =M165+L165+K165 -> 612.92805 | O165: =((IF(P165>0,P165,R165))*E165)/1000 -> 7.5083686 | P165: =IF(G165>0,N165*J165,0) -> 2145.2482 | Q165: =(SUM(P$8:P165))/3600000 -> 0.091589457 | R165: =IF(N165<0,J165*N165,0) -> 0 | T165: =(SUMIF(R$8:R165,"<0"))/3600000*-1 -> 0.052137031 | U165: =((0.5*1545*(E165^2-E164^2))/1000)*0.8 -> 0.70383333 | V165: =R165*0.688 -> 0 | W165: =SUM(V$8:V165)/3600000*-1 -> 0.035870278 | X165: =(N165*E165)/1000 -> 2.1452482 | Y165: =X165+$M$1810 -> 23.049536 | Z165: =SUM(Y$8:Y165)/1000 -> 3.4512976
B166: Low | C166: 158 | D166: 158 | E166: =F166/3.6 -> 3.9166667 | F166: 14.1 | G166: =($F167-$F165)/2/3.6 -> 0.63888889 | H166: =($F167-$F165)/2 -> 2.3 | I166: =SUM(E$8:E166) -> 719.41667 | J166: =I166-I165 -> 3.9166667 | K166: =G166*1545 -> 987.08333 | L166: 156.4695 | M166: =0.5*2.10945*1.29*0.35*WLTC_class_3!E166^2 -> 7.3051682 | N166: =M166+L166+K166 -> 1150.858 | O166: =((IF(P166>0,P166,R166))*E166)/1000 -> 17.654481 | P166: =IF(G166>0,N166*J166,0) -> 4507.5272 | Q166: =(SUM(P$8:P166))/3600000 -> 0.092841548 | R166: =IF(N166<0,J166*N166,0) -> 0 | T166: =(SUMIF(R$8:R166,"<0"))/3600000*-1 -> 0.052137031 | U166: =((0.5*1545*(E166^2-E165^2))/1000)*0.8 -> 1.9097917 | V166: =R166*0.688 -> 0 | W166: =SUM(V$8:V166)/3600000*-1 -> 0.035870278 | X166: =(N166*E166)/1000 -> 4.5075272 | Y166: =X166+$M$1810 -> 25.411815 | Z166: =SUM(Y$8:Y166)/1000 -> 3.4767094
B167: Low | C167: 159 | D167: 159 | E167: =F167/3.6 -> 4.7777778 | F167: 17.2 | G167: =($F168-$F166)/2/3.6 -> 0.83333333 | H167: =($F168-$F166)/2 -> 3 | I167: =SUM(E$8:E167) -> 724.19444 | J167: =I167-I166 -> 4.7777778 | K167: =G167*1545 -> 1287.5 | L167: 156.4695 | M167: =0.5*2.10945*1.29*0.35*WLTC_class_3!E167^2 -> 10.870484 | N167: =M167+L167+K167 -> 1454.84 | O167: =((IF(P167>0,P167,R167))*E167)/1000 -> 33.209866 | P167: =IF(G167>0,N167*J167,0) -> 6950.9021 | Q167: =(SUM(P$8:P167))/3600000 -> 0.094772354 | R167: =IF(N167<0,J167*N167,0) -> 0 | T167: =(SUMIF(R$8:R167,"<0"))/3600000*-1 -> 0.052137031 | U167: =((0.5*1545*(E167^2-E166^2))/1000)*0.8 -> 4.6268935 | V167: =R167*0.688 -> 0 | W167: =SUM(V$8:V167)/3600000*-1 -> 0.035870278 | X167: =(N167*E167)/1000 -> 6.9509021 | Y167: =X167+$M$1810 -> 27.85519 | Z167: =SUM(Y$8:Y167)/1000 -> 3.5045646
B168: Low | C168: 160 | D168: 160 | E168: =F168/3.6 -> 5.5833333 | F168: 20.1 | G168: =($F169-$F167)/2/3.6 -> 0.86111111 | H168: =($F169-$F167)/2 -> 3.1 | I168: =SUM(E$8:E168) -> 729.77778 | J168: =I168-I167 -> 5.5833333 | K168: =G168*1545 -> 1330.4167 | L168: 156.4695 | M168: =0.5*2.10945*1.29*0.35*WLTC_class_3!E168^2 -> 14.845134 | N168: =M168+L168+K168 -> 1501.7313 | O168: =((IF(P168>0,P168,R168))*E168)/1000 -> 46.814388 | P168: =IF(G168>0,N168*J168,0) -> 8384.6664 | Q168: =(SUM(P$8:P168))/3600000 -> 0.097101428 | R168: =IF(N168<0,J168*N168,0) -> 0 | T168: =(SUMIF(R$8:R168,"<0"))/3600000*-1 -> 0.052137031 | U168: =((0.5*1545*(E168^2-E167^2))/1000)*0.8 -> 5.1581065 | V168: =R168*0.688 -> 0 | W168: =SUM(V$8:V168)/3600000*-1 -> 0.035870278 | X168: =(N168*E168)/1000 -> 8.3846664 | Y168: =X168+$M$1810 -> 29.288955 | Z168: =SUM(Y$8:Y168)/1000 -> 3.5338536
B169: Low | C169: 161 | D169: 161 | E169: =F169/3.6 -> 6.5 | F169: 23.4 | G169: =($F170-$F168)/2/3.6 -> 0.75 | H169: =($F170-$F168)/2 -> 2.7 | I169: =SUM(E$8:E169) -> 736.27778 | J169: =I169-I168 -> 6.5 | K169: =G169*1545 -> 1158.75 | L169: 156.4695 | M169: =0.5*2.10945*1.29*0.35*WLTC_class_3!E169^2 -> 20.119802 | N169: =M169+L169+K169 -> 1335.3393 | O169: =((IF(P169>0,P169,R169))*E169)/1000 -> 56.418086 | P169: =IF(G169>0,N169*J169,0) -> 8679.7055 | Q169: =(SUM(P$8:P169))/3600000 -> 0.099512457 | R169: =IF(N169<0,J169*N169,0) -> 0 | T169: =(SUMIF(R$8:R169,"<0"))/3600000*-1 -> 0.052137031 | U169: =((0.5*1545*(E169^2-E168^2))/1000)*0.8 -> 6.8452083 | V169: =R169*0.688 -> 0 | W169: =SUM(V$8:V169)/3600000*-1 -> 0.035870278 | X169: =(N169*E169)/1000 -> 8.6797055 | Y169: =X169+$M$1810 -> 29.583994 | Z169: =SUM(Y$8:Y169)/1000 -> 3.5634376
B170: Low | C170: 162 | D170: 162 | E170: =F170/3.6 -> 7.0833333 | F170: 25.5 | G170: =($F171-$F169)/2/3.6 -> 0.58333333 | H170: =($F171-$F169)/2 -> 2.1 | I170: =SUM(E$8:E170) -> 743.36111 | J170: =I170-I169 -> 7.0833333 | K170: =G170*1545 -> 901.25 | L170: 156.4695 | M170: =0.5*2.10945*1.29*0.35*WLTC_class_3!E170^2 -> 23.893092 | N170: =M170+L170+K170 -> 1081.6126 | O170: =((IF(P170>0,P170,R170))*E170)/1000 -> 54.26841 | P170: =IF(G170>0,N170*J170,0) -> 7661.4225 | Q170: =(SUM(P$8:P170))/3600000 -> 0.10164063 | R170: =IF(N170<0,J170*N170,0) -> 0 | T170: =(SUMIF(R$8:R170,"<0"))/3600000*-1 -> 0.052137031 | U170: =((0.5*1545*(E170^2-E169^2))/1000)*0.8 -> 4.8967917 | V170: =R170*0.688 -> 0 | W170: =SUM(V$8:V170)/3600000*-1 -> 0.035870278 | X170: =(N170*E170)/1000 -> 7.6614225 | Y170: =X170+$M$1810 -> 28.565711 | Z170: =SUM(Y$8:Y170)/1000 -> 3.5920033
B171: Low | C171: 163 | D171: 163 | E171: =F171/3.6 -> 7.6666667 | F171: 27.6 | G171: =($F172-$F170)/2/3.6 -> 0.55555556 | H171: =($F172-$F170)/2 -> 2 | I171: =SUM(E$8:E171) -> 751.02778 | J171: =I171-I170 -> 7.6666667 | K171: =G171*1545 -> 858.33333 | L171: 156.4695 | M171: =0.5*2.10945*1.29*0.35*WLTC_class_3!E171^2 -> 27.990468 | N171: =M171+L171+K171 -> 1042.7933 | O171: =((IF(P171>0,P171,R171))*E171)/1000 -> 61.293073 | P171: =IF(G171>0,N171*J171,0) -> 7994.7486 | Q171: =(SUM(P$8:P171))/3600000 -> 0.10386139 | R171: =IF(N171<0,J171*N171,0) -> 0 | T171: =(SUMIF(R$8:R171,"<0"))/3600000*-1 -> 0.052137031 | U171: =((0.5*1545*(E171^2-E170^2))/1000)*0.8 -> 5.317375 | V171: =R171*0.688 -> 0 | W171: =SUM(V$8:V171)/3600000*-1 -> 0.035870278 | X171: =(N171*E171)/1000 -> 7.9947486 | Y171: =X171+$M$1810 -> 28.899037 | Z171: =SUM(Y$8:Y171)/1000 -> 3.6209023
... B178: Low | C178: 170 | D178: 170 | E178: =F178/3.6 -> 10.555556 | F178: 38 | G178: =($F179-$F177)/2/3.6 -> 0.027777778 | H178: =($F179-$F177)/2 -> 0.1 | I178: =SUM(E$8:E178) -> 816.66667 | J178: =I178-I177 -> 10.555556 | K178: =G178*1545 -> 42.916667 | L178: 156.4695 | M178: =0.5*2.10945*1.29*0.35*WLTC_class_3!E178^2 -> 53.059015 | N178: =M178+L178+K178 -> 252.44518 | O178: =((IF(P178>0,P178,R178))*E178)/1000 -> 28.12738 | P178: =IF(G178>0,N178*J178,0) -> 2664.6991 | Q178: =(SUM(P$8:P178))/3600000 -> 0.11754541 | R178: =IF(N178<0,J178*N178,0) -> 0 | T178: =(SUMIF(R$8:R178,"<0"))/3600000*-1 -> 0.052137031 | U178: =((0.5*1545*(E178^2-E177^2))/1000)*0.8 -> 2.8687407 | V178: =R178*0.688 -> 0 | W178: =SUM(V$8:V178)/3600000*-1 -> 0.035870278 | X178: =(N178*E178)/1000 -> 2.6646991 | Y178: =X178+$M$1810 -> 23.568987 | Z178: =SUM(Y$8:Y178)/1000 -> 3.8164948
B179: Low | C179: 171 | D179: 171 | E179: =F179/3.6 -> 10.388889 | F179: 37.4 | G179: =($F180-$F178)/2/3.6 -> -0.40277778 | H179: =($F180-$F178)/2 -> -1.45 | I179: =SUM(E$8:E179) -> 827.05556 | J179: =I179-I178 -> 10.388889 | K179: =G179*1545 -> -622.29167 | L179: 156.4695 | M179: =0.5*2.10945*1.29*0.35*WLTC_class_3!E179^2 -> 51.396696 | N179: =M179+L179+K179 -> -414.42547 | O179: =((IF(P179>0,P179,R179))*E179)/1000 -> -44.728532 | P179: =IF(G179>0,N179*J179,0) -> 0 | Q179: =(SUM(P$8:P179))/3600000 -> 0.11754541 | R179: =IF(N179<0,J179*N179,0) -> -4305.4202 | S179: =SUM(R179:R183) -> -38436.993 | T179: =(SUMIF(R$8:R179,"<0"))/3600000*-1 -> 0.053332981 | U179: =((0.5*1545*(E179^2-E178^2))/1000)*0.8 -> -2.1572778 | V179: =R179*0.688 -> -2962.1291 | W179: =SUM(V$8:V179)/3600000*-1 -> 0.036693091 | X179: =(N179*E179)/1000 -> -4.3054202 | Y179: =X179+$M$1810 -> 16.598868 | Z179: =SUM(Y$8:Y179)/1000 -> 3.8330936
B180: Low | C180: 172 | D180: 172 | E180: =F180/3.6 -> 9.75 | F180: 35.1 | G180: =($F181-$F179)/2/3.6 -> -0.88888889 | H180: =($F181-$F179)/2 -> -3.2 | I180: =SUM(E$8:E180) -> 836.80556 | J180: =I180-I179 -> 9.75 | K180: =G180*1545 -> -1373.3333 | L180: 156.4695 | M180: =0.5*2.10945*1.29*0.35*WLTC_class_3!E180^2 -> 45.269555 | N180: =M180+L180+K180 -> -1171.5943 | O180: =((IF(P180>0,P180,R180))*E180)/1000 -> -111.37468 | P180: =IF(G180>0,N180*J180,0) -> 0 | Q180: =(SUM(P$8:P180))/3600000 -> 0.11754541 | R180: =IF(N180<0,J180*N180,0) -> -11423.044 | T180: =(SUMIF(R$8:R180,"<0"))/3600000*-1 -> 0.056506049 | U180: =((0.5*1545*(E180^2-E179^2))/1000)*0.8 -> -7.9515046 | V180: =R180*0.688 -> -7859.0544 | W180: =SUM(V$8:V180)/3600000*-1 -> 0.038876162 | X180: =(N180*E180)/1000 -> -11.423044 | Y180: =X180+$M$1810 -> 9.481244 | Z180: =SUM(Y$8:Y180)/1000 -> 3.8425749
B181: Low | C181: 173 | D181: 173 | E181: =F181/3.6 -> 8.6111111 | F181: 31 | G181: =($F182-$F180)/2/3.6 -> -1.1111111 | H181: =($F182-$F180)/2 -> -4 | I181: =SUM(E$8:E181) -> 845.41667 | J181: =I181-I180 -> 8.6111111 | K181: =G181*1545 -> -1716.6667 | L181: 156.4695 | M181: =0.5*2.10945*1.29*0.35*WLTC_class_3!E181^2 -> 35.311436 | N181: =M181+L181+K181 -> -1524.8857 | O181: =((IF(P181>0,P181,R181))*E181)/1000 -> -113.07216 | P181: =IF(G181>0,N181*J181,0) -> 0 | Q181: =(SUM(P$8:P181))/3600000 -> 0.11754541 | R181: =IF(N181<0,J181*N181,0) -> -13130.96 | T181: =(SUMIF(R$8:R181,"<0"))/3600000*-1 -> 0.060153538 | U181: =((0.5*1545*(E181^2-E180^2))/1000)*0.8 -> -12.923162 | V181: =R181*0.688 -> -9034.1008 | W181: =SUM(V$8:V181)/3600000*-1 -> 0.041385634 | X181: =(N181*E181)/1000 -> -13.13096 | Y181: =X181+$M$1810 -> 7.7733278 | Z181: =SUM(Y$8:Y181)/1000 -> 3.8503482
B182: Low | C182: 174 | D182: 174 | E182: =F182/3.6 -> 7.5277778 | F182: 27.1 | G182: =($F183-$F181)/2/3.6 -> -0.79166667 | H182: =($F183-$F181)/2 -> -2.85 | I182: =SUM(E$8:E182) -> 852.94444 | J182: =I182-I181 -> 7.5277778 | K182: =G182*1545 -> -1223.125 | L182: 156.4695 | M182: =0.5*2.10945*1.29*0.35*WLTC_class_3!E182^2 -> 26.985507 | N182: =M182+L182+K182 -> -1039.67 | O182: =((IF(P182>0,P182,R182))*E182)/1000 -> -58.915435 | P182: =IF(G182>0,N182*J182,0) -> 0 | Q182: =(SUM(P$8:P182))/3600000 -> 0.11754541 | R182: =IF(N182<0,J182*N182,0) -> -7826.4047 | T182: =(SUMIF(R$8:R182,"<0"))/3600000*-1 -> 0.06232754 | U182: =((0.5*1545*(E182^2-E181^2))/1000)*0.8 -> -10.804986 | V182: =R182*0.688 -> -5384.5664 | W182: =SUM(V$8:V182)/3600000*-1 -> 0.042881347 | X182: =(N182*E182)/1000 -> -7.8264047 | Y182: =X182+$M$1810 -> 13.077884 | Z182: =SUM(Y$8:Y182)/1000 -> 3.8634261
B183: Low | C183: 175 | D183: 175 | E183: =F183/3.6 -> 7.0277778 | F183: 25.3 | G183: =($F184-$F182)/2/3.6 -> -0.27777778 | H183: =($F184-$F182)/2 -> -1 | I183: =SUM(E$8:E183) -> 859.97222 | J183: =I183-I182 -> 7.0277778 | K183: =G183*1545 -> -429.16667 | L183: 156.4695 | M183: =0.5*2.10945*1.29*0.35*WLTC_class_3!E183^2 -> 23.519768 | N183: =M183+L183+K183 -> -249.1774 | O183: =((IF(P183>0,P183,R183))*E183)/1000 -> -12.306787 | P183: =IF(G183>0,N183*J183,0) -> 0 | Q183: =(SUM(P$8:P183))/3600000 -> 0.11754541 | R183: =IF(N183<0,J183*N183,0) -> -1751.1634 | T183: =(SUMIF(R$8:R183,"<0"))/3600000*-1 -> 0.062813974 | U183: =((0.5*1545*(E183^2-E182^2))/1000)*0.8 -> -4.4976667 | V183: =R183*0.688 -> -1204.8004 | W183: =SUM(V$8:V183)/3600000*-1 -> 0.043216014 | X183: =(N183*E183)/1000 -> -1.7511634 | Y183: =X183+$M$1810 -> 19.153125 | Z183: =SUM(Y$8:Y183)/1000 -> 3.8825792
B184: Low | C184: 176 | D184: 176 | E184: =F184/3.6 -> 6.9722222 | F184: 25.1 | G184: =($F185-$F183)/2/3.6 -> 0.083333333 | H184: =($F185-$F183)/2 -> 0.3 | I184: =SUM(E$8:E184) -> 866.94444 | J184: =I184-I183 -> 6.9722222 | K184: =G184*1545 -> 128.75 | L184: 156.4695 | M184: =0.5*2.10945*1.29*0.35*WLTC_class_3!E184^2 -> 23.149384 | N184: =M184+L184+K184 -> 308.36888 | O184: =((IF(P184>0,P184,R184))*E184)/1000 -> 14.990392 | P184: =IF(G184>0,N184*J184,0) -> 2150.0164 | Q184: =(SUM(P$8:P184))/3600000 -> 0.11814263 | R184: =IF(N184<0,J184*N184,0) -> 0 | T184: =(SUMIF(R$8:R184,"<0"))/3600000*-1 -> 0.062813974 | U184: =((0.5*1545*(E184^2-E183^2))/1000)*0.8 -> -0.48066667 | V184: =R184*0.688 -> 0 | W184: =SUM(V$8:V184)/3600000*-1 -> 0.043216014 | X184: =(N184*E184)/1000 -> 2.1500164 | Y184: =X184+$M$1810 -> 23.054305 | Z184: =SUM(Y$8:Y184)/1000 -> 3.9056335
B185: Low | C185: 177 | D185: 177 | E185: =F185/3.6 -> 7.1944444 | F185: 25.9 | G185: =($F186-$F184)/2/3.6 -> 0.375 | H185: =($F186-$F184)/2 -> 1.35 | I185: =SUM(E$8:E185) -> 874.13889 | J185: =I185-I184 -> 7.1944444 | K185: =G185*1545 -> 579.375 | L185: 156.4695 | M185: =0.5*2.10945*1.29*0.35*WLTC_class_3!E185^2 -> 24.648558 | N185: =M185+L185+K185 -> 760.49306 | O185: =((IF(P185>0,P185,R185))*E185)/1000 -> 39.363144 | P185: =IF(G185>0,N185*J185,0) -> 5471.3251 | Q185: =(SUM(P$8:P185))/3600000 -> 0.11966245 | R185: =IF(N185<0,J185*N185,0) -> 0 | T185: =(SUMIF(R$8:R185,"<0"))/3600000*-1 -> 0.062813974 | U185: =((0.5*1545*(E185^2-E184^2))/1000)*0.8 -> 1.9455556 | V185: =R185*0.688 -> 0 | W185: =SUM(V$8:V185)/3600000*-1 -> 0.043216014 | X185: =(N185*E185)/1000 -> 5.4713251 | Y185: =X185+$M$1810 -> 26.375613 | Z185: =SUM(Y$8:Y185)/1000 -> 3.9320091
B186: Low | C186: 178 | D186: 178 | E186: =F186/3.6 -> 7.7222222 | F186: 27.8 | G186: =($F187-$F185)/2/3.6 -> 0.45833333 | H186: =($F187-$F185)/2 -> 1.65 | I186: =SUM(E$8:E186) -> 881.86111 | J186: =I186-I185 -> 7.7222222 | K186: =G186*1545 -> 708.125 | L186: 156.4695 | M186: =0.5*2.10945*1.29*0.35*WLTC_class_3!E186^2 -> 28.397597 | N186: =M186+L186+K186 -> 892.9921 | O186: =((IF(P186>0,P186,R186))*E186)/1000 -> 53.251544 | P186: =IF(G186>0,N186*J186,0) -> 6895.8834 | Q186: =(SUM(P$8:P186))/3600000 -> 0.12157797 | R186: =IF(N186<0,J186*N186,0) -> 0 | T186: =(SUMIF(R$8:R186,"<0"))/3600000*-1 -> 0.062813974 | U186: =((0.5*1545*(E186^2-E185^2))/1000)*0.8 -> 4.8653194 | V186: =R186*0.688 -> 0 | W186: =SUM(V$8:V186)/3600000*-1 -> 0.043216014 | X186: =(N186*E186)/1000 -> 6.8958834 | Y186: =X186+$M$1810 -> 27.800172 | Z186: =SUM(Y$8:Y186)/1000 -> 3.9598093
B187: Low | C187: 179 | D187: 179 | E187: =F187/3.6 -> 8.1111111 | F187: 29.2 | G187: =($F188-$F186)/2/3.6 -> 0.25 | H187: =($F188-$F186)/2 -> 0.9 | I187: =SUM(E$8:E187) -> 889.97222 | J187: =I187-I186 -> 8.1111111 | K187: =G187*1545 -> 386.25 | L187: 156.4695 | M187: =0.5*2.10945*1.29*0.35*WLTC_class_3!E187^2 -> 31.329805 | N187: =M187+L187+K187 -> 574.04931 | O187: =((IF(P187>0,P187,R187))*E187)/1000 -> 37.766775 | P187: =IF(G187>0,N187*J187,0) -> 4656.1777 | Q187: =(SUM(P$8:P187))/3600000 -> 0.12287135 | R187: =IF(N187<0,J187*N187,0) -> 0 | T187: =(SUMIF(R$8:R187,"<0"))/3600000*-1 -> 0.062813974 | U187: =((0.5*1545*(E187^2-E186^2))/1000)*0.8 -> 3.8052778 | V187: =R187*0.688 -> 0 | W187: =SUM(V$8:V187)/3600000*-1 -> 0.043216014 | X187: =(N187*E187)/1000 -> 4.6561777 | Y187: =X187+$M$1810 -> 25.560466 | Z187: =SUM(Y$8:Y187)/1000 -> 3.9853698
B188: Low | C188: 180 | D188: 180 | E188: =F188/3.6 -> 8.2222222 | F188: 29.6 | G188: =($F189-$F187)/2/3.6 -> 0.041666667 | H188: =($F189-$F187)/2 -> 0.15 | I188: =SUM(E$8:E188) -> 898.19444 | J188: =I188-I187 -> 8.2222222 | K188: =G188*1545 -> 64.375 | L188: 156.4695 | M188: =0.5*2.10945*1.29*0.35*WLTC_class_3!E188^2 -> 32.194035 | N188: =M188+L188+K188 -> 253.03854 | O188: =((IF(P188>0,P188,R188))*E188)/1000 -> 17.106655 | P188: =IF(G188>0,N188*J188,0) -> 2080.5391 | Q188: =(SUM(P$8:P188))/3600000 -> 0.12344928 | R188: =IF(N188<0,J188*N188,0) -> 0 | T188: =(SUMIF(R$8:R188,"<0"))/3600000*-1 -> 0.062813974 | U188: =((0.5*1545*(E188^2-E187^2))/1000)*0.8 -> 1.1215556 | V188: =R188*0.688 -> 0 | W188: =SUM(V$8:V188)/3600000*-1 -> 0.043216014 | X188: =(N188*E188)/1000 -> 2.0805391 | Y188: =X188+$M$1810 -> 22.984827 | Z188: =SUM(Y$8:Y188)/1000 -> 4.0083546
B189: Low | C189: 181 | D189: 181 | E189: =F189/3.6 -> 8.1944444 | F189: 29.5 | G189: =($F190-$F188)/2/3.6 -> -0.055555556 | H189: =($F190-$F188)/2 -> -0.2 | I189: =SUM(E$8:E189) -> 906.38889 | J189: =I189-I188 -> 8.1944444 | K189: =G189*1545 -> -85.833333 | L189: 156.4695 | M189: =0.5*2.10945*1.29*0.35*WLTC_class_3!E189^2 -> 31.976875 | N189: =M189+L189+K189 -> 102.61304 | O189: =((IF(P189>0,P189,R189))*E189)/1000 -> 0 | P189: =IF(G189>0,N189*J189,0) -> 0 | Q189: =(SUM(P$8:P189))/3600000 -> 0.12344928 | R189: =IF(N189<0,J189*N189,0) -> 0 | T189: =(SUMIF(R$8:R189,"<0"))/3600000*-1 -> 0.062813974 | U189: =((0.5*1545*(E189^2-E188^2))/1000)*0.8 -> -0.28181944 | V189: =R189*0.688 -> 0 | W189: =SUM(V$8:V189)/3600000*-1 -> 0.043216014 | X189: =(N189*E189)/1000 -> 0.84085687 | Y189: =X189+$M$1810 -> 21.745145 | Z189: =SUM(Y$8:Y189)/1000 -> 4.0300997
B190: Low | C190: 182 | D190: 182 | E190: =F190/3.6 -> 8.1111111 | F190: 29.2 | G190: =($F191-$F189)/2/3.6 -> -0.16666667 | H190: =($F191-$F189)/2 -> -0.6 | I190: =SUM(E$8:E190) -> 914.5 | J190: =I190-I189 -> 8.1111111 | K190: =G190*1545 -> -257.5 | L190: 156.4695 | M190: =0.5*2.10945*1.29*0.35*WLTC_class_3!E190^2 -> 31.329805 | N190: =M190+L190+K190 -> -69.700695 | O190: =((IF(P190>0,P190,R190))*E190)/1000 -> -4.5856173 | P190: =IF(G190>0,N190*J190,0) -> 0 | Q190: =(SUM(P$8:P190))/3600000 -> 0.12344928 | R190: =IF(N190<0,J190*N190,0) -> -565.35008 | S190: =SUM(R190:R200) -> -30993.655 | T190: =(SUMIF(R$8:R190,"<0"))/3600000*-1 -> 0.062971015 | U190: =((0.5*1545*(E190^2-E189^2))/1000)*0.8 -> -0.83973611 | V190: =R190*0.688 -> -388.96085 | W190: =SUM(V$8:V190)/3600000*-1 -> 0.043324059 | X190: =(N190*E190)/1000 -> -0.56535008 | Y190: =X190+$M$1810 -> 20.338938 | Z190: =SUM(Y$8:Y190)/1000 -> 4.0504387
B191: Low | C191: 183 | D191: 183 | E191: =F191/3.6 -> 7.8611111 | F191: 28.3 | G191: =($F192-$F190)/2/3.6 -> -0.43055556 | H191: =($F192-$F190)/2 -> -1.55 | I191: =SUM(E$8:E191) -> 922.36111 | J191: =I191-I190 -> 7.8611111 | K191: =G191*1545 -> -665.20833 | L191: 156.4695 | M191: =0.5*2.10945*1.29*0.35*WLTC_class_3!E191^2 -> 29.428279 | N191: =M191+L191+K191 -> -479.31055 | O191: =((IF(P191>0,P191,R191))*E191)/1000 -> -29.619987 | P191: =IF(G191>0,N191*J191,0) -> 0 | Q191: =(SUM(P$8:P191))/3600000 -> 0.12344928 | R191: =IF(N191<0,J191*N191,0) -> -3767.9135 | T191: =(SUMIF(R$8:R191,"<0"))/3600000*-1 -> 0.064017658 | U191: =((0.5*1545*(E191^2-E190^2))/1000)*0.8 -> -2.4677083 | V191: =R191*0.688 -> -2592.3245 | W191: =SUM(V$8:V191)/3600000*-1 -> 0.044044149 | X191: =(N191*E191)/1000 -> -3.7679135 | Y191: =X191+$M$1810 -> 17.136375 | Z191: =SUM(Y$8:Y191)/1000 -> 4.0675751
B192: Low | C192: 184 | D192: 184 | E192: =F192/3.6 -> 7.25 | F192: 26.1 | G192: =($F193-$F191)/2/3.6 -> -0.65277778 | H192: =($F193-$F191)/2 -> -2.35 | I192: =SUM(E$8:E192) -> 929.61111 | J192: =I192-I191 -> 7.25 | K192: =G192*1545 -> -1008.5417 | L192: 156.4695 | M192: =0.5*2.10945*1.29*0.35*WLTC_class_3!E192^2 -> 25.030701 | N192: =M192+L192+K192 -> -827.04147 | O192: =((IF(P192>0,P192,R192))*E192)/1000 -> -43.471367 | P192: =IF(G192>0,N192*J192,0) -> 0 | Q192: =(SUM(P$8:P192))/3600000 -> 0.12344928 | R192: =IF(N192<0,J192*N192,0) -> -5996.0506 | T192: =(SUMIF(R$8:R192,"<0"))/3600000*-1 -> 0.065683228 | U192: =((0.5*1545*(E192^2-E191^2))/1000)*0.8 -> -5.706963 | V192: =R192*0.688 -> -4125.2828 | W192: =SUM(V$8:V192)/3600000*-1 -> 0.045190061 | X192: =(N192*E192)/1000 -> -5.9960506 | Y192: =X192+$M$1810 -> 14.908238 | Z192: =SUM(Y$8:Y192)/1000 -> 4.0824833
B193: Low | C193: 185 | D193: 185 | E193: =F193/3.6 -> 6.5555556 | F193: 23.6 | G193: =($F194-$F192)/2/3.6 -> -0.70833333 | H193: =($F194-$F192)/2 -> -2.55 | I193: =SUM(E$8:E193) -> 936.16667 | J193: =I193-I192 -> 6.5555556 | K193: =G193*1545 -> -1094.375 | L193: 156.4695 | M193: =0.5*2.10945*1.29*0.35*WLTC_class_3!E193^2 -> 20.4652 | N193: =M193+L193+K193 -> -917.4403 | O193: =((IF(P193>0,P193,R193))*E193)/1000 -> -39.42728 | P193: =IF(G193>0,N193*J193,0) -> 0 | Q193: =(SUM(P$8:P193))/3600000 -> 0.12344928 | R193: =IF(N193<0,J193*N193,0) -> -6014.3309 | T193: =(SUMIF(R$8:R193,"<0"))/3600000*-1 -> 0.067353875 | U193: =((0.5*1545*(E193^2-E192^2))/1000)*0.8 -> -5.9248843 | V193: =R193*0.688 -> -4137.8596 | W193: =SUM(V$8:V193)/3600000*-1 -> 0.046339466 | X193: =(N193*E193)/1000 -> -6.0143309 | Y193: =X193+$M$1810 -> 14.889957 | Z193: =SUM(Y$8:Y193)/1000 -> 4.0973733
B194: Low | C194: 186 | D194: 186 | E194: =F194/3.6 -> 5.8333333 | F194: 21 | G194: =($F195-$F193)/2/3.6 -> -0.65277778 | H194: =($F195-$F193)/2 -> -2.35 | I194: =SUM(E$8:E194) -> 942 | J194: =I194-I193 -> 5.8333333 | K194: =G194*1545 -> -1008.5417 | L194: 156.4695 | M194: =0.5*2.10945*1.29*0.35*WLTC_class_3!E194^2 -> 16.204311 | N194: =M194+L194+K194 -> -835.86786 | O194: =((IF(P194>0,P194,R194))*E194)/1000 -> -28.442726 | P194: =IF(G194>0,N194*J194,0) -> 0 | Q194: =(SUM(P$8:P194))/3600000 -> 0.12344928 | R194: =IF(N194<0,J194*N194,0) -> -4875.8958 | T194: =(SUMIF(R$8:R194,"<0"))/3600000*-1 -> 0.068708291 | U194: =((0.5*1545*(E194^2-E193^2))/1000)*0.8 -> -5.5295741 | V194: =R194*0.688 -> -3354.6163 | W194: =SUM(V$8:V194)/3600000*-1 -> 0.047271304 | X194: =(N194*E194)/1000 -> -4.8758958 | Y194: =X194+$M$1810 -> 16.028392 | Z194: =SUM(Y$8:Y194)/1000 -> 4.1134016
B195: Low | C195: 187 | D195: 187 | E195: =F195/3.6 -> 5.25 | F195: 18.9 | G195: =($F196-$F194)/2/3.6 -> -0.54166667 | H195: =($F196-$F194)/2 -> -1.95 | I195: =SUM(E$8:E195) -> 947.25 | J195: =I195-I194 -> 5.25 | K195: =G195*1545 -> -836.875 | L195: 156.4695 | M195: =0.5*2.10945*1.29*0.35*WLTC_class_3!E195^2 -> 13.125492 | N195: =M195+L195+K195 -> -667.28001 | O195: =((IF(P195>0,P195,R195))*E195)/1000 -> -18.391905 | P195: =IF(G195>0,N195*J195,0) -> 0 | Q195: =(SUM(P$8:P195))/3600000 -> 0.12344928 | R195: =IF(N195<0,J195*N195,0) -> -3503.22 | T195: =(SUMIF(R$8:R195,"<0"))/3600000*-1 -> 0.069681407 | U195: =((0.5*1545*(E195^2-E194^2))/1000)*0.8 -> -3.9955417 | V195: =R195*0.688 -> -2410.2154 | W195: =SUM(V$8:V195)/3600000*-1 -> 0.047940808 | X195: =(N195*E195)/1000 -> -3.50322 | Y195: =X195+$M$1810 -> 17.401068 | Z195: =SUM(Y$8:Y195)/1000 -> 4.1308027
B196: Low | C196: 188 | D196: 188 | E196: =F196/3.6 -> 4.75 | F196: 17.1 | G196: =($F197-$F195)/2/3.6 -> -0.44444444 | H196: =($F197-$F195)/2 -> -1.6 | I196: =SUM(E$8:E196) -> 952 | J196: =I196-I195 -> 4.75 | K196: =G196*1545 -> -686.66667 | L196: 156.4695 | M196: =0.5*2.10945*1.29*0.35*WLTC_class_3!E196^2 -> 10.744451 | N196: =M196+L196+K196 -> -519.45272 | O196: =((IF(P196>0,P196,R196))*E196)/1000 -> -11.720152 | P196: =IF(G196>0,N196*J196,0) -> 0 | Q196: =(SUM(P$8:P196))/3600000 -> 0.12344928 | R196: =IF(N196<0,J196*N196,0) -> -2467.4004 | T196: =(SUMIF(R$8:R196,"<0"))/3600000*-1 -> 0.070366796 | U196: =((0.5*1545*(E196^2-E195^2))/1000)*0.8 -> -3.09 | V196: =R196*0.688 -> -1697.5715 | W196: =SUM(V$8:V196)/3600000*-1 -> 0.048412356 | X196: =(N196*E196)/1000 -> -2.4674004 | Y196: =X196+$M$1810 -> 18.436888 | Z196: =SUM(Y$8:Y196)/1000 -> 4.1492396
B197: Low | C197: 189 | D197: 189 | E197: =F197/3.6 -> 4.3611111 | F197: 15.7 | G197: =($F198-$F196)/2/3.6 -> -0.36111111 | H197: =($F198-$F196)/2 -> -1.3 | I197: =SUM(E$8:E197) -> 956.36111 | J197: =I197-I196 -> 4.3611111 | K197: =G197*1545 -> -557.91667 | L197: 156.4695 | M197: =0.5*2.10945*1.29*0.35*WLTC_class_3!E197^2 -> 9.0571445 | N197: =M197+L197+K197 -> -392.39002 | O197: =((IF(P197>0,P197,R197))*E197)/1000 -> -7.4629797 | P197: =IF(G197>0,N197*J197,0) -> 0 | Q197: =(SUM(P$8:P197))/3600000 -> 0.12344928 | R197: =IF(N197<0,J197*N197,0) -> -1711.2565 | T197: =(SUMIF(R$8:R197,"<0"))/3600000*-1 -> 0.070842145 | U197: =((0.5*1545*(E197^2-E196^2))/1000)*0.8 -> -2.1897037 | V197: =R197*0.688 -> -1177.3445 | W197: =SUM(V$8:V197)/3600000*-1 -> 0.048739396 | X197: =(N197*E197)/1000 -> -1.7112565 | Y197: =X197+$M$1810 -> 19.193032 | Z197: =SUM(Y$8:Y197)/1000 -> 4.1684326
B198: Low | C198: 190 | D198: 190 | E198: =F198/3.6 -> 4.0277778 | F198: 14.5 | G198: =($F199-$F197)/2/3.6 -> -0.27777778 | H198: =($F199-$F197)/2 -> -1 | I198: =SUM(E$8:E198) -> 960.38889 | J198: =I198-I197 -> 4.0277778 | K198: =G198*1545 -> -429.16667 | L198: 156.4695 | M198: =0.5*2.10945*1.29*0.35*WLTC_class_3!E198^2 -> 7.7255249 | N198: =M198+L198+K198 -> -264.97164 | O198: =((IF(P198>0,P198,R198))*E198)/1000 -> -4.2986333 | P198: =IF(G198>0,N198*J198,0) -> 0 | Q198: =(SUM(P$8:P198))/3600000 -> 0.12344928 | R198: =IF(N198<0,J198*N198,0) -> -1067.2469 | T198: =(SUMIF(R$8:R198,"<0"))/3600000*-1 -> 0.071138603 | U198: =((0.5*1545*(E198^2-E197^2))/1000)*0.8 -> -1.7281111 | V198: =R198*0.688 -> -734.26586 | W198: =SUM(V$8:V198)/3600000*-1 -> 0.048943359 | X198: =(N198*E198)/1000 -> -1.0672469 | Y198: =X198+$M$1810 -> 19.837041 | Z198: =SUM(Y$8:Y198)/1000 -> 4.1882697
B199: Low | C199: 191 | D199: 191 | E199: =F199/3.6 -> 3.8055556 | F199: 13.7 | G199: =($F200-$F198)/2/3.6 -> -0.22222222 | H199: =($F200-$F198)/2 -> -0.8 | I199: =SUM(E$8:E199) -> 964.19444 | J199: =I199-I198 -> 3.8055556 | K199: =G199*1545 -> -343.33333 | L199: 156.4695 | M199: =0.5*2.10945*1.29*0.35*WLTC_class_3!E199^2 -> 6.8965697 | N199: =M199+L199+K199 -> -179.96726 | O199: =((IF(P199>0,P199,R199))*E199)/1000 -> -2.6063315 | P199: =IF(G199>0,N199*J199,0) -> 0 | Q199: =(SUM(P$8:P199))/3600000 -> 0.12344928 | R199: =IF(N199<0,J199*N199,0) -> -684.87542 | T199: =(SUMIF(R$8:R199,"<0"))/3600000*-1 -> 0.071328846 | U199: =((0.5*1545*(E199^2-E198^2))/1000)*0.8 -> -1.0757778 | V199: =R199*0.688 -> -471.19429 | W199: =SUM(V$8:V199)/3600000*-1 -> 0.049074246 | X199: =(N199*E199)/1000 -> -0.68487542 | Y199: =X199+$M$1810 -> 20.219413 | Z199: =SUM(Y$8:Y199)/1000 -> 4.2084891
B200: Low | C200: 192 | D200: 192 | E200: =F200/3.6 -> 3.5833333 | F200: 12.9 | G200: =($F201-$F199)/2/3.6 -> -0.16666667 | H200: =($F201-$F199)/2 -> -0.6 | I200: =SUM(E$8:E200) -> 967.77778 | J200: =I200-I199 -> 3.5833333 | K200: =G200*1545 -> -257.5 | L200: 156.4695 | M200: =0.5*2.10945*1.29*0.35*WLTC_class_3!E200^2 -> 6.1146473 | N200: =M200+L200+K200 -> -94.915853 | O200: =((IF(P200>0,P200,R200))*E200)/1000 -> -1.2187459 | P200: =IF(G200>0,N200*J200,0) -> 0 | Q200: =(SUM(P$8:P200))/3600000 -> 0.12344928 | R200: =IF(N200<0,J200*N200,0) -> -340.11514 | T200: =(SUMIF(R$8:R200,"<0"))/3600000*-1 -> 0.071423322 | U200: =((0.5*1545*(E200^2-E199^2))/1000)*0.8 -> -1.0147407 | V200: =R200*0.688 -> -233.99922 | W200: =SUM(V$8:V200)/3600000*-1 -> 0.049139246 | X200: =(N200*E200)/1000 -> -0.34011514 | Y200: =X200+$M$1810 -> 20.564173 | Z200: =SUM(Y$8:Y200)/1000 -> 4.2290533
B201: Low | C201: 193 | D201: 193 | E201: =F201/3.6 -> 3.4722222 | F201: 12.5 | G201: =($F202-$F200)/2/3.6 -> -0.097222222 | H201: =($F202-$F200)/2 -> -0.35 | I201: =SUM(E$8:E201) -> 971.25 | J201: =I201-I200 -> 3.4722222 | K201: =G201*1545 -> -150.20833 | L201: 156.4695 | M201: =0.5*2.10945*1.29*0.35*WLTC_class_3!E201^2 -> 5.7413235 | N201: =M201+L201+K201 -> 12.00249 | O201: =((IF(P201>0,P201,R201))*E201)/1000 -> 0 | P201: =IF(G201>0,N201*J201,0) -> 0 | Q201: =(SUM(P$8:P201))/3600000 -> 0.12344928 | R201: =IF(N201<0,J201*N201,0) -> 0 | T201: =(SUMIF(R$8:R201,"<0"))/3600000*-1 -> 0.071423322 | U201: =((0.5*1545*(E201^2-E200^2))/1000)*0.8 -> -0.48448148 | V201: =R201*0.688 -> 0 | W201: =SUM(V$8:V201)/3600000*-1 -> 0.049139246 | X201: =(N201*E201)/1000 -> 0.041675313 | Y201: =X201+$M$1810 -> 20.945964 | Z201: =SUM(Y$8:Y201)/1000 -> 4.2499992
B202: Low | C202: 194 | D202: 194 | E202: =F202/3.6 -> 3.3888889 | F202: 12.2 | G202: =($F203-$F201)/2/3.6 -> -0.069444444 | H202: =($F203-$F201)/2 -> -0.25 | I202: =SUM(E$8:E202) -> 974.63889 | J202: =I202-I201 -> 3.3888889 | K202: =G202*1545 -> -107.29167 | L202: 156.4695 | M202: =0.5*2.10945*1.29*0.35*WLTC_class_3!E202^2 -> 5.469047 | N202: =M202+L202+K202 -> 54.64688 | O202: =((IF(P202>0,P202,R202))*E202)/1000 -> 0 | P202: =IF(G202>0,N202*J202,0) -> 0 | Q202: =(SUM(P$8:P202))/3600000 -> 0.12344928 | R202: =IF(N202<0,J202*N202,0) -> 0 | T202: =(SUMIF(R$8:R202,"<0"))/3600000*-1 -> 0.071423322 | U202: =((0.5*1545*(E202^2-E201^2))/1000)*0.8 -> -0.35334722 | V202: =R202*0.688 -> 0 | W202: =SUM(V$8:V202)/3600000*-1 -> 0.049139246 | X202: =(N202*E202)/1000 -> 0.18519221 | Y202: =X202+$M$1810 -> 21.08948 | Z202: =SUM(Y$8:Y202)/1000 -> 4.2710887
... B239: Low | C239: 231 | D239: 231 | E239: =F239/3.6 -> 15.694444 | F239: 56.5 | G239: =($F240-$F238)/2/3.6 -> -0.041666667 | H239: =($F240-$F238)/2 -> -0.15 | I239: =SUM(E$8:E239) -> 1350.8889 | J239: =I239-I238 -> 15.694444 | K239: =G239*1545 -> -64.375 | L239: 156.4695 | M239: =0.5*2.10945*1.29*0.35*WLTC_class_3!E239^2 -> 117.29754 | N239: =M239+L239+K239 -> 209.39204 | O239: =((IF(P239>0,P239,R239))*E239)/1000 -> 0 | P239: =IF(G239>0,N239*J239,0) -> 0 | Q239: =(SUM(P$8:P239))/3600000 -> 0.19684254 | R239: =IF(N239<0,J239*N239,0) -> 0 | T239: =(SUMIF(R$8:R239,"<0"))/3600000*-1 -> 0.071423322 | U239: =((0.5*1545*(E239^2-E238^2))/1000)*0.8 -> 0 | V239: =R239*0.688 -> 0 | W239: =SUM(V$8:V239)/3600000*-1 -> 0.049139246 | X239: =(N239*E239)/1000 -> 3.2862917 | Y239: =X239+$M$1810 -> 24.19058 | Z239: =SUM(Y$8:Y239)/1000 -> 5.313524
B240: Low | C240: 232 | D240: 232 | E240: =F240/3.6 -> 15.611111 | F240: 56.2 | G240: =($F241-$F239)/2/3.6 -> -0.22222222 | H240: =($F241-$F239)/2 -> -0.8 | I240: =SUM(E$8:E240) -> 1366.5 | J240: =I240-I239 -> 15.611111 | K240: =G240*1545 -> -343.33333 | L240: 156.4695 | M240: =0.5*2.10945*1.29*0.35*WLTC_class_3!E240^2 -> 116.05521 | N240: =M240+L240+K240 -> -70.808628 | O240: =((IF(P240>0,P240,R240))*E240)/1000 -> -17.256543 | P240: =IF(G240>0,N240*J240,0) -> 0 | Q240: =(SUM(P$8:P240))/3600000 -> 0.19684254 | R240: =IF(N240<0,J240*N240,0) -> -1105.4014 | S240: =SUM(R240:R260) -> -119813.21 | T240: =(SUMIF(R$8:R240,"<0"))/3600000*-1 -> 0.071730378 | U240: =((0.5*1545*(E240^2-E239^2))/1000)*0.8 -> -1.6122361 | V240: =R240*0.688 -> -760.51613 | W240: =SUM(V$8:V240)/3600000*-1 -> 0.0493505 | X240: =(N240*E240)/1000 -> -1.1054014 | Y240: =X240+$M$1810 -> 19.798887 | Z240: =SUM(Y$8:Y240)/1000 -> 5.3333228
...

Sheet Tractive Energy

Sheet KERS

Sheet KE

Sheet Velocity

Sheet Forces

Sheet Power
