Workbook

Sheet Explanations
C1: This file contains the WLTC cycles for validation 2, based on the following preliminary vehicle classification:
C5: Class 3 | D5: ratio of rated power in W / kerb mass in kg > 34
C6: (version 5) | D6: The table with the speed trace is named "WLTC_class_3" and contains a low, a medium, a high and an extra high speed part.
D7: If v_max < 135 km/h, phase high is replaced by a repetition of phase low.
D9: If a vehicle with a ratio of rated power in W divided by kerb masin kg > 34, but close to this borderline cannot follow the WLTC class 3, version 5 speed trace
D10: it shall proceed at full throttle until the reference speed profile is reached again. This test shall be repeated at least 3 times. Additionally, the same vehicle can be tested
D11: with the WLTC, class 2 , version 1.4 driving cycle (3 tests), provided that all the other provisions of the WLTP are the same as before.
D14: kerb mass means the "unladen mass" as defined in ECE R83.
D15: v_max is the maximum speed of the vehicle as declared by the manufacturer (ECE R 68) and not any use restriction or safety based limitation.
D18: If a vehicle has a ratio of rated power in W divided by kerb mass in kg between 22 and 34, but close to the upper borderline, any additional tests with the WLTC, class 3, version 5 cycle are highly welcomed.

Sheet Data
B2: Volvo 940 Estate
B3: Engine | C3: 2.0l B200F | K3: Breaking Events (s) | L3: Amount
B5: 940 Charateristics | C5: Data | D5: Unit | K5: 29 | L5: 1
B6: Frontal Height | C6: 1.435 | D6: m | F6: Breaking Events | K6: 15 | L6: 2
B7: frontal Width | C7: 1.75 | D7: m | F7: Total Breaking Time | G7: =SUM(K5:K63) -> 452 | K7: 4 | L7: 3
B8: Frontal Area | C8: 2.10945 | D8: m^2 | F8: Breaking Events | G8: 59 | K8: 7 | L8: 4
B9: Coeffient rolling resistence | C9: 0.011 | F9: Average Breaking Event Period | G9: =G7/G8 -> 7.6610169 | K9: 5 | L9: 5
B10: Rolling Resistance | C10: =C12*C9*9.81 -> 156.4695 | K10: 3 | L10: 6
B11: Coeffiecent of Drag | C11: 0.35 | F11: Flywheel Efficiency | G11: % | K11: 7 | L11: 7
B12: Kerb Weight | C12: 1450 | D12: kg | F12: Flywheel Efficiency | G12: 95 | K12: 3 | L12: 8
B13: test mass for 1 person | C13: =1450+95 -> 1545 | D13: kg | F13: Output Gear Train Efficiency | G13: 95 | K13: 11 | L13: 9
B14: Hp | C14: 112 | F14: CVT Efficiency | G14: 85 | K14: 8 | L14: 10
B15: Power | C15: 83518.4 | D15: w | F15: Electrical Efficiency | G15: 90 | K15: 3 | L15: 11
B16: w / kerb | C16: =C15/C12 -> 57.598897 | F16: Overall Efficiency | G16: 68.8 | K16: 12 | L16: 12
B17: Max Speed | C17: 120 | D17: mph | K17: 5 | L17: 13
B18: max speed in kmh | C18: 193.121 | D18: kmh | K18: 15 | L18: 14
F19: Flyweel Data | G19: Data | H19: Unit | K19: 3 | L19: 15
F20: Mass | G20: 6 | H20: kg | K20: 2 | L20: 16
B21: Energy | D21: Unit | F21: Diameter | G21: 20 | H21: cm | K21: 4 | L21: 17
B22: Total Tractive | C22: =WLTC_class_3!P1810 -> 10092.158 | D22: kj | F22: Inertia | G22: =0.5*G20*((0.1)^2+(0.05)^2) -> 0.0375 | K22: 3 | L22: 18
B23: Total Breaking | C23: =WLTC_class_3!R1810*-1 -> 3078.1828 | D23: kj | F23: Usuable Energy | G23: =((0.5*G22*((2*PI()*G26/60)^2))*0.688)/1000 -> 509.27159 | H23: kj | K23: 13 | L23: 19
B24: Total Losses | C24: =C22-C23 -> 7013.9757 | D24: kj | F24: Max Power Output | G24: =G23/13 -> 39.174737 | H24: kw | I24: 13s discharge | K24: 17 | L24: 20
B25: Max Breaking | C25: =WLTC_class_3!S1810 -> 289.44435 | D25: kj | F25: Energy Captured per Breaking Event | G25: =((C25*1000)*(G16/100))/1000 -> 199.13771 | H25: kw | K25: 8 | L25: 21
B26: Recovered Energy | C26: 2124 | D26: kj | F26: Max Speed | G26: 60000 | H26: rpm | K26: 3 | L26: 22
F27: Flywheel Speed After One Event | G27: =((SQRT(2*(G25*1000)/G22))/2*PI()*60)/10 -> 30714.769 | H27: rpm | K27: 3 | L27: 23
F28: No. of Breaking Events to Fully Charge | G28: =G23/G25 -> 2.5573839 | I28: 3 Full Events | K28: 6 | L28: 24
K29: 5 | L29: 25
K30: 1 | L30: 26
K31: 3 | L31: 27
F32: Power Required | G32: =Data!C25/Data!G9 -> 37.781453 | H32: kw | K32: 11 | L32: 28
F33: Margin for Error Percentage | G33: =(G24-G32)/G32*100 -> 3.6877482 | H33: % | K33: 7 | L33: 29
F34: Power Required with Margin | G34: 39.174737 | H34: kw | K34: 12 | L34: 30
K35: 4 | L35: 31
K36: 5 | L36: 32
K37: 5 | L37: 33
K38: 8 | L38: 34
K39: 14 | L39: 35
K40: 4 | L40: 36
K41: 4 | L41: 37
K42: 11 | L42: 38
...

Sheet WLTC_class_3
B2: Class 3 vehicles: | C2: vehicles with a ratio of rated power in W / kerb mass in kg > 34
B6: Phase | C6: Total elapsed time | D6: Phase elapsed time | E6: WLTC class 3, version 5, vehicle speed | F6: WLTC class 3, version 5, vehicle speed | G6: WLTC class 3, version 5, acceleration | H6: WLTC class 3, version 5, acceleration | I6: Cumlative Distance | J6: Change in Distance | K6: Acceleration | L6: Roll | M6: Aero | N6: Total | O6: Total Energy Required | P6: Tractive energy | Q6: Cumalitive Tractive Energy | R6: braking energy | S6: Sum of Each Braking Event | T6: Cumalitive Braking | U6: Kinetic Energy | V6: Recoverable Energy | W6: Cumlative Energy | X6: Power | Y6: Total Power | Z6: Cumlative Total Power
B7: Phase | C7: s | E7: m/s | F7: km/h | G7: m/s² | H7: km/h/s | I7: m | J7: m | K7: N | L7: N | M7: N | N7: N | O7: Watts | P7: J | Q7: Kwh | R7: J | T7: Kwh | U7: Kj | V7: Kj | W7: Kwh | X7: Kw | Y7: Kw | Z7: Kw
B8: Low | C8: 0 | D8: 0 | E8: =F8*0.277778 -> 0 | F8: 0 | G8: =($F9-0)/2/3.6 -> 0 | H8: =($F9-0)/2 -> 0 | I8: 0 | J8: 0 | K8: =G8*1545 -> 0 | L8: 156.4695 | M8: =0.5*2.10945*1.29*0.35*WLTC_class_3!E8^2 -> 0 | N8: =M8+L8+K8 -> 156.4695 | O8: =((IF(P8>0,P8,R8))*E8)/1000 -> 0 | P8: =IF(G8<0.00001,0,N8*J8) -> 0 | Q8: 0 | R8: =IF(G8>0,0,N8*J8) -> 0 | T8: 0 | U8: =(0.5*1545*(E8)^2)/1000 -> 0 | V8: 0 | W8: 0 | X8: =(N8*E8)/1000 -> 0 | Y8: =X8+$M$1810 -> 20.904288 | Z8: 0
B9: Low | C9: 1 | D9: 1 | E9: =F9/3.6 -> 0 | F9: 0 | G9: =($F10-$F8)/2/3.6 -> 0 | H9: =($F10-$F8)/2 -> 0 | I9: =SUM(E$8:E9) -> 0 | J9: =I9-I8 -> 0 | K9: =G9*1545 -> 0 | L9: 156.4695 | M9: =0.5*2.10945*1.29*0.35*WLTC_class_3!E9^2 -> 0 | N9: =M9+L9+K9 -> 156.4695 | O9: =((IF(P9>0,P9,R9))*E9)/1000 -> 0 | P9: =IF(G9>0,N9*J9,0) -> 0 | Q9: =(SUM(P$8:P9))/3600000 -> 0 | R9: =IF(N9<0,J9*N9,0) -> 0 | T9: =(SUMIF(R$8:R9,"<0"))/3600000*-1 -> 0 | U9: =(0.5*1545*(E9^2-E8^2))/1000 -> 0 | V9: =R9*0.688 -> 0 | W9: =SUM(V$8:V9)/3600000*-1 -> 0 | X9: =(N9*E9)/1000 -> 0 | Y9: =X9+$M$1810 -> 20.904288 | Z9: =SUM(Y$8:Y9)/1000 -> 0.041808577
B10: Low | C10: 2 | D10: 2 | E10: =F10/3.6 -> 0 | F10: 0 | G10: =($F11-$F9)/2/3.6 -> 0 | H10: =($F11-$F9)/2 -> 0 | I10: =SUM(E$8:E10) -> 0 | J10: =I10-I9 -> 0 | K10: =G10*1545 -> 0 | L10: 156.4695 | M10: =0.5*2.10945*1.29*0.35*WLTC_class_3!E10^2 -> 0 | N10: =M10+L10+K10 -> 156.4695 | O10: =((IF(P10>0,P10,R10))*E10)/1000 -> 0 | P10: =IF(G10>0,N10*J10,0) -> 0 | Q10: =(SUM(P$8:P10))/3600000 -> 0 | R10: =IF(N10<0,J10*N10,0) -> 0 | T10: =(SUMIF(R$8:R10,"<0"))/3600000*-1 -> 0 | U10: =((0.5*1545*(E10^2-E9^2))/1000)*0.8 -> 0 | V10: =R10*0.688 -> 0 | W10: =SUM(V$8:V10)/3600000*-1 -> 0 | X10: =(N10*E10)/1000 -> 0 | Y10: =X10+$M$1810 -> 20.904288 | Z10: =SUM(Y$8:Y10)/1000 -> 0.062712865
B11: Low | C11: 3 | D11: 3 | E11: =F11/3.6 -> 0 | F11: 0 | G11: =($F12-$F10)/2/3.6 -> 0 | H11: =($F12-$F10)/2 -> 0 | I11: =SUM(E$8:E11) -> 0 | J11: =I11-I10 -> 0 | K11: =G11*1545 -> 0 | L11: 156.4695 | M11: =0.5*2.10945*1.29*0.35*WLTC_class_3!E11^2 -> 0 | N11: =M11+L11+K11 -> 156.4695 | O11: =((IF(P11>0,P11,R11))*E11)/1000 -> 0 | P11: =IF(G11>0,N11*J11,0) -> 0 | Q11: =(SUM(P$8:P11))/3600000 -> 0 | R11: =IF(N11<0,J11*N11,0) -> 0 | T11: =(SUMIF(R$8:R11,"<0"))/3600000*-1 -> 0 | U11: =((0.5*1545*(E11^2-E10^2))/1000)*0.8 -> 0 | V11: =R11*0.688 -> 0 | W11: =SUM(V$8:V11)/3600000*-1 -> 0 | X11: =(N11*E11)/1000 -> 0 | Y11: =X11+$M$1810 -> 20.904288 | Z11: =SUM(Y$8:Y11)/1000 -> 0.083617153
B12: Low | C12: 4 | D12: 4 | E12: =F12/3.6 -> 0 | F12: 0 | G12: =($F13-$F11)/2/3.6 -> 0 | H12: =($F13-$F11)/2 -> 0 | I12: =SUM(E$8:E12) -> 0 | J12: =I12-I11 -> 0 | K12: =G12*1545 -> 0 | L12: 156.4695 | M12: =0.5*2.10945*1.29*0.35*WLTC_class_3!E12^2 -> 0 | N12: =M12+L12+K12 -> 156.4695 | O12: =((IF(P12>0,P12,R12))*E12)/1000 -> 0 | P12: =IF(G12>0,N12*J12,0) -> 0 | Q12: =(SUM(P$8:P12))/3600000 -> 0 | R12: =IF(N12<0,J12*N12,0) -> 0 | T12: =(SUMIF(R$8:R12,"<0"))/3600000*-1 -> 0 | U12: =((0.5*1545*(E12^2-E11^2))/1000)*0.8 -> 0 | V12: =R12*0.688 -> 0 | W12: =SUM(V$8:V12)/3600000*-1 -> 0 | X12: =(N12*E12)/1000 -> 0 | Y12: =X12+$M$1810 -> 20.904288 | Z12: =SUM(Y$8:Y12)/1000 -> 0.10452144
B13: Low | C13: 5 | D13: 5 | E13: =F13/3.6 -> 0 | F13: 0 | G13: =($F14-$F12)/2/3.6 -> 0 | H13: =($F14-$F12)/2 -> 0 | I13: =SUM(E$8:E13) -> 0 | J13: =I13-I12 -> 0 | K13: =G13*1545 -> 0 | L13: 156.4695 | M13: =0.5*2.10945*1.29*0.35*WLTC_class_3!E13^2 -> 0 | N13: =M13+L13+K13 -> 156.4695 | O13: =((IF(P13>0,P13,R13))*E13)/1000 -> 0 | P13: =IF(G13>0,N13*J13,0) -> 0 | Q13: =(SUM(P$8:P13))/3600000 -> 0 | R13: =IF(N13<0,J13*N13,0) -> 0 | T13: =(SUMIF(R$8:R13,"<0"))/3600000*-1 -> 0 | U13: =((0.5*1545*(E13^2-E12^2))/1000)*0.8 -> 0 | V13: =R13*0.688 -> 0 | W13: =SUM(V$8:V13)/3600000*-1 -> 0 | X13: =(N13*E13)/1000 -> 0 | Y13: =X13+$M$1810 -> 20.904288 | Z13: =SUM(Y$8:Y13)/1000 -> 0.12542573
B14: Low | C14: 6 | D14: 6 | E14: =F14/3.6 -> 0 | F14: 0 | G14: =($F15-$F13)/2/3.6 -> 0 | H14: =($F15-$F13)/2 -> 0 | I14: =SUM(E$8:E14) -> 0 | J14: =I14-I13 -> 0 | K14: =G14*1545 -> 0 | L14: 156.4695 | M14: =0.5*2.10945*1.29*0.35*WLTC_class_3!E14^2 -> 0 | N14: =M14+L14+K14 -> 156.4695 | O14: =((IF(P14>0,P14,R14))*E14)/1000 -> 0 | P14: =IF(G14>0,N14*J14,0) -> 0 | Q14: =(SUM(P$8:P14))/3600000 -> 0 | R14: =IF(N14<0,J14*N14,0) -> 0 | T14: =(SUMIF(R$8:R14,"<0"))/3600000*-1 -> 0 | U14: =((0.5*1545*(E14^2-E13^2))/1000)*0.8 -> 0 | V14: =R14*0.688 -> 0 | W14: =SUM(V$8:V14)/3600000*-1 -> 0 | X14: =(N14*E14)/1000 -> 0 | Y14: =X14+$M$1810 -> 20.904288 | Z14: =SUM(Y$8:Y14)/1000 -> 0.14633002
B15: Low | C15: 7 | D15: 7 | E15: =F15/3.6 -> 0 | F15: 0 | G15: =($F16-$F14)/2/3.6 -> 0 | H15: =($F16-$F14)/2 -> 0 | I15: =SUM(E$8:E15) -> 0 | J15: =I15-I14 -> 0 | K15: =G15*1545 -> 0 | L15: 156.4695 | M15: =0.5*2.10945*1.29*0.35*WLTC_class_3!E15^2 -> 0 | N15: =M15+L15+K15 -> 156.4695 | O15: =((IF(P15>0,P15,R15))*E15)/1000 -> 0 | P15: =IF(G15>0,N15*J15,0) -> 0 | Q15: =(SUM(P$8:P15))/3600000 -> 0 | R15: =IF(N15<0,J15*N15,0) -> 0 | T15: =(SUMIF(R$8:R15,"<0"))/3600000*-1 -> 0 | U15: =((0.5*1545*(E15^2-E14^2))/1000)*0.8 -> 0 | V15: =R15*0.688 -> 0 | W15: =SUM(V$8:V15)/3600000*-1 -> 0 | X15: =(N15*E15)/1000 -> 0 | Y15: =X15+$M$1810 -> 20.904288 | Z15: =SUM(Y$8:Y15)/1000 -> 0.16723431
B16: Low | C16: 8 | D16: 8 | E16: =F16/3.6 -> 0 | F16: 0 | G16: =($F17-$F15)/2/3.6 -> 0 | H16: =($F17-$F15)/2 -> 0 | I16: =SUM(E$8:E16) -> 0 | J16: =I16-I15 -> 0 | K16: =G16*1545 -> 0 | L16: 156.4695 | M16: =0.5*2.10945*1.29*0.35*WLTC_class_3!E16^2 -> 0 | N16: =M16+L16+K16 -> 156.4695 | O16: =((IF(P16>0,P16,R16))*E16)/1000 -> 0 | P16: =IF(G16>0,N16*J16,0) -> 0 | Q16: =(SUM(P$8:P16))/3600000 -> 0 | R16: =IF(N16<0,J16*N16,0) -> 0 | T16: =(SUMIF(R$8:R16,"<0"))/3600000*-1 -> 0 | U16: =((0.5*1545*(E16^2-E15^2))/1000)*0.8 -> 0 | V16: =R16*0.688 -> 0 | W16: =SUM(V$8:V16)/3600000*-1 -> 0 | X16: =(N16*E16)/1000 -> 0 | Y16: =X16+$M$1810 -> 20.904288 | Z16: =SUM(Y$8:Y16)/1000 -> 0.18813859
B17: Low | C17: 9 | D17: 9 | E17: =F17/3.6 -> 0 | F17: 0 | G17: =($F18-$F16)/2/3.6 -> 0 | H17: =($F18-$F16)/2 -> 0 | I17: =SUM(E$8:E17) -> 0 | J17: =I17-I16 -> 0 | K17: =G17*1545 -> 0 | L17: 156.4695 | M17: =0.5*2.10945*1.29*0.35*WLTC_class_3!E17^2 -> 0 | N17: =M17+L17+K17 -> 156.4695 | O17: =((IF(P17>0,P17,R17))*E17)/1000 -> 0 | P17: =IF(G17>0,N17*J17,0) -> 0 | Q17: =(SUM(P$8:P17))/3600000 -> 0 | R17: =IF(N17<0,J17*N17,0) -> 0 | T17: =(SUMIF(R$8:R17,"<0"))/3600000*-1 -> 0 | U17: =((0.5*1545*(E17^2-E16^2))/1000)*0.8 -> 0 | V17: =R17*0.688 -> 0 | W17: =SUM(V$8:V17)/3600000*-1 -> 0 | X17: =(N17*E17)/1000 -> 0 | Y17: =X17+$M$1810 -> 20.904288 | Z17: =SUM(Y$8:Y17)/1000 -> 0.20904288
B18: Low | C18: 10 | D18: 10 | E18: =F18/3.6 -> 0 | F18: 0 | G18: =($F19-$F17)/2/3.6 -> 0 | H18: =($F19-$F17)/2 -> 0 | I18: =SUM(E$8:E18) -> 0 | J18: =I18-I17 -> 0 | K18: =G18*1545 -> 0 | L18: 156.4695 | M18: =0.5*2.10945*1.29*0.35*WLTC_class_3!E18^2 -> 0 | N18: =M18+L18+K18 -> 156.4695 | O18: =((IF(P18>0,P18,R18))*E18)/1000 -> 0 | P18: =IF(G18>0,N18*J18,0) -> 0 | Q18: =(SUM(P$8:P18))/3600000 -> 0 | R18: =IF(N18<0,J18*N18,0) -> 0 | T18: =(SUMIF(R$8:R18,"<0"))/3600000*-1 -> 0 | U18: =((0.5*1545*(E18^2-E17^2))/1000)*0.8 -> 0 | V18: =R18*0.688 -> 0 | W18: =SUM(V$8:V18)/3600000*-1 -> 0 | X18: =(N18*E18)/1000 -> 0 | Y18: =X18+$M$1810 -> 20.904288 | Z18: =SUM(Y$8:Y18)/1000 -> 0.22994717
B19: Low | C19: 11 | D19: 11 | E19: =F19/3.6 -> 0 | F19: 0 | G19: =($F20-$F18)/2/3.6 -> 0.027777778 | H19: =($F20-$F18)/2 -> 0.1 | I19: =SUM(E$8:E19) -> 0 | J19: =I19-I18 -> 0 | K19: =G19*1545 -> 42.916667 | L19: 156.4695 | M19: =0.5*2.10945*1.29*0.35*WLTC_class_3!E19^2 -> 0 | N19: =M19+L19+K19 -> 199.38617 | O19: =((IF(P19>0,P19,R19))*E19)/1000 -> 0 | P19: =IF(G19>0,N19*J19,0) -> 0 | Q19: =(SUM(P$8:P19))/3600000 -> 0 | R19: =IF(N19<0,J19*N19,0) -> 0 | T19: =(SUMIF(R$8:R19,"<0"))/3600000*-1 -> 0 | U19: =((0.5*1545*(E19^2-E18^2))/1000)*0.8 -> 0 | V19: =R19*0.688 -> 0 | W19: =SUM(V$8:V19)/3600000*-1 -> 0 | X19: =(N19*E19)/1000 -> 0 | Y19: =X19+$M$1810 -> 20.904288 | Z19: =SUM(Y$8:Y19)/1000 -> 0.25085146
B20: Low | C20: 12 | D20: 12 | E20: =F20/3.6 -> 0.055555556 | F20: 0.2 | G20: =($F21-$F19)/2/3.6 -> 0.23611111 | H20: =($F21-$F19)/2 -> 0.85 | I20: =SUM(E$8:E20) -> 0.055555556 | J20: =I20-I19 -> 0.055555556 | K20: =G20*1545 -> 364.79167 | L20: 156.4695 | M20: =0.5*2.10945*1.29*0.35*WLTC_class_3!E20^2 -> 0.0014697788 | N20: =M20+L20+K20 -> 521.26264 | O20: =((IF(P20>0,P20,R20))*E20)/1000 -> 0.0016088353 | P20: =IF(G20>0,N20*J20,0) -> 28.959035 | Q20: =(SUM(P$8:P20))/3600000 -> 8.0441765e-06 | R20: =IF(N20<0,J20*N20,0) -> 0 | T20: =(SUMIF(R$8:R20,"<0"))/3600000*-1 -> 0 | U20: =((0.5*1545*(E20^2-E19^2))/1000)*0.8 -> 0.0019074074 | V20: =R20*0.688 -> 0 | W20: =SUM(V$8:V20)/3600000*-1 -> 0 | X20: =(N20*E20)/1000 -> 0.028959035 | Y20: =X20+$M$1810 -> 20.933247 | Z20: =SUM(Y$8:Y20)/1000 -> 0.27178471
B21: Low | C21: 13 | D21: 13 | E21: =F21/3.6 -> 0.47222222 | F21: 1.7 | G21: =($F22-$F20)/2/3.6 -> 0.72222222 | H21: =($F22-$F20)/2 -> 2.6 | I21: =SUM(E$8:E21) -> 0.52777778 | J21: =I21-I20 -> 0.47222222 | K21: =G21*1545 -> 1115.8333 | L21: 156.4695 | M21: =0.5*2.10945*1.29*0.35*WLTC_class_3!E21^2 -> 0.10619152 | N21: =M21+L21+K21 -> 1272.409 | O21: =((IF(P21>0,P21,R21))*E21)/1000 -> 0.28373936 | P21: =IF(G21>0,N21*J21,0) -> 600.85982 | Q21: =(SUM(P$8:P21))/3600000 -> 0.00017494968 | R21: =IF(N21<0,J21*N21,0) -> 0 | T21: =(SUMIF(R$8:R21,"<0"))/3600000*-1 -> 0 | U21: =((0.5*1545*(E21^2-E20^2))/1000)*0.8 -> 0.13590278 | V21: =R21*0.688 -> 0 | W21: =SUM(V$8:V21)/3600000*-1 -> 0 | X21: =(N21*E21)/1000 -> 0.60085982 | Y21: =X21+$M$1810 -> 21.505148 | Z21: =SUM(Y$8:Y21)/1000 -> 0.29328985
... B43: Low | C43: 35 | D43: 35 | E43: =F43/3.6 -> 12.361111 | F43: 44.5 | G43: =($F44-$F42)/2/3.6 -> -0.027777778 | H43: =($F44-$F42)/2 -> -0.1 | I43: =SUM(E$8:E43) -> 185.86111 | J43: =I43-I42 -> 12.361111 | K43: =G43*1545 -> -42.916667 | L43: 156.4695 | M43: =0.5*2.10945*1.29*0.35*WLTC_class_3!E43^2 -> 72.763238 | N43: =M43+L43+K43 -> 186.31607 | O43: =((IF(P43>0,P43,R43))*E43)/1000 -> 0 | P43: =IF(G43>0,N43*J43,0) -> 0 | Q43: =(SUM(P$8:P43))/3600000 -> 0.042412147 | R43: =IF(N43<0,J43*N43,0) -> 0 | T43: =(SUMIF(R$8:R43,"<0"))/3600000*-1 -> 0 | U43: =((0.5*1545*(E43^2-E42^2))/1000)*0.8 -> 0.4239213 | V43: =R43*0.688 -> 0 | W43: =SUM(V$8:V43)/3600000*-1 -> 0 | X43: =(N43*E43)/1000 -> 2.3030737 | Y43: =X43+$M$1810 -> 23.207362 | Z43: =SUM(Y$8:Y43)/1000 -> 0.90754118
B44: Low | C44: 36 | D44: 36 | E44: =F44/3.6 -> 12.277778 | F44: 44.2 | G44: =($F45-$F43)/2/3.6 -> -0.25 | H44: =($F45-$F43)/2 -> -0.9 | I44: =SUM(E$8:E44) -> 198.13889 | J44: =I44-I43 -> 12.277778 | K44: =G44*1545 -> -386.25 | L44: 156.4695 | M44: =0.5*2.10945*1.29*0.35*WLTC_class_3!E44^2 -> 71.785467 | N44: =M44+L44+K44 -> -157.99503 | O44: =((IF(P44>0,P44,R44))*E44)/1000 -> -23.816776 | P44: =IF(G44>0,N44*J44,0) -> 0 | Q44: =(SUM(P$8:P44))/3600000 -> 0.042412147 | R44: =IF(N44<0,J44*N44,0) -> -1939.8279 | S44: =SUM(R44:R56) -> -76482.767 | T44: =(SUMIF(R$8:R44,"<0"))/3600000*-1 -> 0.00053884108 | U44: =((0.5*1545*(E44^2-E43^2))/1000)*0.8 -> -1.2689028 | V44: =R44*0.688 -> -1334.6016 | W44: =SUM(V$8:V44)/3600000*-1 -> 0.00037072267 | X44: =(N44*E44)/1000 -> -1.9398279 | Y44: =X44+$M$1810 -> 18.96446 | Z44: =SUM(Y$8:Y44)/1000 -> 0.92650564
B45: Low | C45: 37 | D45: 37 | E45: =F45/3.6 -> 11.861111 | F45: 42.7 | G45: =($F46-$F44)/2/3.6 -> -0.59722222 | H45: =($F46-$F44)/2 -> -2.15 | I45: =SUM(E$8:E45) -> 210 | J45: =I45-I44 -> 11.861111 | K45: =G45*1545 -> -922.70833 | L45: 156.4695 | M45: =0.5*2.10945*1.29*0.35*WLTC_class_3!E45^2 -> 66.995826 | N45: =M45+L45+K45 -> -699.24301 | O45: =((IF(P45>0,P45,R45))*E45)/1000 -> -98.373672 | P45: =IF(G45>0,N45*J45,0) -> 0 | Q45: =(SUM(P$8:P45))/3600000 -> 0.042412147 | R45: =IF(N45<0,J45*N45,0) -> -8293.799 | T45: =(SUMIF(R$8:R45,"<0"))/3600000*-1 -> 0.0028426741 | U45: =((0.5*1545*(E45^2-E44^2))/1000)*0.8 -> -6.2157639 | V45: =R45*0.688 -> -5706.1337 | W45: =SUM(V$8:V45)/3600000*-1 -> 0.0019557598 | X45: =(N45*E45)/1000 -> -8.293799 | Y45: =X45+$M$1810 -> 12.610489 | Z45: =SUM(Y$8:Y45)/1000 -> 0.93911613
B46: Low | C46: 38 | D46: 38 | E46: =F46/3.6 -> 11.083333 | F46: 39.9 | G46: =($F47-$F45)/2/3.6 -> -0.79166667 | H46: =($F47-$F45)/2 -> -2.85 | I46: =SUM(E$8:E46) -> 221.08333 | J46: =I46-I45 -> 11.083333 | K46: =G46*1545 -> -1223.125 | L46: 156.4695 | M46: =0.5*2.10945*1.29*0.35*WLTC_class_3!E46^2 -> 58.497564 | N46: =M46+L46+K46 -> -1008.1579 | O46: =((IF(P46>0,P46,R46))*E46)/1000 -> -123.8424 | P46: =IF(G46>0,N46*J46,0) -> 0 | Q46: =(SUM(P$8:P46))/3600000 -> 0.042412147 | R46: =IF(N46<0,J46*N46,0) -> -11173.75 | T46: =(SUMIF(R$8:R46,"<0"))/3600000*-1 -> 0.0059464937 | U46: =((0.5*1545*(E46^2-E45^2))/1000)*0.8 -> -11.02863 | V46: =R46*0.688 -> -7687.5403 | W46: =SUM(V$8:V46)/3600000*-1 -> 0.0040911877 | X46: =(N46*E46)/1000 -> -11.17375 | Y46: =X46+$M$1810 -> 9.7305378 | Z46: =SUM(Y$8:Y46)/1000 -> 0.94884667
B47: Low | C47: 39 | D47: 39 | E47: =F47/3.6 -> 10.277778 | F47: 37 | G47: =($F48-$F46)/2/3.6 -> -0.73611111 | H47: =($F48-$F46)/2 -> -2.65 | I47: =SUM(E$8:E47) -> 231.36111 | J47: =I47-I46 -> 10.277778 | K47: =G47*1545 -> -1137.2917 | L47: 156.4695 | M47: =0.5*2.10945*1.29*0.35*WLTC_class_3!E47^2 -> 50.30318 | N47: =M47+L47+K47 -> -930.51899 | O47: =((IF(P47>0,P47,R47))*E47)/1000 -> -98.293248 | P47: =IF(G47>0,N47*J47,0) -> 0 | Q47: =(SUM(P$8:P47))/3600000 -> 0.042412147 | R47: =IF(N47<0,J47*N47,0) -> -9563.6674 | T47: =(SUMIF(R$8:R47,"<0"))/3600000*-1 -> 0.008603068 | U47: =((0.5*1545*(E47^2-E46^2))/1000)*0.8 -> -10.634273 | V47: =R47*0.688 -> -6579.8031 | W47: =SUM(V$8:V47)/3600000*-1 -> 0.0059189108 | X47: =(N47*E47)/1000 -> -9.5636674 | Y47: =X47+$M$1810 -> 11.340621 | Z47: =SUM(Y$8:Y47)/1000 -> 0.96018729
B48: Low | C48: 40 | D48: 40 | E48: =F48/3.6 -> 9.6111111 | F48: 34.6 | G48: =($F49-$F47)/2/3.6 -> -0.65277778 | H48: =($F49-$F47)/2 -> -2.35 | I48: =SUM(E$8:E48) -> 240.97222 | J48: =I48-I47 -> 9.6111111 | K48: =G48*1545 -> -1008.5417 | L48: 156.4695 | M48: =0.5*2.10945*1.29*0.35*WLTC_class_3!E48^2 -> 43.98901 | N48: =M48+L48+K48 -> -808.08316 | O48: =((IF(P48>0,P48,R48))*E48)/1000 -> -74.645435 | P48: =IF(G48>0,N48*J48,0) -> 0 | Q48: =(SUM(P$8:P48))/3600000 -> 0.042412147 | R48: =IF(N48<0,J48*N48,0) -> -7766.577 | T48: =(SUMIF(R$8:R48,"<0"))/3600000*-1 -> 0.01076045 | U48: =((0.5*1545*(E48^2-E47^2))/1000)*0.8 -> -8.1942222 | V48: =R48*0.688 -> -5343.405 | W48: =SUM(V$8:V48)/3600000*-1 -> 0.0074031899 | X48: =(N48*E48)/1000 -> -7.766577 | Y48: =X48+$M$1810 -> 13.137711 | Z48: =SUM(Y$8:Y48)/1000 -> 0.973325
B49: Low | C49: 41 | D49: 41 | E49: =F49/3.6 -> 8.9722222 | F49: 32.3 | G49: =($F50-$F48)/2/3.6 -> -0.77777778 | H49: =($F50-$F48)/2 -> -2.8 | I49: =SUM(E$8:E49) -> 249.94444 | J49: =I49-I48 -> 8.9722222 | K49: =G49*1545 -> -1201.6667 | L49: 156.4695 | M49: =0.5*2.10945*1.29*0.35*WLTC_class_3!E49^2 -> 38.335139 | N49: =M49+L49+K49 -> -1006.862 | O49: =((IF(P49>0,P49,R49))*E49)/1000 -> -81.05317 | P49: =IF(G49>0,N49*J49,0) -> 0 | Q49: =(SUM(P$8:P49))/3600000 -> 0.042412147 | R49: =IF(N49<0,J49*N49,0) -> -9033.7899 | T49: =(SUMIF(R$8:R49,"<0"))/3600000*-1 -> 0.013269837 | U49: =((0.5*1545*(E49^2-E48^2))/1000)*0.8 -> -7.3373194 | V49: =R49*0.688 -> -6215.2474 | W49: =SUM(V$8:V49)/3600000*-1 -> 0.0091296475 | X49: =(N49*E49)/1000 -> -9.0337899 | Y49: =X49+$M$1810 -> 11.870498 | Z49: =SUM(Y$8:Y49)/1000 -> 0.9851955
B50: Low | C50: 42 | D50: 42 | E50: =F50/3.6 -> 8.0555556 | F50: 29 | G50: =($F51-$F49)/2/3.6 -> -1 | H50: =($F51-$F49)/2 -> -3.6 | I50: =SUM(E$8:E50) -> 258 | J50: =I50-I49 -> 8.0555556 | K50: =G50*1545 -> -1545 | L50: 156.4695 | M50: =0.5*2.10945*1.29*0.35*WLTC_class_3!E50^2 -> 30.9021 | N50: =M50+L50+K50 -> -1357.6284 | O50: =((IF(P50>0,P50,R50))*E50)/1000 -> -88.099189 | P50: =IF(G50>0,N50*J50,0) -> 0 | Q50: =(SUM(P$8:P50))/3600000 -> 0.042412147 | R50: =IF(N50<0,J50*N50,0) -> -10936.451 | T50: =(SUMIF(R$8:R50,"<0"))/3600000*-1 -> 0.01630774 | U50: =((0.5*1545*(E50^2-E49^2))/1000)*0.8 -> -9.6462361 | V50: =R50*0.688 -> -7524.2783 | W50: =SUM(V$8:V50)/3600000*-1 -> 0.011219725 | X50: =(N50*E50)/1000 -> -10.936451 | Y50: =X50+$M$1810 -> 9.9678373 | Z50: =SUM(Y$8:Y50)/1000 -> 0.99516333
B51: Low | C51: 43 | D51: 43 | E51: =F51/3.6 -> 6.9722222 | F51: 25.1 | G51: =($F52-$F50)/2/3.6 -> -0.94444444 | H51: =($F52-$F50)/2 -> -3.4 | I51: =SUM(E$8:E51) -> 264.97222 | J51: =I51-I50 -> 6.9722222 | K51: =G51*1545 -> -1459.1667 | L51: 156.4695 | M51: =0.5*2.10945*1.29*0.35*WLTC_class_3!E51^2 -> 23.149384 | N51: =M51+L51+K51 -> -1279.5478 | O51: =((IF(P51>0,P51,R51))*E51)/1000 -> -62.201227 | P51: =IF(G51>0,N51*J51,0) -> 0 | Q51: =(SUM(P$8:P51))/3600000 -> 0.042412147 | R51: =IF(N51<0,J51*N51,0) -> -8921.2915 | T51: =(SUMIF(R$8:R51,"<0"))/3600000*-1 -> 0.018785876 | U51: =((0.5*1545*(E51^2-E50^2))/1000)*0.8 -> -10.061097 | V51: =R51*0.688 -> -6137.8485 | W51: =SUM(V$8:V51)/3600000*-1 -> 0.012924683 | X51: =(N51*E51)/1000 -> -8.9212915 | Y51: =X51+$M$1810 -> 11.982997 | Z51: =SUM(Y$8:Y51)/1000 -> 1.0071463
B52: Low | C52: 44 | D52: 44 | E52: =F52/3.6 -> 6.1666667 | F52: 22.2 | G52: =($F53-$F51)/2/3.6 -> -0.58333333 | H52: =($F53-$F51)/2 -> -2.1 | I52: =SUM(E$8:E52) -> 271.13889 | J52: =I52-I51 -> 6.1666667 | K52: =G52*1545 -> -901.25 | L52: 156.4695 | M52: =0.5*2.10945*1.29*0.35*WLTC_class_3!E52^2 -> 18.109145 | N52: =M52+L52+K52 -> -726.67136 | O52: =((IF(P52>0,P52,R52))*E52)/1000 -> -27.633697 | P52: =IF(G52>0,N52*J52,0) -> 0 | Q52: =(SUM(P$8:P52))/3600000 -> 0.042412147 | R52: =IF(N52<0,J52*N52,0) -> -4481.14 | T52: =(SUMIF(R$8:R52,"<0"))/3600000*-1 -> 0.020030637 | U52: =((0.5*1545*(E52^2-E51^2))/1000)*0.8 -> -6.5409769 | V52: =R52*0.688 -> -3083.0243 | W52: =SUM(V$8:V52)/3600000*-1 -> 0.013781078 | X52: =(N52*E52)/1000 -> -4.48114 | Y52: =X52+$M$1810 -> 16.423148 | Z52: =SUM(Y$8:Y52)/1000 -> 1.0235695
B53: Low | C53: 45 | D53: 45 | E53: =F53/3.6 -> 5.8055556 | F53: 20.9 | G53: =($F54-$F52)/2/3.6 -> -0.25 | H53: =($F54-$F52)/2 -> -0.9 | I53: =SUM(E$8:E53) -> 276.94444 | J53: =I53-I52 -> 5.8055556 | K53: =G53*1545 -> -386.25 | L53: 156.4695 | M53: =0.5*2.10945*1.29*0.35*WLTC_class_3!E53^2 -> 16.050352 | N53: =M53+L53+K53 -> -213.73015 | O53: =((IF(P53>0,P53,R53))*E53)/1000 -> -7.2036625 | P53: =IF(G53>0,N53*J53,0) -> 0 | Q53: =(SUM(P$8:P53))/3600000 -> 0.042412147 | R53: =IF(N53<0,J53*N53,0) -> -1240.8222 | T53: =(SUMIF(R$8:R53,"<0"))/3600000*-1 -> 0.02037531 | U53: =((0.5*1545*(E53^2-E52^2))/1000)*0.8 -> -2.6718009 | V53: =R53*0.688 -> -853.68571 | W53: =SUM(V$8:V53)/3600000*-1 -> 0.014018213 | X53: =(N53*E53)/1000 -> -1.2408222 | Y53: =X53+$M$1810 -> 19.663466 | Z53: =SUM(Y$8:Y53)/1000 -> 1.0432329
B54: Low | C54: 46 | D54: 46 | E54: =F54/3.6 -> 5.6666667 | F54: 20.4 | G54: =($F55-$F53)/2/3.6 -> -0.19444444 | H54: =($F55-$F53)/2 -> -0.7 | I54: =SUM(E$8:E54) -> 282.61111 | J54: =I54-I53 -> 5.6666667 | K54: =G54*1545 -> -300.41667 | L54: 156.4695 | M54: =0.5*2.10945*1.29*0.35*WLTC_class_3!E54^2 -> 15.291579 | N54: =M54+L54+K54 -> -128.65559 | O54: =((IF(P54>0,P54,R54))*E54)/1000 -> -4.1312739 | P54: =IF(G54>0,N54*J54,0) -> 0 | Q54: =(SUM(P$8:P54))/3600000 -> 0.042412147 | R54: =IF(N54<0,J54*N54,0) -> -729.04833 | T54: =(SUMIF(R$8:R54,"<0"))/3600000*-1 -> 0.020577824 | U54: =((0.5*1545*(E54^2-E53^2))/1000)*0.8 -> -0.98469907 | V54: =R54*0.688 -> -501.58525 | W54: =SUM(V$8:V54)/3600000*-1 -> 0.014157543 | X54: =(N54*E54)/1000 -> -0.72904833 | Y54: =X54+$M$1810 -> 20.17524 | Z54: =SUM(Y$8:Y54)/1000 -> 1.0634082
B55: Low | C55: 47 | D55: 47 | E55: =F55/3.6 -> 5.4166667 | F55: 19.5 | G55: =($F56-$F54)/2/3.6 -> -0.27777778 | H55: =($F56-$F54)/2 -> -1 | I55: =SUM(E$8:E55) -> 288.02778 | J55: =I55-I54 -> 5.4166667 | K55: =G55*1545 -> -429.16667 | L55: 156.4695 | M55: =0.5*2.10945*1.29*0.35*WLTC_class_3!E55^2 -> 13.972085 | N55: =M55+L55+K55 -> -258.72508 | O55: =((IF(P55>0,P55,R55))*E55)/1000 -> -7.5910658 | P55: =IF(G55>0,N55*J55,0) -> 0 | Q55: =(SUM(P$8:P55))/3600000 -> 0.042412147 | R55: =IF(N55<0,J55*N55,0) -> -1401.4275 | T55: =(SUMIF(R$8:R55,"<0"))/3600000*-1 -> 0.020967109 | U55: =((0.5*1545*(E55^2-E54^2))/1000)*0.8 -> -1.712375 | V55: =R55*0.688 -> -964.18214 | W55: =SUM(V$8:V55)/3600000*-1 -> 0.014425371 | X55: =(N55*E55)/1000 -> -1.4014275 | Y55: =X55+$M$1810 -> 19.502861 | Z55: =SUM(Y$8:Y55)/1000 -> 1.082911
B56: Low | C56: 48 | D56: 48 | E56: =F56/3.6 -> 5.1111111 | F56: 18.4 | G56: =($F57-$F55)/2/3.6 -> -0.23611111 | H56: =($F57-$F55)/2 -> -0.85 | I56: =SUM(E$8:E56) -> 293.13889 | J56: =I56-I55 -> 5.1111111 | K56: =G56*1545 -> -364.79167 | L56: 156.4695 | M56: =0.5*2.10945*1.29*0.35*WLTC_class_3!E56^2 -> 12.440208 | N56: =M56+L56+K56 -> -195.88196 | O56: =((IF(P56>0,P56,R56))*E56)/1000 -> -5.1171139 | P56: =IF(G56>0,N56*J56,0) -> 0 | Q56: =(SUM(P$8:P56))/3600000 -> 0.042412147 | R56: =IF(N56<0,J56*N56,0) -> -1001.1745 | T56: =(SUMIF(R$8:R56,"<0"))/3600000*-1 -> 0.021245213 | U56: =((0.5*1545*(E56^2-E55^2))/1000)*0.8 -> -1.9879954 | V56: =R56*0.688 -> -688.80803 | W56: =SUM(V$8:V56)/3600000*-1 -> 0.014616707 | X56: =(N56*E56)/1000 -> -1.0011745 | Y56: =X56+$M$1810 -> 19.903114 | Z56: =SUM(Y$8:Y56)/1000 -> 1.1028142
... B58: Low | C58: 50 | D58: 50 | E58: =F58/3.6 -> 4.9444444 | F58: 17.8 | G58: =($F59-$F57)/2/3.6 -> -0.055555556 | H58: =($F59-$F57)/2 -> -0.2 | I58: =SUM(E$8:E58) -> 303.02778 | J58: =I58-I57 -> 4.9444444 | K58: =G58*1545 -> -85.833333 | L58: 156.4695 | M58: =0.5*2.10945*1.29*0.35*WLTC_class_3!E58^2 -> 11.642118 | N58: =M58+L58+K58 -> 82.278285 | O58: =((IF(P58>0,P58,R58))*E58)/1000 -> 0 | P58: =IF(G58>0,N58*J58,0) -> 0 | Q58: =(SUM(P$8:P58))/3600000 -> 0.042412147 | R58: =IF(N58<0,J58*N58,0) -> 0 | T58: =(SUMIF(R$8:R58,"<0"))/3600000*-1 -> 0.021245213 | U58: =((0.5*1545*(E58^2-E57^2))/1000)*0.8 -> 0 | V58: =R58*0.688 -> 0 | W58: =SUM(V$8:V58)/3600000*-1 -> 0.014616707 | X58: =(N58*E58)/1000 -> 0.40682041 | Y58: =X58+$M$1810 -> 21.311109 | Z58: =SUM(Y$8:Y58)/1000 -> 1.1452242
B59: Low | C59: 51 | D59: 51 | E59: =F59/3.6 -> 4.8333333 | F59: 17.4 | G59: =($F60-$F58)/2/3.6 -> -0.29166667 | H59: =($F60-$F58)/2 -> -1.05 | I59: =SUM(E$8:E59) -> 307.86111 | J59: =I59-I58 -> 4.8333333 | K59: =G59*1545 -> -450.625 | L59: 156.4695 | M59: =0.5*2.10945*1.29*0.35*WLTC_class_3!E59^2 -> 11.124756 | N59: =M59+L59+K59 -> -283.03074 | O59: =((IF(P59>0,P59,R59))*E59)/1000 -> -6.6119127 | P59: =IF(G59>0,N59*J59,0) -> 0 | Q59: =(SUM(P$8:P59))/3600000 -> 0.042412147 | R59: =IF(N59<0,J59*N59,0) -> -1367.9819 | S59: =SUM(R59:R62) -> -7138.2251 | T59: =(SUMIF(R$8:R59,"<0"))/3600000*-1 -> 0.021625208 | U59: =((0.5*1545*(E59^2-E58^2))/1000)*0.8 -> -0.67140741 | V59: =R59*0.688 -> -941.17157 | W59: =SUM(V$8:V59)/3600000*-1 -> 0.014878143 | X59: =(N59*E59)/1000 -> -1.3679819 | Y59: =X59+$M$1810 -> 19.536306 | Z59: =SUM(Y$8:Y59)/1000 -> 1.1647605
B60: Low | C60: 52 | D60: 52 | E60: =F60/3.6 -> 4.3611111 | F60: 15.7 | G60: =($F61-$F59)/2/3.6 -> -0.59722222 | H60: =($F61-$F59)/2 -> -2.15 | I60: =SUM(E$8:E60) -> 312.22222 | J60: =I60-I59 -> 4.3611111 | K60: =G60*1545 -> -922.70833 | L60: 156.4695 | M60: =0.5*2.10945*1.29*0.35*WLTC_class_3!E60^2 -> 9.0571445 | N60: =M60+L60+K60 -> -757.18169 | O60: =((IF(P60>0,P60,R60))*E60)/1000 -> -14.401058 | P60: =IF(G60>0,N60*J60,0) -> 0 | Q60: =(SUM(P$8:P60))/3600000 -> 0.042412147 | R60: =IF(N60<0,J60*N60,0) -> -3302.1535 | T60: =(SUMIF(R$8:R60,"<0"))/3600000*-1 -> 0.022542473 | U60: =((0.5*1545*(E60^2-E59^2))/1000)*0.8 -> -2.6832454 | V60: =R60*0.688 -> -2271.8816 | W60: =SUM(V$8:V60)/3600000*-1 -> 0.015509221 | X60: =(N60*E60)/1000 -> -3.3021535 | Y60: =X60+$M$1810 -> 17.602135 | Z60: =SUM(Y$8:Y60)/1000 -> 1.1823626
B61: Low | C61: 53 | D61: 53 | E61: =F61/3.6 -> 3.6388889 | F61: 13.1 | G61: =($F62-$F60)/2/3.6 -> -0.5 | H61: =($F62-$F60)/2 -> -1.8 | I61: =SUM(E$8:E61) -> 315.86111 | J61: =I61-I60 -> 3.6388889 | K61: =G61*1545 -> -772.5 | L61: 156.4695 | M61: =0.5*2.10945*1.29*0.35*WLTC_class_3!E61^2 -> 6.3057186 | N61: =M61+L61+K61 -> -609.72478 | O61: =((IF(P61>0,P61,R61))*E61)/1000 -> -8.0736782 | P61: =IF(G61>0,N61*J61,0) -> 0 | Q61: =(SUM(P$8:P61))/3600000 -> 0.042412147 | R61: =IF(N61<0,J61*N61,0) -> -2218.7207 | T61: =(SUMIF(R$8:R61,"<0"))/3600000*-1 -> 0.023158784 | U61: =((0.5*1545*(E61^2-E60^2))/1000)*0.8 -> -3.5706667 | V61: =R61*0.688 -> -1526.4799 | W61: =SUM(V$8:V61)/3600000*-1 -> 0.015933243 | X61: =(N61*E61)/1000 -> -2.2187207 | Y61: =X61+$M$1810 -> 18.685568 | Z61: =SUM(Y$8:Y61)/1000 -> 1.2010482
B62: Low | C62: 54 | D62: 54 | E62: =F62/3.6 -> 3.3611111 | F62: 12.1 | G62: =($F63-$F61)/2/3.6 -> -0.15277778 | H62: =($F63-$F61)/2 -> -0.55 | I62: =SUM(E$8:E62) -> 319.22222 | J62: =I62-I61 -> 3.3611111 | K62: =G62*1545 -> -236.04167 | L62: 156.4695 | M62: =0.5*2.10945*1.29*0.35*WLTC_class_3!E62^2 -> 5.3797579 | N62: =M62+L62+K62 -> -74.192409 | O62: =((IF(P62>0,P62,R62))*E62)/1000 -> -0.83815668 | P62: =IF(G62>0,N62*J62,0) -> 0 | Q62: =(SUM(P$8:P62))/3600000 -> 0.042412147 | R62: =IF(N62<0,J62*N62,0) -> -249.36893 | T62: =(SUMIF(R$8:R62,"<0"))/3600000*-1 -> 0.023228053 | U62: =((0.5*1545*(E62^2-E61^2))/1000)*0.8 -> -1.2016667 | V62: =R62*0.688 -> -171.56582 | W62: =SUM(V$8:V62)/3600000*-1 -> 0.015980901 | X62: =(N62*E62)/1000 -> -0.24936893 | Y62: =X62+$M$1810 -> 20.654919 | Z62: =SUM(Y$8:Y62)/1000 -> 1.2217031
B63: Low | C63: 55 | D63: 55 | E63: =F63/3.6 -> 3.3333333 | F63: 12 | G63: =($F64-$F62)/2/3.6 -> -0.013888889 | H63: =($F64-$F62)/2 -> -0.05 | I63: =SUM(E$8:E63) -> 322.55556 | J63: =I63-I62 -> 3.3333333 | K63: =G63*1545 -> -21.458333 | L63: 156.4695 | M63: =0.5*2.10945*1.29*0.35*WLTC_class_3!E63^2 -> 5.2912037 | N63: =M63+L63+K63 -> 140.30237 | O63: =((IF(P63>0,P63,R63))*E63)/1000 -> 0 | P63: =IF(G63>0,N63*J63,0) -> 0 | Q63: =(SUM(P$8:P63))/3600000 -> 0.042412147 | R63: =IF(N63<0,J63*N63,0) -> 0 | T63: =(SUMIF(R$8:R63,"<0"))/3600000*-1 -> 0.023228053 | U63: =((0.5*1545*(E63^2-E62^2))/1000)*0.8 -> -0.1149213 | V63: =R63*0.688 -> 0 | W63: =SUM(V$8:V63)/3600000*-1 -> 0.015980901 | X63: =(N63*E63)/1000 -> 0.46767457 | Y63: =X63+$M$1810 -> 21.371963 | Z63: =SUM(Y$8:Y63)/1000 -> 1.2430751
B64: Low | C64: 56 | D64: 56 | E64: =F64/3.6 -> 3.3333333 | F64: 12 | G64: =($F65-$F63)/2/3.6 -> 0 | H64: =($F65-$F63)/2 -> 0 | I64: =SUM(E$8:E64) -> 325.88889 | J64: =I64-I63 -> 3.3333333 | K64: =G64*1545 -> 0 | L64: 156.4695 | M64: =0.5*2.10945*1.29*0.35*WLTC_class_3!E64^2 -> 5.2912037 | N64: =M64+L64+K64 -> 161.7607 | O64: =((IF(P64>0,P64,R64))*E64)/1000 -> 0 | P64: =IF(G64>0,N64*J64,0) -> 0 | Q64: =(SUM(P$8:P64))/3600000 -> 0.042412147 | R64: =IF(N64<0,J64*N64,0) -> 0 | T64: =(SUMIF(R$8:R64,"<0"))/3600000*-1 -> 0.023228053 | U64: =((0.5*1545*(E64^2-E63^2))/1000)*0.8 -> 0 | V64: =R64*0.688 -> 0 | W64: =SUM(V$8:V64)/3600000*-1 -> 0.015980901 | X64: =(N64*E64)/1000 -> 0.53920235 | Y64: =X64+$M$1810 -> 21.443491 | Z64: =SUM(Y$8:Y64)/1000 -> 1.2645186
B65: Low | C65: 57 | D65: 57 | E65: =F65/3.6 -> 3.3333333 | F65: 12 | G65: =($F66-$F64)/2/3.6 -> 0.041666667 | H65: =($F66-$F64)/2 -> 0.15 | I65: =SUM(E$8:E65) -> 329.22222 | J65: =I65-I64 -> 3.3333333 | K65: =G65*1545 -> 64.375 | L65: 156.4695 | M65: =0.5*2.10945*1.29*0.35*WLTC_class_3!E65^2 -> 5.2912037 | N65: =M65+L65+K65 -> 226.1357 | O65: =((IF(P65>0,P65,R65))*E65)/1000 -> 2.5126189 | P65: =IF(G65>0,N65*J65,0) -> 753.78568 | Q65: =(SUM(P$8:P65))/3600000 -> 0.042621532 | R65: =IF(N65<0,J65*N65,0) -> 0 | T65: =(SUMIF(R$8:R65,"<0"))/3600000*-1 -> 0.023228053 | U65: =((0.5*1545*(E65^2-E64^2))/1000)*0.8 -> 0 | V65: =R65*0.688 -> 0 | W65: =SUM(V$8:V65)/3600000*-1 -> 0.015980901 | X65: =(N65*E65)/1000 -> 0.75378568 | Y65: =X65+$M$1810 -> 21.658074 | Z65: =SUM(Y$8:Y65)/1000 -> 1.2861766
B66: Low | C66: 58 | D66: 58 | E66: =F66/3.6 -> 3.4166667 | F66: 12.3 | G66: =($F67-$F65)/2/3.6 -> 0.083333333 | H66: =($F67-$F65)/2 -> 0.3 | I66: =SUM(E$8:E66) -> 332.63889 | J66: =I66-I65 -> 3.4166667 | K66: =G66*1545 -> 128.75 | L66: 156.4695 | M66: =0.5*2.10945*1.29*0.35*WLTC_class_3!E66^2 -> 5.5590709 | N66: =M66+L66+K66 -> 290.77857 | O66: =((IF(P66>0,P66,R66))*E66)/1000 -> 3.394436 | P66: =IF(G66>0,N66*J66,0) -> 993.49345 | Q66: =(SUM(P$8:P66))/3600000 -> 0.042897502 | R66: =IF(N66<0,J66*N66,0) -> 0 | T66: =(SUMIF(R$8:R66,"<0"))/3600000*-1 -> 0.023228053 | U66: =((0.5*1545*(E66^2-E65^2))/1000)*0.8 -> 0.347625 | V66: =R66*0.688 -> 0 | W66: =SUM(V$8:V66)/3600000*-1 -> 0.015980901 | X66: =(N66*E66)/1000 -> 0.99349345 | Y66: =X66+$M$1810 -> 21.897782 | Z66: =SUM(Y$8:Y66)/1000 -> 1.3080744
...

Sheet Tractive Energy

Sheet KERS

Sheet KE

Sheet Velocity

Sheet Forces

Sheet Power
