Workbook

Sheet flow bench data and cam data 
AB1: flow rate | AC1: intake valve lift | AD1: flow rate l/s | AE1: flow rate sqcm
A2: Exsaust | D2: Inlet | AB2: 27.224 | AC2: 1.75 | AD2: 27.224 | AE2: {=AD2:AD9/18.57} -> 1.4660205 | AF2: 0 | AG2: 48.777 | AI2: 0.01 | AJ2: 48.777 | AK2: components | AL2: intake cam | AM2: exhust cam | AN2: intake valve | AO2: exhaust valve | AP2: valve springs | AQ2: retainers | AR2: colletts | AS2: buckets
A3: Start at BDC (CW) | D3: Start at BDC (CW) | G3: Part | I3: Exsaust | K3: Inlet | T3: Test Setup Data | AB3: 48.777 | AC3: 3.5 | AD3: 48.777 | AE3: 2.6266559 | AF3: 0 | AG3: 76.01 | AI3: 0.01 | AJ3: 76.01 | AK3: mass(g) | AL3: 1600 | AM3: 1500 | AN3: 87 | AO3: 87 | AP3: 35 | AQ3: 10 | AR3: 1.2 | AS3: 61
A4: Degree | B4: Rise | D4: Degree | E4: Rise | I4: Weight | K4: Weight | P4: Diameter | R4: Stem | T4: Lift Increments | V4: Effective Area | X4: Leakage | Z4: Seat Width | AB4: 76.01 | AC4: 5.25 | AD4: 76.01 | AE4: 4.093161 | AF4: 0 | AG4: 87.066 | AI4: 0.01 | AJ4: 87.066
B5: (mm) | E5: (mm) | I5: (g) | K5: (g) | O5: Intake Valve | P5: 35 | Q5: mm | R5: 6.5 | S5: mm | U5: mm | V5: 18.57 | W5: sq.cm | X5: 0 | Y5: litres/sec | AA5: mm | AB5: 87.066 | AC5: 7 | AD5: 87.066 | AE5: 4.6885299 | AF5: 0 | AG5: 98.122 | AI5: 0.01 | AJ5: 98.122 | AK5: components | AL5: bore | AM5: stroke
O6: Exhaust Valve | P6: 30 | Q6: mm | R6: 6.5 | S6: mm | U6: mm | W6: sq.cm | X6: 0 | Y6: litres/sec | AA6: mm | AB6: 98.122 | AC6: 8.75 | AD6: 98.122 | AE6: 5.2838988 | AF6: 0 | AG6: 105.032 | AI6: 0.01 | AJ6: 105.032 | AK6: size | AL6: 87.5mm | AM6: 83.1mm
A7: 1 | B7: 0.01 | D7: 1 | E7: 0 | G7: Cam Shaft | I7: 2098 | K7: 2128 | AB7: 105.032 | AC7: 10.5 | AD7: 105.032 | AE7: 5.6560043 | AF7: 0 | AG7: 107.796 | AI7: 0.01 | AJ7: 107.796
A8: 2 | B8: 0.01 | D8: 2 | E8: 0 | G8: Valves | I8: 32 | K8: 31 | O8: Valve Lift/Diameter (L/D) Ratio | P8: 0.05 | Q8: 0.1 | R8: 0.15 | S8: 0.2 | T8: 0.25 | U8: 0.3 | V8: 0.35 | W8: 0.4 | X8: 0.45 | Y8: 0.5 | AB8: 107.796 | AC8: 12.25 | AD8: 107.796 | AE8: 5.8048465 | AF8: 0.01 | AG8: 109.178 | AI8: 0.01 | AJ8: 109.178 | AK8: displacment per cylinder | AL8: 500cc
A9: 3 | B9: 0.01 | D9: 3 | E9: 0 | G9: Valve springs | I9: 35 | K9: 37 | O9: A. Intake Valve Lift (mm) | P9: 1.75 | Q9: 3.5 | R9: 5.25 | S9: 7 | T9: 8.75 | U9: 10.5 | V9: 12.25 | W9: 14 | X9: 15.75 | Y9: 17.5 | AB9: 109.178 | AC9: 14 | AD9: 109.178 | AE9: 5.8792676 | AF9: 0.01 | AI9: 0.01 | AK9: compression ratio | AL9: 0.41736111
A10: 4 | B10: 0.01 | D10: 4 | E10: 0 | G10: Retainers | I10: 12 | K10: 12 | O10: B. Exhaust Valve Lift (mm) | P10: 1.5 | Q10: 3 | R10: 4.5 | S10: 6 | T10: 7.5 | U10: 9 | V10: 10.5 | W10: 12 | X10: 13.5 | Y10: 15 | AF10: 0.01 | AI10: 0.01
A11: 5 | B11: 0.02 | D11: 5 | E11: 0 | G11: Buckets/followers | I11: 33 | K11: 33 | AC11: intake valve lift | AD11: flow rate sqcm | AF11: 0.01 | AI11: 0.01
A12: 6 | B12: 0.02 | D12: 6 | E12: 0 | O12: Range | P12: 1 | Q12: 2 | R12: 3 | S12: 4 | T12: 5 | U12: 6 | AC12: 1.75 | AD12: 1.4660205 | AF12: 0.01 | AI12: 0.01
A13: 7 | B13: 0.02 | D13: 7 | E13: 0.01 | O13: E. Intake | P13: 16.5 | Q13: 33.2 | R13: 69.7 | S13: 138.2 | T13: 207.8 | U13: 279.5 | AC13: 3.5 | AD13: 2.6266559 | AF13: 0.01 | AI13: 0.01
A14: 8 | B14: 0.02 | D14: 8 | E14: 0.01 | O14: F. Exhaust | P14: 19.5 | Q14: 37.1 | R14: 75 | S14: 148.5 | T14: 219.6 | U14: 284.6 | AC14: 5.25 | AD14: 4.093161 | AF14: 0.01 | AI14: 0.01
A15: 9 | B15: 0.02 | D15: 9 | E15: 0.01 | AC15: 7 | AD15: 4.6885299 | AF15: 0.01 | AI15: 0.01
A16: 10 | B16: 0.02 | D16: 10 | E16: 0.01 | T16: Intake Valve Test Data | AC16: 8.75 | AD16: 5.2838988 | AF16: 0.01 | AI16: 0.01
A17: 11 | B17: 0.03 | D17: 11 | E17: 0.01 | O17: Test Number | P17: 1 | Q17: 2 | R17: 3 | S17: 4 | T17: 5 | U17: 6 | V17: 7 | W17: 8 | X17: 9 | Y17: 10 | Z17: 11 | AC17: 10.5 | AD17: 5.6560043 | AF17: 0.01 | AI17: 0.01
A18: 12 | B18: 0.03 | D18: 12 | E18: 0.01 | O18: Test Pressure | P18: 25 | Q18: 25 | R18: 25 | S18: 25 | T18: 25 | U18: 25 | V18: 25 | W18: 25 | X18: 25 | Y18: 25 | AC18: 12.25 | AD18: 5.8048465 | AF18: 0 | AI18: 0.01
A19: 13 | B19: 0.03 | D19: 13 | E19: 0.01 | O19: Valve Lift (A) | P19: 1.75 | Q19: 3.5 | R19: 5.25 | S19: 7 | T19: 8.75 | U19: 10.5 | V19: 12.25 | W19: 13.55 | X19: 15.75 | Y19: 17.5 | AC19: 14 | AD19: 5.8792676 | AF19: 0 | AI19: 0.01
A20: 14 | B20: 0.03 | D20: 14 | E20: 0.01 | O20: Flow Range (1-6) | P20: 2 | Q20: 3 | R20: 4 | S20: 4 | T20: 4 | U20: 4 | V20: 4 | W20: 4 | AF20: 0 | AI20: 0.01
A21: 15 | B21: 0.03 | D21: 15 | E21: 0.01 | O21: Flow Scale Reading (%) | P21: 82 | Q21: 71 | R21: 55 | S21: 63 | T21: 71 | U21: 76 | V21: 78 | W21: 79 | AF21: 0 | AI21: 0.01
A22: 16 | B22: 0.03 | D22: 16 | E22: 0.01 | O22: Flow Scale (5./100) | P22: 0.82 | Q22: 0.71 | R22: 0.55 | S22: 0.63 | T22: 0.71 | U22: 0.76 | V22: 0.78 | W22: 0.79 | AF22: 0 | AI22: 0.01
A23: 17 | B23: 0.04 | D23: 17 | E23: 0 | O23: Raw Test Flow l/s (6. x E) | P23: 27.274 | Q23: 48.777 | R23: 76.01 | S23: 87.066 | T23: 98.122 | U23: 105.032 | V23: 107.796 | W23: 109.178 | AF23: 0 | AI23: 0.01
A24: 18 | B24: 0.04 | D24: 18 | E24: 0 | O24: Leakage (l/s) | P24: 0 | Q24: 0 | R24: 0 | S24: 0 | T24: 0 | U24: 0 | V24: 0 | W24: 0 | X24: 0 | Y24: 0 | Z24: 0 | AF24: 0 | AI24: 0.01
A25: 19 | B25: 0.04 | D25: 19 | E25: 0 | O25: Test Flow (l/s) (7-8) | P25: 27.224 | Q25: 48.777 | R25: 76.01 | S25: 87.066 | T25: 98.122 | U25: 105.032 | V25: 107.796 | W25: 109.178 | AF25: 0 | AI25: 0.01
A26: 20 | B26: 0.04 | D26: 20 | E26: 0 | O26: Test Flow (l/s/sq cm) | P26: 1.46 | AF26: 0 | AI26: 0.01
A27: 21 | B27: 0.04 | D27: 21 | E27: 0 | Q27: Average Flow | S27: l/s | W27: Maximum Flow | Y27: l/s | AF27: 0 | AI27: 0.01
A28: 22 | B28: 0.04 | D28: 22 | E28: 0 | AF28: 0 | AI28: 0.01
A29: 23 | B29: 0.05 | D29: 23 | E29: 0 | T29: Exhaust Valve Test Data | AF29: 0 | AI29: 0.01
A30: 24 | B30: 0.05 | D30: 24 | E30: 0 | O30: Test Number | P30: 1 | Q30: 2 | R30: 3 | S30: 4 | T30: 5 | U30: 6 | V30: 7 | W30: 8 | X30: 9 | Y30: 10 | Z30: 11 | AF30: 0 | AI30: 0.01
A31: 25 | B31: 0.05 | D31: 25 | E31: 0 | O31: Test Pressure | P31: 25 | Q31: 25 | R31: 25 | S31: 25 | T31: 25 | U31: 25 | V31: 25 | W31: 25 | X31: 25 | Y31: 25 | Z31: 25 | AF31: 0 | AI31: 0.01
A32: 26 | B32: 0.05 | D32: 26 | E32: 0 | O32: Valve Lift (A) | P32: 1.5 | Q32: 3 | R32: 4.5 | S32: 6 | T32: 7.5 | U32: 9 | V32: 10.5 | W32: 12 | X32: 13.5 | Y32: 15 | AF32: 0 | AI32: 0.01
A33: 27 | B33: 0.05 | D33: 27 | E33: 0 | O33: Flow Range (1-6) | P33: 1 | Q33: 3 | R33: 3 | S33: 3 | T33: 3 | U33: 3 | V33: 3 | W33: 4 | X33: 4 | Y33: 4 | AF33: 0 | AI33: 0.01
A34: 28 | B34: 0.05 | D34: 28 | E34: 0 | O34: Flow Scale Reading (%) | P34: 95 | Q34: 58 | R34: 69 | S34: 86 | T34: 92 | U34: 96 | V34: 98 | W34: 51 | X34: 52 | Y34: 52 | AF34: 0 | AI34: 0.01
A35: 29 | B35: 0.06 | D35: 29 | E35: 0 | O35: Flow Scale (5./100) | P35: 0.95 | Q35: 0.58 | R35: 0.69 | S35: 0.86 | T35: 0.92 | U35: 0.96 | V35: 0.98 | W35: 0.51 | X35: 0.52 | Y35: 0.52 | AF35: 0 | AI35: 0.02
A36: 30 | B36: 0.06 | D36: 30 | E36: 0 | O36: Raw Test Flow l/s (6. xF.) | P36: 18.525 | Q36: 43.5 | R36: 51.75 | S36: 64.5 | T36: 69 | U36: 72 | V36: 73.5 | W36: 75.735 | X36: 77.22 | Y36: 77.22 | AF36: 0 | AI36: 0.03
A37: 31 | B37: 0.06 | D37: 31 | E37: 0 | O37: Leakage (l/s) | P37: 0 | Q37: 0 | R37: 0 | S37: 0 | T37: 0 | U37: 0 | V37: 0 | W37: 0 | X37: 0 | Y37: 0 | Z37: 0 | AF37: 0 | AI37: 0.04
A38: 32 | B38: 0.06 | D38: 32 | E38: 0 | O38: Test Flow (l/s) (7-8) | P38: 18.525 | Q38: 43.5 | R38: 51.75 | S38: 64.5 | T38: 69 | U38: 72 | V38: 73.5 | W38: 75.735 | X38: 77.22 | Y38: 77.22 | AF38: 0 | AI38: 0.05
A39: 33 | B39: 0.06 | D39: 33 | E39: 0 | O39: Test Flow (l/s/sq cm) | AF39: 0 | AI39: 0.07
A40: 34 | B40: 0.06 | D40: 34 | E40: 0 | Q40: Average Flow | S40: l/s | W40: Maximum Flow | Y40: l/s | AF40: 0 | AI40: 0.09
...

Sheet crank and pistion Calculations
H1: Crank Angle | I1: Piston Position | J1: Piston Velocity | K1: Piston Accn | L1: Piston Velocity | M1: Volume | N1: Volume (CC)
I2: mm | J2: mm/deg | K2: mm/deg/deg | L2: m/s | M2: m^3 | N2: cc
B3: Comp Ratio | C3: 10.80 | D3: Column1 | E3: SI Units | H3: 0 | I3: =(E5/2)*(1-COS(RADIANS(H3))) + E8 - SQRT(E8^2 - (E5/2)^2*SIN(RADIANS(H3))^2) -> 0 | J3: =(I4-I3)/(H4-H3) -> 1.6250041e-05 | K3: =(J4-J3)/(H4-H3) -> 8.1170523e-06 | L3: =J3/1000*6*$C$11 -> 0.00039000099 | M3: =$E$6 + (PI()/4)*$E$4^2*(I3/1000) -> 5.099e-05 | N3: =M3*1000000 -> 50.99
B4: Bore | C4: 87.5 | D4: mm | E4: =C4/1000 -> 0.0875 | F4: m | H4: 2 | I4: =(E5/2)*(1-COS(RADIANS(H4))) + E8 - SQRT(E8^2 - (E5/2)^2*SIN(RADIANS(H4))^2) -> 3.2500083e-05 | J4: =(I5-I3)/(H5-H3) -> 3.2484146e-05 | K4: =(J5-J3)/(H5-H3) -> 1.2163636e-05 | L4: =J4/1000*6*$C$11 -> 0.00077961951 | M4: =$E$6 + (PI()/4)*$E$4^2*(I4/1000) -> 5.0990195e-05 | N4: =M4*1000000 -> 50.990195
B5: Stroke | C5: 83.1 | D5: mm | E5: =C5/1000 -> 0.0831 | F5: m | H5: 4 | I5: =(E5/2)*(1-COS(RADIANS(H5))) + E8 - SQRT(E8^2 - (E5/2)^2*SIN(RADIANS(H5))^2) -> 0.00012993658 | J5: =(I6-I4)/(H6-H4) -> 6.4904585e-05 | K5: =(J6-J4)/(H6-H4) -> 1.6178406e-05 | L5: =J5/1000*6*$C$11 -> 0.00155771 | M5: =$E$6 + (PI()/4)*$E$4^2*(I5/1000) -> 5.0990781e-05 | N5: =M5*1000000 -> 50.990781
B6: Clearance Vol | C6: 50.99 | D6: cc | E6: =C6/1000000 -> 5.099e-05 | F6: m^3 | H6: 6 | I6: =(E5/2)*(1-COS(RADIANS(H6))) + E8 - SQRT(E8^2 - (E5/2)^2*SIN(RADIANS(H6))^2) -> 0.00029211842 | J6: =(I7-I5)/(H7-H5) -> 9.719777e-05 | K6: =(J7-J5)/(H7-H5) -> 1.6098972e-05 | L6: =J6/1000*6*$C$11 -> 0.0023327465 | M6: =$E$6 + (PI()/4)*$E$4^2*(I6/1000) -> 5.0991757e-05 | N6: =M6*1000000 -> 50.991757
B7: Cylinders | C7: 4 | H7: 8 | I7: =(E5/2)*(1-COS(RADIANS(H7))) + E8 - SQRT(E8^2 - (E5/2)^2*SIN(RADIANS(H7))^2) -> 0.00051872767 | J7: =(I8-I6)/(H8-H6) -> 0.00012930047 | K7: =(J8-J6)/(H8-H6) -> 1.5988044e-05 | L7: =J7/1000*6*$C$11 -> 0.0031032114 | M7: =$E$6 + (PI()/4)*$E$4^2*(I7/1000) -> 5.0993119e-05 | N7: =M7*1000000 -> 50.993119
B8: Con Rod Length | C8: 146.25 | D8: mm | E8: =C8/1000 -> 0.14625 | F8: m | H8: 10 | I8: =(E5/2)*(1-COS(RADIANS(H8))) + E8 - SQRT(E8^2 - (E5/2)^2*SIN(RADIANS(H8))^2) -> 0.00080932032 | J8: =(I9-I7)/(H9-H7) -> 0.00016114995 | K8: =(J9-J7)/(H9-H7) -> 1.5845902e-05 | L8: =J8/1000*6*$C$11 -> 0.0038675987 | M8: =$E$6 + (PI()/4)*$E$4^2*(I8/1000) -> 5.0994867e-05 | N8: =M8*1000000 -> 50.994867
B9: Capacity | C9: =(((PI()*(0.5*E4)^2)*E5))*1000000*C7 -> 1998.7892 | D9: cc | E9: =C9/1000000 -> 0.0019987892 | F9: m^3 | H9: 12 | I9: =(E5/2)*(1-COS(RADIANS(H9))) + E8 - SQRT(E8^2 - (E5/2)^2*SIN(RADIANS(H9))^2) -> 0.0011633275 | J9: =(I10-I8)/(H10-H8) -> 0.00019268408 | K9: =(J10-J8)/(H10-H8) -> 1.5672905e-05 | L9: =J9/1000*6*$C$11 -> 0.004624418 | M9: =$E$6 + (PI()/4)*$E$4^2*(I9/1000) -> 5.0996995e-05 | N9: =M9*1000000 -> 50.996995
B10: Mean Piston Spd | C10: 11.1 | D10: m/s | H10: 14 | I10: =(E5/2)*(1-COS(RADIANS(H10))) + E8 - SQRT(E8^2 - (E5/2)^2*SIN(RADIANS(H10))^2) -> 0.0015800566 | J10: =(I11-I9)/(H11-H9) -> 0.00022384157 | K10: =(J11-J9)/(H11-H9) -> 1.5469492e-05 | L10: =J10/1000*6*$C$11 -> 0.0053721976 | M10: =$E$6 + (PI()/4)*$E$4^2*(I10/1000) -> 5.0999501e-05 | N10: =M10*1000000 -> 50.999501
B11: RPM | C11: 4000 | H11: 16 | I11: =(E5/2)*(1-COS(RADIANS(H11))) + E8 - SQRT(E8^2 - (E5/2)^2*SIN(RADIANS(H11))^2) -> 0.0020586937 | J11: =(I12-I10)/(H12-H10) -> 0.00025456205 | K11: =(J12-J10)/(H12-H10) -> 1.5236182e-05 | L11: =J11/1000*6*$C$11 -> 0.0061094892 | M11: =$E$6 + (PI()/4)*$E$4^2*(I11/1000) -> 5.1002379e-05 | N11: =M11*1000000 -> 51.002379
H12: 18 | I12: =(E5/2)*(1-COS(RADIANS(H12))) + E8 - SQRT(E8^2 - (E5/2)^2*SIN(RADIANS(H12))^2) -> 0.0025983049 | J12: =(I13-I11)/(H13-H11) -> 0.0002847863 | K12: =(J13-J11)/(H13-H11) -> 1.4973572e-05 | L12: =J12/1000*6*$C$11 -> 0.0068348711 | M12: =$E$6 + (PI()/4)*$E$4^2*(I12/1000) -> 5.1005624e-05 | N12: =M12*1000000 -> 51.005624
H13: 20 | I13: =(E5/2)*(1-COS(RADIANS(H13))) + E8 - SQRT(E8^2 - (E5/2)^2*SIN(RADIANS(H13))^2) -> 0.0031978389 | J13: =(I14-I12)/(H14-H12) -> 0.00031445634 | K13: =(J14-J12)/(H14-H12) -> 1.4682338e-05 | L13: =J13/1000*6*$C$11 -> 0.0075469521 | M13: =$E$6 + (PI()/4)*$E$4^2*(I13/1000) -> 5.1009229e-05 | N13: =M13*1000000 -> 51.009229
H14: 22 | I14: =(E5/2)*(1-COS(RADIANS(H14))) + E8 - SQRT(E8^2 - (E5/2)^2*SIN(RADIANS(H14))^2) -> 0.0038561302 | J14: =(I15-I13)/(H15-H13) -> 0.00034351565 | K14: =(J15-J13)/(H15-H13) -> 1.4363237e-05 | L14: =J14/1000*6*$C$11 -> 0.0082443756 | M14: =$E$6 + (PI()/4)*$E$4^2*(I14/1000) -> 5.1013188e-05 | N14: =M14*1000000 -> 51.013188
H15: 24 | I15: =(E5/2)*(1-COS(RADIANS(H15))) + E8 - SQRT(E8^2 - (E5/2)^2*SIN(RADIANS(H15))^2) -> 0.0045719015 | J15: =(I16-I14)/(H16-H14) -> 0.00037190929 | K15: =(J16-J14)/(H16-H14) -> 1.40171e-05 | L15: =J15/1000*6*$C$11 -> 0.0089258228 | M15: =$E$6 + (PI()/4)*$E$4^2*(I15/1000) -> 5.1017492e-05 | N15: =M15*1000000 -> 51.017492
H16: 26 | I16: =(E5/2)*(1-COS(RADIANS(H16))) + E8 - SQRT(E8^2 - (E5/2)^2*SIN(RADIANS(H16))^2) -> 0.0053437673 | J16: =(I17-I15)/(H17-H15) -> 0.00039958405 | K16: =(J17-J15)/(H17-H15) -> 1.3644837e-05 | L16: =J16/1000*6*$C$11 -> 0.0095900172 | M16: =$E$6 + (PI()/4)*$E$4^2*(I16/1000) -> 5.1022133e-05 | N16: =M16*1000000 -> 51.022133
H17: 28 | I17: =(E5/2)*(1-COS(RADIANS(H17))) + E8 - SQRT(E8^2 - (E5/2)^2*SIN(RADIANS(H17))^2) -> 0.0061702377 | J17: =(I18-I16)/(H18-H16) -> 0.00042648863 | K17: =(J18-J16)/(H18-H16) -> 1.3247434e-05 | L17: =J17/1000*6*$C$11 -> 0.010235727 | M17: =$E$6 + (PI()/4)*$E$4^2*(I17/1000) -> 5.1027103e-05 | N17: =M17*1000000 -> 51.027103
H18: 30 | I18: =(E5/2)*(1-COS(RADIANS(H18))) + E8 - SQRT(E8^2 - (E5/2)^2*SIN(RADIANS(H18))^2) -> 0.0070497219 | J18: =(I19-I17)/(H19-H17) -> 0.00045257379 | K18: =(J19-J17)/(H19-H17) -> 1.2825951e-05 | L18: =J18/1000*6*$C$11 -> 0.010861771 | M18: =$E$6 + (PI()/4)*$E$4^2*(I18/1000) -> 5.1032391e-05 | N18: =M18*1000000 -> 51.032391
H19: 32 | I19: =(E5/2)*(1-COS(RADIANS(H19))) + E8 - SQRT(E8^2 - (E5/2)^2*SIN(RADIANS(H19))^2) -> 0.0079805328 | J19: =(I20-I18)/(H20-H18) -> 0.00047779244 | K19: =(J20-J18)/(H20-H18) -> 1.2381521e-05 | L19: =J19/1000*6*$C$11 -> 0.011467019 | M19: =$E$6 + (PI()/4)*$E$4^2*(I19/1000) -> 5.1037989e-05 | N19: =M19*1000000 -> 51.037989
H20: 34 | I20: =(E5/2)*(1-COS(RADIANS(H20))) + E8 - SQRT(E8^2 - (E5/2)^2*SIN(RADIANS(H20))^2) -> 0.0089608916 | J20: =(I21-I19)/(H21-H19) -> 0.00050209987 | K20: =(J21-J19)/(H21-H19) -> 1.1915347e-05 | L20: =J20/1000*6*$C$11 -> 0.012050397 | M20: =$E$6 + (PI()/4)*$E$4^2*(I20/1000) -> 5.1043884e-05 | N20: =M20*1000000 -> 51.043884
H21: 36 | I21: =(E5/2)*(1-COS(RADIANS(H21))) + E8 - SQRT(E8^2 - (E5/2)^2*SIN(RADIANS(H21))^2) -> 0.0099889323 | J21: =(I22-I20)/(H22-H20) -> 0.00052545383 | K21: =(J22-J20)/(H22-H20) -> 1.1428703e-05 | L21: =J21/1000*6*$C$11 -> 0.012610892 | M21: =$E$6 + (PI()/4)*$E$4^2*(I21/1000) -> 5.1050065e-05 | N21: =M21*1000000 -> 51.050065
H22: 38 | I22: =(E5/2)*(1-COS(RADIANS(H22))) + E8 - SQRT(E8^2 - (E5/2)^2*SIN(RADIANS(H22))^2) -> 0.011062707 | J22: =(I23-I21)/(H23-H21) -> 0.00054781468 | K22: =(J23-J21)/(H23-H21) -> 1.0922927e-05 | L22: =J22/1000*6*$C$11 -> 0.013147552 | M22: =$E$6 + (PI()/4)*$E$4^2*(I22/1000) -> 5.1056522e-05 | N22: =M22*1000000 -> 51.056522
H23: 40 | I23: =(E5/2)*(1-COS(RADIANS(H23))) + E8 - SQRT(E8^2 - (E5/2)^2*SIN(RADIANS(H23))^2) -> 0.012180191 | J23: =(I24-I22)/(H24-H22) -> 0.00056914554 | K23: =(J24-J22)/(H24-H22) -> 1.0399419e-05 | L23: =J23/1000*6*$C$11 -> 0.013659493 | M23: =$E$6 + (PI()/4)*$E$4^2*(I23/1000) -> 5.1063242e-05 | N23: =M23*1000000 -> 51.063242
H24: 42 | I24: =(E5/2)*(1-COS(RADIANS(H24))) + E8 - SQRT(E8^2 - (E5/2)^2*SIN(RADIANS(H24))^2) -> 0.013339289 | J24: =(I25-I23)/(H25-H23) -> 0.00058941236 | K24: =(J25-J23)/(H25-H23) -> 9.8596419e-06 | L24: =J24/1000*6*$C$11 -> 0.014145897 | M24: =$E$6 + (PI()/4)*$E$4^2*(I24/1000) -> 5.1070212e-05 | N24: =M24*1000000 -> 51.070212
H25: 44 | I25: =(E5/2)*(1-COS(RADIANS(H25))) + E8 - SQRT(E8^2 - (E5/2)^2*SIN(RADIANS(H25))^2) -> 0.01453784 | J25: =(I26-I24)/(H26-H24) -> 0.0006085841 | K25: =(J26-J24)/(H26-H24) -> 9.3051092e-06 | L25: =J25/1000*6*$C$11 -> 0.014606018 | M25: =$E$6 + (PI()/4)*$E$4^2*(I25/1000) -> 5.1077419e-05 | N25: =M25*1000000 -> 51.077419
H26: 46 | I26: =(E5/2)*(1-COS(RADIANS(H26))) + E8 - SQRT(E8^2 - (E5/2)^2*SIN(RADIANS(H26))^2) -> 0.015773626 | J26: =(I27-I25)/(H27-H25) -> 0.0006266328 | K26: =(J27-J25)/(H27-H25) -> 8.7373871e-06 | L26: =J26/1000*6*$C$11 -> 0.015039187 | M26: =$E$6 + (PI()/4)*$E$4^2*(I26/1000) -> 5.108485e-05 | N26: =M26*1000000 -> 51.08485
H27: 48 | I27: =(E5/2)*(1-COS(RADIANS(H27))) + E8 - SQRT(E8^2 - (E5/2)^2*SIN(RADIANS(H27))^2) -> 0.017044372 | J27: =(I28-I26)/(H28-H26) -> 0.00064353365 | K27: =(J28-J26)/(H28-H26) -> 8.1580857e-06 | L27: =J27/1000*6*$C$11 -> 0.015444808 | M27: =$E$6 + (PI()/4)*$E$4^2*(I27/1000) -> 5.1092491e-05 | N27: =M27*1000000 -> 51.092491
H28: 50 | I28: =(E5/2)*(1-COS(RADIANS(H28))) + E8 - SQRT(E8^2 - (E5/2)^2*SIN(RADIANS(H28))^2) -> 0.01834776 | J28: =(I29-I27)/(H29-H27) -> 0.00065926514 | K28: =(J29-J27)/(H29-H27) -> 7.5688548e-06 | L28: =J28/1000*6*$C$11 -> 0.015822363 | M28: =$E$6 + (PI()/4)*$E$4^2*(I28/1000) -> 5.1100329e-05 | N28: =M28*1000000 -> 51.100329
H29: 52 | I29: =(E5/2)*(1-COS(RADIANS(H29))) + E8 - SQRT(E8^2 - (E5/2)^2*SIN(RADIANS(H29))^2) -> 0.019681432 | J29: =(I30-I28)/(H30-H28) -> 0.00067380907 | K29: =(J30-J28)/(H30-H28) -> 6.9713766e-06 | L29: =J29/1000*6*$C$11 -> 0.016171418 | M29: =$E$6 + (PI()/4)*$E$4^2*(I29/1000) -> 5.1108348e-05 | N29: =M29*1000000 -> 51.108348
H30: 54 | I30: =(E5/2)*(1-COS(RADIANS(H30))) + E8 - SQRT(E8^2 - (E5/2)^2*SIN(RADIANS(H30))^2) -> 0.021042996 | J30: =(I31-I29)/(H31-H29) -> 0.00068715065 | K30: =(J31-J29)/(H31-H29) -> 6.3673592e-06 | L30: =J30/1000*6*$C$11 -> 0.016491616 | M30: =$E$6 + (PI()/4)*$E$4^2*(I30/1000) -> 5.1116536e-05 | N30: =M30*1000000 -> 51.116536
H31: 56 | I31: =(E5/2)*(1-COS(RADIANS(H31))) + E8 - SQRT(E8^2 - (E5/2)^2*SIN(RADIANS(H31))^2) -> 0.022430035 | J31: =(I32-I30)/(H32-H30) -> 0.00069927851 | K31: =(J32-J30)/(H32-H30) -> 5.7585289e-06 | L31: =J31/1000*6*$C$11 -> 0.016782684 | M31: =$E$6 + (PI()/4)*$E$4^2*(I31/1000) -> 5.1124876e-05 | N31: =M31*1000000 -> 51.124876
H32: 58 | I32: =(E5/2)*(1-COS(RADIANS(H32))) + E8 - SQRT(E8^2 - (E5/2)^2*SIN(RADIANS(H32))^2) -> 0.02384011 | J32: =(I33-I31)/(H33-H31) -> 0.00071018476 | K32: =(J33-J31)/(H33-H31) -> 5.1466226e-06 | L32: =J32/1000*6*$C$11 -> 0.017044434 | M32: =$E$6 + (PI()/4)*$E$4^2*(I32/1000) -> 5.1133355e-05 | N32: =M32*1000000 -> 51.133355
H33: 60 | I33: =(E5/2)*(1-COS(RADIANS(H33))) + E8 - SQRT(E8^2 - (E5/2)^2*SIN(RADIANS(H33))^2) -> 0.025270774 | J33: =(I34-I32)/(H34-H32) -> 0.000719865 | K33: =(J34-J32)/(H34-H32) -> 4.533379e-06 | L33: =J33/1000*6*$C$11 -> 0.01727676 | M33: =$E$6 + (PI()/4)*$E$4^2*(I33/1000) -> 5.1141958e-05 | N33: =M33*1000000 -> 51.141958
H34: 62 | I34: =(E5/2)*(1-COS(RADIANS(H34))) + E8 - SQRT(E8^2 - (E5/2)^2*SIN(RADIANS(H34))^2) -> 0.02671957 | J34: =(I35-I33)/(H35-H33) -> 0.00072831828 | K34: =(J35-J33)/(H35-H33) -> 3.9205298e-06 | L34: =J34/1000*6*$C$11 -> 0.017479639 | M34: =$E$6 + (PI()/4)*$E$4^2*(I34/1000) -> 5.115067e-05 | N34: =M34*1000000 -> 51.15067
H35: 64 | I35: =(E5/2)*(1-COS(RADIANS(H35))) + E8 - SQRT(E8^2 - (E5/2)^2*SIN(RADIANS(H35))^2) -> 0.028184047 | J35: =(I36-I34)/(H36-H34) -> 0.00073554712 | K35: =(J36-J34)/(H36-H34) -> 3.309791e-06 | L35: =J35/1000*6*$C$11 -> 0.017653131 | M35: =$E$6 + (PI()/4)*$E$4^2*(I35/1000) -> 5.1159476e-05 | N35: =M35*1000000 -> 51.159476
H36: 66 | I36: =(E5/2)*(1-COS(RADIANS(H36))) + E8 - SQRT(E8^2 - (E5/2)^2*SIN(RADIANS(H36))^2) -> 0.029661759 | J36: =(I37-I35)/(H37-H35) -> 0.00074155744 | K36: =(J37-J35)/(H37-H35) -> 2.702853e-06 | L36: =J36/1000*6*$C$11 -> 0.017797379 | M36: =$E$6 + (PI()/4)*$E$4^2*(I36/1000) -> 5.1168362e-05 | N36: =M36*1000000 -> 51.168362
H37: 68 | I37: =(E5/2)*(1-COS(RADIANS(H37))) + E8 - SQRT(E8^2 - (E5/2)^2*SIN(RADIANS(H37))^2) -> 0.031150277 | J37: =(I38-I36)/(H38-H36) -> 0.00074635853 | K37: =(J38-J36)/(H38-H36) -> 2.1013711e-06 | L37: =J37/1000*6*$C$11 -> 0.017912605 | M37: =$E$6 + (PI()/4)*$E$4^2*(I37/1000) -> 5.1177313e-05 | N37: =M37*1000000 -> 51.177313
H38: 70 | I38: =(E5/2)*(1-COS(RADIANS(H38))) + E8 - SQRT(E8^2 - (E5/2)^2*SIN(RADIANS(H38))^2) -> 0.032647193 | J38: =(I39-I37)/(H39-H37) -> 0.00074996293 | K38: =(J39-J37)/(H39-H37) -> 1.5069565e-06 | L38: =J38/1000*6*$C$11 -> 0.01799911 | M38: =$E$6 + (PI()/4)*$E$4^2*(I38/1000) -> 5.1186314e-05 | N38: =M38*1000000 -> 51.186314
H39: 72 | I39: =(E5/2)*(1-COS(RADIANS(H39))) + E8 - SQRT(E8^2 - (E5/2)^2*SIN(RADIANS(H39))^2) -> 0.034150128 | J39: =(I40-I38)/(H40-H38) -> 0.00075238635 | K39: =(J40-J38)/(H40-H38) -> 9.2116611e-07 | L39: =J39/1000*6*$C$11 -> 0.018057273 | M39: =$E$6 + (PI()/4)*$E$4^2*(I39/1000) -> 5.1195352e-05 | N39: =M39*1000000 -> 51.195352
H40: 74 | I40: =(E5/2)*(1-COS(RADIANS(H40))) + E8 - SQRT(E8^2 - (E5/2)^2*SIN(RADIANS(H40))^2) -> 0.035656738 | J40: =(I41-I39)/(H41-H39) -> 0.00075364759 | K40: =(J41-J39)/(H41-H39) -> 3.4549358e-07 | L40: =J40/1000*6*$C$11 -> 0.018087542 | M40: =$E$6 + (PI()/4)*$E$4^2*(I40/1000) -> 5.1204411e-05 | N40: =M40*1000000 -> 51.204411
...

Sheet Valve Motion
A1: Valve Motion Analysis
A3: Crank Angle (deg) | B3: Inlet Lift (mm) | C3: Exhaust Lift (mm) | D3: Inlet Vel (mm/deg) | E3: Inlet Acc (mm/deg^2) | F3: Inlet Jerk (mm/deg^3) | G3: Exhaust Vel (mm/deg) | H3: Exhaust Acc (mm/deg^2) | I3: Exhaust Jerk (mm/deg^3)
A4: ='flow bench data and cam data '!A7 -> 1 | B4: ='flow bench data and cam data '!E7 -> 0 | C4: ='flow bench data and cam data '!B7 -> 0.01 | D4: =(B5-B4)/(A5-A4) -> 0 | E4: =(D5-D4)/(A5-A4) -> 0 | F4: =(E5-E4)/(A5-A4) -> 0 | G4: =(C5-C4)/(A5-A4) -> 0 | H4: =(G5-G4)/(A5-A4) -> 0 | I4: =(H5-H4)/(A5-A4) -> 0
A5: ='flow bench data and cam data '!A8 -> 2 | B5: ='flow bench data and cam data '!E8 -> 0 | C5: ='flow bench data and cam data '!B8 -> 0.01 | D5: =(B6-B4)/(A6-A4) -> 0 | E5: =(D6-D4)/(A6-A4) -> 0 | F5: =(E6-E4)/(A6-A4) -> 0 | G5: =(C6-C4)/(A6-A4) -> 0 | H5: =(G6-G4)/(A6-A4) -> 0 | I5: =(H6-H4)/(A6-A4) -> 0.00125
A6: ='flow bench data and cam data '!A9 -> 3 | B6: ='flow bench data and cam data '!E9 -> 0 | C6: ='flow bench data and cam data '!B9 -> 0.01 | D6: =(B7-B5)/(A7-A5) -> 0 | E6: =(D7-D5)/(A7-A5) -> 0 | F6: =(E7-E5)/(A7-A5) -> 0 | G6: =(C7-C5)/(A7-A5) -> 0 | H6: =(G7-G5)/(A7-A5) -> 0.0025 | I6: =(H7-H5)/(A7-A5) -> 0.00125
A7: ='flow bench data and cam data '!A10 -> 4 | B7: ='flow bench data and cam data '!E10 -> 0 | C7: ='flow bench data and cam data '!B10 -> 0.01 | D7: =(B8-B6)/(A8-A6) -> 0 | E7: =(D8-D6)/(A8-A6) -> 0 | F7: =(E8-E6)/(A8-A6) -> 0.00125 | G7: =(C8-C6)/(A8-A6) -> 0.005 | H7: =(G8-G6)/(A8-A6) -> 0.0025 | I7: =(H8-H6)/(A8-A6) -> -0.0025
A8: ='flow bench data and cam data '!A11 -> 5 | B8: ='flow bench data and cam data '!E11 -> 0 | C8: ='flow bench data and cam data '!B11 -> 0.02 | D8: =(B9-B7)/(A9-A7) -> 0 | E8: =(D9-D7)/(A9-A7) -> 0.0025 | F8: =(E9-E7)/(A9-A7) -> 0.00125 | G8: =(C9-C7)/(A9-A7) -> 0.005 | H8: =(G9-G7)/(A9-A7) -> -0.0025 | I8: =(H9-H7)/(A9-A7) -> -0.0025
A9: ='flow bench data and cam data '!A12 -> 6 | B9: ='flow bench data and cam data '!E12 -> 0 | C9: ='flow bench data and cam data '!B12 -> 0.02 | D9: =(B10-B8)/(A10-A8) -> 0.005 | E9: =(D10-D8)/(A10-A8) -> 0.0025 | F9: =(E10-E8)/(A10-A8) -> -0.0025 | G9: =(C10-C8)/(A10-A8) -> 0 | H9: =(G10-G8)/(A10-A8) -> -0.0025 | I9: =(H10-H8)/(A10-A8) -> 0.00125
A10: ='flow bench data and cam data '!A13 -> 7 | B10: ='flow bench data and cam data '!E13 -> 0.01 | C10: ='flow bench data and cam data '!B13 -> 0.02 | D10: =(B11-B9)/(A11-A9) -> 0.005 | E10: =(D11-D9)/(A11-A9) -> -0.0025 | F10: =(E11-E9)/(A11-A9) -> -0.0025 | G10: =(C11-C9)/(A11-A9) -> 0 | H10: =(G11-G9)/(A11-A9) -> 0 | I10: =(H11-H9)/(A11-A9) -> 0.00125
A11: ='flow bench data and cam data '!A14 -> 8 | B11: ='flow bench data and cam data '!E14 -> 0.01 | C11: ='flow bench data and cam data '!B14 -> 0.02 | D11: =(B12-B10)/(A12-A10) -> 0 | E11: =(D12-D10)/(A12-A10) -> -0.0025 | F11: =(E12-E10)/(A12-A10) -> 0.00125 | G11: =(C12-C10)/(A12-A10) -> 0 | H11: =(G12-G10)/(A12-A10) -> 0 | I11: =(H12-H10)/(A12-A10) -> 0.00125
A12: ='flow bench data and cam data '!A15 -> 9 | B12: ='flow bench data and cam data '!E15 -> 0.01 | C12: ='flow bench data and cam data '!B15 -> 0.02 | D12: =(B13-B11)/(A13-A11) -> 0 | E12: =(D13-D11)/(A13-A11) -> 0 | F12: =(E13-E11)/(A13-A11) -> 0.00125 | G12: =(C13-C11)/(A13-A11) -> 0 | H12: =(G13-G11)/(A13-A11) -> 0.0025 | I12: =(H13-H11)/(A13-A11) -> 0.00125
A13: ='flow bench data and cam data '!A16 -> 10 | B13: ='flow bench data and cam data '!E16 -> 0.01 | C13: ='flow bench data and cam data '!B16 -> 0.02 | D13: =(B14-B12)/(A14-A12) -> 0 | E13: =(D14-D12)/(A14-A12) -> 0 | F13: =(E14-E12)/(A14-A12) -> 0 | G13: =(C14-C12)/(A14-A12) -> 0.005 | H13: =(G14-G12)/(A14-A12) -> 0.0025 | I13: =(H14-H12)/(A14-A12) -> -0.0025
A14: ='flow bench data and cam data '!A17 -> 11 | B14: ='flow bench data and cam data '!E17 -> 0.01 | C14: ='flow bench data and cam data '!B17 -> 0.03 | D14: =(B15-B13)/(A15-A13) -> 0 | E14: =(D15-D13)/(A15-A13) -> 0 | F14: =(E15-E13)/(A15-A13) -> 0 | G14: =(C15-C13)/(A15-A13) -> 0.005 | H14: =(G15-G13)/(A15-A13) -> -0.0025 | I14: =(H15-H13)/(A15-A13) -> -0.0025
A15: ='flow bench data and cam data '!A18 -> 12 | B15: ='flow bench data and cam data '!E18 -> 0.01 | C15: ='flow bench data and cam data '!B18 -> 0.03 | D15: =(B16-B14)/(A16-A14) -> 0 | E15: =(D16-D14)/(A16-A14) -> 0 | F15: =(E16-E14)/(A16-A14) -> 0 | G15: =(C16-C14)/(A16-A14) -> 0 | H15: =(G16-G14)/(A16-A14) -> -0.0025 | I15: =(H16-H14)/(A16-A14) -> 0.00125
A16: ='flow bench data and cam data '!A19 -> 13 | B16: ='flow bench data and cam data '!E19 -> 0.01 | C16: ='flow bench data and cam data '!B19 -> 0.03 | D16: =(B17-B15)/(A17-A15) -> 0 | E16: =(D17-D15)/(A17-A15) -> 0 | F16: =(E17-E15)/(A17-A15) -> 0 | G16: =(C17-C15)/(A17-A15) -> 0 | H16: =(G17-G15)/(A17-A15) -> 0 | I16: =(H17-H15)/(A17-A15) -> 0.00125
... A362: ='flow bench data and cam data '!A365 -> 359 | B362: ='flow bench data and cam data '!E365 -> 0 | C362: ='flow bench data and cam data '!B365 -> 0.01 | D362: =(B363-B361)/(A363-A361) -> 0 | E362: =(D363-D361)/(A363-A361) -> 0 | F362: =(E363-E361)/(A363-A361) -> 0 | G362: =(C363-C361)/(A363-A361) -> 0.005 | H362: =(G363-G361)/(A363-A361) -> -0.0025 | I362: =(H363-H361)/(A363-A361) -> -0.00375
A363: ='flow bench data and cam data '!A366 -> 360 | B363: ='flow bench data and cam data '!E366 -> 0 | C363: ='flow bench data and cam data '!B366 -> 0.01 | D363: =(B363-B362)/(A363-A362) -> 0 | E363: =(D363-D362)/(A363-A362) -> 0 | F363: =(E363-E362)/(A363-A362) -> 0 | G363: =(C363-C362)/(A363-A362) -> 0 | H363: =(G363-G362)/(A363-A362) -> -0.005 | I363: =(H363-H362)/(A363-A362) -> -0.0025

Sheet valve dynamics

Sheet Valve Piston
A1: Inlet Valve Lift & Piston Position vs Crank Angle
A3: Crank angle (deg) | B3: Inlet valve lift (mm) | C3: Piston position from TDC (mm)
A4: ='flow bench data and cam data '!A7 -> 1 | B4: ='flow bench data and cam data '!E7 -> 0 | C4: =1000*(('crank and pistion Calculations'!E5/2)*(1-COS(RADIANS(A4))) + 'crank and pistion Calculations'!E8 - SQRT('crank and pistion Calculations'!E8^2 - ('crank and pistion Calculations'!E5/2)^2*SIN(RADIANS(A4))^2)) -> 0.0081260171
A5: ='flow bench data and cam data '!A8 -> 2 | B5: ='flow bench data and cam data '!E8 -> 0 | C5: =1000*(('crank and pistion Calculations'!E5/2)*(1-COS(RADIANS(A5))) + 'crank and pistion Calculations'!E8 - SQRT('crank and pistion Calculations'!E8^2 - ('crank and pistion Calculations'!E5/2)^2*SIN(RADIANS(A5))^2)) -> 0.032500083
A6: ='flow bench data and cam data '!A9 -> 3 | B6: ='flow bench data and cam data '!E9 -> 0 | C6: =1000*(('crank and pistion Calculations'!E5/2)*(1-COS(RADIANS(A6))) + 'crank and pistion Calculations'!E8 - SQRT('crank and pistion Calculations'!E8^2 - ('crank and pistion Calculations'!E5/2)^2*SIN(RADIANS(A6))^2)) -> 0.073110243
A7: ='flow bench data and cam data '!A10 -> 4 | B7: ='flow bench data and cam data '!E10 -> 0 | C7: =1000*(('crank and pistion Calculations'!E5/2)*(1-COS(RADIANS(A7))) + 'crank and pistion Calculations'!E8 - SQRT('crank and pistion Calculations'!E8^2 - ('crank and pistion Calculations'!E5/2)^2*SIN(RADIANS(A7))^2)) -> 0.12993658
A8: ='flow bench data and cam data '!A11 -> 5 | B8: ='flow bench data and cam data '!E11 -> 0 | C8: =1000*(('crank and pistion Calculations'!E5/2)*(1-COS(RADIANS(A8))) + 'crank and pistion Calculations'!E8 - SQRT('crank and pistion Calculations'!E8^2 - ('crank and pistion Calculations'!E5/2)^2*SIN(RADIANS(A8))^2)) -> 0.20295124
A9: ='flow bench data and cam data '!A12 -> 6 | B9: ='flow bench data and cam data '!E12 -> 0 | C9: =1000*(('crank and pistion Calculations'!E5/2)*(1-COS(RADIANS(A9))) + 'crank and pistion Calculations'!E8 - SQRT('crank and pistion Calculations'!E8^2 - ('crank and pistion Calculations'!E5/2)^2*SIN(RADIANS(A9))^2)) -> 0.29211842
A10: ='flow bench data and cam data '!A13 -> 7 | B10: ='flow bench data and cam data '!E13 -> 0.01 | C10: =1000*(('crank and pistion Calculations'!E5/2)*(1-COS(RADIANS(A10))) + 'crank and pistion Calculations'!E8 - SQRT('crank and pistion Calculations'!E8^2 - ('crank and pistion Calculations'!E5/2)^2*SIN(RADIANS(A10))^2)) -> 0.39739443
A11: ='flow bench data and cam data '!A14 -> 8 | B11: ='flow bench data and cam data '!E14 -> 0.01 | C11: =1000*(('crank and pistion Calculations'!E5/2)*(1-COS(RADIANS(A11))) + 'crank and pistion Calculations'!E8 - SQRT('crank and pistion Calculations'!E8^2 - ('crank and pistion Calculations'!E5/2)^2*SIN(RADIANS(A11))^2)) -> 0.51872767
A12: ='flow bench data and cam data '!A15 -> 9 | B12: ='flow bench data and cam data '!E15 -> 0.01 | C12: =1000*(('crank and pistion Calculations'!E5/2)*(1-COS(RADIANS(A12))) + 'crank and pistion Calculations'!E8 - SQRT('crank and pistion Calculations'!E8^2 - ('crank and pistion Calculations'!E5/2)^2*SIN(RADIANS(A12))^2)) -> 0.65605871
A13: ='flow bench data and cam data '!A16 -> 10 | B13: ='flow bench data and cam data '!E16 -> 0.01 | C13: =1000*(('crank and pistion Calculations'!E5/2)*(1-COS(RADIANS(A13))) + 'crank and pistion Calculations'!E8 - SQRT('crank and pistion Calculations'!E8^2 - ('crank and pistion Calculations'!E5/2)^2*SIN(RADIANS(A13))^2)) -> 0.80932032
A14: ='flow bench data and cam data '!A17 -> 11 | B14: ='flow bench data and cam data '!E17 -> 0.01 | C14: =1000*(('crank and pistion Calculations'!E5/2)*(1-COS(RADIANS(A14))) + 'crank and pistion Calculations'!E8 - SQRT('crank and pistion Calculations'!E8^2 - ('crank and pistion Calculations'!E5/2)^2*SIN(RADIANS(A14))^2)) -> 0.97843748
A15: ='flow bench data and cam data '!A18 -> 12 | B15: ='flow bench data and cam data '!E18 -> 0.01 | C15: =1000*(('crank and pistion Calculations'!E5/2)*(1-COS(RADIANS(A15))) + 'crank and pistion Calculations'!E8 - SQRT('crank and pistion Calculations'!E8^2 - ('crank and pistion Calculations'!E5/2)^2*SIN(RADIANS(A15))^2)) -> 1.1633275
A16: ='flow bench data and cam data '!A19 -> 13 | B16: ='flow bench data and cam data '!E19 -> 0.01 | C16: =1000*(('crank and pistion Calculations'!E5/2)*(1-COS(RADIANS(A16))) + 'crank and pistion Calculations'!E8 - SQRT('crank and pistion Calculations'!E8^2 - ('crank and pistion Calculations'!E5/2)^2*SIN(RADIANS(A16))^2)) -> 1.3638999
A17: ='flow bench data and cam data '!A20 -> 14 | B17: ='flow bench data and cam data '!E20 -> 0.01 | C17: =1000*(('crank and pistion Calculations'!E5/2)*(1-COS(RADIANS(A17))) + 'crank and pistion Calculations'!E8 - SQRT('crank and pistion Calculations'!E8^2 - ('crank and pistion Calculations'!E5/2)^2*SIN(RADIANS(A17))^2)) -> 1.5800566
A18: ='flow bench data and cam data '!A21 -> 15 | B18: ='flow bench data and cam data '!E21 -> 0.01 | C18: =1000*(('crank and pistion Calculations'!E5/2)*(1-COS(RADIANS(A18))) + 'crank and pistion Calculations'!E8 - SQRT('crank and pistion Calculations'!E8^2 - ('crank and pistion Calculations'!E5/2)^2*SIN(RADIANS(A18))^2)) -> 1.8116923
A19: ='flow bench data and cam data '!A22 -> 16 | B19: ='flow bench data and cam data '!E22 -> 0.01 | C19: =1000*(('crank and pistion Calculations'!E5/2)*(1-COS(RADIANS(A19))) + 'crank and pistion Calculations'!E8 - SQRT('crank and pistion Calculations'!E8^2 - ('crank and pistion Calculations'!E5/2)^2*SIN(RADIANS(A19))^2)) -> 2.0586937
A20: ='flow bench data and cam data '!A23 -> 17 | B20: ='flow bench data and cam data '!E23 -> 0 | C20: =1000*(('crank and pistion Calculations'!E5/2)*(1-COS(RADIANS(A20))) + 'crank and pistion Calculations'!E8 - SQRT('crank and pistion Calculations'!E8^2 - ('crank and pistion Calculations'!E5/2)^2*SIN(RADIANS(A20))^2)) -> 2.3209405
A21: ='flow bench data and cam data '!A24 -> 18 | B21: ='flow bench data and cam data '!E24 -> 0 | C21: =1000*(('crank and pistion Calculations'!E5/2)*(1-COS(RADIANS(A21))) + 'crank and pistion Calculations'!E8 - SQRT('crank and pistion Calculations'!E8^2 - ('crank and pistion Calculations'!E5/2)^2*SIN(RADIANS(A21))^2)) -> 2.5983049
A22: ='flow bench data and cam data '!A25 -> 19 | B22: ='flow bench data and cam data '!E25 -> 0 | C22: =1000*(('crank and pistion Calculations'!E5/2)*(1-COS(RADIANS(A22))) + 'crank and pistion Calculations'!E8 - SQRT('crank and pistion Calculations'!E8^2 - ('crank and pistion Calculations'!E5/2)^2*SIN(RADIANS(A22))^2)) -> 2.8906517
A23: ='flow bench data and cam data '!A26 -> 20 | B23: ='flow bench data and cam data '!E26 -> 0 | C23: =1000*(('crank and pistion Calculations'!E5/2)*(1-COS(RADIANS(A23))) + 'crank and pistion Calculations'!E8 - SQRT('crank and pistion Calculations'!E8^2 - ('crank and pistion Calculations'!E5/2)^2*SIN(RADIANS(A23))^2)) -> 3.1978389
A24: ='flow bench data and cam data '!A27 -> 21 | B24: ='flow bench data and cam data '!E27 -> 0 | C24: =1000*(('crank and pistion Calculations'!E5/2)*(1-COS(RADIANS(A24))) + 'crank and pistion Calculations'!E8 - SQRT('crank and pistion Calculations'!E8^2 - ('crank and pistion Calculations'!E5/2)^2*SIN(RADIANS(A24))^2)) -> 3.5197172
A25: ='flow bench data and cam data '!A28 -> 22 | B25: ='flow bench data and cam data '!E28 -> 0 | C25: =1000*(('crank and pistion Calculations'!E5/2)*(1-COS(RADIANS(A25))) + 'crank and pistion Calculations'!E8 - SQRT('crank and pistion Calculations'!E8^2 - ('crank and pistion Calculations'!E5/2)^2*SIN(RADIANS(A25))^2)) -> 3.8561302
A26: ='flow bench data and cam data '!A29 -> 23 | B26: ='flow bench data and cam data '!E29 -> 0 | C26: =1000*(('crank and pistion Calculations'!E5/2)*(1-COS(RADIANS(A26))) + 'crank and pistion Calculations'!E8 - SQRT('crank and pistion Calculations'!E8^2 - ('crank and pistion Calculations'!E5/2)^2*SIN(RADIANS(A26))^2)) -> 4.206915
A27: ='flow bench data and cam data '!A30 -> 24 | B27: ='flow bench data and cam data '!E30 -> 0 | C27: =1000*(('crank and pistion Calculations'!E5/2)*(1-COS(RADIANS(A27))) + 'crank and pistion Calculations'!E8 - SQRT('crank and pistion Calculations'!E8^2 - ('crank and pistion Calculations'!E5/2)^2*SIN(RADIANS(A27))^2)) -> 4.5719015
A28: ='flow bench data and cam data '!A31 -> 25 | B28: ='flow bench data and cam data '!E31 -> 0 | C28: =1000*(('crank and pistion Calculations'!E5/2)*(1-COS(RADIANS(A28))) + 'crank and pistion Calculations'!E8 - SQRT('crank and pistion Calculations'!E8^2 - ('crank and pistion Calculations'!E5/2)^2*SIN(RADIANS(A28))^2)) -> 4.9509133
A29: ='flow bench data and cam data '!A32 -> 26 | B29: ='flow bench data and cam data '!E32 -> 0 | C29: =1000*(('crank and pistion Calculations'!E5/2)*(1-COS(RADIANS(A29))) + 'crank and pistion Calculations'!E8 - SQRT('crank and pistion Calculations'!E8^2 - ('crank and pistion Calculations'!E5/2)^2*SIN(RADIANS(A29))^2)) -> 5.3437673
A30: ='flow bench data and cam data '!A33 -> 27 | B30: ='flow bench data and cam data '!E33 -> 0 | C30: =1000*(('crank and pistion Calculations'!E5/2)*(1-COS(RADIANS(A30))) + 'crank and pistion Calculations'!E8 - SQRT('crank and pistion Calculations'!E8^2 - ('crank and pistion Calculations'!E5/2)^2*SIN(RADIANS(A30))^2)) -> 5.7502741
A31: ='flow bench data and cam data '!A34 -> 28 | B31: ='flow bench data and cam data '!E34 -> 0 | C31: =1000*(('crank and pistion Calculations'!E5/2)*(1-COS(RADIANS(A31))) + 'crank and pistion Calculations'!E8 - SQRT('crank and pistion Calculations'!E8^2 - ('crank and pistion Calculations'!E5/2)^2*SIN(RADIANS(A31))^2)) -> 6.1702377
A32: ='flow bench data and cam data '!A35 -> 29 | B32: ='flow bench data and cam data '!E35 -> 0 | C32: =1000*(('crank and pistion Calculations'!E5/2)*(1-COS(RADIANS(A32))) + 'crank and pistion Calculations'!E8 - SQRT('crank and pistion Calculations'!E8^2 - ('crank and pistion Calculations'!E5/2)^2*SIN(RADIANS(A32))^2)) -> 6.6034563
A33: ='flow bench data and cam data '!A36 -> 30 | B33: ='flow bench data and cam data '!E36 -> 0 | C33: =1000*(('crank and pistion Calculations'!E5/2)*(1-COS(RADIANS(A33))) + 'crank and pistion Calculations'!E8 - SQRT('crank and pistion Calculations'!E8^2 - ('crank and pistion Calculations'!E5/2)^2*SIN(RADIANS(A33))^2)) -> 7.0497219
A34: ='flow bench data and cam data '!A37 -> 31 | B34: ='flow bench data and cam data '!E37 -> 0 | C34: =1000*(('crank and pistion Calculations'!E5/2)*(1-COS(RADIANS(A34))) + 'crank and pistion Calculations'!E8 - SQRT('crank and pistion Calculations'!E8^2 - ('crank and pistion Calculations'!E5/2)^2*SIN(RADIANS(A34))^2)) -> 7.5088206
A35: ='flow bench data and cam data '!A38 -> 32 | B35: ='flow bench data and cam data '!E38 -> 0 | C35: =1000*(('crank and pistion Calculations'!E5/2)*(1-COS(RADIANS(A35))) + 'crank and pistion Calculations'!E8 - SQRT('crank and pistion Calculations'!E8^2 - ('crank and pistion Calculations'!E5/2)^2*SIN(RADIANS(A35))^2)) -> 7.9805328
A36: ='flow bench data and cam data '!A39 -> 33 | B36: ='flow bench data and cam data '!E39 -> 0 | C36: =1000*(('crank and pistion Calculations'!E5/2)*(1-COS(RADIANS(A36))) + 'crank and pistion Calculations'!E8 - SQRT('crank and pistion Calculations'!E8^2 - ('crank and pistion Calculations'!E5/2)^2*SIN(RADIANS(A36))^2)) -> 8.4646334
A37: ='flow bench data and cam data '!A40 -> 34 | B37: ='flow bench data and cam data '!E40 -> 0 | C37: =1000*(('crank and pistion Calculations'!E5/2)*(1-COS(RADIANS(A37))) + 'crank and pistion Calculations'!E8 - SQRT('crank and pistion Calculations'!E8^2 - ('crank and pistion Calculations'!E5/2)^2*SIN(RADIANS(A37))^2)) -> 8.9608916
A38: ='flow bench data and cam data '!A41 -> 35 | B38: ='flow bench data and cam data '!E41 -> 0 | C38: =1000*(('crank and pistion Calculations'!E5/2)*(1-COS(RADIANS(A38))) + 'crank and pistion Calculations'!E8 - SQRT('crank and pistion Calculations'!E8^2 - ('crank and pistion Calculations'!E5/2)^2*SIN(RADIANS(A38))^2)) -> 9.4690716
A39: ='flow bench data and cam data '!A42 -> 36 | B39: ='flow bench data and cam data '!E42 -> 0 | C39: =1000*(('crank and pistion Calculations'!E5/2)*(1-COS(RADIANS(A39))) + 'crank and pistion Calculations'!E8 - SQRT('crank and pistion Calculations'!E8^2 - ('crank and pistion Calculations'!E5/2)^2*SIN(RADIANS(A39))^2)) -> 9.9889323
A40: ='flow bench data and cam data '!A43 -> 37 | B40: ='flow bench data and cam data '!E43 -> 0 | C40: =1000*(('crank and pistion Calculations'!E5/2)*(1-COS(RADIANS(A40))) + 'crank and pistion Calculations'!E8 - SQRT('crank and pistion Calculations'!E8^2 - ('crank and pistion Calculations'!E5/2)^2*SIN(RADIANS(A40))^2)) -> 10.520228
A41: ='flow bench data and cam data '!A44 -> 38 | B41: ='flow bench data and cam data '!E44 -> 0 | C41: =1000*(('crank and pistion Calculations'!E5/2)*(1-COS(RADIANS(A41))) + 'crank and pistion Calculations'!E8 - SQRT('crank and pistion Calculations'!E8^2 - ('crank and pistion Calculations'!E5/2)^2*SIN(RADIANS(A41))^2)) -> 11.062707
...

Sheet flow vs lift 

Sheet CF data
A1: Valve lift (mm) | B1: CF | D1: Crank angle | E1: Lift (mm) | F1: Interpolated CF | R1: Crank angle | S1: Interpolated CF
A2: 0 | B2: 0 | D2: ='Valve Motion'!A4 -> 1 | E2: ='Valve Motion'!B4 -> 0 | F2: =FORECAST(E2,$A$2:$A$11,$B$2:$B$11) -> -1.0682751 | R2: 1 | S2: -1.0682751
A3: 1 | B3: 0.069 | D3: ='Valve Motion'!A5 -> 2 | E3: ='Valve Motion'!B5 -> 0 | F3: =FORECAST(E3,$A$2:$A$11,$B$2:$B$11) -> -1.0682751 | R3: 2 | S3: -1.0682751
A4: 2 | B4: 0.122 | D4: ='Valve Motion'!A6 -> 3 | E4: ='Valve Motion'!B6 -> 0 | F4: =FORECAST(E4,$A$2:$A$11,$B$2:$B$11) -> -1.0682751 | R4: 3 | S4: -1.0682751
A5: 3 | B5: 0.19 | D5: ='Valve Motion'!A7 -> 4 | E5: ='Valve Motion'!B7 -> 0 | F5: =FORECAST(E5,$A$2:$A$11,$B$2:$B$11) -> -1.0682751 | R5: 4 | S5: -1.0682751
A6: 4 | B6: 0.21 | D6: ='Valve Motion'!A8 -> 5 | E6: ='Valve Motion'!B8 -> 0 | F6: =FORECAST(E6,$A$2:$A$11,$B$2:$B$11) -> -1.0682751 | R6: 5 | S6: -1.0682751
A7: 5 | B7: 0.24 | D7: ='Valve Motion'!A9 -> 6 | E7: ='Valve Motion'!B9 -> 0 | F7: =FORECAST(E7,$A$2:$A$11,$B$2:$B$11) -> -1.0682751 | R7: 6 | S7: -1.0682751
A8: 6 | B8: 0.26 | D8: ='Valve Motion'!A10 -> 7 | E8: ='Valve Motion'!B10 -> 0.01 | F8: =FORECAST(E8,$A$2:$A$11,$B$2:$B$11) -> -0.77658963 | R8: 7 | S8: -0.77658963
A9: 7 | B9: 0.27 | D9: ='Valve Motion'!A11 -> 8 | E9: ='Valve Motion'!B11 -> 0.01 | F9: =FORECAST(E9,$A$2:$A$11,$B$2:$B$11) -> -0.77658963 | R9: 8 | S9: -0.77658963
A10: 8 | B10: 0.274 | D10: ='Valve Motion'!A12 -> 9 | E10: ='Valve Motion'!B12 -> 0.01 | F10: =FORECAST(E10,$A$2:$A$11,$B$2:$B$11) -> -0.77658963 | R10: 9 | S10: -0.77658963
A11: 9 | B11: 0.274 | D11: ='Valve Motion'!A13 -> 10 | E11: ='Valve Motion'!B13 -> 0.01 | F11: =FORECAST(E11,$A$2:$A$11,$B$2:$B$11) -> -0.77658963 | R11: 10 | S11: -0.77658963
D12: ='Valve Motion'!A14 -> 11 | E12: ='Valve Motion'!B14 -> 0.01 | F12: =FORECAST(E12,$A$2:$A$11,$B$2:$B$11) -> -0.77658963 | R12: 11 | S12: -0.77658963
D13: ='Valve Motion'!A15 -> 12 | E13: ='Valve Motion'!B15 -> 0.01 | F13: =FORECAST(E13,$A$2:$A$11,$B$2:$B$11) -> -0.77658963 | R13: 12 | S13: -0.77658963
D14: ='Valve Motion'!A16 -> 13 | E14: ='Valve Motion'!B16 -> 0.01 | F14: =FORECAST(E14,$A$2:$A$11,$B$2:$B$11) -> -0.77658963 | R14: 13 | S14: -0.77658963
D15: ='Valve Motion'!A17 -> 14 | E15: ='Valve Motion'!B17 -> 0.01 | F15: =FORECAST(E15,$A$2:$A$11,$B$2:$B$11) -> -0.77658963 | R15: 14 | S15: -0.77658963
D16: ='Valve Motion'!A18 -> 15 | E16: ='Valve Motion'!B18 -> 0.01 | F16: =FORECAST(E16,$A$2:$A$11,$B$2:$B$11) -> -0.77658963 | R16: 15 | S16: -0.77658963
D17: ='Valve Motion'!A19 -> 16 | E17: ='Valve Motion'!B19 -> 0.01 | F17: =FORECAST(E17,$A$2:$A$11,$B$2:$B$11) -> -0.77658963 | R17: 16 | S17: -0.77658963
D18: ='Valve Motion'!A20 -> 17 | E18: ='Valve Motion'!B20 -> 0 | F18: =FORECAST(E18,$A$2:$A$11,$B$2:$B$11) -> -1.0682751 | R18: 17 | S18: -1.0682751
D19: ='Valve Motion'!A21 -> 18 | E19: ='Valve Motion'!B21 -> 0 | F19: =FORECAST(E19,$A$2:$A$11,$B$2:$B$11) -> -1.0682751 | R19: 18 | S19: -1.0682751
D20: ='Valve Motion'!A22 -> 19 | E20: ='Valve Motion'!B22 -> 0 | F20: =FORECAST(E20,$A$2:$A$11,$B$2:$B$11) -> -1.0682751 | R20: 19 | S20: -1.0682751
D21: ='Valve Motion'!A23 -> 20 | E21: ='Valve Motion'!B23 -> 0 | F21: =FORECAST(E21,$A$2:$A$11,$B$2:$B$11) -> -1.0682751 | R21: 20 | S21: -1.0682751
D22: ='Valve Motion'!A24 -> 21 | E22: ='Valve Motion'!B24 -> 0 | F22: =FORECAST(E22,$A$2:$A$11,$B$2:$B$11) -> -1.0682751 | R22: 21 | S22: -1.0682751
D23: ='Valve Motion'!A25 -> 22 | E23: ='Valve Motion'!B25 -> 0 | F23: =FORECAST(E23,$A$2:$A$11,$B$2:$B$11) -> -1.0682751 | R23: 22 | S23: -1.0682751
... D361: ='Valve Motion'!A363 -> 360 | E361: ='Valve Motion'!B363 -> 0 | F361: =FORECAST(E361,$A$2:$A$11,$B$2:$B$11) -> -1.0682751 | R361: 360 | S361: -1.0682751

Sheet CF graphs

Sheet CF MaxPower
A2: Max Power RPM Estimate from Mean Flow Coefficient
A4: Input / Assumption | B4: Value | C4: Units / Notes
A5: Inlet valve diameter | B5: 35 | C5: mm (measured)
A6: Engine displacement | B6: 2000 | C6: cc (2.0 L Duratec)
A7: Cylinders | B7: 4 | C7: inline-4
A8: Volumetric efficiency at max power (VE) | B8: 0.9 | C8: typical NA engine
A9: Ideal flow reference | B9: 138 | C9: CFM per in^2
A11: Mean flow coefficient (CF) | B11: =AVERAGEIF('CF data'!B2:B11,">0") -> 0.21211111 | C11: From CF_data, non-zero points
A13: Valve diameter | B13: =B5/25.4 -> 1.3779528 | C13: in
A14: Valve head area | B14: =PI()*(B13/2)^2 -> 1.4912777 | C14: in^2
A15: Ideal valve flow at test depression | B15: =B9*B14 -> 205.79633 | C15: CFM (ideal)
A16: Actual valve flow (mean) | B16: =B11*B15 -> 43.651688 | C16: CFM (from mean CF)
A17: Engine displacement | B17: =B6/16.387 -> 122.04796 | C17: in^3 (total)
A18: Per-cylinder displacement | B18: =B17/B7 -> 30.511991 | C18: in^3 per cylinder
A20: Estimated RPM at which valve flow matches cylinder demand | B20: =B16*3456/(B18*B8) -> 5493.6592 | C20: rpm (approx max power speed)
A22: RPM at VE = 0.85 | B22: =B16*3456/(B18*0.85) -> 5816.8156 | C22: rpm
A23: RPM at VE = 0.95 | B23: =B16*3456/(B18*0.95) -> 5204.5193 | C23: rpm

Sheet flow anylis 

Sheet lightweight valvetrain 
