Workbook

Sheet Power Screw
A1: Force (KN) | B1: 11000
A2: E (Youngs Modulus) | B2: 73500000000
A3: Yield Stress (Pascal) | B3: 542000000
A4: Factor of Safety | B4: 5
A5: Working Stress | B5: =B3/B4 -> 108400000
A6: Area of Screw | B6: =B1/B5 -> 0.00010147601
A7: Min Dia (m) | B7: =SQRT((B6*4)/PI()) -> 0.011366762
A8: Min Dia (mm) | B8: =B7*1000 -> 11.366762
A9: Diameter used (mm) | B9: 20 | C9: =B9/1000 -> 0.02 | D9: 0.01
A11: Buckling
A12: c | B12: 1.2
A13: Length (m) | B13: 0.2 | C13: =B13*1000 -> 200
A14: Second moment of area (I)
A15: I | B15: =PI()*D9^4/4 -> 7.8539816e-09
A16: Buckling Force (N) | B16: =B12*PI()^2*B2*B15/B13^2 -> 170922.1
A23: Raising Torque
A24: Friction | B24: 0.1
A25: Pitch (l) (mm) | B25: 3 | C25: =B25/1000 -> 0.003
A26: TR | B26: =((B1*C9)/2)*(C25+(PI()*B24*C9))/(PI()*C9)-(B24*C25) -> 16.251813
A29: Shear Stess due to Torque | B29: =(16*B26)/(PI()*C9^3) -> 10346226
A36: Bending Stress on Threads | B36: =(6*(0.38*B1))/(PI()*C9*1*C25) -> 1.3305353e+08

Sheet Gears
A1: Linear Velocity | B1: 10 | C1: =B1/1000 -> 0.01
A2: Pitch (mm) | B2: 3 | C2: =B2/1000 -> 0.003
A4: Gear 4 RPM (NL) | B4: =(C1*60)/C2 -> 200
A5: Gear 1 RPM (NF) | B5: 1000 | C5: (Driven by motor)
A7: Train Value,e | B7: =B4/B5 -> 0.2
A12: Gear Diameter
A13: Gear 2 | B13: 150 | C13: Driven
A14: Gear 4 | B14: 150 | C14: Driven
A15: Gear 1 | B15: 90 | C15: Driving | D15: Pick
A16: Gear 3 | B16: =B7*B13*B14/B15 -> 50 | C16: Driving | D16: Calc
A18: Gear Teeth
A19: Module | B19: 2 | C19: mm | D19: =B19/1000 -> 0.002
A20: Gear 1 | B20: =B15/B19 -> 45 | C20: Teeth
A21: Gear 2 | B21: =B13/B19 -> 75 | C21: Teeth
A22: Gear 3 | B22: =B16/B19 -> 25 | C22: Teeth
A23: Gear 4 | B23: =B14/B19 -> 75 | C23: Teeth
A25: Power | B25: =B26*B27 -> 340.37718 | C25: W
A26: Torque Out (G4) | B26: ='Power Screw'!B26 -> 16.251813 | C26: Nm | D26: =2*PI()/60 -> 0.10471976 | E26: 200 | F26: rpm
A27: Ang Vel out (G4) | B27: =B4*(2*PI()/60) -> 20.943951 | C27: Rad/s
A28: Power (G4) | B28: =B27*B26 -> 340.37718 | C28: W
A30: Torque G3 | B30: =(B26/(B14/1000))*(B16/1000) -> 5.417271 | C30: Nm
A31: Ang Vel G3 | B31: =B28/B30 -> 62.831853 | C31: Rad/s
A33: Torque G2 | B33: =B28/B34 -> 5.417271 | C33: Nm
A34: Ang Vel G2 | B34: =B31 -> 62.831853 | C34: Rad/s
A36: Torque G1 | B36: =B25/B37 -> 3.2503626 | C36: Nm
A37: Ang Vel G1 | B37: =D26*B5 -> 104.71976 | C37: Rad/s
A39: Tangential Force
A40: G1 | B40: =B36/0.045 -> 72.230281
A41: G2 | B41: =B33/0.075 -> 72.230281
A43: G3 | B43: =B30/0.025 -> 216.69084
A44: G4 | B44: =B26/0.075 -> 216.69084
A46: Stress on Gears
A48: Face Width | B48: 10 | C48: =B48/1000 -> 0.01
A49: G1 | B49: =(B40/(C48*D19*B50)) -> 9019765.3 | C49: Pa
A50: Form factor | B50: 0.4004
A51: G2 | B51: =(B40/(C48*D19*B52)) -> 8302331.1 | C51: Pa
A52: Form factor | B52: 0.435
A53: G3 | B53: =(B43/(C48*D19*B54)) -> 31726331 | C53: Pa
A54: Form factor | B54: 0.3415
A55: G4 | B55: =(B44/(C48*D19*B56)) -> 24906993 | C55: Pa
...

Sheet Shafts
A1: Using Pressue angle of 20 deg
A2: 20 | B2: =(PI()/180) -> 0.017453293 | C2: =A2*B2 -> 0.34906585
A3: Cos 20 | B3: =COS(C2) -> 0.93969262
A5: Force on Gear | D5: Tangental Force
A6: G1 | B6: =E6/B3 -> 76.865859 | D6: G1 | E6: =Gears!B40 -> 72.230281
A7: G2 | B7: =E7/B3 -> 76.865859 | D7: G2 | E7: =Gears!B41 -> 72.230281
A8: G3 | B8: =E8/B3 -> 230.59758 | D8: G3 | E8: =Gears!B43 -> 216.69084
A9: G4 | B9: =E9/B3 -> 230.59758 | D9: G4 | E9: =Gears!B44 -> 216.69084
A11: Yield Strength of Shaft | C11: 265000000
A12: FoS | C12: 4
A14: G3 G2 Shaft
A15: Maximum Moment | C15: 9.58 | D15: (From Bending Moment Diagram)
A16: Maximum Torque | C16: =Gears!B33 -> 5.417271
A17: k | C17: 0.2
A18: kb | C18: 1.5
A19: kt | C19: 1
A20: E Youngs Modulus | C20: 205000000000
C21: =32*4 -> 128
C22: =PI()*(1-C17)*C11 -> 6.6601764e+08
C23: =C21/C22 -> 1.921871e-07
C24: =SQRT((C18*C15)^2+(C19*C16)^2) -> 15.357204
C25: =(C23*C24)^(1/3) -> 0.014344282 | D25: mm | E25: rad
A26: Diamater (mm) | C26: 14.3 | D26: mm | E26: =C26/2 -> 7.15 | F26: =E26/1000 -> 0.00715
A27: Shaft Length | C27: 0.2 | D27: m
A28: I | B28: =(0.25*PI()*(F26^4)) -> 2.052646e-09
A29: Deflection | B29: =(B8*C27^3)/(48*C20*B28) -> 9.1334652e-05
A30: Slope | B30: =(B8*C27^2)/(16*C20*B28) -> 0.0013700198
A31: Nc | B31: =(60/2*PI())*(SQRT(9.81/B29)) -> 30887.861 | C31: rpm
A32: 0.75 | B32: =B31*0.75 -> 23165.896 | C32: max rpm is 1000
A34: Shaft Gear 1
A35: Maximum Momemnt (N/M) | C35: 1.925 | D35: (From Bending Moment Diagram)
A36: Maximum Torque (N/M) | C36: =Gears!B36 -> 3.2503626
A37: k | C37: 0.2
A38: kb | C38: 1.5
A39: kt | C39: 1
A40: E Youngs Modulus | C40: 205000000000
C41: =32*4 -> 128
C42: =PI()*(1-C37)*C11 -> 6.6601764e+08
A43: LH Side of Form | C43: =C41/C42 -> 1.921871e-07
A44: RH Side of Form | C44: 3.996309
...
