Workbook

Sheet Instructions
B8: Subject knowledge audit for: | E8: Course Tutor - Science
B9: PGCE Biology | E9: Lilian Y L Martin
B10: PGCE Chemistry
B11: PGCE Physics | E11: Science and Technology: Statements of what matters - Hwb (gov.wales)
B32: Resources to help you (Padlet)

Sheet LOOKUP
A1: 0 | B1: I need to study this thoroughly before teaching this topic.
A2: 1 | B2: I have some understanding but may need to consolidate.
A3: 2 | B3: My understanding is sufficient for teaching the basics.
A4: 3 | B4: This is a strong area for me and I could teach it at a high level.

Sheet Y7-9 Bio
A1: Y7-9 Biology
A2: The world around us is full of living things which depend on each other for survival.
A3: Pupils should be taught about: | B3: Subject Knowledge Do you understand this? | C3: Pre- course | D3: 1 | E3: 2 | F3: 3 | G3: 4 | H3: Pedagogical content knowledge, including misconceptions and teaching strategies to elicit and address them
A4: Biology KS3
A5: the basic structure and function of some cells, tissues, organs and organ systems and how they support vital life processes | B5: =LOOKUP(C5,LOOKUP!$A$1:$A$4,LOOKUP!$B$1:$B$4) -> I need to study this thoroughly before teaching this topic.
A6: how food is used by the body as fuel during respiration and why the components of a balanced diet are needed for good health | B6: =LOOKUP(C6,LOOKUP!$A$1:$A$4,LOOKUP!$B$1:$B$4) -> I need to study this thoroughly before teaching this topic.
A7: the beneficial and detrimental effects of some drugs on the organs of the human body and other consequences of their use, e.g. insulin, steroids, paracetamol, caffeine | B7: =LOOKUP(C7,LOOKUP!$A$1:$A$4,LOOKUP!$B$1:$B$4) -> I need to study this thoroughly before teaching this topic.
A8: the interdependence of organisms and their representation as food webs, pyramids of numbers and simple energy-flow diagrams | B8: =LOOKUP(C8,LOOKUP!$A$1:$A$4,LOOKUP!$B$1:$B$4) -> I need to study this thoroughly before teaching this topic.
A9: how and why food webs are affected by environmental factors, e.g. light intensity, water availability, temperature, and their fluctuations | B9: =LOOKUP(C9,LOOKUP!$A$1:$A$4,LOOKUP!$B$1:$B$4) -> I need to study this thoroughly before teaching this topic.
A10: how human activity affects the global environment, e.g. acid rain, greenhouse effect, and the measures taken to minimise any negative effects and monitor them, e.g. by Earth observation satellites | B10: =LOOKUP(C10,LOOKUP!$A$1:$A$4,LOOKUP!$B$1:$B$4) -> I need to study this thoroughly before teaching this topic.
A11: applications of science, medicine and technology that are used to improve health and the quality of life, including those in countries with different levels of economic development. | B11: =LOOKUP(C11,LOOKUP!$A$1:$A$4,LOOKUP!$B$1:$B$4) -> I need to study this thoroughly before teaching this topic.

Sheet Y7-9 Chem
A1: Y7-9 Chemistry
A2: Matter and the way it behaves defines our universe and shapes our lives.
A3: Pupils should be taught about: | B3: Subject Knowledge Do you understand this? | C3: Pre- course | D3: 1 | E3: 2 | F3: 3 | G3: 4 | H3: Pedagogical content knowledge, including misconceptions and teaching strategies to elicit and address them
A4: Chemistry KS3
A5: the properties of solids, liquids and gases and how the particle model can be used to explain these properties | B5: =LOOKUP(C5,LOOKUP!$A$1:$A$4,LOOKUP!$B$1:$B$4) -> I need to study this thoroughly before teaching this topic.
A6: the physical and chemical properties of some elements, compounds and mixtures and how mixtures can be separated by simple techniques | B6: =LOOKUP(C6,LOOKUP!$A$1:$A$4,LOOKUP!$B$1:$B$4) -> I need to study this thoroughly before teaching this topic.
A7: the differences between physical and chemical changes using some common examples | B7: =LOOKUP(C7,LOOKUP!$A$1:$A$4,LOOKUP!$B$1:$B$4) -> I need to study this thoroughly before teaching this topic.
A8: investigations into the patterns of behaviour of elements and compounds and their use to describe and predict their behaviour in chemical reactions | B8: =LOOKUP(C8,LOOKUP!$A$1:$A$4,LOOKUP!$B$1:$B$4) -> I need to study this thoroughly before teaching this topic.
A9: the properties of sustainable materials and how these are related to their uses in everyday life, e.g. in the construction and manufacturing industries, and the importance of sustainability. | B9: =LOOKUP(C9,LOOKUP!$A$1:$A$4,LOOKUP!$B$1:$B$4) -> I need to study this thoroughly before teaching this topic.

Sheet Y7-9 Phys
A1: Y7-9 Physics
A2: Forces and energy provide a foundation for understanding our universe.
A3: Pupils should be taught about: | B3: Subject Knowledge Do you understand this? | C3: Pre- course | D3: 1 | E3: 2 | F3: 3 | G3: 4 | H3: Pedagogical content knowledge, including misconceptions and teaching strategies to elicit and address them
A4: Physics KS3
A5: I can explain and calculate how multiple forces acting on an object will affect its motion. | B5: =LOOKUP(C5,LOOKUP!$A$1:$A$4,LOOKUP!$B$1:$B$4) -> I need to study this thoroughly before teaching this topic.
A6: I can understand conservation of energy and can explain that energy is used at differing rates, and that this affects the power and efficiency of a system. | B6: =LOOKUP(C6,LOOKUP!$A$1:$A$4,LOOKUP!$B$1:$B$4) -> I need to study this thoroughly before teaching this topic.
A7: I can apply my knowledge of energy and forces to new designs and can improve the efficiency of systems. | B7: =LOOKUP(C7,LOOKUP!$A$1:$A$4,LOOKUP!$B$1:$B$4) -> I need to study this thoroughly before teaching this topic.
A8: I can explain the factors that affect current and describe the way in which it behaves in various circuits. | B8: =LOOKUP(C8,LOOKUP!$A$1:$A$4,LOOKUP!$B$1:$B$4) -> I need to study this thoroughly before teaching this topic.
A9: I can design and create circuits that will perform a desired function. | B9: =LOOKUP(C9,LOOKUP!$A$1:$A$4,LOOKUP!$B$1:$B$4) -> I need to study this thoroughly before teaching this topic.
A10: I can predict the behaviour of waves in different circumstances. (sound and light) | B10: =LOOKUP(C10,LOOKUP!$A$1:$A$4,LOOKUP!$B$1:$B$4) -> I need to study this thoroughly before teaching this topic.
A11: By applying simple rules, I can use waves in order to learn more about the world around me. | B11: =LOOKUP(C11,LOOKUP!$A$1:$A$4,LOOKUP!$B$1:$B$4) -> I need to study this thoroughly before teaching this topic.
A12: Through experiment, I can explore magnetic fields to investigate factors that affect their strength. | B12: =LOOKUP(C12,LOOKUP!$A$1:$A$4,LOOKUP!$B$1:$B$4) -> I need to study this thoroughly before teaching this topic.
A13: I can apply my understanding of the interaction of fields in order to explore uses of magnetism. | B13: =LOOKUP(C13,LOOKUP!$A$1:$A$4,LOOKUP!$B$1:$B$4) -> I need to study this thoroughly before teaching this topic.
A14: General knowledge of space | B14: =LOOKUP(C14,LOOKUP!$A$1:$A$4,LOOKUP!$B$1:$B$4) -> I need to study this thoroughly before teaching this topic.

Sheet GCSE Biology
A1: GCSE - Biology
A2: GCSE biology specifications should require students to: | B2: Subject Knowledge Do you understand this? | C2: Pre- course | D2: 1 | E2: 2 | F2: 3 | G2: 4 | H2: Pedagogical content knowledge, including misconceptions and teaching strategies to elicit and address them
A3: Click here for the full syllabus
A5: Unit 1
A6: Cells and movement across membranes | B6: =LOOKUP(C6,LOOKUP!$A$1:$A$4,LOOKUP!$B$1:$B$4) -> I need to study this thoroughly before teaching this topic.
A7: Respiration and the respiratory system in humans | B7: =LOOKUP(C7,LOOKUP!$A$1:$A$4,LOOKUP!$B$1:$B$4) -> I need to study this thoroughly before teaching this topic.
A8: Digestion and the digestive system in humans | B8: =LOOKUP(C8,LOOKUP!$A$1:$A$4,LOOKUP!$B$1:$B$4) -> I need to study this thoroughly before teaching this topic.
A9: Circulatory system in humans | B9: =LOOKUP(C9,LOOKUP!$A$1:$A$4,LOOKUP!$B$1:$B$4) -> I need to study this thoroughly before teaching this topic.
A10: Plants and photosynthesis | B10: =LOOKUP(C10,LOOKUP!$A$1:$A$4,LOOKUP!$B$1:$B$4) -> I need to study this thoroughly before teaching this topic.
A11: Ecosystems and human impact on the environment | B11: =LOOKUP(C11,LOOKUP!$A$1:$A$4,LOOKUP!$B$1:$B$4) -> I need to study this thoroughly before teaching this topic.
A12: Unit 2
A13: Classification and biodiversity | B13: =LOOKUP(C13,LOOKUP!$A$1:$A$4,LOOKUP!$B$1:$B$4) -> I need to study this thoroughly before teaching this topic.
A14: Cell division and stem cells | B14: =LOOKUP(C14,LOOKUP!$A$1:$A$4,LOOKUP!$B$1:$B$4) -> I need to study this thoroughly before teaching this topic.
A15: DNA and inheritance | B15: =LOOKUP(C15,LOOKUP!$A$1:$A$4,LOOKUP!$B$1:$B$4) -> I need to study this thoroughly before teaching this topic.
A16: Variation and evolution | B16: =LOOKUP(C16,LOOKUP!$A$1:$A$4,LOOKUP!$B$1:$B$4) -> I need to study this thoroughly before teaching this topic.
A17: Response and regulation | B17: =LOOKUP(C17,LOOKUP!$A$1:$A$4,LOOKUP!$B$1:$B$4) -> I need to study this thoroughly before teaching this topic.
A18: Kidneys and homeostasis | B18: =LOOKUP(C18,LOOKUP!$A$1:$A$4,LOOKUP!$B$1:$B$4) -> I need to study this thoroughly before teaching this topic.
A19: Micro-organisms and their applications | B19: =LOOKUP(C19,LOOKUP!$A$1:$A$4,LOOKUP!$B$1:$B$4) -> I need to study this thoroughly before teaching this topic.
A20: Disease, defence and treatment | B20: =LOOKUP(C20,LOOKUP!$A$1:$A$4,LOOKUP!$B$1:$B$4) -> I need to study this thoroughly before teaching this topic.

Sheet GCSE Chem
A1: GCSE - Chemistry
A2: GCSE biology specifications should require students to: | B2: Subject Knowledge Do you understand this? | C2: Pre- course | D2: 1 | E2: 2 | F2: 3 | G2: 4 | H2: Pedagogical content knowledge, including misconceptions and teaching strategies to elicit and address them
A3: Click here for the full syllabus
A5: Unit 1
A6: The nature of substances and chemical reactions | B6: =LOOKUP(C6,LOOKUP!$A$1:$A$4,LOOKUP!$B$1:$B$4) -> I need to study this thoroughly before teaching this topic.
A7: Atomic structure and the Periodic Table | B7: =LOOKUP(C7,LOOKUP!$A$1:$A$4,LOOKUP!$B$1:$B$4) -> I need to study this thoroughly before teaching this topic.
A8: Water | B8: =LOOKUP(C8,LOOKUP!$A$1:$A$4,LOOKUP!$B$1:$B$4) -> I need to study this thoroughly before teaching this topic.
A9: The ever-changing Earth | B9: =LOOKUP(C9,LOOKUP!$A$1:$A$4,LOOKUP!$B$1:$B$4) -> I need to study this thoroughly before teaching this topic.
A10: Rate of chemical change | B10: =LOOKUP(C10,LOOKUP!$A$1:$A$4,LOOKUP!$B$1:$B$4) -> I need to study this thoroughly before teaching this topic.
A11: Limestone | B11: =LOOKUP(C12,LOOKUP!$A$1:$A$4,LOOKUP!$B$1:$B$4) -> I need to study this thoroughly before teaching this topic.
A12: Unit 2
A13: Bonding, structure and properties | B13: =LOOKUP(C13,LOOKUP!$A$1:$A$4,LOOKUP!$B$1:$B$4) -> I need to study this thoroughly before teaching this topic.
A14: Acids, bases and salts | B14: =LOOKUP(C14,LOOKUP!$A$1:$A$4,LOOKUP!$B$1:$B$4) -> I need to study this thoroughly before teaching this topic.
A15: Metals and their extraction | B15: =LOOKUP(C15,LOOKUP!$A$1:$A$4,LOOKUP!$B$1:$B$4) -> I need to study this thoroughly before teaching this topic.
A16: Chemical reactions and energy | B16: =LOOKUP(C16,LOOKUP!$A$1:$A$4,LOOKUP!$B$1:$B$4) -> I need to study this thoroughly before teaching this topic.
A17: Crude oil, fuels and carbon compounds | B17: =LOOKUP(C17,LOOKUP!$A$1:$A$4,LOOKUP!$B$1:$B$4) -> I need to study this thoroughly before teaching this topic.
A18: Reversible reactions, industrial processes and important chemicals | B18: =LOOKUP(C18,LOOKUP!$A$1:$A$4,LOOKUP!$B$1:$B$4) -> I need to study this thoroughly before teaching this topic.

Sheet GCSE Phys 
A1: GCSE - Physics
A2: GCSE biology specifications should require students to: | B2: Subject Knowledge Do you understand this? | C2: Pre- course | D2: 1 | E2: 2 | F2: 3 | G2: 4 | H2: Pedagogical content knowledge, including misconceptions and teaching strategies to elicit and address them
A3: Click here for the full syllabus
A5: Unit 1
A6: Electric circuits | B6: =LOOKUP(C6,LOOKUP!$A$1:$A$4,LOOKUP!$B$1:$B$4) -> I need to study this thoroughly before teaching this topic.
A7: Generating electricity | B7: =LOOKUP(C7,LOOKUP!$A$1:$A$4,LOOKUP!$B$1:$B$4) -> I need to study this thoroughly before teaching this topic.
A8: Making use of energy | B8: =LOOKUP(C8,LOOKUP!$A$1:$A$4,LOOKUP!$B$1:$B$4) -> I need to study this thoroughly before teaching this topic.
A9: Domestic electricity | B9: =LOOKUP(C9,LOOKUP!$A$1:$A$4,LOOKUP!$B$1:$B$4) -> I need to study this thoroughly before teaching this topic.
A10: Features of waves | B10: =LOOKUP(C14,LOOKUP!$A$1:$A$4,LOOKUP!$B$1:$B$4) -> I need to study this thoroughly before teaching this topic.
A11: The total internal reflection of waves | B11: =LOOKUP(C15,LOOKUP!$A$1:$A$4,LOOKUP!$B$1:$B$4) -> I need to study this thoroughly before teaching this topic.
A12: Seismic waves | B12: =LOOKUP(C16,LOOKUP!$A$1:$A$4,LOOKUP!$B$1:$B$4) -> I need to study this thoroughly before teaching this topic.
A13: Kinetic Theory | B13: =LOOKUP(C17,LOOKUP!$A$1:$A$4,LOOKUP!$B$1:$B$4) -> I need to study this thoroughly before teaching this topic.
A14: Electromagnetism | B14: =LOOKUP(C16,LOOKUP!$A$1:$A$4,LOOKUP!$B$1:$B$4) -> I need to study this thoroughly before teaching this topic.
A15: Unit 2
A16: Distance, speed and acceleration | B16: =LOOKUP(C16,LOOKUP!$A$1:$A$4,LOOKUP!$B$1:$B$4) -> I need to study this thoroughly before teaching this topic.
A17: Newton's laws | B17: =LOOKUP(C17,LOOKUP!$A$1:$A$4,LOOKUP!$B$1:$B$4) -> I need to study this thoroughly before teaching this topic.
A18: Work and energy | B18: =LOOKUP(C18,LOOKUP!$A$1:$A$4,LOOKUP!$B$1:$B$4) -> I need to study this thoroughly before teaching this topic.
A19: Further motion concepts | B19: =LOOKUP(C19,LOOKUP!$A$1:$A$4,LOOKUP!$B$1:$B$4) -> I need to study this thoroughly before teaching this topic.
A20: Stars and planets | B20: =LOOKUP(C20,LOOKUP!$A$1:$A$4,LOOKUP!$B$1:$B$4) -> I need to study this thoroughly before teaching this topic.
A21: Types of radiation | B21: =LOOKUP(C21,LOOKUP!$A$1:$A$4,LOOKUP!$B$1:$B$4) -> I need to study this thoroughly before teaching this topic.
A22: Half-life | B22: =LOOKUP(C23,LOOKUP!$A$1:$A$4,LOOKUP!$B$1:$B$4) -> I need to study this thoroughly before teaching this topic.
A23: Nuclear decay and nuclear energy | B23: =LOOKUP(C24,LOOKUP!$A$1:$A$4,LOOKUP!$B$1:$B$4) -> I need to study this thoroughly before teaching this topic.
