Workbook
Name ChainSize: 'Gearbox CRF450'!$BO$5:$BO$7
Name First: 'Gearbox CRF450'!$C$9
Name First_1: #REF!
Name FrontSprockets: 'Gearbox CRF450'!$BO$17:$BO$20
Name Number_of_Links: 'Gearbox CRF450'!$BO$10:$BO$14
Name RearSprockets: 'Gearbox CRF450'!$BP$17:$BP$26

Sheet Gearbox CRF450
A1: CRF 450 2003 Supermoto
A2: Gear Calc. | F2: Gearbox N° | G2: 1 - Fitted | I2: Gear Calc. | N2: Gearbox N° | O2: 2 - Option 1 | Q2: Gear Calc. | V2: Gearbox N° | W2: 3 - Option 2 | Z2: Chain Length
A3: Primary | C3: 23 | D3: 63 | I3: Primary | K3: 23 | L3: 63 | Q3: Primary | S3: 23 | T3: 63 | Z3: Chain size | AA3: Front sprocket | AB3: Rear sprocket | AC3: Chain | AD3: Distance between front sprocket and pivot | AE3: Swing arm Length | BM3: 17000
A4: FINAL | C4: 13 | D4: 39 | I4: FINAL | K4: 15 | L4: 36 | Q4: FINAL | S4: 12 | T4: 37 | Z4: 5/8" | AA4: 13 | AB4: 42 | AC4: 108 | AD4: 67 | AE4: =0.5*(AC4-0.5*(AA4+AB4))*25.4*VLOOKUP(Z4,'Gearbox CRF450'!BO5:BP7,2,FALSE)-AD4 -> 571.96875 | AI4: Gear | AJ4: Gearbox A | AM4: Gearbox B | AP4: Gearbox C | AS4: Gearbox D | BG4: 11 | BH4: 36 | BM4: 16900 | BO4: Chain Size | BP4: Dimension
A5: Diam | C5: Goldspeed Dry | E5: =$BH$19*IF(C5="Goldspeed Dry",1,0)+$BH$20*IF(C5="Small",1,0)+$BH$21*IF(C5="INTER",1,0)+$BH$22*IF(C5="Michelin Rain",1,0) -> 0.6166 | F5: m | I5: Diam | K5: Goldspeed Dry | M5: =$BH$19*IF(K5="Goldspeed Dry",1,0)+$BH$20*IF(K5="Small",1,0)+$BH$21*IF(K5="INTER",1,0)+$BH$22*IF(K5="Michelin Rain",1,0) -> 0.6166 | N5: m | Q5: Diam | S5: Goldspeed Dry | U5: =$BH$19*IF(S5="Goldspeed Dry",1,0)+$BH$20*IF(S5="Small",1,0)+$BH$21*IF(S5="INTER",1,0)+$BH$22*IF(S5="Michelin Rain",1,0) -> 0.6166 | V5: m | AI5: 1 | AJ5: 15 | AK5: 27 | AL5: =AK5/AJ5 -> 1.8 | AM5: 14 | AN5: 37 | AO5: =AN5/AM5 -> 2.6428571 | AP5: 14 | AQ5: 36 | AR5: =AQ5/AP5 -> 2.5714286 | AS5: 16 | AT5: 40 | AU5: =AT5/AS5 -> 2.5 | BC5: A | BG5: 12 | BH5: 37 | BM5: 16800 | BO5: 1/2" | BP5: 0.5
A6: RPM | C6: 11000 | D6: 11000 | E6: rev/min | I6: RPM | K6: 11000 | L6: 11000 | M6: rev/min | Q6: RPM | S6: 11000 | T6: 11000 | U6: rev/min | Z6: Gearbox 1 | AI6: 2 | AJ6: 17 | AK6: 25 | AL6: =AK6/AJ6 -> 1.4705882 | AM6: 18 | AN6: 39 | AO6: =AN6/AM6 -> 2.1666667 | AP6: 16 | AQ6: 34 | AR6: =AQ6/AP6 -> 2.125 | AS6: 16 | AT6: 36 | AU6: =AT6/AS6 -> 2.25 | BC6: B | BG6: 13 | BH6: 38 | BM6: 16700 | BO6: 5/8" | BP6: =5/8 -> 0.625
A7: Ratios | F7: Speeds | G7: Revs | H7: Falls | I7: Ratios | N7: Speeds | O7: Revs | P7: Falls | Q7: Ratios | V7: Speeds | W7: Revs | X7: Falls | Z7: Chain size | AA7: Front sprocket | AB7: Rear sprocket | AC7: Chain | AD7: Distance between front sprocket and pivot | AE7: Swing arm Length | AI7: 3 | AJ7: 17 | AK7: 21 | AL7: =AK7/AJ7 -> 1.2352941 | AM7: 17 | AN7: 32 | AO7: =AN7/AM7 -> 1.8823529 | AP7: 22 | AQ7: 40 | AR7: =AQ7/AP7 -> 1.8181818 | AS7: 21 | AT7: 40 | AU7: =AT7/AS7 -> 1.9047619 | BC7: C | BG7: 14 | BH7: 39 | BM7: 16600 | BO7: 3/4" | BP7: 0.75
F8: =G8*60*(C9/D9)*($C$3/$D$3)*$E$5*PI()/1000*$C$4/$D$4 -> 27.502123 | G8: 3500 | N8: =O8*60*(K9/L9)*($K$3/$L$3)*$M$5*PI()/1000*$K$4/$L$4 -> 68.755307 | O8: 7000 | V8: =W8*60*(S9/T9)*($S$3/$T$3)*$U$5*PI()/1000*$S$4/$T$4 -> 53.517644 | W8: 7000 | AI8: 4 | AJ8: 20 | AK8: 21 | AL8: =AK8/AJ8 -> 1.05 | AM8: 20 | AN8: 33 | AO8: =AN8/AM8 -> 1.65 | AP8: 23 | AQ8: 39 | AR8: =AQ8/AP8 -> 1.6956522 | AS8: 19 | AT8: 30 | AU8: =AT8/AS8 -> 1.5789474 | BC8: D | BG8: 15 | BH8: 40 | BM8: 16500
A9: 1st | B9: A | C9: =$AJ$5*IF(B9="A",1,0)+$AM$5*IF(B9="B",1,0)+$AP$5*IF(B9="C",1,0) -> 15 | D9: =$AK$5*IF(B9="A",1,0)+$AN$5*IF(B9="B",1,0)+$AQ$5*IF(B9="C",1,0) -> 27 | E9: =D9/First -> 1.8 | F9: =(($C$6*60*(C9/D9)*($C$3/$D$3)*$E$5*PI())/1000)*$C$4/$D$4 -> 86.435243 | G9: =$C$6 -> 11000 | H9: =H10 -> 2013.0719 | I9: 1st | J9: A | K9: =$AJ$5*IF(J9="A",1,0)+$AM$5*IF(J9="B",1,0)+$AP$5*IF(J9="C",1,0)+$AS$5*IF(J9="D",1,0) -> 15 | L9: =$AK$5*IF(J9="A",1,0)+$AN$5*IF(J9="B",1,0)+$AQ$5*IF(J9="C",1,0)+$AT$5*IF(J9="D",1,0) -> 27 | M9: =L9/K9 -> 1.8 | N9: =$K$6*60*(K9/L9)*($K$3/$L$3)*$M$5*PI()/1000*$K$4/$L$4 -> 108.04405 | O9: =$K$6 -> 11000 | P9: =P10 -> 2013.0719 | Q9: 1st | R9: A | S9: =$AJ$5*IF(R9="A",1,0)+$AM$5*IF(R9="B",1,0)+$AP$5*IF(R9="C",1,0)+$AS$5*IF(R9="D",1,0) -> 15 | T9: =$AK$5*IF(R9="A",1,0)+$AN$5*IF(R9="B",1,0)+$AQ$5*IF(R9="C",1,0)+$AT$5*IF(R9="D",1,0) -> 27 | U9: =T9/S9 -> 1.8 | V9: =$S$6*60*(S9/T9)*($S$3/$T$3)*$U$5*PI()/1000*$S$4/$T$4 -> 84.099155 | W9: =$S$6 -> 11000 | X9: =X10 -> 2013.0719 | Z9: 5/8" | AA9: =C4 -> 13 | AB9: =D4 -> 39 | AC9: 108 | AD9: 67 | AE9: =0.5*(AC9-0.5*(AA9+AB9))*25.4*VLOOKUP(Z9,'Gearbox CRF450'!BO5:BP7,2,FALSE)-AD9 -> 583.875 | AI9: 5 | AJ9: 22 | AK9: 20 | AL9: =AK9/AJ9 -> 0.90909091 | AM9: 20 | AN9: 30 | AO9: =AN9/AM9 -> 1.5 | AP9: 22 | AQ9: 32 | AR9: =AQ9/AP9 -> 1.4545455 | AS9: 23 | AT9: 32 | AU9: =AT9/AS9 -> 1.3913043 | BH9: 41 | BM9: 16400 | BO9: Number of Links
F10: =F9 -> 86.435243 | G10: =$C$6*(C9/D9)*(D11/C11) -> 8986.9281 | H10: =$C$6-G10 -> 2013.0719 | N10: =N9 -> 108.04405 | O10: =$K$6*(K9/L9)*(L11/K11) -> 8986.9281 | P10: =$K$6-O10 -> 2013.0719 | V10: =V9 -> 84.099155 | W10: =$S$6*(S9/T9)*(T11/S11) -> 8986.9281 | X10: =$S$6-W10 -> 2013.0719 | AI10: 6 | AJ10: 0 | AK10: 0 | AL10: =AK10/AJ10 -> #DIV/0! | AM10: 23 | AN10: 32 | AO10: =AN10/AM10 -> 1.3913043 | AP10: 26 | AQ10: 35 | AR10: =AQ10/AP10 -> 1.3461538 | AS10: 23 | AT10: 29 | AU10: =AT10/AS10 -> 1.2608696 | BH10: 42 | BM10: 16300 | BO10: 108
A11: 2nd | B11: A | C11: =$AJ$6*IF(B11="A",1,0)+$AM$6*IF(B11="B",1,0)+$AP$6*IF(B11="C",1,0)+$AS$6*IF(B11="D",1,0)+$AV$6*IF(B11="E",1,0)+$AY$6*IF(B11="f",1,0) -> 17 | D11: =$AK$6*IF(B11="A",1,0)+$AN$6*IF(B11="B",1,0)+$AQ$6*IF(B11="C",1,0)+$AT$6*IF(B11="D",1,0)+$AW$6*IF(B11="E",1,0)+$AZ$6*IF(B11="f",1,0) -> 25 | E11: =D11/C11 -> 1.4705882 | F11: =$C$6*60*(C11/D11)*($C$3/$D$3)*$E$5*PI()/1000*$C$4/$D$4 -> 105.79674 | G11: =$C$6 -> 11000 | I11: 2nd | J11: A | K11: =$AJ$6*IF(J11="A",1,0)+$AM$6*IF(J11="B",1,0)+$AP$6*IF(J11="C",1,0)+$AS$6*IF(J11="D",1,0)+$AV$6*IF(J11="E",1,0)+$AY$6*IF(J11="f",1,0) -> 17 | L11: =$AK$6*IF(J11="A",1,0)+$AN$6*IF(J11="B",1,0)+$AQ$6*IF(J11="C",1,0)+$AT$6*IF(J11="D",1,0)+$AW$6*IF(J11="E",1,0)+$AZ$6*IF(J11="f",1,0) -> 25 | M11: =L11/K11 -> 1.4705882 | N11: =$K$6*60*(K11/L11)*($K$3/$L$3)*$M$5*PI()/1000*$K$4/$L$4 -> 132.24592 | O11: =$K$6 -> 11000 | Q11: 2nd | R11: A | S11: =$AJ$6*IF(R11="A",1,0)+$AM$6*IF(R11="B",1,0)+$AP$6*IF(R11="C",1,0)+$AS$6*IF(R11="D",1,0)+$AV$6*IF(R11="E",1,0)+$AY$6*IF(R11="f",1,0) -> 17 | T11: =$AK$6*IF(R11="A",1,0)+$AN$6*IF(R11="B",1,0)+$AQ$6*IF(R11="C",1,0)+$AT$6*IF(R11="D",1,0)+$AW$6*IF(R11="E",1,0)+$AZ$6*IF(R11="f",1,0) -> 25 | U11: =T11/S11 -> 1.4705882 | V11: =$S$6*60*(S11/T11)*($S$3/$T$3)*$U$5*PI()/1000*$S$4/$T$4 -> 102.93737 | W11: =$S$6 -> 11000 | Z11: Gearbox 2 | BH11: 43 | BM11: 16200 | BO11: 110
F12: =F11 -> 105.79674 | G12: =$C$6*(C11/D11)*(D13/C13) -> 9240 | H12: =$C$6-G12 -> 1760 | N12: =N11 -> 132.24592 | O12: =$K$6*(K11/L11)*(L13/K13) -> 9240 | P12: =$K$6-O12 -> 1760 | V12: =V11 -> 102.93737 | W12: =$S$6*(S11/T11)*(T13/S13) -> 9240 | X12: =$S$6-W12 -> 1760 | Z12: Chain size | AA12: Front sprocket | AB12: Rear sprocket | AC12: Chain | AD12: Distance between front sprocket and pivot | AE12: Swing arm Length | BH12: 44 | BM12: 16100 | BO12: 112
A13: 3rd | B13: A | C13: =$AJ$7*IF(B13="A",1,0)+$AM$7*IF(B13="B",1,0)+$AP$7*IF(B13="C",1,0)+$AS$7*IF(B13="D",1,0)+$AV$7*IF(B13="E",1,0)+$AY$7*IF(B13="f",1,0) -> 17 | D13: =$AK$7*IF(B13="A",1,0)+$AN$7*IF(B13="B",1,0)+$AQ$7*IF(B13="C",1,0)+$AT$7*IF(B13="D",1,0)+$AW$7*IF(B13="E",1,0)+$AZ$7*IF(B13="f",1,0) -> 21 | E13: =D13/C13 -> 1.2352941 | F13: =$C$6*60*(C13/D13)*($C$3/$D$3)*$E$5*PI()/1000*$C$4/$D$4 -> 125.9485 | G13: =$C$6 -> 11000 | I13: 3rd | J13: A | K13: =$AJ$7*IF(J13="A",1,0)+$AM$7*IF(J13="B",1,0)+$AP$7*IF(J13="C",1,0)+$AS$7*IF(J13="D",1,0) -> 17 | L13: =$AK$7*IF(J13="A",1,0)+$AN$7*IF(J13="B",1,0)+$AQ$7*IF(J13="C",1,0)+$AT$7*IF(J13="D",1,0) -> 21 | M13: =L13/K13 -> 1.2352941 | N13: =$K$6*60*(K13/L13)*($K$3/$L$3)*$M$5*PI()/1000*$K$4/$L$4 -> 157.43562 | O13: =$K$6 -> 11000 | Q13: 3rd | R13: A | S13: =$AJ$7*IF(R13="A",1,0)+$AM$7*IF(R13="B",1,0)+$AP$7*IF(R13="C",1,0)+$AS$7*IF(R13="D",1,0) -> 17 | T13: =$AK$7*IF(R13="A",1,0)+$AN$7*IF(R13="B",1,0)+$AQ$7*IF(R13="C",1,0)+$AT$7*IF(R13="D",1,0) -> 21 | U13: =T13/S13 -> 1.2352941 | V13: =$S$6*60*(S13/T13)*($S$3/$T$3)*$U$5*PI()/1000*$S$4/$T$4 -> 122.54448 | W13: =$S$6 -> 11000 | AM13: Cluster 3-4 | BH13: 45 | BM13: 16000 | BO13: 114
F14: =F13 -> 125.9485 | G14: =$C$6*(C13/D13)*(D15/C15) -> 9350 | H14: =$C$6-G14 -> 1650 | N14: =N13 -> 157.43562 | O14: =$K$6*(K13/L13)*(L15/K15) -> 9350 | P14: =$K$6-O14 -> 1650 | V14: =V13 -> 122.54448 | W14: =$S$6*(S13/T13)*(T15/S15) -> 9350 | X14: =$S$6-W14 -> 1650 | Z14: 5/8" | AA14: =K4 -> 15 | AB14: =L4 -> 36 | AC14: 108 | AD14: 67 | AE14: =0.5*(AC14-0.5*(AA14+AB14))*25.4*VLOOKUP(Z14,'Gearbox CRF450'!BO5:BP7,2,FALSE)-AD14 -> 587.84375 | AN14: A-A | AO14: A-B | BH14: 46 | BM14: 15900 | BO14: 116
A15: 4th | B15: A | C15: =$AJ$8*IF(B15="A",1,0)+$AM$8*IF(B15="B",1,0)+$AP$8*IF(B15="C",1,0)+$AS$8*IF(B15="D",1,0)+$AV$8*IF(B15="E",1,0)+$AY$8*IF(B15="f",1,0) -> 20 | D15: =$AK$8*IF(B15="A",1,0)+$AN$8*IF(B15="B",1,0)+$AQ$8*IF(B15="C",1,0)+$AT$8*IF(B15="D",1,0)+$AW$8*IF(B15="E",1,0)+$AZ$8*IF(B15="f",1,0) -> 21 | E15: =D15/C15 -> 1.05 | F15: =$C$6*60*(C15/D15)*($C$3/$D$3)*$E$5*PI()/1000*$C$4/$D$4 -> 148.1747 | G15: =$C$6 -> 11000 | I15: 4th | J15: A | K15: =$AJ$8*IF(J15="A",1,0)+$AM$8*IF(J15="B",1,0)+$AP$8*IF(J15="C",1,0)+$AS$8*IF(J15="D",1,0)+$AV$8*IF(J15="E",1,0)+$AY$8*IF(J15="f",1,0) -> 20 | L15: =$AK$8*IF(J15="A",1,0)+$AN$8*IF(J15="B",1,0)+$AQ$8*IF(J15="C",1,0)+$AT$8*IF(J15="D",1,0)+$AW$8*IF(J15="E",1,0)+$AZ$8*IF(J15="f",1,0) -> 21 | M15: =L15/K15 -> 1.05 | N15: =$K$6*60*(K15/L15)*($K$3/$L$3)*$M$5*PI()/1000*$K$4/$L$4 -> 185.21838 | O15: =$K$6 -> 11000 | Q15: 4th | R15: A | S15: =$AJ$8*IF(R15="A",1,0)+$AM$8*IF(R15="B",1,0)+$AP$8*IF(R15="C",1,0)+$AS$8*IF(R15="D",1,0)+$AV$8*IF(R15="E",1,0)+$AY$8*IF(R15="f",1,0) -> 20 | T15: =$AK$8*IF(R15="A",1,0)+$AN$8*IF(R15="B",1,0)+$AQ$8*IF(R15="C",1,0)+$AT$8*IF(R15="D",1,0)+$AW$8*IF(R15="E",1,0)+$AZ$8*IF(R15="f",1,0) -> 21 | U15: =T15/S15 -> 1.05 | V15: =$S$6*60*(S15/T15)*($S$3/$T$3)*$U$5*PI()/1000*$S$4/$T$4 -> 144.16998 | W15: =$S$6 -> 11000 | AN15: A-D | AO15: B-A | BH15: 47 | BM15: 15800
F16: =F15 -> 148.1747 | G16: =$C$6*(C15/D15)*(D17/C17) -> 9523.8095 | H16: =$C$6-G16 -> 1476.1905 | N16: =N15 -> 185.21838 | O16: =$K$6*(K15/L15)*(L17/K17) -> 9523.8095 | P16: =$K$6-O16 -> 1476.1905 | V16: =V15 -> 144.16998 | W16: =$S$6*(S15/T15)*(T17/S17) -> 9523.8095 | X16: =$S$6-W16 -> 1476.1905 | Z16: Gearbox 3 | AN16: B-B | AO16: B-C | BH16: 48 | BM16: 15700 | BO16: Front Sprockets | BP16: Rear Sprockets
A17: 5th | B17: A | C17: =$AJ$9*IF(B17="A",1,0)+$AM$9*IF(B17="B",1,0)+$AP$9*IF(B17="C",1,0)+$AS$9*IF(B17="D",1,0)+$AV$9*IF(B17="E",1,0)+$AY$9*IF(B17="f",1,0) -> 22 | D17: =$AK$9*IF(B17="A",1,0)+$AN$9*IF(B17="B",1,0)+$AQ$9*IF(B17="C",1,0)+$AT$9*IF(B17="D",1,0)+$AW$9*IF(B17="E",1,0)+$AZ$9*IF(B17="f",1,0) -> 20 | E17: =D17/C17 -> 0.90909091 | F17: =$C$6*60*(C17/D17)*($C$3/$D$3)*$E$5*PI()/1000*$C$4/$D$4 -> 171.14178 | G17: =$C$6 -> 11000 | I17: 5th | J17: A | K17: =$AJ$9*IF(J17="A",1,0)+$AM$9*IF(J17="B",1,0)+$AP$9*IF(J17="C",1,0)+$AS$9*IF(J17="D",1,0)+$AV$9*IF(J17="E",1,0)+$AY$9*IF(J17="f",1,0) -> 22 | L17: =$AK$9*IF(J17="A",1,0)+$AN$9*IF(J17="B",1,0)+$AQ$9*IF(J17="C",1,0)+$AT$9*IF(J17="D",1,0)+$AW$9*IF(J17="E",1,0)+$AZ$9*IF(J17="f",1,0) -> 20 | M17: =L17/K17 -> 0.90909091 | N17: =$K$6*60*(K17/L17)*($K$3/$L$3)*$M$5*PI()/1000*$K$4/$L$4 -> 213.92723 | O17: =$K$6 -> 11000 | Q17: 5th | R17: A | S17: =$AJ$9*IF(R17="A",1,0)+$AM$9*IF(R17="B",1,0)+$AP$9*IF(R17="C",1,0)+$AS$9*IF(R17="D",1,0)+$AV$9*IF(R17="E",1,0)+$AY$9*IF(R17="f",1,0) -> 22 | T17: =$AK$9*IF(R17="A",1,0)+$AN$9*IF(R17="B",1,0)+$AQ$9*IF(R17="C",1,0)+$AT$9*IF(R17="D",1,0)+$AW$9*IF(R17="E",1,0)+$AZ$9*IF(R17="f",1,0) -> 20 | U17: =T17/S17 -> 0.90909091 | V17: =$S$6*60*(S17/T17)*($S$3/$T$3)*$U$5*PI()/1000*$S$4/$T$4 -> 166.51633 | W17: =$S$6 -> 11000 | Z17: Chain size | AA17: Front sprocket | AB17: Rear sprocket | AC17: Chain | AD17: Distance between front sprocket and pivot | AE17: Swing arm Length | BM17: 15600 | BO17: 13 | BP17: 38
BG18: Rear Tyre Dimensions | BH18: Diameter | BI18: Width | BJ18: Aspect Ratio | BK18: Rim Size | BM18: 15500 | BO18: 14 | BP18: 39
Z19: 5/8" | AA19: =S4 -> 12 | AB19: =T4 -> 37 | AC19: 108 | AD19: 67 | AE19: =0.5*(AC19-0.5*(AA19+AB19))*25.4*VLOOKUP(Z19,'Gearbox CRF450'!BO5:BP7,2,FALSE)-AD19 -> 595.78125 | BG19: Goldspeed Dry | BH19: =((((BI19/25.4*BJ19/100+BK19/2)*2*3.142)*25.4)/3.142)/1000 -> 0.6166 | BI19: 165 | BJ19: 56 | BK19: 17 | BM19: 15400 | BO19: 15 | BP19: 40
BG20: SMALL | BH20: =((((BI20/25.4*BJ20/100+BK20/2)*2*3.142)*25.4)/3.142)/1000 -> 0 | BM20: 15300 | BO20: 16 | BP20: 41
BG21: INTER | BH21: =((((BI21/25.4*BJ21/100+BK21/2)*2*3.142)*25.4)/3.142)/1000 -> 0 | BM21: 15200 | BP21: 42
BG22: Michelin Rain | BH22: =((((BI22/25.4*BJ22/100+BK22/2)*2*3.142)*25.4)/3.142)/1000 -> 0.6334 | BI22: 160 | BJ22: 63 | BK22: 17 | BM22: 15100 | BP22: 43
BM23: 15000 | BP23: 44
BM24: 14900 | BP24: 45
BM25: 14800 | BP25: 46
BM26: 14700 | BP26: 47
BM27: 14600
BM28: 14500
BM29: 14400
BM30: 14300
BM31: 14200
BM32: 14100
BM33: 14000
BM34: 13900
BM35: 13800
BM36: 13700
BM37: 13600
BM38: 13500
... BM71: 10200
A72: Ratio Calculator | C72: Front Sprockets | BM72: 10100
C73: 11 | D73: 12 | E73: 13 | F73: 14 | G73: 15 | H73: 16 | I73: 17 | BM73: 10000
A74: Rear Sprockets | B74: 28 | C74: =$B$74/C73 -> 2.5454545 | D74: =B74/$D$73 -> 2.3333333 | E74: =B74/$E$73 -> 2.1538462 | F74: =B74/$F$73 -> 2 | G74: =B74/$G$73 -> 1.8666667 | H74: =B74/$H$73 -> 1.75 | I74: =B74/$I$73 -> 1.6470588 | BM74: 9900
B75: =B74+1 -> 29 | C75: =B75/$C$73 -> 2.6363636 | D75: =B75/$D$73 -> 2.4166667 | E75: =B75/$E$73 -> 2.2307692 | F75: =B75/$F$73 -> 2.0714286 | G75: =B75/$G$73 -> 1.9333333 | H75: =B75/$H$73 -> 1.8125 | I75: =B75/$I$73 -> 1.7058824 | BM75: 9800
B76: =B75+1 -> 30 | C76: =B76/$C$73 -> 2.7272727 | D76: =B76/$D$73 -> 2.5 | E76: =B76/$E$73 -> 2.3076923 | F76: =B76/$F$73 -> 2.1428571 | G76: =B76/$G$73 -> 2 | H76: =B76/$H$73 -> 1.875 | I76: =B76/$I$73 -> 1.7647059 | BM76: 9700
B77: =B76+1 -> 31 | C77: =B77/$C$73 -> 2.8181818 | D77: =B77/$D$73 -> 2.5833333 | E77: =B77/$E$73 -> 2.3846154 | F77: =B77/$F$73 -> 2.2142857 | G77: =B77/$G$73 -> 2.0666667 | H77: =B77/$H$73 -> 1.9375 | I77: =B77/$I$73 -> 1.8235294 | BM77: 9600
B78: =B77+1 -> 32 | C78: =B78/$C$73 -> 2.9090909 | D78: =B78/$D$73 -> 2.6666667 | E78: =B78/$E$73 -> 2.4615385 | F78: =B78/$F$73 -> 2.2857143 | G78: =B78/$G$73 -> 2.1333333 | H78: =B78/$H$73 -> 2 | I78: =B78/$I$73 -> 1.8823529 | BM78: 9500
B79: =B78+1 -> 33 | C79: =B79/$C$73 -> 3 | D79: =B79/$D$73 -> 2.75 | E79: =B79/$E$73 -> 2.5384615 | F79: =B79/$F$73 -> 2.3571429 | G79: =B79/$G$73 -> 2.2 | H79: =B79/$H$73 -> 2.0625 | I79: =B79/$I$73 -> 1.9411765 | BM79: 9400
B80: =B79+1 -> 34 | C80: =B80/$C$73 -> 3.0909091 | D80: =B80/$D$73 -> 2.8333333 | E80: =B80/$E$73 -> 2.6153846 | F80: =B80/$F$73 -> 2.4285714 | G80: =B80/$G$73 -> 2.2666667 | H80: =B80/$H$73 -> 2.125 | I80: =B80/$I$73 -> 2 | BM80: 9300
B81: =B80+1 -> 35 | C81: =B81/$C$73 -> 3.1818182 | D81: =B81/$D$73 -> 2.9166667 | E81: =B81/$E$73 -> 2.6923077 | F81: =B81/$F$73 -> 2.5 | G81: =B81/$G$73 -> 2.3333333 | H81: =B81/$H$73 -> 2.1875 | I81: =B81/$I$73 -> 2.0588235 | BM81: 9200
B82: =B81+1 -> 36 | C82: =B82/$C$73 -> 3.2727273 | D82: =B82/$D$73 -> 3 | E82: =B82/$E$73 -> 2.7692308 | F82: =B82/$F$73 -> 2.5714286 | G82: =B82/$G$73 -> 2.4 | H82: =B82/$H$73 -> 2.25 | I82: =B82/$I$73 -> 2.1176471 | BM82: 9100
B83: =B82+1 -> 37 | C83: =B83/$C$73 -> 3.3636364 | D83: =B83/$D$73 -> 3.0833333 | E83: =B83/$E$73 -> 2.8461538 | F83: =B83/$F$73 -> 2.6428571 | G83: =B83/$G$73 -> 2.4666667 | H83: =B83/$H$73 -> 2.3125 | I83: =B83/$I$73 -> 2.1764706 | BM83: 9000
B84: =B83+1 -> 38 | C84: =B84/$C$73 -> 3.4545455 | D84: =B84/$D$73 -> 3.1666667 | E84: =B84/$E$73 -> 2.9230769 | F84: =B84/$F$73 -> 2.7142857 | G84: =B84/$G$73 -> 2.5333333 | H84: =B84/$H$73 -> 2.375 | I84: =B84/$I$73 -> 2.2352941 | BM84: 8900
B85: =B84+1 -> 39 | C85: =B85/$C$73 -> 3.5454545 | D85: =B85/$D$73 -> 3.25 | E85: =B85/$E$73 -> 3 | F85: =B85/$F$73 -> 2.7857143 | G85: =B85/$G$73 -> 2.6 | H85: =B85/$H$73 -> 2.4375 | I85: =B85/$I$73 -> 2.2941176 | BM85: 8800
B86: =B85+1 -> 40 | C86: =B86/$C$73 -> 3.6363636 | D86: =B86/$D$73 -> 3.3333333 | E86: =B86/$E$73 -> 3.0769231 | F86: =B86/$F$73 -> 2.8571429 | G86: =B86/$G$73 -> 2.6666667 | H86: =B86/$H$73 -> 2.5 | I86: =B86/$I$73 -> 2.3529412 | BM86: 8700
... B115: =B114+1 -> 69 | C115: =B115/$C$73 -> 6.2727273 | D115: =B115/$D$73 -> 5.75 | E115: =B115/$E$73 -> 5.3076923 | F115: =B115/$F$73 -> 4.9285714 | G115: =B115/$G$73 -> 4.6 | H115: =B115/$H$73 -> 4.3125 | I115: =B115/$I$73 -> 4.0588235 | BM115: 5800
BM116: 5700
BM117: 5600
BM118: 5500
BM119: 5400
BM120: 5300
BM121: 5200
BM122: 5100
BM123: 5000
BM124: 4900
BM125: 4800
BM126: 4700
BM127: 4600
BM128: 4500

Sheet Shift Point Data
A1: RPM | B1: Power (hp) | C1: Torque (Nm) | D1: Power (Kw) | H1: Road Speed 1st (km/h) | I1: Road Speed 2nd | J1: Road Speed 3rd | K1: Road Speed 4th | L1: Road Speed 5th | N1: Driving Force 1st (N) | O1: Driving Force 2nd | P1: Driving Force 3rd | Q1: Driving Force 4th | R1: Driving Force 5th
A2: 3500 | B2: 16 | C2: =(B2*5252)/A2 -> 24.009143 | D2: =0.7457*B2 -> 11.9312 | H2: =(($A2*60*('Gearbox CRF450'!$C$9/'Gearbox CRF450'!$D$9)*('Gearbox CRF450'!$C$3/'Gearbox CRF450'!$D$3)*'Gearbox CRF450'!$E$5*PI())/1000)*('Gearbox CRF450'!$C$4/'Gearbox CRF450'!$D$4) -> 27.502123 | I2: =(($A2*60*('Gearbox CRF450'!$C$11/'Gearbox CRF450'!$D$11)*('Gearbox CRF450'!$C$3/'Gearbox CRF450'!$D$3)*'Gearbox CRF450'!$E$5*PI())/1000)*('Gearbox CRF450'!$C$4/'Gearbox CRF450'!$D$4) -> 33.662598 | J2: =(($A2*60*('Gearbox CRF450'!$C$13/'Gearbox CRF450'!$D$13)*('Gearbox CRF450'!$C$3/'Gearbox CRF450'!$D$3)*'Gearbox CRF450'!$E$5*PI())/1000)*('Gearbox CRF450'!$C$4/'Gearbox CRF450'!$D$4) -> 40.074522 | K2: =(($A2*60*('Gearbox CRF450'!$C$15/'Gearbox CRF450'!$D$15)*('Gearbox CRF450'!$C$3/'Gearbox CRF450'!$D$3)*'Gearbox CRF450'!$E$5*PI())/1000)*('Gearbox CRF450'!$C$4/'Gearbox CRF450'!$D$4) -> 47.146496 | L2: =(($A2*60*('Gearbox CRF450'!$C$17/'Gearbox CRF450'!$D$17)*('Gearbox CRF450'!$C$3/'Gearbox CRF450'!$D$3)*'Gearbox CRF450'!$E$5*PI())/1000)*('Gearbox CRF450'!$C$4/'Gearbox CRF450'!$D$4) -> 54.454203 | N2: =($D2*1000)/(H2*(1000/3600)) -> 1561.782 | O2: =($D2*1000)/(I2*(1000/3600)) -> 1275.9657 | P2: =($D2*1000)/(J2*(1000/3600)) -> 1071.8112 | Q2: =($D2*1000)/(K2*(1000/3600)) -> 911.0395 | R2: =($D2*1000)/(L2*(1000/3600)) -> 788.77879
A3: =A2+500 -> 4000 | B3: 20 | C3: =(B3*5252)/A3 -> 26.26 | D3: =0.7457*B3 -> 14.914 | H3: =(($A3*60*('Gearbox CRF450'!$C$9/'Gearbox CRF450'!$D$9)*('Gearbox CRF450'!$C$3/'Gearbox CRF450'!$D$3)*'Gearbox CRF450'!$E$5*PI())/1000)*('Gearbox CRF450'!$C$4/'Gearbox CRF450'!$D$4) -> 31.430997 | I3: =(($A3*60*('Gearbox CRF450'!$C$11/'Gearbox CRF450'!$D$11)*('Gearbox CRF450'!$C$3/'Gearbox CRF450'!$D$3)*'Gearbox CRF450'!$E$5*PI())/1000)*('Gearbox CRF450'!$C$4/'Gearbox CRF450'!$D$4) -> 38.471541 | J3: =(($A3*60*('Gearbox CRF450'!$C$13/'Gearbox CRF450'!$D$13)*('Gearbox CRF450'!$C$3/'Gearbox CRF450'!$D$3)*'Gearbox CRF450'!$E$5*PI())/1000)*('Gearbox CRF450'!$C$4/'Gearbox CRF450'!$D$4) -> 45.799453 | K3: =(($A3*60*('Gearbox CRF450'!$C$15/'Gearbox CRF450'!$D$15)*('Gearbox CRF450'!$C$3/'Gearbox CRF450'!$D$3)*'Gearbox CRF450'!$E$5*PI())/1000)*('Gearbox CRF450'!$C$4/'Gearbox CRF450'!$D$4) -> 53.88171 | L3: =(($A3*60*('Gearbox CRF450'!$C$17/'Gearbox CRF450'!$D$17)*('Gearbox CRF450'!$C$3/'Gearbox CRF450'!$D$3)*'Gearbox CRF450'!$E$5*PI())/1000)*('Gearbox CRF450'!$C$4/'Gearbox CRF450'!$D$4) -> 62.233375 | N3: =($D3*1000)/(H3*(1000/3600)) -> 1708.1991 | O3: =($D3*1000)/(I3*(1000/3600)) -> 1395.5875 | P3: =($D3*1000)/(J3*(1000/3600)) -> 1172.2935 | Q3: =($D3*1000)/(K3*(1000/3600)) -> 996.44945 | R3: =($D3*1000)/(L3*(1000/3600)) -> 862.7268
A4: =A3+500 -> 4500 | B4: 25 | C4: =(B4*5252)/A4 -> 29.177778 | D4: =0.7457*B4 -> 18.6425 | H4: =(($A4*60*('Gearbox CRF450'!$C$9/'Gearbox CRF450'!$D$9)*('Gearbox CRF450'!$C$3/'Gearbox CRF450'!$D$3)*'Gearbox CRF450'!$E$5*PI())/1000)*('Gearbox CRF450'!$C$4/'Gearbox CRF450'!$D$4) -> 35.359872 | I4: =(($A4*60*('Gearbox CRF450'!$C$11/'Gearbox CRF450'!$D$11)*('Gearbox CRF450'!$C$3/'Gearbox CRF450'!$D$3)*'Gearbox CRF450'!$E$5*PI())/1000)*('Gearbox CRF450'!$C$4/'Gearbox CRF450'!$D$4) -> 43.280483 | J4: =(($A4*60*('Gearbox CRF450'!$C$13/'Gearbox CRF450'!$D$13)*('Gearbox CRF450'!$C$3/'Gearbox CRF450'!$D$3)*'Gearbox CRF450'!$E$5*PI())/1000)*('Gearbox CRF450'!$C$4/'Gearbox CRF450'!$D$4) -> 51.524385 | K4: =(($A4*60*('Gearbox CRF450'!$C$15/'Gearbox CRF450'!$D$15)*('Gearbox CRF450'!$C$3/'Gearbox CRF450'!$D$3)*'Gearbox CRF450'!$E$5*PI())/1000)*('Gearbox CRF450'!$C$4/'Gearbox CRF450'!$D$4) -> 60.616923 | L4: =(($A4*60*('Gearbox CRF450'!$C$17/'Gearbox CRF450'!$D$17)*('Gearbox CRF450'!$C$3/'Gearbox CRF450'!$D$3)*'Gearbox CRF450'!$E$5*PI())/1000)*('Gearbox CRF450'!$C$4/'Gearbox CRF450'!$D$4) -> 70.012547 | N4: =($D4*1000)/(H4*(1000/3600)) -> 1897.999 | O4: =($D4*1000)/(I4*(1000/3600)) -> 1550.6527 | P4: =($D4*1000)/(J4*(1000/3600)) -> 1302.5483 | Q4: =($D4*1000)/(K4*(1000/3600)) -> 1107.1661 | R4: =($D4*1000)/(L4*(1000/3600)) -> 958.58533
A5: =A4+500 -> 5000 | B5: 32 | C5: =(B5*5252)/A5 -> 33.6128 | D5: =0.7457*B5 -> 23.8624 | H5: =(($A5*60*('Gearbox CRF450'!$C$9/'Gearbox CRF450'!$D$9)*('Gearbox CRF450'!$C$3/'Gearbox CRF450'!$D$3)*'Gearbox CRF450'!$E$5*PI())/1000)*('Gearbox CRF450'!$C$4/'Gearbox CRF450'!$D$4) -> 39.288747 | I5: =(($A5*60*('Gearbox CRF450'!$C$11/'Gearbox CRF450'!$D$11)*('Gearbox CRF450'!$C$3/'Gearbox CRF450'!$D$3)*'Gearbox CRF450'!$E$5*PI())/1000)*('Gearbox CRF450'!$C$4/'Gearbox CRF450'!$D$4) -> 48.089426 | J5: =(($A5*60*('Gearbox CRF450'!$C$13/'Gearbox CRF450'!$D$13)*('Gearbox CRF450'!$C$3/'Gearbox CRF450'!$D$3)*'Gearbox CRF450'!$E$5*PI())/1000)*('Gearbox CRF450'!$C$4/'Gearbox CRF450'!$D$4) -> 57.249317 | K5: =(($A5*60*('Gearbox CRF450'!$C$15/'Gearbox CRF450'!$D$15)*('Gearbox CRF450'!$C$3/'Gearbox CRF450'!$D$3)*'Gearbox CRF450'!$E$5*PI())/1000)*('Gearbox CRF450'!$C$4/'Gearbox CRF450'!$D$4) -> 67.352137 | L5: =(($A5*60*('Gearbox CRF450'!$C$17/'Gearbox CRF450'!$D$17)*('Gearbox CRF450'!$C$3/'Gearbox CRF450'!$D$3)*'Gearbox CRF450'!$E$5*PI())/1000)*('Gearbox CRF450'!$C$4/'Gearbox CRF450'!$D$4) -> 77.791718 | N5: =($D5*1000)/(H5*(1000/3600)) -> 2186.4948 | O5: =($D5*1000)/(I5*(1000/3600)) -> 1786.352 | P5: =($D5*1000)/(J5*(1000/3600)) -> 1500.5356 | Q5: =($D5*1000)/(K5*(1000/3600)) -> 1275.4553 | R5: =($D5*1000)/(L5*(1000/3600)) -> 1104.2903
A6: =A5+500 -> 5500 | B6: 37 | C6: =(B6*5252)/A6 -> 35.331636 | D6: =0.7457*B6 -> 27.5909 | H6: =(($A6*60*('Gearbox CRF450'!$C$9/'Gearbox CRF450'!$D$9)*('Gearbox CRF450'!$C$3/'Gearbox CRF450'!$D$3)*'Gearbox CRF450'!$E$5*PI())/1000)*('Gearbox CRF450'!$C$4/'Gearbox CRF450'!$D$4) -> 43.217621 | I6: =(($A6*60*('Gearbox CRF450'!$C$11/'Gearbox CRF450'!$D$11)*('Gearbox CRF450'!$C$3/'Gearbox CRF450'!$D$3)*'Gearbox CRF450'!$E$5*PI())/1000)*('Gearbox CRF450'!$C$4/'Gearbox CRF450'!$D$4) -> 52.898368 | J6: =(($A6*60*('Gearbox CRF450'!$C$13/'Gearbox CRF450'!$D$13)*('Gearbox CRF450'!$C$3/'Gearbox CRF450'!$D$3)*'Gearbox CRF450'!$E$5*PI())/1000)*('Gearbox CRF450'!$C$4/'Gearbox CRF450'!$D$4) -> 62.974248 | K6: =(($A6*60*('Gearbox CRF450'!$C$15/'Gearbox CRF450'!$D$15)*('Gearbox CRF450'!$C$3/'Gearbox CRF450'!$D$3)*'Gearbox CRF450'!$E$5*PI())/1000)*('Gearbox CRF450'!$C$4/'Gearbox CRF450'!$D$4) -> 74.087351 | L6: =(($A6*60*('Gearbox CRF450'!$C$17/'Gearbox CRF450'!$D$17)*('Gearbox CRF450'!$C$3/'Gearbox CRF450'!$D$3)*'Gearbox CRF450'!$E$5*PI())/1000)*('Gearbox CRF450'!$C$4/'Gearbox CRF450'!$D$4) -> 85.57089 | N6: =($D6*1000)/(H6*(1000/3600)) -> 2298.3042 | O6: =($D6*1000)/(I6*(1000/3600)) -> 1877.6995 | P6: =($D6*1000)/(J6*(1000/3600)) -> 1577.2676 | Q6: =($D6*1000)/(K6*(1000/3600)) -> 1340.6774 | R6: =($D6*1000)/(L6*(1000/3600)) -> 1160.7597
A7: =A6+500 -> 6000 | B7: 42 | C7: =(B7*5252)/A7 -> 36.764 | D7: =0.7457*B7 -> 31.3194 | H7: =(($A7*60*('Gearbox CRF450'!$C$9/'Gearbox CRF450'!$D$9)*('Gearbox CRF450'!$C$3/'Gearbox CRF450'!$D$3)*'Gearbox CRF450'!$E$5*PI())/1000)*('Gearbox CRF450'!$C$4/'Gearbox CRF450'!$D$4) -> 47.146496 | I7: =(($A7*60*('Gearbox CRF450'!$C$11/'Gearbox CRF450'!$D$11)*('Gearbox CRF450'!$C$3/'Gearbox CRF450'!$D$3)*'Gearbox CRF450'!$E$5*PI())/1000)*('Gearbox CRF450'!$C$4/'Gearbox CRF450'!$D$4) -> 57.707311 | J7: =(($A7*60*('Gearbox CRF450'!$C$13/'Gearbox CRF450'!$D$13)*('Gearbox CRF450'!$C$3/'Gearbox CRF450'!$D$3)*'Gearbox CRF450'!$E$5*PI())/1000)*('Gearbox CRF450'!$C$4/'Gearbox CRF450'!$D$4) -> 68.69918 | K7: =(($A7*60*('Gearbox CRF450'!$C$15/'Gearbox CRF450'!$D$15)*('Gearbox CRF450'!$C$3/'Gearbox CRF450'!$D$3)*'Gearbox CRF450'!$E$5*PI())/1000)*('Gearbox CRF450'!$C$4/'Gearbox CRF450'!$D$4) -> 80.822565 | L7: =(($A7*60*('Gearbox CRF450'!$C$17/'Gearbox CRF450'!$D$17)*('Gearbox CRF450'!$C$3/'Gearbox CRF450'!$D$3)*'Gearbox CRF450'!$E$5*PI())/1000)*('Gearbox CRF450'!$C$4/'Gearbox CRF450'!$D$4) -> 93.350062 | N7: =($D7*1000)/(H7*(1000/3600)) -> 2391.4787 | O7: =($D7*1000)/(I7*(1000/3600)) -> 1953.8225 | P7: =($D7*1000)/(J7*(1000/3600)) -> 1641.2109 | Q7: =($D7*1000)/(K7*(1000/3600)) -> 1395.0292 | R7: =($D7*1000)/(L7*(1000/3600)) -> 1207.8175
A8: =A7+500 -> 6500 | B8: 46 | C8: =(B8*5252)/A8 -> 37.168 | D8: =0.7457*B8 -> 34.3022 | H8: =(($A8*60*('Gearbox CRF450'!$C$9/'Gearbox CRF450'!$D$9)*('Gearbox CRF450'!$C$3/'Gearbox CRF450'!$D$3)*'Gearbox CRF450'!$E$5*PI())/1000)*('Gearbox CRF450'!$C$4/'Gearbox CRF450'!$D$4) -> 51.075371 | I8: =(($A8*60*('Gearbox CRF450'!$C$11/'Gearbox CRF450'!$D$11)*('Gearbox CRF450'!$C$3/'Gearbox CRF450'!$D$3)*'Gearbox CRF450'!$E$5*PI())/1000)*('Gearbox CRF450'!$C$4/'Gearbox CRF450'!$D$4) -> 62.516254 | J8: =(($A8*60*('Gearbox CRF450'!$C$13/'Gearbox CRF450'!$D$13)*('Gearbox CRF450'!$C$3/'Gearbox CRF450'!$D$3)*'Gearbox CRF450'!$E$5*PI())/1000)*('Gearbox CRF450'!$C$4/'Gearbox CRF450'!$D$4) -> 74.424112 | K8: =(($A8*60*('Gearbox CRF450'!$C$15/'Gearbox CRF450'!$D$15)*('Gearbox CRF450'!$C$3/'Gearbox CRF450'!$D$3)*'Gearbox CRF450'!$E$5*PI())/1000)*('Gearbox CRF450'!$C$4/'Gearbox CRF450'!$D$4) -> 87.557778 | L8: =(($A8*60*('Gearbox CRF450'!$C$17/'Gearbox CRF450'!$D$17)*('Gearbox CRF450'!$C$3/'Gearbox CRF450'!$D$3)*'Gearbox CRF450'!$E$5*PI())/1000)*('Gearbox CRF450'!$C$4/'Gearbox CRF450'!$D$4) -> 101.12923 | N8: =($D8*1000)/(H8*(1000/3600)) -> 2417.7587 | O8: =($D8*1000)/(I8*(1000/3600)) -> 1975.293 | P8: =($D8*1000)/(J8*(1000/3600)) -> 1659.2461 | Q8: =($D8*1000)/(K8*(1000/3600)) -> 1410.3592 | R8: =($D8*1000)/(L8*(1000/3600)) -> 1221.0902
A9: =A8+500 -> 7000 | B9: 48 | C9: =(B9*5252)/A9 -> 36.013714 | D9: =0.7457*B9 -> 35.7936 | H9: =(($A9*60*('Gearbox CRF450'!$C$9/'Gearbox CRF450'!$D$9)*('Gearbox CRF450'!$C$3/'Gearbox CRF450'!$D$3)*'Gearbox CRF450'!$E$5*PI())/1000)*('Gearbox CRF450'!$C$4/'Gearbox CRF450'!$D$4) -> 55.004245 | I9: =(($A9*60*('Gearbox CRF450'!$C$11/'Gearbox CRF450'!$D$11)*('Gearbox CRF450'!$C$3/'Gearbox CRF450'!$D$3)*'Gearbox CRF450'!$E$5*PI())/1000)*('Gearbox CRF450'!$C$4/'Gearbox CRF450'!$D$4) -> 67.325196 | J9: =(($A9*60*('Gearbox CRF450'!$C$13/'Gearbox CRF450'!$D$13)*('Gearbox CRF450'!$C$3/'Gearbox CRF450'!$D$3)*'Gearbox CRF450'!$E$5*PI())/1000)*('Gearbox CRF450'!$C$4/'Gearbox CRF450'!$D$4) -> 80.149043 | K9: =(($A9*60*('Gearbox CRF450'!$C$15/'Gearbox CRF450'!$D$15)*('Gearbox CRF450'!$C$3/'Gearbox CRF450'!$D$3)*'Gearbox CRF450'!$E$5*PI())/1000)*('Gearbox CRF450'!$C$4/'Gearbox CRF450'!$D$4) -> 94.292992 | L9: =(($A9*60*('Gearbox CRF450'!$C$17/'Gearbox CRF450'!$D$17)*('Gearbox CRF450'!$C$3/'Gearbox CRF450'!$D$3)*'Gearbox CRF450'!$E$5*PI())/1000)*('Gearbox CRF450'!$C$4/'Gearbox CRF450'!$D$4) -> 108.90841 | N9: =($D9*1000)/(H9*(1000/3600)) -> 2342.673 | O9: =($D9*1000)/(I9*(1000/3600)) -> 1913.9485 | P9: =($D9*1000)/(J9*(1000/3600)) -> 1607.7168 | Q9: =($D9*1000)/(K9*(1000/3600)) -> 1366.5592 | R9: =($D9*1000)/(L9*(1000/3600)) -> 1183.1682
A10: =A9+500 -> 7500 | B10: 50 | C10: =(B10*5252)/A10 -> 35.013333 | D10: =0.7457*B10 -> 37.285 | H10: =(($A10*60*('Gearbox CRF450'!$C$9/'Gearbox CRF450'!$D$9)*('Gearbox CRF450'!$C$3/'Gearbox CRF450'!$D$3)*'Gearbox CRF450'!$E$5*PI())/1000)*('Gearbox CRF450'!$C$4/'Gearbox CRF450'!$D$4) -> 58.93312 | I10: =(($A10*60*('Gearbox CRF450'!$C$11/'Gearbox CRF450'!$D$11)*('Gearbox CRF450'!$C$3/'Gearbox CRF450'!$D$3)*'Gearbox CRF450'!$E$5*PI())/1000)*('Gearbox CRF450'!$C$4/'Gearbox CRF450'!$D$4) -> 72.134139 | J10: =(($A10*60*('Gearbox CRF450'!$C$13/'Gearbox CRF450'!$D$13)*('Gearbox CRF450'!$C$3/'Gearbox CRF450'!$D$3)*'Gearbox CRF450'!$E$5*PI())/1000)*('Gearbox CRF450'!$C$4/'Gearbox CRF450'!$D$4) -> 85.873975 | K10: =(($A10*60*('Gearbox CRF450'!$C$15/'Gearbox CRF450'!$D$15)*('Gearbox CRF450'!$C$3/'Gearbox CRF450'!$D$3)*'Gearbox CRF450'!$E$5*PI())/1000)*('Gearbox CRF450'!$C$4/'Gearbox CRF450'!$D$4) -> 101.02821 | L10: =(($A10*60*('Gearbox CRF450'!$C$17/'Gearbox CRF450'!$D$17)*('Gearbox CRF450'!$C$3/'Gearbox CRF450'!$D$3)*'Gearbox CRF450'!$E$5*PI())/1000)*('Gearbox CRF450'!$C$4/'Gearbox CRF450'!$D$4) -> 116.68758 | N10: =($D10*1000)/(H10*(1000/3600)) -> 2277.5987 | O10: =($D10*1000)/(I10*(1000/3600)) -> 1860.7833 | P10: =($D10*1000)/(J10*(1000/3600)) -> 1563.058 | Q10: =($D10*1000)/(K10*(1000/3600)) -> 1328.5993 | R10: =($D10*1000)/(L10*(1000/3600)) -> 1150.3024
A11: =A10+500 -> 8000 | B11: 50 | C11: =(B11*5252)/A11 -> 32.825 | D11: =0.7457*B11 -> 37.285 | H11: =(($A11*60*('Gearbox CRF450'!$C$9/'Gearbox CRF450'!$D$9)*('Gearbox CRF450'!$C$3/'Gearbox CRF450'!$D$3)*'Gearbox CRF450'!$E$5*PI())/1000)*('Gearbox CRF450'!$C$4/'Gearbox CRF450'!$D$4) -> 62.861995 | I11: =(($A11*60*('Gearbox CRF450'!$C$11/'Gearbox CRF450'!$D$11)*('Gearbox CRF450'!$C$3/'Gearbox CRF450'!$D$3)*'Gearbox CRF450'!$E$5*PI())/1000)*('Gearbox CRF450'!$C$4/'Gearbox CRF450'!$D$4) -> 76.943081 | J11: =(($A11*60*('Gearbox CRF450'!$C$13/'Gearbox CRF450'!$D$13)*('Gearbox CRF450'!$C$3/'Gearbox CRF450'!$D$3)*'Gearbox CRF450'!$E$5*PI())/1000)*('Gearbox CRF450'!$C$4/'Gearbox CRF450'!$D$4) -> 91.598906 | K11: =(($A11*60*('Gearbox CRF450'!$C$15/'Gearbox CRF450'!$D$15)*('Gearbox CRF450'!$C$3/'Gearbox CRF450'!$D$3)*'Gearbox CRF450'!$E$5*PI())/1000)*('Gearbox CRF450'!$C$4/'Gearbox CRF450'!$D$4) -> 107.76342 | L11: =(($A11*60*('Gearbox CRF450'!$C$17/'Gearbox CRF450'!$D$17)*('Gearbox CRF450'!$C$3/'Gearbox CRF450'!$D$3)*'Gearbox CRF450'!$E$5*PI())/1000)*('Gearbox CRF450'!$C$4/'Gearbox CRF450'!$D$4) -> 124.46675 | N11: =($D11*1000)/(H11*(1000/3600)) -> 2135.2488 | O11: =($D11*1000)/(I11*(1000/3600)) -> 1744.4843 | P11: =($D11*1000)/(J11*(1000/3600)) -> 1465.3668 | Q11: =($D11*1000)/(K11*(1000/3600)) -> 1245.5618 | R11: =($D11*1000)/(L11*(1000/3600)) -> 1078.4085
A12: =A11+500 -> 8500 | B12: 49 | C12: =(B12*5252)/A12 -> 30.276235 | D12: =0.7457*B12 -> 36.5393 | H12: =(($A12*60*('Gearbox CRF450'!$C$9/'Gearbox CRF450'!$D$9)*('Gearbox CRF450'!$C$3/'Gearbox CRF450'!$D$3)*'Gearbox CRF450'!$E$5*PI())/1000)*('Gearbox CRF450'!$C$4/'Gearbox CRF450'!$D$4) -> 66.790869 | I12: =(($A12*60*('Gearbox CRF450'!$C$11/'Gearbox CRF450'!$D$11)*('Gearbox CRF450'!$C$3/'Gearbox CRF450'!$D$3)*'Gearbox CRF450'!$E$5*PI())/1000)*('Gearbox CRF450'!$C$4/'Gearbox CRF450'!$D$4) -> 81.752024 | J12: =(($A12*60*('Gearbox CRF450'!$C$13/'Gearbox CRF450'!$D$13)*('Gearbox CRF450'!$C$3/'Gearbox CRF450'!$D$3)*'Gearbox CRF450'!$E$5*PI())/1000)*('Gearbox CRF450'!$C$4/'Gearbox CRF450'!$D$4) -> 97.323838 | K12: =(($A12*60*('Gearbox CRF450'!$C$15/'Gearbox CRF450'!$D$15)*('Gearbox CRF450'!$C$3/'Gearbox CRF450'!$D$3)*'Gearbox CRF450'!$E$5*PI())/1000)*('Gearbox CRF450'!$C$4/'Gearbox CRF450'!$D$4) -> 114.49863 | L12: =(($A12*60*('Gearbox CRF450'!$C$17/'Gearbox CRF450'!$D$17)*('Gearbox CRF450'!$C$3/'Gearbox CRF450'!$D$3)*'Gearbox CRF450'!$E$5*PI())/1000)*('Gearbox CRF450'!$C$4/'Gearbox CRF450'!$D$4) -> 132.24592 | N12: =($D12*1000)/(H12*(1000/3600)) -> 1969.453 | O12: =($D12*1000)/(I12*(1000/3600)) -> 1609.0303 | P12: =($D12*1000)/(J12*(1000/3600)) -> 1351.5854 | Q12: =($D12*1000)/(K12*(1000/3600)) -> 1148.8476 | R12: =($D12*1000)/(L12*(1000/3600)) -> 994.67325
A13: =A12+500 -> 9000 | B13: 48 | C13: =(B13*5252)/A13 -> 28.010667 | D13: =0.7457*B13 -> 35.7936 | H13: =(($A13*60*('Gearbox CRF450'!$C$9/'Gearbox CRF450'!$D$9)*('Gearbox CRF450'!$C$3/'Gearbox CRF450'!$D$3)*'Gearbox CRF450'!$E$5*PI())/1000)*('Gearbox CRF450'!$C$4/'Gearbox CRF450'!$D$4) -> 70.719744 | I13: =(($A13*60*('Gearbox CRF450'!$C$11/'Gearbox CRF450'!$D$11)*('Gearbox CRF450'!$C$3/'Gearbox CRF450'!$D$3)*'Gearbox CRF450'!$E$5*PI())/1000)*('Gearbox CRF450'!$C$4/'Gearbox CRF450'!$D$4) -> 86.560967 | J13: =(($A13*60*('Gearbox CRF450'!$C$13/'Gearbox CRF450'!$D$13)*('Gearbox CRF450'!$C$3/'Gearbox CRF450'!$D$3)*'Gearbox CRF450'!$E$5*PI())/1000)*('Gearbox CRF450'!$C$4/'Gearbox CRF450'!$D$4) -> 103.04877 | K13: =(($A13*60*('Gearbox CRF450'!$C$15/'Gearbox CRF450'!$D$15)*('Gearbox CRF450'!$C$3/'Gearbox CRF450'!$D$3)*'Gearbox CRF450'!$E$5*PI())/1000)*('Gearbox CRF450'!$C$4/'Gearbox CRF450'!$D$4) -> 121.23385 | L13: =(($A13*60*('Gearbox CRF450'!$C$17/'Gearbox CRF450'!$D$17)*('Gearbox CRF450'!$C$3/'Gearbox CRF450'!$D$3)*'Gearbox CRF450'!$E$5*PI())/1000)*('Gearbox CRF450'!$C$4/'Gearbox CRF450'!$D$4) -> 140.02509 | N13: =($D13*1000)/(H13*(1000/3600)) -> 1822.079 | O13: =($D13*1000)/(I13*(1000/3600)) -> 1488.6266 | P13: =($D13*1000)/(J13*(1000/3600)) -> 1250.4464 | Q13: =($D13*1000)/(K13*(1000/3600)) -> 1062.8794 | R13: =($D13*1000)/(L13*(1000/3600)) -> 920.24192
A14: =A13+500 -> 9500 | B14: 47 | C14: =(B14*5252)/A14 -> 25.983579 | D14: =0.7457*B14 -> 35.0479 | H14: =(($A14*60*('Gearbox CRF450'!$C$9/'Gearbox CRF450'!$D$9)*('Gearbox CRF450'!$C$3/'Gearbox CRF450'!$D$3)*'Gearbox CRF450'!$E$5*PI())/1000)*('Gearbox CRF450'!$C$4/'Gearbox CRF450'!$D$4) -> 74.648619 | I14: =(($A14*60*('Gearbox CRF450'!$C$11/'Gearbox CRF450'!$D$11)*('Gearbox CRF450'!$C$3/'Gearbox CRF450'!$D$3)*'Gearbox CRF450'!$E$5*PI())/1000)*('Gearbox CRF450'!$C$4/'Gearbox CRF450'!$D$4) -> 91.369909 | J14: =(($A14*60*('Gearbox CRF450'!$C$13/'Gearbox CRF450'!$D$13)*('Gearbox CRF450'!$C$3/'Gearbox CRF450'!$D$3)*'Gearbox CRF450'!$E$5*PI())/1000)*('Gearbox CRF450'!$C$4/'Gearbox CRF450'!$D$4) -> 108.7737 | K14: =(($A14*60*('Gearbox CRF450'!$C$15/'Gearbox CRF450'!$D$15)*('Gearbox CRF450'!$C$3/'Gearbox CRF450'!$D$3)*'Gearbox CRF450'!$E$5*PI())/1000)*('Gearbox CRF450'!$C$4/'Gearbox CRF450'!$D$4) -> 127.96906 | L14: =(($A14*60*('Gearbox CRF450'!$C$17/'Gearbox CRF450'!$D$17)*('Gearbox CRF450'!$C$3/'Gearbox CRF450'!$D$3)*'Gearbox CRF450'!$E$5*PI())/1000)*('Gearbox CRF450'!$C$4/'Gearbox CRF450'!$D$4) -> 147.80426 | N14: =($D14*1000)/(H14*(1000/3600)) -> 1690.218 | O14: =($D14*1000)/(I14*(1000/3600)) -> 1380.8971 | P14: =($D14*1000)/(J14*(1000/3600)) -> 1159.9535 | Q14: =($D14*1000)/(K14*(1000/3600)) -> 985.96051 | R14: =($D14*1000)/(L14*(1000/3600)) -> 853.64546
... A16: =A15+500 -> 10500 | B16: 44 | C16: =(B16*5252)/A16 -> 22.008381 | D16: =0.7457*B16 -> 32.8108 | H16: =(($A16*60*('Gearbox CRF450'!$C$9/'Gearbox CRF450'!$D$9)*('Gearbox CRF450'!$C$3/'Gearbox CRF450'!$D$3)*'Gearbox CRF450'!$E$5*PI())/1000)*('Gearbox CRF450'!$C$4/'Gearbox CRF450'!$D$4) -> 82.506368 | I16: =(($A16*60*('Gearbox CRF450'!$C$11/'Gearbox CRF450'!$D$11)*('Gearbox CRF450'!$C$3/'Gearbox CRF450'!$D$3)*'Gearbox CRF450'!$E$5*PI())/1000)*('Gearbox CRF450'!$C$4/'Gearbox CRF450'!$D$4) -> 100.98779 | J16: =(($A16*60*('Gearbox CRF450'!$C$13/'Gearbox CRF450'!$D$13)*('Gearbox CRF450'!$C$3/'Gearbox CRF450'!$D$3)*'Gearbox CRF450'!$E$5*PI())/1000)*('Gearbox CRF450'!$C$4/'Gearbox CRF450'!$D$4) -> 120.22356 | K16: =(($A16*60*('Gearbox CRF450'!$C$15/'Gearbox CRF450'!$D$15)*('Gearbox CRF450'!$C$3/'Gearbox CRF450'!$D$3)*'Gearbox CRF450'!$E$5*PI())/1000)*('Gearbox CRF450'!$C$4/'Gearbox CRF450'!$D$4) -> 141.43949 | L16: =(($A16*60*('Gearbox CRF450'!$C$17/'Gearbox CRF450'!$D$17)*('Gearbox CRF450'!$C$3/'Gearbox CRF450'!$D$3)*'Gearbox CRF450'!$E$5*PI())/1000)*('Gearbox CRF450'!$C$4/'Gearbox CRF450'!$D$4) -> 163.36261 | N16: =($D16*1000)/(H16*(1000/3600)) -> 1431.6335 | O16: =($D16*1000)/(I16*(1000/3600)) -> 1169.6352 | P16: =($D16*1000)/(J16*(1000/3600)) -> 982.49358 | Q16: =($D16*1000)/(K16*(1000/3600)) -> 835.11954 | R16: =($D16*1000)/(L16*(1000/3600)) -> 723.04722
A18: RPM | B18: Power (hp) | C18: Torque (Nm) | D18: Power (Kw) | H18: Road Speed 1st (km/h) | I18: Road Speed 2nd | J18: Road Speed 3rd | K18: Road Speed 4th | L18: Road Speed 5th | N18: Driving Force 1st (N) | O18: Driving Force 2nd | P18: Driving Force 3rd | Q18: Driving Force 4th | R18: Driving Force 5th
A19: 3500 | B19: 16 | C19: =(B19*5252)/A19 -> 24.009143 | D19: =0.7457*B19 -> 11.9312 | H19: =(($A19*60*('Gearbox CRF450'!$K$9/'Gearbox CRF450'!$L$9)*('Gearbox CRF450'!$K$3/'Gearbox CRF450'!$L$3)*'Gearbox CRF450'!$M$5*PI())/1000)*('Gearbox CRF450'!$K$4/'Gearbox CRF450'!$L$4) -> 34.377653 | I19: =(($A19*60*('Gearbox CRF450'!$C$11/'Gearbox CRF450'!$D$11)*('Gearbox CRF450'!$C$3/'Gearbox CRF450'!$D$3)*'Gearbox CRF450'!$E$5*PI())/1000)*('Gearbox CRF450'!$C$4/'Gearbox CRF450'!$D$4) -> 33.662598 | J19: =(($A19*60*('Gearbox CRF450'!$C$13/'Gearbox CRF450'!$D$13)*('Gearbox CRF450'!$C$3/'Gearbox CRF450'!$D$3)*'Gearbox CRF450'!$E$5*PI())/1000)*('Gearbox CRF450'!$C$4/'Gearbox CRF450'!$D$4) -> 40.074522 | K19: =(($A19*60*('Gearbox CRF450'!$C$15/'Gearbox CRF450'!$D$15)*('Gearbox CRF450'!$C$3/'Gearbox CRF450'!$D$3)*'Gearbox CRF450'!$E$5*PI())/1000)*('Gearbox CRF450'!$C$4/'Gearbox CRF450'!$D$4) -> 47.146496 | L19: =(($A19*60*('Gearbox CRF450'!$C$17/'Gearbox CRF450'!$D$17)*('Gearbox CRF450'!$C$3/'Gearbox CRF450'!$D$3)*'Gearbox CRF450'!$E$5*PI())/1000)*('Gearbox CRF450'!$C$4/'Gearbox CRF450'!$D$4) -> 54.454203 | N19: =($D19*1000)/(H19*(1000/3600)) -> 1249.4256 | O19: =($D19*1000)/(I19*(1000/3600)) -> 1275.9657 | P19: =($D19*1000)/(J19*(1000/3600)) -> 1071.8112 | Q19: =($D19*1000)/(K19*(1000/3600)) -> 911.0395 | R19: =($D19*1000)/(L19*(1000/3600)) -> 788.77879
A20: =A19+500 -> 4000 | B20: 20 | C20: =(B20*5252)/A20 -> 26.26 | D20: =0.7457*B20 -> 14.914 | H20: =(($A20*60*('Gearbox CRF450'!$K$9/'Gearbox CRF450'!$L$9)*('Gearbox CRF450'!$K$3/'Gearbox CRF450'!$L$3)*'Gearbox CRF450'!$M$5*PI())/1000)*('Gearbox CRF450'!$K$4/'Gearbox CRF450'!$L$4) -> 39.288747 | I20: =(($A20*60*('Gearbox CRF450'!$C$11/'Gearbox CRF450'!$D$11)*('Gearbox CRF450'!$C$3/'Gearbox CRF450'!$D$3)*'Gearbox CRF450'!$E$5*PI())/1000)*('Gearbox CRF450'!$C$4/'Gearbox CRF450'!$D$4) -> 38.471541 | J20: =(($A20*60*('Gearbox CRF450'!$C$13/'Gearbox CRF450'!$D$13)*('Gearbox CRF450'!$C$3/'Gearbox CRF450'!$D$3)*'Gearbox CRF450'!$E$5*PI())/1000)*('Gearbox CRF450'!$C$4/'Gearbox CRF450'!$D$4) -> 45.799453 | K20: =(($A20*60*('Gearbox CRF450'!$C$15/'Gearbox CRF450'!$D$15)*('Gearbox CRF450'!$C$3/'Gearbox CRF450'!$D$3)*'Gearbox CRF450'!$E$5*PI())/1000)*('Gearbox CRF450'!$C$4/'Gearbox CRF450'!$D$4) -> 53.88171 | L20: =(($A20*60*('Gearbox CRF450'!$C$17/'Gearbox CRF450'!$D$17)*('Gearbox CRF450'!$C$3/'Gearbox CRF450'!$D$3)*'Gearbox CRF450'!$E$5*PI())/1000)*('Gearbox CRF450'!$C$4/'Gearbox CRF450'!$D$4) -> 62.233375 | N20: =($D20*1000)/(H20*(1000/3600)) -> 1366.5592 | O20: =($D20*1000)/(I20*(1000/3600)) -> 1395.5875 | P20: =($D20*1000)/(J20*(1000/3600)) -> 1172.2935 | Q20: =($D20*1000)/(K20*(1000/3600)) -> 996.44945 | R20: =($D20*1000)/(L20*(1000/3600)) -> 862.7268
A21: =A20+500 -> 4500 | B21: 25 | C21: =(B21*5252)/A21 -> 29.177778 | D21: =0.7457*B21 -> 18.6425 | H21: =(($A21*60*('Gearbox CRF450'!$K$9/'Gearbox CRF450'!$L$9)*('Gearbox CRF450'!$K$3/'Gearbox CRF450'!$L$3)*'Gearbox CRF450'!$M$5*PI())/1000)*('Gearbox CRF450'!$K$4/'Gearbox CRF450'!$L$4) -> 44.19984 | I21: =(($A21*60*('Gearbox CRF450'!$C$11/'Gearbox CRF450'!$D$11)*('Gearbox CRF450'!$C$3/'Gearbox CRF450'!$D$3)*'Gearbox CRF450'!$E$5*PI())/1000)*('Gearbox CRF450'!$C$4/'Gearbox CRF450'!$D$4) -> 43.280483 | J21: =(($A21*60*('Gearbox CRF450'!$C$13/'Gearbox CRF450'!$D$13)*('Gearbox CRF450'!$C$3/'Gearbox CRF450'!$D$3)*'Gearbox CRF450'!$E$5*PI())/1000)*('Gearbox CRF450'!$C$4/'Gearbox CRF450'!$D$4) -> 51.524385 | K21: =(($A21*60*('Gearbox CRF450'!$C$15/'Gearbox CRF450'!$D$15)*('Gearbox CRF450'!$C$3/'Gearbox CRF450'!$D$3)*'Gearbox CRF450'!$E$5*PI())/1000)*('Gearbox CRF450'!$C$4/'Gearbox CRF450'!$D$4) -> 60.616923 | L21: =(($A21*60*('Gearbox CRF450'!$C$17/'Gearbox CRF450'!$D$17)*('Gearbox CRF450'!$C$3/'Gearbox CRF450'!$D$3)*'Gearbox CRF450'!$E$5*PI())/1000)*('Gearbox CRF450'!$C$4/'Gearbox CRF450'!$D$4) -> 70.012547 | N21: =($D21*1000)/(H21*(1000/3600)) -> 1518.3992 | O21: =($D21*1000)/(I21*(1000/3600)) -> 1550.6527 | P21: =($D21*1000)/(J21*(1000/3600)) -> 1302.5483 | Q21: =($D21*1000)/(K21*(1000/3600)) -> 1107.1661 | R21: =($D21*1000)/(L21*(1000/3600)) -> 958.58533
A22: =A21+500 -> 5000 | B22: 32 | C22: =(B22*5252)/A22 -> 33.6128 | D22: =0.7457*B22 -> 23.8624 | H22: =(($A22*60*('Gearbox CRF450'!$K$9/'Gearbox CRF450'!$L$9)*('Gearbox CRF450'!$K$3/'Gearbox CRF450'!$L$3)*'Gearbox CRF450'!$M$5*PI())/1000)*('Gearbox CRF450'!$K$4/'Gearbox CRF450'!$L$4) -> 49.110933 | I22: =(($A22*60*('Gearbox CRF450'!$C$11/'Gearbox CRF450'!$D$11)*('Gearbox CRF450'!$C$3/'Gearbox CRF450'!$D$3)*'Gearbox CRF450'!$E$5*PI())/1000)*('Gearbox CRF450'!$C$4/'Gearbox CRF450'!$D$4) -> 48.089426 | J22: =(($A22*60*('Gearbox CRF450'!$C$13/'Gearbox CRF450'!$D$13)*('Gearbox CRF450'!$C$3/'Gearbox CRF450'!$D$3)*'Gearbox CRF450'!$E$5*PI())/1000)*('Gearbox CRF450'!$C$4/'Gearbox CRF450'!$D$4) -> 57.249317 | K22: =(($A22*60*('Gearbox CRF450'!$C$15/'Gearbox CRF450'!$D$15)*('Gearbox CRF450'!$C$3/'Gearbox CRF450'!$D$3)*'Gearbox CRF450'!$E$5*PI())/1000)*('Gearbox CRF450'!$C$4/'Gearbox CRF450'!$D$4) -> 67.352137 | L22: =(($A22*60*('Gearbox CRF450'!$C$17/'Gearbox CRF450'!$D$17)*('Gearbox CRF450'!$C$3/'Gearbox CRF450'!$D$3)*'Gearbox CRF450'!$E$5*PI())/1000)*('Gearbox CRF450'!$C$4/'Gearbox CRF450'!$D$4) -> 77.791718 | N22: =($D22*1000)/(H22*(1000/3600)) -> 1749.1958 | O22: =($D22*1000)/(I22*(1000/3600)) -> 1786.352 | P22: =($D22*1000)/(J22*(1000/3600)) -> 1500.5356 | Q22: =($D22*1000)/(K22*(1000/3600)) -> 1275.4553 | R22: =($D22*1000)/(L22*(1000/3600)) -> 1104.2903
A23: =A22+500 -> 5500 | B23: 37 | C23: =(B23*5252)/A23 -> 35.331636 | D23: =0.7457*B23 -> 27.5909 | H23: =(($A23*60*('Gearbox CRF450'!$K$9/'Gearbox CRF450'!$L$9)*('Gearbox CRF450'!$K$3/'Gearbox CRF450'!$L$3)*'Gearbox CRF450'!$M$5*PI())/1000)*('Gearbox CRF450'!$K$4/'Gearbox CRF450'!$L$4) -> 54.022027 | I23: =(($A23*60*('Gearbox CRF450'!$C$11/'Gearbox CRF450'!$D$11)*('Gearbox CRF450'!$C$3/'Gearbox CRF450'!$D$3)*'Gearbox CRF450'!$E$5*PI())/1000)*('Gearbox CRF450'!$C$4/'Gearbox CRF450'!$D$4) -> 52.898368 | J23: =(($A23*60*('Gearbox CRF450'!$C$13/'Gearbox CRF450'!$D$13)*('Gearbox CRF450'!$C$3/'Gearbox CRF450'!$D$3)*'Gearbox CRF450'!$E$5*PI())/1000)*('Gearbox CRF450'!$C$4/'Gearbox CRF450'!$D$4) -> 62.974248 | K23: =(($A23*60*('Gearbox CRF450'!$C$15/'Gearbox CRF450'!$D$15)*('Gearbox CRF450'!$C$3/'Gearbox CRF450'!$D$3)*'Gearbox CRF450'!$E$5*PI())/1000)*('Gearbox CRF450'!$C$4/'Gearbox CRF450'!$D$4) -> 74.087351 | L23: =(($A23*60*('Gearbox CRF450'!$C$17/'Gearbox CRF450'!$D$17)*('Gearbox CRF450'!$C$3/'Gearbox CRF450'!$D$3)*'Gearbox CRF450'!$E$5*PI())/1000)*('Gearbox CRF450'!$C$4/'Gearbox CRF450'!$D$4) -> 85.57089 | N23: =($D23*1000)/(H23*(1000/3600)) -> 1838.6433 | O23: =($D23*1000)/(I23*(1000/3600)) -> 1877.6995 | P23: =($D23*1000)/(J23*(1000/3600)) -> 1577.2676 | Q23: =($D23*1000)/(K23*(1000/3600)) -> 1340.6774 | R23: =($D23*1000)/(L23*(1000/3600)) -> 1160.7597
A24: =A23+500 -> 6000 | B24: 42 | C24: =(B24*5252)/A24 -> 36.764 | D24: =0.7457*B24 -> 31.3194 | H24: =(($A24*60*('Gearbox CRF450'!$K$9/'Gearbox CRF450'!$L$9)*('Gearbox CRF450'!$K$3/'Gearbox CRF450'!$L$3)*'Gearbox CRF450'!$M$5*PI())/1000)*('Gearbox CRF450'!$K$4/'Gearbox CRF450'!$L$4) -> 58.93312 | I24: =(($A24*60*('Gearbox CRF450'!$C$11/'Gearbox CRF450'!$D$11)*('Gearbox CRF450'!$C$3/'Gearbox CRF450'!$D$3)*'Gearbox CRF450'!$E$5*PI())/1000)*('Gearbox CRF450'!$C$4/'Gearbox CRF450'!$D$4) -> 57.707311 | J24: =(($A24*60*('Gearbox CRF450'!$C$13/'Gearbox CRF450'!$D$13)*('Gearbox CRF450'!$C$3/'Gearbox CRF450'!$D$3)*'Gearbox CRF450'!$E$5*PI())/1000)*('Gearbox CRF450'!$C$4/'Gearbox CRF450'!$D$4) -> 68.69918 | K24: =(($A24*60*('Gearbox CRF450'!$C$15/'Gearbox CRF450'!$D$15)*('Gearbox CRF450'!$C$3/'Gearbox CRF450'!$D$3)*'Gearbox CRF450'!$E$5*PI())/1000)*('Gearbox CRF450'!$C$4/'Gearbox CRF450'!$D$4) -> 80.822565 | L24: =(($A24*60*('Gearbox CRF450'!$C$17/'Gearbox CRF450'!$D$17)*('Gearbox CRF450'!$C$3/'Gearbox CRF450'!$D$3)*'Gearbox CRF450'!$E$5*PI())/1000)*('Gearbox CRF450'!$C$4/'Gearbox CRF450'!$D$4) -> 93.350062 | N24: =($D24*1000)/(H24*(1000/3600)) -> 1913.1829 | O24: =($D24*1000)/(I24*(1000/3600)) -> 1953.8225 | P24: =($D24*1000)/(J24*(1000/3600)) -> 1641.2109 | Q24: =($D24*1000)/(K24*(1000/3600)) -> 1395.0292 | R24: =($D24*1000)/(L24*(1000/3600)) -> 1207.8175
A25: =A24+500 -> 6500 | B25: 46 | C25: =(B25*5252)/A25 -> 37.168 | D25: =0.7457*B25 -> 34.3022 | H25: =(($A25*60*('Gearbox CRF450'!$K$9/'Gearbox CRF450'!$L$9)*('Gearbox CRF450'!$K$3/'Gearbox CRF450'!$L$3)*'Gearbox CRF450'!$M$5*PI())/1000)*('Gearbox CRF450'!$K$4/'Gearbox CRF450'!$L$4) -> 63.844213 | I25: =(($A25*60*('Gearbox CRF450'!$C$11/'Gearbox CRF450'!$D$11)*('Gearbox CRF450'!$C$3/'Gearbox CRF450'!$D$3)*'Gearbox CRF450'!$E$5*PI())/1000)*('Gearbox CRF450'!$C$4/'Gearbox CRF450'!$D$4) -> 62.516254 | J25: =(($A25*60*('Gearbox CRF450'!$C$13/'Gearbox CRF450'!$D$13)*('Gearbox CRF450'!$C$3/'Gearbox CRF450'!$D$3)*'Gearbox CRF450'!$E$5*PI())/1000)*('Gearbox CRF450'!$C$4/'Gearbox CRF450'!$D$4) -> 74.424112 | K25: =(($A25*60*('Gearbox CRF450'!$C$15/'Gearbox CRF450'!$D$15)*('Gearbox CRF450'!$C$3/'Gearbox CRF450'!$D$3)*'Gearbox CRF450'!$E$5*PI())/1000)*('Gearbox CRF450'!$C$4/'Gearbox CRF450'!$D$4) -> 87.557778 | L25: =(($A25*60*('Gearbox CRF450'!$C$17/'Gearbox CRF450'!$D$17)*('Gearbox CRF450'!$C$3/'Gearbox CRF450'!$D$3)*'Gearbox CRF450'!$E$5*PI())/1000)*('Gearbox CRF450'!$C$4/'Gearbox CRF450'!$D$4) -> 101.12923 | N25: =($D25*1000)/(H25*(1000/3600)) -> 1934.2069 | O25: =($D25*1000)/(I25*(1000/3600)) -> 1975.293 | P25: =($D25*1000)/(J25*(1000/3600)) -> 1659.2461 | Q25: =($D25*1000)/(K25*(1000/3600)) -> 1410.3592 | R25: =($D25*1000)/(L25*(1000/3600)) -> 1221.0902
A26: =A25+500 -> 7000 | B26: 48 | C26: =(B26*5252)/A26 -> 36.013714 | D26: =0.7457*B26 -> 35.7936 | H26: =(($A26*60*('Gearbox CRF450'!$K$9/'Gearbox CRF450'!$L$9)*('Gearbox CRF450'!$K$3/'Gearbox CRF450'!$L$3)*'Gearbox CRF450'!$M$5*PI())/1000)*('Gearbox CRF450'!$K$4/'Gearbox CRF450'!$L$4) -> 68.755307 | I26: =(($A26*60*('Gearbox CRF450'!$C$11/'Gearbox CRF450'!$D$11)*('Gearbox CRF450'!$C$3/'Gearbox CRF450'!$D$3)*'Gearbox CRF450'!$E$5*PI())/1000)*('Gearbox CRF450'!$C$4/'Gearbox CRF450'!$D$4) -> 67.325196 | J26: =(($A26*60*('Gearbox CRF450'!$C$13/'Gearbox CRF450'!$D$13)*('Gearbox CRF450'!$C$3/'Gearbox CRF450'!$D$3)*'Gearbox CRF450'!$E$5*PI())/1000)*('Gearbox CRF450'!$C$4/'Gearbox CRF450'!$D$4) -> 80.149043 | K26: =(($A26*60*('Gearbox CRF450'!$C$15/'Gearbox CRF450'!$D$15)*('Gearbox CRF450'!$C$3/'Gearbox CRF450'!$D$3)*'Gearbox CRF450'!$E$5*PI())/1000)*('Gearbox CRF450'!$C$4/'Gearbox CRF450'!$D$4) -> 94.292992 | L26: =(($A26*60*('Gearbox CRF450'!$C$17/'Gearbox CRF450'!$D$17)*('Gearbox CRF450'!$C$3/'Gearbox CRF450'!$D$3)*'Gearbox CRF450'!$E$5*PI())/1000)*('Gearbox CRF450'!$C$4/'Gearbox CRF450'!$D$4) -> 108.90841 | N26: =($D26*1000)/(H26*(1000/3600)) -> 1874.1384 | O26: =($D26*1000)/(I26*(1000/3600)) -> 1913.9485 | P26: =($D26*1000)/(J26*(1000/3600)) -> 1607.7168 | Q26: =($D26*1000)/(K26*(1000/3600)) -> 1366.5592 | R26: =($D26*1000)/(L26*(1000/3600)) -> 1183.1682
A27: =A26+500 -> 7500 | B27: 50 | C27: =(B27*5252)/A27 -> 35.013333 | D27: =0.7457*B27 -> 37.285 | H27: =(($A27*60*('Gearbox CRF450'!$K$9/'Gearbox CRF450'!$L$9)*('Gearbox CRF450'!$K$3/'Gearbox CRF450'!$L$3)*'Gearbox CRF450'!$M$5*PI())/1000)*('Gearbox CRF450'!$K$4/'Gearbox CRF450'!$L$4) -> 73.6664 | I27: =(($A27*60*('Gearbox CRF450'!$C$11/'Gearbox CRF450'!$D$11)*('Gearbox CRF450'!$C$3/'Gearbox CRF450'!$D$3)*'Gearbox CRF450'!$E$5*PI())/1000)*('Gearbox CRF450'!$C$4/'Gearbox CRF450'!$D$4) -> 72.134139 | J27: =(($A27*60*('Gearbox CRF450'!$C$13/'Gearbox CRF450'!$D$13)*('Gearbox CRF450'!$C$3/'Gearbox CRF450'!$D$3)*'Gearbox CRF450'!$E$5*PI())/1000)*('Gearbox CRF450'!$C$4/'Gearbox CRF450'!$D$4) -> 85.873975 | K27: =(($A27*60*('Gearbox CRF450'!$C$15/'Gearbox CRF450'!$D$15)*('Gearbox CRF450'!$C$3/'Gearbox CRF450'!$D$3)*'Gearbox CRF450'!$E$5*PI())/1000)*('Gearbox CRF450'!$C$4/'Gearbox CRF450'!$D$4) -> 101.02821 | L27: =(($A27*60*('Gearbox CRF450'!$C$17/'Gearbox CRF450'!$D$17)*('Gearbox CRF450'!$C$3/'Gearbox CRF450'!$D$3)*'Gearbox CRF450'!$E$5*PI())/1000)*('Gearbox CRF450'!$C$4/'Gearbox CRF450'!$D$4) -> 116.68758 | N27: =($D27*1000)/(H27*(1000/3600)) -> 1822.079 | O27: =($D27*1000)/(I27*(1000/3600)) -> 1860.7833 | P27: =($D27*1000)/(J27*(1000/3600)) -> 1563.058 | Q27: =($D27*1000)/(K27*(1000/3600)) -> 1328.5993 | R27: =($D27*1000)/(L27*(1000/3600)) -> 1150.3024
A28: =A27+500 -> 8000 | B28: 50 | C28: =(B28*5252)/A28 -> 32.825 | D28: =0.7457*B28 -> 37.285 | H28: =(($A28*60*('Gearbox CRF450'!$K$9/'Gearbox CRF450'!$L$9)*('Gearbox CRF450'!$K$3/'Gearbox CRF450'!$L$3)*'Gearbox CRF450'!$M$5*PI())/1000)*('Gearbox CRF450'!$K$4/'Gearbox CRF450'!$L$4) -> 78.577493 | I28: =(($A28*60*('Gearbox CRF450'!$C$11/'Gearbox CRF450'!$D$11)*('Gearbox CRF450'!$C$3/'Gearbox CRF450'!$D$3)*'Gearbox CRF450'!$E$5*PI())/1000)*('Gearbox CRF450'!$C$4/'Gearbox CRF450'!$D$4) -> 76.943081 | J28: =(($A28*60*('Gearbox CRF450'!$C$13/'Gearbox CRF450'!$D$13)*('Gearbox CRF450'!$C$3/'Gearbox CRF450'!$D$3)*'Gearbox CRF450'!$E$5*PI())/1000)*('Gearbox CRF450'!$C$4/'Gearbox CRF450'!$D$4) -> 91.598906 | K28: =(($A28*60*('Gearbox CRF450'!$C$15/'Gearbox CRF450'!$D$15)*('Gearbox CRF450'!$C$3/'Gearbox CRF450'!$D$3)*'Gearbox CRF450'!$E$5*PI())/1000)*('Gearbox CRF450'!$C$4/'Gearbox CRF450'!$D$4) -> 107.76342 | L28: =(($A28*60*('Gearbox CRF450'!$C$17/'Gearbox CRF450'!$D$17)*('Gearbox CRF450'!$C$3/'Gearbox CRF450'!$D$3)*'Gearbox CRF450'!$E$5*PI())/1000)*('Gearbox CRF450'!$C$4/'Gearbox CRF450'!$D$4) -> 124.46675 | N28: =($D28*1000)/(H28*(1000/3600)) -> 1708.1991 | O28: =($D28*1000)/(I28*(1000/3600)) -> 1744.4843 | P28: =($D28*1000)/(J28*(1000/3600)) -> 1465.3668 | Q28: =($D28*1000)/(K28*(1000/3600)) -> 1245.5618 | R28: =($D28*1000)/(L28*(1000/3600)) -> 1078.4085
A29: =A28+500 -> 8500 | B29: 49 | C29: =(B29*5252)/A29 -> 30.276235 | D29: =0.7457*B29 -> 36.5393 | H29: =(($A29*60*('Gearbox CRF450'!$K$9/'Gearbox CRF450'!$L$9)*('Gearbox CRF450'!$K$3/'Gearbox CRF450'!$L$3)*'Gearbox CRF450'!$M$5*PI())/1000)*('Gearbox CRF450'!$K$4/'Gearbox CRF450'!$L$4) -> 83.488587 | I29: =(($A29*60*('Gearbox CRF450'!$C$11/'Gearbox CRF450'!$D$11)*('Gearbox CRF450'!$C$3/'Gearbox CRF450'!$D$3)*'Gearbox CRF450'!$E$5*PI())/1000)*('Gearbox CRF450'!$C$4/'Gearbox CRF450'!$D$4) -> 81.752024 | J29: =(($A29*60*('Gearbox CRF450'!$C$13/'Gearbox CRF450'!$D$13)*('Gearbox CRF450'!$C$3/'Gearbox CRF450'!$D$3)*'Gearbox CRF450'!$E$5*PI())/1000)*('Gearbox CRF450'!$C$4/'Gearbox CRF450'!$D$4) -> 97.323838 | K29: =(($A29*60*('Gearbox CRF450'!$C$15/'Gearbox CRF450'!$D$15)*('Gearbox CRF450'!$C$3/'Gearbox CRF450'!$D$3)*'Gearbox CRF450'!$E$5*PI())/1000)*('Gearbox CRF450'!$C$4/'Gearbox CRF450'!$D$4) -> 114.49863 | L29: =(($A29*60*('Gearbox CRF450'!$C$17/'Gearbox CRF450'!$D$17)*('Gearbox CRF450'!$C$3/'Gearbox CRF450'!$D$3)*'Gearbox CRF450'!$E$5*PI())/1000)*('Gearbox CRF450'!$C$4/'Gearbox CRF450'!$D$4) -> 132.24592 | N29: =($D29*1000)/(H29*(1000/3600)) -> 1575.5624 | O29: =($D29*1000)/(I29*(1000/3600)) -> 1609.0303 | P29: =($D29*1000)/(J29*(1000/3600)) -> 1351.5854 | Q29: =($D29*1000)/(K29*(1000/3600)) -> 1148.8476 | R29: =($D29*1000)/(L29*(1000/3600)) -> 994.67325
A30: =A29+500 -> 9000 | B30: 48 | C30: =(B30*5252)/A30 -> 28.010667 | D30: =0.7457*B30 -> 35.7936 | H30: =(($A30*60*('Gearbox CRF450'!$K$9/'Gearbox CRF450'!$L$9)*('Gearbox CRF450'!$K$3/'Gearbox CRF450'!$L$3)*'Gearbox CRF450'!$M$5*PI())/1000)*('Gearbox CRF450'!$K$4/'Gearbox CRF450'!$L$4) -> 88.39968 | I30: =(($A30*60*('Gearbox CRF450'!$C$11/'Gearbox CRF450'!$D$11)*('Gearbox CRF450'!$C$3/'Gearbox CRF450'!$D$3)*'Gearbox CRF450'!$E$5*PI())/1000)*('Gearbox CRF450'!$C$4/'Gearbox CRF450'!$D$4) -> 86.560967 | J30: =(($A30*60*('Gearbox CRF450'!$C$13/'Gearbox CRF450'!$D$13)*('Gearbox CRF450'!$C$3/'Gearbox CRF450'!$D$3)*'Gearbox CRF450'!$E$5*PI())/1000)*('Gearbox CRF450'!$C$4/'Gearbox CRF450'!$D$4) -> 103.04877 | K30: =(($A30*60*('Gearbox CRF450'!$C$15/'Gearbox CRF450'!$D$15)*('Gearbox CRF450'!$C$3/'Gearbox CRF450'!$D$3)*'Gearbox CRF450'!$E$5*PI())/1000)*('Gearbox CRF450'!$C$4/'Gearbox CRF450'!$D$4) -> 121.23385 | L30: =(($A30*60*('Gearbox CRF450'!$C$17/'Gearbox CRF450'!$D$17)*('Gearbox CRF450'!$C$3/'Gearbox CRF450'!$D$3)*'Gearbox CRF450'!$E$5*PI())/1000)*('Gearbox CRF450'!$C$4/'Gearbox CRF450'!$D$4) -> 140.02509 | N30: =($D30*1000)/(H30*(1000/3600)) -> 1457.6632 | O30: =($D30*1000)/(I30*(1000/3600)) -> 1488.6266 | P30: =($D30*1000)/(J30*(1000/3600)) -> 1250.4464 | Q30: =($D30*1000)/(K30*(1000/3600)) -> 1062.8794 | R30: =($D30*1000)/(L30*(1000/3600)) -> 920.24192
A31: =A30+500 -> 9500 | B31: 47 | C31: =(B31*5252)/A31 -> 25.983579 | D31: =0.7457*B31 -> 35.0479 | H31: =(($A31*60*('Gearbox CRF450'!$K$9/'Gearbox CRF450'!$L$9)*('Gearbox CRF450'!$K$3/'Gearbox CRF450'!$L$3)*'Gearbox CRF450'!$M$5*PI())/1000)*('Gearbox CRF450'!$K$4/'Gearbox CRF450'!$L$4) -> 93.310773 | I31: =(($A31*60*('Gearbox CRF450'!$C$11/'Gearbox CRF450'!$D$11)*('Gearbox CRF450'!$C$3/'Gearbox CRF450'!$D$3)*'Gearbox CRF450'!$E$5*PI())/1000)*('Gearbox CRF450'!$C$4/'Gearbox CRF450'!$D$4) -> 91.369909 | J31: =(($A31*60*('Gearbox CRF450'!$C$13/'Gearbox CRF450'!$D$13)*('Gearbox CRF450'!$C$3/'Gearbox CRF450'!$D$3)*'Gearbox CRF450'!$E$5*PI())/1000)*('Gearbox CRF450'!$C$4/'Gearbox CRF450'!$D$4) -> 108.7737 | K31: =(($A31*60*('Gearbox CRF450'!$C$15/'Gearbox CRF450'!$D$15)*('Gearbox CRF450'!$C$3/'Gearbox CRF450'!$D$3)*'Gearbox CRF450'!$E$5*PI())/1000)*('Gearbox CRF450'!$C$4/'Gearbox CRF450'!$D$4) -> 127.96906 | L31: =(($A31*60*('Gearbox CRF450'!$C$17/'Gearbox CRF450'!$D$17)*('Gearbox CRF450'!$C$3/'Gearbox CRF450'!$D$3)*'Gearbox CRF450'!$E$5*PI())/1000)*('Gearbox CRF450'!$C$4/'Gearbox CRF450'!$D$4) -> 147.80426 | N31: =($D31*1000)/(H31*(1000/3600)) -> 1352.1744 | O31: =($D31*1000)/(I31*(1000/3600)) -> 1380.8971 | P31: =($D31*1000)/(J31*(1000/3600)) -> 1159.9535 | Q31: =($D31*1000)/(K31*(1000/3600)) -> 985.96051 | R31: =($D31*1000)/(L31*(1000/3600)) -> 853.64546
... A33: =A32+500 -> 10500 | B33: 44 | C33: =(B33*5252)/A33 -> 22.008381 | D33: =0.7457*B33 -> 32.8108 | H33: =(($A33*60*('Gearbox CRF450'!$K$9/'Gearbox CRF450'!$L$9)*('Gearbox CRF450'!$K$3/'Gearbox CRF450'!$L$3)*'Gearbox CRF450'!$M$5*PI())/1000)*('Gearbox CRF450'!$K$4/'Gearbox CRF450'!$L$4) -> 103.13296 | I33: =(($A33*60*('Gearbox CRF450'!$C$11/'Gearbox CRF450'!$D$11)*('Gearbox CRF450'!$C$3/'Gearbox CRF450'!$D$3)*'Gearbox CRF450'!$E$5*PI())/1000)*('Gearbox CRF450'!$C$4/'Gearbox CRF450'!$D$4) -> 100.98779 | J33: =(($A33*60*('Gearbox CRF450'!$C$13/'Gearbox CRF450'!$D$13)*('Gearbox CRF450'!$C$3/'Gearbox CRF450'!$D$3)*'Gearbox CRF450'!$E$5*PI())/1000)*('Gearbox CRF450'!$C$4/'Gearbox CRF450'!$D$4) -> 120.22356 | K33: =(($A33*60*('Gearbox CRF450'!$C$15/'Gearbox CRF450'!$D$15)*('Gearbox CRF450'!$C$3/'Gearbox CRF450'!$D$3)*'Gearbox CRF450'!$E$5*PI())/1000)*('Gearbox CRF450'!$C$4/'Gearbox CRF450'!$D$4) -> 141.43949 | L33: =(($A33*60*('Gearbox CRF450'!$C$17/'Gearbox CRF450'!$D$17)*('Gearbox CRF450'!$C$3/'Gearbox CRF450'!$D$3)*'Gearbox CRF450'!$E$5*PI())/1000)*('Gearbox CRF450'!$C$4/'Gearbox CRF450'!$D$4) -> 163.36261 | N33: =($D33*1000)/(H33*(1000/3600)) -> 1145.3068 | O33: =($D33*1000)/(I33*(1000/3600)) -> 1169.6352 | P33: =($D33*1000)/(J33*(1000/3600)) -> 982.49358 | Q33: =($D33*1000)/(K33*(1000/3600)) -> 835.11954 | R33: =($D33*1000)/(L33*(1000/3600)) -> 723.04722
