Workbook

Sheet Corsa B Data
D2: Vehicle
C3: Make | D3: Model | E3: Year
C4: Vauxhall | D4: Corsa B | E4: 1998
C6: KERS
C7: Company | D7: Storage System | E7: Efficency (%)
C8: Ricardo LTD | D8: Kinergy Flywheel | E8: 90
C10: Phase | D10: Total elapsed time | E10: Phase elapsed time | F10: WLTC class 3, version 5, vehicle speed | G10: WLTC class 3, version 5, acceleration | H10: WLTC class 3, version 5, acceleration | I10: Vehicle Speed | J10: Acceleration Force | K10: Aerodynamic Drag Force | L10: Total Force | M10: Total Power | N10: Tractive Energy | O10: Braking Energy | P10: (Cumulative) Tractive Energy | Q10: (Cumulative) Braking Energy | R10: Energy From Wheel Into Flywheel | S10: Energy From Flywheel to Wheel | T10: ICE Energy
C11: Phase | D11: s | E11: s | F11: km/h | G11: m/s² | H11: km/h/s | I11: m/s | J11: N | K11: N | L11: kW | M11: kJ | N11: kJ | O11: kJ | P11: kJ | Q11: kJ | R11: kJ | S11: kJ | T11: kJ
C12: Low | D12: 0 | E12: 0 | F12: 0 | G12: =($F13-0)/2/3.6 -> 0 | H12: =($G13-0)/2 -> 0 | I12: =F12/3.6 -> 0 | J12: ='Data (2)'!$I$4*G12 -> 0 | K12: =('Data (2)'!$E$4*1.225*I12^2)/2 -> 0 | L12: =J12+K12+'Data (2)'!$G$4 -> 135.1818 | M12: =(I12*L12)/1000 -> 0 | N12: =IF(M12>0, M12, 0) -> 0 | O12: =ABS(IF(((I12*L12)/1000)<0, ((I12*L12)/1000), 0)) -> 0 | P12: =SUM($N12:N$12) -> 0 | Q12: =SUM($O12:O$12) -> 0 | R12: =Q12*($E$8/100) -> 0 | S12: =R12*($E$8/100) -> 0 | T12: =P12-S12 -> 0
C13: Low | D13: 1 | E13: 1 | F13: 0 | G13: =($F14-$F12)/2/3.6 -> 0 | H13: =($G14-$G12)/2 -> 0 | I13: =F13/3.6 -> 0 | J13: ='Data (2)'!$I$4*G13 -> 0 | K13: =('Data (2)'!$E$4*1.225*I13^2)/2 -> 0 | L13: =J13+K13+'Data (2)'!$G$4 -> 135.1818 | M13: =(I13*L13)/1000 -> 0 | N13: =IF(M13>0, M13, 0) -> 0 | O13: =ABS(IF(((I13*L13)/1000)<0, ((I13*L13)/1000), 0)) -> 0 | P13: =SUM($N$12:N13) -> 0 | Q13: =SUM($O$12:O13) -> 0 | R13: =Q13*($E$8/100) -> 0 | S13: =R13*($E$8/100) -> 0 | T13: =P13-S13 -> 0
C14: Low | D14: 2 | E14: 2 | F14: 0 | G14: =($F15-$F13)/2/3.6 -> 0 | H14: =($G15-$G13)/2 -> 0 | I14: =F14/3.6 -> 0 | J14: ='Data (2)'!$I$4*G14 -> 0 | K14: =('Data (2)'!$E$4*1.225*I14^2)/2 -> 0 | L14: =J14+K14+'Data (2)'!$G$4 -> 135.1818 | M14: =(I14*L14)/1000 -> 0 | N14: =IF(M14>0, M14, 0) -> 0 | O14: =ABS(IF(((I14*L14)/1000)<0, ((I14*L14)/1000), 0)) -> 0 | P14: =SUM($N$12:N14) -> 0 | Q14: =SUM($O$12:O14) -> 0 | R14: =Q14*($E$8/100) -> 0 | S14: =R14*($E$8/100) -> 0 | T14: =P14-S14 -> 0
C15: Low | D15: 3 | E15: 3 | F15: 0 | G15: =($F16-$F14)/2/3.6 -> 0 | H15: =($G16-$G14)/2 -> 0 | I15: =F15/3.6 -> 0 | J15: ='Data (2)'!$I$4*G15 -> 0 | K15: =('Data (2)'!$E$4*1.225*I15^2)/2 -> 0 | L15: =J15+K15+'Data (2)'!$G$4 -> 135.1818 | M15: =(I15*L15)/1000 -> 0 | N15: =IF(M15>0, M15, 0) -> 0 | O15: =ABS(IF(((I15*L15)/1000)<0, ((I15*L15)/1000), 0)) -> 0 | P15: =SUM($N$12:N15) -> 0 | Q15: =SUM($O$12:O15) -> 0 | R15: =Q15*($E$8/100) -> 0 | S15: =R15*($E$8/100) -> 0 | T15: =P15-S15 -> 0
C16: Low | D16: 4 | E16: 4 | F16: 0 | G16: =($F17-$F15)/2/3.6 -> 0 | H16: =($G17-$G15)/2 -> 0 | I16: =F16/3.6 -> 0 | J16: ='Data (2)'!$I$4*G16 -> 0 | K16: =('Data (2)'!$E$4*1.225*I16^2)/2 -> 0 | L16: =J16+K16+'Data (2)'!$G$4 -> 135.1818 | M16: =(I16*L16)/1000 -> 0 | N16: =IF(M16>0, M16, 0) -> 0 | O16: =ABS(IF(((I16*L16)/1000)<0, ((I16*L16)/1000), 0)) -> 0 | P16: =SUM($N$12:N16) -> 0 | Q16: =SUM($O$12:O16) -> 0 | R16: =Q16*($E$8/100) -> 0 | S16: =R16*($E$8/100) -> 0 | T16: =P16-S16 -> 0
C17: Low | D17: 5 | E17: 5 | F17: 0 | G17: =($F18-$F16)/2/3.6 -> 0 | H17: =($G18-$G16)/2 -> 0 | I17: =F17/3.6 -> 0 | J17: ='Data (2)'!$I$4*G17 -> 0 | K17: =('Data (2)'!$E$4*1.225*I17^2)/2 -> 0 | L17: =J17+K17+'Data (2)'!$G$4 -> 135.1818 | M17: =(I17*L17)/1000 -> 0 | N17: =IF(M17>0, M17, 0) -> 0 | O17: =ABS(IF(((I17*L17)/1000)<0, ((I17*L17)/1000), 0)) -> 0 | P17: =SUM($N$12:N17) -> 0 | Q17: =SUM($O$12:O17) -> 0 | R17: =Q17*($E$8/100) -> 0 | S17: =R17*($E$8/100) -> 0 | T17: =P17-S17 -> 0
C18: Low | D18: 6 | E18: 6 | F18: 0 | G18: =($F19-$F17)/2/3.6 -> 0 | H18: =($G19-$G17)/2 -> 0 | I18: =F18/3.6 -> 0 | J18: ='Data (2)'!$I$4*G18 -> 0 | K18: =('Data (2)'!$E$4*1.225*I18^2)/2 -> 0 | L18: =J18+K18+'Data (2)'!$G$4 -> 135.1818 | M18: =(I18*L18)/1000 -> 0 | N18: =IF(M18>0, M18, 0) -> 0 | O18: =ABS(IF(((I18*L18)/1000)<0, ((I18*L18)/1000), 0)) -> 0 | P18: =SUM($N$12:N18) -> 0 | Q18: =SUM($O$12:O18) -> 0 | R18: =Q18*($E$8/100) -> 0 | S18: =R18*($E$8/100) -> 0 | T18: =P18-S18 -> 0
C19: Low | D19: 7 | E19: 7 | F19: 0 | G19: =($F20-$F18)/2/3.6 -> 0 | H19: =($G20-$G18)/2 -> 0 | I19: =F19/3.6 -> 0 | J19: ='Data (2)'!$I$4*G19 -> 0 | K19: =('Data (2)'!$E$4*1.225*I19^2)/2 -> 0 | L19: =J19+K19+'Data (2)'!$G$4 -> 135.1818 | M19: =(I19*L19)/1000 -> 0 | N19: =IF(M19>0, M19, 0) -> 0 | O19: =ABS(IF(((I19*L19)/1000)<0, ((I19*L19)/1000), 0)) -> 0 | P19: =SUM($N$12:N19) -> 0 | Q19: =SUM($O$12:O19) -> 0 | R19: =Q19*($E$8/100) -> 0 | S19: =R19*($E$8/100) -> 0 | T19: =P19-S19 -> 0
C20: Low | D20: 8 | E20: 8 | F20: 0 | G20: =($F21-$F19)/2/3.6 -> 0 | H20: =($G21-$G19)/2 -> 0 | I20: =F20/3.6 -> 0 | J20: ='Data (2)'!$I$4*G20 -> 0 | K20: =('Data (2)'!$E$4*1.225*I20^2)/2 -> 0 | L20: =J20+K20+'Data (2)'!$G$4 -> 135.1818 | M20: =(I20*L20)/1000 -> 0 | N20: =IF(M20>0, M20, 0) -> 0 | O20: =ABS(IF(((I20*L20)/1000)<0, ((I20*L20)/1000), 0)) -> 0 | P20: =SUM($N$12:N20) -> 0 | Q20: =SUM($O$12:O20) -> 0 | R20: =Q20*($E$8/100) -> 0 | S20: =R20*($E$8/100) -> 0 | T20: =P20-S20 -> 0
C21: Low | D21: 9 | E21: 9 | F21: 0 | G21: =($F22-$F20)/2/3.6 -> 0 | H21: =($G22-$G20)/2 -> 0 | I21: =F21/3.6 -> 0 | J21: ='Data (2)'!$I$4*G21 -> 0 | K21: =('Data (2)'!$E$4*1.225*I21^2)/2 -> 0 | L21: =J21+K21+'Data (2)'!$G$4 -> 135.1818 | M21: =(I21*L21)/1000 -> 0 | N21: =IF(M21>0, M21, 0) -> 0 | O21: =ABS(IF(((I21*L21)/1000)<0, ((I21*L21)/1000), 0)) -> 0 | P21: =SUM($N$12:N21) -> 0 | Q21: =SUM($O$12:O21) -> 0 | R21: =Q21*($E$8/100) -> 0 | S21: =R21*($E$8/100) -> 0 | T21: =P21-S21 -> 0
C22: Low | D22: 10 | E22: 10 | F22: 0 | G22: =($F23-$F21)/2/3.6 -> 0 | H22: =($G23-$G21)/2 -> 0.013888889 | I22: =F22/3.6 -> 0 | J22: ='Data (2)'!$I$4*G22 -> 0 | K22: =('Data (2)'!$E$4*1.225*I22^2)/2 -> 0 | L22: =J22+K22+'Data (2)'!$G$4 -> 135.1818 | M22: =(I22*L22)/1000 -> 0 | N22: =IF(M22>0, M22, 0) -> 0 | O22: =ABS(IF(((I22*L22)/1000)<0, ((I22*L22)/1000), 0)) -> 0 | P22: =SUM($N$12:N22) -> 0 | Q22: =SUM($O$12:O22) -> 0 | R22: =Q22*($E$8/100) -> 0 | S22: =R22*($E$8/100) -> 0 | T22: =P22-S22 -> 0
C23: Low | D23: 11 | E23: 11 | F23: 0 | G23: =($F24-$F22)/2/3.6 -> 0.027777778 | H23: =($G24-$G22)/2 -> 0.11805556 | I23: =F23/3.6 -> 0 | J23: ='Data (2)'!$I$4*G23 -> 29.444444 | K23: =('Data (2)'!$E$4*1.225*I23^2)/2 -> 0 | L23: =J23+K23+'Data (2)'!$G$4 -> 164.62624 | M23: =(I23*L23)/1000 -> 0 | N23: =IF(M23>0, M23, 0) -> 0 | O23: =ABS(IF(((I23*L23)/1000)<0, ((I23*L23)/1000), 0)) -> 0 | P23: =SUM($N$12:N23) -> 0 | Q23: =SUM($O$12:O23) -> 0 | R23: =Q23*($E$8/100) -> 0 | S23: =R23*($E$8/100) -> 0 | T23: =P23-S23 -> 0
C24: Low | D24: 12 | E24: 12 | F24: 0.2 | G24: =($F25-$F23)/2/3.6 -> 0.23611111 | H24: =($G25-$G23)/2 -> 0.34722222 | I24: =F24/3.6 -> 0.055555556 | J24: ='Data (2)'!$I$4*G24 -> 250.27778 | K24: =('Data (2)'!$E$4*1.225*I24^2)/2 -> 0.0012790555 | L24: =J24+K24+'Data (2)'!$G$4 -> 385.46086 | M24: =(I24*L24)/1000 -> 0.021414492 | N24: =IF(M24>0, M24, 0) -> 0.021414492 | O24: =ABS(IF(((I24*L24)/1000)<0, ((I24*L24)/1000), 0)) -> 0 | P24: =SUM($N$12:N24) -> 0.021414492 | Q24: =SUM($O$12:O24) -> 0 | R24: =Q24*($E$8/100) -> 0 | S24: =R24*($E$8/100) -> 0 | T24: =P24-S24 -> 0.021414492
... C1812: Extra-high | D1812: 1800 | E1812: 323 | F1812: 0 | G1812: =($F1813-$F1811)/2/3.6 -> 0 | H1812: =($G1813-$G1811)/2 -> 0 | I1812: =F1812/3.6 -> 0 | J1812: ='Data (2)'!$I$4*G1812 -> 0 | K1812: =('Data (2)'!$E$4*1.225*I1812^2)/2 -> 0 | L1812: =J1812+K1812+'Data (2)'!$G$4 -> 135.1818 | M1812: =(I1812*L1812)/1000 -> 0 | N1812: =IF(M1812>0, M1812, 0) -> 0 | O1812: =ABS(IF(((I1812*L1812)/1000)<0, ((I1812*L1812)/1000), 0)) -> 0 | P1812: =SUM($N$12:N1812) -> 9969.1441 | Q1812: =SUM($O$12:O1812) -> 1881.6292 | R1812: =Q1812*($E$8/100) -> 1693.4663 | S1812: =R1812*($E$8/100) -> 1524.1196 | T1812: =P1812-S1812 -> 8445.0244

Sheet Data (2)
C2: Vehicle Information
C3: Drag Coefficent | D3: Frontal Area (m2) | E3: CDA | F3: Rolling Resistance Coefficent | G3: Rolling Resistance (N) | H3: Curb Weight (Kg) | I3: Test Mass (Kg) | J3: Standard Force (N)
C4: 0.36 | D4: 1.8794285 | E4: =C4*D4 -> 0.67659426 | F4: 0.013 | G4: =F4*J4 -> 135.1818 | H4: 960 | I4: =H4+100 -> 1060 | J4: =I4*9.81 -> 10398.6
C7: Energy (kJ)
C8: Test Stages | D8: Positive | E8: Negative | F8: Recovered | G8: Re used
C9: Low | D9: ='Corsa B Data'!P601 -> 971.85235 | E9: ='Corsa B Data'!Q601 -> 436.5078 | F9: ='Corsa B Data'!R601 -> 392.85702 | G9: ='Corsa B Data'!S601 -> 353.57131
C10: Medium | D10: ='Corsa B Data'!P1034-D9 -> 1728.6003 | E10: ='Corsa B Data'!Q1034-E9 -> 653.81384 | F10: ='Corsa B Data'!R1034-F9 -> 588.43245 | G10: ='Corsa B Data'!S1034-G9 -> 529.58921
C11: High | D11: ='Corsa B Data'!P1489-(D10+D9) -> 2760.8107 | E11: ='Corsa B Data'!Q1489-SUM(E9:E10) -> 524.43837 | F11: ='Corsa B Data'!R1489-SUM(F9:F10) -> 471.99454 | G11: ='Corsa B Data'!S1489-SUM(G9:G10) -> 424.79508
C12: Very High | D12: ='Corsa B Data'!P1812-(SUM(D9:D11)) -> 4507.8807 | E12: ='Corsa B Data'!Q1812-SUM(E9:E11) -> 266.86917 | F12: ='Corsa B Data'!R1812-SUM(F9:F11) -> 240.18226 | G12: ='Corsa B Data'!S1812-SUM(G9:G11) -> 216.16403

Sheet Graphical Data
