Workbook

Sheet WMT
B2: GIVEN NAME | C2: FAMILY NAME | D2: PART 1 | E2: PART 2 | F2: GRADE
A3: 1909711 | B3: Abby | C3: Burrell | D3: ='Assignment Breakdown'!H2 -> 40 | E3: ='Assignment Breakdown'!H16 -> 35 | F3: =SUM(D3*0.5+E3*0.5) -> 37.5 | I3: Percentage above 60: | J3: =COUNTIF(F3:F12,">=60")/COUNTIF(F3:F12,">0") -> 0.4
A4: 1602834 | B4: Declan | C4: Davies | D4: ='Assignment Breakdown'!H3 -> 62 | E4: ='Assignment Breakdown'!H17 -> 38 | F4: =SUM(D4*0.5+E4*0.5) -> 50
A5: 1910386 | B5: Luke | C5: Hall | D5: ='Assignment Breakdown'!H4 -> 75 | E5: ='Assignment Breakdown'!H18 -> 79 | F5: =SUM(D5*0.5+E5*0.5) -> 77
A6: 1909707 | B6: Morgan | C6: Harries | D6: ='Assignment Breakdown'!H5 -> 47 | E6: ='Assignment Breakdown'!H19 -> 63 | F6: =SUM(D6*0.5+E6*0.5) -> 55
A7: 1909704 | B7: Steffan | C7: Johns | D7: ='Assignment Breakdown'!H6 -> 40 | E7: ='Assignment Breakdown'!H20 -> 30 | F7: =SUM(D7*0.5+E7*0.5) -> 35
A8: 1909708 | B8: Michael Rhys | C8: Jones | D8: ='Assignment Breakdown'!H7 -> 52 | E8: ='Assignment Breakdown'!H21 -> 55 | F8: =SUM(D8*0.5+E8*0.5) -> 53.5
A9: 1809787 | B9: Teirion | C9: Jones | D9: ='Assignment Breakdown'!H8 -> 70 | E9: ='Assignment Breakdown'!H22 -> 78 | F9: =SUM(D9*0.5+E9*0.5) -> 74
A10: 1909703 | B10: Nicholas | C10: King | D10: ='Assignment Breakdown'!H9 -> 37 | E10: ='Assignment Breakdown'!H23 -> 51 | F10: =SUM(D10*0.5+E10*0.5) -> 44
A11: 1909705 | B11: Sophie | C11: Slaughter | D11: ='Assignment Breakdown'!H10 -> 67 | E11: ='Assignment Breakdown'!H24 -> 73 | F11: =SUM(D11*0.5+E11*0.5) -> 70
A12: 1809785 | B12: Callum | C12: Warwick | D12: ='Assignment Breakdown'!H11 -> 65 | E12: ='Assignment Breakdown'!H25 -> 79 | F12: =SUM(D12*0.5+E12*0.5) -> 72
C13: MEAN VALUE | D13: =SUMIF(D3:D12,">0")/COUNTIF(D3:D12,">0") -> 55.5 | E13: =SUMIF(E3:E12,">0")/COUNTIF(E3:E12,">0") -> 58.1 | F13: =SUMIF(F3:F12,">0")/COUNTIF(F3:F12,">0") -> 56.8
D14: SD | F14: =STDEV(F3:F12) -> 15.567416
D15: Skewness | F15: =SKEW(F3:F12) -> -0.031660765

Sheet Assignment Breakdown
A1: Assignment 1 | C1: 1 | D1: 2 | E1: 3 | F1: 4 | G1: 5 | H1: Total
A2: Abby | B2: Burrell | C2: 8 | D2: 9 | E2: 7 | F2: 12 | G2: 4 | H2: =SUM(C2:G2) -> 40
A3: Declan | B3: Davies | C3: 8 | D3: 17 | E3: 10 | F3: 24 | G3: 3 | H3: =SUM(C3:G3) -> 62
A4: Luke | B4: Hall | C4: 14 | D4: 19 | E4: 12 | F4: 26 | G4: 4 | H4: =SUM(C4:G4) -> 75
A5: Morgan | B5: Harries | C5: 10 | D5: 10 | E5: 10 | F5: 14 | G5: 3 | H5: =SUM(C5:G5) -> 47
A6: Steffan | B6: Johns | D6: 9 | E6: 5 | F6: 23 | G6: 3 | H6: =SUM(C6:G6) -> 40
A7: Michael Rhys | B7: Jones | C7: 10 | D7: 9 | E7: 7 | F7: 22 | G7: 4 | H7: =SUM(C7:G7) -> 52
A8: Teirion | B8: Jones | C8: 14 | D8: 17 | E8: 11 | F8: 24 | G8: 4 | H8: =SUM(C8:G8) -> 70
A9: Nicholas | B9: King | C9: 0 | D9: 7 | E9: 5 | F9: 22 | G9: 3 | H9: =SUM(C9:G9) -> 37
A10: Sophie | B10: Slaughter | C10: 14 | D10: 15 | E10: 10 | F10: 24 | G10: 4 | H10: =SUM(C10:G10) -> 67
A11: Callum | B11: Warwick | C11: 13 | D11: 16 | E11: 10 | F11: 22 | G11: 4 | H11: =SUM(C11:G11) -> 65
A15: Assignment 2
A16: Abby | B16: Burrell | C16: 4 | D16: 12 | E16: 2 | F16: 14 | G16: 3 | H16: =SUM(C16:G16) -> 35
A17: Declan | B17: Davies | C17: 1 | D17: 10 | E17: 5 | F17: 21 | G17: 1 | H17: =SUM(C17:G17) -> 38
A18: Luke | B18: Hall | C18: 16 | D18: 20 | E18: 11 | F18: 28 | G18: 4 | H18: =SUM(C18:G18) -> 79
A19: Morgan | B19: Harries | C19: 11 | D19: 15 | E19: 8 | F19: 25 | G19: 4 | H19: =SUM(C19:G19) -> 63
A20: Steffan | B20: Johns | D20: 7 | E20: 4 | F20: 17 | G20: 2 | H20: =SUM(C20:G20) -> 30
A21: Michael Rhys | B21: Jones | C21: 13 | D21: 10 | E21: 8 | F21: 21 | G21: 3 | H21: =SUM(C21:G21) -> 55
A22: Teirion | B22: Jones | C22: 19 | D22: 17 | E22: 10 | F22: 27 | G22: 5 | H22: =SUM(C22:G22) -> 78
A23: Nicholas | B23: King | C23: 2 | D23: 15 | E23: 5 | F23: 25 | G23: 4 | H23: =SUM(C23:G23) -> 51
A24: Sophie | B24: Slaughter | C24: 16 | D24: 16 | E24: 9 | F24: 28 | G24: 4 | H24: =SUM(C24:G24) -> 73
A25: Callum | B25: Warwick | C25: 16 | D25: 20 | E25: 11 | F25: 28 | G25: 4 | H25: =SUM(C25:G25) -> 79
