Workbook

Sheet Overall Summary
B4: Test | C4: Sweat Loss | D4: HR Drift | E4: VO2 Drift | F4: Temp increase | G4: Temp @ 30min | L4: Note - 'drift' refers to the change from 10 min reading to 30 min reading.
B5: Cold | C5: 0.3 | D5: ='Cold test'!K99 -> 7.6521739 | E5: ='Cold test'!L99 -> 2.572053 | F5: ='Cold test'!M99 -> 0.28571429 | G5: ='Cold test'!C99 -> 36
B6: Ambient | C6: ='Ambient test'!J101 -> 0.40416667 | D6: ='Ambient test'!K101 -> 13.625 | E6: ='Ambient test'!L101 -> 3.5948785 | F6: ='Ambient test'!M101 -> 1.0956522 | G6: ='Ambient test'!C101 -> 37.120833
B7: Hot | C7: ='Hot Test'!J100 -> 0.54583333 | D7: ='Hot Test'!K100 -> 16.541667 | E7: ='Hot Test'!L100 -> 4.6673805 | F7: ='Hot Test'!M100 -> 1.7416667 | G7: ='Hot Test'!C100 -> 37.905556
B8: Pre-Cooled Hot | C8: ='Pre-cooled'!J56 -> 0.41666667 | D8: ='Pre-cooled'!K56 -> 13.083333 | E8: ='Pre-cooled'!L56 -> 2.7211823 | F8: ='Pre-cooled'!M56 -> 1.6916667 | G8: ='Pre-cooled'!C56 -> 38.016667
B12: Test | C12: Mean SpO2 | D12: Mean HR | E12: Mean VO2 | F12: Sweat Loss | G12: HR Drift | H12: VO2 Drift | I12: O2 drift | J12: %vo2Max
B13: Normoxic | C13: =Normoxic!C52 -> 95.916667 | D13: =Normoxic!D52 -> 136.19444 | E13: =Normoxic!F52 -> 30.928797 | F13: =Normoxic!I52 -> 0.325 | G13: =Normoxic!J52 -> 7.8333333 | H13: =Normoxic!K52 -> 1.1520034 | I13: =Normoxic!L52 -> -2.25 | J13: =Normoxic!N52 -> 59.048177
B14: Hypoxic | C14: =Hypoxic!C52 -> 85.625 | D14: =Hypoxic!D52 -> 148.97222 | E14: N/A | F14: =Hypoxic!H52 -> 0.44545455 | G14: =Hypoxic!I52 -> 8.9090909 | H14: N/A | I14: =Hypoxic!J52 -> -1.5 | J14: N/A
B15: Difference | C15: =C13-C14 -> 10.291667 | D15: =D14-D13 -> 12.777778 | F15: =F14-F13 -> 0.12045455 | G15: =G14-G13 -> 1.0757576

Sheet Cold water Grip Strength
E1: ID | F1: Starting Grip Strength | G1: 5 min Grip Strength | H1: 10 min Grip Strength | I1: 15 min Grip Strength | J1: 20 min Grip Strength | K1: 25 min Grip Strength | L1: 30 min Grip Strength | M1: Difference
E2: 1 | F2: 44 | G2: 43 | H2: 39 | I2: 36 | J2: 35 | K2: 28 | L2: 21 | M2: =Table1[[#This Row],[Starting Grip Strength]]-Table1[[#This Row],[30 min Grip Strength]] -> 23
E3: 2 | F3: 31 | G3: 28.2 | H3: 28 | I3: 25.2 | J3: 21.9 | K3: 22 | L3: 23.5 | M3: =Table1[[#This Row],[Starting Grip Strength]]-Table1[[#This Row],[30 min Grip Strength]] -> 7.5
E4: 3 | F4: 49.7 | G4: 43.1 | H4: 47.3 | I4: 40.9 | J4: 42.5 | K4: 40.6 | L4: 35.1 | M4: =Table1[[#This Row],[Starting Grip Strength]]-Table1[[#This Row],[30 min Grip Strength]] -> 14.6
E5: 4 | F5: 42 | G5: 38 | H5: 33 | I5: 32 | J5: 31 | K5: 31 | L5: 30 | M5: =Table1[[#This Row],[Starting Grip Strength]]-Table1[[#This Row],[30 min Grip Strength]] -> 12
E6: 5 | F6: 45 | G6: 45 | H6: 46 | I6: 28 | J6: 35 | K6: 37 | L6: 37 | M6: =Table1[[#This Row],[Starting Grip Strength]]-Table1[[#This Row],[30 min Grip Strength]] -> 8
E7: 6 | F7: 50.1 | G7: 42.9 | H7: 41.2 | I7: 34.6 | J7: 30.6 | K7: 30 | L7: 32.2 | M7: =Table1[[#This Row],[Starting Grip Strength]]-Table1[[#This Row],[30 min Grip Strength]] -> 17.9
E8: 7 | F8: 53.6 | G8: 51.3 | H8: 54.5 | I8: 51.1 | J8: 55.9 | K8: 54.8 | L8: 54.1 | M8: =Table1[[#This Row],[Starting Grip Strength]]-Table1[[#This Row],[30 min Grip Strength]] -> -0.5
E9: 8 | F9: 50 | G9: 43 | H9: 40 | I9: 37.8 | J9: 44 | K9: 41 | L9: 36 | M9: =Table1[[#This Row],[Starting Grip Strength]]-Table1[[#This Row],[30 min Grip Strength]] -> 14
E10: 9 | F10: 54.1 | G10: 61.7 | H10: 60 | I10: 56.5 | J10: 56.6 | K10: 52.3 | L10: 46.2 | M10: =Table1[[#This Row],[Starting Grip Strength]]-Table1[[#This Row],[30 min Grip Strength]] -> 7.9
E11: 10 | F11: 51 | G11: 53.2 | H11: 53.8 | I11: 47.1 | J11: 51.2 | K11: 46.6 | L11: 44.7 | M11: =Table1[[#This Row],[Starting Grip Strength]]-Table1[[#This Row],[30 min Grip Strength]] -> 6.3
E12: 11 | F12: 29 | G12: 27 | H12: 28 | I12: 25 | J12: 22 | K12: 24 | L12: 26 | M12: =Table1[[#This Row],[Starting Grip Strength]]-Table1[[#This Row],[30 min Grip Strength]] -> 3
E13: Gareth | F13: 48.8 | G13: 47.5 | H13: 43.1 | I13: 35.7 | J13: 35.4 | K13: 34.8 | L13: 32.6 | M13: =Table1[[#This Row],[Starting Grip Strength]]-Table1[[#This Row],[30 min Grip Strength]] -> 16.2
E14: Marcus | F14: 36.9 | G14: 37.2 | H14: 34.6 | I14: 31 | J14: 26.3 | K14: 22.1 | L14: 19.6 | M14: =Table1[[#This Row],[Starting Grip Strength]]-Table1[[#This Row],[30 min Grip Strength]] -> 17.3
E15: Sian | F15: 26.9 | G15: 26.5 | H15: 27 | I15: 23.2 | J15: 23.7 | K15: 22.4 | L15: 20.3 | M15: =Table1[[#This Row],[Starting Grip Strength]]-Table1[[#This Row],[30 min Grip Strength]] -> 6.6
E16: Tom | F16: 39.1 | G16: 39.3 | H16: 38 | I16: 38 | J16: 35.7 | K16: 36 | L16: 37.3 | M16: =Table1[[#This Row],[Starting Grip Strength]]-Table1[[#This Row],[30 min Grip Strength]] -> 1.8
E17: Mean | F17: =AVERAGE(F2:F16) -> 43.413333 | G17: =AVERAGE(G2:G16) -> 41.793333 | H17: =AVERAGE(H2:H16) -> 40.9 | I17: =AVERAGE(I2:I16) -> 36.14 | J17: =AVERAGE(J2:J16) -> 36.453333 | K17: =AVERAGE(K2:K16) -> 34.84 | L17: =AVERAGE(L2:L16) -> 33.04

Sheet Cold test
A1: Participant | B1: Time (mins) | C1: Temp (DegC) | D1: HR (bpm) | E1: Power (W) | F1: VO2 (ml/kg/min) | G1: RPE | H1: Weight pre (kg) | I1: Weight post (kg) | J1: Sweat loss (kg) | K1: HR Drift (bpm) | L1: VO2 Drift | M1: Temp diff (DegC) | N1: VO2 Max | O1: % of VO2 Max | P1: Target W | Q1: Actual W | R1: height (CM) | S1: gender | T1: Age
A2: 1 | B2: 0 | C2: 36.1 | D2: 86 | H2: 67 | I2: 66.8 | J2: =H2-I2 -> 0.2 | K2: =D5-D3 -> 3 | L2: =F5-F3 -> 0.9 | M2: =C5-C2 -> 1.3 | N2: 42.6 | O2: =F5/N2*100 -> 62.206573 | P2: 125 | Q2: =SUM(E3:E5)/3 -> 128.66667 | R2: 167 | S2: F | T2: 21
B3: 10 | C3: 36.9 | D3: 147 | E3: 129 | F3: 25.6 | G3: 9 | U3: Environmental Conditions
B4: 20 | C4: 36.7 | D4: 150 | E4: 129 | F4: 24.6 | G4: 13 | U4: Temp: 5 deg C
B5: 30 | C5: 37.4 | D5: 150 | E5: 128 | F5: 26.5 | G5: 13 | U5: Humidity: 50%
A6: 2 | B6: 0 | C6: 36 | H6: 71.1 | I6: 70.9 | J6: =H6-I6 -> 0.2 | K6: =D9-D7 -> 0 | L6: =F9-F7 -> 1.7 | M6: =C9-C6 -> -0.1 | N6: 45.6 | O6: =F9/N6*100 -> 59.649123 | P6: 125 | Q6: =SUM(E7:E9)/3 -> 127.66667 | R6: 165 | S6: F | T6: 37
B7: 10 | C7: 36.3 | D7: 135 | E7: 128 | F7: 25.5 | G7: 10
B8: 20 | C8: 36.1 | D8: 135 | E8: 127 | F8: 25 | G8: 11
B9: 30 | C9: 35.9 | D9: 135 | E9: 128 | F9: 27.2 | G9: 12
A10: 3 | B10: 0 | C10: 35.8 | H10: 73.2 | I10: 72.7 | J10: =H10-I10 -> 0.5 | K10: =D13-D11 -> 11 | L10: =F13-F11 -> 8.9 | M10: =C13-C10 -> 0.6 | N10: 71.1 | O10: =F13/N10*100 -> 61.462729 | P10: 250 | Q10: =SUM(E11:E13)/3 -> 250.66667 | R10: 182 | S10: M | T10: 20
B11: 10 | C11: 36.8 | D11: 140 | E11: 250 | F11: 34.8 | G11: 8
B12: 20 | C12: 36.6 | D12: 148 | E12: 250 | F12: 39.9 | G12: 11
B13: 30 | C13: 36.4 | D13: 151 | E13: 252 | F13: 43.7 | G13: 12
A14: 4 | B14: 0 | C14: 36 | H14: 73.1 | I14: 72.8 | J14: =H14-I14 -> 0.3 | K14: =D17-D15 -> 18 | L14: =F17-F15 -> -0.7 | M14: =C17-C14 -> 1.8 | N14: 54.3 | O14: =F17/N14*100 -> 75.690608 | P14: 170 | Q14: =SUM(E15:E17)/3 -> 168 | R14: 186 | S14: M | T14: 35
B15: 10 | C15: 36.1 | D15: 140 | E15: 168 | F15: 41.8 | G15: 10
B16: 20 | C16: 37.2 | D16: 150 | E16: 168 | F16: 36.7 | G16: 12
B17: 30 | C17: 37.8 | D17: 158 | E17: 168 | F17: 41.1 | G17: 14
A18: 5 | B18: 0 | C18: 34.5 | H18: 93.5 | I18: 93 | J18: =H18-I18 -> 0.5 | K18: =D21-D19 -> 3 | L18: =F21-F19 -> 5.3 | M18: =C21-C18 -> 0.1 | N18: 46.9 | O18: =F21/N18*100 -> 62.260128 | P18: 170 | Q18: =SUM(E19:E21)/3 -> 171.33333 | R18: 182 | S18: M | T18: 21
B19: 10 | C19: 34.9 | D19: 147 | E19: 172 | F19: 23.9 | G19: 8
B20: 20 | C20: 34.5 | D20: 146 | E20: 172 | F20: 29.1 | G20: 12
B21: 30 | C21: 34.6 | D21: 150 | E21: 170 | F21: 29.2 | G21: 15
A22: 6 | B22: 0 | C22: 36.1 | D22: 0 | E22: 0 | F22: 0 | H22: 93.5 | I22: 93 | J22: =H22-I22 -> 0.5 | K22: =D25-D23 -> 17 | L22: =F25-F23 -> 5.7815932 | M22: =C25-C22 -> 0.4 | N22: 53.5 | O22: =F25/N22*100 -> 79.241055 | P22: 213 | Q22: =SUM(E23:E25)/3 -> 212.33333 | R22: 176 | S22: M | T22: 28
B23: 10 | C23: 36.2 | D23: 155 | E23: 211 | F23: 36.612372 | G23: 11
B24: 20 | C24: 35.7 | D24: 167 | E24: 213 | F24: 41.309741 | G24: 12
B25: 30 | C25: 36.5 | D25: 172 | E25: 213 | F25: 42.393965 | G25: 12
A26: 7 | B26: 0 | C26: 36.1 | D26: 52 | E26: 0 | H26: 78.2 | I26: 78 | J26: =H26-I26 -> 0.2 | K26: =D29-D27 -> 7 | L26: =F29-F27 -> 0.4 | M26: =C29-C26 -> 1 | N26: 61.7 | O26: =F29/N26*100 -> 67.909238 | P26: 240 | Q26: =SUM(E27:E29)/3 -> 240 | R26: 175 | S26: M | T26: 42
B27: 10 | C27: 37.1 | D27: 140 | E27: 240 | F27: 41.5 | G27: 10
B28: 20 | C28: 35.8 | D28: 146 | E28: 240 | F28: 41.5 | G28: 11
B29: 30 | C29: 37.1 | D29: 147 | E29: 240 | F29: 41.9 | G29: 12
A30: 8 | B30: 0 | C30: 36 | D30: 49 | E30: 0 | F30: 0 | H30: 88.3 | I30: 87.8 | J30: =H30-I30 -> 0.5 | K30: =D33-D31 -> 7 | L30: =F33-F31 -> -1.3261801 | M30: =C33-C30 -> 2.3 | N30: 49 | O30: =F33/N30*100 -> 80.567197 | P30: 212 | Q30: =SUM(E31:E33)/3 -> 212 | R30: 174 | S30: M | T30: 21
B31: 10 | C31: 35.7 | D31: 145 | E31: 212 | F31: 40.804107 | G31: 10
B32: 20 | C32: 37.7 | D32: 149 | E32: 212 | F32: 38.217977 | G32: 11
B33: 30 | C33: 38.3 | D33: 152 | E33: 212 | F33: 39.477927 | G33: 12
A34: 9 | B34: 0 | C34: 37.1 | D34: 0 | E34: 0 | F34: 0 | H34: 58.4 | I34: 58.2 | J34: =H34-I34 -> 0.2 | K34: =D37-D35 -> 4 | L34: =F37-F35 -> 2.357707 | M34: =C37-C34 -> -1.8 | N34: 50 | O34: =F37/N34*100 -> 70.421426 | P34: 115 | Q34: =SUM(E35:E37)/3 -> 117.33333 | R34: 160 | S34: F | T34: 24
B35: 10 | C35: 36.5 | D35: 168 | E35: 118 | F35: 32.853006 | G35: 7
B36: 20 | C36: 35.2 | D36: 167 | E36: 117 | F36: 35.081027 | G36: 9
B37: 30 | C37: 35.3 | D37: 172 | E37: 117 | F37: 35.210713 | G37: 11
A38: 10 | B38: 0 | C38: 36.2 | D38: 0 | E38: 0 | F38: 0 | H38: 77.3 | I38: 77 | J38: =H38-I38 -> 0.3 | K38: =D41-D39 -> 8 | L38: =F41-F39 -> 3.6670622 | M38: =C41-C38 -> -1.3 | N38: 42.9 | O38: =F41/N38*100 -> 74.357378 | P38: 131 | Q38: =SUM(E39:E41)/3 -> 132.33333 | R38: 185 | S38: M | T38: 20
B39: 10 | C39: 36.3 | D39: 136 | E39: 131 | F39: 28.232253 | G39: 11
B40: 20 | C40: 35.2 | D40: 140 | E40: 133 | F40: 32.69393 | G40: 12
B41: 30 | C41: 34.9 | D41: 144 | E41: 133 | F41: 31.899315 | G41: 13
A42: 11 | B42: 0 | C42: 35.5 | D42: 0 | E42: 0 | F42: 0 | H42: 62.9 | I42: 62.7 | J42: =H42-I42 -> 0.2 | K42: =D45-D43 -> 10 | L42: =F45-F43 -> 5.4308413 | M42: =C45-C42 -> 2.6 | N42: 61 | O42: =F45/N42*100 -> 69.946512 | P42: 140 | Q42: =SUM(E43:E45)/3 -> 140 | R42: 171 | S42: M | T42: 21
B43: 10 | C43: 36.1 | D43: 142 | E43: 140 | F43: 37.236531 | G43: 10
B44: 20 | C44: 36.1 | D44: 156 | E44: 140 | F44: 42.808075 | G44: 12
B45: 30 | C45: 38.1 | D45: 152 | E45: 140 | F45: 42.667372 | G45: 13
A46: 12 | B46: 0 | C46: 36.1 | D46: 0 | E46: 0 | F46: 0 | H46: 102 | I46: 101.5 | J46: =H46-I46 -> 0.5 | K46: =D49-D47 -> 5 | L46: =F49-F47 -> 1.5572637 | M46: =C49-C46 -> 0.6 | N46: 57 | O46: =F49/N46*100 -> 69.183667 | P46: 255 | Q46: =SUM(E47:E49)/3 -> 255 | R46: 200 | S46: M | T46: 27
B47: 10 | C47: 35.9 | D47: 136 | E47: 255 | F47: 37.877427 | G47: 11
B48: 20 | C48: 36.6 | D48: 142 | E48: 255 | F48: 40.187458 | G48: 12
B49: 30 | C49: 36.7 | D49: 141 | E49: 255 | F49: 39.43469 | G49: 13
A50: 13 | B50: 0 | C50: 36.7 | D50: 0 | E50: 0 | F50: 0 | H50: 87.9 | I50: 87.4 | J50: =H50-I50 -> 0.5 | K50: =D53-D51 -> 7 | L50: =F53-F51 -> 0.78893052 | M50: =C53-C50 -> 0.9 | N50: 57 | O50: =F53/N50*100 -> 71.851896 | P50: 225 | Q50: =SUM(E51:E53)/3 -> 225 | R50: 180 | S50: M | T50: 22
B51: 10 | C51: 37.7 | D51: 141 | E51: 225 | F51: 40.16665 | G51: 12
B52: 20 | C52: 38.5 | D52: 145 | E52: 225 | F52: 39.690059 | G52: 14
B53: 30 | C53: 37.6 | D53: 148 | E53: 225 | F53: 40.955581 | G53: 15
A54: 14 | B54: 0 | C54: 34.8 | H54: 88.4 | I54: 88 | J54: =H54-I54 -> 0.4 | K54: =D57-D55 -> 3 | L54: =G57-G55 -> 1 | M54: =C57-C54 -> 0.1 | N54: 52.1 | O54: =F57/N54*100 -> 76.007678 | P54: 180 | Q54: =SUM(E55:E57)/3 -> 182.66667 | R54: 178 | S54: M | T54: 21
B55: 10 | C55: 34.3 | D55: 167 | E55: 185 | F55: 37.9 | G55: 11
B56: 20 | C56: 35.8 | D56: 171 | E56: 182 | F56: 39.9 | G56: 12
B57: 30 | C57: 34.9 | D57: 170 | E57: 181 | F57: 39.6 | G57: 12
A58: 15 | B58: 0 | C58: 35.7 | H58: 91.2 | I58: 91.1 | J58: =H58-I58 -> 0.1 | K58: =D61-D59 -> 11 | L58: =G61-G59 -> 2 | M58: =C61-C58 -> 0.5 | N58: 40.1 | O58: =F61/N58*100 -> 58.104738 | P58: 80 | Q58: =SUM(E59:E61)/3 -> 85.666667 | R58: 175 | S58: F | T58: 25
B59: 10 | C59: 34 | D59: 156 | E59: 86 | F59: 21.4 | G59: 10
B60: 20 | C60: 35.5 | D60: 161 | E60: 85 | F60: 21.9 | G60: 11
B61: 30 | C61: 36.2 | D61: 167 | E61: 86 | F61: 23.3 | G61: 12
A62: 16 | B62: 0 | C62: 34.4 | H62: 65.8 | I62: 65.3 | J62: =H62-I62 -> 0.5 | K62: =D65-D63 -> 10 | L62: =G65-G63 -> 2 | M62: =C65-C62 -> 0.4 | N62: 66 | O62: =F65/N62*100 -> 67.424242 | P62: 175 | Q62: =SUM(E63:E65)/3 -> 181.33333 | R62: 170 | S62: M | T62: 24
B63: 10 | C63: 35 | D63: 147 | E63: 186 | F63: 47.6 | G63: 10
B64: 20 | C64: 35.1 | D64: 155 | E64: 181 | F64: 38.3 | G64: 11
B65: 30 | C65: 34.8 | D65: 157 | E65: 177 | F65: 44.5 | G65: 12
A66: 17 | B66: 0 | C66: 36.7 | H66: 84.4 | I66: 83.4 | J66: =H66-I66 -> 1 | K66: =D69-D67 -> 13 | L66: =G69-G67 -> 4 | M66: =C69-C66 -> -0.7 | N66: 56.4 | O66: =F69/N66*100 -> 82.801418 | P66: 220 | Q66: =SUM(E67:E69)/3 -> 221 | R66: 173 | S66: M | T66: 20
B67: 10 | C67: 34.6 | D67: 137 | E67: 223 | F67: 44.8 | G67: 7
B68: 20 | C68: 34.7 | D68: 144 | E68: 220 | F68: 43.2 | G68: 9
B69: 30 | C69: 36 | D69: 150 | E69: 220 | F69: 46.7 | G69: 11
A70: 18 | B70: 0 | C70: 35.1 | H70: 61 | I70: 61 | J70: =H70-I70 -> 0 | K70: =D73-D71 -> 4 | L70: =G73-G71 -> 2 | M70: =C73-C70 -> -0.2 | N70: 50.6 | O70: =F73/N70*100 -> 52.56917 | P70: 90 | Q70: =SUM(E71:E73)/3 -> 91.333333 | R70: 165 | S70: F | T70: 19
B71: 10 | C71: 34.9 | D71: 157 | E71: 92 | F71: 25.1 | G71: 11
B72: 20 | C72: 34.9 | D72: 152 | E72: 92 | F72: 27.9 | G72: 12
B73: 30 | C73: 34.9 | D73: 161 | E73: 90 | F73: 26.6 | G73: 13
A74: 19 | B74: 0 | C74: 35.6 | H74: 79 | I74: 78.8 | J74: =H74-I74 -> 0.2 | K74: =D77-D75 -> 1 | L74: =G77-G75 -> 3 | M74: =C77-C74 -> -1.2 | N74: 44.7 | O74: =F77/N74*100 -> 76.733781 | P74: 160 | Q74: =SUM(E75:E77)/3 -> 146.66667 | R74: 175 | S74: M | T74: 21
B75: 10 | C75: 34.1 | D75: 160 | E75: 148 | F75: 32.3 | G75: 10
B76: 20 | C76: 34.5 | D76: 170 | E76: 149 | F76: 33.6 | G76: 12
B77: 30 | C77: 34.4 | D77: 161 | E77: 143 | F77: 34.3 | G77: 13
A78: 20 | B78: 0 | C78: 35.9 | H78: 55.6 | I78: 55.6 | J78: =H78-I78 -> 0 | K78: =D81-D79 -> 9 | L78: =G81-G79 -> 2 | M78: =C81-C78 -> -0.4 | N78: 47 | O78: =F81/N78*100 -> 146.80851 | P78: 110 | Q78: =SUM(E79:E81)/3 -> 114.33333 | R78: 167 | S78: F | T78: 19
B79: 10 | C79: 35.3 | D79: 163 | E79: 114 | F79: 69 | G79: 11
B80: 20 | C80: 35.6 | D80: 170 | E80: 117 | F80: 62.5 | G80: 12
B81: 30 | C81: 35.5 | D81: 172 | E81: 112 | F81: 69 | G81: 13
A82: 21 | B82: 0 | C82: 35.5 | H82: 78.8 | I82: 78.4 | J82: =H82-I82 -> 0.4 | K82: =D85-D83 -> 5 | L82: =G85-G83 -> 3 | M82: =C85-C82 -> -0.9 | N82: 70.8 | O82: =F85/N82*100 -> 67.937853 | P82: 200 | Q82: =SUM(E83:E85)/3 -> 204 | R82: 183 | S82: M | T82: 25
B83: 10 | C83: 34.3 | D83: 173 | E83: 204 | F83: 44 | G83: 12
B84: 20 | C84: 34.5 | D84: 178 | E84: 202 | F84: 46.6 | G84: 14
B85: 30 | C85: 34.6 | D85: 178 | E85: 206 | F85: 48.1 | G85: 15
A86: Gareth | B86: 0 | C86: 36.1 | H86: 90.4 | I86: 90.2 | J86: =H86-I86 -> 0.2 | K86: =D89-D87 -> 13 | L86: =F89-F87 -> 5.6 | N86: 40.4 | O86: =F89/N86*100 -> 92.574257 | Q86: 160
B87: 10 | C87: 35.6 | D87: 134 | E87: 160 | F87: 31.8 | G87: 9
B88: 20 | C88: 36.2 | D88: 140 | E88: 160 | F88: 34.7 | G88: 11
B89: 30 | C89: 35.5 | D89: 147 | E89: 160 | F89: 37.4 | G89: 12 | M89: =C89-C86 -> -0.6
A90: Marcus | B90: 0 | C90: 34.3 | H90: 62 | I90: 61.6 | J90: =H90-I90 -> 0.4 | K90: =D93-D91 -> 7 | L90: =F93-F91 -> -0.2 | N90: 75.3 | O90: =F93/N90*100 -> 50.863214
B91: 10 | C91: 34.3 | D91: 139 | E91: 175 | F91: 38.5 | G91: 10
B92: 20 | C92: 34 | D92: 137 | E92: 175 | F92: 40.5 | G92: 11
B93: 30 | C93: 34.6 | D93: 146 | E93: 175 | F93: 38.3 | G93: 12 | M93: =C93-C90 -> 0.3 | Q93: =SUM(E91:E93)/3 -> 175
A94: Tom | O94: =F97/N94*100 -> #DIV/0!
B99: Temp @ 30 min | C99: =AVERAGE(C5,C9,C13,C17,C21,C25,C85,C81,C77,C73,C69,C65,C61,C57,C53,C49,C45,C41,C37,C33,C29,C89,C93) -> 36 | H99: =AVERAGE(H82,H78,H74,H70,H66,H62,H58,H54,H50,H46,H42,H38,H34,H30,H26,H22,H18,H14,H10,H6,H2,H86,H90) -> 77.521739 | I99: =AVERAGE(I82,I78,I74,I70,I66,I62,I58,I54,I50,I46,I42,I38,I34,I30,I26,I22,I18,I14,I10,I6,I2,I86,I90) -> 77.182609 | J99: =AVERAGE(J82,J78,J74,J70,J66,J62,J58,J54,J50,J46,J42,J38,J34,J30,J26,J22,J18,J14,J10,J6,J2,J86,J90) -> 0.33913043 | K99: =AVERAGE(K82,K78,K74,K70,K66,K62,K58,K54,K50,K46,K42,K38,K34,K30,K26,K22,K18,K14,K10,K6,K2,K86,K90) -> 7.6521739 | L99: =AVERAGE(L82,L78,L74,L70,L66,L62,L58,L54,L50,L46,L42,L38,L34,L30,L26,L22,L18,L14,L10,L6,L2,L86,L90) -> 2.572053 | M99: =AVERAGE(M82,M78,M74,M70,M66,M62,M58,M54,M50,M46,M42,M38,M34,M30,M26,M22,M18,M14,M10,M6,M2,M86,M90) -> 0.28571429 | N99: =AVERAGE(N82,N78,N74,N70,N66,N62,N58,N54,N50,N46,N42,N38,N34,N30,N26,N22,N18,N14,N10,N6,N2,N86,N90) -> 53.73913 | O99: =AVERAGE(O82,O78,O74,O70,O66,O62,O58,O54,O50,O46,O42,O38,O34,O30,O26,O22,O18,O14,O10,O6,O2,O86,O90) -> 72.894452 | ... Q99: =AVERAGE(Q82,Q78,Q74,Q70,Q66,Q62,Q58,Q54,Q50,Q46,Q42,Q38,Q34,Q30,Q26,Q22,Q18,Q14,Q10,Q6,Q2,Q86,Q90) -> 171.24242

Sheet Ambient test
A1: Participant | B1: Time (mins) | C1: Temp (DegC) | D1: HR (bpm) | E1: Power (W) | F1: VO2 (ml/kg/min) | G1: RPE | H1: Weight pre (kg) | I1: Weight post (kg) | J1: Sweat loss (kg) | K1: HR Drift (bpm) | L1: VO2 Drift | M1: Temp diff (DegC) | N1: VO2 Max | O1: % of VO2 Max | P1: Target W | Q1: Actual W
A2: 1 | B2: 0 | C2: 36.4 | H2: 67 | I2: 66.7 | J2: =H2-I2 -> 0.3 | K2: ='Ambient test'!D5-'Ambient test'!D3 -> 4 | L2: ='Ambient test'!F5-'Ambient test'!F3 -> -0.4 | N2: 42.6 | O2: ='Ambient test'!F5/N2*100 -> 66.666667 | P2: 125 | Q2: =SUM('Ambient test'!E3:E5)/3 -> 127.66667 | S2: Environmental Conditions
B3: 10 | C3: 37.3 | D3: 150 | E3: 128 | F3: 28.8 | G3: 13 | S3: Temp: 19.3 deg C
B4: 20 | C4: 37.4 | D4: 149 | E4: 127 | F4: 25.5 | G4: 16 | S4: Humidity: 53%
B5: 30 | C5: 37.3 | D5: 154 | E5: 128 | F5: 28.4 | G5: 17 | M5: ='Ambient test'!C5-'Ambient test'!C2 -> 0.9
A6: 2 | B6: 0 | C6: 36.5 | H6: 71.1 | I6: 71 | J6: =H6-I6 -> 0.1 | K6: ='Ambient test'!D9-'Ambient test'!D7 -> 6 | L6: ='Ambient test'!F9-'Ambient test'!F7 -> 0.1 | M6: ='Ambient test'!C9-'Ambient test'!C6 -> 1 | N6: 45.6 | O6: ='Ambient test'!F9/N6*100 -> 74.780702 | P6: 125 | Q6: =SUM('Ambient test'!E7:E9)/3 -> 128
B7: 10 | C7: 36.6 | D7: 140 | E7: 129 | F7: 34 | G7: 11
B8: 20 | C8: 37.3 | D8: 141 | E8: 128 | F8: 33.9 | G8: 12
B9: 30 | C9: 37.5 | D9: 146 | E9: 127 | F9: 34.1 | G9: 12
A10: 3 | B10: 0 | C10: 36.2 | H10: 74.4 | I10: 73.8 | J10: =H10-I10 -> 0.6 | K10: =D13-D11 -> 14 | L10: =F13-F11 -> 4.1 | M10: =C13-C10 -> 1.7 | N10: 71.1 | O10: =F13/N10*100 -> 63.994374 | P10: 250 | Q10: =SUM(E11:E13)/3 -> 251
B11: 10 | C11: 37.4 | D11: 149 | E11: 251 | F11: 41.4 | G11: 10
B12: 20 | C12: 37.9 | D12: 159 | E12: 251 | F12: 45.9 | G12: 15
B13: 30 | C13: 37.9 | D13: 163 | E13: 251 | F13: 45.5 | G13: 15
A14: 4 | B14: 0 | C14: 35.2 | H14: 72.4 | I14: 71.9 | J14: =H14-I14 -> 0.5 | K14: =D17-D15 -> 11 | L14: =F17-F15 -> 2.6 | M14: =C17-C14 -> 2.4 | N14: 54.3 | O14: =F17/N14*100 -> 67.219153 | P14: 170 | Q14: =SUM(E15:E17)/3 -> 167.33333
B15: 10 | C15: 36.7 | D15: 142 | E15: 167 | F15: 33.9 | G15: 12
B16: 20 | C16: 37.2 | D16: 149 | E16: 167 | F16: 35.6 | G16: 14
B17: 30 | C17: 37.6 | D17: 153 | E17: 168 | F17: 36.5 | G17: 16
A18: 5 | B18: 0 | C18: 35.1 | H18: 93.4 | I18: 93 | J18: =H18-I18 -> 0.4 | K18: =D21-D19 -> 8 | L18: =F21-F19 -> 0.5 | M18: =C21-C18 -> 1.4 | N18: 46.9 | O18: =F21/N18*100 -> 54.371002 | P18: 170 | Q18: =SUM(E19:E21)/3 -> 174.33333
B19: 10 | C19: 36 | D19: 161 | E19: 173 | F19: 25 | G19: 12
B20: 20 | C20: 36.6 | D20: 165 | E20: 175 | F20: 28.2 | G20: 16
B21: 30 | C21: 36.5 | D21: 169 | E21: 175 | F21: 25.5 | G21: 18
A22: 6 | B22: 0 | C22: 36.6 | E22: 0 | F22: 0 | H22: 95.1 | I22: 94.9 | J22: =H22-I22 -> 0.2 | K22: =D25-D23 -> 19 | L22: =F25-F23 -> 3.4461248 | M22: =C25-C22 -> 0.8 | N22: 53.5 | O22: =F25/N22*100 -> 74.826461 | P22: 213 | Q22: =SUM(E23:E25)/3 -> 207
B23: 10 | C23: 37.2 | D23: 167 | E23: 207 | F23: 36.586032 | G23: 12
B24: 20 | C24: 37.6 | D24: 173 | E24: 202 | F24: 36.781928 | G24: 15
B25: 30 | C25: 37.4 | D25: 186 | E25: 212 | F25: 40.032156 | G25: 17
A26: 7 | B26: 0 | C26: 36.7 | E26: 0 | F26: 0 | H26: 78.1 | I26: 77.7 | J26: =H26-I26 -> 0.4 | K26: =D29-D27 -> 9 | L26: =F29-F27 -> 5.3700666 | M26: =C29-C26 -> 2.1 | N26: 61.7 | O26: =F29/N26*100 -> 66.786201 | P26: 240 | Q26: =SUM(E27:E29)/3 -> 239.33333
B27: 10 | C27: 37.5 | D27: 145 | E27: 240 | F27: 35.837019 | G27: 13
B28: 20 | C28: 37.6 | D28: 149 | E28: 239 | F28: 40.874413 | G28: 15
B29: 30 | C29: 38.8 | D29: 154 | E29: 239 | F29: 41.207086 | G29: 19
A30: 8 | B30: 0 | C30: 36.4 | E30: 0 | F30: 0 | H30: 88.3 | I30: 87.8 | J30: =H30-I30 -> 0.5 | K30: =D33-D31 -> 11 | L30: =F33-F31 -> 1.6745845 | M30: =C33-C30 -> 2.3 | N30: 49 | O30: =F33/N30*100 -> 77.557843 | P30: 212 | Q30: =SUM(E31:E33)/3 -> 212.66667
B31: 10 | C31: 37.6 | D31: 143 | E31: 214 | F31: 36.328758 | G31: 12
B32: 20 | C32: 38.5 | D32: 142 | E32: 212 | F32: 36.164845 | G32: 16
B33: 30 | C33: 38.7 | D33: 154 | E33: 212 | F33: 38.003343 | G33: 18
A34: 9 | B34: 0 | C34: 36.9 | E34: 0 | F34: 0 | H34: 58.7 | I34: 58.5 | J34: =H34-I34 -> 0.2 | K34: =D37-D35 -> 8 | L34: =F37-F35 -> 1.7333755 | M34: =C37-C34 -> 0.6 | N34: 50 | O34: =F37/N34*100 -> 66.906086 | P34: 115 | Q34: =SUM(E35:E37)/3 -> 116.66667
B35: 10 | C35: 37.6 | D35: 169 | E35: 117 | F35: 31.719668 | G35: 13
B36: 20 | C36: 37.5 | D36: 173 | E36: 116 | F36: 35.646285 | G36: 16
B37: 30 | C37: 37.5 | D37: 177 | E37: 117 | F37: 33.453043 | G37: 17
A38: 10 | B38: 0 | C38: 35.9 | E38: 0 | F38: 0 | H38: 76.7 | I38: 76.5 | J38: =H38-I38 -> 0.2 | K38: =D41-D39 -> 16 | L38: =F41-F39 -> 4.4343838 | M38: =C41-C38 -> 0 | N38: 42.9 | O38: =F41/N38*100 -> 70.459299 | P38: 131 | Q38: =SUM(E39:E41)/3 -> 132
B39: 10 | C39: 36.9 | D39: 146 | E39: 131 | F39: 25.792655 | G39: 11
B40: 20 | C40: 36.4 | D40: 156 | E40: 132 | F40: 30.616287 | G40: 12
B41: 30 | C41: 35.9 | D41: 162 | E41: 133 | F41: 30.227039 | G41: 12
A42: 11 | B42: 0 | C42: 36.7 | D42: 0 | E42: 0 | F42: 0 | H42: 62.2 | I42: 61.9 | J42: =H42-I42 -> 0.3 | K42: =D45-D43 -> 22 | L42: =F45-F43 -> 3.9263999 | M42: =C45-C42 -> 0 | N42: 61 | O42: =F45/N42*100 -> 67.478713 | P42: 140 | Q42: =SUM(E43:E45)/3 -> 140.66667
B43: 10 | C43: 36.1 | D43: 152 | E43: 141 | F43: 37.235615 | G43: 10
B44: 20 | C44: 38 | D44: 169 | E44: 141 | F44: 40.202379 | G44: 15
B45: 30 | C45: 36.7 | D45: 174 | E45: 140 | F45: 41.162015 | G45: 15
A46: 12 | B46: 0 | C46: 36.4 | D46: 0 | E46: 0 | F46: 0 | H46: 101.1 | I46: 100 | J46: =H46-I46 -> 1.1 | K46: =D49-D47 -> 16 | L46: =F49-F47 -> 1.6 | M46: =C49-C46 -> 1.6 | N46: 57 | O46: =F49/N46*100 -> 68.596491 | P46: 255 | Q46: =SUM(E47:E49)/3 -> 253.33333
B47: 10 | C47: 37.8 | D47: 142 | E47: 253 | F47: 37.5 | G47: 12
B48: 20 | C48: 37.9 | D48: 152 | E48: 253 | F48: 34.9 | G48: 14
B49: 30 | C49: 38 | D49: 158 | E49: 254 | F49: 39.1 | G49: 16
A50: 13 | B50: 0 | C50: 36.5 | D50: 0 | E50: 0 | F50: 0 | H50: 88 | I50: 87.4 | J50: =H50-I50 -> 0.6 | K50: =D53-D51 -> 16 | L50: =F53-F51 -> 0.69214875 | M50: =C53-C50 -> 1.3 | N50: 57 | O50: =F53/N50*100 -> 67.199894 | P50: 225 | Q50: =SUM(E51:E53)/3 -> 225
B51: 10 | C51: 36.4 | D51: 136 | E51: 225 | F51: 37.611791 | G51: 12
B52: 20 | C52: 37.8 | D52: 144 | E52: 225 | F52: 37.900659 | G52: 16
B53: 30 | C53: 37.8 | D53: 152 | E53: 225 | F53: 38.30394 | G53: 18
A54: 14 | B54: 0 | C54: 35.7 | H54: 89.2 | I54: 88.6 | J54: =H54-I54 -> 0.6 | K54: =D57-D55 -> 16 | L54: =G57-G55 -> 5 | M54: =C57-C54 -> 1.8 | N54: 52.1 | O54: =F57/N54*100 -> 86.180422 | P54: 180 | Q54: =SUM(E55:E57)/3 -> 181.33333
B55: 10 | C55: 36 | D55: 165 | E55: 180 | F55: 39.8 | G55: 12
B56: 20 | C56: 37.5 | D56: 178 | E56: 180 | F56: 40.4 | G56: 15
B57: 30 | C57: 37.5 | D57: 181 | E57: 184 | F57: 44.9 | G57: 17
A58: 15 | B58: 0 | C58: 37 | H58: 91.5 | I58: 91.2 | J58: =H58-I58 -> 0.3 | K58: =D61-D59 -> 20 | L58: =G61-G59 -> 6 | M58: =C61-C58 -> 0.5 | N58: 40.1 | O58: =F61/N58*100 -> 62.842893 | P58: 80 | Q58: =SUM(E59:E61)/3 -> 82.666667
B59: 10 | C59: 37.1 | D59: 139 | E59: 81 | F59: 24.1 | G59: 13
B60: 20 | C60: 37.5 | D60: 135 | E60: 83 | F60: 23.7 | G60: 15
B61: 30 | C61: 37.5 | D61: 159 | E61: 84 | F61: 25.2 | G61: 19
A62: 16 | B62: 0 | C62: 35.9 | H62: 65.4 | I62: 64.8 | J62: =H62-I62 -> 0.6 | K62: =D65-D63 -> 11 | L62: =G65-G63 -> 6 | M62: =C65-C62 -> 2.7 | N62: 66 | O62: =F65/N62*100 -> 75.30303 | P62: 175 | Q62: =SUM(E63:E65)/3 -> 178
B63: 10 | C63: 38.1 | D63: 155 | E63: 176 | F63: 47 | G63: 12
B64: 20 | C64: 37.3 | D64: 160 | E64: 178 | F64: 50 | G64: 16
B65: 30 | C65: 38.6 | D65: 166 | E65: 180 | F65: 49.7 | G65: 18
A66: 17 | B66: 0 | C66: 35.4 | H66: 84 | I66: 83.4 | J66: =H66-I66 -> 0.6 | K66: =D69-D67 -> 15 | L66: =G69-G67 -> 4 | M66: =C69-C66 -> 0.5 | N66: 56.4 | O66: =F69/N66*100 -> 88.652482 | P66: 220 | Q66: =SUM(E67:E69)/3 -> 222
B67: 10 | C67: 36.2 | D67: 157 | E67: 223 | F67: 47.4 | G67: 12
B68: 20 | C68: 36.6 | D68: 167 | E68: 221 | F68: 51.3 | G68: 14
B69: 30 | C69: 35.9 | D69: 172 | E69: 222 | F69: 50 | G69: 16
A70: 18 | B70: 0 | C70: 35.2 | H70: 61.6 | I70: 61.6 | J70: =H70-I70 -> 0 | K70: =D73-D71 -> 15 | L70: =G73-G71 -> 6 | M70: =C73-C70 -> 1.7 | N70: 50.6 | O70: =F73/N70*100 -> 61.462451 | P70: 90 | Q70: =SUM(E71:E73)/3 -> 92.333333
B71: 10 | C71: 36 | D71: 160 | E71: 91 | F71: 27.6 | G71: 12
B72: 20 | C72: 35.5 | D72: 165 | E72: 91 | F72: 28.5 | G72: 16
B73: 30 | C73: 36.9 | D73: 175 | E73: 95 | F73: 31.1 | G73: 18
A74: 19 | B74: 0 | C74: 36 | H74: 78.8 | I74: 78.4 | J74: =H74-I74 -> 0.4 | K74: =D77-D75 -> 15 | L74: =G77-G75 -> 5 | M74: =C77-C74 -> 0.8 | N74: 44.7 | O74: =F77/N74*100 -> 78.52349 | P74: 160 | Q74: =SUM(E75:E77)/3 -> 144.33333
B75: 10 | C75: 36.4 | D75: 180 | E75: 142 | F75: 30.9 | G75: 12
B76: 20 | C76: 36.6 | D76: 191 | E76: 142 | F76: 33.8 | G76: 15
B77: 30 | C77: 36.8 | D77: 195 | E77: 149 | F77: 35.1 | G77: 17
A78: 20 | B78: 0 | C78: 37 | H78: 54.8 | I78: 54.6 | J78: =H78-I78 -> 0.2 | K78: =D81-D79 -> 6 | L78: =G81-G79 -> 6 | M78: =C81-C78 -> 0.5 | N78: 47 | O78: =F81/N78*100 -> 61.702128 | P78: 110 | Q78: =SUM(E79:E81)/3 -> 112.66667
B79: 10 | C79: 37.5 | D79: 178 | E79: 110 | F79: 27 | G79: 13
B80: 20 | C80: 37.5 | D80: 183 | E80: 113 | F80: 26.9 | G80: 15
B81: 30 | C81: 37.5 | D81: 184 | E81: 115 | F81: 29 | G81: 19
A82: 21 | B82: 0 | C82: 35.9 | H82: 80.2 | I82: 79.6 | J82: =H82-I82 -> 0.6 | K82: =D85-D83 -> 14 | L82: =G85-G83 -> 6 | M82: =C85-C82 -> 1.5 | N82: 70.8 | O82: =F85/N82*100 -> 77.118644 | P82: 200 | Q82: =SUM(E83:E85)/3 -> 203.33333
B83: 10 | C83: 36.6 | D83: 177 | E83: 200 | F83: 50 | G83: 12
B84: 20 | C84: 37.2 | D84: 186 | E84: 202 | F84: 51.6 | G84: 16
B85: 30 | C85: 37.4 | D85: 191 | E85: 208 | F85: 54.6 | G85: 18
A86: Gareth | B86: 0 | C86: 35.1 | H86: 91 | I86: 90.8 | J86: =H86-I86 -> 0.2 | K86: =D89-D87 -> 18 | L86: =F89-F87 -> 5.3 | N86: 40.4 | O86: =F89/N86*100 -> 75.247525
B87: 10 | C87: 35.5 | D87: 145 | E87: 160 | F87: 25.1 | G87: 11
B88: 20 | C88: 35.5 | D88: 155 | E88: 160 | F88: 28.6 | G88: 11
B89: 30 | C89: 35.1 | D89: 163 | E89: 160 | F89: 30.4 | G89: 12 | M89: =C89-C86 -> 0 | Q89: =SUM('[4]Ambient test'!E87:E89)/3 -> 0
A90: Tom | B90: 0 | C90: 34.1 | H90: 84 | I90: 83.6 | J90: =H90-I90 -> 0.4 | K90: =D93-D91 -> 22 | L90: =F93-F91 -> 7.9 | N90: 57.8 | O90: =F93/N90*100 -> 68.512111
B91: 10 | C91: 35.7 | D91: 125 | E91: 180 | F91: 31.7 | G91: 11
B92: 20 | C92: 35.1 | D92: 138 | E92: 180 | F92: 37.1 | G92: 12
B93: 30 | C93: 34.2 | D93: 147 | E93: 180 | F93: 39.6 | G93: 12 | M93: =C93-C90 -> 0.1 | Q93: =SUM('[4]Ambient test'!E91:E93)/3 -> 0
A94: Marcus | B94: 0 | C94: 36 | H94: 62.2 | I94: 61.8 | J94: =H94-I94 -> 0.4 | K94: =D97-D95 -> 15 | L94: =F97-F95 -> -0.7 | N94: 75.3 | O94: =F97/N94*100 -> 56.175299
B95: 10 | C95: 35.8 | D95: 147 | E95: 175 | F95: 43 | G95: 12
B96: 20 | C96: 35.8 | D96: 156 | E96: 175 | F96: 41.9 | G96: 13
B97: 30 | C97: 35.9 | D97: 162 | E97: 175 | F97: 42.3 | G97: 14 | M97: =C97-C94 -> -0.1 | Q97: =SUM(E95:E97)/3 -> 175
B101: Temp @ 30 min | C101: =AVERAGE(C5,C9,C13,C17,C21,C25,C85,C81,C77,C73,C69,C65,C61,C57,C53,C49,C45,C41,C37,C33,C29,C89,C93,C97) -> 37.120833 | G101: Mean | H101: =AVERAGE(H82,H78,H74,H70,H66,H62,H58,H54,H50,H46,H42,H38,H34,H30,H26,H22,H18,H14,H10,H6,H2,H86,H90,H94) -> 77.883333 | I101: =AVERAGE(I82,I78,I74,I70,I66,I62,I58,I54,I50,I46,I42,I38,I34,I30,I26,I22,I18,I14,I10,I6,I2,I86,I90,I94) -> 77.479167 | J101: =AVERAGE(J82,J78,J74,J70,J66,J62,J58,J54,J50,J46,J42,J38,J34,J30,J26,J22,J18,J14,J10,J6,J2,J86,J90,J94) -> 0.40416667 | K101: =AVERAGE(K82,K78,K74,K70,K66,K62,K58,K54,K50,K46,K42,K38,K34,K30,K26,K22,K18,K14,K10,K6,K2,K86,K90,K94) -> 13.625 | L101: =AVERAGE(L82,L78,L74,L70,L66,L62,L58,L54,L50,L46,L42,L38,L34,L30,L26,L22,L18,L14,L10,L6,L2,L86,L90,L94) -> 3.5948785 | M101: =AVERAGE(M82,M78,M74,M70,M66,M62,M58,M54,M50,M46,M42,M38,M34,M30,M26,M22,M18,M14,M10,M6,M2,M89,M93,M97) -> 1.0956522 | N101: =AVERAGE(N82,N78,N74,N70,N66,N62,N58,N54,N50,N46,N42,N38,N34,N30,N26,N22,N18,N14,N10,N6,N2,N86,N90,N94) -> 53.908333 | O101: =AVERAGE(O82,O78,O74,O70,O66,O62,O58,O54,O50,O46,O42,O38,O34,O30,O26,O22,O18,O14,O10,O6,O2,O86,O90,O94) -> 69.94014 | P101: =AVERAGE(P82,P78,P74,P70,P66,P62,P58,P54,P50,P46,P42,P38,P34,P30,P26,P22,P18,P14,P10,P6,P2) -> 170.7619 | Q101: =AVERAGE(Q82,Q78,Q74,Q70,Q66,Q62,Q58,Q54,Q50,Q46,Q42,Q38,Q34,Q30,Q26,Q22,Q18,Q14,Q10,Q6,Q2) -> 171.03175

Sheet Hot Test
A1: Participant | B1: Time (mins) | C1: Temp (DegC) | D1: HR (bpm) | E1: Power (W) | F1: VO2 (ml/kg/min) | G1: RPE | H1: Weight pre (kg) | I1: Weight post (kg) | J1: Sweat loss (kg) | K1: HR Drift (bpm) | L1: VO2 Drift | M1: Temp diff (DegC) | N1: VO2 Max | O1: % of VO2 Max | P1: Target W | Q1: Actual W
A2: 1 | B2: 0 | C2: 36.3 | D2: 97 | H2: 67.9 | I2: 66.7 | J2: =H2-I2 -> 1.2 | K2: =D5-D3 -> 8 | L2: =F5-F3 -> -3.5890905 | M2: =C5-C2 -> 1.6 | N2: 42.6 | O2: =F5/N2*100 -> 64.343829 | P2: 125 | Q2: =SUM(E3:E5)/3 -> 127.33333
B3: 10 | C3: 37.1 | D3: 151 | E3: 128 | F3: 30.999562 | G3: 12 | S3: Environmental Conditions
B4: 20 | C4: 37.7 | D4: 161 | E4: 127 | F4: 31.380545 | G4: 14 | S4: Temp: 32 deg C
B5: 30 | C5: 37.9 | D5: 159 | E5: 127 | F5: 27.410471 | G5: 15 | S5: Humidity: 75%
A6: 2 | B6: 0 | C6: 36.8 | H6: 70.7 | I6: 70.2 | J6: =H6-I6 -> 0.5 | K6: =D9-D7 -> 8 | L6: =F9-F7 -> 1.8577351 | M6: =C9-C6 -> 0.5 | N6: 45.6 | O6: =F9/N6*100 -> 63.472283 | P6: 125 | Q6: =SUM(E7:E9)/3 -> 126.66667
B7: 10 | C7: 36.7 | D7: 152 | E7: 127 | F7: 27.085626 | G7: 10
B8: 20 | C8: 36.9 | D8: 152 | E8: 126 | F8: 30.022262 | G8: 13
B9: 30 | C9: 37.3 | D9: 160 | E9: 127 | F9: 28.943361 | G9: 14
A10: 3 | B10: 0 | C10: 36.4 | H10: 74 | I10: 73.3 | J10: =H10-I10 -> 0.7 | K10: =D13-D11 -> 18 | L10: =F13-F11 -> 3.7 | M10: =C13-C10 -> 1.9 | N10: 71.1 | O10: =F13/N10*100 -> 72.855134 | P10: 250 | Q10: =SUM(E11:E13)/3 -> 252
B11: 10 | C11: 37.6 | D11: 164 | E11: 252 | F11: 48.1 | G11: 11
B12: 20 | C12: 38.1 | D12: 174 | E12: 252 | F12: 49.8 | G12: 13
B13: 30 | C13: 38.3 | D13: 182 | E13: 252 | F13: 51.8 | G13: 15
A14: 4 | B14: 0 | C14: 36 | H14: 73.1 | I14: 72.8 | J14: =H14-I14 -> 0.3 | K14: =D17-D15 -> 18 | L14: =F17-F15 -> 10.1 | M14: =C17-C14 -> 1.8 | N14: 54.3 | O14: =F17/N14*100 -> 75.506446 | P14: 170 | Q14: =SUM(E15:E17)/3 -> 168
B15: 10 | C15: 36.1 | D15: 140 | E15: 168 | F15: 30.9 | G15: 10
B16: 20 | C16: 37.2 | D16: 150 | E16: 168 | F16: 36.6 | G16: 12
B17: 30 | C17: 37.8 | D17: 158 | E17: 168 | F17: 41 | G17: 14
A18: 5 | B18: 0 | C18: 36.1 | H18: 93.2 | I18: 92.9 | J18: =H18-I18 -> 0.3 | K18: =D21-D19 -> 19 | L18: =F21-F19 -> 9.2 | M18: =C21-C18 -> 0.7 | N18: 46.9 | O18: =F21/N18*100 -> 81.449893 | P18: 170 | Q18: =SUM(E19:E21)/3 -> 169.33333
B19: 10 | C19: 36.5 | D19: 169 | E19: 167 | F19: 29 | G19: 12
B20: 20 | C20: 36.6 | D20: 175 | E20: 167 | F20: 32.9 | G20: 14
B21: 30 | C21: 36.8 | D21: 188 | E21: 174 | F21: 38.2 | G21: 14
A22: 6 | B22: 0 | C22: 37.1 | H22: 94.7 | I22: 93.8 | J22: =H22-I22 -> 0.9 | K22: =D25-D23 -> 22 | L22: =F25-F23 -> 9.1 | M22: =C25-C22 -> 0.7 | N22: 53.5 | O22: =F25/N22*100 -> 84.299065 | P22: 213 | Q22: =SUM(E23:E25)/3 -> 211.33333
B23: 10 | C23: 37 | D23: 150 | E23: 212 | F23: 36 | G23: 13
B24: 20 | C24: 37.7 | D24: 165 | E24: 213 | F24: 38.8 | G24: 15
B25: 30 | C25: 37.8 | D25: 172 | E25: 209 | F25: 45.1 | G25: 14
A26: 7 | B26: 0 | C26: 37.2 | D26: 52 | E26: 0 | H26: 79.2 | I26: 78.8 | J26: =H26-I26 -> 0.4 | K26: =D29-D27 -> 15 | L26: =F29-F27 -> 6.7 | M26: =C29-C26 -> 1.6 | N26: 61.7 | O26: =F29/N26*100 -> 85.41329 | P26: 240 | Q26: =SUM(E27:E29)/3 -> 239.33333
B27: 10 | C27: 37.1 | D27: 145 | E27: 239 | F27: 46 | G27: 6
B28: 20 | C28: 37.9 | D28: 154 | E28: 239 | F28: 50 | G28: 11
B29: 30 | C29: 38.8 | D29: 160 | E29: 240 | F29: 52.7 | G29: 13
A30: 8 | B30: 0 | C30: 37.5 | H30: 89.9 | I30: 89.4 | J30: =H30-I30 -> 0.5 | K30: =D33-D31 -> 20 | L30: =F33-F31 -> 8.0988985 | M30: =C33-C30 -> 1 | N30: 49 | O30: =F33/N30*100 -> 72.50959 | P30: 212 | Q30: =SUM(E31:E33)/3 -> 212
B31: 10 | C31: 37 | D31: 132 | E31: 212 | F31: 27.430801 | G31: 11
B32: 20 | C32: 37.7 | D32: 147 | E32: 212 | F32: 35.749518 | G32: 13
B33: 30 | C33: 38.5 | D33: 152 | E33: 212 | F33: 35.529699 | G33: 14
A34: 9 | B34: 0 | C34: 36 | H34: 57.9 | I34: 57.7 | J34: =H34-I34 -> 0.2 | K34: =D37-D35 -> 17 | L34: =F37-F35 -> -2.2502441 | M34: =C37-C34 -> 1.7 | N34: 50 | O34: =F37/N34*100 -> 71.995946 | P34: 115 | Q34: =SUM(E35:E37)/3 -> 117.66667
B35: 10 | C35: 37 | D35: 164 | E35: 118 | F35: 38.248217 | G35: 13
B36: 20 | C36: 37.8 | D36: 185 | E36: 117 | F36: 38.718098 | G36: 14
B37: 30 | C37: 37.7 | D37: 181 | E37: 118 | F37: 35.997973 | G37: 15
A38: 10 | B38: 0 | C38: 36.3 | H38: 76.2 | I38: 74.7 | J38: =H38-I38 -> 1.5 | K38: =D41-D39 -> 20 | L38: =F41-F39 -> 8.8 | M38: =C41-C38 -> 1.4 | N38: 42.9 | O38: =F41/N38*100 -> 96.270396 | P38: 131 | Q38: =SUM(E39:E41)/3 -> 130.33333
B39: 10 | C39: 36.8 | D39: 153 | E39: 131 | F39: 32.5 | G39: 10
B40: 20 | C40: 37.2 | D40: 170 | E40: 130 | F40: 38.7 | G40: 13
B41: 30 | C41: 37.7 | D41: 173 | E41: 130 | F41: 41.3 | G41: 15
A42: 11 | B42: 0 | C42: 36.2 | H42: 63 | I42: 62.8 | J42: =H42-I42 -> 0.2 | K42: =D45-D43 -> 36 | L42: =F45-F43 -> 7.697818 | M42: =C45-C42 -> 2 | N42: 61 | O42: =F45/N42*100 -> 87.970149 | P42: 140 | Q42: =SUM(E43:E45)/3 -> 140.66667
B43: 10 | C43: 37.3 | D43: 149 | E43: 140 | F43: 45.963973 | G43: 9
B44: 20 | C44: 38.4 | D44: 174 | E44: 141 | F44: 49.832161 | G44: 14
B45: 30 | C45: 38.2 | D45: 185 | E45: 141 | F45: 53.661791 | G45: 15
A46: 12 | B46: 0 | C46: 37.4 | H46: 102.7 | I46: 102.1 | J46: =H46-I46 -> 0.6 | K46: =D49-D47 -> 16 | L46: =F49-F47 -> 5.9674094 | M46: =C49-C46 -> 2.1 | N46: 57 | O46: =F49/N46*100 -> 85.835765 | P46: 255 | Q46: =SUM(E47:E49)/3 -> 253.33333
B47: 10 | C47: 38.4 | D47: 145 | E47: 255 | F47: 42.958976 | G47: 12
B48: 20 | C48: 39.2 | D48: 159 | E48: 254 | F48: 48.971357 | G48: 15
B49: 30 | C49: 39.5 | D49: 161 | E49: 251 | F49: 48.926386 | G49: 17
A50: 13 | B50: 0 | C50: 35.7 | H50: 88 | I50: 87.6 | J50: =H50-I50 -> 0.4 | K50: =D53-D51 -> 21 | L50: =F53-F51 -> 6.8346053 | M50: =C53-C50 -> 3 | N50: 57 | O50: =F53/N50*100 -> 80.142125 | P50: 225 | Q50: =SUM(E51:E53)/3 -> 225
B51: 10 | C51: 37.6 | D51: 146 | E51: 225 | F51: 38.846406 | G51: 10
B52: 20 | C52: 37.4 | D52: 160 | E52: 225 | F52: 44.643661 | G52: 14
B53: 30 | C53: 38.7 | D53: 167 | E53: 225 | F53: 45.681011 | G53: 16
A54: 14 | B54: 0 | C54: 34.7 | H54: 89 | I54: 88.4 | J54: =H54-I54 -> 0.6 | K54: =D57-D55 -> 18 | L54: =G57-G55 -> 2 | M54: =C57-C54 -> 2.6 | N54: 52.1 | O54: =F57/N54*100 -> 85.220729 | P54: 180 | Q54: =SUM(E55:E57)/3 -> 181.33333
B55: 10 | C55: 36.1 | D55: 163 | E55: 183 | F55: 40.1 | G55: 12
B56: 20 | C56: 37.2 | D56: 172 | E56: 180 | F56: 44.6 | G56: 14
B57: 30 | C57: 37.3 | D57: 181 | E57: 181 | F57: 44.4 | G57: 14
A58: 15 | B58: 0 | C58: 37 | H58: 91.5 | I58: 91.1 | J58: =H58-I58 -> 0.4 | K58: =D61-D59 -> 6 | L58: =G61-G59 -> 1 | M58: =C61-C58 -> 0.7 | N58: 40.1 | O58: =F61/N58*100 -> 76.05985 | P58: 80 | Q58: =SUM(E59:E61)/3 -> 90.333333
B59: 10 | C59: 38 | D59: 177 | E59: 83 | F59: 19 | G59: 13
B60: 20 | C60: 38.1 | D60: 170 | E60: 88 | F60: 26 | G60: 15
B61: 30 | C61: 37.7 | D61: 183 | E61: 100 | F61: 30.5 | G61: 14
A62: 16 | B62: 0 | C62: 34.6 | H62: 65.2 | I62: 64.4 | J62: =H62-I62 -> 0.8 | K62: =D65-D63 -> 17 | L62: =G65-G63 -> 7 | M62: =C65-C62 -> 2.7 | N62: 66 | O62: =F65/N62*100 -> 73.484848 | P62: 175 | Q62: =SUM(E63:E65)/3 -> 176.33333
B63: 10 | C63: 36.5 | D63: 160 | E63: 177 | F63: 42.9 | G63: 6
B64: 20 | C64: 37 | D64: 170 | E64: 176 | F64: 44.3 | G64: 11
B65: 30 | C65: 37.3 | D65: 177 | E65: 176 | F65: 48.5 | G65: 13
A66: 17 | B66: 0 | C66: 36.1 | H66: 83.8 | I66: 83.6 | J66: =H66-I66 -> 0.2 | K66: =D69-D67 -> 22 | L66: =G69-G67 -> 3 | M66: =C69-C66 -> 2.6 | N66: 56.4 | O66: =F69/N66*100 -> 96.276596 | P66: 220 | Q66: =SUM(E67:E69)/3 -> 226.33333
B67: 10 | C67: 37.7 | D67: 161 | E67: 222 | F67: 43.7 | G67: 11
B68: 20 | C68: 37.9 | D68: 173 | E68: 221 | F68: 48.8 | G68: 13
B69: 30 | C69: 38.7 | D69: 183 | E69: 236 | F69: 54.3 | G69: 14
A70: 18 | B70: 0 | C70: 35.1 | H70: 61.8 | I70: 61.6 | J70: =H70-I70 -> 0.2 | K70: =D73-D71 -> 13 | L70: =G73-G71 -> 2 | M70: =C73-C70 -> 2 | N70: 50.6 | O70: =F73/N70*100 -> 67.588933 | P70: 90 | Q70: =SUM(E71:E73)/3 -> 92
B71: 10 | C71: 36.2 | D71: 167 | E71: 90 | F71: 29.1 | G71: 13
B72: 20 | C72: 36.9 | D72: 168 | E72: 91 | F72: 30.8 | G72: 14
B73: 30 | C73: 37.1 | D73: 180 | E73: 95 | F73: 34.2 | G73: 15
A74: 19 | B74: 0 | C74: 37.4 | H74: 78.6 | I74: 78.2 | J74: =H74-I74 -> 0.4 | K74: =D77-D75 -> 15 | L74: =G77-G75 -> 5 | M74: =C77-C74 -> 0.6 | N74: 44.7 | O74: =F77/N74*100 -> 73.154362 | P74: 160 | Q74: =SUM(E75:E77)/3 -> 140
B75: 10 | C75: 37.6 | D75: 183 | E75: 141 | F75: 30.9 | G75: 10
B76: 20 | C76: 37.6 | D76: 191 | E76: 140 | F76: 32.3 | G76: 13
B77: 30 | C77: 38 | D77: 198 | E77: 139 | F77: 32.7 | G77: 15
A78: 20 | B78: 0 | C78: 35.4 | H78: 55.8 | I78: 55.6 | J78: =H78-I78 -> 0.2 | K78: =D81-D79 -> 13 | L78: =G81-G79 -> 6 | M78: =C81-C78 -> 2.4 | N78: 47 | O78: =F81/N78*100 -> 96.382979 | P78: 110 | Q78: =SUM(E79:E81)/3 -> 117.33333
B79: 10 | C79: 37.1 | D79: 176 | E79: 118 | F79: 37.4 | G79: 9
B80: 20 | C80: 37.8 | D80: 180 | E80: 115 | F80: 41.2 | G80: 14
B81: 30 | C81: 37.8 | D81: 189 | E81: 119 | F81: 45.3 | G81: 15
A82: 21 | B82: 0 | C82: 35.9 | H82: 81 | I82: 80.4 | J82: =H82-I82 -> 0.6 | K82: =D85-D83 -> 20 | L82: =G85-G83 -> 8 | M82: =C85-C82 -> 2.7 | N82: 70.8 | O82: =F85/N82*100 -> 72.881356 | P82: 200 | Q82: =SUM(E83:E85)/3 -> 203
B83: 10 | C83: 38 | D83: 170 | E83: 204 | F83: 46.4 | G83: 12
B84: 20 | C84: 38.6 | D84: 187 | E84: 202 | F84: 51.6 | G84: 15
B85: 30 | C85: 38.6 | D85: 190 | E85: 203 | F85: 51.6 | G85: 20
A86: Gareth | B86: 0 | C86: 35.1 | H86: 90.8 | I86: 90.4 | J86: =H86-I86 -> 0.4 | K86: =D89-D87 -> 12 | L86: =F89-F87 -> 2.7 | M86: =C89-C86 -> 1.4 | N86: 40.4 | O86: =F89/N86*100 -> 75.742574 | Q86: 160
B87: 10 | C87: 36.4 | D87: 148 | E87: 160 | F87: 27.9 | G87: 12
B88: 20 | C88: 36 | D88: 154 | E88: 160 | F88: 31.5 | G88: 12
B89: 30 | C89: 36.5 | D89: 160 | E89: 160 | F89: 30.6 | G89: 15
A90: Marcus | B90: 0 | C90: 35.9 | H90: 62.4 | I90: 61.6 | J90: 0.8 | K90: =D93-D91 -> 11 | L90: =F93-F91 -> 3.8 | M90: =C93-C90 -> 1 | N90: 75.3 | O90: =F93/N90*100 -> 81.673307 | Q90: 175
B91: 10 | C91: 36.6 | D91: 162 | E91: 175 | F91: 57.7 | G91: 14
B92: 20 | C92: 36.4 | D92: 167 | E92: 175 | F92: 60.8 | G92: 14
B93: 30 | C93: 36.9 | D93: 173 | E93: 175 | F93: 61.5 | G93: 15
A94: Tom | B94: 0 | C94: 34.2 | H94: 85.4 | I94: 84.8 | J94: 0.8 | K94: =D97-D95 -> 12 | L94: =F97-F95 -> -0.7 | M94: =C97-C94 -> 3.1 | N94: 57.8 | O94: =F97/N94*100 -> 70.934256 | Q94: 180
B95: 10 | C95: 37.5 | D95: 132 | E95: 180 | F95: 41.7 | G95: 11
B96: 20 | C96: 37 | D96: 137 | E96: 180 | F96: 31.9 | G96: 13
B97: 30 | C97: 37.3 | D97: 144 | E97: 180 | F97: 41 | G97: 14
B100: Temp @ 30 min | C100: =AVERAGE(C85,C81,C77,C73,C69,C65,C61,C57,C53,C49,C45,C41,C37,C33,C29,C89,C93,C97) -> 37.905556 | G100: Mean | H100: =AVERAGE(H82,H78,H74,H70,H66,H62,H58,H54,H50,H46,H42,H38,H34,H30,H26,H22,H18,H14,H10,H6,H2,H86,H90,H94) -> 78.158333 | I100: =AVERAGE(I82,I78,I74,I70,I66,I62,I58,I54,I50,I46,I42,I38,I34,I30,I26,I22,I18,I14,I10,I6,I2,I86,I90,I94) -> 77.620833 | J100: =AVERAGE(J82,J78,J74,J70,J66,J62,J58,J54,J50,J46,J42,J38,J34,J30,J26,J22,J18,J14,J10,J6,J2,J86,J90,J94) -> 0.54583333 | K100: =AVERAGE(K82,K78,K74,K70,K66,K62,K58,K54,K50,K46,K42,K38,K34,K30,K26,K22,K18,K14,K10,K6,K2,K86,K90,K94) -> 16.541667 | L100: =AVERAGE(L82,L78,L74,L70,L66,L62,L58,L54,L50,L46,L42,L38,L34,L30,L26,L22,L18,L14,L10,L6,L2,L86,L90,L94) -> 4.6673805 | M100: =AVERAGE(M82,M78,M74,M70,M66,M62,M58,M54,M50,M46,M42,M38,M34,M30,M26,M22,M18,M14,M10,M6,M2,M86,M90,M94) -> 1.7416667 | N100: =AVERAGE(N82,N78,N74,N70,N66,N62,N58,N54,N50,N46,N42,N38,N34,N30,N26,N22,N18,N14,N10,N6,N2,N86,N90,N94) -> 53.908333 | O100: =AVERAGE(O82,O78,O74,O70,O66,O62,O58,O54,O50,O46,O42,O38,O34,O30,O26,O22,O18,O14,O10,O6,O2,O86,O90,O94) -> 78.810988 | P100: =AVERAGE(P82,P78,P74,P70,P66,P62,P58,P54,P50,P46,P42,P38,P34,P30,P26,P22,P18,P14,P10,P6,P2) -> 170.7619 | Q100: =AVERAGE(Q82,Q78,Q74,Q70,Q66,Q62,Q58,Q54,Q50,Q46,Q42,Q38,Q34,Q30,Q26,Q22,Q18,Q14,Q10,Q6,Q2,Q86,Q90,Q94) -> 171.44444

Sheet Pre-cooled
A1: Participant | B1: Time (mins) | C1: Temp (DegC) | D1: HR (bpm) | E1: Power (W) | F1: VO2 (ml/kg/min) | G1: RPE | H1: Weight pre (kg) | I1: Weight post (kg) | J1: Sweat loss (kg) | K1: HR Drift (bpm) | L1: VO2 Drift | M1: Temp diff (DegC) | N1: VO2 Max | O1: % of VO2 Max | P1: Target W | Q1: Actual W
A2: 1 | B2: 0 | C2: 35.2 | D2: 81 | H2: 66.9 | I2: 66.7 | J2: ='[2]Ambient test'!H2-'[2]Ambient test'!I2 -> 0.3 | K2: ='[2]Ambient test'!D5-'[2]Ambient test'!D3 -> 4 | L2: ='[2]Ambient test'!F5-'[2]Ambient test'!F3 -> -0.4 | M2: ='[2]Ambient test'!C5-'[2]Ambient test'!C2 -> 0.9 | N2: 42.6 | O2: ='[2]Ambient test'!F5/N2*100 -> 66.666667 | P2: 212 | Q2: =SUM('[2]Ambient test'!E3:E5)/3 -> 127.66667 | S2: Environmental Conditions
B3: 10 | C3: 37 | D3: 151 | E3: 122 | F3: 29.4 | S3: Temp: 32 deg C
B4: 20 | C4: 35.5 | D4: 161 | E4: 128 | F4: 29.9 | S4: Humidity: 75%
B5: 30 | C5: 37.8 | D5: 164 | E5: 128 | F5: 28.7
A6: 2 | B6: 0 | C6: 34.8 | H6: 70.8 | I6: 70.6 | J6: ='[2]Ambient test'!H6-'[2]Ambient test'!I6 -> 0.1 | K6: ='[2]Ambient test'!D9-'[2]Ambient test'!D7 -> 6 | L6: ='[2]Ambient test'!F9-'[2]Ambient test'!F7 -> 0.1 | M6: ='[2]Ambient test'!C9-'[2]Ambient test'!C6 -> 1 | N6: 45.6 | O6: ='[2]Ambient test'!F9/N6*100 -> 74.780702 | P6: 212 | Q6: =SUM('[2]Ambient test'!E7:E9)/3 -> 128
B7: 10 | C7: 37.1 | D7: 144 | E7: 127 | F7: 27.5
B8: 20 | C8: 37.6 | D8: 152 | E8: 127 | F8: 26.1
B9: 30 | C9: 37.5 | D9: 158 | E9: 128 | F9: 29.6
A10: 3 | B10: 0 | C10: 35.3 | H10: 74.1 | I10: 73.4 | J10: =H10-I10 -> 0.7 | K10: =D13-D11 -> 20 | L10: =F13-F11 -> 7.3 | M10: =C13-C10 -> 2.4 | N10: 71.1 | O10: =F13/N10*100 -> 54.711674 | P10: 212 | Q10: =SUM(E11:E13)/3 -> 250.66667
B11: 10 | C11: 36.4 | D11: 152 | E11: 251 | F11: 31.6
B12: 20 | C12: 37.3 | D12: 160 | E12: 250 | F12: 36.9
B13: 30 | C13: 37.7 | D13: 172 | E13: 251 | F13: 38.9
A14: 4 | B14: 0
B15: 10
B16: 20
B17: 30
A18: 5 | B18: 0 | C18: 34.7 | H18: 94.3 | I18: 93.8 | J18: =H18-I18 -> 0.5 | K18: =D21-D19 -> 36 | L18: =F21-F19 -> 0.2 | M18: =C21-C18 -> 2.9 | N18: 46.9 | O18: =F21/N18*100 -> 57.356077 | P18: 131 | Q18: =SUM(E19:E21)/3 -> 168
B19: 10 | C19: 36.8 | D19: 142 | E19: 170 | F19: 26.7
B20: 20 | C20: 37.3 | D20: 160 | E20: 162 | F20: 32.8
B21: 30 | C21: 37.6 | D21: 178 | E21: 172 | F21: 26.9
A22: 6 | B22: 0 | C22: 37.2 | H22: 93.7 | I22: 93.2 | J22: =H22-I22 -> 0.5 | K22: =D25-D23 -> -8 | L22: =F25-F23 -> -2.9592926 | M22: =C25-C22 -> 1 | N22: 53.5 | O22: =F25/N22*100 -> 60.941936 | P22: 213 | Q22: =SUM(E23:E25)/3 -> 173
B23: 10 | C23: 37.2 | D23: 160 | E23: 200 | F23: 35.563228
B24: 20 | C24: 37.5 | D24: 165 | E24: 177 | F24: 36.096355
B25: 30 | C25: 38.2 | D25: 152 | E25: 142 | F25: 32.603936
A26: 7 | B26: 0 | C26: 34.8 | H26: 78.6 | I26: 78.3 | J26: =H26-I26 -> 0.3 | K26: =D29-D27 -> 10 | L26: =F29-F27 -> 4.4797941 | M26: =C29-C26 -> 3.1 | N26: 61.7 | O26: =F29/N26*100 -> 71.557339 | P26: 240 | Q26: =SUM(E27:E29)/3 -> 239.66667
B27: 10 | C27: 35.7 | D27: 140 | E27: 240 | F27: 39.671084
B28: 20 | C28: 36.7 | D28: 150 | E28: 239 | F28: 42.684286
B29: 30 | C29: 37.9 | D29: 150 | E29: 240 | F29: 44.150878
A30: 8 | B30: 0 | C30: 36.7 | H30: 88.8 | I30: 88.4 | J30: =H30-I30 -> 0.4 | K30: =D33-D31 -> 10 | L30: =F33-F31 -> 1.7191475 | M30: =C33-C30 -> 2 | N30: 49 | O30: =F33/N30*100 -> 79.972825 | P30: 212 | Q30: =SUM(E31:E33)/3 -> 212
B31: 10 | C31: 37.3 | D31: 150 | E31: 212 | F31: 37.467537
B32: 20 | C32: 38.3 | D32: 155 | E32: 212 | F32: 39.574647
B33: 30 | C33: 38.7 | D33: 160 | E33: 212 | F33: 39.186684
A34: 9 | B34: 0 | C34: 36.3 | H34: 58.3 | I34: 58 | J34: =H34-I34 -> 0.3 | K34: =D37-D35 -> 13 | L34: =F37-F35 -> 4.9190116 | M34: =C37-C34 -> 2 | N34: 50 | O34: =F37/N34*100 -> 85.771527 | P34: 115 | Q34: =SUM(E35:E37)/3 -> 116
B35: 10 | C35: 37.3 | D35: 178 | E35: 116 | F35: 37.966752
B36: 20 | C36: 37.9 | D36: 186 | E36: 116 | F36: 39.985164
B37: 30 | C37: 38.3 | D37: 191 | E37: 116 | F37: 42.885763
A38: 10 | B38: 0 | C38: 36 | H38: 76.7 | I38: 76.4 | J38: =H38-I38 -> 0.3 | K38: =D41-D39 -> 22 | L38: =F41-F39 -> 3.5627404 | M38: =C41-C38 -> 1.4 | N38: 42.9 | O38: =F41/N38*100 -> 86.000676 | P38: 131 | Q38: =SUM(E39:E41)/3 -> 128.66667
B39: 10 | C39: 37 | D39: 157 | E39: 128 | F39: 33.33155
B40: 20 | C40: 36.9 | D40: 168 | E40: 129 | F40: 37.452838
B41: 30 | C41: 37.4 | D41: 179 | E41: 129 | F41: 36.89429
A42: 11 | B42: 0 | C42: 37 | H42: 62.6 | I42: 62.3 | J42: =H42-I42 -> 0.3 | K42: =D45-D43 -> 8 | L42: =F45-F43 -> 3.1626586 | M42: =C45-C42 -> 1.7 | N42: 61 | O42: =F45/N42*100 -> 65.773116 | P42: 140 | Q42: =SUM(E43:E45)/3 -> 140.33333
B43: 10 | C43: 37.9 | D43: 142 | E43: 141 | F43: 36.958942
B44: 20 | C44: 38.5 | D44: 148 | E44: 140 | F44: 39.655487
B45: 30 | C45: 38.7 | D45: 150 | E45: 140 | F45: 40.121601
A46: 12 | B46: 0 | C46: 37.5 | H46: 102.8 | I46: 102 | J46: =H46-I46 -> 0.8 | K46: =D49-D47 -> 15 | L46: =F49-F47 -> 9.0265124 | M46: =C49-C46 -> 0.6 | N46: 57 | O46: =F49/N46*100 -> 76.306768 | P46: 255 | Q46: =SUM(E47:E49)/3 -> 248
B47: 10 | C47: 34.7 | D47: 135 | E47: 245 | F47: 34.468345
B48: 20 | C48: 37.4 | D48: 145 | E48: 249 | F48: 39.645684
B49: 30 | C49: 38.1 | D49: 150 | E49: 250 | F49: 43.494858
A50: 13 | B50: 0 | C50: 37 | H50: 87 | I50: 86.5 | J50: =H50-I50 -> 0.5 | K50: =D53-D51 -> 21 | L50: =F53-F51 -> 1.5436153 | M50: =C53-C50 -> 1.3 | N50: 57 | O50: =F53/N50*100 -> 71.212107 | P50: 225 | Q50: =SUM(E51:E53)/3 -> 224.66667
B51: 10 | C51: 36.9 | D51: 143 | E51: 225 | F51: 39.047286
B52: 20 | C52: 37.8 | D52: 151 | E52: 224 | F52: 38.770305
B53: 30 | C53: 38.3 | D53: 164 | E53: 225 | F53: 40.590901
B56: Mean End Temp | C56: =(C5+C9+C13+C21+C25+C29+C33+C37+C41+C45+C49+C53)/12 -> 38.016667 | G56: Mean | H56: =AVERAGE(H2:H55) -> 79.55 | I56: =AVERAGE(I2:I55) -> 79.133333 | J56: =AVERAGE(J2:J55) -> 0.41666667 | K56: =AVERAGE(K2:K55) -> 13.083333 | L56: =AVERAGE(L2:L55) -> 2.7211823 | M56: =AVERAGE(M2:M55) -> 1.6916667 | N56: =AVERAGE(N2:N55) -> 53.191667 | O56: =AVERAGE(O2:O55) -> 70.920951 | ... Q56: =AVERAGE(Q2:Q55) -> 179.72222

Sheet Normoxic
A1: Participant | B1: Time (mins) | C1: o2 sats | D1: HR (bpm) | E1: Power (W) | F1: VO2 (ml/kg/min) | G1: Weight pre (kg) | H1: Weight post (kg) | I1: Sweat loss (kg) | J1: HR Drift (bpm) | K1: VO2 Drift | L1: O2 diff | M1: VO2 Max | N1: % of VO2 Max | O1: Target W | P1: Actual W
A2: 1 | B2: 0 | G2: 67 | H2: 66.7 | I2: ='[3]Ambient test'!H2-'[3]Ambient test'!I2 -> 0.3 | J2: ='[3]Ambient test'!D5-'[3]Ambient test'!D3 -> 4 | K2: ='[3]Ambient test'!F5-'[3]Ambient test'!F3 -> -0.4 | L2: =C5-C3 -> -2 | M2: 42.6 | N2: =F5/M2*100 -> 66.666667 | O2: 130 | P2: =SUM(E3:E5)/3 -> 127.66667
B3: 10 | C3: 98 | D3: 150 | E3: 128 | F3: 28.8
B4: 20 | C4: 97 | D4: 149 | E4: 127 | F4: 25.5
B5: 30 | C5: 96 | D5: 154 | E5: 128 | F5: 28.4
A6: 2 | B6: 0 | G6: 71.1 | H6: 71 | I6: ='[3]Ambient test'!H6-'[3]Ambient test'!I6 -> 0.1 | J6: ='[3]Ambient test'!D9-'[3]Ambient test'!D7 -> 6 | K6: ='[3]Ambient test'!F9-'[3]Ambient test'!F7 -> 0.1 | L6: =C9-C7 -> -3 | M6: 45.6 | N6: =F9/M6*100 -> 74.780702 | O6: 130 | P6: =SUM(E7:E9)/3 -> 128
B7: 10 | C7: 99 | D7: 140 | E7: 129 | F7: 34
B8: 20 | C8: 97 | D8: 141 | E8: 128 | F8: 33.9
B9: 30 | C9: 96 | D9: 146 | E9: 127 | F9: 34.1
A10: 3 | B10: 0 | G10: 74.4 | H10: 73.8 | I10: =G10-H10 -> 0.6 | J10: =D13-D11 -> 14 | K10: =F13-F11 -> 4.1 | L10: =C13-C11 -> -3 | M10: 71.1 | N10: =F13/M10*100 -> 63.994374 | O10: 250 | P10: =SUM(E11:E13)/3 -> 251
B11: 10 | C11: 98 | D11: 149 | E11: 251 | F11: 41.4
B12: 20 | C12: 96 | D12: 159 | E12: 251 | F12: 45.9
B13: 30 | C13: 95 | D13: 163 | E13: 251 | F13: 45.5
A14: 4 | B14: 0 | G14: 72.4 | H14: 71.9 | I14: =G14-H14 -> 0.5 | J14: =D17-D15 -> 11 | K14: =F17-F15 -> 2.6 | L14: =C17-C15 -> -3 | M14: 54.3 | N14: =F17/M14*100 -> 67.219153 | O14: 168 | P14: =SUM(E15:E17)/3 -> 167.33333
B15: 10 | C15: 99 | D15: 142 | E15: 167 | F15: 33.9
B16: 20 | C16: 98 | D16: 149 | E16: 167 | F16: 35.6
B17: 30 | C17: 96 | D17: 153 | E17: 168 | F17: 36.5
A18: 5 | B18: 0 | G18: 93.7 | H18: 93.1 | I18: =G18-H18 -> 0.6 | J18: =D21-D19 -> 5 | K18: =F21-F19 -> 1.668259 | L18: =C21-C19 -> -4 | M18: 53.5 | N18: =F21/M18*100 -> 55.522623 | O18: 160 | P18: =SUM(E19:E21)/3 -> 160
B19: 10 | C19: 98 | D19: 139 | E19: 160 | F19: 28.036344
B20: 20 | C20: 90 | D20: 142 | E20: 160 | F20: 27.269992
B21: 30 | C21: 94 | D21: 144 | E21: 160 | F21: 29.704603
A22: 6 | B22: 0 | G22: 77.2 | H22: 77 | I22: =G22-H22 -> 0.2 | J22: =D25-D23 -> 11 | K22: =F25-F23 -> 0.62101529 | L22: =C25-C23 -> -3 | M22: 61.7 | N22: =F25/M22*100 -> 54.119985 | O22: 180 | P22: =SUM(E23:E25)/3 -> 179
B23: 10 | C23: 99 | D23: 124 | E23: 179 | F23: 32.771016
B24: 20 | C24: 97 | D24: 130 | E24: 179 | F24: 33.231768
B25: 30 | C25: 96 | D25: 135 | E25: 179 | F25: 33.392031
A26: 7 | B26: 0 | G26: 88.8 | H26: 88.5 | I26: =G26-H26 -> 0.3 | J26: =D29-D27 -> 3 | K26: =F29-F27 -> 1.5176658 | L26: =C29-C27 -> -2 | M26: 49 | N26: =F29/M26*100 -> 54.817703 | O26: 159 | P26: =SUM(E27:E29)/3 -> 158.33333
B27: 10 | C27: 98 | D27: 131 | E27: 159 | F27: 25.343008
B28: 20 | C28: 93 | D28: 126 | E28: 157 | F28: 25.714671
B29: 30 | C29: 96 | D29: 134 | E29: 159 | F29: 26.860674
A30: 8 | B30: 0 | G30: 58.8 | H30: 58.6 | I30: =G30-H30 -> 0.2 | J30: =D33-D31 -> 7 | K30: =F33-F31 -> 7.8619891 | L30: =C33-C31 -> 0 | M30: 50 | N30: =F33/M30*100 -> 66.027913 | O30: 86 | P30: =SUM(E31:E33)/3 -> 88.666667
B31: 10 | C31: 96 | D31: 140 | E31: 89 | F31: 25.151967
B32: 20 | C32: 95 | D32: 143 | E32: 88 | F32: 30.886888
B33: 30 | C33: 96 | D33: 147 | E33: 89 | F33: 33.013957
A34: 9 | B34: 0 | G34: 76.2 | H34: 76.1 | I34: =G34-H34 -> 0.1 | J34: =D37-D35 -> 14 | K34: =F37-F35 -> -0.05777256 | L34: =C37-C35 -> -2 | M34: 42.9 | N34: =F37/M34*100 -> 55.934422 | O34: 98 | P34: =SUM(E35:E37)/3 -> 99
B35: 10 | C35: 97 | D35: 117 | E35: 98 | F35: 24.05364
B36: 20 | C36: 96 | D36: 125 | E36: 98 | F36: 22.589049
B37: 30 | C37: 95 | D37: 131 | E37: 101 | F37: 23.995867
A38: 10 | B38: 0 | G38: 62.8 | H38: 62.5 | I38: =G38-H38 -> 0.3 | J38: =D41-D39 -> 4 | K38: =F41-F39 -> 0.32737016 | L38: =C41-C39 -> -1 | M38: 61 | N38: =F41/M38*100 -> 46.334906 | O38: 105 | P38: =SUM(E39:E41)/3 -> 105.33333
B39: 10 | C39: 96 | D39: 128 | E39: 106 | F39: 27.936922
B40: 20 | C40: 97 | D40: 126 | E40: 105 | F40: 30.359673
B41: 30 | C41: 95 | D41: 132 | E41: 105 | F41: 28.264292
A42: 11 | B42: 0 | G42: 103.5 | H42: 103.1 | I42: =G42-H42 -> 0.4 | J42: =D45-D43 -> 1 | K42: =F45-F43 -> -5.3041963 | L42: =C45-C43 -> -3 | M42: 57 | N42: =F45/M42*100 -> 48.467643 | O42: 190 | P42: =SUM(E43:E45)/3 -> 190
B43: 10 | C43: 97 | D43: 117 | E43: 190 | F43: 32.930753
B44: 20 | C44: 94 | D44: 117 | E44: 190 | F44: 30.078566
B45: 30 | C45: 94 | D45: 118 | E45: 190 | F45: 27.626556
A46: 12 | B46: 0 | G46: 86.5 | H46: 86.2 | I46: =G46-H46 -> 0.3 | J46: =D49-D47 -> 14 | K46: =F49-F47 -> 0.78971008 | L46: =C49-C47 -> -1 | M46: 57 | N46: =F49/M46*100 -> 54.692032 | O46: 169 | P46: =SUM(E47:E49)/3 -> 169
B47: 10 | C47: 98 | D47: 114 | E47: 169 | F47: 30.384748
B48: 20 | C48: 98 | D48: 120 | E48: 169 | F48: 29.165265
B49: 30 | C49: 97 | D49: 128 | E49: 169 | F49: 31.174458
A52: Mean | C52: =AVERAGE(C19:C49) -> 95.916667 | D52: =AVERAGE(D3:D49) -> 136.19444 | E52: =AVERAGE(E3:E49) -> 151.94444 | F52: =AVERAGE(F3:F49) -> 30.928797 | H52: Mean | I52: =AVERAGE(I2:I51) -> 0.325 | J52: =AVERAGE(J2:J51) -> 7.8333333 | K52: =AVERAGE(K2:K51) -> 1.1520034 | L52: =AVERAGE(L2:L51) -> -2.25 | M52: =AVERAGE(M2:M51) -> 53.808333 | N52: =AVERAGE(N2:N51) -> 59.048177 | O52: =AVERAGE(O2:O51) -> 152.08333 | P52: =AVERAGE(P2:P51) -> 151.94444

Sheet Hypoxic
A1: Participant | B1: Time (mins) | C1: O2 Sats | D1: HR (bpm) | E1: Power (W) | F1: Weight pre (kg) | G1: Weight post (kg) | H1: Sweat loss (kg) | I1: HR Drift (bpm) | J1: O2 Sats Diff % | K1: VO2 Max | L1: Target W | M1: Actual W
A2: 1 | B2: 0 | F2: 67.2 | G2: 67 | H2: =F2-G2 -> 0.2 | I2: =D5-D3 -> 5 | J2: =C5-C3 -> 0 | K2: 42.6 | L2: 130 | M2: =SUM(E3:E5)/3 -> 131.33333
B3: 10 | C3: 88 | D3: 153 | E3: 130
B4: 20 | C4: 86 | D4: 155 | E4: 129
B5: 30 | C5: 88 | D5: 158 | E5: 135
A6: 2 | B6: 0 | F6: 70 | G6: 68.9 | H6: =F6-G6 -> 1.1 | I6: =D9-D7 -> 8 | J6: =C9-C7 -> -2 | K6: 45.6 | L6: 130 | M6: =SUM(E7:E9)/3 -> 126.33333
B7: 10 | C7: 88 | D7: 150 | E7: 127
B8: 20 | C8: 87 | D8: 155 | E8: 126
B9: 30 | C9: 86 | D9: 158 | E9: 126
A10: 3 | B10: 0 | F10: 73.7 | G10: 72.9 | H10: =F10-G10 -> 0.8 | I10: =D13-D11 -> 10 | J10: =C13-C11 -> -1 | K10: 71.1 | L10: 250 | M10: =SUM(E11:E13)/3 -> 250.66667
B11: 10 | C11: 85 | D11: 166 | E11: 250
B12: 20 | C12: 87 | D12: 171 | E12: 250
B13: 30 | C13: 84 | D13: 176 | E13: 252
A14: 4 | B14: 0 | F14: 72.9 | G14: 72.5 | H14: =F14-G14 -> 0.4 | I14: =D17-D15 -> 9 | J14: =C17-C15 -> 1 | K14: 54.3 | L14: 168 | M14: =SUM(E15:E17)/3 -> 167
B15: 10 | C15: 89 | D15: 149 | E15: 166
B16: 20 | C16: 87 | D16: 157 | E16: 168
B17: 30 | C17: 90 | D17: 158 | E17: 167
A18: 5 | B18: 0 | F18: 94.4 | G18: 94 | H18: =F18-G18 -> 0.4 | I18: =D21-D19 -> 9 | J18: =C21-C19 -> -2 | K18: 53.5 | L18: 175 | M18: =SUM(E19:E21)/3 -> 160.33333
B19: 10 | C19: 88 | D19: 146 | E19: 161
B20: 20 | C20: 87 | D20: 151 | E20: 160
B21: 30 | C21: 86 | D21: 155 | E21: 160
A22: 6 | B22: 0 | F22: 77.9 | G22: 77.7 | H22: =F22-G22 -> 0.2 | I22: =D25-D23 -> 9 | J22: =C25-C23 -> -10 | K22: 61.7 | L22: 180 | M22: =SUM(E23:E25)/3 -> 180
B23: 10 | C23: 89 | D23: 136 | E23: 180
B24: 20 | C24: 80 | D24: 141 | E24: 180
B25: 30 | C25: 79 | D25: 145 | E25: 180
A26: 7 | B26: 0 | F26: 88.1 | G26: 87.8 | H26: =F26-G26 -> 0.3 | I26: =D29-D27 -> 4 | J26: =C29-C27 -> 5 | K26: 49 | L26: 159 | M26: =SUM(E27:E29)/3 -> 156.66667
B27: 10 | C27: 86 | D27: 139 | E27: 158
B28: 20 | C28: 94 | D28: 139 | E28: 156
B29: 30 | C29: 91 | D29: 143 | E29: 156
A30: 8 | B30: 0 | F30: 59.2 | G30: 58.9 | H30: =F30-G30 -> 0.3 | I30: =D33-D31 -> 19 | J30: =C33-C31 -> 0 | K30: 50 | L30: 86 | M30: =SUM(E31:E33)/3 -> 87.333333
B31: 10 | C31: 88 | D31: 142 | E31: 88
B32: 20 | C32: 86 | D32: 153 | E32: 87
B33: 30 | C33: 88 | D33: 161 | E33: 87
A34: 9 | B34: 0 | F34: 76.5 | G34: 76.2 | H34: =F34-G34 -> 0.3 | I34: =D37-D35 -> 5 | J34: =C37-C35 -> 0 | K34: 42.9 | L34: 98 | M34: =SUM(E35:E37)/3 -> 97
B35: 10 | C35: 88 | D35: 139 | E35: 97
B36: 20 | C36: 85 | D36: 141 | E36: 97
B37: 30 | C37: 88 | D37: 144 | E37: 97
A38: 10 | B38: 0 | F38: 63.2 | G38: 63 | H38: =F38-G38 -> 0.2 | I38: =D41-D39 -> 8 | J38: =C41-C39 -> 1 | K38: 61 | L38: 105 | M38: =SUM(E39:E41)/3 -> 105.33333
B39: 10 | C39: 89 | D39: 140 | E39: 105
B40: 20 | C40: 86 | D40: 145 | E40: 105
B41: 30 | C41: 90 | D41: 148 | E41: 106
A42: 11 | B42: 0 | F42: 102.4 | G42: 101.8 | H42: =F42-G42 -> 0.6 | I42: =D45-D43 -> 3 | J42: =C45-C43 -> -1 | K42: 57 | L42: 190 | M42: =SUM(E43:E45)/3 -> 190
B43: 10 | C43: 85 | D43: 138 | E43: 190
B44: 20 | C44: 87 | D44: 145 | E44: 190
B45: 30 | C45: 84 | D45: 141 | E45: 190
A46: 12 | B46: 0 | F46: 86.6 | G46: 86.3 | H46: =F46-G46 -> 0.3 | I46: =D49-D47 -> 14 | J46: =C49-C47 -> -5 | K46: 57 | L46: 169 | M46: =SUM(E47:E49)/3 -> 169
B47: 10 | C47: 80 | D47: 135 | E47: 169
B48: 20 | C48: 76 | D48: 141 | E48: 169
B49: 30 | C49: 75 | D49: 149 | E49: 169
A52: Mean | C52: =AVERAGE(C19:C49) -> 85.625 | D52: =AVERAGE(D3:D49) -> 148.97222 | E52: =AVERAGE(E3:E49) -> 151.75 | G52: Mean | H52: =AVERAGE(H3:H49) -> 0.44545455 | I52: =AVERAGE(I3:I49) -> 8.9090909 | J52: =AVERAGE(J18:J49) -> -1.5 | K52: =AVERAGE(K3:K49) -> 54.827273 | L52: =AVERAGE(L3:L49) -> 155.45455
