Workbook

Sheet Overall Summary
B4: Test | C4: Sweat Loss | D4: HR Drift | E4: VO2 Drift | F4: Temp increase | G4: Temp @ 30min | L4: Note - 'drift' refers to the change from 10 min reading to 30 min reading.
B5: Cold | C5: 0.3 | D5: ='Cold test'!K99 -> 7.6521739 | E5: ='Cold test'!L99 -> 2.572053 | F5: ='Cold test'!M99 -> 0.28571429 | G5: ='Cold test'!C99 -> 36
B6: Ambient | C6: ='Ambient test'!J101 -> 0.40416667 | D6: ='Ambient test'!K101 -> 13.625 | E6: ='Ambient test'!L101 -> 3.5948785 | F6: ='Ambient test'!M101 -> 1.0956522 | G6: ='Ambient test'!C101 -> 37.120833
B7: Hot | C7: ='Hot Test'!J100 -> 0.54583333 | D7: ='Hot Test'!K100 -> 16.541667 | E7: ='Hot Test'!L100 -> 4.6673805 | F7: ='Hot Test'!M100 -> 1.7416667 | G7: ='Hot Test'!C100 -> 37.905556
B8: Pre-Cooled Hot | C8: ='Pre-cooled'!J56 -> 0.41666667 | D8: ='Pre-cooled'!K56 -> 13.083333 | E8: ='Pre-cooled'!L56 -> 2.7211823 | F8: ='Pre-cooled'!M56 -> 1.6916667 | G8: ='Pre-cooled'!C56 -> 38.016667
B12: Test | C12: Mean SpO2 | D12: Mean HR | E12: Mean VO2 | F12: Sweat Loss | G12: HR Drift | H12: VO2 Drift | I12: O2 drift | J12: %vo2Max
B13: Normoxic | C13: =Normoxic!C52 -> 95.916667 | D13: =Normoxic!D52 -> 136.19444 | E13: =Normoxic!F52 -> 30.928797 | F13: =Normoxic!I52 -> 0.325 | G13: =Normoxic!J52 -> 7.8333333 | H13: =Normoxic!K52 -> 1.1520034 | I13: =Normoxic!L52 -> -2.25 | J13: =Normoxic!N52 -> 59.048177
B14: Hypoxic | C14: =Hypoxic!C52 -> 85.625 | D14: =Hypoxic!D52 -> 148.97222 | E14: N/A | F14: =Hypoxic!H52 -> 0.44545455 | G14: =Hypoxic!I52 -> 8.9090909 | H14: N/A | I14: =Hypoxic!J52 -> -1.5 | J14: N/A
B15: Difference | C15: =C13-C14 -> 10.291667 | D15: =D14-D13 -> 12.777778 | F15: =F14-F13 -> 0.12045455 | G15: =G14-G13 -> 1.0757576

Sheet Cold water Grip Strength
E1: ID | F1: Starting Grip Strength | G1: 5 min Grip Strength | H1: 10 min Grip Strength | I1: 15 min Grip Strength | J1: 20 min Grip Strength | K1: 25 min Grip Strength | L1: 30 min Grip Strength | M1: Difference
E2: 1 | F2: 44 | G2: 43 | H2: 39 | I2: 36 | J2: 35 | K2: 28 | L2: 21 | M2: =Table1[[#This Row],[Starting Grip Strength]]-Table1[[#This Row],[30 min Grip Strength]] -> 23
E3: 2 | F3: 31 | G3: 28.2 | H3: 28 | I3: 25.2 | J3: 21.9 | K3: 22 | L3: 23.5 | M3: =Table1[[#This Row],[Starting Grip Strength]]-Table1[[#This Row],[30 min Grip Strength]] -> 7.5
E4: 3 | F4: 49.7 | G4: 43.1 | H4: 47.3 | I4: 40.9 | J4: 42.5 | K4: 40.6 | L4: 35.1 | M4: =Table1[[#This Row],[Starting Grip Strength]]-Table1[[#This Row],[30 min Grip Strength]] -> 14.6
E5: 4 | F5: 42 | G5: 38 | H5: 33 | I5: 32 | J5: 31 | K5: 31 | L5: 30 | M5: =Table1[[#This Row],[Starting Grip Strength]]-Table1[[#This Row],[30 min Grip Strength]] -> 12
E6: 5 | F6: 45 | G6: 45 | H6: 46 | I6: 28 | J6: 35 | K6: 37 | L6: 37 | M6: =Table1[[#This Row],[Starting Grip Strength]]-Table1[[#This Row],[30 min Grip Strength]] -> 8
E7: 6 | F7: 50.1 | G7: 42.9 | H7: 41.2 | I7: 34.6 | J7: 30.6 | K7: 30 | L7: 32.2 | M7: =Table1[[#This Row],[Starting Grip Strength]]-Table1[[#This Row],[30 min Grip Strength]] -> 17.9
E8: 7 | F8: 53.6 | G8: 51.3 | H8: 54.5 | I8: 51.1 | J8: 55.9 | K8: 54.8 | L8: 54.1 | M8: =Table1[[#This Row],[Starting Grip Strength]]-Table1[[#This Row],[30 min Grip Strength]] -> -0.5
E9: 8 | F9: 50 | G9: 43 | H9: 40 | I9: 37.8 | J9: 44 | K9: 41 | L9: 36 | M9: =Table1[[#This Row],[Starting Grip Strength]]-Table1[[#This Row],[30 min Grip Strength]] -> 14
E10: 9 | F10: 54.1 | G10: 61.7 | H10: 60 | I10: 56.5 | J10: 56.6 | K10: 52.3 | L10: 46.2 | M10: =Table1[[#This Row],[Starting Grip Strength]]-Table1[[#This Row],[30 min Grip Strength]] -> 7.9
E11: 10 | F11: 51 | G11: 53.2 | H11: 53.8 | I11: 47.1 | J11: 51.2 | K11: 46.6 | L11: 44.7 | M11: =Table1[[#This Row],[Starting Grip Strength]]-Table1[[#This Row],[30 min Grip Strength]] -> 6.3
E12: 11 | F12: 29 | G12: 27 | H12: 28 | I12: 25 | J12: 22 | K12: 24 | L12: 26 | M12: =Table1[[#This Row],[Starting Grip Strength]]-Table1[[#This Row],[30 min Grip Strength]] -> 3
E13: Gareth | F13: 48.8 | G13: 47.5 | H13: 43.1 | I13: 35.7 | J13: 35.4 | K13: 34.8 | L13: 32.6 | M13: =Table1[[#This Row],[Starting Grip Strength]]-Table1[[#This Row],[30 min Grip Strength]] -> 16.2
E14: Marcus | F14: 36.9 | G14: 37.2 | H14: 34.6 | I14: 31 | J14: 26.3 | K14: 22.1 | L14: 19.6 | M14: =Table1[[#This Row],[Starting Grip Strength]]-Table1[[#This Row],[30 min Grip Strength]] -> 17.3
E15: Sian | F15: 26.9 | G15: 26.5 | H15: 27 | I15: 23.2 | J15: 23.7 | K15: 22.4 | L15: 20.3 | M15: =Table1[[#This Row],[Starting Grip Strength]]-Table1[[#This Row],[30 min Grip Strength]] -> 6.6
E16: Tom | F16: 39.1 | G16: 39.3 | H16: 38 | I16: 38 | J16: 35.7 | K16: 36 | L16: 37.3 | M16: =Table1[[#This Row],[Starting Grip Strength]]-Table1[[#This Row],[30 min Grip Strength]] -> 1.8
E17: Mean | F17: =AVERAGE(F2:F16) -> 43.413333 | G17: =AVERAGE(G2:G16) -> 41.793333 | H17: =AVERAGE(H2:H16) -> 40.9 | I17: =AVERAGE(I2:I16) -> 36.14 | J17: =AVERAGE(J2:J16) -> 36.453333 | K17: =AVERAGE(K2:K16) -> 34.84 | L17: =AVERAGE(L2:L16) -> 33.04

Sheet Cold test
A1: Participant | B1: Time (mins) | C1: Temp (DegC) | D1: HR (bpm) | E1: Power (W) | F1: VO2 (ml/kg/min) | G1: RPE | H1: Weight pre (kg) | I1: Weight post (kg) | J1: Sweat loss (kg) | K1: HR Drift (bpm) | L1: VO2 Drift | M1: Temp diff (DegC) | N1: VO2 Max | O1: % of VO2 Max | P1: Target W | Q1: Actual W | R1: height (CM) | S1: gender | T1: Age
A2: 1 | B2: 0 | C2: 36.1 | D2: 86 | H2: 67 | I2: 66.8 | J2: =H2-I2 -> 0.2 | K2: =D5-D3 -> 3 | L2: =F5-F3 -> 0.9 | M2: =C5-C2 -> 1.3 | N2: 42.6 | O2: =F5/N2*100 -> 62.206573 | P2: 125 | Q2: =SUM(E3:E5)/3 -> 128.66667 | R2: 167 | S2: F | T2: 21
B3: 10 | C3: 36.9 | D3: 147 | E3: 129 | F3: 25.6 | G3: 9 | U3: Environmental Conditions
B4: 20 | C4: 36.7 | D4: 150 | E4: 129 | F4: 24.6 | G4: 13 | U4: Temp: 5 deg C
B5: 30 | C5: 37.4 | D5: 150 | E5: 128 | F5: 26.5 | G5: 13 | U5: Humidity: 50%
A6: 2 | B6: 0 | C6: 36 | H6: 71.1 | I6: 70.9 | J6: =H6-I6 -> 0.2 | K6: =D9-D7 -> 0 | L6: =F9-F7 -> 1.7 | M6: =C9-C6 -> -0.1 | N6: 45.6 | O6: =F9/N6*100 -> 59.649123 | P6: 125 | Q6: =SUM(E7:E9)/3 -> 127.66667 | R6: 165 | S6: F | T6: 37
B7: 10 | C7: 36.3 | D7: 135 | E7: 128 | F7: 25.5 | G7: 10
B8: 20 | C8: 36.1 | D8: 135 | E8: 127 | F8: 25 | G8: 11
B9: 30 | C9: 35.9 | D9: 135 | E9: 128 | F9: 27.2 | G9: 12
A10: 3 | B10: 0 | C10: 35.8 | H10: 73.2 | I10: 72.7 | J10: =H10-I10 -> 0.5 | K10: =D13-D11 -> 11 | L10: =F13-F11 -> 8.9 | M10: =C13-C10 -> 0.6 | N10: 71.1 | O10: =F13/N10*100 -> 61.462729 | P10: 250 | Q10: =SUM(E11:E13)/3 -> 250.66667 | R10: 182 | S10: M | T10: 20
B11: 10 | C11: 36.8 | D11: 140 | E11: 250 | F11: 34.8 | G11: 8
B12: 20 | C12: 36.6 | D12: 148 | E12: 250 | F12: 39.9 | G12: 11
B13: 30 | C13: 36.4 | D13: 151 | E13: 252 | F13: 43.7 | G13: 12
A14: 4 | B14: 0 | C14: 36 | H14: 73.1 | I14: 72.8 | J14: =H14-I14 -> 0.3 | K14: =D17-D15 -> 18 | L14: =F17-F15 -> -0.7 | M14: =C17-C14 -> 1.8 | N14: 54.3 | O14: =F17/N14*100 -> 75.690608 | P14: 170 | Q14: =SUM(E15:E17)/3 -> 168 | R14: 186 | S14: M | T14: 35
B15: 10 | C15: 36.1 | D15: 140 | E15: 168 | F15: 41.8 | G15: 10
B16: 20 | C16: 37.2 | D16: 150 | E16: 168 | F16: 36.7 | G16: 12
B17: 30 | C17: 37.8 | D17: 158 | E17: 168 | F17: 41.1 | G17: 14
A18: 5 | B18: 0 | C18: 34.5 | H18: 93.5 | I18: 93 | J18: =H18-I18 -> 0.5 | K18: =D21-D19 -> 3 | L18: =F21-F19 -> 5.3 | M18: =C21-C18 -> 0.1 | N18: 46.9 | O18: =F21/N18*100 -> 62.260128 | P18: 170 | Q18: =SUM(E19:E21)/3 -> 171.33333 | R18: 182 | S18: M | T18: 21
B19: 10 | C19: 34.9 | D19: 147 | E19: 172 | F19: 23.9 | G19: 8
B20: 20 | C20: 34.5 | D20: 146 | E20: 172 | F20: 29.1 | G20: 12
B21: 30 | C21: 34.6 | D21: 150 | E21: 170 | F21: 29.2 | G21: 15
A22: 6 | B22: 0 | C22: 36.1 | D22: 0 | E22: 0 | F22: 0 | H22: 93.5 | I22: 93 | J22: =H22-I22 -> 0.5 | K22: =D25-D23 -> 17 | L22: =F25-F23 -> 5.7815932 | M22: =C25-C22 -> 0.4 | N22: 53.5 | O22: =F25/N22*100 -> 79.241055 | P22: 213 | Q22: =SUM(E23:E25)/3 -> 212.33333 | R22: 176 | S22: M | T22: 28
B23: 10 | C23: 36.2 | D23: 155 | E23: 211 | F23: 36.612372 | G23: 11
B24: 20 | C24: 35.7 | D24: 167 | E24: 213 | F24: 41.309741 | G24: 12
B25: 30 | C25: 36.5 | D25: 172 | E25: 213 | F25: 42.393965 | G25: 12
A26: 7 | B26: 0 | C26: 36.1 | D26: 52 | E26: 0 | H26: 78.2 | I26: 78 | J26: =H26-I26 -> 0.2 | K26: =D29-D27 -> 7 | L26: =F29-F27 -> 0.4 | M26: =C29-C26 -> 1 | N26: 61.7 | O26: =F29/N26*100 -> 67.909238 | P26: 240 | Q26: =SUM(E27:E29)/3 -> 240 | R26: 175 | S26: M | T26: 42
B27: 10 | C27: 37.1 | D27: 140 | E27: 240 | F27: 41.5 | G27: 10
B28: 20 | C28: 35.8 | D28: 146 | E28: 240 | F28: 41.5 | G28: 11
B29: 30 | C29: 37.1 | D29: 147 | E29: 240 | F29: 41.9 | G29: 12
A30: 8 | B30: 0 | C30: 36 | D30: 49 | E30: 0 | F30: 0 | H30: 88.3 | I30: 87.8 | J30: =H30-I30 -> 0.5 | K30: =D33-D31 -> 7 | L30: =F33-F31 -> -1.3261801 | M30: =C33-C30 -> 2.3 | N30: 49 | O30: =F33/N30*100 -> 80.567197 | P30: 212 | Q30: =SUM(E31:E33)/3 -> 212 | R30: 174 | S30: M | T30: 21
B31: 10 | C31: 35.7 | D31: 145 | E31: 212 | F31: 40.804107 | G31: 10
B32: 20 | C32: 37.7 | D32: 149 | E32: 212 | F32: 38.217977 | G32: 11
B33: 30 | C33: 38.3 | D33: 152 | E33: 212 | F33: 39.477927 | G33: 12
A34: 9 | B34: 0 | C34: 37.1 | D34: 0 | E34: 0 | F34: 0 | H34: 58.4 | I34: 58.2 | J34: =H34-I34 -> 0.2 | K34: =D37-D35 -> 4 | L34: =F37-F35 -> 2.357707 | M34: =C37-C34 -> -1.8 | N34: 50 | O34: =F37/N34*100 -> 70.421426 | P34: 115 | Q34: =SUM(E35:E37)/3 -> 117.33333 | R34: 160 | S34: F | T34: 24
B35: 10 | C35: 36.5 | D35: 168 | E35: 118 | F35: 32.853006 | G35: 7
B36: 20 | C36: 35.2 | D36: 167 | E36: 117 | F36: 35.081027 | G36: 9
B37: 30 | C37: 35.3 | D37: 172 | E37: 117 | F37: 35.210713 | G37: 11
A38: 10 | B38: 0 | C38: 36.2 | D38: 0 | E38: 0 | F38: 0 | H38: 77.3 | I38: 77 | J38: =H38-I38 -> 0.3 | K38: =D41-D39 -> 8 | L38: =F41-F39 -> 3.6670622 | M38: =C41-C38 -> -1.3 | N38: 42.9 | O38: =F41/N38*100 -> 74.357378 | P38: 131 | Q38: =SUM(E39:E41)/3 -> 132.33333 | R38: 185 | S38: M | T38: 20
B39: 10 | C39: 36.3 | D39: 136 | E39: 131 | F39: 28.232253 | G39: 11
B40: 20 | C40: 35.2 | D40: 140 | E40: 133 | F40: 32.69393 | G40: 12
...

Sheet Ambient test
A1: Participant | B1: Time (mins) | C1: Temp (DegC) | D1: HR (bpm) | E1: Power (W) | F1: VO2 (ml/kg/min) | G1: RPE | H1: Weight pre (kg) | I1: Weight post (kg) | J1: Sweat loss (kg) | K1: HR Drift (bpm) | L1: VO2 Drift | M1: Temp diff (DegC) | N1: VO2 Max | O1: % of VO2 Max | P1: Target W | Q1: Actual W
A2: 1 | B2: 0 | C2: 36.4 | H2: 67 | I2: 66.7 | J2: =H2-I2 -> 0.3 | K2: ='Ambient test'!D5-'Ambient test'!D3 -> 4 | L2: ='Ambient test'!F5-'Ambient test'!F3 -> -0.4 | N2: 42.6 | O2: ='Ambient test'!F5/N2*100 -> 66.666667 | P2: 125 | Q2: =SUM('Ambient test'!E3:E5)/3 -> 127.66667 | S2: Environmental Conditions
B3: 10 | C3: 37.3 | D3: 150 | E3: 128 | F3: 28.8 | G3: 13 | S3: Temp: 19.3 deg C
B4: 20 | C4: 37.4 | D4: 149 | E4: 127 | F4: 25.5 | G4: 16 | S4: Humidity: 53%
B5: 30 | C5: 37.3 | D5: 154 | E5: 128 | F5: 28.4 | G5: 17 | M5: ='Ambient test'!C5-'Ambient test'!C2 -> 0.9
A6: 2 | B6: 0 | C6: 36.5 | H6: 71.1 | I6: 71 | J6: =H6-I6 -> 0.1 | K6: ='Ambient test'!D9-'Ambient test'!D7 -> 6 | L6: ='Ambient test'!F9-'Ambient test'!F7 -> 0.1 | M6: ='Ambient test'!C9-'Ambient test'!C6 -> 1 | N6: 45.6 | O6: ='Ambient test'!F9/N6*100 -> 74.780702 | P6: 125 | Q6: =SUM('Ambient test'!E7:E9)/3 -> 128
B7: 10 | C7: 36.6 | D7: 140 | E7: 129 | F7: 34 | G7: 11
B8: 20 | C8: 37.3 | D8: 141 | E8: 128 | F8: 33.9 | G8: 12
B9: 30 | C9: 37.5 | D9: 146 | E9: 127 | F9: 34.1 | G9: 12
A10: 3 | B10: 0 | C10: 36.2 | H10: 74.4 | I10: 73.8 | J10: =H10-I10 -> 0.6 | K10: =D13-D11 -> 14 | L10: =F13-F11 -> 4.1 | M10: =C13-C10 -> 1.7 | N10: 71.1 | O10: =F13/N10*100 -> 63.994374 | P10: 250 | Q10: =SUM(E11:E13)/3 -> 251
B11: 10 | C11: 37.4 | D11: 149 | E11: 251 | F11: 41.4 | G11: 10
B12: 20 | C12: 37.9 | D12: 159 | E12: 251 | F12: 45.9 | G12: 15
B13: 30 | C13: 37.9 | D13: 163 | E13: 251 | F13: 45.5 | G13: 15
A14: 4 | B14: 0 | C14: 35.2 | H14: 72.4 | I14: 71.9 | J14: =H14-I14 -> 0.5 | K14: =D17-D15 -> 11 | L14: =F17-F15 -> 2.6 | M14: =C17-C14 -> 2.4 | N14: 54.3 | O14: =F17/N14*100 -> 67.219153 | P14: 170 | Q14: =SUM(E15:E17)/3 -> 167.33333
B15: 10 | C15: 36.7 | D15: 142 | E15: 167 | F15: 33.9 | G15: 12
B16: 20 | C16: 37.2 | D16: 149 | E16: 167 | F16: 35.6 | G16: 14
B17: 30 | C17: 37.6 | D17: 153 | E17: 168 | F17: 36.5 | G17: 16
A18: 5 | B18: 0 | C18: 35.1 | H18: 93.4 | I18: 93 | J18: =H18-I18 -> 0.4 | K18: =D21-D19 -> 8 | L18: =F21-F19 -> 0.5 | M18: =C21-C18 -> 1.4 | N18: 46.9 | O18: =F21/N18*100 -> 54.371002 | P18: 170 | Q18: =SUM(E19:E21)/3 -> 174.33333
B19: 10 | C19: 36 | D19: 161 | E19: 173 | F19: 25 | G19: 12
B20: 20 | C20: 36.6 | D20: 165 | E20: 175 | F20: 28.2 | G20: 16
B21: 30 | C21: 36.5 | D21: 169 | E21: 175 | F21: 25.5 | G21: 18
A22: 6 | B22: 0 | C22: 36.6 | E22: 0 | F22: 0 | H22: 95.1 | I22: 94.9 | J22: =H22-I22 -> 0.2 | K22: =D25-D23 -> 19 | L22: =F25-F23 -> 3.4461248 | M22: =C25-C22 -> 0.8 | N22: 53.5 | O22: =F25/N22*100 -> 74.826461 | P22: 213 | Q22: =SUM(E23:E25)/3 -> 207
B23: 10 | C23: 37.2 | D23: 167 | E23: 207 | F23: 36.586032 | G23: 12
B24: 20 | C24: 37.6 | D24: 173 | E24: 202 | F24: 36.781928 | G24: 15
B25: 30 | C25: 37.4 | D25: 186 | E25: 212 | F25: 40.032156 | G25: 17
A26: 7 | B26: 0 | C26: 36.7 | E26: 0 | F26: 0 | H26: 78.1 | I26: 77.7 | J26: =H26-I26 -> 0.4 | K26: =D29-D27 -> 9 | L26: =F29-F27 -> 5.3700666 | M26: =C29-C26 -> 2.1 | N26: 61.7 | O26: =F29/N26*100 -> 66.786201 | P26: 240 | Q26: =SUM(E27:E29)/3 -> 239.33333
B27: 10 | C27: 37.5 | D27: 145 | E27: 240 | F27: 35.837019 | G27: 13
B28: 20 | C28: 37.6 | D28: 149 | E28: 239 | F28: 40.874413 | G28: 15
B29: 30 | C29: 38.8 | D29: 154 | E29: 239 | F29: 41.207086 | G29: 19
A30: 8 | B30: 0 | C30: 36.4 | E30: 0 | F30: 0 | H30: 88.3 | I30: 87.8 | J30: =H30-I30 -> 0.5 | K30: =D33-D31 -> 11 | L30: =F33-F31 -> 1.6745845 | M30: =C33-C30 -> 2.3 | N30: 49 | O30: =F33/N30*100 -> 77.557843 | P30: 212 | Q30: =SUM(E31:E33)/3 -> 212.66667
B31: 10 | C31: 37.6 | D31: 143 | E31: 214 | F31: 36.328758 | G31: 12
B32: 20 | C32: 38.5 | D32: 142 | E32: 212 | F32: 36.164845 | G32: 16
B33: 30 | C33: 38.7 | D33: 154 | E33: 212 | F33: 38.003343 | G33: 18
A34: 9 | B34: 0 | C34: 36.9 | E34: 0 | F34: 0 | H34: 58.7 | I34: 58.5 | J34: =H34-I34 -> 0.2 | K34: =D37-D35 -> 8 | L34: =F37-F35 -> 1.7333755 | M34: =C37-C34 -> 0.6 | N34: 50 | O34: =F37/N34*100 -> 66.906086 | P34: 115 | Q34: =SUM(E35:E37)/3 -> 116.66667
B35: 10 | C35: 37.6 | D35: 169 | E35: 117 | F35: 31.719668 | G35: 13
B36: 20 | C36: 37.5 | D36: 173 | E36: 116 | F36: 35.646285 | G36: 16
B37: 30 | C37: 37.5 | D37: 177 | E37: 117 | F37: 33.453043 | G37: 17
A38: 10 | B38: 0 | C38: 35.9 | E38: 0 | F38: 0 | H38: 76.7 | I38: 76.5 | J38: =H38-I38 -> 0.2 | K38: =D41-D39 -> 16 | L38: =F41-F39 -> 4.4343838 | M38: =C41-C38 -> 0 | N38: 42.9 | O38: =F41/N38*100 -> 70.459299 | P38: 131 | Q38: =SUM(E39:E41)/3 -> 132
B39: 10 | C39: 36.9 | D39: 146 | E39: 131 | F39: 25.792655 | G39: 11
B40: 20 | C40: 36.4 | D40: 156 | E40: 132 | F40: 30.616287 | G40: 12
...

Sheet Hot Test
A1: Participant | B1: Time (mins) | C1: Temp (DegC) | D1: HR (bpm) | E1: Power (W) | F1: VO2 (ml/kg/min) | G1: RPE | H1: Weight pre (kg) | I1: Weight post (kg) | J1: Sweat loss (kg) | K1: HR Drift (bpm) | L1: VO2 Drift | M1: Temp diff (DegC) | N1: VO2 Max | O1: % of VO2 Max | P1: Target W | Q1: Actual W
A2: 1 | B2: 0 | C2: 36.3 | D2: 97 | H2: 67.9 | I2: 66.7 | J2: =H2-I2 -> 1.2 | K2: =D5-D3 -> 8 | L2: =F5-F3 -> -3.5890905 | M2: =C5-C2 -> 1.6 | N2: 42.6 | O2: =F5/N2*100 -> 64.343829 | P2: 125 | Q2: =SUM(E3:E5)/3 -> 127.33333
B3: 10 | C3: 37.1 | D3: 151 | E3: 128 | F3: 30.999562 | G3: 12 | S3: Environmental Conditions
B4: 20 | C4: 37.7 | D4: 161 | E4: 127 | F4: 31.380545 | G4: 14 | S4: Temp: 32 deg C
B5: 30 | C5: 37.9 | D5: 159 | E5: 127 | F5: 27.410471 | G5: 15 | S5: Humidity: 75%
A6: 2 | B6: 0 | C6: 36.8 | H6: 70.7 | I6: 70.2 | J6: =H6-I6 -> 0.5 | K6: =D9-D7 -> 8 | L6: =F9-F7 -> 1.8577351 | M6: =C9-C6 -> 0.5 | N6: 45.6 | O6: =F9/N6*100 -> 63.472283 | P6: 125 | Q6: =SUM(E7:E9)/3 -> 126.66667
B7: 10 | C7: 36.7 | D7: 152 | E7: 127 | F7: 27.085626 | G7: 10
B8: 20 | C8: 36.9 | D8: 152 | E8: 126 | F8: 30.022262 | G8: 13
B9: 30 | C9: 37.3 | D9: 160 | E9: 127 | F9: 28.943361 | G9: 14
A10: 3 | B10: 0 | C10: 36.4 | H10: 74 | I10: 73.3 | J10: =H10-I10 -> 0.7 | K10: =D13-D11 -> 18 | L10: =F13-F11 -> 3.7 | M10: =C13-C10 -> 1.9 | N10: 71.1 | O10: =F13/N10*100 -> 72.855134 | P10: 250 | Q10: =SUM(E11:E13)/3 -> 252
B11: 10 | C11: 37.6 | D11: 164 | E11: 252 | F11: 48.1 | G11: 11
B12: 20 | C12: 38.1 | D12: 174 | E12: 252 | F12: 49.8 | G12: 13
B13: 30 | C13: 38.3 | D13: 182 | E13: 252 | F13: 51.8 | G13: 15
A14: 4 | B14: 0 | C14: 36 | H14: 73.1 | I14: 72.8 | J14: =H14-I14 -> 0.3 | K14: =D17-D15 -> 18 | L14: =F17-F15 -> 10.1 | M14: =C17-C14 -> 1.8 | N14: 54.3 | O14: =F17/N14*100 -> 75.506446 | P14: 170 | Q14: =SUM(E15:E17)/3 -> 168
B15: 10 | C15: 36.1 | D15: 140 | E15: 168 | F15: 30.9 | G15: 10
B16: 20 | C16: 37.2 | D16: 150 | E16: 168 | F16: 36.6 | G16: 12
B17: 30 | C17: 37.8 | D17: 158 | E17: 168 | F17: 41 | G17: 14
A18: 5 | B18: 0 | C18: 36.1 | H18: 93.2 | I18: 92.9 | J18: =H18-I18 -> 0.3 | K18: =D21-D19 -> 19 | L18: =F21-F19 -> 9.2 | M18: =C21-C18 -> 0.7 | N18: 46.9 | O18: =F21/N18*100 -> 81.449893 | P18: 170 | Q18: =SUM(E19:E21)/3 -> 169.33333
B19: 10 | C19: 36.5 | D19: 169 | E19: 167 | F19: 29 | G19: 12
B20: 20 | C20: 36.6 | D20: 175 | E20: 167 | F20: 32.9 | G20: 14
B21: 30 | C21: 36.8 | D21: 188 | E21: 174 | F21: 38.2 | G21: 14
A22: 6 | B22: 0 | C22: 37.1 | H22: 94.7 | I22: 93.8 | J22: =H22-I22 -> 0.9 | K22: =D25-D23 -> 22 | L22: =F25-F23 -> 9.1 | M22: =C25-C22 -> 0.7 | N22: 53.5 | O22: =F25/N22*100 -> 84.299065 | P22: 213 | Q22: =SUM(E23:E25)/3 -> 211.33333
B23: 10 | C23: 37 | D23: 150 | E23: 212 | F23: 36 | G23: 13
B24: 20 | C24: 37.7 | D24: 165 | E24: 213 | F24: 38.8 | G24: 15
B25: 30 | C25: 37.8 | D25: 172 | E25: 209 | F25: 45.1 | G25: 14
A26: 7 | B26: 0 | C26: 37.2 | D26: 52 | E26: 0 | H26: 79.2 | I26: 78.8 | J26: =H26-I26 -> 0.4 | K26: =D29-D27 -> 15 | L26: =F29-F27 -> 6.7 | M26: =C29-C26 -> 1.6 | N26: 61.7 | O26: =F29/N26*100 -> 85.41329 | P26: 240 | Q26: =SUM(E27:E29)/3 -> 239.33333
B27: 10 | C27: 37.1 | D27: 145 | E27: 239 | F27: 46 | G27: 6
B28: 20 | C28: 37.9 | D28: 154 | E28: 239 | F28: 50 | G28: 11
B29: 30 | C29: 38.8 | D29: 160 | E29: 240 | F29: 52.7 | G29: 13
A30: 8 | B30: 0 | C30: 37.5 | H30: 89.9 | I30: 89.4 | J30: =H30-I30 -> 0.5 | K30: =D33-D31 -> 20 | L30: =F33-F31 -> 8.0988985 | M30: =C33-C30 -> 1 | N30: 49 | O30: =F33/N30*100 -> 72.50959 | P30: 212 | Q30: =SUM(E31:E33)/3 -> 212
B31: 10 | C31: 37 | D31: 132 | E31: 212 | F31: 27.430801 | G31: 11
B32: 20 | C32: 37.7 | D32: 147 | E32: 212 | F32: 35.749518 | G32: 13
B33: 30 | C33: 38.5 | D33: 152 | E33: 212 | F33: 35.529699 | G33: 14
A34: 9 | B34: 0 | C34: 36 | H34: 57.9 | I34: 57.7 | J34: =H34-I34 -> 0.2 | K34: =D37-D35 -> 17 | L34: =F37-F35 -> -2.2502441 | M34: =C37-C34 -> 1.7 | N34: 50 | O34: =F37/N34*100 -> 71.995946 | P34: 115 | Q34: =SUM(E35:E37)/3 -> 117.66667
B35: 10 | C35: 37 | D35: 164 | E35: 118 | F35: 38.248217 | G35: 13
B36: 20 | C36: 37.8 | D36: 185 | E36: 117 | F36: 38.718098 | G36: 14
B37: 30 | C37: 37.7 | D37: 181 | E37: 118 | F37: 35.997973 | G37: 15
A38: 10 | B38: 0 | C38: 36.3 | H38: 76.2 | I38: 74.7 | J38: =H38-I38 -> 1.5 | K38: =D41-D39 -> 20 | L38: =F41-F39 -> 8.8 | M38: =C41-C38 -> 1.4 | N38: 42.9 | O38: =F41/N38*100 -> 96.270396 | P38: 131 | Q38: =SUM(E39:E41)/3 -> 130.33333
B39: 10 | C39: 36.8 | D39: 153 | E39: 131 | F39: 32.5 | G39: 10
B40: 20 | C40: 37.2 | D40: 170 | E40: 130 | F40: 38.7 | G40: 13
...

Sheet Pre-cooled
A1: Participant | B1: Time (mins) | C1: Temp (DegC) | D1: HR (bpm) | E1: Power (W) | F1: VO2 (ml/kg/min) | G1: RPE | H1: Weight pre (kg) | I1: Weight post (kg) | J1: Sweat loss (kg) | K1: HR Drift (bpm) | L1: VO2 Drift | M1: Temp diff (DegC) | N1: VO2 Max | O1: % of VO2 Max | P1: Target W | Q1: Actual W
A2: 1 | B2: 0 | C2: 35.2 | D2: 81 | H2: 66.9 | I2: 66.7 | J2: ='[2]Ambient test'!H2-'[2]Ambient test'!I2 -> 0.3 | K2: ='[2]Ambient test'!D5-'[2]Ambient test'!D3 -> 4 | L2: ='[2]Ambient test'!F5-'[2]Ambient test'!F3 -> -0.4 | M2: ='[2]Ambient test'!C5-'[2]Ambient test'!C2 -> 0.9 | N2: 42.6 | O2: ='[2]Ambient test'!F5/N2*100 -> 66.666667 | P2: 212 | Q2: =SUM('[2]Ambient test'!E3:E5)/3 -> 127.66667 | S2: Environmental Conditions
B3: 10 | C3: 37 | D3: 151 | E3: 122 | F3: 29.4 | S3: Temp: 32 deg C
B4: 20 | C4: 35.5 | D4: 161 | E4: 128 | F4: 29.9 | S4: Humidity: 75%
B5: 30 | C5: 37.8 | D5: 164 | E5: 128 | F5: 28.7
A6: 2 | B6: 0 | C6: 34.8 | H6: 70.8 | I6: 70.6 | J6: ='[2]Ambient test'!H6-'[2]Ambient test'!I6 -> 0.1 | K6: ='[2]Ambient test'!D9-'[2]Ambient test'!D7 -> 6 | L6: ='[2]Ambient test'!F9-'[2]Ambient test'!F7 -> 0.1 | M6: ='[2]Ambient test'!C9-'[2]Ambient test'!C6 -> 1 | N6: 45.6 | O6: ='[2]Ambient test'!F9/N6*100 -> 74.780702 | P6: 212 | Q6: =SUM('[2]Ambient test'!E7:E9)/3 -> 128
B7: 10 | C7: 37.1 | D7: 144 | E7: 127 | F7: 27.5
B8: 20 | C8: 37.6 | D8: 152 | E8: 127 | F8: 26.1
B9: 30 | C9: 37.5 | D9: 158 | E9: 128 | F9: 29.6
A10: 3 | B10: 0 | C10: 35.3 | H10: 74.1 | I10: 73.4 | J10: =H10-I10 -> 0.7 | K10: =D13-D11 -> 20 | L10: =F13-F11 -> 7.3 | M10: =C13-C10 -> 2.4 | N10: 71.1 | O10: =F13/N10*100 -> 54.711674 | P10: 212 | Q10: =SUM(E11:E13)/3 -> 250.66667
B11: 10 | C11: 36.4 | D11: 152 | E11: 251 | F11: 31.6
B12: 20 | C12: 37.3 | D12: 160 | E12: 250 | F12: 36.9
B13: 30 | C13: 37.7 | D13: 172 | E13: 251 | F13: 38.9
A14: 4 | B14: 0
B15: 10
B16: 20
B17: 30
A18: 5 | B18: 0 | C18: 34.7 | H18: 94.3 | I18: 93.8 | J18: =H18-I18 -> 0.5 | K18: =D21-D19 -> 36 | L18: =F21-F19 -> 0.2 | M18: =C21-C18 -> 2.9 | N18: 46.9 | O18: =F21/N18*100 -> 57.356077 | P18: 131 | Q18: =SUM(E19:E21)/3 -> 168
B19: 10 | C19: 36.8 | D19: 142 | E19: 170 | F19: 26.7
B20: 20 | C20: 37.3 | D20: 160 | E20: 162 | F20: 32.8
B21: 30 | C21: 37.6 | D21: 178 | E21: 172 | F21: 26.9
A22: 6 | B22: 0 | C22: 37.2 | H22: 93.7 | I22: 93.2 | J22: =H22-I22 -> 0.5 | K22: =D25-D23 -> -8 | L22: =F25-F23 -> -2.9592926 | M22: =C25-C22 -> 1 | N22: 53.5 | O22: =F25/N22*100 -> 60.941936 | P22: 213 | Q22: =SUM(E23:E25)/3 -> 173
B23: 10 | C23: 37.2 | D23: 160 | E23: 200 | F23: 35.563228
B24: 20 | C24: 37.5 | D24: 165 | E24: 177 | F24: 36.096355
B25: 30 | C25: 38.2 | D25: 152 | E25: 142 | F25: 32.603936
A26: 7 | B26: 0 | C26: 34.8 | H26: 78.6 | I26: 78.3 | J26: =H26-I26 -> 0.3 | K26: =D29-D27 -> 10 | L26: =F29-F27 -> 4.4797941 | M26: =C29-C26 -> 3.1 | N26: 61.7 | O26: =F29/N26*100 -> 71.557339 | P26: 240 | Q26: =SUM(E27:E29)/3 -> 239.66667
B27: 10 | C27: 35.7 | D27: 140 | E27: 240 | F27: 39.671084
B28: 20 | C28: 36.7 | D28: 150 | E28: 239 | F28: 42.684286
B29: 30 | C29: 37.9 | D29: 150 | E29: 240 | F29: 44.150878
A30: 8 | B30: 0 | C30: 36.7 | H30: 88.8 | I30: 88.4 | J30: =H30-I30 -> 0.4 | K30: =D33-D31 -> 10 | L30: =F33-F31 -> 1.7191475 | M30: =C33-C30 -> 2 | N30: 49 | O30: =F33/N30*100 -> 79.972825 | P30: 212 | Q30: =SUM(E31:E33)/3 -> 212
B31: 10 | C31: 37.3 | D31: 150 | E31: 212 | F31: 37.467537
B32: 20 | C32: 38.3 | D32: 155 | E32: 212 | F32: 39.574647
B33: 30 | C33: 38.7 | D33: 160 | E33: 212 | F33: 39.186684
A34: 9 | B34: 0 | C34: 36.3 | H34: 58.3 | I34: 58 | J34: =H34-I34 -> 0.3 | K34: =D37-D35 -> 13 | L34: =F37-F35 -> 4.9190116 | M34: =C37-C34 -> 2 | N34: 50 | O34: =F37/N34*100 -> 85.771527 | P34: 115 | Q34: =SUM(E35:E37)/3 -> 116
B35: 10 | C35: 37.3 | D35: 178 | E35: 116 | F35: 37.966752
B36: 20 | C36: 37.9 | D36: 186 | E36: 116 | F36: 39.985164
B37: 30 | C37: 38.3 | D37: 191 | E37: 116 | F37: 42.885763
A38: 10 | B38: 0 | C38: 36 | H38: 76.7 | I38: 76.4 | J38: =H38-I38 -> 0.3 | K38: =D41-D39 -> 22 | L38: =F41-F39 -> 3.5627404 | M38: =C41-C38 -> 1.4 | N38: 42.9 | O38: =F41/N38*100 -> 86.000676 | P38: 131 | Q38: =SUM(E39:E41)/3 -> 128.66667
B39: 10 | C39: 37 | D39: 157 | E39: 128 | F39: 33.33155
B40: 20 | C40: 36.9 | D40: 168 | E40: 129 | F40: 37.452838
...

Sheet Normoxic
A1: Participant | B1: Time (mins) | C1: o2 sats | D1: HR (bpm) | E1: Power (W) | F1: VO2 (ml/kg/min) | G1: Weight pre (kg) | H1: Weight post (kg) | I1: Sweat loss (kg) | J1: HR Drift (bpm) | K1: VO2 Drift | L1: O2 diff | M1: VO2 Max | N1: % of VO2 Max | O1: Target W | P1: Actual W
A2: 1 | B2: 0 | G2: 67 | H2: 66.7 | I2: ='[3]Ambient test'!H2-'[3]Ambient test'!I2 -> 0.3 | J2: ='[3]Ambient test'!D5-'[3]Ambient test'!D3 -> 4 | K2: ='[3]Ambient test'!F5-'[3]Ambient test'!F3 -> -0.4 | L2: =C5-C3 -> -2 | M2: 42.6 | N2: =F5/M2*100 -> 66.666667 | O2: 130 | P2: =SUM(E3:E5)/3 -> 127.66667
B3: 10 | C3: 98 | D3: 150 | E3: 128 | F3: 28.8
B4: 20 | C4: 97 | D4: 149 | E4: 127 | F4: 25.5
B5: 30 | C5: 96 | D5: 154 | E5: 128 | F5: 28.4
A6: 2 | B6: 0 | G6: 71.1 | H6: 71 | I6: ='[3]Ambient test'!H6-'[3]Ambient test'!I6 -> 0.1 | J6: ='[3]Ambient test'!D9-'[3]Ambient test'!D7 -> 6 | K6: ='[3]Ambient test'!F9-'[3]Ambient test'!F7 -> 0.1 | L6: =C9-C7 -> -3 | M6: 45.6 | N6: =F9/M6*100 -> 74.780702 | O6: 130 | P6: =SUM(E7:E9)/3 -> 128
B7: 10 | C7: 99 | D7: 140 | E7: 129 | F7: 34
B8: 20 | C8: 97 | D8: 141 | E8: 128 | F8: 33.9
B9: 30 | C9: 96 | D9: 146 | E9: 127 | F9: 34.1
A10: 3 | B10: 0 | G10: 74.4 | H10: 73.8 | I10: =G10-H10 -> 0.6 | J10: =D13-D11 -> 14 | K10: =F13-F11 -> 4.1 | L10: =C13-C11 -> -3 | M10: 71.1 | N10: =F13/M10*100 -> 63.994374 | O10: 250 | P10: =SUM(E11:E13)/3 -> 251
B11: 10 | C11: 98 | D11: 149 | E11: 251 | F11: 41.4
B12: 20 | C12: 96 | D12: 159 | E12: 251 | F12: 45.9
B13: 30 | C13: 95 | D13: 163 | E13: 251 | F13: 45.5
A14: 4 | B14: 0 | G14: 72.4 | H14: 71.9 | I14: =G14-H14 -> 0.5 | J14: =D17-D15 -> 11 | K14: =F17-F15 -> 2.6 | L14: =C17-C15 -> -3 | M14: 54.3 | N14: =F17/M14*100 -> 67.219153 | O14: 168 | P14: =SUM(E15:E17)/3 -> 167.33333
B15: 10 | C15: 99 | D15: 142 | E15: 167 | F15: 33.9
B16: 20 | C16: 98 | D16: 149 | E16: 167 | F16: 35.6
B17: 30 | C17: 96 | D17: 153 | E17: 168 | F17: 36.5
A18: 5 | B18: 0 | G18: 93.7 | H18: 93.1 | I18: =G18-H18 -> 0.6 | J18: =D21-D19 -> 5 | K18: =F21-F19 -> 1.668259 | L18: =C21-C19 -> -4 | M18: 53.5 | N18: =F21/M18*100 -> 55.522623 | O18: 160 | P18: =SUM(E19:E21)/3 -> 160
B19: 10 | C19: 98 | D19: 139 | E19: 160 | F19: 28.036344
B20: 20 | C20: 90 | D20: 142 | E20: 160 | F20: 27.269992
B21: 30 | C21: 94 | D21: 144 | E21: 160 | F21: 29.704603
A22: 6 | B22: 0 | G22: 77.2 | H22: 77 | I22: =G22-H22 -> 0.2 | J22: =D25-D23 -> 11 | K22: =F25-F23 -> 0.62101529 | L22: =C25-C23 -> -3 | M22: 61.7 | N22: =F25/M22*100 -> 54.119985 | O22: 180 | P22: =SUM(E23:E25)/3 -> 179
B23: 10 | C23: 99 | D23: 124 | E23: 179 | F23: 32.771016
B24: 20 | C24: 97 | D24: 130 | E24: 179 | F24: 33.231768
B25: 30 | C25: 96 | D25: 135 | E25: 179 | F25: 33.392031
A26: 7 | B26: 0 | G26: 88.8 | H26: 88.5 | I26: =G26-H26 -> 0.3 | J26: =D29-D27 -> 3 | K26: =F29-F27 -> 1.5176658 | L26: =C29-C27 -> -2 | M26: 49 | N26: =F29/M26*100 -> 54.817703 | O26: 159 | P26: =SUM(E27:E29)/3 -> 158.33333
B27: 10 | C27: 98 | D27: 131 | E27: 159 | F27: 25.343008
B28: 20 | C28: 93 | D28: 126 | E28: 157 | F28: 25.714671
B29: 30 | C29: 96 | D29: 134 | E29: 159 | F29: 26.860674
A30: 8 | B30: 0 | G30: 58.8 | H30: 58.6 | I30: =G30-H30 -> 0.2 | J30: =D33-D31 -> 7 | K30: =F33-F31 -> 7.8619891 | L30: =C33-C31 -> 0 | M30: 50 | N30: =F33/M30*100 -> 66.027913 | O30: 86 | P30: =SUM(E31:E33)/3 -> 88.666667
B31: 10 | C31: 96 | D31: 140 | E31: 89 | F31: 25.151967
B32: 20 | C32: 95 | D32: 143 | E32: 88 | F32: 30.886888
B33: 30 | C33: 96 | D33: 147 | E33: 89 | F33: 33.013957
A34: 9 | B34: 0 | G34: 76.2 | H34: 76.1 | I34: =G34-H34 -> 0.1 | J34: =D37-D35 -> 14 | K34: =F37-F35 -> -0.05777256 | L34: =C37-C35 -> -2 | M34: 42.9 | N34: =F37/M34*100 -> 55.934422 | O34: 98 | P34: =SUM(E35:E37)/3 -> 99
B35: 10 | C35: 97 | D35: 117 | E35: 98 | F35: 24.05364
B36: 20 | C36: 96 | D36: 125 | E36: 98 | F36: 22.589049
B37: 30 | C37: 95 | D37: 131 | E37: 101 | F37: 23.995867
A38: 10 | B38: 0 | G38: 62.8 | H38: 62.5 | I38: =G38-H38 -> 0.3 | J38: =D41-D39 -> 4 | K38: =F41-F39 -> 0.32737016 | L38: =C41-C39 -> -1 | M38: 61 | N38: =F41/M38*100 -> 46.334906 | O38: 105 | P38: =SUM(E39:E41)/3 -> 105.33333
B39: 10 | C39: 96 | D39: 128 | E39: 106 | F39: 27.936922
B40: 20 | C40: 97 | D40: 126 | E40: 105 | F40: 30.359673
...

Sheet Hypoxic
A1: Participant | B1: Time (mins) | C1: O2 Sats | D1: HR (bpm) | E1: Power (W) | F1: Weight pre (kg) | G1: Weight post (kg) | H1: Sweat loss (kg) | I1: HR Drift (bpm) | J1: O2 Sats Diff % | K1: VO2 Max | L1: Target W | M1: Actual W
A2: 1 | B2: 0 | F2: 67.2 | G2: 67 | H2: =F2-G2 -> 0.2 | I2: =D5-D3 -> 5 | J2: =C5-C3 -> 0 | K2: 42.6 | L2: 130 | M2: =SUM(E3:E5)/3 -> 131.33333
B3: 10 | C3: 88 | D3: 153 | E3: 130
B4: 20 | C4: 86 | D4: 155 | E4: 129
B5: 30 | C5: 88 | D5: 158 | E5: 135
A6: 2 | B6: 0 | F6: 70 | G6: 68.9 | H6: =F6-G6 -> 1.1 | I6: =D9-D7 -> 8 | J6: =C9-C7 -> -2 | K6: 45.6 | L6: 130 | M6: =SUM(E7:E9)/3 -> 126.33333
B7: 10 | C7: 88 | D7: 150 | E7: 127
B8: 20 | C8: 87 | D8: 155 | E8: 126
B9: 30 | C9: 86 | D9: 158 | E9: 126
A10: 3 | B10: 0 | F10: 73.7 | G10: 72.9 | H10: =F10-G10 -> 0.8 | I10: =D13-D11 -> 10 | J10: =C13-C11 -> -1 | K10: 71.1 | L10: 250 | M10: =SUM(E11:E13)/3 -> 250.66667
B11: 10 | C11: 85 | D11: 166 | E11: 250
B12: 20 | C12: 87 | D12: 171 | E12: 250
B13: 30 | C13: 84 | D13: 176 | E13: 252
A14: 4 | B14: 0 | F14: 72.9 | G14: 72.5 | H14: =F14-G14 -> 0.4 | I14: =D17-D15 -> 9 | J14: =C17-C15 -> 1 | K14: 54.3 | L14: 168 | M14: =SUM(E15:E17)/3 -> 167
B15: 10 | C15: 89 | D15: 149 | E15: 166
B16: 20 | C16: 87 | D16: 157 | E16: 168
B17: 30 | C17: 90 | D17: 158 | E17: 167
A18: 5 | B18: 0 | F18: 94.4 | G18: 94 | H18: =F18-G18 -> 0.4 | I18: =D21-D19 -> 9 | J18: =C21-C19 -> -2 | K18: 53.5 | L18: 175 | M18: =SUM(E19:E21)/3 -> 160.33333
B19: 10 | C19: 88 | D19: 146 | E19: 161
B20: 20 | C20: 87 | D20: 151 | E20: 160
B21: 30 | C21: 86 | D21: 155 | E21: 160
A22: 6 | B22: 0 | F22: 77.9 | G22: 77.7 | H22: =F22-G22 -> 0.2 | I22: =D25-D23 -> 9 | J22: =C25-C23 -> -10 | K22: 61.7 | L22: 180 | M22: =SUM(E23:E25)/3 -> 180
B23: 10 | C23: 89 | D23: 136 | E23: 180
B24: 20 | C24: 80 | D24: 141 | E24: 180
B25: 30 | C25: 79 | D25: 145 | E25: 180
A26: 7 | B26: 0 | F26: 88.1 | G26: 87.8 | H26: =F26-G26 -> 0.3 | I26: =D29-D27 -> 4 | J26: =C29-C27 -> 5 | K26: 49 | L26: 159 | M26: =SUM(E27:E29)/3 -> 156.66667
B27: 10 | C27: 86 | D27: 139 | E27: 158
B28: 20 | C28: 94 | D28: 139 | E28: 156
B29: 30 | C29: 91 | D29: 143 | E29: 156
A30: 8 | B30: 0 | F30: 59.2 | G30: 58.9 | H30: =F30-G30 -> 0.3 | I30: =D33-D31 -> 19 | J30: =C33-C31 -> 0 | K30: 50 | L30: 86 | M30: =SUM(E31:E33)/3 -> 87.333333
B31: 10 | C31: 88 | D31: 142 | E31: 88
B32: 20 | C32: 86 | D32: 153 | E32: 87
B33: 30 | C33: 88 | D33: 161 | E33: 87
A34: 9 | B34: 0 | F34: 76.5 | G34: 76.2 | H34: =F34-G34 -> 0.3 | I34: =D37-D35 -> 5 | J34: =C37-C35 -> 0 | K34: 42.9 | L34: 98 | M34: =SUM(E35:E37)/3 -> 97
B35: 10 | C35: 88 | D35: 139 | E35: 97
B36: 20 | C36: 85 | D36: 141 | E36: 97
B37: 30 | C37: 88 | D37: 144 | E37: 97
A38: 10 | B38: 0 | F38: 63.2 | G38: 63 | H38: =F38-G38 -> 0.2 | I38: =D41-D39 -> 8 | J38: =C41-C39 -> 1 | K38: 61 | L38: 105 | M38: =SUM(E39:E41)/3 -> 105.33333
B39: 10 | C39: 89 | D39: 140 | E39: 105
B40: 20 | C40: 86 | D40: 145 | E40: 105
...
