Workbook

Sheet Ledger
A1: Account Name | C1: Opening Balances | E1: Sales Day Book | G1: Purchase Day Book | I1: Cash Receipts | K1: Cash Payments | M1: Petty Cash Book | O1: Draft Balances | Q1: Adjustments | S1: Profit and Loss | U1: Balance Sheet
C2: DR | D2: CR | E2: DR | F2: CR | G2: DR | H2: CR | I2: DR | J2: CR | K2: DR | L2: CR | M2: DR | N2: CR | O2: DR | P2: CR | Q2: DR | R2: CR | S2: DR | T2: CR | U2: DR | V2: CR
A6: Capital | B6: B | D6: 44161 | J6: =CBR!H20 -> 12000 | P6: =SUM(D6+F6+H6+J6+L6+N6)-(C6+E6+G6+I6+K6+M6) -> 56161 | Q6: 220 | V6: 56381
A7: Bank Account | B7: B | C7: 4010 | I7: =CBR!G15 -> 34240 | L7: =CBP!H23 -> 9276 | O7: =SUM(C7+E7+G7+I7+K7+M7)-(D7+F7+H7+J7+L7+N7) -> 28974 | U7: 28974
A8: Cash in Hand | B8: B | C8: 675 | K8: =CBP!G21 -> 308 | N8: =PCB!D9 -> 308 | O8: =SUM(C8+E8+G8+I8+K8+M8)-(D8+F8+H8+J8+L8+N8) -> 675 | U8: =SUM(I8+K8+M8+O8+Q8+S8)-(J8+L8+N8+P8+R8+T8) -> 675
A9: Trade Debtors | B9: B | C9: 11583 | E9: =SDB!F14 -> 25914 | J9: =CBR!F12+CBR!J12 -> 11583 | O9: =SUM(C9+E9+G9+I9+K9+M9)-(D9+F9+H9+J9+L9+N9) -> 25914 | U9: 25.914.0
A10: Trade Creditors | B10: B | D10: 2896 | H10: =PDB!H24 -> 49023 | K10: =CBP!F15+CBP!I15 -> 5209 | P10: =SUM(D10+F10+H10+J10+L10+N10)-(C10+E10+G10+I10+K10+M10) -> 46710 | V10: 46710
A11: Bank Loan | B11: B | D11: 15741 | P11: =SUM(D11+F11+H11+J11+L11+N11)-(C11+E11+G11+I11+K11+M11) -> 15741 | V11: =SUM(J11+L11+N11+P11+R11+T11)-(I11+K11+M11+O11+Q11+S11) -> 15741
A12: VAT Controlled Account | B12: B | D12: 2005 | F12: =SDB!E11 -> 4319 | G12: =PDB!G21 -> 8083 | J12: =CBR!H17 -> 1990 | K12: =CBP!G18 -> 2005 | M12: =PCB!F15 -> 28 | O12: =SUM(C12+E12+G12+I12+K12+M12)-(D12+F12+H12+J12+L12+N12) -> 1802 | U12: 1802
A13: Accured Telephone | B13: P | D13: 134 | G13: =PDB!G19 -> 440 | O13: =SUM(C13+E13+G13+I13+K13+M13)-(D13+F13+H13+J13+L13+N13) -> 306 | Q13: 60 | S13: 366
A14: Accured Electicity | B14: P | D14: 111 | G14: =PDB!I8 -> 400 | O14: 289 | Q14: 120 | S14: 409
A15: Accured Gas | B15: P | D15: 119 | G15: =PDB!G20 -> 300 | O15: =SUM(C15+E15+G15+I15+K15+M15)-(D15+F15+H15+J15+L15+N15) -> 181 | Q15: 240 | S15: 421
A16: Stock | B16: P | C16: 13481 | O16: =SUM(C16+E16+G16+I16+K16+M16)-(D16+F16+H16+J16+L16+N16) -> 13481 | Q16: 2359 | S16: 15840 | U16: 15840
A17: Fixtures and Equipment - Cost | B17: B | C17: 25394 | G17: =PDB!G22 -> 6400 | O17: =SUM(C17+E17+G17+I17+K17+M17)-(D17+F17+H17+J17+L17+N17) -> 31794 | U17: 31794
A18: Fixtures and Equipment - Depreciation | B18: B | D18: 9578 | P18: =SUM(D18+F18+H18+J18+L18+N18)-(C18+E18+G18+I18+K18+M18) -> 9578 | R18: 3179.4 | V18: 12757
A20: Motor Vehicles - Cost | B20: B | C20: 27176 | G20: =PDB!L13 -> 14850 | O20: =SUM(C20+E20+G20+I20+K20+M20)-(D20+F20+H20+J20+L20+N20) -> 42026 | U20: 42026
A21: Motor Vehicles - Depreciation | B21: B | D21: 7574 | P21: =SUM(D21+F21+H21+J21+L21+N21)-(C21+E21+G21+I21+K21+M21) -> 7574 | R21: 8405.2 | V21: 15979
A23: Sales | B23: P | F23: =SDB!G16 -> 21595 | J23: =CBR!H19 -> 9950 | P23: =SUM(D23+F23+H23+J23+L23+N23)-(C23+E23+G23+I23+K23+M23) -> 31545 | T23: 31545
A24: Purchases | B24: P | G24: =PDB!F16 -> 17500 | O24: =SUM(C24+E24+G24+I24+K24+M24)-(D24+F24+H24+J24+L24+N24) -> 17500 | S24: 17500
A25: Discounts | B25: P | I25: =CBR!N17 -> 1283 | O25: =SUM(C25+E25+G25+I25+K25+M25)-(D25+F25+H25+J25+L25+N25) -> 1283 | S25: 1283
A26: Rates | B26: P | Q26: 900 | S26: 900
A27: Discounts Received | B27: P | L27: =CBP!N23 -> 446 | P27: =SUM(D27+F27+H27+J27+L27+N27)-(C27+E27+G27+I27+K27+M27) -> 446 | T27: 446
A28: Advertising | B28: P | M28: =PCB!F17 -> 140 | O28: =SUM(C28+E28+G28+I28+K28+M28)-(D28+F28+H28+J28+L28+N28) -> 140 | S28: 140
A29: Stamps | B29: P | M29: =PCB!F16 -> 140 | O29: =SUM(C29+E29+G29+I29+K29+M29)-(D29+F29+H29+J29+L29+N29) -> 140 | S29: 140
A30: Legal Fees | B30: P | G30: =PDB!J9 -> 1050 | O30: =SUM(C30+E30+G30+I30+K30+M30)-(D30+F30+H30+J30+L30+N30) -> 1050 | S30: 1050
A31: Insurance | B31: P | K31: =CBP!G6 -> 2200 | O31: =SUM(C31+E31+G31+I31+K31+M31)-(D31+F31+H31+J31+L31+N31) -> 2200 | R31: 2200 | S31: 0
A33: Dep'n Exp (FP) | B33: P | Q33: 3179.4 | S33: 3179.4
A34: Dep'n Exp (MV) | B34: P | Q34: 8405.2 | S34: 8405.2
A35: Closing Stock (BS) | B35: B | Q35: 15840 | U35: 15840
A36: Closing Stock (P&L) | B36: P | R36: 15840 | T36: 15840
A37: Accurals | B37: B | R37: 420 | V37: 420
A38: Pre Payments | B38: B | Q38: 900 | U38: 900
A39: Drawings | B39: P | R39: 220 | T39: 220
S41: =SUM(S33:S40) -> 11584.6 | T41: =SUM(T33:T40) -> 16060
S42: =SUM(T41-S41) -> 4475.4
A44: Profit for the period
C46: =SUM(C4:C31) -> 82319 | D46: =SUM(D3:D31) -> 82319 | E46: =SUM(E3:E31) -> 25914 | F46: =SUM(F3:F31) -> 25914 | G46: =SUM(G3:G31) -> 49023 | H46: =SUM(H3:H31) -> 49023 | I46: =SUM(I3:I31) -> 35523 | J46: =SUM(J3:J31) -> 35523 | K46: =SUM(K3:K31) -> 9722 | ... N46: =SUM(N3:N31) -> 308 | O46: =SUM(O3:O45) -> 167755 | P46: =SUM(P3:P31) -> 167755 | Q46: =SUM(Q3:Q39) -> 32223.6 | R46: =SUM(R3:R39) -> 30264.6 | S46: =SUM(S3:S31) -> 38049 | T46: =SUM(T3:T31) -> 31991 | U46: =SUM(U3:U31) -> 121111 | V46: =SUM(V3:V31) -> 147568
O47: 167.909 | S47: 9624 | T47: 9624 | U47: 65785
A49: Profit
C51: DR | D51: CR
...

Sheet Accounts
A1: Balance Sheet at 31 03 2021
D3: Cost | E3: Provision fo Dep'n | F3: NBV
D4: £ | E4: £ | F4: £
A5: Fixed Assets
A6: Freehold Property | D6: =Ledger!U17 -> 31794 | E6: =Ledger!Q33 -> 3179.4 | F6: =SUM(D6-E6) -> 28614.6
A7: Motor Vehicles | D7: =Ledger!U20 -> 42026 | E7: =Ledger!Q34 -> 8405.2 | F7: =SUM(D7-E7) -> 33620.8
F8: =SUM(F6:F7) -> 62235.4
A10: Current Assets
A11: Stock | E11: =Ledger!T36 -> 15840
A12: Trade Debtors | E12: =Ledger!U9 -> 25.914.0
A13: Prepayments | E13: =Ledger!Q38 -> 900
A14: Bank Current Account | E14: =Ledger!U7 -> 28974
A15: Cash in Hand | E15: =Ledger!U8 -> 675
E16: =SUM(E11:E15) -> 46389
A18: Current Liabilities
A19: Trade Creditors | E19: =Ledger!V10 -> 46710
A20: VAT Control Account | E20: =Ledger!U12 -> 1802
A21: Accruals | E21: =Ledger!V37 -> 420
F22: =SUM(E19:E21) -> 48932
A23: Net Current Assets | G23: =SUM(E16-F22) -> -2543
G27: =SUM(F8-G23) -> 64778.4
A29: Represented by
A31: Capital | G31: =Ledger!V6 -> 56381
A32: Profit fo the year | G32: =Ledger!S42 -> 4475.4
A33: Less - Drawings | G33: -220
G35: =SUM(G31:G33) -> 60636.4
A36: Trading and Profit and Loss Account fot the month ended xx xx 20xx
A40: Sales | G40: =Ledger!T23 -> 31545
A42: Less cost of goods sold
A43: Opening Stock | F43: =Ledger!C16 -> 13481
A44: Purchases | F44: =Ledger!S24 -> 17500
A45: Less - Closing Stock | F45: -15840
G46: =SUM(F43:F45) -> 15141
A48: Gross Profit | G48: =SUM(G40-G46) -> 16404
A50: Sundry Income
A51: Discount Received | G51: =Ledger!T27 -> 446
G53: =SUM(G48+G51) -> 16850
A55: Less - Expenses
A56: Telephone | F56: =Ledger!S13 -> 366
A57: Gas | F57: =Ledger!S15 -> 421
...

Sheet SDB
A1: Sales Day Book
A3: Date | B3: Customer | D3: Total | E3: VAT | F3: Net
D4: £ | E4: £ | F4: £
A5: 44202 | B5: Black | D5: =SUM(E5:F5) -> 12474 | E5: 2079 | F5: 10395
A6: 44209 | B6: Orange | D6: =SUM(E6:F6) -> 5568 | E6: 928 | F6: 4640
A7: 44255 | B7: Silver | D7: =SUM(E7:F7) -> 1440 | E7: 240 | F7: 1200
A8: 44255 | B8: Orange | D8: =SUM(E8:F8) -> 2940 | E8: 490 | F8: 2450
A9: 44278 | B9: Black | D9: =SUM(E9:F9) -> 3492 | E9: 582 | F9: 2910
D11: =SUM(D5:D9) -> 25914 | E11: =SUM(E5:E9) -> 4319 | F11: =SUM(F5:F9) -> 21595
D14: DR | E14: Debtors | F14: =D11 -> 25914
D16: CR | E16: Sales | G16: =F11 -> 21595
E17: VAT a/c | G17: =E11 -> 4319

Sheet PDB
A1: Purchase Day Book
A3: Date | B3: Narrative | D3: Total | E3: VAT | F3: Purchases | G3: Telephone | H3: Gas | I3: Elcecticity | J3: Legal | K3: Fictures & Fittings | L3: MV Costs | M3: Credit Purchases
D4: £ | E4: £ | F4: £ | G4: £ | H4: £
A5: 44202 | B5: White | D5: =SUM(E5:F5) -> 7488 | E5: 1248 | F5: 6240 | M5: 7488
A6: 44227 | B6: Telephone | D6: 528 | E6: 88 | G6: 440
A7: 44227 | B7: Gas | D7: 315 | E7: 15 | H7: 300
A8: 44230 | B8: Electricity | D8: 420 | E8: 20 | I8: 400
A9: 44237 | B9: Legal | D9: 1260 | E9: 210 | J9: 1050
A10: 44264 | B10: Equipment | D10: 7680 | E10: 1280 | K10: 6400
A11: 44268 | B11: Yellow | D11: =SUM(E11:H11) -> 5736 | E11: 956 | F11: 4780 | M11: 5736
A12: 44271 | B12: White | D12: =SUM(E12:H12) -> 7776 | E12: 1296 | F12: 6480 | M12: 7776
A13: 44281 | B13: Vehicle | D13: =SUM(E13:L13) -> 17820 | E13: 2970 | L13: 14850 | M13: =SUM(M4:M12) -> 21000
D16: =SUM(D5:D13) -> 49023 | E16: =SUM(E5:E13) -> 8083 | F16: =SUM(F5:F13) -> 17500 | G16: =SUM(G5:G13) -> 440 | H16: =SUM(H5:H13) -> 300 | I16: =SUM(I5:I13) -> 400 | J16: =SUM(J5:J13) -> 1050 | K16: =SUM(K5:K13) -> 6400
D18: DR | E18: Purchases | G18: =F16 -> 17500
E19: Telephone | G19: =G16 -> 440
E20: Gas | G20: =H16 -> 300
E21: VAT a/c | G21: =E16 -> 8083
E22: Fictures & Fittings | G22: =K16 -> 6400
D24: CR | E24: Creditors | H24: =D16 -> 49023

Sheet CBP
A1: Cash Book(Payments)
A3: Date | B3: Narrative | D3: Total | E3: VAT | F3: To Creditors | G3: Insurance | H3: Petty Cash | I3: Discount Received
D4: £ | E4: £ | F4: £ | H4: £
A5: 44209 | B5: Grey | D5: 700 | F5: 700 | I5: 117
A6: 44209 | B6: Insurance | D6: 2200 | G6: 2200
A7: 44227 | B7: HM Customs and Excise | D7: 2005 | E7: 2005
A8: 44230 | B8: Electricity | D8: 420 | F8: 420
A9: 44237 | B9: Legal | D9: =SUM(E9:H9) -> 1050 | F9: 1050
A10: 44237 | B10: Gas | D10: 315 | F10: 315
A11: 44237 | B11: Telephone | D11: 528 | F11: 528
A12: 44255 | B12: Yellow | D12: 250 | F12: 250 | I12: 32
A13: 44264 | B13: White | D13: 1500 | F13: 1500 | I13: 297
A14: 44282 | B14: Petty Cash | D14: 308 | H14: 308
D15: =SUM(D5:D14) -> 9276 | E15: =SUM(E5:E14) -> 2005 | F15: =SUM(F5:F14) -> 4763 | G15: =SUM(G5:G14) -> 2200 | H15: =SUM(H5:H14) -> 308 | I15: =SUM(I5:I14) -> 446
D18: DR | E18: VAT a/c | G18: =E15 -> 2005 | I18: DR | J18: Creditors | M18: =I15 -> 446
E19: Creditors | G19: =F15 -> 4763
E20: Rates | G20: =G15 -> 2200
E21: Petty Cash | G21: =H15 -> 308
D23: CR | E23: Bank | H23: =D15 -> 9276 | I23: CR | J23: Discount Recived | N23: 446

Sheet CBR
A1: Cash Book(Receipts)
A3: Date | B3: Narrative | D3: Total | E3: VAT | F3: From Debtors | G3: Sales | H3: Investors | J3: Discount Allowed
D4: £ | E4: £ | F4: £ | G4: £
A5: 44202 | B5: Cash Sales | D5: 4812 | E5: 802 | G5: 4010
A6: 44205 | B6: Claret | D6: 2900 | F6: 2900 | J6: 218
A7: 44206 | B7: Black | D7: 2400 | F7: 2400 | J7: 125
A8: 44255 | B8: Investors | D8: 12000 | H8: 12000
A9: 44257 | B9: Orange | D9: 5000 | F9: 5000 | J9: 940
A10: 44257 | B10: Cash Sales | D10: 5346 | E10: 891 | G10: 4455
A11: 44264 | B11: Cash Sales | D11: 1782 | E11: 297 | G11: 1485
D12: =SUM(D5:D11) -> 34240 | E12: =SUM(E5:E11) -> 1990 | F12: =SUM(F5:F11) -> 10300 | G12: =SUM(G5:G11) -> 9950 | H12: =SUM(H5:H11) -> 12000 | J12: =SUM(J5:J11) -> 1283
D15: DR | E15: Bank | G15: =D12 -> 34240 | J15: DR | K15: Discount Allowed | M15: =SUM(J5:J10) -> 1283
D17: CR | E17: VAT a/c | H17: =E12 -> 1990 | J17: CR | K17: Debtors | N17: 1283
E18: Debtors | H18: =F12 -> 10300
E19: Sales | H19: =G12 -> 9950
E20: Investors | H20: =H12 -> 12000

Sheet PCB
A1: Petty Cash Book
A3: Receipts | B3: Date | C3: Narrative | D3: Total | E3: VAT | F3: Stamps | G3: Advertising
A5: 650 | C5: Bal b/f
B6: 44204 | C6: Stamps | D6: 70 | F6: 70
B7: 44227 | C7: Advertising | D7: 168 | E7: 28 | G7: 140
B8: 44230 | C8: Stamps | D8: 70 | F8: 70
A9: 650 | D9: =SUM(D5:D8) -> 308 | E9: =SUM(E5:E8) -> 28 | F9: =SUM(F5:F8) -> 140 | G9: =SUM(G5:G8) -> 140
A12: 238 | B12: 44197 | C12: Bal c/f
A13: 342 | B13: 44286 | C13: Bank
C15: DR | D15: VAT a/c | F15: =E9 -> 28
D16: Stamps | F16: =F9 -> 140
D17: Advertising | F17: =G9 -> 140
C19: CR | G19: 308

Sheet VAT Calculator
A1: Including VAT (20%) | F1: Excluding (5%)
A3: Calc of figure before VAT | B3: Formula (don't delete) | D3: Input Figure inc VAT | E3: VAT | F3: Input figure before VAT | G3: Formula (don't delete) | I3: VAT | J3: Total
A4: =SUM(B4/C4*D4) -> 1485 | B4: 100 | C4: 120 | D4: 1782 | E4: =SUM(D4-A4) -> 297 | F4: 300 | G4: 5 | H4: 100 | I4: =SUM(G4/H4*F4) -> 15 | J4: =SUM(F4+I4) -> 315
A6: Plus VAT (20%)
A8: Input Figure before VAT | B8: Formula (don't delete) | D8: VAT | E8: Total
A9: 400 | B9: 20 | C9: 100 | D9: =SUM(B9/C9*A9) -> 80 | E9: =SUM(A9+D9) -> 480

Sheet Depreciation Calculator
A1: Straight Line (on Cost)
A2: Nominal Ledger
A3: Dr | B3: Depreciation (Expense) | D3: Depreciation | E3: 0.2 | G3: % | H3: Calc | I3: Figure | J3: Value
A4: Date 31.03.2021 | B4: Details | C4: £42,026.00 | D4: 42026 | E4: Date | G4: 20 | H4: 100 | I4: 42026 | J4: =SUM(G4/H4*I4) -> 8405.2
A5: End of Year 1 | B5: Annual Expense | C5: 8405.2 | D5: =SUM(D4-C5) -> 33620.8 | E5: End of Year 1
A6: End of Year 2 | B6: Annual Expense | C6: 8405.2 | D6: =SUM(D5-C6) -> 25215.6 | E6: End of Year 2
A7: End of Year 3 | B7: Annual Expense | C7: 8405.2 | D7: =SUM(D6-C7) -> 16810.4 | E7: End of Year 3
A8: End of Year 4 | B8: Annual Expense | C8: 8405.2 | D8: =SUM(D7-C8) -> 8405.2 | E8: End of Year 4
A9: End of Year 5 | B9: Annual Expense | C9: 8405.2 | D9: =SUM(D8-C9) -> 0 | E9: End of Year 5
A11: Reducing Balance
A12: Nominal Ledger | G12: % | H12: Calc | I12: Figure | J12: Value
A13: Dr | B13: Depreciation (Expense) 10% | G13: 10 | H13: 100 | I13: 20860.74 | J13: =SUM(G13/H13*I13) -> 2086.074
A14: Date 31.03. | B14: Details | C14: £31,794.00 | D14: £31,794.00 | E14: Date
A15: End of Year 1 | B15: Annual Expense | C15: £3,179.40 | E15: End of Year 1 | F15: 28615
A16: End of Year 2 | B16: Annual Expense | C16: £2,861.50 | E16: End of Year 2 | F16: £25,754
A17: End of Year 3 | B17: Annual Expense | C17: £2,575.40 | E17: End of Year 3 | F17: 23178.6
A18: End of Year 4 | B18: Annual Expense | C18: £2,317.86 | E18: End of Year 4 | F18: £20,860.74
A19: End of Year 5 | B19: Annual Expense | C19: £2,086.07 | E19: End of Year 5 | F19: £18,774.67
A22: Dr | B22: Provision for Depreciation
A23: Date | B23: Details | C23: £ | E23: Date
A24: End of Year 1 | B24: Balance c/d | C24: 30000 | E24: End of Year 1
E25: Start of Year 2
A26: End of Year 2 | B26: Balance c/d | C26: 51000 | E26: End of Year 2
C27: 51000
E28: Start of Year 3
A29: End of Year 3 | B29: Balance c/d | C29: 65700 | E29: End of Year 3
C30: 65700
E31: Start of Year 4
A32: End of Year 3 | B32: Balance c/d | C32: 75990 | E32: End of Year 4
C33: 75990
E34: Start of Year 5
A35: End of Year 5 | B35: Balance c/d | C35: 83193 | E35: End of Year 5
C36: 83193
A38: Balance Sheet (extract)
A39: Fixed Assets | E39: Cost
A40: Machinery | E40: £
B41: End of Year 1 | E41: 100000
B42: End of Year 2 | E42: 100000
B43: End of Year 3 | E43: 100000
B44: End of Year 4 | E44: 100000
...

Sheet Creditors and Debtors
A1: Debtors
B2: Opening Balance | C2: Payments | D2: Discount
A3: Claret | B3: 3118 | C3: 2900 | D3: =SUM(B3-C3) -> 218
A4: Orange | B4: 5940 | C4: 5000 | D4: =SUM(B4-C4) -> 940
A5: Black | B5: 2525 | C5: 2400 | D5: =SUM(B5-C5) -> 125
A8: Creditors
B9: Opening Balance | C9: Payments | D9: Discount/left over
A10: Grey | B10: 817 | C10: 700 | D10: =SUM(B10-C10) -> 117
A11: Yellow | B11: 282 | C11: 250 | D11: =SUM(B11-C11) -> 32
A12: White | B12: 1797 | C12: 1500 | D12: =SUM(B12-C12) -> 297

Sheet Sheet3
A1: 6 -made cash sales of £4812 including VAT which were immediately banked
A2: 6 - sold goods of £10395 plus VAT to Black on credit
A3: 6 - purchased goods of £6240 plus VAT from White on credit
A4: 8 - spent £70 petty cash on stamps. There is no VAT on this transaction
A6: 9 - received a cheque of £2900 from Claret in full settlement of his opening balance, the remainder
A7: of the balance being given as a discount
A9: 10 - received a cheque of £2400 from Black in full settlement of his opening balance
A11: 13 - paid Grey a cheque of £700 in full settlement of his opening balance
A13: 13 - paid annual insurance premium of £2200 by cheque. There was no VAT on this transaction
A15: 13 - sold goods of £4640 plus VAT to Orange on credit
A17: 31 - paid the outstanding VAT liability of £2005 to HM Customs and Excise
A19: 31 - paid advertising costs of £168 including VAT out of petty cash
... A71: 27 - reimbursed petty cash float to top back up to £675. This was done by cashing a cheque

Sheet Sheet1
