Workbook

Sheet Vertical Loads
A1: Mass | B1: Wheelbase | C1: Centre of Gravity Height | D1: Static Weight Distribution (Front) | E1: Static Weight Distribution (Left) | F1: Cl | G1: A | H1: Air Density | I1: Centre of Pressure | J1: Average Track | K1: Maximum G
A2: kg | B2: m | C2: m | D2: % Front | E2: % Left | G2: m^2 | H2: kg/m^3 | I2: % Front | J2: m | K2: G
A3: 628 | B3: 2.8 | C3: 0.36 | D3: 47 | E3: 51 | F3: -0.62 | G3: 1.2 | H3: 1.223 | I3: 42 | J3: 1.62 | K3: 1.5
B7: Static vertical loads (N) | F7: Aero Load (N) @ 30m/s
B8: FR | C8: FL | D8: RR | E8: RL
B9: =A3*(D3/100)*0.49*9.81 -> 1418.8046 | C9: =A3*(D3/100)*0.51*9.81 -> 1476.715 | D9: =A3*0.53*0.49*9.81 -> 1599.9286 | E9: =A3*0.53*0.51*9.81 -> 1665.2318 | F9: =(F3)*(0.5*H3*30^2)*(G3) -> -409.4604
B13: Accelerations | F13: Load Transfer | H13: Acceleration vertical loads (N)
B14: Velocity m/s | C14: Aero Load (N) | D14: Lat G | E14: Long G | F14: Lat Transfer | G14: Long Transfer | H14: FR | I14: FL | J14: RR | K14: RL
B15: 30 | C15: =($F$3)*(0.5*$H$3*B15^2)*($G$3) -> -409.4604 | D15: 1.5 | E15: 0 | F15: =($A$3*(D15*9.81)*$C$3)/$J$3 -> 2053.56 | G15: 0 | H15: =$B$9+(F15*0.49)-(($F$9/2)*0.42) -> 2511.0357 | I15: =$C$9+(F15*0.51)-(($F$9/2)*0.42) -> 2610.0173 | J15: =$D$9+(F15*0.49)-(($F$9/2)*0.58) -> 2724.9165 | K15: =$E$9+(F15*0.51)-(($F$9/2)*0.58) -> 2831.2909
B16: 30 | C16: =($F$3)*(0.5*$H$3*B16^2)*($G$3) -> -409.4604 | D16: 1.35 | E16: 0 | F16: =($A$3*(D16*9.81)*$C$3)/$J$3 -> 1848.204 | G16: 0 | H16: =$B$9+(F16*0.49)-(($F$9/2)*0.42) -> 2410.4112 | I16: =$C$9+(F16*0.51)-(($F$9/2)*0.42) -> 2505.2857 | J16: =$D$9+(F16*0.49)-(($F$9/2)*0.58) -> 2624.2921 | K16: =$E$9+(F16*0.51)-(($F$9/2)*0.58) -> 2726.5594
B17: 30 | C17: =($F$3)*(0.5*$H$3*B17^2)*($G$3) -> -409.4604 | D17: 1.05 | E17: 0 | F17: =($A$3*(D17*9.81)*$C$3)/$J$3 -> 1437.492 | G17: 0 | H17: =$B$9+(F17*0.49)-(($F$9/2)*0.42) -> 2209.1624 | I17: =$C$9+(F17*0.51)-(($F$9/2)*0.42) -> 2295.8226 | J17: =$D$9+(F17*0.49)-(($F$9/2)*0.58) -> 2423.0432 | K17: =$E$9+(F17*0.51)-(($F$9/2)*0.58) -> 2517.0962
B18: 30 | C18: =($F$3)*(0.5*$H$3*B18^2)*($G$3) -> -409.4604 | D18: 0.9 | E18: 0 | F18: =($A$3*(D18*9.81)*$C$3)/$J$3 -> 1232.136 | G18: 0 | H18: =$B$9+(F18*0.49)-(($F$9/2)*0.42) -> 2108.5379 | I18: =$C$9+(F18*0.51)-(($F$9/2)*0.42) -> 2191.091 | J18: =$D$9+(F18*0.49)-(($F$9/2)*0.58) -> 2322.4188 | K18: =$E$9+(F18*0.51)-(($F$9/2)*0.58) -> 2412.3647
B19: 30 | C19: =($F$3)*(0.5*$H$3*B19^2)*($G$3) -> -409.4604 | D19: 0.75 | E19: 0 | F19: =($A$3*(D19*9.81)*$C$3)/$J$3 -> 1026.78 | G19: 0 | H19: =$B$9+(F19*0.49)-(($F$9/2)*0.42) -> 2007.9135 | I19: =$C$9+(F19*0.51)-(($F$9/2)*0.42) -> 2086.3595 | J19: =$D$9+(F19*0.49)-(($F$9/2)*0.58) -> 2221.7943 | K19: =$E$9+(F19*0.51)-(($F$9/2)*0.58) -> 2307.6331
B20: 30 | C20: =($F$3)*(0.5*$H$3*B20^2)*($G$3) -> -409.4604 | D20: 0.6 | E20: 0 | F20: =($A$3*(D20*9.81)*$C$3)/$J$3 -> 821.424 | G20: 0 | H20: =$B$9+(F20*0.49)-(($F$9/2)*0.42) -> 1907.289 | I20: =$C$9+(F20*0.51)-(($F$9/2)*0.42) -> 1981.6279 | J20: =$D$9+(F20*0.49)-(($F$9/2)*0.58) -> 2121.1699 | K20: =$E$9+(F20*0.51)-(($F$9/2)*0.58) -> 2202.9016
B21: 30 | C21: =($F$3)*(0.5*$H$3*B21^2)*($G$3) -> -409.4604 | D21: 0.45 | E21: 0 | F21: =($A$3*(D21*9.81)*$C$3)/$J$3 -> 616.068 | G21: 0 | H21: =$B$9+(F21*0.49)-(($F$9/2)*0.42) -> 1806.6646 | I21: =$C$9+(F21*0.51)-(($F$9/2)*0.42) -> 1876.8964 | J21: =$D$9+(F21*0.49)-(($F$9/2)*0.58) -> 2020.5454 | K21: =$E$9+(F21*0.51)-(($F$9/2)*0.58) -> 2098.17
B22: 30 | C22: =($F$3)*(0.5*$H$3*B22^2)*($G$3) -> -409.4604 | D22: 0.3 | E22: 0 | F22: =($A$3*(D22*9.81)*$C$3)/$J$3 -> 410.712 | G22: 0 | H22: =$B$9+(F22*0.49)-(($F$9/2)*0.42) -> 1706.0402 | I22: =$C$9+(F22*0.51)-(($F$9/2)*0.42) -> 1772.1648 | J22: =$D$9+(F22*0.49)-(($F$9/2)*0.58) -> 1919.921 | K22: =$E$9+(F22*0.51)-(($F$9/2)*0.58) -> 1993.4384
B23: 30 | C23: =($F$3)*(0.5*$H$3*B23^2)*($G$3) -> -409.4604 | D23: 0.15 | E23: 0 | F23: =($A$3*(D23*9.81)*$C$3)/$J$3 -> 205.356 | G23: 0 | H23: =$B$9+(F23*0.49)-(($F$9/2)*0.42) -> 1605.4157 | I23: =$C$9+(F23*0.51)-(($F$9/2)*0.42) -> 1667.4332 | J23: =$D$9+(F23*0.49)-(($F$9/2)*0.58) -> 1819.2966 | K23: =$E$9+(F23*0.51)-(($F$9/2)*0.58) -> 1888.7069
B24: 30 | C24: =($F$3)*(0.5*$H$3*B24^2)*($G$3) -> -409.4604 | D24: 0 | E24: 0 | F24: =($A$3*(D24*9.81)*$C$3)/$J$3 -> 0 | G24: 0 | H24: =$B$9+(F24*0.49)-(($F$9/2)*0.42) -> 1504.7913 | I24: =$C$9+(F24*0.51)-(($F$9/2)*0.42) -> 1562.7017 | J24: =$D$9+(F24*0.49)-(($F$9/2)*0.58) -> 1718.6721 | K24: =$E$9+(F24*0.51)-(($F$9/2)*0.58) -> 1783.9753
B25: Velocity m/s | C25: Aero Load (N) | D25: Lat G | E25: Long G | H25: FR | I25: FL | J25: RR | K25: RL
B26: 30 | C26: =($F$3)*(0.5*$H$3*B26^2)*($G$3) -> -409.4604 | D26: 0 | E26: 1.5 | F26: 0 | G26: =($A$3*(E26*9.81)*$C$3)/$B$3 -> 1188.1311 | H26: =$B$9+(G26*0.47)-(($F$9/2)*0.42) -> 2063.2129 | I26: =$C$9+(G26*0.47)-(($F$9/2)*0.42) -> 2121.1233 | J26: =$D$9+(G26*0.53)-(($F$9/2)*0.58) -> 2348.3816 | K26: =$E$9+(G26*0.53)-(($F$9/2)*0.58) -> 2413.6848
B27: 30 | C27: =($F$3)*(0.5*$H$3*B27^2)*($G$3) -> -409.4604 | D27: 0 | E27: 1.35 | F27: 0 | G27: =($A$3*(E27*9.81)*$C$3)/$B$3 -> 1069.318 | H27: =$B$9+(G27*0.47)-(($F$9/2)*0.42) -> 2007.3708 | I27: =$C$9+(G27*0.47)-(($F$9/2)*0.42) -> 2065.2812 | J27: =$D$9+(G27*0.53)-(($F$9/2)*0.58) -> 2285.4107 | K27: =$E$9+(G27*0.53)-(($F$9/2)*0.58) -> 2350.7139
B28: 30 | C28: =($F$3)*(0.5*$H$3*B28^2)*($G$3) -> -409.4604 | D28: 0 | E28: 1.05 | F28: 0 | G28: =($A$3*(E28*9.81)*$C$3)/$B$3 -> 831.6918 | H28: =$B$9+(G28*0.47)-(($F$9/2)*0.42) -> 1895.6864 | I28: =$C$9+(G28*0.47)-(($F$9/2)*0.42) -> 1953.5968 | J28: =$D$9+(G28*0.53)-(($F$9/2)*0.58) -> 2159.4688 | K28: =$E$9+(G28*0.53)-(($F$9/2)*0.58) -> 2224.772
B29: 30 | C29: =($F$3)*(0.5*$H$3*B29^2)*($G$3) -> -409.4604 | D29: 0 | E29: 0.9 | F29: 0 | G29: =($A$3*(E29*9.81)*$C$3)/$B$3 -> 712.87869 | H29: =$B$9+(G29*0.47)-(($F$9/2)*0.42) -> 1839.8443 | I29: =$C$9+(G29*0.47)-(($F$9/2)*0.42) -> 1897.7547 | J29: =$D$9+(G29*0.53)-(($F$9/2)*0.58) -> 2096.4978 | K29: =$E$9+(G29*0.53)-(($F$9/2)*0.58) -> 2161.801
B30: 30 | C30: =($F$3)*(0.5*$H$3*B30^2)*($G$3) -> -409.4604 | D30: 0 | E30: 0.75 | F30: 0 | G30: =($A$3*(E30*9.81)*$C$3)/$B$3 -> 594.06557 | H30: =$B$9+(G30*0.47)-(($F$9/2)*0.42) -> 1784.0021 | I30: =$C$9+(G30*0.47)-(($F$9/2)*0.42) -> 1841.9125 | J30: =$D$9+(G30*0.53)-(($F$9/2)*0.58) -> 2033.5269 | K30: =$E$9+(G30*0.53)-(($F$9/2)*0.58) -> 2098.8301
B31: 30 | C31: =($F$3)*(0.5*$H$3*B31^2)*($G$3) -> -409.4604 | D31: 0 | E31: 0.6 | F31: 0 | G31: =($A$3*(E31*9.81)*$C$3)/$B$3 -> 475.25246 | H31: =$B$9+(G31*0.47)-(($F$9/2)*0.42) -> 1728.1599 | I31: =$C$9+(G31*0.47)-(($F$9/2)*0.42) -> 1786.0703 | J31: =$D$9+(G31*0.53)-(($F$9/2)*0.58) -> 1970.5559 | K31: =$E$9+(G31*0.53)-(($F$9/2)*0.58) -> 2035.8591
B32: 30 | C32: =($F$3)*(0.5*$H$3*B32^2)*($G$3) -> -409.4604 | D32: 0 | E32: 0.45 | F32: 0 | G32: =($A$3*(E32*9.81)*$C$3)/$B$3 -> 356.43934 | H32: =$B$9+(G32*0.47)-(($F$9/2)*0.42) -> 1672.3178 | I32: =$C$9+(G32*0.47)-(($F$9/2)*0.42) -> 1730.2282 | J32: =$D$9+(G32*0.53)-(($F$9/2)*0.58) -> 1907.585 | K32: =$E$9+(G32*0.53)-(($F$9/2)*0.58) -> 1972.8882
B33: 30 | C33: =($F$3)*(0.5*$H$3*B33^2)*($G$3) -> -409.4604 | D33: 0 | E33: 0.3 | F33: 0 | G33: =($A$3*(E33*9.81)*$C$3)/$B$3 -> 237.62623 | H33: =$B$9+(G33*0.47)-(($F$9/2)*0.42) -> 1616.4756 | I33: =$C$9+(G33*0.47)-(($F$9/2)*0.42) -> 1674.386 | J33: =$D$9+(G33*0.53)-(($F$9/2)*0.58) -> 1844.614 | K33: =$E$9+(G33*0.53)-(($F$9/2)*0.58) -> 1909.9172
B34: 30 | C34: =($F$3)*(0.5*$H$3*B34^2)*($G$3) -> -409.4604 | D34: 0 | E34: 0.15 | F34: 0 | G34: =($A$3*(E34*9.81)*$C$3)/$B$3 -> 118.81311 | H34: =$B$9+(G34*0.47)-(($F$9/2)*0.42) -> 1560.6335 | I34: =$C$9+(G34*0.47)-(($F$9/2)*0.42) -> 1618.5438 | J34: =$D$9+(G34*0.53)-(($F$9/2)*0.58) -> 1781.6431 | K34: =$E$9+(G34*0.53)-(($F$9/2)*0.58) -> 1846.9463
B35: 30 | C35: =($F$3)*(0.5*$H$3*B35^2)*($G$3) -> -409.4604 | D35: 0 | E35: 0 | F35: 0 | G35: =($A$3*(E35*9.81)*$C$3)/$B$3 -> 0 | H35: =$B$9+(G35*0.47)-(($F$9/2)*0.42) -> 1504.7913 | I35: =$C$9+(G35*0.47)-(($F$9/2)*0.42) -> 1562.7017 | J35: =$D$9+(G35*0.53)-(($F$9/2)*0.58) -> 1718.6721 | K35: =$E$9+(G35*0.53)-(($F$9/2)*0.58) -> 1783.9753
B36: Velocity m/s | C36: Aero Load (N) | D36: Long G | E36: Lat G | H36: FR | I36: FL | J36: RR | K36: RL
B37: 0 | C37: =($F$3)*(0.5*$H$3*B37^2)*($G$3) -> 0 | D37: 0 | E37: 0 | F37: 0 | G37: 0 | H37: =$B$9+(F37*0.47)-((C37/2)*0.42) -> 1418.8046 | I37: =$C$9+(G37*0.47)-((C37/2)*0.42) -> 1476.715 | J37: =$D$9+(G37*0.53)-((C37/2)*0.58) -> 1599.9286 | K37: =$E$9+(G37*0.53)-((C37/2)*0.58) -> 1665.2318
B38: 5 | C38: =($F$3)*(0.5*$H$3*B38^2)*($G$3) -> -11.3739 | D38: 0 | E38: 0 | F38: 0 | G38: 0 | H38: =$B$9+(F38*0.47)-((C38/2)*0.42) -> 1421.1931 | I38: =$C$9+(G38*0.47)-((C38/2)*0.42) -> 1479.1035 | J38: =$D$9+(G38*0.53)-((C38/2)*0.58) -> 1603.227 | K38: =$E$9+(G38*0.53)-((C38/2)*0.58) -> 1668.5302
B39: 10 | C39: =($F$3)*(0.5*$H$3*B39^2)*($G$3) -> -45.4956 | D39: 0 | E39: 0 | F39: 0 | G39: 0 | H39: =$B$9+(F39*0.47)-((C39/2)*0.42) -> 1428.3587 | I39: =$C$9+(G39*0.47)-((C39/2)*0.42) -> 1486.2691 | J39: =$D$9+(G39*0.53)-((C39/2)*0.58) -> 1613.1223 | K39: =$E$9+(G39*0.53)-((C39/2)*0.58) -> 1678.4255
B40: 15 | C40: =($F$3)*(0.5*$H$3*B40^2)*($G$3) -> -102.3651 | D40: 0 | E40: 0 | F40: 0 | G40: 0 | H40: =$B$9+(F40*0.47)-((C40/2)*0.42) -> 1440.3013 | I40: =$C$9+(G40*0.47)-((C40/2)*0.42) -> 1498.2117 | J40: =$D$9+(G40*0.53)-((C40/2)*0.58) -> 1629.6145 | K40: =$E$9+(G40*0.53)-((C40/2)*0.58) -> 1694.9177
B41: 20 | C41: =($F$3)*(0.5*$H$3*B41^2)*($G$3) -> -181.9824 | D41: 0 | E41: 0 | F41: 0 | G41: 0 | H41: =$B$9+(F41*0.47)-((C41/2)*0.42) -> 1457.0209 | I41: =$C$9+(G41*0.47)-((C41/2)*0.42) -> 1514.9313 | J41: =$D$9+(G41*0.53)-((C41/2)*0.58) -> 1652.7035 | K41: =$E$9+(G41*0.53)-((C41/2)*0.58) -> 1718.0067
B42: 25 | C42: =($F$3)*(0.5*$H$3*B42^2)*($G$3) -> -284.3475 | D42: 0 | E42: 0 | F42: 0 | G42: 0 | H42: =$B$9+(F42*0.47)-((C42/2)*0.42) -> 1478.5176 | I42: =$C$9+(G42*0.47)-((C42/2)*0.42) -> 1536.428 | J42: =$D$9+(G42*0.53)-((C42/2)*0.58) -> 1682.3894 | K42: =$E$9+(G42*0.53)-((C42/2)*0.58) -> 1747.6926
B43: 30 | C43: =($F$3)*(0.5*$H$3*B43^2)*($G$3) -> -409.4604 | D43: 0 | E43: 0 | F43: 0 | G43: 0 | H43: =$B$9+(F43*0.47)-((C43/2)*0.42) -> 1504.7913 | I43: =$C$9+(G43*0.47)-((C43/2)*0.42) -> 1562.7017 | J43: =$D$9+(G43*0.53)-((C43/2)*0.58) -> 1718.6721 | K43: =$E$9+(G43*0.53)-((C43/2)*0.58) -> 1783.9753
D66: 0

Sheet Traction Circle
A1: Mass | B1: Wheelbase | C1: Centre of Gravity Height | D1: Static Weight Distribution (Front) | E1: Static Weight Distribution (Left) | F1: Cl | G1: A | H1: Air Density | I1: Centre of Pressure | J1: Average Track | K1: Maximum G
A2: kg | B2: m | C2: m | D2: % Front | E2: % Left | G2: m^2 | H2: kg/m^3 | I2: % Front | J2: m | K2: G
A3: 628 | B3: 2.8 | C3: 0.36 | D3: 47 | E3: 51 | F3: -0.62 | G3: 1.2 | H3: 1.223 | I3: 42 | J3: 1.62 | K3: 1.5
Q6: Traction Circle | R6: a^2 + b^2 = c^2
B7: Static vertical loads (N) | F7: Aero Load (N) @ 30m/s | Q7: C = 1.5
B8: FR | C8: FL | D8: RR | E8: RL | Q8: C^2 = 2.25
B9: =A3*(D3/100)*0.49*9.81 -> 1418.8046 | C9: =A3*(D3/100)*0.51*9.81 -> 1476.715 | D9: =A3*0.53*0.49*9.81 -> 1599.9286 | E9: =A3*0.53*0.51*9.81 -> 1665.2318 | F9: =(F3)*(0.5*H3*30^2)*(G3) -> -409.4604 | Q9: a^2 = b^2
Q10: 2.25 /2 = 1.125
Q11: sqrt of 1.125 = 1.06G
Q12: 1.06G middle value
B14: Velocity m/s | C14: Aero Load (N) | D14: Long G | E14: Lat G | F14: Combined G | G14: Lat Transfer | H14: Long Transfer | I14: FR | J14: FL | K14: RR | L14: RL
B15: 30 | C15: =('Vertical Loads'!$F$3)*(0.5*'Vertical Loads'!$H$3*'Vertical Loads'!$B$43^2)*('Vertical Loads'!$G$3) -> -409.4604 | D15: 1.5 | E15: =(SQRT(((D15^2)-(F15^2))*-1)) -> 0 | F15: 1.5 | G15: =($A$3*(E15*9.81)*$C$3)/$J$3 -> 0 | H15: =($A$3*(D15*9.81)*$C$3)/$B$3 -> 1188.1311 | I15: =$B$9+(G15*0.49)+(H15*0.47)-(C15/2)*0.42 -> 2063.2129 | J15: =$C$9+(G15*0.51)+(H15*0.47)-(C15/2)*0.42 -> 2121.1233 | K15: =$D$9+(G15*0.49)+(H15*0.53)-(C15/2)*0.58 -> 2348.3816 | L15: =$E$9+(G15*0.51)+(H15*0.53)-(C15/2)*0.58 -> 2413.6848
B16: 30 | C16: =('Vertical Loads'!$F$3)*(0.5*'Vertical Loads'!$H$3*'Vertical Loads'!$B$43^2)*('Vertical Loads'!$G$3) -> -409.4604 | D16: 1.45 | E16: =(SQRT(((D16^2)-(F16^2))*-1)) -> 0.38405729 | F16: 1.5 | G16: =($A$3*(E16*9.81)*$C$3)/$J$3 -> 525.78979 | H16: =($A$3*(D16*9.81)*$C$3)/$B$3 -> 1148.5268 | I16: =$B$9+(G16*0.49)+(H16*0.47)-(C16/2)*0.42 -> 2302.2359 | J16: =$C$9+(G16*0.51)+(H16*0.47)-(C16/2)*0.42 -> 2370.6621 | K16: =$D$9+(G16*0.49)+(H16*0.53)-(C16/2)*0.58 -> 2585.0283 | L16: =$E$9+(G16*0.51)+(H16*0.53)-(C16/2)*0.58 -> 2660.8473
B17: 30 | C17: =('Vertical Loads'!$F$3)*(0.5*'Vertical Loads'!$H$3*'Vertical Loads'!$B$43^2)*('Vertical Loads'!$G$3) -> -409.4604 | D17: 1.4 | E17: =(SQRT(((D17^2)-(F17^2))*-1)) -> 0.53851648 | F17: 1.5 | G17: =($A$3*(E17*9.81)*$C$3)/$J$3 -> 737.2506 | H17: =($A$3*(D17*9.81)*$C$3)/$B$3 -> 1108.9224 | I17: =$B$9+(G17*0.49)+(H17*0.47)-(C17/2)*0.42 -> 2387.2376 | J17: =$C$9+(G17*0.51)+(H17*0.47)-(C17/2)*0.42 -> 2459.893 | K17: =$D$9+(G17*0.49)+(H17*0.53)-(C17/2)*0.58 -> 2667.6538 | L17: =$E$9+(G17*0.51)+(H17*0.53)-(C17/2)*0.58 -> 2747.702
B18: 30 | C18: =('Vertical Loads'!$F$3)*(0.5*'Vertical Loads'!$H$3*'Vertical Loads'!$B$43^2)*('Vertical Loads'!$G$3) -> -409.4604 | D18: 1.35 | E18: =(SQRT(((D18^2)-(F18^2))*-1)) -> 0.65383484 | F18: 1.5 | G18: =($A$3*(E18*9.81)*$C$3)/$J$3 -> 895.12605 | H18: =($A$3*(D18*9.81)*$C$3)/$B$3 -> 1069.318 | I18: =$B$9+(G18*0.49)+(H18*0.47)-(C18/2)*0.42 -> 2445.9825 | J18: =$C$9+(G18*0.51)+(H18*0.47)-(C18/2)*0.42 -> 2521.7954 | K18: =$D$9+(G18*0.49)+(H18*0.53)-(C18/2)*0.58 -> 2724.0224 | L18: =$E$9+(G18*0.51)+(H18*0.53)-(C18/2)*0.58 -> 2807.2282
B19: 30 | C19: =('Vertical Loads'!$F$3)*(0.5*'Vertical Loads'!$H$3*'Vertical Loads'!$B$43^2)*('Vertical Loads'!$G$3) -> -409.4604 | D19: 1.3 | E19: =(SQRT(((D19^2)-(F19^2))*-1)) -> 0.74833148 | F19: 1.5 | G19: =($A$3*(E19*9.81)*$C$3)/$J$3 -> 1024.4957 | H19: =($A$3*(D19*9.81)*$C$3)/$B$3 -> 1029.7137 | I19: =$B$9+(G19*0.49)+(H19*0.47)-(C19/2)*0.42 -> 2490.7596 | J19: =$C$9+(G19*0.51)+(H19*0.47)-(C19/2)*0.42 -> 2569.1599 | K19: =$D$9+(G19*0.49)+(H19*0.53)-(C19/2)*0.58 -> 2766.4233 | L19: =$E$9+(G19*0.51)+(H19*0.53)-(C19/2)*0.58 -> 2852.2164
B20: 30 | C20: =('Vertical Loads'!$F$3)*(0.5*'Vertical Loads'!$H$3*'Vertical Loads'!$B$43^2)*('Vertical Loads'!$G$3) -> -409.4604 | D20: 1.25 | E20: =(SQRT(((D20^2)-(F20^2))*-1)) -> 0.8291562 | F20: 1.5 | G20: =($A$3*(E20*9.81)*$C$3)/$J$3 -> 1135.148 | H20: =($A$3*(D20*9.81)*$C$3)/$B$3 -> 990.10929 | I20: =$B$9+(G20*0.49)+(H20*0.47)-(C20/2)*0.42 -> 2526.3652 | J20: =$C$9+(G20*0.51)+(H20*0.47)-(C20/2)*0.42 -> 2606.9785 | K20: =$D$9+(G20*0.49)+(H20*0.53)-(C20/2)*0.58 -> 2799.6526 | L20: =$E$9+(G20*0.51)+(H20*0.53)-(C20/2)*0.58 -> 2887.6587
B21: 30 | C21: =('Vertical Loads'!$F$3)*(0.5*'Vertical Loads'!$H$3*'Vertical Loads'!$B$43^2)*('Vertical Loads'!$G$3) -> -409.4604 | D21: 1.2 | E21: =(SQRT(((D21^2)-(F21^2))*-1)) -> 0.9 | F21: 1.5 | G21: =($A$3*(E21*9.81)*$C$3)/$J$3 -> 1232.136 | H21: =($A$3*(D21*9.81)*$C$3)/$B$3 -> 950.50491 | I21: =$B$9+(G21*0.49)+(H21*0.47)-(C21/2)*0.42 -> 2555.2752 | J21: =$C$9+(G21*0.51)+(H21*0.47)-(C21/2)*0.42 -> 2637.8283 | K21: =$D$9+(G21*0.49)+(H21*0.53)-(C21/2)*0.58 -> 2826.1864 | L21: =$E$9+(G21*0.51)+(H21*0.53)-(C21/2)*0.58 -> 2916.1323
B22: 30 | C22: =('Vertical Loads'!$F$3)*(0.5*'Vertical Loads'!$H$3*'Vertical Loads'!$B$43^2)*('Vertical Loads'!$G$3) -> -409.4604 | D22: 1.15 | E22: =(SQRT(((D22^2)-(F22^2))*-1)) -> 0.96306801 | F22: 1.5 | G22: =($A$3*(E22*9.81)*$C$3)/$J$3 -> 1318.4786 | H22: =($A$3*(D22*9.81)*$C$3)/$B$3 -> 910.90054 | I22: =$B$9+(G22*0.49)+(H22*0.47)-(C22/2)*0.42 -> 2578.9691 | J22: =$C$9+(G22*0.51)+(H22*0.47)-(C22/2)*0.42 -> 2663.249 | K22: =$D$9+(G22*0.49)+(H22*0.53)-(C22/2)*0.58 -> 2847.5039 | L22: =$E$9+(G22*0.51)+(H22*0.53)-(C22/2)*0.58 -> 2939.1767
B23: 30 | C23: =('Vertical Loads'!$F$3)*(0.5*'Vertical Loads'!$H$3*'Vertical Loads'!$B$43^2)*('Vertical Loads'!$G$3) -> -409.4604 | D23: 1.1 | E23: =(SQRT(((D23^2)-(F23^2))*-1)) -> 1.0198039 | F23: 1.5 | G23: =($A$3*(E23*9.81)*$C$3)/$J$3 -> 1396.1523 | H23: =($A$3*(D23*9.81)*$C$3)/$B$3 -> 871.29617 | I23: =$B$9+(G23*0.49)+(H23*0.47)-(C23/2)*0.42 -> 2598.4151 | J23: =$C$9+(G23*0.51)+(H23*0.47)-(C23/2)*0.42 -> 2684.2486 | K23: =$D$9+(G23*0.49)+(H23*0.53)-(C23/2)*0.58 -> 2864.5737 | L23: =$E$9+(G23*0.51)+(H23*0.53)-(C23/2)*0.58 -> 2957.8
B24: 30 | C24: =('Vertical Loads'!$F$3)*(0.5*'Vertical Loads'!$H$3*'Vertical Loads'!$B$43^2)*('Vertical Loads'!$G$3) -> -409.4604 | D24: 1.05 | E24: =(SQRT(((D24^2)-(F24^2))*-1)) -> 1.0712143 | F24: 1.5 | G24: =($A$3*(E24*9.81)*$C$3)/$J$3 -> 1466.5352 | H24: =($A$3*(D24*9.81)*$C$3)/$B$3 -> 831.6918 | I24: =$B$9+(G24*0.49)+(H24*0.47)-(C24/2)*0.42 -> 2614.2887 | J24: =$C$9+(G24*0.51)+(H24*0.47)-(C24/2)*0.42 -> 2701.5298 | K24: =$D$9+(G24*0.49)+(H24*0.53)-(C24/2)*0.58 -> 2878.071 | L24: =$E$9+(G24*0.51)+(H24*0.53)-(C24/2)*0.58 -> 2972.7049
B25: 30 | C25: =('Vertical Loads'!$F$3)*(0.5*'Vertical Loads'!$H$3*'Vertical Loads'!$B$43^2)*('Vertical Loads'!$G$3) -> -409.4604 | D25: 1 | E25: =(SQRT(((D25^2)-(F25^2))*-1)) -> 1.118034 | F25: 1.5 | G25: =($A$3*(E25*9.81)*$C$3)/$J$3 -> 1530.6333 | H25: =($A$3*(D25*9.81)*$C$3)/$B$3 -> 792.08743 | I25: =$B$9+(G25*0.49)+(H25*0.47)-(C25/2)*0.42 -> 2627.0827 | J25: =$C$9+(G25*0.51)+(H25*0.47)-(C25/2)*0.42 -> 2715.6057 | K25: =$D$9+(G25*0.49)+(H25*0.53)-(C25/2)*0.58 -> 2888.4887 | L25: =$E$9+(G25*0.51)+(H25*0.53)-(C25/2)*0.58 -> 2984.4046
B26: 30 | C26: =('Vertical Loads'!$F$3)*(0.5*'Vertical Loads'!$H$3*'Vertical Loads'!$B$43^2)*('Vertical Loads'!$G$3) -> -409.4604 | D26: 0.95 | E26: =(SQRT(((D26^2)-(F26^2))*-1)) -> 1.1608187 | F26: 1.5 | G26: =($A$3*(E26*9.81)*$C$3)/$J$3 -> 1589.2072 | H26: =($A$3*(D26*9.81)*$C$3)/$B$3 -> 752.48306 | I26: =$B$9+(G26*0.49)+(H26*0.47)-(C26/2)*0.42 -> 2637.1699 | J26: =$C$9+(G26*0.51)+(H26*0.47)-(C26/2)*0.42 -> 2726.8644 | K26: =$D$9+(G26*0.49)+(H26*0.53)-(C26/2)*0.58 -> 2896.1997 | L26: =$E$9+(G26*0.51)+(H26*0.53)-(C26/2)*0.58 -> 2993.287
... B45: 30 | C45: =('Vertical Loads'!$F$3)*(0.5*'Vertical Loads'!$H$3*'Vertical Loads'!$B$43^2)*('Vertical Loads'!$G$3) -> -409.4604 | D45: 0 | E45: =(SQRT(((D45^2)-(F45^2))*-1)) -> 1.5 | F45: 1.5 | G45: =($A$3*(E45*9.81)*$C$3)/$J$3 -> 2053.56 | H45: =($A$3*(D45*9.81)*$C$3)/$B$3 -> 0 | I45: =$B$9+(G45*0.49)+(H45*0.47)-(C45/2)*0.42 -> 2511.0357 | J45: =$C$9+(G45*0.51)+(H45*0.47)-(C45/2)*0.42 -> 2610.0173 | K45: =$D$9+(G45*0.49)+(H45*0.53)-(C45/2)*0.58 -> 2724.9165 | L45: =$E$9+(G45*0.51)+(H45*0.53)-(C45/2)*0.58 -> 2831.2909

Sheet Geometry Modification
A1: Mass | B1: Wheelbase | C1: Centre of Gravity Height | D1: Static Weight Distribution (Front) | E1: Static Weight Distribution (Left) | F1: Cl | G1: A | H1: Air Density | I1: Centre of Pressure | J1: Average Track | K1: Maximum G
A2: kg | B2: m | C2: m | D2: % Front | E2: % Left | G2: m^2 | H2: kg/m^3 | I2: % Front | J2: m | K2: G
A3: 628 | B3: 2.8 | C3: 0.36 | D3: 47 | E3: 51 | F3: -0.62 | G3: 1.2 | H3: 1.223 | I3: 42 | J3: 1.62 | K3: 1.5
M6: Centre of Gravity | N6: Wheelbase | O6: Average Track
B7: Static vertical loads (N) | F7: Aero Load (N) @ 30m/s | M7: m | N7: m | O7: m
B8: FR | C8: FL | D8: RR | E8: RL | M8: 0.26 | N8: 2 | O8: 1
B9: =A3*(D3/100)*0.49*9.81 -> 1418.8046 | C9: =A3*(D3/100)*0.51*9.81 -> 1476.715 | D9: =A3*0.53*0.49*9.81 -> 1599.9286 | E9: =A3*0.53*0.51*9.81 -> 1665.2318 | F9: =(F3)*(0.5*H3*30^2)*(G3) -> -409.4604 | M9: 0.36 | N9: 2.8 | O9: 1.62
M10: 0.46 | N10: 3.6 | O10: 2.24
B12: Centre of Gravity 0.26m | J12: Average Track 1m | R12: Wheelbase 2m
B13: Accelerations | F13: Load Transfer | H13: Vertical Load | J13: Accelerations | N13: Load Transfer | P13: Vertical Load | R13: Accelerations | V13: Load Transfer | X13: Vertical Load
B14: Velocity m/s | C14: Aero Load (N) | D14: Lat G | E14: Long G | F14: Lat Transfer | G14: Long Transfer | H14: FR | J14: Velocity m/s | K14: Aero Load (N) | L14: Lat G | M14: Long G | N14: Lat Transfer | O14: Long Transfer | P14: FR | R14: Velocity m/s | S14: Aero Load (N) | T14: Lat G | U14: Long G | V14: Lat Transfer | W14: Long Transfer | X14: FR
B15: 30 | C15: =($F$3)*(0.5*$H$3*B15^2)*($G$3) -> -409.4604 | D15: 1.5 | E15: 0 | F15: =($A$3*(D15*9.81)*$M$8)/$J$3 -> 1483.1267 | G15: 0 | H15: =$B$9+(F15*0.49)-(($F$9/2)*0.42) -> 2231.5234 | J15: 30 | K15: =($F$3)*(0.5*$H$3*J15^2)*($G$3) -> -409.4604 | L15: 1.5 | M15: 0 | N15: =($A$3*(L15*9.81)*$C$3)/$O$8 -> 3326.7672 | O15: 0 | P15: =$B$9+(N15*0.49)-(($F$9/2)*0.42) -> 3134.9072 | R15: 30 | S15: =($F$3)*(0.5*$H$3*R15^2)*($G$3) -> -409.4604 | T15: 0 | U15: 1.5 | V15: 0 | W15: =($A$3*(U15*9.81)*$C$3)/$N$8 -> 1663.3836 | X15: =$B$9+(W15*0.47)-(($F$9/2)*0.42) -> 2286.5816
B16: 30 | C16: =($F$3)*(0.5*$H$3*B16^2)*($G$3) -> -409.4604 | D16: 1.35 | E16: 0 | F16: =($A$3*(D16*9.81)*$M$8)/$J$3 -> 1334.814 | G16: 0 | H16: =$B$9+(F16*0.49)-(($F$9/2)*0.42) -> 2158.8501 | J16: 30 | K16: =($F$3)*(0.5*$H$3*J16^2)*($G$3) -> -409.4604 | L16: 1.35 | M16: 0 | N16: =($A$3*(L16*9.81)*$C$3)/$O$8 -> 2994.0905 | O16: 0 | P16: =$B$9+(N16*0.49)-(($F$9/2)*0.42) -> 2971.8956 | R16: 30 | S16: =($F$3)*(0.5*$H$3*R16^2)*($G$3) -> -409.4604 | T16: 0 | U16: 1.35 | V16: 0 | W16: =($A$3*(U16*9.81)*$C$3)/$N$8 -> 1497.0452 | X16: =$B$9+(W16*0.47)-(($F$9/2)*0.42) -> 2208.4026
B17: 30 | C17: =($F$3)*(0.5*$H$3*B17^2)*($G$3) -> -409.4604 | D17: 1.05 | E17: 0 | F17: =($A$3*(D17*9.81)*$M$8)/$J$3 -> 1038.1887 | G17: 0 | H17: =$B$9+(F17*0.49)-(($F$9/2)*0.42) -> 2013.5037 | J17: 30 | K17: =($F$3)*(0.5*$H$3*J17^2)*($G$3) -> -409.4604 | L17: 1.05 | M17: 0 | N17: =($A$3*(L17*9.81)*$C$3)/$O$8 -> 2328.737 | O17: 0 | P17: =$B$9+(N17*0.49)-(($F$9/2)*0.42) -> 2645.8724 | R17: 30 | S17: =($F$3)*(0.5*$H$3*R17^2)*($G$3) -> -409.4604 | T17: 0 | U17: 1.05 | V17: 0 | W17: =($A$3*(U17*9.81)*$C$3)/$N$8 -> 1164.3685 | X17: =$B$9+(W17*0.47)-(($F$9/2)*0.42) -> 2052.0445
B18: 30 | C18: =($F$3)*(0.5*$H$3*B18^2)*($G$3) -> -409.4604 | D18: 0.9 | E18: 0 | F18: =($A$3*(D18*9.81)*$M$8)/$J$3 -> 889.876 | G18: 0 | H18: =$B$9+(F18*0.49)-(($F$9/2)*0.42) -> 1940.8305 | J18: 30 | K18: =($F$3)*(0.5*$H$3*J18^2)*($G$3) -> -409.4604 | L18: 0.9 | M18: 0 | N18: =($A$3*(L18*9.81)*$C$3)/$O$8 -> 1996.0603 | O18: 0 | P18: =$B$9+(N18*0.49)-(($F$9/2)*0.42) -> 2482.8608 | R18: 30 | S18: =($F$3)*(0.5*$H$3*R18^2)*($G$3) -> -409.4604 | T18: 0 | U18: 0.9 | V18: 0 | W18: =($A$3*(U18*9.81)*$C$3)/$N$8 -> 998.03016 | X18: =$B$9+(W18*0.47)-(($F$9/2)*0.42) -> 1973.8655
B19: 30 | C19: =($F$3)*(0.5*$H$3*B19^2)*($G$3) -> -409.4604 | D19: 0.75 | E19: 0 | F19: =($A$3*(D19*9.81)*$M$8)/$J$3 -> 741.56333 | G19: 0 | H19: =$B$9+(F19*0.49)-(($F$9/2)*0.42) -> 1868.1573 | J19: 30 | K19: =($F$3)*(0.5*$H$3*J19^2)*($G$3) -> -409.4604 | L19: 0.75 | M19: 0 | N19: =($A$3*(L19*9.81)*$C$3)/$O$8 -> 1663.3836 | O19: 0 | P19: =$B$9+(N19*0.49)-(($F$9/2)*0.42) -> 2319.8493 | R19: 30 | S19: =($F$3)*(0.5*$H$3*R19^2)*($G$3) -> -409.4604 | T19: 0 | U19: 0.75 | V19: 0 | W19: =($A$3*(U19*9.81)*$C$3)/$N$8 -> 831.6918 | X19: =$B$9+(W19*0.47)-(($F$9/2)*0.42) -> 1895.6864
B20: 30 | C20: =($F$3)*(0.5*$H$3*B20^2)*($G$3) -> -409.4604 | D20: 0.6 | E20: 0 | F20: =($A$3*(D20*9.81)*$M$8)/$J$3 -> 593.25067 | G20: 0 | H20: =$B$9+(F20*0.49)-(($F$9/2)*0.42) -> 1795.4841 | J20: 30 | K20: =($F$3)*(0.5*$H$3*J20^2)*($G$3) -> -409.4604 | L20: 0.6 | M20: 0 | N20: =($A$3*(L20*9.81)*$C$3)/$O$8 -> 1330.7069 | O20: 0 | P20: =$B$9+(N20*0.49)-(($F$9/2)*0.42) -> 2156.8377 | R20: 30 | S20: =($F$3)*(0.5*$H$3*R20^2)*($G$3) -> -409.4604 | T20: 0 | U20: 0.6 | V20: 0 | W20: =($A$3*(U20*9.81)*$C$3)/$N$8 -> 665.35344 | X20: =$B$9+(W20*0.47)-(($F$9/2)*0.42) -> 1817.5074
B21: 30 | C21: =($F$3)*(0.5*$H$3*B21^2)*($G$3) -> -409.4604 | D21: 0.45 | E21: 0 | F21: =($A$3*(D21*9.81)*$M$8)/$J$3 -> 444.938 | G21: 0 | H21: =$B$9+(F21*0.49)-(($F$9/2)*0.42) -> 1722.8109 | J21: 30 | K21: =($F$3)*(0.5*$H$3*J21^2)*($G$3) -> -409.4604 | L21: 0.45 | M21: 0 | N21: =($A$3*(L21*9.81)*$C$3)/$O$8 -> 998.03016 | O21: 0 | P21: =$B$9+(N21*0.49)-(($F$9/2)*0.42) -> 1993.8261 | R21: 30 | S21: =($F$3)*(0.5*$H$3*R21^2)*($G$3) -> -409.4604 | T21: 0 | U21: 0.45 | V21: 0 | W21: =($A$3*(U21*9.81)*$C$3)/$N$8 -> 499.01508 | X21: =$B$9+(W21*0.47)-(($F$9/2)*0.42) -> 1739.3284
B22: 30 | C22: =($F$3)*(0.5*$H$3*B22^2)*($G$3) -> -409.4604 | D22: 0.3 | E22: 0 | F22: =($A$3*(D22*9.81)*$M$8)/$J$3 -> 296.62533 | G22: 0 | H22: =$B$9+(F22*0.49)-(($F$9/2)*0.42) -> 1650.1377 | J22: 30 | K22: =($F$3)*(0.5*$H$3*J22^2)*($G$3) -> -409.4604 | L22: 0.3 | M22: 0 | N22: =($A$3*(L22*9.81)*$C$3)/$O$8 -> 665.35344 | O22: 0 | P22: =$B$9+(N22*0.49)-(($F$9/2)*0.42) -> 1830.8145 | R22: 30 | S22: =($F$3)*(0.5*$H$3*R22^2)*($G$3) -> -409.4604 | T22: 0 | U22: 0.3 | V22: 0 | W22: =($A$3*(U22*9.81)*$C$3)/$N$8 -> 332.67672 | X22: =$B$9+(W22*0.47)-(($F$9/2)*0.42) -> 1661.1493
B23: 30 | C23: =($F$3)*(0.5*$H$3*B23^2)*($G$3) -> -409.4604 | D23: 0.15 | E23: 0 | F23: =($A$3*(D23*9.81)*$M$8)/$J$3 -> 148.31267 | G23: 0 | H23: =$B$9+(F23*0.49)-(($F$9/2)*0.42) -> 1577.4645 | J23: 30 | K23: =($F$3)*(0.5*$H$3*J23^2)*($G$3) -> -409.4604 | L23: 0.15 | M23: 0 | N23: =($A$3*(L23*9.81)*$C$3)/$O$8 -> 332.67672 | O23: 0 | P23: =$B$9+(N23*0.49)-(($F$9/2)*0.42) -> 1667.8029 | R23: 30 | S23: =($F$3)*(0.5*$H$3*R23^2)*($G$3) -> -409.4604 | T23: 0 | U23: 0.15 | V23: 0 | W23: =($A$3*(U23*9.81)*$C$3)/$N$8 -> 166.33836 | X23: =$B$9+(W23*0.47)-(($F$9/2)*0.42) -> 1582.9703
B24: 30 | C24: =($F$3)*(0.5*$H$3*B24^2)*($G$3) -> -409.4604 | D24: 0 | E24: 0 | F24: =($A$3*(D24*9.81)*$M$8)/$J$3 -> 0 | G24: 0 | H24: =$B$9+(F24*0.49)-(($F$9/2)*0.42) -> 1504.7913 | J24: 30 | K24: =($F$3)*(0.5*$H$3*J24^2)*($G$3) -> -409.4604 | L24: 0 | M24: 0 | N24: =($A$3*(L24*9.81)*$C$3)/$O$8 -> 0 | O24: 0 | P24: =$B$9+(N24*0.49)-(($F$9/2)*0.42) -> 1504.7913 | R24: 30 | S24: =($F$3)*(0.5*$H$3*R24^2)*($G$3) -> -409.4604 | T24: 0 | U24: 0 | V24: 0 | W24: =($A$3*(U24*9.81)*$C$3)/$N$8 -> 0 | X24: =$B$9+(W24*0.47)-(($F$9/2)*0.42) -> 1504.7913
B25: Centre of Gravity 0.36m | J25: Average Track 1.62m | R25: Wheelbase 2.8m
B26: Accelerations | F26: Load Transfer | H26: Vertical Load | J26: Accelerations | N26: Load Transfer | P26: Vertical Load | R26: Accelerations | V26: Load Transfer | X26: Vertical Load
B27: Velocity m/s | C27: Aero Load (N) | D27: Lat G | E27: Long G | F27: Lat Transfer | G27: Long Transfer | H27: FR | J27: Velocity m/s | K27: Aero Load (N) | L27: Lat G | M27: Long G | N27: Lat Transfer | O27: Long Transfer | P27: FR | R27: Velocity m/s | S27: Aero Load (N) | T27: Lat G | U27: Long G | V27: Lat Transfer | W27: Long Transfer | X27: FR
B28: 30 | C28: =($F$3)*(0.5*$H$3*B28^2)*($G$3) -> -409.4604 | D28: 1.5 | E28: 0 | F28: =($A$3*(D28*9.81)*$C$3)/$J$3 -> 2053.56 | G28: 0 | H28: =$B$9+(F28*0.49)-(($F$9/2)*0.42) -> 2511.0357 | J28: 30 | K28: =($F$3)*(0.5*$H$3*J28^2)*($G$3) -> -409.4604 | L28: 1.5 | M28: 0 | N28: =($A$3*(L28*9.81)*$C$3)/$J$3 -> 2053.56 | O28: 0 | P28: =$B$9+(N28*0.49)-(($F$9/2)*0.42) -> 2511.0357 | R28: 30 | S28: =($F$3)*(0.5*$H$3*R28^2)*($G$3) -> -409.4604 | T28: 0 | U28: 1.5 | V28: 0 | W28: =($A$3*(U28*9.81)*$C$3)/$B$3 -> 1188.1311 | X28: =$B$9+(W28*0.47)-(($F$9/2)*0.42) -> 2063.2129
B29: 30 | C29: =($F$3)*(0.5*$H$3*B29^2)*($G$3) -> -409.4604 | D29: 1.35 | E29: 0 | F29: =($A$3*(D29*9.81)*$C$3)/$J$3 -> 1848.204 | G29: 0 | H29: =$B$9+(F29*0.49)-(($F$9/2)*0.42) -> 2410.4112 | J29: 30 | K29: =($F$3)*(0.5*$H$3*J29^2)*($G$3) -> -409.4604 | L29: 1.35 | M29: 0 | N29: =($A$3*(L29*9.81)*$C$3)/$J$3 -> 1848.204 | O29: 0 | P29: =$B$9+(N29*0.49)-(($F$9/2)*0.42) -> 2410.4112 | R29: 30 | S29: =($F$3)*(0.5*$H$3*R29^2)*($G$3) -> -409.4604 | T29: 0 | U29: 1.35 | V29: 0 | W29: =($A$3*(U29*9.81)*$C$3)/$B$3 -> 1069.318 | X29: =$B$9+(W29*0.47)-(($F$9/2)*0.42) -> 2007.3708
B30: 30 | C30: =($F$3)*(0.5*$H$3*B30^2)*($G$3) -> -409.4604 | D30: 1.05 | E30: 0 | F30: =($A$3*(D30*9.81)*$C$3)/$J$3 -> 1437.492 | G30: 0 | H30: =$B$9+(F30*0.49)-(($F$9/2)*0.42) -> 2209.1624 | J30: 30 | K30: =($F$3)*(0.5*$H$3*J30^2)*($G$3) -> -409.4604 | L30: 1.05 | M30: 0 | N30: =($A$3*(L30*9.81)*$C$3)/$J$3 -> 1437.492 | O30: 0 | P30: =$B$9+(N30*0.49)-(($F$9/2)*0.42) -> 2209.1624 | R30: 30 | S30: =($F$3)*(0.5*$H$3*R30^2)*($G$3) -> -409.4604 | T30: 0 | U30: 1.05 | V30: 0 | W30: =($A$3*(U30*9.81)*$C$3)/$B$3 -> 831.6918 | X30: =$B$9+(W30*0.47)-(($F$9/2)*0.42) -> 1895.6864
B31: 30 | C31: =($F$3)*(0.5*$H$3*B31^2)*($G$3) -> -409.4604 | D31: 0.9 | E31: 0 | F31: =($A$3*(D31*9.81)*$C$3)/$J$3 -> 1232.136 | G31: 0 | H31: =$B$9+(F31*0.49)-(($F$9/2)*0.42) -> 2108.5379 | J31: 30 | K31: =($F$3)*(0.5*$H$3*J31^2)*($G$3) -> -409.4604 | L31: 0.9 | M31: 0 | N31: =($A$3*(L31*9.81)*$C$3)/$J$3 -> 1232.136 | O31: 0 | P31: =$B$9+(N31*0.49)-(($F$9/2)*0.42) -> 2108.5379 | R31: 30 | S31: =($F$3)*(0.5*$H$3*R31^2)*($G$3) -> -409.4604 | T31: 0 | U31: 0.9 | V31: 0 | W31: =($A$3*(U31*9.81)*$C$3)/$B$3 -> 712.87869 | X31: =$B$9+(W31*0.47)-(($F$9/2)*0.42) -> 1839.8443
B32: 30 | C32: =($F$3)*(0.5*$H$3*B32^2)*($G$3) -> -409.4604 | D32: 0.75 | E32: 0 | F32: =($A$3*(D32*9.81)*$C$3)/$J$3 -> 1026.78 | G32: 0 | H32: =$B$9+(F32*0.49)-(($F$9/2)*0.42) -> 2007.9135 | J32: 30 | K32: =($F$3)*(0.5*$H$3*J32^2)*($G$3) -> -409.4604 | L32: 0.75 | M32: 0 | N32: =($A$3*(L32*9.81)*$C$3)/$J$3 -> 1026.78 | O32: 0 | P32: =$B$9+(N32*0.49)-(($F$9/2)*0.42) -> 2007.9135 | R32: 30 | S32: =($F$3)*(0.5*$H$3*R32^2)*($G$3) -> -409.4604 | T32: 0 | U32: 0.75 | V32: 0 | W32: =($A$3*(U32*9.81)*$C$3)/$B$3 -> 594.06557 | X32: =$B$9+(W32*0.47)-(($F$9/2)*0.42) -> 1784.0021
B33: 30 | C33: =($F$3)*(0.5*$H$3*B33^2)*($G$3) -> -409.4604 | D33: 0.6 | E33: 0 | F33: =($A$3*(D33*9.81)*$C$3)/$J$3 -> 821.424 | G33: 0 | H33: =$B$9+(F33*0.49)-(($F$9/2)*0.42) -> 1907.289 | J33: 30 | K33: =($F$3)*(0.5*$H$3*J33^2)*($G$3) -> -409.4604 | L33: 0.6 | M33: 0 | N33: =($A$3*(L33*9.81)*$C$3)/$J$3 -> 821.424 | O33: 0 | P33: =$B$9+(N33*0.49)-(($F$9/2)*0.42) -> 1907.289 | R33: 30 | S33: =($F$3)*(0.5*$H$3*R33^2)*($G$3) -> -409.4604 | T33: 0 | U33: 0.6 | V33: 0 | W33: =($A$3*(U33*9.81)*$C$3)/$B$3 -> 475.25246 | X33: =$B$9+(W33*0.47)-(($F$9/2)*0.42) -> 1728.1599
B34: 30 | C34: =($F$3)*(0.5*$H$3*B34^2)*($G$3) -> -409.4604 | D34: 0.45 | E34: 0 | F34: =($A$3*(D34*9.81)*$C$3)/$J$3 -> 616.068 | G34: 0 | H34: =$B$9+(F34*0.49)-(($F$9/2)*0.42) -> 1806.6646 | J34: 30 | K34: =($F$3)*(0.5*$H$3*J34^2)*($G$3) -> -409.4604 | L34: 0.45 | M34: 0 | N34: =($A$3*(L34*9.81)*$C$3)/$J$3 -> 616.068 | O34: 0 | P34: =$B$9+(N34*0.49)-(($F$9/2)*0.42) -> 1806.6646 | R34: 30 | S34: =($F$3)*(0.5*$H$3*R34^2)*($G$3) -> -409.4604 | T34: 0 | U34: 0.45 | V34: 0 | W34: =($A$3*(U34*9.81)*$C$3)/$B$3 -> 356.43934 | X34: =$B$9+(W34*0.47)-(($F$9/2)*0.42) -> 1672.3178
B35: 30 | C35: =($F$3)*(0.5*$H$3*B35^2)*($G$3) -> -409.4604 | D35: 0.3 | E35: 0 | F35: =($A$3*(D35*9.81)*$C$3)/$J$3 -> 410.712 | G35: 0 | H35: =$B$9+(F35*0.49)-(($F$9/2)*0.42) -> 1706.0402 | J35: 30 | K35: =($F$3)*(0.5*$H$3*J35^2)*($G$3) -> -409.4604 | L35: 0.3 | M35: 0 | N35: =($A$3*(L35*9.81)*$C$3)/$J$3 -> 410.712 | O35: 0 | P35: =$B$9+(N35*0.49)-(($F$9/2)*0.42) -> 1706.0402 | R35: 30 | S35: =($F$3)*(0.5*$H$3*R35^2)*($G$3) -> -409.4604 | T35: 0 | U35: 0.3 | V35: 0 | W35: =($A$3*(U35*9.81)*$C$3)/$B$3 -> 237.62623 | X35: =$B$9+(W35*0.47)-(($F$9/2)*0.42) -> 1616.4756
B36: 30 | C36: =($F$3)*(0.5*$H$3*B36^2)*($G$3) -> -409.4604 | D36: 0.15 | E36: 0 | F36: =($A$3*(D36*9.81)*$C$3)/$J$3 -> 205.356 | G36: 0 | H36: =$B$9+(F36*0.49)-(($F$9/2)*0.42) -> 1605.4157 | J36: 30 | K36: =($F$3)*(0.5*$H$3*J36^2)*($G$3) -> -409.4604 | L36: 0.15 | M36: 0 | N36: =($A$3*(L36*9.81)*$C$3)/$J$3 -> 205.356 | O36: 0 | P36: =$B$9+(N36*0.49)-(($F$9/2)*0.42) -> 1605.4157 | R36: 30 | S36: =($F$3)*(0.5*$H$3*R36^2)*($G$3) -> -409.4604 | T36: 0 | U36: 0.15 | V36: 0 | W36: =($A$3*(U36*9.81)*$C$3)/$B$3 -> 118.81311 | X36: =$B$9+(W36*0.47)-(($F$9/2)*0.42) -> 1560.6335
B37: 30 | C37: =($F$3)*(0.5*$H$3*B37^2)*($G$3) -> -409.4604 | D37: 0 | E37: 0 | F37: =($A$3*(D37*9.81)*$C$3)/$J$3 -> 0 | G37: 0 | H37: =$B$9+(F37*0.49)-(($F$9/2)*0.42) -> 1504.7913 | J37: 30 | K37: =($F$3)*(0.5*$H$3*J37^2)*($G$3) -> -409.4604 | L37: 0 | M37: 0 | N37: =($A$3*(L37*9.81)*$C$3)/$J$3 -> 0 | O37: 0 | P37: =$B$9+(N37*0.49)-(($F$9/2)*0.42) -> 1504.7913 | R37: 30 | S37: =($F$3)*(0.5*$H$3*R37^2)*($G$3) -> -409.4604 | T37: 0 | U37: 0 | V37: 0 | W37: =($A$3*(U37*9.81)*$C$3)/$B$3 -> 0 | X37: =$B$9+(W37*0.47)-(($F$9/2)*0.42) -> 1504.7913
B38: Centre of Gravity 0.46m | J38: Average Track 2.24m | R38: Wheelbase 3.6m
B39: Accelerations | F39: Load Transfer | H39: Vertical Load | J39: Accelerations | N39: Load Transfer | P39: Vertical Load | R39: Accelerations | V39: Load Transfer | X39: Vertical Load
B40: Velocity m/s | C40: Aero Load (N) | D40: Lat G | E40: Long G | F40: Lat Transfer | G40: Long Transfer | H40: FR | J40: Velocity m/s | K40: Aero Load (N) | L40: Lat G | M40: Long G | N40: Lat Transfer | O40: Long Transfer | P40: FR | R40: Velocity m/s | S40: Aero Load (N) | T40: Lat G | U40: Long G | V40: Lat Transfer | W40: Long Transfer | X40: FR
B41: 30 | C41: =($F$3)*(0.5*$H$3*B41^2)*($G$3) -> -409.4604 | D41: 1.5 | E41: 0 | F41: =($A$3*(D41*9.81)*$M$10)/$J$3 -> 2623.9933 | G41: 0 | H41: =$B$9+(F41*0.49)-(($F$9/2)*0.42) -> 2790.548 | J41: 30 | K41: =($F$3)*(0.5*$H$3*J41^2)*($G$3) -> -409.4604 | L41: 1.5 | M41: 0 | N41: =($A$3*(L41*9.81)*$C$3)/$O$10 -> 1485.1639 | O41: 0 | P41: =$B$9+(N41*0.49)-(($F$9/2)*0.42) -> 2232.5216 | R41: 30 | S41: =($F$3)*(0.5*$H$3*R41^2)*($G$3) -> -409.4604 | T41: 0 | U41: 1.5 | V41: 0 | W41: =($A$3*(U41*9.81)*$C$3)/$N$10 -> 924.102 | X41: =$B$9+(W41*0.47)-(($F$9/2)*0.42) -> 1939.1192
B42: 30 | C42: =($F$3)*(0.5*$H$3*B42^2)*($G$3) -> -409.4604 | D42: 1.35 | E42: 0 | F42: =($A$3*(D42*9.81)*$M$10)/$J$3 -> 2361.594 | G42: 0 | H42: =$B$9+(F42*0.49)-(($F$9/2)*0.42) -> 2661.9723 | J42: 30 | K42: =($F$3)*(0.5*$H$3*J42^2)*($G$3) -> -409.4604 | L42: 1.35 | M42: 0 | N42: =($A$3*(L42*9.81)*$C$3)/$O$10 -> 1336.6475 | O42: 0 | P42: =$B$9+(N42*0.49)-(($F$9/2)*0.42) -> 2159.7486 | R42: 30 | S42: =($F$3)*(0.5*$H$3*R42^2)*($G$3) -> -409.4604 | T42: 0 | U42: 1.35 | V42: 0 | W42: =($A$3*(U42*9.81)*$C$3)/$N$10 -> 831.6918 | X42: =$B$9+(W42*0.47)-(($F$9/2)*0.42) -> 1895.6864
B43: 30 | C43: =($F$3)*(0.5*$H$3*B43^2)*($G$3) -> -409.4604 | D43: 1.05 | E43: 0 | F43: =($A$3*(D43*9.81)*$M$10)/$J$3 -> 1836.7953 | G43: 0 | H43: =$B$9+(F43*0.49)-(($F$9/2)*0.42) -> 2404.821 | J43: 30 | K43: =($F$3)*(0.5*$H$3*J43^2)*($G$3) -> -409.4604 | L43: 1.05 | M43: 0 | N43: =($A$3*(L43*9.81)*$C$3)/$O$10 -> 1039.6148 | O43: 0 | P43: =$B$9+(N43*0.49)-(($F$9/2)*0.42) -> 2014.2025 | R43: 30 | S43: =($F$3)*(0.5*$H$3*R43^2)*($G$3) -> -409.4604 | T43: 0 | U43: 1.05 | V43: 0 | W43: =($A$3*(U43*9.81)*$C$3)/$N$10 -> 646.8714 | X43: =$B$9+(W43*0.47)-(($F$9/2)*0.42) -> 1808.8208
...
