Workbook

Sheet RANKING
C3: System | D3: Rank | F3: Advantages | G3: Disadvantages
C4: Snort3 | D4: 1 | E4: Most Effective | F4: * Powerful signature/rule syntax, capable of DPI. * Overall the most effective NIDS at detecting reconnaissance activity. * Achieved Accuracy/Precision/F1-Score of between 82-90%. * MCC values of 64-81% showing a strong positive correlation. * Capable of detecting both fragmented and fragmented further packets. * Capable of detecting ARP attacks, due to its ARP spoof inspector. * Capable of detecting SQLIA. * Capable of detecting invalid HTTPS SSL/TLS handshake. * Detection rates least impacted by DoS activity, Achieving Accuracy/Precision of 75-77% and MCC of 50% equating to moderate positive correlation. From Literature Review: * Multi-Threading Architecture. *Natively Utilises HS pattern matching algorithm which can improve detection capabilities. | G4: * Time consuming to build from source code, install and configure. * ARP Attack messages did not contain significant detail to assist cybersecurity analysts. * Uncapable of detecting Nmap with reduced number of ports during scan during Phase-II(Short). * Uncapable of detecting filtered sslscan during scan during Phase-II(Short). From Literature Review: * By default utilises libcap packet capture module, proven by Waleed et al. to be susceptible to packet-loss due to high throughput. * By default utilises the HS pattern matching algorithm. This is only compatible with systems with Intel x86-64 processors.
C5: Snort2 | D5: 2 | E5: Satisfactory | F5: * Snort2 was proven to be a capable of regularly detecting reconnaissance activity. * Achieved Accuracy/Precision/F1-Score of between 68-86%. * MCC values between 37-73% equating to weak-strong positive correlation. * Capable of detecting fragmented packets. * Capable of detecting part of the SQLIA. * Capable of detecting filtered sslscan during scan during Phase-II(Short). * Achieved the best reconnaissance detection performance during Phase-II(Short). | G5: * Uncapable of detecting fragmented further packets. * Unable of detecting ARP attacks. * Basic signature/rule syntax, this was found to be restrictive., new signatures could not be created to improve detection performance. * A more granular signature/rule syntax would improve detection performance and NIDS capability. * Was unable to detect Nmap with reduced number of ports during scan during Phase-II(Short). * Detection rates negatively impacted by DoS, reducing Accuracy/Precision to 55-57% and MCC to 10%. From Literature Review: * Single-Threading Architecture. * By default utilises libcap packet capture module. * By default utilises the AC pattern matching algorithm, HS algorithm may improve detection performance.
C6: Suricata | D6: 3 | E6: Least Effective | F6: * Powerful signature/rule syntax, capable of DPI. * Manually created signatures/rules significantly improved detection performance and achieving accuracy/F1-Score of 90% and MCC of 81%. Equalling Snort3 detection performance for Phase-II(Long). * Capable of detecting fragmented packets. * Proven that with the correct signatures Suricata's performance can be improved significantly. From Literature Review: *Multi-Threading Architecture. * Utilises AF_Packet Packet Capture Module which was the best performing according to Waleed et al. | G6: * Uncapable of detecting fragmented further packets. * Unable of detecting ARP attacks. * Uncapable of detecting SQLIA. * Despite a powerful signature/rule syntax, it was not possible to create signatures to detect ARP attacks. * Using the default signatures managed to only achieve 53.8% Accuracy, 37% F1-Score and 8% MCC. * FNR values between 72-80% indicating that Suricata was the least capable to detect intrusions. * Was unable to detect Nmap with reduced number of ports during scan during Phase-II(Short). * Uncapable of detecting filtered sslscan during scan during Phase-II(Short). * Worst impacted during the DoS attack, with Accuracy/Precision reduced to 50% and MCC of 0%. * During DoS attack Suricata's classifications were random predictions, with no correlation and effectively guesses. From Literature Review: * By default utilises the AC pattern matching algorithm, HS algorithm may improve detection performance.

Sheet Checklist v3
A1: # | B1: Stage | C1: Tool | D1: Task | E1: Description | F1: Key Points
A2: 1 | B2: Prepare | C2: All | D2: Setup Kali and DAS (SSH sessions to NIDS (S,S2,S3). | E2: Attack and Alert Monitoring / Screenshots. | F2: Standardised layout of screens throughout testing.
A3: 2 | B3: Prepare | C3: All NIDS | D3: Ensure NIDS (S,S2,S3) are running & alert file is capturing. | E3: Single "Monolith" alert file for each NIDS per phase. Or for a group of tests per phase (i.e. Phase1 Tests 1-49) | F3: * Accurately recording the attack start/end times was crucial to locate attack traffic in file, facilitating analysis. * Single alert file used to capture ALL alerts, even if they were delayed.
A4: 3 | B4: Prepare | C4: htop | D4: Set htop to start capturing. | E4: Records CPU Memory (RAM) Utilisation. | F4: Screenshots captured CPU and Memory for all tests.
A5: 4 | B5: Prepare | C5: Tshark | D5: Navigated to appropriate file on NIDS (S,S2,S3) & start Tshark capture. | E5: Single "Monolith" pcap file for each NIDS per phase. Or for a group of tests per phase (i.e. Phase1 Tests 1-49) | F5: * PCAP file named appropriately /stored in correct directory. * Single alert file used to capture ALL alerts, even if they were delayed.
A6: 5 | B6: Prepare | C6: Kali Wireshark | D6: Start Wireshark capture on Kali. | E6: Single "Monolith" pcap file for each phase. | F6: PCAP file named appropriately /stored in correct directory.
A7: 6 | B7: Test | C7: Kali or PC | D7: Start test / MAKE NOTE OF START TIME. | E7: Begin the test. | F7: Make a note of the start time.
A8: 7 | B8: Evidence | C8: Kali or PC | D8: Screenshot of Test in progress on Kali/PC attack VM. | E8: Proof that testing took place. | F8: Name appropriately and store in appropriate files.
A9: 8 | B9: Evidence | C9: DAS | D9: Screenshot of Test in progress on DAS with SSH sessions to NIDS. | E9: Proof that testing took place. | F9: * Included screenshot of htop. * Name appropriately and store in appropriate files.
A10: 9 | B10: Evidence | C10: Kali or PC | D10: Save the output of the attack tool. | E10: CLI save to text file. | F10: Proves the attack took place.
A11: 10 | B11: Evidence | C11: Kali or PC | D11: Save the output of the attack tool. | E11: Screenshot of Kali / PC. | F11: Proves the attack took place.
A12: 11 | B12: Post Test | C12: ALL | D12: MAKE NOTE OF END TIME. | E12: End of test. | F12: Make a note of the end time.
A13: 12 | B13: CHECK | C13: N/A | D13: Ensure Steps 4-11 complete and all evidence gathered. | E13: Ensure all steps complete before continuing. | F13: Ensured all evidenced was gathered.
... A21: 20 | B21: Data Collection | C21: Physical Server | D21: Copy all test data (Alerts and pcaps) from physical host server to a secure cloud storage. Using the University OneDrive storage. | E21: To further backup the data outside of the test environment and make accessible for analysis. | F21: Data backed up the outside of the test environment and provided access to data for analysis.

Sheet Phase I
C1: Details of Test | J1: Attack | S1: Defence
S2: Suricata | T2: Snort2 | U2: Snort3
A3: Test # | C3: Original # | D3: Test | E3: Test Desctiption | F3: Date | G3: Start Time | H3: End Time | J3: Mitre ATT&CK Technique | K3: Mitre ATT&CK Description | L3: Tool # | M3: Tool | N3: Technique | O3: Technique ID | P3: Target | Q3: Command | S3: Classification | T3: Classification | U3: Classification
A4: 1 | C4: 1 | D4: Port Scan of Device | E4: Port Scan Using SYN packets with scan mode | F4: 45933 | G4: 0.56041667 | H4: 0.56041667 | J4: T1595.0001 | K4: Active Scanning | L4: 1 | M4: hping3 | N4: SYN Scan & Scan mode | O4: P1-HP1 | P4: Host | Q4: hping3 -S 10.0.2.111 --scan 0-1023 | S4: FN | T4: TP | U4: TP
A5: 2 | C5: 2 | D5: Port Scan of Device | E5: Port Scan Using SYN packets (Confirms Host online) | F5: 45933 | G5: 0.56180556 | H5: 0.5625 | J5: T1595.0001 | K5: Active Scanning | L5: 1 | M5: hping3 | N5: SYN Scan | O5: P1-HP2 | P5: Host | Q5: hping3 -S 10.0.2.111 -p 0-1023 | S5: FN | T5: TP | U5: TP
A6: 3 | C6: 3 | D6: Port Scan of Device | E6: Port Scan Using ACK packets | F6: 45933 | G6: 0.56388889 | H6: 0.56458333 | J6: T1595.0001 | K6: Active Scanning | L6: 1 | M6: hping3 | N6: ACK Scan | O6: P1-HP3 | P6: Host | Q6: hping3 -A 10.0.2.111 -p 0-1023 | S6: FN | T6: TP | U6: TP
A7: 4 | C7: 4 | D7: Port Scan of Device | E7: Port Scan Using URG packets | F7: 45933 | G7: 0.56597222 | H7: 0.56666667 | J7: T1595.0001 | K7: Active Scanning | L7: 1 | M7: hping3 | N7: URG Scan | O7: P1-HP4 | P7: Host | Q7: hping3 -U 10.0.2.111 -p 0-1023 | S7: FN | T7: TP | U7: TP
A8: 5 | C8: 5 | D8: Port Scan of Device | E8: Port Scan Using PSH packets | F8: 45933 | G8: 0.56805556 | H8: 0.56875 | J8: T1595.0001 | K8: Active Scanning | L8: 1 | M8: hping3 | N8: PSH Scan | O8: P1-HP5 | P8: Host | Q8: hping3 -P 10.0.2.111 -p 0-1023 | S8: FN | T8: TP | U8: TP
A9: 6 | C9: 6 | D9: Port Scan of Device | E9: Port Scan Using FIN packets | F9: 45933 | G9: 0.57013889 | H9: 0.57083333 | J9: T1595.0001 | K9: Active Scanning | L9: 1 | M9: hping3 | N9: FIN Scan | O9: P1-HP6 | P9: Host | Q9: hping3 -F 10.0.2.111 -p 0-1023 | S9: FN | T9: TP | U9: TP
A10: 7 | C10: 7 | D10: Port Scan of Device | E10: Port Scan Using RST packets | F10: 45933 | G10: 0.57222222 | H10: 0.57361111 | J10: T1595.0001 | K10: Active Scanning | L10: 1 | M10: hping3 | N10: RST Scan | O10: P1-HP7 | P10: Host | Q10: hping3 -R 10.0.2.111 -p 0-1023 | S10: TP | T10: TP | U10: TP
A11: 8 | C11: 8 | D11: Port Scan of Device | E11: Port Scan Using SYN packets Using Fragment and scan mode | F11: 45933 | G11: 0.57569444 | H11: 0.57569444 | J11: T1595.0001 | K11: Active Scanning | L11: 1 | M11: hping3 | N11: SYN, Frag & scan mode | O11: P1-HP8 | P11: Host | Q11: hping3 -S -f 10.0.2.111 --scan 0-1023 | S11: TP | T11: TP | U11: TP
A12: 9 | C12: 9 | D12: Port Scan of Device | E12: Port Scan Using SYN packets Using Fragment | F12: 45933 | G12: 0.57777778 | H12: 0.57916667 | J12: T1595.0001 | K12: Active Scanning | L12: 1 | M12: hping3 | N12: SYN Scan, Frag | O12: P1-HP9 | P12: Host | Q12: hping3 -S -f 10.0.2.111 -p 0-1023 | S12: TP | T12: TP | U12: TP
A13: 10 | C13: 10 | D13: Port Scan of Device | E13: Port Scan Using ACK packets Fragment | F13: 45933 | G13: 0.58055556 | H13: 0.58055556 | J13: T1595.0001 | K13: Active Scanning | L13: 1 | M13: hping3 | N13: ACK Scan, Frag | O13: P1-HP10 | P13: Host | Q13: hping3 -A -f 10.0.2.111 -p 0-1023 | S13: TP | T13: TP | U13: TP
A14: 11 | C14: 11 | D14: Port Scan of Device | E14: Port Scan Using URG packets Fragment | F14: 45933 | G14: 0.58194444 | H14: 0.58263889 | J14: T1595.0001 | K14: Active Scanning | L14: 1 | M14: hping3 | N14: URG Scan, Frag | O14: P1-HP11 | P14: Host | Q14: hping3 -U -f 10.0.2.111 -p 0-1023 | S14: TP | T14: TP | U14: TP
A15: 12 | C15: 12 | D15: Port Scan of Device | E15: Port Scan Using PSH packets Fragment | F15: 45933 | G15: 0.58402778 | H15: 0.58472222 | J15: T1595.0001 | K15: Active Scanning | L15: 1 | M15: hping3 | N15: PSH Scan, Frag | O15: P1-HP12 | P15: Host | Q15: hping3 -P -f 10.0.2.111 -p 0-1023 | S15: TP | T15: TP | U15: TP
... A27: 24 | C27: 24 | D27: Host Discovery & Port Scan | E27: Nmap TCP Full Open Scan | F27: 45933 | G27: 0.61388889 | H27: 0.61458333 | J27: T1595.0001 | K27: Active Scanning | L27: 2 | M27: nmap | N27: TCP Scan | O27: P1-NP3 | P27: Range | Q27: nmap -sT 10.0.2.0/25 | S27: FN | T27: TP | U27: TP
A28: 25 | C28: 25 | D28: Host Discovery & Port Scan | E28: Nmap TCP Full Open Scan & OS Detection (-A Aggressive Scan) | F28: 45933 | G28: 2:47:00 PM Error Message 14:50 | H28: 0.62152778 | J28: T1595.0001 | K28: Active Scanning | L28: 2 | M28: nmap | N28: TCP Scan | O28: P1-NP4 | P28: Range | Q28: nmap -sT -A 10.0.2.0/25 | S28: TP | T28: TP | U28: TP
A29: 26 | C29: 26 | D29: Host Discovery & Port Scan | E29: Nmap UDP Full Open Scan | F29: 45933 | G29: 0.62361111 | H29: 0.63611111 | J29: T1595.0001 | K29: Active Scanning | L29: 2 | M29: nmap | N29: UDP Scan | O29: P1-NP5 | P29: Range | Q29: nmap -sU 10.0.2.0/25 | S29: TP | T29: TP | U29: TP
A30: 27 | C30: 27 | D30: Host Discovery & Port Scan | E30: Nmap SYN Half Open (Stealth) Scan | F30: 45933 | G30: 0.63888889 | H30: 0.63958333 | J30: T1595.0001 | K30: Active Scanning | L30: 2 | M30: nmap | N30: SYN Stealth Scan | O30: P1-NP6 | P30: Range | Q30: nmap -sS 10.0.2.0/25 | S30: FN | T30: TP | U30: TP
A31: 28 | C31: 28 | D31: Host Discovery & Port Scan | E31: Nmap ACK Full Open Scan | F31: 45933 | G31: 0.64166667 | H31: 0.64236111 | J31: T1595.0001 | K31: Active Scanning | L31: 2 | M31: nmap | N31: ACK Scan | O31: P1-NP7 | P31: Range | Q31: nmap -sA 10.0.2.0/25 | S31: FN | T31: TP | U31: FN
A32: 29 | C32: 29 | D32: Host Discovery & Port Scan | E32: Nmap FIN Scan | F32: 45933 | G32: 0.64305556 | H32: 0.64375 | J32: T1595.0001 | K32: Active Scanning | L32: 2 | M32: nmap | N32: FIN Scan | O32: P1-NP8 | P32: Range | Q32: nmap -sF 10.0.2.0/25 | S32: FN | T32: TP | U32: TP
A33: 30 | C33: 30 | D33: Host Discovery & Port Scan | E33: Nmap Maimon Scan (ACK&FIN set) | F33: 45933 | G33: 0.64513889 | H33: 0.64583333 | J33: T1595.0001 | K33: Active Scanning | L33: 2 | M33: nmap | N33: ACK & FIN Scan | O33: P1-NP9 | P33: Range | Q33: nmap -sM 10.0.2.0/25 | S33: FN | T33: TP | U33: FN
A34: 31 | C34: 31 | D34: Host Discovery & Port Scan | E34: Nmap Xmas Tree Scan (All Flags Set) | F34: 45933 | G34: 0.64722222 | H34: 0.64791667 | J34: T1595.0001 | K34: Active Scanning | L34: 2 | M34: nmap | N34: Xmas Tree Scan | O34: P1-NP10 | P34: Range | Q34: nmap -sX 10.0.2.0/25 | S34: TP | T34: TP | U34: TP
A35: 32 | C35: 31A | D35: Host Discovery & Port Scan | E35: Nmap Xmas Tree Scan (All Flags Set) | F35: 45933 | G35: 0.67013889 | H35: 0.675 | J35: T1595.0001 | K35: Active Scanning | L35: 24 | M35: Metasploit | N35: Xmas Tree Scan | O35: P1-MT1 | P35: Host | Q35: msfconsle use auxilary/scanner/portscan/xmas show options set rhost 10.0.2.111 run | S35: FN | T35: TP | U35: TP
A36: 33 | C36: 32 | D36: Host Discovery & Port Scan | E36: Nmap Null Scan (No Flags Set) | F36: 45933 | G36: 0.64930556 | H36: 0.65 | J36: T1595.0001 | K36: Active Scanning | L36: 2 | M36: nmap | N36: Null Scan | O36: P1-NP11 | P36: Range | Q36: nmap -sN 10.0.2.0/25 | S36: FN | T36: TP | U36: TP
A37: 34 | C37: 33 | D37: Host Discovery & Port Scan | E37: Nmap Null Scan (Fragment set) | F37: 45933 | G37: 0.65138889 | H37: 0.65208333 | J37: T1595.0001 | K37: Active Scanning | L37: 2 | M37: nmap | N37: Null Scan & Frag | O37: P1-NP12 | P37: Range | Q37: nmap -sN -f 10.0.2.0/25 | S37: FN | T37: TP | U37: TP
A38: 35 | C38: 34 | D38: Host Discovery & Port Scan | E38: Nmap Null Scan (Fragment set) & Decoy | F38: 45933 | G38: 0.65347222 | H38: 0.65416667 | J38: T1595.0001 | K38: Active Scanning | L38: 2 | M38: nmap | N38: Null Scan & Frag | O38: P1-NP13 | P38: Range | Q38: nmap -sN 10.0.2.0/25 -D 10.0.2.200 | S38: FN | T38: TP | U38: TP
A39: 36 | C39: 35 | D39: OS Discovery | E39: Nmap OS Fingerprinting | F39: 45933 | G39: 0.65555556 | H39: 0.65694444 | J39: T1595.0001 | K39: Active Scanning | L39: 2 | M39: nmap | N39: OS Scan | O39: P1-NP14 | P39: Range | Q39: nmap -O 10.0.2.0/25 | S39: TP | T39: TP | U39: TP
A40: 37 | C40: 36 | D40: Host Discovery & Port Scan | E40: Masscan Host Discovery & Port Scan. | F40: 45933 | G40: 0.68819444 | H40: 0.69375 | J40: T1595.0001 | K40: Active Scanning | L40: 3 | M40: masscan | N40: Fast TCP Port Scan | O40: P1-MS1 | P40: Range | Q40: masscan --router-mac 08-00-27-18-dc-50 10.0.2.0/25 -p 139,445 -v | S40: FN | T40: TP | U40: TP
A41: 38 | C41: 37 | D41: Host Discovery at L2 | E41: Arping Host Discovery | F41: 45933 | G41: 0.69513889 | H41: 0.69513889 | J41: T1595.0001 | K41: Active Scanning | L41: 4 | M41: arping | N41: ARP Ping Host | O41: P1-AP1 | P41: Host | Q41: arping -c 10 10.0.2.111 | S41: FN | T41: FN | U41: TP
A42: 39 | C42: 38 | D42: Listening to ARP Traffic Host Discovery at L2 | E42: Arp-scan passively listening to ARP traffic. | F42: 45933 | G42: 0.69722222 | H42: 0.69722222 | J42: T1590.004 | K42: Gather Victim Network Information: Network Topology | L42: 5 | M42: arp-scan | N42: Passive ARP Reconnaissance | O42: P1-AS1 | P42: Range | Q42: arp-scan -l | S42: FN | T42: FN | U42: TP
A43: 40 | C43: 39 | D43: Listening to ARP Traffic to Fingerprint devices Host Discovery at L2. | E43: Arp-scan passively listening to ARP traffic & Fingerprinting Devices. | F43: 45933 | G43: 0.69930556 | H43: 0.7 | J43: T1590.004 | K43: Gather Victim Network Information: Network Topology | L43: 5 | M43: arp-scan | N43: Passive ARP Reconnaissance Fingerprinting. | O43: P1-AS2 | P43: Range | Q43: arp-fingerprint -l | S43: FN | T43: FN | U43: TP
A44: 41 | C44: 40 | D44: Active ARP scan Host Discovery at L2 | E44: Active arp-scan of network range. | F44: 45933 | G44: 0.70208333 | H44: 0.70208333 | J44: T1595.0001 | K44: Active Scanning | L44: 5 | M44: arp-scan | N44: Active ARP Scan | O44: P1-AS3 | P44: Range | Q44: arp-scan 10.0.2.0/25 | S44: FN | T44: FN | U44: TP
A45: 42 | C45: 41 | D45: NetBIOS Scan | E45: NetBIOS Scan of range. | F45: 45933 | G45: 0.70416667 | H45: 0.70416667 | J45: T1595.0001 | K45: Active Scanning | L45: 6 | M45: nbtscan | N45: NetBIOS Scan of range | O45: P1-NB1 | P45: Range | Q45: nbtscan 10.0.2.0/25 | S45: FN | T45: FN | U45: TP
A46: 43 | C46: 42 | D46: NetBIOS Scan | E46: NetBIOS Scan of host. | F46: 45933 | G46: 0.70694444 | H46: 0.70694444 | J46: T1595.0001 | K46: Active Scanning | L46: 6 | M46: nbtscan | N46: NetBIOS Scan of host | O46: P1-NB2 | P46: Host | Q46: nbtscan 10.0.2.111 | S46: FN | T46: FN | U46: FN
A47: 44 | C47: 43 | D47: Ping Scan | E47: Fping ARP & ICMP scan of range. | F47: 45933 | G47: 0.70902778 | J47: T1595.0001 | K47: Active Scanning | L47: 7 | M47: fping | N47: ARP & ICMP Scan of range | O47: P1-FP1 | P47: Range | Q47: fping -g 10.0.2.0/25 | S47: FN | T47: FN | U47: TP
A48: 45 | C48: 44 | D48: Firewall/IDS tester Testing Snort2 | E48: Firewall Rule and IDS Signature vulnerability detection. | F48: 45933 | G48: 0.71180556 | J48: T1590.006 | K48: Gather Victim Network Information: Network Security Appliances | L48: 8 | M48: ftester | N48: Scanning/testing IDS Signatures. | O48: P1-FT1 | P48: Host | Q48: ftest -c 10.0.2.70:999:10.0.2.50:139:AP:TCP:VRFY -v | S48: FN | T48: TP | U48: TP
A49: 46 | C49: 45 | D49: Firewall/IDS tester Testing Snort3 | E49: Firewall Rule and IDS Signature vulnerability detection. | F49: 45933 | G49: 0.71388889 | J49: T1590.006 | K49: Gather Victim Network Information: Network Security Appliances | L49: 8 | M49: ftester | N49: Scanning/testing IDS Signatures. | O49: P1-FT2 | P49: Host | Q49: ftest -c 10.0.2.70:999:10.0.2.51:139:AP:TCP:VRFY -v | S49: FN | T49: TP | U49: TP
A50: 47 | C50: 46 | D50: Firewall/IDS tester Testing Suricata | E50: Firewall Rule and IDS Signature vulnerability detection. | F50: 45933 | G50: 0.71527778 | J50: T1590.006 | K50: Gather Victim Network Information: Network Security Appliances | L50: 8 | M50: ftester | N50: Scanning/testing IDS Signatures. | O50: P1-FT3 | P50: Host | Q50: ftest -c 10.0.2.70:999:10.0.2.52:139:AP:TCP:VRFY -v | S50: FN | T50: TP | U50: TP
A51: 48 | C51: 47 | D51: Network Discovery | E51: Network Discovery (Active Scanning) | F51: 45933 | G51: 0.71666667 | H51: 0.71736111 | J51: T1595.0001 | K51: Active Scanning | L51: 9 | M51: netdiscover | N51: netdiscover active scan of range. | O51: P1-ND1 | P51: Range | Q51: netdiscover -i eth0 -r 10.0.2.0/24 | S51: FN | T51: FN | U51: TP
...

Sheet Phase II-Short-Scan
C1: Details of Test | K1: Attack | V1: Defence
V2: Suricata | W2: Snort2 | X2: Snort3
A3: Test # | C3: Original # | D3: P2 # | E3: Test | F3: Test Desctiption | G3: Date | H3: Start Time | I3: End Time | K3: Tool # | L3: Tool | M3: Technique | N3: Technique ID | O3: Target | P3: Timing Metric | Q3: Unit | R3: Test Time Interval /Sleep | S3: Default Time Interval | T3: Command | V3: Classification | W3: Classification | X3: Classification
A4: 77 | C4: 76 | D4: 1 | E4: Port Scan of Device | F4: Port Scan Using SYN packets with scan mode | G4: 45941 | H4: 0.50625 | I4: 0.51319444 | K4: 1 | L4: hping3 | M4: SYN Scan | N4: P2-HP1 | O4: Host | P4: Interval | Q4: Seconds (S) Or Milliseconds (mS) | R4: 300 S (5 Min) | S4: 1 Second (1,000mS) | T4: hping3 -S 10.0.2.111 -p 0-1023 -i 300 | V4: TP | W4: TP | X4: TP
A5: 78 | C5: 77 | D5: 2 | E5: Port Scan of Device | F5: Port Scan Using SYN packets with scan mode | G5: 45941 | H5: 0.53194444 | I5: 0.53611111 | K5: 1 | L5: hping3 | M5: SYN Scan | N5: P2-HP2 | O5: Host | R5: 200 S | T5: hping3 -S 10.0.2.111 -p 0-1023 -i 200 | V5: TP | W5: TP | X5: TP
A6: 79 | C6: 78 | D6: 3 | E6: Port Scan of Device | F6: Port Scan Using SYN | G6: 45941 | H6: 0.53819444 | I6: 0.54166667 | K6: 1 | L6: hping3 | M6: SYN Scan | N6: P2-HP3 | O6: Host | R6: 150 S | T6: hping3 -S 10.0.2.111 -p 0-1023 -i 150 | V6: TP | W6: TP | X6: TP
A7: 80 | C7: 79 | D7: 4 | E7: Port Scan of Device | F7: Port Scan Using SYN | G7: 45941 | H7: 0.54375 | I7: 0.54583333 | K7: 1 | L7: hping3 | M7: SYN Scan | N7: P2-HP4 | O7: Host | R7: 100 S | T7: hping3 -S 10.0.2.111 -p 0-1023 -i 100 | V7: TP | W7: TP | X7: TP
A8: 81 | C8: 80 | D8: 5 | E8: Port Scan of Device | F8: Port Scan Using SYN | G8: 45941 | H8: 0.54791667 | I8: 0.54861111 | K8: 1 | L8: hping3 | M8: SYN Scan | N8: P2-HP5 | O8: Host | R8: 50 S | T8: hping3 -S 10.0.2.111 -p 0-1023 -i 50 | V8: TP | W8: TP | X8: TP
A9: 82 | C9: 81 | D9: 6 | E9: Port Scan of Device | F9: Port Scan Using SYN | G9: 45941 | H9: 0.55138889 | I9: 0.55138889 | K9: 1 | L9: hping3 | M9: SYN Scan | N9: P2-HP6 | O9: Host | R9: 25 S | T9: hping3 -S 10.0.2.111 -p 0-1023 -i 25 | V9: TP | W9: TP | X9: TP
A10: 83 | C10: 82 | D10: 7 | E10: Port Scan of Device | F10: Port Scan Using SYN | G10: 45941 | H10: 0.55347222 | I10: 0.55347222 | K10: 1 | L10: hping3 | M10: SYN Scan | N10: P2-HP7 | O10: Host | R10: 15 S | T10: hping3 -S 10.0.2.111 -p 0-1023 -i 15 | V10: TP | W10: TP | X10: TP
A11: 84 | C11: 83 | D11: 8 | E11: Port Scan of Device | F11: Port Scan Using SYN | G11: 45941 | H11: 0.55555556 | I11: 0.55555556 | K11: 1 | L11: hping3 | M11: SYN Scan | N11: P2-HP8 | O11: Host | R11: 10 S | T11: hping3 -S 10.0.2.111 -p 0-1023 -i 10 | V11: TP | W11: TP | X11: TP
A12: 120
A13: 85 | C13: 91 | D13: 9 | E13: Host Discovery & Port Scan | F13: Nmap TCP Full Open Scan (Ports 22,80,443) | G13: 45942 | H13: 0.42291667 | I13: 0.43680556 | K13: 2 | L13: Nmap | M13: TCP Scan | N13: P2-NP1 | O13: Host | P13: Delay | Q13: Minute (M), Second or (S) MilliSecond (mS) | R13: 5 M | S13: N/A (Dynamic) | T13: nmap -sT 10.0.2.112 -p 22,80,443 --scan-delay 5m | V13: FN | W13: FN | X13: FN
A14: 86 | C14: 92 | D14: 10 | E14: Host Discovery & Port Scan | F14: Nmap TCP Full Open Scan (Ports 22,80,443) | G14: 45942 | H14: 0.44236111 | I14: 0.45138889 | K14: 2 | L14: Nmap | M14: TCP Scan | N14: P2-NP2 | O14: Host | R14: 200 S | T14: nmap -sT 10.0.2.112 -p 22,80,443 --scan-delay 200s | V14: FN | W14: FN | X14: FN
A15: 87 | C15: 93 | D15: 11 | E15: Host Discovery & Port Scan | F15: Nmap TCP Full Open Scan (Ports 22,80,443) | G15: 45942 | H15: 0.45833333 | I15: 0.46527778 | K15: 2 | L15: Nmap | M15: TCP Scan | N15: P2-NP3 | O15: Host | R15: 150 S | T15: nmap -sT 10.0.2.112 -p 22,80,443 --scan-delay 150s | V15: FN | W15: FN | X15: FN
A16: 88 | C16: 94 | D16: 12 | E16: Host Discovery & Port Scan | F16: Nmap TCP Full Open Scan (Ports 22,80,443) | G16: 45942 | H16: 0.46944444 | I16: 0.47361111 | K16: 2 | L16: Nmap | M16: TCP Scan | N16: P2-NP4 | O16: Host | R16: 100 S | T16: nmap -sT 10.0.2.112 -p 22,80,443 --scan-delay 100s | V16: FN | W16: FN | X16: FN
A17: 89 | C17: 95 | D17: 13 | E17: Host Discovery & Port Scan | F17: Nmap TCP Full Open Scan (Ports 22,80,443) | G17: 45942 | H17: 0.47777778 | I17: 0.47986111 | K17: 2 | L17: Nmap | M17: TCP Scan | N17: P2-NP5 | O17: Host | R17: 50 S | T17: nmap -sT 10.0.2.112 -p 22,80,443 --scan-delay 50s | V17: FN | W17: FN | X17: FN
A18: 90 | C18: 96 | D18: 14 | E18: Host Discovery & Port Scan | F18: Nmap TCP Full Open Scan (Ports 22,80,443) | G18: 45942 | H18: 0.48402778 | I18: 0.48472222 | K18: 2 | L18: Nmap | M18: TCP Scan | N18: P2-NP6 | O18: Host | R18: 25 S | T18: nmap -sT 10.0.2.112 -p 22,80,443 --scan-delay 25s | V18: FN | W18: FN | X18: FN
A19: 91 | C19: 97 | D19: 15 | E19: Host Discovery & Port Scan | F19: Nmap TCP Full Open Scan (Ports 22,80,443) | G19: 45942 | H19: 0.48819444 | I19: 0.48819444 | K19: 2 | L19: Nmap | M19: TCP Scan | N19: P2-NP7 | O19: Host | R19: 15 S | T19: nmap -sT 10.0.2.112 -p 22,80,443 --scan-delay 15s | V19: FN | W19: FN | X19: FN
A20: 92 | C20: 98 | D20: 16 | E20: Host Discovery & Port Scan | F20: Nmap TCP Full Open Scan (Ports 22,80,443) | G20: 45942 | H20: 0.49305556 | I20: 0.49305556 | K20: 2 | L20: Nmap | M20: TCP Scan | N20: P2-NP8 | O20: Host | R20: 10 S | T20: nmap -sT 10.0.2.112 -p 22,80,443 --scan-delay 10s | V20: FN | W20: FN | X20: FN
A22: 93 | C22: 106 | D22: 17 | E22: Host Discovery & Port Scan | F22: Masscan Host Discovery & Port Scan. | G22: 45941 | H22: 0.6625 | I22: 0.66527778 | K22: 3 | L22: Masscan | M22: Active Scanning | N22: P2-MS1 | O22: Host | P22: Rate | Q22: Packets per Second | R22: 300 S (5 Min) | S22: 100 Packets per Second | T22: masscan --router-mac 08-00-27-18-dc-50 10.0.2.0/25 -p 139,445 --rate 0.0033 -v | V22: FN | W22: TP | X22: TP
A23: 94 | C23: 107 | D23: 18 | E23: Scanning of SSL Certificates to confirm CipherSuite | F23: sslscan with filters applied. | G23: 45941 | H23: 0.65763889 | I23: 0.66041667 | K23: 3 | L23: Masscan | M23: Active Scanning | N23: P2-MS2 | O23: Host | R23: 200 S | T23: masscan --router-mac 08-00-27-18-dc-50 10.0.2.0/25 -p 139,445 --rate 0.005 -v | V23: FN | W23: TP | X23: TP
A24: 95 | C24: 108 | D24: 19 | E24: Scanning of SSL Certificates to confirm CipherSuite | F24: sslscan with filters applied. | G24: 45941 | H24: 0.65347222 | I24: 0.65625 | K24: 3 | L24: Masscan | M24: Active Scanning | N24: P2-MS3 | O24: Host | R24: 150 S | T24: masscan --router-mac 08-00-27-18-dc-50 10.0.2.0/25 -p 139,445 --rate 0.0067 -v | V24: FN | W24: TP | X24: TP
A25: 96 | C25: 109 | D25: 20 | E25: Scanning of SSL Certificates to confirm CipherSuite | F25: sslscan with filters applied. | G25: 45941 | H25: 0.64861111 | I25: 0.65138889 | K25: 3 | L25: Masscan | M25: Active Scanning | N25: P2-MS4 | O25: Host | R25: 100 S | T25: masscan --router-mac 08-00-27-18-dc-50 10.0.2.0/25 -p 139,445 --rate 0.01 -v | V25: FN | W25: TP | X25: TP
A26: 97 | C26: 110 | D26: 21 | E26: Scanning of SSL Certificates to confirm CipherSuite | F26: sslscan with filters applied. | G26: 45941 | H26: 0.64375 | I26: 0.64652778 | K26: 3 | L26: Masscan | M26: Active Scanning | N26: P2-MS5 | O26: Host | R26: 50 S | T26: masscan --router-mac 08-00-27-18-dc-50 10.0.2.0/25 -p 139,445 --rate 0.04 -v | V26: FN | W26: TP | X26: TP
A27: 98 | C27: 111 | D27: 22 | E27: Scanning of SSL Certificates to confirm CipherSuite | F27: sslscan with filters applied. | G27: 45941 | H27: 0.63888889 | I27: 0.64166667 | K27: 3 | L27: Masscan | M27: Active Scanning | N27: P2-MS6 | O27: Host | R27: 25 S | T27: masscan --router-mac 08-00-27-18-dc-50 10.0.2.0/25 -p 139,445 --rate 0.03 -v | V27: FN | W27: TP | X27: TP
A28: 99 | C28: 112 | D28: 23 | E28: Scanning of SSL Certificates to confirm CipherSuite | F28: sslscan with filters applied. | G28: 45941 | H28: 0.63472222 | I28: 0.6375 | K28: 3 | L28: Masscan | M28: Active Scanning | N28: P2-MS7 | O28: Host | R28: 15 S | T28: masscan --router-mac 08-00-27-18-dc-50 10.0.2.0/25 -p 139,445 --rate 0.067 -v | V28: FN | W28: TP | X28: TP
A29: 100 | C29: 113 | D29: 24 | E29: Scanning of SSL Certificates to confirm CipherSuite | F29: sslscan with filters applied. | G29: 45941 | H29: 0.62986111 | I29: 0.63263889 | K29: 3 | L29: Masscan | M29: Active Scanning | N29: P2-MS8 | O29: Host | R29: 10 S | T29: masscan --router-mac 08-00-27-18-dc-50 10.0.2.0/25 -p 139,445 --rate 0.1 -v | V29: FN | W29: TP | X29: TP
A31: 101 | C31: 241 | D31: 25 | E31: Scanning of SSL Certificates to confirm CipherSuite | F31: sslscan with filters applied. | G31: 45942 | H31: 0.58402778 | I31: 0.61180556 | K31: 4 | L31: sslscan | M31: SSL Cert Scan | N31: P2-SS1 | O31: Host | P31: Sleep | Q31: mSecond | R31: 300 S (5 Min) | S31: N/A (Uses Time Out) | T31: sslscan --sleep=300000 --tls13 --no-goups --no-fallback --no-renegotiations --no-compression --no-heartbleed 10.0.2.112 | V31: FN | W31: TP | X31: FN
A32: 102 | C32: 242 | D32: 26 | E32: Scanning of SSL Certificates to confirm CipherSuite | F32: sslscan with filters applied. | G32: 45942 | H32: 0.62569444 | I32: 0.64444444 | K32: 4 | L32: sslscan | M32: SSL Cert Scan | N32: P2-SS2 | O32: Host | R32: 200 S | T32: sslscan --sleep=200000 --tls13 --no-goups --no-fallback --no-renegotiations --no-compression --no-heartbleed 10.0.2.112 | V32: FN | W32: TP | X32: FN
A33: 103 | C33: 243 | D33: 27 | E33: Scanning of SSL Certificates to confirm CipherSuite | F33: sslscan with filters applied. | G33: 45942 | H33: 0.65 | I33: 0.66388889 | K33: 4 | L33: sslscan | M33: SSL Cert Scan | N33: P2-SS3 | O33: Host | R33: 150 S | T33: sslscan --sleep=150000 --tls13 --no-goups --no-fallback --no-renegotiations --no-compression --no-heartbleed 10.0.2.112 | V33: FN | W33: TP | X33: FN
A34: 104 | C34: 244 | D34: 28 | E34: Scanning of SSL Certificates to confirm CipherSuite | F34: sslscan with filters applied. | G34: 45942 | H34: 0.66597222 | I34: 0.675 | K34: 4 | L34: sslscan | M34: SSL Cert Scan | N34: P2-SS4 | O34: Host | R34: 100 S | T34: sslscan --sleep=100000 --tls13 --no-goups --no-fallback --no-renegotiations --no-compression --no-heartbleed 10.0.2.112 | V34: FN | W34: TP | X34: FN
A35: 105 | C35: 245 | D35: 29 | E35: Scanning of SSL Certificates to confirm CipherSuite | F35: sslscan with filters applied. | G35: 45942 | H35: 0.67708333 | I35: 0.68125 | K35: 4 | L35: sslscan | M35: SSL Cert Scan | N35: P2-SS5 | O35: Host | R35: 50 S | T35: sslscan --sleep=50000 --tls13 --no-goups --no-fallback --no-renegotiations --no-compression --no-heartbleed 10.0.2.112 | V35: FN | W35: TP | X35: FN
A36: 106 | C36: 246 | D36: 30 | E36: Scanning of SSL Certificates to confirm CipherSuite | F36: sslscan with filters applied. | G36: 45942 | H36: 0.68402778 | I36: 0.68611111 | K36: 4 | L36: sslscan | M36: SSL Cert Scan | N36: P2-SS6 | O36: Host | R36: 25 S | T36: sslscan --sleep=25000 --tls13 --no-goups --no-fallback --no-renegotiations --no-compression --no-heartbleed 10.0.2.112 | V36: FN | W36: TP | X36: FN
A37: 107 | C37: 247 | D37: 31 | E37: Scanning of SSL Certificates to confirm CipherSuite | F37: sslscan with filters applied. | G37: 45942 | H37: 0.68888889 | I37: 0.69027778 | K37: 4 | L37: sslscan | M37: SSL Cert Scan | N37: P2-SS7 | O37: Host | R37: 15 S | T37: sslscan --sleep=15000 --tls13 --no-goups --no-fallback --no-renegotiations --no-compression --no-heartbleed 10.0.2.112 | V37: FN | W37: TP | X37: FN
A38: 108 | C38: 248 | D38: 32 | E38: Scanning of SSL Certificates to confirm CipherSuite | F38: sslscan with filters applied. | G38: 45942 | H38: 0.69236111 | I38: 0.69305556 | K38: 4 | L38: sslscan | M38: SSL Cert Scan | N38: P2-SS8 | O38: Host | R38: 10 S | T38: sslscan --sleep=10000 --tls13 --no-goups --no-fallback --no-renegotiations --no-compression --no-heartbleed 10.0.2.112 | V38: FN | W38: TP | X38: FN
T42: Analysis
T44: TP | V44: =COUNTIF(V4:V38, "TP") -> 8 | W44: =COUNTIF(W4:W38, "TP") -> 24 | X44: =COUNTIF(X4:X38, "TP") -> 16
T45: TN | V45: =COUNTIF(V4:V38, "TN") -> 0 | W45: =COUNTIF(W4:W38, "TN") -> 0 | X45: =COUNTIF(X4:X38, "TN") -> 0
T46: FP | V46: =COUNTIF(V4:V38, "FP") -> 0 | W46: =COUNTIF(W4:W38, "FP") -> 0 | X46: =COUNTIF(X4:X38, "FP") -> 0
...

Sheet Phase II-Long-Scan
C1: Details of Test | L1: Attack | W1: Defence
W2: Suricata | X2: Snort2 | Y2: Snort3
A3: Test # | C3: Original # | D3: P2 # | E3: Test | F3: Test Desctiption | G3: Start Date | H3: Start Time | I3: End Date | J3: End Time | L3: Tool # | M3: Tool | N3: Technique | O3: Technique ID | P3: Target | Q3: Timing Metric | R3: Unit | S3: Test Time Interval /Sleep | T3: Default Time Interval | U3: Command | W3: Classification | X3: Classification | Y3: Classification
A4: 122
A5: 109 | C5: 91L | D5: 33 | E5: Host Discovery & Port Scan | F5: Nmap TCP Full Open Scan Long Scan 5M interval | G5: 45943 | H5: 0.31944444 | I5: 45944 | J5: 0.31944444 | L5: 2 | M5: Nmap | N5: TCP Scan | O5: P2-NP1L | P5: Host | Q5: Delay | R5: Minute (M), Second or (S) MilliSecond (mS) | S5: 5 M | T5: N/A (Dynamic) | U5: nmap -sT 10.0.2.0/25 --scan-delay 5m | W5: TP | X5: TP | Y5: TP
C6: 92 | E6: Host Discovery & Port Scan | F6: Nmap TCP Full Open Scan | L6: 2 | M6: Nmap | N6: TCP Scan | O6: P2-NP2L | P6: Host | S6: 200 S | U6: nmap -sT 10.0.2.0/25 --scan-delay 200s
C7: 93 | E7: Host Discovery & Port Scan | F7: Nmap TCP Full Open Scan | L7: 2 | M7: Nmap | N7: TCP Scan | O7: P2-NP3L | P7: Host | S7: 150 S | U7: nmap -sT 10.0.2.0/25 --scan-delay 150s
C8: 94 | E8: Host Discovery & Port Scan | F8: Nmap TCP Full Open Scan | L8: 2 | M8: Nmap | N8: TCP Scan | O8: P2-NP4L | P8: Host | S8: 100 S | U8: nmap -sT 10.0.2.0/25 --scan-delay 100s
C9: 95 | E9: Host Discovery & Port Scan | F9: Nmap TCP Full Open Scan | L9: 2 | M9: Nmap | N9: TCP Scan | O9: P2-NP5L | P9: Host | S9: 50 S | U9: nmap -sT 10.0.2.0/25 --scan-delay 50s
A10: 110 | C10: 96L | D10: 34 | E10: Host Discovery & Port Scan | F10: Nmap TCP Full Open Scan Long Scan 25S Interval | G10: 45944 | H10: 0.33541667 | I10: 15/10/20205 | J10: TBC | L10: 2 | M10: Nmap | N10: TCP Scan | O10: P2-NP6L | P10: Host | S10: 25 S | U10: nmap -sT 10.0.2.0/25 --scan-delay 25s | W10: TP | X10: TP | Y10: TP
C11: 97 | E11: Host Discovery & Port Scan | F11: Nmap TCP Full Open Scan | L11: 2 | M11: Nmap | N11: TCP Scan | O11: P2-NP7L | P11: Host | S11: 15 S | U11: nmap -sT 10.0.2.0/25 --scan-delay 15s
A12: 111 | C12: 98L | D12: 35 | E12: Host Discovery & Port Scan | F12: Nmap TCP Full Open Scan Long Scan 10S Interval | G12: 45945 | H12: 0.33333333 | I12: 45945 | J12: TBC | L12: 2 | M12: Nmap | N12: TCP Scan | O12: P2-NP8L | P12: Host | S12: 10 S | U12: nmap -sT 10.0.2.0/25 --scan-delay 10s | W12: TP | X12: TP | Y12: TP
A13: 131
U17: Analysis
U19: TP | W19: =COUNTIF(W4:W13, "TP") -> 3 | X19: =COUNTIF(X4:X13, "TP") -> 3 | Y19: =COUNTIF(Y4:Y13, "TP") -> 3
U20: TN | W20: =COUNTIF(W4:W13, "TN") -> 0 | X20: =COUNTIF(X4:X13, "TN") -> 0 | Y20: =COUNTIF(Y4:Y13, "TN") -> 0
U21: FP | W21: =COUNTIF(W4:W13, "FP") -> 0 | X21: =COUNTIF(X4:X13, "FP") -> 0 | Y21: =COUNTIF(Y4:Y13, "FP") -> 0
U22: FN | W22: =COUNTIF(W4:W13, "FN") -> 0 | X22: =COUNTIF(X4:X13, "FN") -> 0 | Y22: =COUNTIF(Y4:Y13, "FN") -> 0
U24: TP | W24: =W19/3 -> 1 | X24: =X19/3 -> 1 | Y24: =Y19/3 -> 1
U25: TN | W25: =W20/3 -> 0 | X25: =X20/3 -> 0 | Y25: =Y20/3 -> 0
U26: FP | W26: =W21/3 -> 0 | X26: =X21/3 -> 0 | Y26: =Y21/3 -> 0
U27: FN | W27: =W22/3 -> 0 | X27: =X22/3 -> 0 | Y27: =Y22/3 -> 0
U29: TP | W29: =W19/3 -> 1 | X29: =X19/3 -> 1 | Y29: =Y19/3 -> 1
U30: TN | W30: =W20/3 -> 0 | X30: =X20/3 -> 0 | Y30: =Y20/3 -> 0
U31: FP | W31: =W21/3 -> 0 | X31: =X21/3 -> 0 | Y31: =Y21/3 -> 0
U32: FN | W32: =W22/3 -> 0 | X32: =X22/3 -> 0 | Y32: =Y22/3 -> 0

Sheet Phase III
C1: Details of Test | K1: Normal Traffic Generation | S1: Defence
S2: Suricata | T2: Snort2 | U2: Snort3
A3: Test # | C3: Original # | D3: P3 # | E3: Test | F3: Test Desctiption | G3: Date | H3: Start Time | I3: End Time | K3: Tool # | L3: Tool | M3: Technique | N3: Technique ID | O3: Target | P3: Command | Q3: Attack Output Saved? | S3: Classification | T3: Classification | U3: Classification
A4: 112 | C4: 256 | D4: 1 | E4: Test Connectivity to DC | F4: ICMP Ping of Meta2 from from Win10 PC. | G4: 45929 | H4: 0.40555556 | I4: 0.40625 | K4: 1 | L4: ping | M4: ICMP Ping | N4: P3-P1 | O4: Host | P4: ping 10.0.2.100 | Q4: Screenshot | S4: TN | T4: TN | U4: TN
A5: 113 | C5: 257 | D5: 2 | E5: Test DNS query of Meta2 | F5: DNS query using nslookup tool from Win10 PC. | G5: 45929 | H5: 0.41041667 | I5: 0.41041667 | K5: 2 | L5: Nslookup | M5: DNS Query | N5: P3-N1 | O5: Host | P5: nslookup meta2.com | Q5: Screenshot | S5: TN | T5: TN | U5: TN
A6: 114 | C6: 258 | D6: 3 | E6: Browse to website via HTTP | F6: Browse to Damn Vulnerable Web Application (DVWA) from Win10 PC. | G6: 45929 | H6: 0.4125 | I6: 0.4125 | K6: 3 | L6: Browser (HTTP) | M6: Website Traffic Generated | N6: P3-B1 | O6: Host | P6: http://meta2.com | Q6: Screenshot | S6: FP | T6: FP | U6: TN
A7: 115 | C7: 259 | D7: 4 | E7: Browse to website via HTTPS | F7: Browse to SSLTarget HTTPS website from Win10 PC. | G7: 45929 | H7: 0.41597222 | I7: 0.41597222 | K7: 3 | L7: Browser (HTTPS) | M7: Encrypted Website Traffic Generated | N7: P3-B2 | O7: Host | P7: https://ssltarget.com | Q7: Screenshot | S7: TN | T7: TN | U7: FP
A8: 116 | C8: 260 | D8: 5 | E8: Browse to shared folder | F8: Testing SMB traffic from Win10 PC. | G8: 45929 | H8: 0.42361111 | I8: 0.42430556 | K8: 4 | L8: Explorer | M8: Browsing to shared folder | N8: P3-E1 | O8: Host | P8: GUI | Q8: Screenshot | S8: TN | T8: TN | U8: TN
A9: 117 | C9: 261 | D9: 6 | E9: Domain Logon over network | F9: Logging onto Windows 11 PC via Test domain account using Kerberos. | G9: 45929 | H9: 0.40069444 | I9: 0.40138889 | K9: 5 | L9: Kerberos | M9: Network Logon | N9: P3-K1 | O9: Host | P9: GUI | Q9: Screenshot | S9: TN | T9: FP | U9: TN
A10: 118 | C10: 262 | D10: 7 | E10: SSH Session to SSLTarget server | F10: Opening a Secure Shell terminal to SSLTarget server from DAS. | G10: 45929 | H10: 0.42638889 | I10: 0.42708333 | K10: 6 | L10: PuTTY / SSH | M10: Terminal Access | N10: P3-S1 | O10: Host | P10: ssh 10.0.2.112 | Q10: Screenshot | S10: TN | T10: TN | U10: TN
A11: 119 | C11: 263 | D11: 8 | E11: Copy a file between servers | F11: Copying a file using WinSCP from DAS. | G11: 45929 | H11: 10.26 | I11: 0.43472222 | K11: 7 | L11: WinSCP | M11: File coping across network | N11: P3-W1 | O11: Host | P11: GUI | Q11: Screenshot | S11: TN | T11: TN | U11: TN
A12: 120 | C12: 264 | D12: 9 | E12: Remote Desktop Protocol (RDP) session between DC and Nessus servers | F12: Remote Desktop Session between servers | G12: 45929 | H12: 0.43888889 | I12: 0.44027778 | K12: 8 | L12: Microsoft RDP | M12: RDP Session | N12: P3-R1 | O12: Host | P12: GUI | Q12: Screenshot | S12: TN | T12: TN | U12: TN
A13: 121 | C13: 265 | D13: 10 | E13: Conduct Nessus Vulnerability Scan | F13: Vulnerability Scan of network | G13: 45933 | H13: 0.40486111 | I13: 0.43263889 | K13: 9 | L13: Nessus | M13: Vulnerability Scan | N13: P3-NS1 | O13: Range | P13: GUI | Q13: Screenshot | S13: FP | T13: FP | U13: FP
P17: Analysis
O19: Sum | P19: TP | S19: =COUNTIF(S4:S13, "TP") -> 0 | T19: =COUNTIF(T4:T13, "TP") -> 0 | U19: =COUNTIF(U4:U13, "TP") -> 0
P20: TN | S20: =COUNTIF(S4:S13, "TN") -> 8 | T20: =COUNTIF(T4:T13, "TN") -> 7 | U20: =COUNTIF(U4:U13, "TN") -> 8
P21: FP | S21: =COUNTIF(S4:S13, "FP") -> 2 | T21: =COUNTIF(T4:T13, "FP") -> 3 | U21: =COUNTIF(U4:U13, "FP") -> 2
P22: FN | S22: =COUNTIF(S4:S13, "FN") -> 0 | T22: =COUNTIF(T4:T13, "FN") -> 0 | U22: =COUNTIF(U4:U13, "FN") -> 0
O24: Percentage | P24: TP | S24: =S19/10 -> 0 | T24: =T19/10 -> 0 | U24: =U19/10 -> 0
P25: TN | S25: =S20/10 -> 0.8 | T25: =T20/10 -> 0.7 | U25: =U20/10 -> 0.8
P26: FP | S26: =S21/10 -> 0.2 | T26: =T21/10 -> 0.3 | U26: =U21/10 -> 0.2
P27: FN | S27: =S22/10 -> 0 | T27: =T22/10 -> 0 | U27: =U22/10 -> 0
O29: Median | P29: TP | S29: =S19/10 -> 0 | T29: =T19/10 -> 0 | U29: =U19/10 -> 0
P30: TN | S30: =S20/10 -> 0.8 | T30: =T20/10 -> 0.7 | U30: =U20/10 -> 0.8
P31: FP | S31: =S21/10 -> 0.2 | T31: =T21/10 -> 0.3 | U31: =U21/10 -> 0.2
P32: FN | S32: =S22/10 -> 0 | T32: =T22/10 -> 0 | U32: =U22/10 -> 0

Sheet Phase IV v3
C1: Details of Test | M1: Attack | V1: Defence | Z1: htop | AA1: CPU/ RAM Monitoring Command:
V2: Suricata | W2: Snort2 | X2: Snort3
A3: Test # | C3: Original # | D3: # | E3: P4 # | F3: P1 # | G3: Test | H3: Test Desctiption | I3: Date | J3: Start Time | K3: End Time | M3: Mitre ATT&CK Technique | N3: Mitre ATT&CK Description | O3: Tool # | P3: Tool | Q3: Technique | R3: Technique ID | S3: Target | T3: Command | V3: Classification | W3: Classification | X3: Classification
A4: 122 | C4: 266 | D4: 266 Test | E4: 1 | F4: 2 | G4: Port Scan of Device | H4: Port Scan Using SYN packets (Confirms Host Online) | I4: 45935 | J4: 0.56875 | K4: 0.56944444 | M4: T1595.0001 | N4: Active Scanning | O4: 1 | P4: hping3 | Q4: SYN Scan | R4: P4-HP1-Test | S4: Host | T4: hping3 -S 10.0.2.112 -p 0-1023 | V4: FN | W4: TP | X4: TP
A5: 123 | C5: 267 | D5: 266 With DoS | E5: 2 | F5: 2 | G5: Port Scan of Device | H5: Port Scan Using SYN packets (Confirms Host Online) | I5: 45935 | J5: 0.57152778 | K5: 0.57291667 | M5: T1595.0001 | N5: Active Scanning | O5: 1 | P5: hping3 | Q5: SYN Scan | R5: P4-HP1-With-DoS | S5: Host | T5: hping3 -S 10.0.2.112 -p 0-1023 | V5: FN | W5: TP | X5: TP
A6: 124 | C6: 268 | D6: 268 Test | E6: 3 | G6: Host Discovery & Port Scan | H6: Nmap TCP Full Open Scan | I6: 45935 | J6: 0.57638889 | K6: 0.57638889 | M6: T1595.0001 | N6: Active Scanning | O6: 2 | P6: nmap | Q6: TCP Scan | R6: P4-NP1-Test | S6: Host | T6: nmap -sT 10.0.2.112 | V6: FN | W6: TP | X6: TP
A7: 125 | C7: 269 | D7: 268 With DoS | E7: 4 | G7: Host Discovery & Port Scan | H7: Nmap TCP Full Open Scan | I7: 45935 | J7: 0.57847222 | K7: 0.57986111 | M7: T1595.0001 | N7: Active Scanning | O7: 2 | P7: nmap | Q7: TCP Scan | R7: P4-NP1-With-DoS | S7: Host | T7: nmap -sT 10.0.2.112 | V7: FN | W7: FN | X7: TP
A8: 126 | C8: 270 | D8: 270 Test | E8: 5 | F8: 22 | G8: Host Discovery | H8: Ping Scan using ARP | I8: 45935 | J8: 0.58263889 | K8: 0.58263889 | M8: T1595.0001 | N8: Active Scanning | O8: 10 | P8: sslscan | Q8: sslscan of host | R8: P4-SS1-Test | S8: Host | T8: sslscan 10.0.2.112 | V8: TP | W8: TP | X8: FN | Z8: Snort3 did not detect sslscan when DoS NOT applied, but DID detect it WITH DoS applied. It is believed that DoS destabalised the server and therefore impacting detections.
A9: 127 | C9: 271 | D9: 270 With DoS | E9: 6 | F9: 22 | G9: Host Discovery | H9: Ping Scan using ARP | I9: 45935 | J9: 0.58541667 | K9: 0.58680556 | M9: T1595.0001 | N9: Active Scanning | O9: 10 | P9: sslscan | Q9: sslscan of host | R9: P4-SS1-With-DoS | S9: Host | T9: sslscan 10.0.2.112 | V9: TP | W9: FN | X9: TP
A10: 128 | C10: 272 | D10: 272 Test | E10: 7 | F10: 40 | G10: Active ARP scan Host Discovery at L2 | H10: Active arp-scan of network range. | I10: 45935 | J10: 0.6 | K10: 0.6 | M10: T1595.0001 | N10: Active Scanning | O10: 5 | P10: arp-scan | Q10: Active ARP Scan | R10: P4-AS1-Test | S10: Range | T10: arp-scan 10.0.2.0/25 | V10: FN | W10: FN | X10: TP
A11: 129 | C11: 273 | D11: 272 With DoS | E11: 8 | F11: 40 | G11: Active ARP scan Host Discovery at L2 | H11: Active arp-scan of network range. | I11: 45935 | J11: 0.60138889 | K11: 0.60138889 | M11: T1595.0001 | N11: Active Scanning | O11: 5 | P11: arp-scan | Q11: Active ARP Scan | R11: P4-AS1-With-DoS | S11: Range | T11: arp-scan 10.0.2.0/25 | V11: FN | W11: FN | X11: TP
A12: 130 | C12: 274 | D12: 274 Test | E12: 9 | F12: 41 | G12: NetBIOS Scan | H12: NetBIOS Scan of range. | I12: 45935 | J12: 0.60625 | K12: 0.60694444 | M12: T1595.0001 | N12: Active Scanning | O12: 6 | P12: nbtscan | Q12: NetBIOS Scan of range | R12: P4-NB1-Test | S12: Range | T12: nbtscan 10.0.2.0/25 | V12: FN | W12: FN | X12: FN
A13: 131 | C13: 275 | D13: 274 With DoS | E13: 10 | F13: 41 | G13: NetBIOS Scan | H13: NetBIOS Scan of range. | I13: 45935 | J13: 0.61041667 | K13: 0.61111111 | M13: T1595.0001 | N13: Active Scanning | O13: 6 | P13: nbtscan | Q13: NetBIOS Scan of range | R13: P4-NB1-With-DoS | S13: Range | T13: nbtscan 10.0.2.0/25 | V13: FN | W13: FN | X13: FN
S15: Analysis
S17: Sum | T17: TP | V17: =COUNTIF(V4:V13, "TP") -> 2 | W17: =COUNTIF(W4:W13, "TP") -> 4 | X17: =COUNTIF(X4:X13, "TP") -> 7
T18: TN | V18: =COUNTIF(V4:V12, "TN") -> 0 | W18: =COUNTIF(W4:W13, "TN") -> 0 | X18: =COUNTIF(X4:X13, "TN") -> 0
T19: FP | V19: =COUNTIF(V4:V12, "FP") -> 0 | W19: =COUNTIF(W4:W12, "FP") -> 0 | X19: =COUNTIF(X4:X13, "FP") -> 0
T20: FN | V20: =COUNTIF(V4:V13, "FN") -> 8 | W20: =COUNTIF(W4:W13, "FN") -> 6 | X20: =COUNTIF(X4:X13, "FN") -> 3
S22: Percentage | T22: TP | V22: =V17/10 -> 0.2 | W22: =W17/10 -> 0.4 | X22: =X17/10 -> 0.7
T23: TN | V23: =V18/10 -> 0 | W23: =W18/10 -> 0 | X23: =X18/10 -> 0
T24: FP | V24: =V19/10 -> 0 | W24: =W19/10 -> 0 | X24: =X19/10 -> 0
T25: FN | V25: =V20/10 -> 0.8 | W25: =W20/10 -> 0.6 | X25: =X20/10 -> 0.3
S27: Median | T27: TP | V27: =V17/10 -> 0.2 | W27: =W17/10 -> 0.4 | X27: =X17/10 -> 0.7
T28: TN | V28: =V18/10 -> 0 | W28: =W18/10 -> 0 | X28: =X18/10 -> 0
T29: FP | V29: =V19/10 -> 0 | W29: =W19/10 -> 0 | X29: =X19/10 -> 0
T30: FN | V30: =V20/10 -> 0.8 | W30: =W20/10 -> 0.6 | X30: =X20/10 -> 0.3

Sheet Analysis Phase 1&3 Percent
A1: Phase | B1: Calculation | C1: Metric | E1: Suricata | F1: Snort2 | G1: Snort3 | I1: Calculation | K1: Suricata | L1: Snort2 | M1: Snort3 | O1: Preferred Result
A2: I | B2: Sum | C2: TP | E2: ='Phase I'!S85 -> 21 | F2: ='Phase I'!T85 -> 51 | G2: ='Phase I'!U85 -> 64
A3: I | C3: TN | E3: ='Phase I'!S86 -> 0 | F3: ='Phase I'!T86 -> 0 | G3: ='Phase I'!U86 -> 0
A4: I | C4: FP | E4: ='Phase I'!S87 -> 0 | F4: ='Phase I'!T87 -> 0 | G4: ='Phase I'!U87 -> 0
A5: I | C5: FN | E5: ='Phase I'!S88 -> 55 | F5: ='Phase I'!T88 -> 25 | G5: ='Phase I'!U88 -> 12
B7: Percentage | C7: TP | E7: ='Phase I'!S95 -> 0.28 | F7: ='Phase I'!T95 -> 0.67105263 | G7: ='Phase I'!U95 -> 0.84210526
C8: TN | E8: ='Phase I'!S96 -> 0 | F8: ='Phase I'!T96 -> 0 | G8: ='Phase I'!U96 -> 0
C9: FP | E9: ='Phase I'!S97 -> 0 | F9: ='Phase I'!T97 -> 0 | G9: ='Phase I'!U97 -> 0
C10: FN | E10: ='Phase I'!S98 -> 0.73333333 | F10: ='Phase I'!T98 -> 0.33333333 | G10: ='Phase I'!U98 -> 0.15789474
A12: I | B12: Median | C12: TP | E12: ='Phase I'!S95 -> 0.28 | F12: ='Phase I'!T95 -> 0.67105263 | G12: ='Phase I'!U95 -> 0.84210526
A13: I | C13: TN | E13: ='Phase I'!S96 -> 0 | F13: ='Phase I'!T96 -> 0 | G13: ='Phase I'!U96 -> 0
A14: I | C14: FP | E14: ='Phase I'!S97 -> 0 | F14: ='Phase I'!T97 -> 0 | G14: ='Phase I'!U97 -> 0
A15: I | C15: FN | E15: ='Phase I'!S98 -> 0.73333333 | F15: ='Phase I'!T98 -> 0.33333333 | G15: ='Phase I'!U98 -> 0.15789474
A17: III | B17: Sum | C17: TP | E17: ='Phase III'!S19 -> 0 | F17: ='Phase III'!T19 -> 0 | G17: ='Phase III'!U19 -> 0
A18: III | C18: TN | E18: ='Phase III'!S20 -> 8 | F18: ='Phase III'!T20 -> 7 | G18: ='Phase III'!U20 -> 8
A19: III | C19: FP | E19: ='Phase III'!S21 -> 2 | F19: ='Phase III'!T21 -> 3 | G19: ='Phase III'!U21 -> 2
A20: III | C20: FN | E20: ='Phase III'!S22 -> 0 | F20: ='Phase III'!T22 -> 0 | G20: ='Phase III'!U22 -> 0
B22: Percentage | C22: TP | E22: ='Phase III'!S29 -> 0 | F22: ='Phase III'!T29 -> 0 | G22: ='Phase III'!U24 -> 0
C23: TN | E23: ='Phase III'!S30 -> 0.8 | F23: ='Phase III'!T30 -> 0.7 | G23: ='Phase III'!U25 -> 0.8
C24: FP | E24: ='Phase III'!S31 -> 0.2 | F24: ='Phase III'!T31 -> 0.3 | G24: ='Phase III'!U26 -> 0.2
C25: FN | E25: ='Phase III'!S32 -> 0 | F25: ='Phase III'!T32 -> 0 | G25: ='Phase III'!U27 -> 0
A27: III | B27: Median | C27: TP | E27: ='Phase III'!S29 -> 0 | F27: ='Phase III'!T29 -> 0 | G27: ='Phase III'!U29 -> 0
A28: III | C28: TN | E28: ='Phase III'!S30 -> 0.8 | F28: ='Phase III'!T30 -> 0.7 | G28: ='Phase III'!U30 -> 0.8
A29: III | C29: FP | E29: ='Phase III'!S31 -> 0.2 | F29: ='Phase III'!T31 -> 0.3 | G29: ='Phase III'!U31 -> 0.2
A30: III | C30: FN | E30: ='Phase III'!S32 -> 0 | F30: ='Phase III'!T32 -> 0 | G30: ='Phase III'!U32 -> 0
K32: (%) | L32: (%) | M32: (%) | O32: (%) | R32: NIDS Comparison from Phase I & Phase III testing
A33: Combined Phase I & III | B33: Sum | C33: TP | E33: =E2+E17 -> 21 | F33: =F2+F17 -> 51 | G33: =G2+G17 -> 64 | I33: Accuracy | K33: =((E43+E44)/(E43+E44+E45+E46))*100 -> 53.815789 | L33: =((F43+F44)/(F43+F44+F45+F46))*100 -> 68.552632 | M33: =((G43+G44)/(G43+G44+G45+G46))*100 -> 82.105263 | O33: 100 | R33: NIDS | S33: Accuracy | T33: Precision | U33: Recall / TPR | V33: Specificity / TNR | W33: FPR | X33: FNR | Y33: NIDS Performance | Z33: F-Score | AA33: MCC
C34: TN | E34: =E3+E18 -> 8 | F34: =F3+F18 -> 7 | G34: =G3+G18 -> 8 | I34: Precision | K34: =(E43/(E43+E45))*100 -> 58.01105 | L34: =(F43/(F43+F45))*100 -> 69.105691 | M34: =(G43/(G43+G45))*100 -> 80.808081 | O34: 100 | S34: (%) | T34: (%) | U34: (%) | V34: (%) | W34: (%) | X34: (%) | Y34: (%) | Z34: (%) | AA34: (%)
C35: FP | E35: =E4+E19 -> 2 | F35: =F4+F19 -> 3 | G35: =G4+G19 -> 2 | I35: Recall / TPR | K35: =(E43/(E43+E46))*100 -> 27.631579 | L35: =(F43/(F43+F46))*100 -> 67.105263 | M35: =(G43/(G43+G46))*100 -> 84.210526 | O35: 100 | R35: Suricata | S35: =K33 -> 53.815789 | T35: =K34 -> 58.01105 | U35: =K35 -> 27.631579 | V35: =K36 -> 80 | W35: =K37 -> 20 | X35: =K38 -> 72.368421 | Y35: =K39 -> 47.016235 | Z35: =K40 -> 37.433155 | AA35: =K41 -> 8.9581727
C36: FN | E36: =E5+E20 -> 55 | F36: =F5+F20 -> 25 | G36: =G5+G20 -> 12 | I36: Specificity / TNR | K36: =(E44/(E44+E45))*100 -> 80 | L36: =(F44/(F44+F45))*100 -> 70 | M36: =(G44/(G44+G45))*100 -> 80 | O36: 100 | R36: Snort2 | S36: =L33 -> 68.552632 | T36: =L34 -> 69.105691 | U36: =L35 -> 67.105263 | V36: =L36 -> 70 | W36: =L37 -> 30 | X36: =L38 -> 32.894737 | Y36: =L39 -> 68.537351 | Z36: =L40 -> 68.090788 | AA36: =L41 -> 37.120819
I37: FPR | K37: =(E45/(E45+E44))*100 -> 20 | L37: =(F45/(F45+F44))*100 -> 30 | M37: =(G45/(G45+G44))*100 -> 20 | O37: 0 | R37: Snort3 | S37: =M33 -> 82.105263 | T37: =M34 -> 80.808081 | U37: =M35 -> 84.210526 | V37: =M36 -> 80 | W37: =M37 -> 20 | X37: =M38 -> 15.789474 | Y37: =M39 -> 82.078268 | Z37: =M40 -> 82.474227 | AA37: =M41 -> 64.26752
B38: Percentage | C38: TP | E38: =E33/76 -> 0.27631579 | F38: =F33/76 -> 0.67105263 | G38: =G33/76 -> 0.84210526 | I38: FNR | K38: =(E46/(E46+E43))*100 -> 72.368421 | L38: =(F46/(F46+F43))*100 -> 32.894737 | M38: =(G46/(G46+G43))*100 -> 15.789474 | O38: 0
C39: TN | E39: =E34/10 -> 0.8 | F39: =F34/10 -> 0.7 | G39: =G34/10 -> 0.8 | I39: NIDS Performance | K39: =(SQRT(K35*K36)) -> 47.016235 | L39: =SQRT(L35*L36) -> 68.537351 | M39: =SQRT(M35*M36) -> 82.078268 | O39: 100 | R39: Preferred Result | S39: 100 | T39: 100 | U39: 100 | V39: 100 | W39: 0 | X39: 0 | Y39: 100 | Z39: 100 | AA39: 100
C40: FP | E40: =E35/10 -> 0.2 | F40: =F35/10 -> 0.3 | G40: =G35/10 -> 0.2 | I40: F-Score | K40: =(2*((K34*K35)/(K34+K35))) -> 37.433155 | L40: =2*((L34*L35)/(L34+L35)) -> 68.090788 | M40: =2*((M34*M35)/(M34+M35)) -> 82.474227 | O40: 100
C41: FN | E41: =E36/76 -> 0.72368421 | F41: =F36/76 -> 0.32894737 | G41: =G36/76 -> 0.15789474 | I41: MCC | K41: =((E43*E44)-(E45*E46))/SQRT((E43+E45)*(E43+E46)*(E44+E45)*(E44+E46))*100 -> 8.9581727 | L41: =(((F43*F44)-(F45*F46))/SQRT((F43+F45)*(F43+F46)*(F44+F45)*(F44+F46)))*100 -> 37.120819 | M41: =(((G43*G44)-(G45*G46))/SQRT((G43+G45)*(G43+G46)*(G44+G45)*(G44+G46)))*100 -> 64.26752 | O41: 100
B43: Median | C43: TP | E43: =E33/76 -> 0.27631579 | F43: =F33/76 -> 0.67105263 | G43: =G33/76 -> 0.84210526
C44: TN | E44: =E34/10 -> 0.8 | F44: =F34/10 -> 0.7 | G44: =G34/10 -> 0.8
C45: FP | E45: =E35/10 -> 0.2 | F45: =F35/10 -> 0.3 | G45: =G35/10 -> 0.2
C46: FN | E46: =E36/76 -> 0.72368421 | F46: =F36/76 -> 0.32894737 | G46: =G36/76 -> 0.15789474
A49: Comparison with related works | AF49: Comparison with related works
...

Sheet Analysis Phase 2&3 Shrt Percent
A1: Phase | B1: Calculation | C1: Metric | E1: Suricata | F1: Snort2 | G1: Snort3 | I1: Calculation | K1: Suricata | L1: Snort2 | M1: Snort3 | O1: Preferred Result
A3: III | B3: Sum | C3: TP | E3: ='Phase III'!S19 -> 0 | F3: ='Phase III'!T19 -> 0 | G3: ='Phase III'!U19 -> 0
A4: III | C4: TN | E4: ='Phase III'!S20 -> 8 | F4: ='Phase III'!T20 -> 7 | G4: ='Phase III'!U20 -> 8
A5: III | C5: FP | E5: ='Phase III'!S21 -> 2 | F5: ='Phase III'!T21 -> 3 | G5: ='Phase III'!U21 -> 2
A6: III | C6: FN | E6: ='Phase III'!S22 -> 0 | F6: ='Phase III'!T22 -> 0 | G6: ='Phase III'!U22 -> 0
B8: Percentage | C8: TP | E8: ='Phase III'!S29 -> 0 | F8: ='Phase III'!T29 -> 0 | G8: ='Phase III'!U24 -> 0
C9: TN | E9: ='Phase III'!S30 -> 0.8 | F9: ='Phase III'!T30 -> 0.7 | G9: ='Phase III'!U25 -> 0.8
C10: FP | E10: ='Phase III'!S31 -> 0.2 | F10: ='Phase III'!T31 -> 0.3 | G10: ='Phase III'!U26 -> 0.2
C11: FN | E11: ='Phase III'!S32 -> 0 | F11: ='Phase III'!T32 -> 0 | G11: ='Phase III'!U27 -> 0
A13: III | B13: Median | C13: TP | E13: ='Phase III'!S29 -> 0 | F13: ='Phase III'!T29 -> 0 | G13: ='Phase III'!U29 -> 0
A14: III | C14: TN | E14: ='Phase III'!S30 -> 0.8 | F14: ='Phase III'!T30 -> 0.7 | G14: ='Phase III'!U30 -> 0.8
A15: III | C15: FP | E15: ='Phase III'!S31 -> 0.2 | F15: ='Phase III'!T31 -> 0.3 | G15: ='Phase III'!U31 -> 0.2
A16: III | C16: FN | E16: ='Phase III'!S32 -> 0 | F16: ='Phase III'!T32 -> 0 | G16: ='Phase III'!U32 -> 0
A18: II Short Scan | B18: Sum | C18: TP | E18: ='Phase II-Short-Scan'!V44 -> 8 | F18: ='Phase II-Short-Scan'!W44 -> 24 | G18: ='Phase II-Short-Scan'!X44 -> 16
A19: II Short Scan | C19: TN | E19: ='Phase II-Short-Scan'!V45 -> 0 | F19: ='Phase II-Short-Scan'!W45 -> 0 | G19: ='Phase II-Short-Scan'!X45 -> 0
A20: II Short Scan | C20: FP | E20: ='Phase II-Short-Scan'!V46 -> 0 | F20: ='Phase II-Short-Scan'!W46 -> 0 | G20: ='Phase II-Short-Scan'!X46 -> 0
A21: II Short Scan | C21: FN | E21: ='Phase II-Short-Scan'!V47 -> 24 | F21: ='Phase II-Short-Scan'!W47 -> 8 | G21: ='Phase II-Short-Scan'!X47 -> 16
A23: II Short Scan | B23: Percentage | C23: TP | E23: ='Phase II-Short-Scan'!V49 -> 0.25 | F23: ='Phase II-Short-Scan'!W49 -> 0.75 | G23: ='Phase II-Short-Scan'!X49 -> 0.5
A24: II Short Scan | C24: TN | E24: ='Phase II-Short-Scan'!V50 -> 0 | F24: ='Phase II-Short-Scan'!W50 -> 0 | G24: ='Phase II-Short-Scan'!X50 -> 0
A25: II Short Scan | C25: FP | E25: ='Phase II-Short-Scan'!V51 -> 0 | F25: ='Phase II-Short-Scan'!W51 -> 0 | G25: ='Phase II-Short-Scan'!X51 -> 0
A26: II Short Scan | C26: FN | E26: ='Phase II-Short-Scan'!V52 -> 0.75 | F26: ='Phase II-Short-Scan'!W52 -> 0.25 | G26: ='Phase II-Short-Scan'!X52 -> 0.5
A28: II Short Scan | B28: Median | C28: TP | E28: ='Phase II-Short-Scan'!V54 -> 0.25 | F28: ='Phase II-Short-Scan'!W54 -> 0.75 | G28: ='Phase II-Short-Scan'!X54 -> 0.5
A29: II Short Scan | C29: TN | E29: ='Phase II-Short-Scan'!V55 -> 0 | F29: ='Phase II-Short-Scan'!W55 -> 0 | G29: ='Phase II-Short-Scan'!X55 -> 0
A30: II Short Scan | C30: FP | E30: ='Phase II-Short-Scan'!V56 -> 0 | F30: ='Phase II-Short-Scan'!W56 -> 0 | G30: ='Phase II-Short-Scan'!X56 -> 0
A31: II Short Scan | C31: FN | E31: ='Phase II-Short-Scan'!V57 -> 0.75 | F31: ='Phase II-Short-Scan'!W57 -> 0.25 | G31: ='Phase II-Short-Scan'!X57 -> 0.5
K33: (%) | L33: (%) | M33: (%) | O33: (%) | R33: NIDS Comparison from Phase II Short Scan & Phase III testing
A34: Combined Phase II Short & III | B34: Sum | C34: TP | E34: =E18+E3 -> 8 | F34: =F18+F3 -> 24 | G34: =G18+G3 -> 16 | I34: Accuracy | K34: =((E44+E45)/(E44+E45+E46+E47))*100 -> 52.5 | L34: =((F44+F45)/(F44+F45+F46+F47))*100 -> 72.5 | M34: =((G44+G45)/(G44+G45+G46+G47))*100 -> 65 | O34: 100 | R34: NIDS | S34: Accuracy | T34: Precision | U34: Recall / TPR | V34: Specificity / TNR | W34: FPR | X34: FNR | Y34: NIDS Performance | Z34: F-Score | AA34: MCC
C35: TN | E35: =E19+E4 -> 8 | F35: =F19+F4 -> 7 | G35: =G19+G4 -> 8 | I35: Precision | K35: =(E44/(E44+E46))*100 -> 55.555556 | L35: =(F44/(F44+F46))*100 -> 71.428571 | M35: =(G44/(G44+G46))*100 -> 71.428571 | O35: 100 | S35: (%) | T35: (%) | U35: (%) | V35: (%) | W35: (%) | X35: (%) | Y35: (%) | Z35: (%) | AA35: (%)
C36: FP | E36: =E20+E5 -> 2 | F36: =F20+F5 -> 3 | G36: =G20+G5 -> 2 | I36: Recall / TPR | K36: =(E44/(E44+E47))*100 -> 25 | L36: =(F44/(F44+F47))*100 -> 75 | M36: =(G44/(G44+G47))*100 -> 50 | O36: 100 | R36: Suricata | S36: =K34 -> 52.5 | T36: =K35 -> 55.555556 | U36: =K36 -> 25 | V36: =K37 -> 80 | W36: =K38 -> 20 | X36: =K39 -> 75 | Y36: =K40 -> 44.72136 | Z36: =K41 -> 34.482759 | AA36: =K42 -> 5.9868434
C37: FN | E37: =E21+E6 -> 24 | F37: =F21+F6 -> 8 | G37: =G21+G6 -> 16 | I37: Specificity / TNR | K37: =(E45/(E45+E46))*100 -> 80 | L37: =(F45/(F45+F46))*100 -> 70 | M37: =(G45/(G45+G46))*100 -> 80 | O37: 100 | R37: Snort2 | S37: =L34 -> 72.5 | T37: =L35 -> 71.428571 | U37: =L36 -> 75 | V37: =L37 -> 70 | W37: =L38 -> 30 | X37: =L39 -> 25 | Y37: =L40 -> 72.456884 | Z37: =L41 -> 73.170732 | AA37: =L42 -> 45.056356
I38: FPR | K38: =(E46/(E46+E45))*100 -> 20 | L38: =(F46/(F46+F45))*100 -> 30 | M38: =(G46/(G46+G45))*100 -> 20 | O38: 0 | R38: Snort3 | S38: =M34 -> 65 | T38: =M35 -> 71.428571 | U38: =M36 -> 50 | V38: =M37 -> 80 | W38: =M38 -> 20 | X38: =M39 -> 50 | Y38: =M40 -> 63.245553 | Z38: =M41 -> 58.823529 | AA38: =M42 -> 31.448545
B39: Percentage | C39: TP | E39: =E34/32 -> 0.25 | F39: =F34/32 -> 0.75 | G39: =G34/32 -> 0.5 | I39: FNR | K39: =(E47/(E47+E44))*100 -> 75 | L39: =(F47/(F47+F44))*100 -> 25 | M39: =(G47/(G47+G44))*100 -> 50 | O39: 0
C40: TN | E40: =E35/10 -> 0.8 | F40: =F35/10 -> 0.7 | G40: =G35/10 -> 0.8 | I40: NIDS Performance | K40: =SQRT(K36*K37) -> 44.72136 | L40: =SQRT(L36*L37) -> 72.456884 | M40: =SQRT(M36*M37) -> 63.245553 | O40: 100 | R40: Preferred Result | S40: 100 | T40: 100 | U40: 100 | V40: 100 | W40: 0 | X40: 0 | Y40: 100 | Z40: 100 | AA40: 100
C41: FP | E41: =E36/10 -> 0.2 | F41: =F36/10 -> 0.3 | G41: =G36/10 -> 0.2 | I41: F-Score | K41: =2*((K35*K36)/(K35+K36)) -> 34.482759 | L41: =2*((L35*L36)/(L35+L36)) -> 73.170732 | M41: =2*((M35*M36)/(M35+M36)) -> 58.823529 | O41: 100
C42: FN | E42: =E37/32 -> 0.75 | F42: =F37/32 -> 0.25 | G42: =G37/32 -> 0.5 | I42: MCC | K42: =(((E44*E45)-(E46*E47))/SQRT((E44+E46)*(E44+E47)*(E45+E46)*(E45+E47)))*100 -> 5.9868434 | L42: =(((F44*F45)-(F46*F47))/SQRT((F44+F46)*(F44+F47)*(F45+F46)*(F45+F47)))*100 -> 45.056356 | M42: =(((G44*G45)-(G46*G47))/SQRT((G44+G46)*(G44+G47)*(G45+G46)*(G45+G47)))*100 -> 31.448545 | O42: 100
B44: Median | C44: TP | E44: =E34/32 -> 0.25 | F44: =F34/32 -> 0.75 | G44: =G34/32 -> 0.5
C45: TN | E45: =E35/10 -> 0.8 | F45: =F35/10 -> 0.7 | G45: =G35/10 -> 0.8
C46: FP | E46: =E36/10 -> 0.2 | F46: =F36/10 -> 0.3 | G46: =G36/10 -> 0.2
C47: FN | E47: =E37/32 -> 0.75 | F47: =F37/32 -> 0.25 | G47: =G37/32 -> 0.5

Sheet Analysis Phase 2&3 Lng Percent
A1: Phase | B1: Calculation | C1: Metric | E1: Suricata | F1: Snort2 | G1: Snort3 | I1: Calculation | K1: Suricata | L1: Snort2 | M1: Snort3 | O1: Preferred Result
A3: III | B3: Sum | C3: TP | E3: ='Phase III'!S19 -> 0 | F3: ='Phase III'!T19 -> 0 | G3: ='Phase III'!U19 -> 0
A4: III | C4: TN | E4: ='Phase III'!S20 -> 8 | F4: ='Phase III'!T20 -> 7 | G4: ='Phase III'!U20 -> 8
A5: III | C5: FP | E5: ='Phase III'!S21 -> 2 | F5: ='Phase III'!T21 -> 3 | G5: ='Phase III'!U21 -> 2
A6: III | C6: FN | E6: ='Phase III'!S22 -> 0 | F6: ='Phase III'!T22 -> 0 | G6: ='Phase III'!U22 -> 0
A8: III | B8: Percentage | C8: TP | E8: ='Phase III'!S29 -> 0 | F8: ='Phase III'!T29 -> 0 | G8: ='Phase III'!U24 -> 0
A9: III | C9: TN | E9: ='Phase III'!S30 -> 0.8 | F9: ='Phase III'!T30 -> 0.7 | G9: ='Phase III'!U25 -> 0.8
A10: III | C10: FP | E10: ='Phase III'!S31 -> 0.2 | F10: ='Phase III'!T31 -> 0.3 | G10: ='Phase III'!U26 -> 0.2
A11: III | C11: FN | E11: ='Phase III'!S32 -> 0 | F11: ='Phase III'!T32 -> 0 | G11: ='Phase III'!U27 -> 0
A13: III | B13: Median | C13: TP | E13: ='Phase III'!S29 -> 0 | F13: ='Phase III'!T29 -> 0 | G13: ='Phase III'!U29 -> 0
A14: III | C14: TN | E14: ='Phase III'!S30 -> 0.8 | F14: ='Phase III'!T30 -> 0.7 | G14: ='Phase III'!U30 -> 0.8
A15: III | C15: FP | E15: ='Phase III'!S31 -> 0.2 | F15: ='Phase III'!T31 -> 0.3 | G15: ='Phase III'!U31 -> 0.2
A16: III | C16: FN | E16: ='Phase III'!S32 -> 0 | F16: ='Phase III'!T32 -> 0 | G16: ='Phase III'!U32 -> 0
A18: II Long Scan | B18: Sum | C18: TP | E18: ='Phase II-Long-Scan'!W19 -> 3 | F18: ='Phase II-Long-Scan'!X19 -> 3 | G18: ='Phase II-Long-Scan'!Y19 -> 3
