Workbook

Sheet RANKING
C3: System | D3: Rank | F3: Advantages | G3: Disadvantages
C4: Snort3 | D4: 1 | E4: Most Effective | F4: * Powerful signature/rule syntax, capable of DPI. * Overall the most effective NIDS at detecting reconnaissance activity. * Achieved Accuracy/Precision/F1-Score of between 82-90%. * MCC values of 64-81% showing a strong positive correlation. * Capable of detecting both fragmented and fragmented further packets. * Capable of detecting ARP attacks, due to its ARP spoof inspector. * Capable of detecting SQLIA. * Capable of detecting invalid HTTPS SSL/TLS handshake. * Detection rates least impacted by DoS activity, Achieving Accuracy/Precision of 75-77% and MCC of 50% equating to moderate positive correlation. From Literature Review: * Multi-Threading Architecture. *Natively Utilises HS pattern matching algorithm which can improve detection capabilities. | G4: * Time consuming to build from source code, install and configure. * ARP Attack messages did not contain significant detail to assist cybersecurity analysts. * Uncapable of detecting Nmap with reduced number of ports during scan during Phase-II(Short). * Uncapable of detecting filtered sslscan during scan during Phase-II(Short). From Literature Review: * By default utilises libcap packet capture module, proven by Waleed et al. to be susceptible to packet-loss due to high throughput. * By default utilises the HS pattern matching algorithm. This is only compatible with systems with Intel x86-64 processors.
C5: Snort2 | D5: 2 | E5: Satisfactory | F5: * Snort2 was proven to be a capable of regularly detecting reconnaissance activity. * Achieved Accuracy/Precision/F1-Score of between 68-86%. * MCC values between 37-73% equating to weak-strong positive correlation. * Capable of detecting fragmented packets. * Capable of detecting part of the SQLIA. * Capable of detecting filtered sslscan during scan during Phase-II(Short). * Achieved the best reconnaissance detection performance during Phase-II(Short). | G5: * Uncapable of detecting fragmented further packets. * Unable of detecting ARP attacks. * Basic signature/rule syntax, this was found to be restrictive., new signatures could not be created to improve detection performance. * A more granular signature/rule syntax would improve detection performance and NIDS capability. * Was unable to detect Nmap with reduced number of ports during scan during Phase-II(Short). * Detection rates negatively impacted by DoS, reducing Accuracy/Precision to 55-57% and MCC to 10%. From Literature Review: * Single-Threading Architecture. * By default utilises libcap packet capture module. * By default utilises the AC pattern matching algorithm, HS algorithm may improve detection performance.
C6: Suricata | D6: 3 | E6: Least Effective | F6: * Powerful signature/rule syntax, capable of DPI. * Manually created signatures/rules significantly improved detection performance and achieving accuracy/F1-Score of 90% and MCC of 81%. Equalling Snort3 detection performance for Phase-II(Long). * Capable of detecting fragmented packets. * Proven that with the correct signatures Suricata's performance can be improved significantly. From Literature Review: *Multi-Threading Architecture. * Utilises AF_Packet Packet Capture Module which was the best performing according to Waleed et al. | G6: * Uncapable of detecting fragmented further packets. * Unable of detecting ARP attacks. * Uncapable of detecting SQLIA. * Despite a powerful signature/rule syntax, it was not possible to create signatures to detect ARP attacks. * Using the default signatures managed to only achieve 53.8% Accuracy, 37% F1-Score and 8% MCC. * FNR values between 72-80% indicating that Suricata was the least capable to detect intrusions. * Was unable to detect Nmap with reduced number of ports during scan during Phase-II(Short). * Uncapable of detecting filtered sslscan during scan during Phase-II(Short). * Worst impacted during the DoS attack, with Accuracy/Precision reduced to 50% and MCC of 0%. * During DoS attack Suricata's classifications were random predictions, with no correlation and effectively guesses. From Literature Review: * By default utilises the AC pattern matching algorithm, HS algorithm may improve detection performance.

Sheet Checklist v3
A1: # | B1: Stage | C1: Tool | D1: Task | E1: Description | F1: Key Points
A2: 1 | B2: Prepare | C2: All | D2: Setup Kali and DAS (SSH sessions to NIDS (S,S2,S3). | E2: Attack and Alert Monitoring / Screenshots. | F2: Standardised layout of screens throughout testing.
A3: 2 | B3: Prepare | C3: All NIDS | D3: Ensure NIDS (S,S2,S3) are running & alert file is capturing. | E3: Single "Monolith" alert file for each NIDS per phase. Or for a group of tests per phase (i.e. Phase1 Tests 1-49) | F3: * Accurately recording the attack start/end times was crucial to locate attack traffic in file, facilitating analysis. * Single alert file used to capture ALL alerts, even if they were delayed.
A4: 3 | B4: Prepare | C4: htop | D4: Set htop to start capturing. | E4: Records CPU Memory (RAM) Utilisation. | F4: Screenshots captured CPU and Memory for all tests.
A5: 4 | B5: Prepare | C5: Tshark | D5: Navigated to appropriate file on NIDS (S,S2,S3) & start Tshark capture. | E5: Single "Monolith" pcap file for each NIDS per phase. Or for a group of tests per phase (i.e. Phase1 Tests 1-49) | F5: * PCAP file named appropriately /stored in correct directory. * Single alert file used to capture ALL alerts, even if they were delayed.
A6: 5 | B6: Prepare | C6: Kali Wireshark | D6: Start Wireshark capture on Kali. | E6: Single "Monolith" pcap file for each phase. | F6: PCAP file named appropriately /stored in correct directory.
A7: 6 | B7: Test | C7: Kali or PC | D7: Start test / MAKE NOTE OF START TIME. | E7: Begin the test. | F7: Make a note of the start time.
A8: 7 | B8: Evidence | C8: Kali or PC | D8: Screenshot of Test in progress on Kali/PC attack VM. | E8: Proof that testing took place. | F8: Name appropriately and store in appropriate files.
A9: 8 | B9: Evidence | C9: DAS | D9: Screenshot of Test in progress on DAS with SSH sessions to NIDS. | E9: Proof that testing took place. | F9: * Included screenshot of htop. * Name appropriately and store in appropriate files.
A10: 9 | B10: Evidence | C10: Kali or PC | D10: Save the output of the attack tool. | E10: CLI save to text file. | F10: Proves the attack took place.
A11: 10 | B11: Evidence | C11: Kali or PC | D11: Save the output of the attack tool. | E11: Screenshot of Kali / PC. | F11: Proves the attack took place.
A12: 11 | B12: Post Test | C12: ALL | D12: MAKE NOTE OF END TIME. | E12: End of test. | F12: Make a note of the end time.
A13: 12 | B13: CHECK | C13: N/A | D13: Ensure Steps 4-11 complete and all evidence gathered. | E13: Ensure all steps complete before continuing. | F13: Ensured all evidenced was gathered.
... A21: 20 | B21: Data Collection | C21: Physical Server | D21: Copy all test data (Alerts and pcaps) from physical host server to a secure cloud storage. Using the University OneDrive storage. | E21: To further backup the data outside of the test environment and make accessible for analysis. | F21: Data backed up the outside of the test environment and provided access to data for analysis.

Sheet Phase I
C1: Details of Test | J1: Attack | S1: Defence
S2: Suricata | T2: Snort2 | U2: Snort3
A3: Test # | C3: Original # | D3: Test | E3: Test Desctiption | F3: Date | G3: Start Time | H3: End Time | J3: Mitre ATT&CK Technique | K3: Mitre ATT&CK Description | L3: Tool # | M3: Tool | N3: Technique | O3: Technique ID | P3: Target | Q3: Command | S3: Classification | T3: Classification | U3: Classification
A4: 1 | C4: 1 | D4: Port Scan of Device | E4: Port Scan Using SYN packets with scan mode | F4: 45933 | G4: 0.56041667 | H4: 0.56041667 | J4: T1595.0001 | K4: Active Scanning | L4: 1 | M4: hping3 | N4: SYN Scan & Scan mode | O4: P1-HP1 | P4: Host | Q4: hping3 -S 10.0.2.111 --scan 0-1023 | S4: FN | T4: TP | U4: TP
A5: 2 | C5: 2 | D5: Port Scan of Device | E5: Port Scan Using SYN packets (Confirms Host online) | F5: 45933 | G5: 0.56180556 | H5: 0.5625 | J5: T1595.0001 | K5: Active Scanning | L5: 1 | M5: hping3 | N5: SYN Scan | O5: P1-HP2 | P5: Host | Q5: hping3 -S 10.0.2.111 -p 0-1023 | S5: FN | T5: TP | U5: TP
A6: 3 | C6: 3 | D6: Port Scan of Device | E6: Port Scan Using ACK packets | F6: 45933 | G6: 0.56388889 | H6: 0.56458333 | J6: T1595.0001 | K6: Active Scanning | L6: 1 | M6: hping3 | N6: ACK Scan | O6: P1-HP3 | P6: Host | Q6: hping3 -A 10.0.2.111 -p 0-1023 | S6: FN | T6: TP | U6: TP
A7: 4 | C7: 4 | D7: Port Scan of Device | E7: Port Scan Using URG packets | F7: 45933 | G7: 0.56597222 | H7: 0.56666667 | J7: T1595.0001 | K7: Active Scanning | L7: 1 | M7: hping3 | N7: URG Scan | O7: P1-HP4 | P7: Host | Q7: hping3 -U 10.0.2.111 -p 0-1023 | S7: FN | T7: TP | U7: TP
A8: 5 | C8: 5 | D8: Port Scan of Device | E8: Port Scan Using PSH packets | F8: 45933 | G8: 0.56805556 | H8: 0.56875 | J8: T1595.0001 | K8: Active Scanning | L8: 1 | M8: hping3 | N8: PSH Scan | O8: P1-HP5 | P8: Host | Q8: hping3 -P 10.0.2.111 -p 0-1023 | S8: FN | T8: TP | U8: TP
A9: 6 | C9: 6 | D9: Port Scan of Device | E9: Port Scan Using FIN packets | F9: 45933 | G9: 0.57013889 | H9: 0.57083333 | J9: T1595.0001 | K9: Active Scanning | L9: 1 | M9: hping3 | N9: FIN Scan | O9: P1-HP6 | P9: Host | Q9: hping3 -F 10.0.2.111 -p 0-1023 | S9: FN | T9: TP | U9: TP
A10: 7 | C10: 7 | D10: Port Scan of Device | E10: Port Scan Using RST packets | F10: 45933 | G10: 0.57222222 | H10: 0.57361111 | J10: T1595.0001 | K10: Active Scanning | L10: 1 | M10: hping3 | N10: RST Scan | O10: P1-HP7 | P10: Host | Q10: hping3 -R 10.0.2.111 -p 0-1023 | S10: TP | T10: TP | U10: TP
A11: 8 | C11: 8 | D11: Port Scan of Device | E11: Port Scan Using SYN packets Using Fragment and scan mode | F11: 45933 | G11: 0.57569444 | H11: 0.57569444 | J11: T1595.0001 | K11: Active Scanning | L11: 1 | M11: hping3 | N11: SYN, Frag & scan mode | O11: P1-HP8 | P11: Host | Q11: hping3 -S -f 10.0.2.111 --scan 0-1023 | S11: TP | T11: TP | U11: TP
A12: 9 | C12: 9 | D12: Port Scan of Device | E12: Port Scan Using SYN packets Using Fragment | F12: 45933 | G12: 0.57777778 | H12: 0.57916667 | J12: T1595.0001 | K12: Active Scanning | L12: 1 | M12: hping3 | N12: SYN Scan, Frag | O12: P1-HP9 | P12: Host | Q12: hping3 -S -f 10.0.2.111 -p 0-1023 | S12: TP | T12: TP | U12: TP
A13: 10 | C13: 10 | D13: Port Scan of Device | E13: Port Scan Using ACK packets Fragment | F13: 45933 | G13: 0.58055556 | H13: 0.58055556 | J13: T1595.0001 | K13: Active Scanning | L13: 1 | M13: hping3 | N13: ACK Scan, Frag | O13: P1-HP10 | P13: Host | Q13: hping3 -A -f 10.0.2.111 -p 0-1023 | S13: TP | T13: TP | U13: TP
A14: 11 | C14: 11 | D14: Port Scan of Device | E14: Port Scan Using URG packets Fragment | F14: 45933 | G14: 0.58194444 | H14: 0.58263889 | J14: T1595.0001 | K14: Active Scanning | L14: 1 | M14: hping3 | N14: URG Scan, Frag | O14: P1-HP11 | P14: Host | Q14: hping3 -U -f 10.0.2.111 -p 0-1023 | S14: TP | T14: TP | U14: TP
A15: 12 | C15: 12 | D15: Port Scan of Device | E15: Port Scan Using PSH packets Fragment | F15: 45933 | G15: 0.58402778 | H15: 0.58472222 | J15: T1595.0001 | K15: Active Scanning | L15: 1 | M15: hping3 | N15: PSH Scan, Frag | O15: P1-HP12 | P15: Host | Q15: hping3 -P -f 10.0.2.111 -p 0-1023 | S15: TP | T15: TP | U15: TP
... A27: 24 | C27: 24 | D27: Host Discovery & Port Scan | E27: Nmap TCP Full Open Scan | F27: 45933 | G27: 0.61388889 | H27: 0.61458333 | J27: T1595.0001 | K27: Active Scanning | L27: 2 | M27: nmap | N27: TCP Scan | O27: P1-NP3 | P27: Range | Q27: nmap -sT 10.0.2.0/25 | S27: FN | T27: TP | U27: TP
A28: 25 | C28: 25 | D28: Host Discovery & Port Scan | E28: Nmap TCP Full Open Scan & OS Detection (-A Aggressive Scan) | F28: 45933 | G28: 2:47:00 PM Error Message 14:50 | H28: 0.62152778 | J28: T1595.0001 | K28: Active Scanning | L28: 2 | M28: nmap | N28: TCP Scan | O28: P1-NP4 | P28: Range | Q28: nmap -sT -A 10.0.2.0/25 | S28: TP | T28: TP | U28: TP
A29: 26 | C29: 26 | D29: Host Discovery & Port Scan | E29: Nmap UDP Full Open Scan | F29: 45933 | G29: 0.62361111 | H29: 0.63611111 | J29: T1595.0001 | K29: Active Scanning | L29: 2 | M29: nmap | N29: UDP Scan | O29: P1-NP5 | P29: Range | Q29: nmap -sU 10.0.2.0/25 | S29: TP | T29: TP | U29: TP
A30: 27 | C30: 27 | D30: Host Discovery & Port Scan | E30: Nmap SYN Half Open (Stealth) Scan | F30: 45933 | G30: 0.63888889 | H30: 0.63958333 | J30: T1595.0001 | K30: Active Scanning | L30: 2 | M30: nmap | N30: SYN Stealth Scan | O30: P1-NP6 | P30: Range | Q30: nmap -sS 10.0.2.0/25 | S30: FN | T30: TP | U30: TP
A31: 28 | C31: 28 | D31: Host Discovery & Port Scan | E31: Nmap ACK Full Open Scan | F31: 45933 | G31: 0.64166667 | H31: 0.64236111 | J31: T1595.0001 | K31: Active Scanning | L31: 2 | M31: nmap | N31: ACK Scan | O31: P1-NP7 | P31: Range | Q31: nmap -sA 10.0.2.0/25 | S31: FN | T31: TP | U31: FN
A32: 29 | C32: 29 | D32: Host Discovery & Port Scan | E32: Nmap FIN Scan | F32: 45933 | G32: 0.64305556 | H32: 0.64375 | J32: T1595.0001 | K32: Active Scanning | L32: 2 | M32: nmap | N32: FIN Scan | O32: P1-NP8 | P32: Range | Q32: nmap -sF 10.0.2.0/25 | S32: FN | T32: TP | U32: TP
A33: 30 | C33: 30 | D33: Host Discovery & Port Scan | E33: Nmap Maimon Scan (ACK&FIN set) | F33: 45933 | G33: 0.64513889 | H33: 0.64583333 | J33: T1595.0001 | K33: Active Scanning | L33: 2 | M33: nmap | N33: ACK & FIN Scan | O33: P1-NP9 | P33: Range | Q33: nmap -sM 10.0.2.0/25 | S33: FN | T33: TP | U33: FN
A34: 31 | C34: 31 | D34: Host Discovery & Port Scan | E34: Nmap Xmas Tree Scan (All Flags Set) | F34: 45933 | G34: 0.64722222 | H34: 0.64791667 | J34: T1595.0001 | K34: Active Scanning | L34: 2 | M34: nmap | N34: Xmas Tree Scan | O34: P1-NP10 | P34: Range | Q34: nmap -sX 10.0.2.0/25 | S34: TP | T34: TP | U34: TP
A35: 32 | C35: 31A | D35: Host Discovery & Port Scan | E35: Nmap Xmas Tree Scan (All Flags Set) | F35: 45933 | G35: 0.67013889 | H35: 0.675 | J35: T1595.0001 | K35: Active Scanning | L35: 24 | M35: Metasploit | N35: Xmas Tree Scan | O35: P1-MT1 | P35: Host | Q35: msfconsle use auxilary/scanner/portscan/xmas show options set rhost 10.0.2.111 run | S35: FN | T35: TP | U35: TP
A36: 33 | C36: 32 | D36: Host Discovery & Port Scan | E36: Nmap Null Scan (No Flags Set) | F36: 45933 | G36: 0.64930556 | H36: 0.65 | J36: T1595.0001 | K36: Active Scanning | L36: 2 | M36: nmap | N36: Null Scan | O36: P1-NP11 | P36: Range | Q36: nmap -sN 10.0.2.0/25 | S36: FN | T36: TP | U36: TP
A37: 34 | C37: 33 | D37: Host Discovery & Port Scan | E37: Nmap Null Scan (Fragment set) | F37: 45933 | G37: 0.65138889 | H37: 0.65208333 | J37: T1595.0001 | K37: Active Scanning | L37: 2 | M37: nmap | N37: Null Scan & Frag | O37: P1-NP12 | P37: Range | Q37: nmap -sN -f 10.0.2.0/25 | S37: FN | T37: TP | U37: TP
A38: 35 | C38: 34 | D38: Host Discovery & Port Scan | E38: Nmap Null Scan (Fragment set) & Decoy | F38: 45933 | G38: 0.65347222 | H38: 0.65416667 | J38: T1595.0001 | K38: Active Scanning | L38: 2 | M38: nmap | N38: Null Scan & Frag | O38: P1-NP13 | P38: Range | Q38: nmap -sN 10.0.2.0/25 -D 10.0.2.200 | S38: FN | T38: TP | U38: TP
A39: 36 | C39: 35 | D39: OS Discovery | E39: Nmap OS Fingerprinting | F39: 45933 | G39: 0.65555556 | H39: 0.65694444 | J39: T1595.0001 | K39: Active Scanning | L39: 2 | M39: nmap | N39: OS Scan | O39: P1-NP14 | P39: Range | Q39: nmap -O 10.0.2.0/25 | S39: TP | T39: TP | U39: TP
A40: 37 | C40: 36 | D40: Host Discovery & Port Scan | E40: Masscan Host Discovery & Port Scan. | F40: 45933 | G40: 0.68819444 | H40: 0.69375 | J40: T1595.0001 | K40: Active Scanning | L40: 3 | M40: masscan | N40: Fast TCP Port Scan | O40: P1-MS1 | P40: Range | Q40: masscan --router-mac 08-00-27-18-dc-50 10.0.2.0/25 -p 139,445 -v | S40: FN | T40: TP | U40: TP
A41: 38 | C41: 37 | D41: Host Discovery at L2 | E41: Arping Host Discovery | F41: 45933 | G41: 0.69513889 | H41: 0.69513889 | J41: T1595.0001 | K41: Active Scanning | L41: 4 | M41: arping | N41: ARP Ping Host | O41: P1-AP1 | P41: Host | Q41: arping -c 10 10.0.2.111 | S41: FN | T41: FN | U41: TP
A42: 39 | C42: 38 | D42: Listening to ARP Traffic Host Discovery at L2 | E42: Arp-scan passively listening to ARP traffic. | F42: 45933 | G42: 0.69722222 | H42: 0.69722222 | J42: T1590.004 | K42: Gather Victim Network Information: Network Topology | L42: 5 | M42: arp-scan | N42: Passive ARP Reconnaissance | O42: P1-AS1 | P42: Range | Q42: arp-scan -l | S42: FN | T42: FN | U42: TP
A43: 40 | C43: 39 | D43: Listening to ARP Traffic to Fingerprint devices Host Discovery at L2. | E43: Arp-scan passively listening to ARP traffic & Fingerprinting Devices. | F43: 45933 | G43: 0.69930556 | H43: 0.7 | J43: T1590.004 | K43: Gather Victim Network Information: Network Topology | L43: 5 | M43: arp-scan | N43: Passive ARP Reconnaissance Fingerprinting. | O43: P1-AS2 | P43: Range | Q43: arp-fingerprint -l | S43: FN | T43: FN | U43: TP
A44: 41 | C44: 40 | D44: Active ARP scan Host Discovery at L2 | E44: Active arp-scan of network range. | F44: 45933 | G44: 0.70208333 | H44: 0.70208333 | J44: T1595.0001 | K44: Active Scanning | L44: 5 | M44: arp-scan | N44: Active ARP Scan | O44: P1-AS3 | P44: Range | Q44: arp-scan 10.0.2.0/25 | S44: FN | T44: FN | U44: TP
A45: 42 | C45: 41 | D45: NetBIOS Scan | E45: NetBIOS Scan of range. | F45: 45933 | G45: 0.70416667 | H45: 0.70416667 | J45: T1595.0001 | K45: Active Scanning | L45: 6 | M45: nbtscan | N45: NetBIOS Scan of range | O45: P1-NB1 | P45: Range | Q45: nbtscan 10.0.2.0/25 | S45: FN | T45: FN | U45: TP
A46: 43 | C46: 42 | D46: NetBIOS Scan | E46: NetBIOS Scan of host. | F46: 45933 | G46: 0.70694444 | H46: 0.70694444 | J46: T1595.0001 | K46: Active Scanning | L46: 6 | M46: nbtscan | N46: NetBIOS Scan of host | O46: P1-NB2 | P46: Host | Q46: nbtscan 10.0.2.111 | S46: FN | T46: FN | U46: FN
A47: 44 | C47: 43 | D47: Ping Scan | E47: Fping ARP & ICMP scan of range. | F47: 45933 | G47: 0.70902778 | J47: T1595.0001 | K47: Active Scanning | L47: 7 | M47: fping | N47: ARP & ICMP Scan of range | O47: P1-FP1 | P47: Range | Q47: fping -g 10.0.2.0/25 | S47: FN | T47: FN | U47: TP
A48: 45 | C48: 44 | D48: Firewall/IDS tester Testing Snort2 | E48: Firewall Rule and IDS Signature vulnerability detection. | F48: 45933 | G48: 0.71180556 | J48: T1590.006 | K48: Gather Victim Network Information: Network Security Appliances | L48: 8 | M48: ftester | N48: Scanning/testing IDS Signatures. | O48: P1-FT1 | P48: Host | Q48: ftest -c 10.0.2.70:999:10.0.2.50:139:AP:TCP:VRFY -v | S48: FN | T48: TP | U48: TP
A49: 46 | C49: 45 | D49: Firewall/IDS tester Testing Snort3 | E49: Firewall Rule and IDS Signature vulnerability detection. | F49: 45933 | G49: 0.71388889 | J49: T1590.006 | K49: Gather Victim Network Information: Network Security Appliances | L49: 8 | M49: ftester | N49: Scanning/testing IDS Signatures. | O49: P1-FT2 | P49: Host | Q49: ftest -c 10.0.2.70:999:10.0.2.51:139:AP:TCP:VRFY -v | S49: FN | T49: TP | U49: TP
A50: 47 | C50: 46 | D50: Firewall/IDS tester Testing Suricata | E50: Firewall Rule and IDS Signature vulnerability detection. | F50: 45933 | G50: 0.71527778 | J50: T1590.006 | K50: Gather Victim Network Information: Network Security Appliances | L50: 8 | M50: ftester | N50: Scanning/testing IDS Signatures. | O50: P1-FT3 | P50: Host | Q50: ftest -c 10.0.2.70:999:10.0.2.52:139:AP:TCP:VRFY -v | S50: FN | T50: TP | U50: TP
A51: 48 | C51: 47 | D51: Network Discovery | E51: Network Discovery (Active Scanning) | F51: 45933 | G51: 0.71666667 | H51: 0.71736111 | J51: T1595.0001 | K51: Active Scanning | L51: 9 | M51: netdiscover | N51: netdiscover active scan of range. | O51: P1-ND1 | P51: Range | Q51: netdiscover -i eth0 -r 10.0.2.0/24 | S51: FN | T51: FN | U51: TP
A52: 49 | C52: 48 | D52: Network Discovery | E52: Network Discovery (Passive Scanning) | F52: 45933 | G52: 0.71944444 | J52: T1590.004 | K52: Gather Victim Network Information: Network Topology | L52: 9 | M52: netdiscover | N52: netdiscover passive listening of range. | O52: P1-ND2 | P52: Range | Q52: netdiscover -p | S52: FN | T52: FN | U52: TP
A53: 50 | C53: 49 | D53: Certificate Scanning | E53: Scanning of SSL Certificates to confirm CipherSuite | F53: 45933 | G53: 0.72152778 | H53: 0.72152778 | J53: T1595.0001 | K53: Active Scanning | L53: 10 | M53: sslscan | N53: sslscan of host | O53: P1-SS1 | P53: Host | Q53: sslscan 10.0.2.112 | S53: TP | T53: TP | U53: TP
A55: 51 | C55: 50 | D55: Host Discovery & Port Scan | E55: Unicornscan UDP of Range | F55: 45934 | G55: 0.41388889 | H55: 0.41458333 | J55: T1595.0001 | K55: Active Scanning | L55: 11 | M55: Unicornscan | N55: UDP Scan | O55: P1-US1 | P55: Range | Q55: unicornscan -v -I 10.0.2.0/25 -m U | S55: TP | T55: TP | U55: TP
A56: 52 | C56: 51 | D56: Host Discovery & Port Scan | E56: Unicornscan UDP of Host | F56: 45934 | G56: 0.41875 | H56: 0.41875 | J56: T1595.0001 | K56: Active Scanning | L56: 11 | M56: Unicornscan | N56: UDP Scan | O56: P1-US2 | P56: Host | Q56: unicornscan -v -I 10.0.2.111 -m U | S56: FN | T56: TP | U56: FN
A57: 53 | C57: 52 | D57: Host Discovery & Port Scan | E57: Unicornscan TCP of Range | F57: 45934 | G57: 0.42013889 | H57: 0.42291667 | J57: T1595.0001 | K57: Active Scanning | L57: 11 | M57: Unicornscan | N57: TCP Scan | O57: P1-US3 | P57: Range | Q57: unicornscan -v -I 10.0.2.0/25 -m T | S57: FN | T57: TP | U57: TP
A58: 54 | C58: 53 | D58: Host Discovery & Port Scan | E58: Unicornscan TCP of Host | F58: 45934 | G58: 0.425 | H58: 0.425 | J58: T1595.0001 | K58: Active Scanning | L58: 11 | M58: Unicornscan | N58: TCP Scan | O58: P1-US4 | P58: Host | Q58: unicornscan -v -I 10.0.2.111 -m T | S58: FN | T58: TP | U58: FN
A59: 55 | C59: 54 | D59: Host Discovery & Port Scan | E59: Unicornscan ARP of Range | F59: 45934 | G59: 0.42708333 | H59: 0.42708333 | J59: T1595.0001 | K59: Active Scanning | L59: 11 | M59: Unicornscan | N59: ARP Scan | O59: P1-US5 | P59: Range | Q59: unicornscan -v -I 10.0.2.0/25 -m A | S59: FN | T59: FN | U59: TP
A60: 56 | C60: 55 | D60: Host Discovery & Port Scan | E60: Unicornscan ARP of Host | F60: 45934 | G60: 0.42916667 | H60: 0.42916667 | J60: T1595.0001 | K60: Active Scanning | L60: 11 | M60: Unicornscan | N60: ARP Scan | O60: P1-US6 | P60: Host | Q60: unicornscan -v -I 10.0.2.111 -m A | S60: FN | T60: FN | U60: TP
A61: 57 | C61: 56 | D61: Host Discovery & Port Scan | E61: TCP Port Scan | F61: 45934 | G61: 0.43125 | H61: 0.43125 | J61: T1595.0001 | K61: Active Scanning | L61: 12 | M61: dmitry | N61: TCP scan of host | O61: P1-DY1 | P61: host | Q61: dmitry -p 10.0.2.111 | S61: FN | T61: TP | U61: TP
A62: 58 | C62: 57 | D62: Host Discovery & Port Scan | E62: TCP Port Scan & displays banner | F62: 45934 | G62: 0.43263889 | H62: 0.43263889 | J62: T1595.0001 | K62: Active Scanning | L62: 12 | M62: dmitry | N62: TCP scan of host & Banner | O62: P1-DY2 | P62: host | Q62: dmitry -pb 10.0.2.111 | S62: FN | T62: TP | U62: TP
A63: 59 | C63: 58 | D63: Host Discovery & Port Scan | E63: Graphical User Interface (GUI) Active Network Scan | F63: 45934 | G63: 0.43402778 | H63: 0.43680556 | J63: T1595.0001 | K63: Active Scanning | L63: 13 | M63: legion | N63: TCP scan of range | O63: P1-LN1 | P63: Range | Q63: GUI - Range | S63: TP | T63: TP | U63: TP
A64: 60 | C64: 59 | D64: Host Discovery & Port Scan | E64: Graphical User Interface (GUI) Active Network Scan | F64: 45934 | G64: 0.4375 | H64: 0.43958333 | J64: T1595.0001 | K64: Active Scanning | L64: 13 | M64: legion | N64: TCP scan of host | O64: P1-LN2 | P64: Host | Q64: GUI- Meta2 | S64: TP | T64: TP | U64: TP
A65: 61 | C65: 60 | D65: Advanced Port Scanner | E65: Graphical User Interface (GUI) Active Network Scan | F65: 45934 | G65: 0.44027778 | H65: 0.44166667 | J65: T1595.0001 | K65: Active Scanning | L65: 14 | M65: Advanced Port Scanner | N65: TCP scan of RANGE - NOT host UPDATED | O65: P1-APS1 | P65: Range | Q65: GUI | S65: TP | T65: TP | U65: TP
... A69: 65 | C69: 64 | D69: Network Protocol Scan | E69: Passive Network Protocol Scan | F69: 45934 | G69: 0.55694444 | H69: 0.56180556 | J69: T1590.004 | K69: Gather Victim Network Information: Network Topology | L69: 17 | M69: above | N69: Network Protocol Analysis | O69: P1-AV1 | P69: Range | Q69: above --interface eth0/enp0s3 | S69: FN | T69: FN | U69: FN
A70: 66 | C70: 65 | D70: Network Protocol Scan | E70: Passive Network Protocol Scan | F70: 45934 | G70: 0.56319444 | J70: T1590.004 | K70: Gather Victim Network Information: Network Topology | L70: 18 | M70: Wireshark | N70: Network Protocol Analysis | O70: P1-WS1 | P70: Range | Q70: GUI | S70: FN | T70: FN | U70: FN
A71: 67 | C71: 66 | D71: DNS Enumeration | E71: DNS Enumeration of Domain targeting DNS server (DC) and Webserver | F71: 45934 | G71: 0.56805556 | H71: 0.56805556 | J71: T1590.002 | K71: Gather Victim Network Information: DNS | L71: 19 | M71: dnsenum | N71: DNS Enumeration | O71: P1-DE1 | P71: Domain | Q71: dnsenum --dnsserver 10.0.2.100 cyber.test | S71: FN | T71: TP | U71: FN
A72: 68 | C72: 67 | D72: DNS Enumeration | E72: DNS Enumeration of Domain targeting DNS server (DC) | F72: 45934 | G72: 0.57013889 | H72: 0.57013889 | J72: T1590.002 | K72: Gather Victim Network Information: DNS | L72: 20 | M72: dnsrecon | N72: DNS Enumeration | O72: P1-DR1 | P72: Domain | Q72: dnsrecon -n 10.0.2.100 -d cyber.test | S72: FN | T72: TP | U72: FN
A73: 69 | C73: 68 | D73: Enumeration of users, computers and data | E73: Enumeration Targeting DNS server (DC) - Aggressive enumeration (All Options) | F73: 45934 | G73: 0.57291667 | H73: 0.57291667 | J73: T1590.001 / T1082 | K73: Gather Victim Network Information: Domain Properties / System Information Discovery | L73: 21 | M73: enum4linux | N73: Domain Information Enumeration | O73: P1-EL1 | P73: Host | Q73: enum4linux -alAo 10.0.2.111 | S73: TP | T73: TP | U73: TP
A74: 70 | C74: 69 | D74: Enumeration of users, computers and data | E74: Enumeration Targeting DNS server (DC) - Aggressive enumeration (All Options) | F74: 45934 | G74: 0.57777778 | H74: 0.57777778 | J74: T1590.001 / T1082 | K74: Gather Victim Network Information: Domain Properties / System Information Discovery | L74: 21 | M74: enum4linux | N74: Domain Information Enumeration | O74: P1-EL2 | P74: Range | Q74: enum4linux -alAo 10.0.2.10-120 | S74: FN | T74: FN | U74: FN
A75: 71 | C75: 70 | D75: SMB Enumeration | E75: Scan for network shared folders | F75: 45934 | G75: 0.58055556 | H75: 0.58055556 | J75: T1021.002 | K75: Remote Services: SMB/Windows Admin Shares | L75: 22 | M75: smbmap | N75: Network Shared Folder Scan | O75: P1-SB1 | P75: host | Q75: smbmap -u <user> -p <password> -d <domain> -H 10.0.2.111 | S75: FN | T75: TP | U75: FN
A76: 72 | C76: 71 | D76: SMB Enumeration | E76: Scan for network shared folders List all Files | F76: 45935 | G76: 0.5 | H76: 0.5 | J76: T1021.002 | K76: Remote Services: SMB/Windows Admin Shares - List all files | L76: 22 | M76: smbmap | N76: Network Shared Folder Scan | O76: P1-SB2 | P76: Host | Q76: smbmap -u <user> -p <password> -d <domain> -H 10.0.2.111 -L | S76: FN | T76: FN | U76: FN
A77: 73 | C77: 72 | D77: SQL Enumeration | E77: SQLmap Enumeration - Testing vulnerable parameter (id) | F77: 45934 | G77: 0.69097222 | H77: 0.69375 | J77: T1190 | K77: Exploit Public-Facing Application | L77: 23 | M77: sqlmap | N77: Testing Vulnerable Parameter (id) & flushing previous SQL Scan | O77: P1-SQ2 | P77: Host | Q77: sqlmap "http://meta2.com/vulnerabilities/sqli/?id=1&Submit=Submit" -p id -H " Cookie: <Cookie>; security-low" --flush-session | S77: FN | T77: TP | U77: TP
A78: 74 | C78: 73 | D78: SQL Enumeration | E78: SQLmap Enumeration Exfiltration of Databases | F78: 45934 | G78: 0.69583333 | H78: 0.69583333 | J78: T1190 | K78: Exploit Public-Facing Application | L78: 23 | M78: sqlmap | N78: Exfiltration of Databases & flushing previous SQL Scan | O78: P1-SQ3 | P78: Host | Q78: sqlmap "http://meta2.com/vulnerabilities/sqli/?id=1&Submit=Submit" -p id -H " Cookie: <Cookie>; security-low" --flush-session --dbs | S78: FN | T78: TP | U78: TP
A79: 75 | C79: 74 | D79: SQL Enumeration | E79: SQLmap Enumeration Inspect "dvwa" Database tables | F79: 45757 | G79: 0.69722222 | H79: 0.69722222 | J79: T1190 | K79: Exploit Public-Facing Application | L79: 23 | M79: sqlmap | N79: Inspecting the "dvwa" database tables | O79: P1-SQ4 | P79: Host | Q79: sqlmap "http://meta2.com/vulnerabilities/sqli/?id=1&Submit=Submit" -p id -H " Cookie: <Cookie>; security-low" -D dvwa --tables | S79: FN | T79: FN | U79: TP
A80: 76 | C80: 75 | D80: SQL Enumeration | E80: SQLmap Enumeration Inspect User Table of the dvwa Database gathering usernames & passwords | F80: 45934 | G80: 0.7 | H80: 0.70069444 | J80: T1190 | K80: Exploit Public-Facing Application | L80: 23 | M80: sqlmap | N80: Gathering Usernames and Passwords from "dvwa" database table | O80: P1-SQ5 | P80: Host | Q80: sqlmap "http://meta2.com/vulnerabilities/sqli/?id=1&Submit=Submit" -p id -H " Cookie: <Cookie>; security-low" -D dvwa -T users --dump | S80: FN | T80: FN | U80: TP
P83: Analysis
P85: Sum | Q85: TP | S85: =COUNTIF(S4:S80, "TP") -> 21 | T85: =COUNTIF(T4:T80, "TP") -> 51 | U85: =COUNTIF(U4:U80, "TP") -> 64
Q86: TN | S86: =COUNTIF(S4:S80, "TN") -> 0 | T86: =COUNTIF(T4:T80, "TN") -> 0 | U86: =COUNTIF(U4:U80, "TN") -> 0
Q87: FP | S87: =COUNTIF(S4:S80, "FP") -> 0 | T87: =COUNTIF(T4:T80, "FP") -> 0 | U87: =COUNTIF(U4:U80, "FP") -> 0
Q88: FN | S88: =COUNTIF(S4:S80, "FN") -> 55 | T88: =COUNTIF(T4:T80, "FN") -> 25 | U88: =COUNTIF(U4:U80, "FN") -> 12
P90: Percentage | Q90: TP | S90: =S85/76 -> 0.27631579 | T90: =T85/76 -> 0.67105263 | U90: =U85/76 -> 0.84210526
Q91: TN | S91: =S86/76 -> 0 | T91: =T86/76 -> 0 | U91: =U86/76 -> 0
Q92: FP | S92: =S87/76 -> 0 | T92: =T87/76 -> 0 | U92: =U87/76 -> 0
Q93: FN | S93: =S88/76 -> 0.72368421 | T93: =T88/76 -> 0.32894737 | U93: =U88/76 -> 0.15789474
P95: Median | Q95: TP | S95: =S85/75 -> 0.28 | T95: =T85/76 -> 0.67105263 | U95: =U85/76 -> 0.84210526
Q96: TN | S96: =S86/75 -> 0 | T96: =T86/76 -> 0 | U96: =U86/76 -> 0
Q97: FP | S97: =S87/75 -> 0 | T97: =T87/76 -> 0 | U97: =U87/76 -> 0
Q98: FN | S98: =S88/75 -> 0.73333333 | T98: =T88/75 -> 0.33333333 | U98: =U88/76 -> 0.15789474

Sheet Phase II-Short-Scan
C1: Details of Test | K1: Attack | V1: Defence
V2: Suricata | W2: Snort2 | X2: Snort3
A3: Test # | C3: Original # | D3: P2 # | E3: Test | F3: Test Desctiption | G3: Date | H3: Start Time | I3: End Time | K3: Tool # | L3: Tool | M3: Technique | N3: Technique ID | O3: Target | P3: Timing Metric | Q3: Unit | R3: Test Time Interval /Sleep | S3: Default Time Interval | T3: Command | V3: Classification | W3: Classification | X3: Classification
A4: 77 | C4: 76 | D4: 1 | E4: Port Scan of Device | F4: Port Scan Using SYN packets with scan mode | G4: 45941 | H4: 0.50625 | I4: 0.51319444 | K4: 1 | L4: hping3 | M4: SYN Scan | N4: P2-HP1 | O4: Host | P4: Interval | Q4: Seconds (S) Or Milliseconds (mS) | R4: 300 S (5 Min) | S4: 1 Second (1,000mS) | T4: hping3 -S 10.0.2.111 -p 0-1023 -i 300 | V4: TP | W4: TP | X4: TP
A5: 78 | C5: 77 | D5: 2 | E5: Port Scan of Device | F5: Port Scan Using SYN packets with scan mode | G5: 45941 | H5: 0.53194444 | I5: 0.53611111 | K5: 1 | L5: hping3 | M5: SYN Scan | N5: P2-HP2 | O5: Host | R5: 200 S | T5: hping3 -S 10.0.2.111 -p 0-1023 -i 200 | V5: TP | W5: TP | X5: TP
A6: 79 | C6: 78 | D6: 3 | E6: Port Scan of Device | F6: Port Scan Using SYN | G6: 45941 | H6: 0.53819444 | I6: 0.54166667 | K6: 1 | L6: hping3 | M6: SYN Scan | N6: P2-HP3 | O6: Host | R6: 150 S | T6: hping3 -S 10.0.2.111 -p 0-1023 -i 150 | V6: TP | W6: TP | X6: TP
A7: 80 | C7: 79 | D7: 4 | E7: Port Scan of Device | F7: Port Scan Using SYN | G7: 45941 | H7: 0.54375 | I7: 0.54583333 | K7: 1 | L7: hping3 | M7: SYN Scan | N7: P2-HP4 | O7: Host | R7: 100 S | T7: hping3 -S 10.0.2.111 -p 0-1023 -i 100 | V7: TP | W7: TP | X7: TP
A8: 81 | C8: 80 | D8: 5 | E8: Port Scan of Device | F8: Port Scan Using SYN | G8: 45941 | H8: 0.54791667 | I8: 0.54861111 | K8: 1 | L8: hping3 | M8: SYN Scan | N8: P2-HP5 | O8: Host | R8: 50 S | T8: hping3 -S 10.0.2.111 -p 0-1023 -i 50 | V8: TP | W8: TP | X8: TP
A9: 82 | C9: 81 | D9: 6 | E9: Port Scan of Device | F9: Port Scan Using SYN | G9: 45941 | H9: 0.55138889 | I9: 0.55138889 | K9: 1 | L9: hping3 | M9: SYN Scan | N9: P2-HP6 | O9: Host | R9: 25 S | T9: hping3 -S 10.0.2.111 -p 0-1023 -i 25 | V9: TP | W9: TP | X9: TP
A10: 83 | C10: 82 | D10: 7 | E10: Port Scan of Device | F10: Port Scan Using SYN | G10: 45941 | H10: 0.55347222 | I10: 0.55347222 | K10: 1 | L10: hping3 | M10: SYN Scan | N10: P2-HP7 | O10: Host | R10: 15 S | T10: hping3 -S 10.0.2.111 -p 0-1023 -i 15 | V10: TP | W10: TP | X10: TP
A11: 84 | C11: 83 | D11: 8 | E11: Port Scan of Device | F11: Port Scan Using SYN | G11: 45941 | H11: 0.55555556 | I11: 0.55555556 | K11: 1 | L11: hping3 | M11: SYN Scan | N11: P2-HP8 | O11: Host | R11: 10 S | T11: hping3 -S 10.0.2.111 -p 0-1023 -i 10 | V11: TP | W11: TP | X11: TP
A12: 120
A13: 85 | C13: 91 | D13: 9 | E13: Host Discovery & Port Scan | F13: Nmap TCP Full Open Scan (Ports 22,80,443) | G13: 45942 | H13: 0.42291667 | I13: 0.43680556 | K13: 2 | L13: Nmap | M13: TCP Scan | N13: P2-NP1 | O13: Host | P13: Delay | Q13: Minute (M), Second or (S) MilliSecond (mS) | R13: 5 M | S13: N/A (Dynamic) | T13: nmap -sT 10.0.2.112 -p 22,80,443 --scan-delay 5m | V13: FN | W13: FN | X13: FN
A14: 86 | C14: 92 | D14: 10 | E14: Host Discovery & Port Scan | F14: Nmap TCP Full Open Scan (Ports 22,80,443) | G14: 45942 | H14: 0.44236111 | I14: 0.45138889 | K14: 2 | L14: Nmap | M14: TCP Scan | N14: P2-NP2 | O14: Host | R14: 200 S | T14: nmap -sT 10.0.2.112 -p 22,80,443 --scan-delay 200s | V14: FN | W14: FN | X14: FN
A15: 87 | C15: 93 | D15: 11 | E15: Host Discovery & Port Scan | F15: Nmap TCP Full Open Scan (Ports 22,80,443) | G15: 45942 | H15: 0.45833333 | I15: 0.46527778 | K15: 2 | L15: Nmap | M15: TCP Scan | N15: P2-NP3 | O15: Host | R15: 150 S | T15: nmap -sT 10.0.2.112 -p 22,80,443 --scan-delay 150s | V15: FN | W15: FN | X15: FN
A16: 88 | C16: 94 | D16: 12 | E16: Host Discovery & Port Scan | F16: Nmap TCP Full Open Scan (Ports 22,80,443) | G16: 45942 | H16: 0.46944444 | I16: 0.47361111 | K16: 2 | L16: Nmap | M16: TCP Scan | N16: P2-NP4 | O16: Host | R16: 100 S | T16: nmap -sT 10.0.2.112 -p 22,80,443 --scan-delay 100s | V16: FN | W16: FN | X16: FN
A17: 89 | C17: 95 | D17: 13 | E17: Host Discovery & Port Scan | F17: Nmap TCP Full Open Scan (Ports 22,80,443) | G17: 45942 | H17: 0.47777778 | I17: 0.47986111 | K17: 2 | L17: Nmap | M17: TCP Scan | N17: P2-NP5 | O17: Host | R17: 50 S | T17: nmap -sT 10.0.2.112 -p 22,80,443 --scan-delay 50s | V17: FN | W17: FN | X17: FN
A18: 90 | C18: 96 | D18: 14 | E18: Host Discovery & Port Scan | F18: Nmap TCP Full Open Scan (Ports 22,80,443) | G18: 45942 | H18: 0.48402778 | I18: 0.48472222 | K18: 2 | L18: Nmap | M18: TCP Scan | N18: P2-NP6 | O18: Host | R18: 25 S | T18: nmap -sT 10.0.2.112 -p 22,80,443 --scan-delay 25s | V18: FN | W18: FN | X18: FN
A19: 91 | C19: 97 | D19: 15 | E19: Host Discovery & Port Scan | F19: Nmap TCP Full Open Scan (Ports 22,80,443) | G19: 45942 | H19: 0.48819444 | I19: 0.48819444 | K19: 2 | L19: Nmap | M19: TCP Scan | N19: P2-NP7 | O19: Host | R19: 15 S | T19: nmap -sT 10.0.2.112 -p 22,80,443 --scan-delay 15s | V19: FN | W19: FN | X19: FN
A20: 92 | C20: 98 | D20: 16 | E20: Host Discovery & Port Scan | F20: Nmap TCP Full Open Scan (Ports 22,80,443) | G20: 45942 | H20: 0.49305556 | I20: 0.49305556 | K20: 2 | L20: Nmap | M20: TCP Scan | N20: P2-NP8 | O20: Host | R20: 10 S | T20: nmap -sT 10.0.2.112 -p 22,80,443 --scan-delay 10s | V20: FN | W20: FN | X20: FN
A22: 93 | C22: 106 | D22: 17 | E22: Host Discovery & Port Scan | F22: Masscan Host Discovery & Port Scan. | G22: 45941 | H22: 0.6625 | I22: 0.66527778 | K22: 3 | L22: Masscan | M22: Active Scanning | N22: P2-MS1 | O22: Host | P22: Rate | Q22: Packets per Second | R22: 300 S (5 Min) | S22: 100 Packets per Second | T22: masscan --router-mac 08-00-27-18-dc-50 10.0.2.0/25 -p 139,445 --rate 0.0033 -v | V22: FN | W22: TP | X22: TP
A23: 94 | C23: 107 | D23: 18 | E23: Scanning of SSL Certificates to confirm CipherSuite | F23: sslscan with filters applied. | G23: 45941 | H23: 0.65763889 | I23: 0.66041667 | K23: 3 | L23: Masscan | M23: Active Scanning | N23: P2-MS2 | O23: Host | R23: 200 S | T23: masscan --router-mac 08-00-27-18-dc-50 10.0.2.0/25 -p 139,445 --rate 0.005 -v | V23: FN | W23: TP | X23: TP
A24: 95 | C24: 108 | D24: 19 | E24: Scanning of SSL Certificates to confirm CipherSuite | F24: sslscan with filters applied. | G24: 45941 | H24: 0.65347222 | I24: 0.65625 | K24: 3 | L24: Masscan | M24: Active Scanning | N24: P2-MS3 | O24: Host | R24: 150 S | T24: masscan --router-mac 08-00-27-18-dc-50 10.0.2.0/25 -p 139,445 --rate 0.0067 -v | V24: FN | W24: TP | X24: TP
A25: 96 | C25: 109 | D25: 20 | E25: Scanning of SSL Certificates to confirm CipherSuite | F25: sslscan with filters applied. | G25: 45941 | H25: 0.64861111 | I25: 0.65138889 | K25: 3 | L25: Masscan | M25: Active Scanning | N25: P2-MS4 | O25: Host | R25: 100 S | T25: masscan --router-mac 08-00-27-18-dc-50 10.0.2.0/25 -p 139,445 --rate 0.01 -v | V25: FN | W25: TP | X25: TP
A26: 97 | C26: 110 | D26: 21 | E26: Scanning of SSL Certificates to confirm CipherSuite | F26: sslscan with filters applied. | G26: 45941 | H26: 0.64375 | I26: 0.64652778 | K26: 3 | L26: Masscan | M26: Active Scanning | N26: P2-MS5 | O26: Host | R26: 50 S | T26: masscan --router-mac 08-00-27-18-dc-50 10.0.2.0/25 -p 139,445 --rate 0.04 -v | V26: FN | W26: TP | X26: TP
A27: 98 | C27: 111 | D27: 22 | E27: Scanning of SSL Certificates to confirm CipherSuite | F27: sslscan with filters applied. | G27: 45941 | H27: 0.63888889 | I27: 0.64166667 | K27: 3 | L27: Masscan | M27: Active Scanning | N27: P2-MS6 | O27: Host | R27: 25 S | T27: masscan --router-mac 08-00-27-18-dc-50 10.0.2.0/25 -p 139,445 --rate 0.03 -v | V27: FN | W27: TP | X27: TP
A28: 99 | C28: 112 | D28: 23 | E28: Scanning of SSL Certificates to confirm CipherSuite | F28: sslscan with filters applied. | G28: 45941 | H28: 0.63472222 | I28: 0.6375 | K28: 3 | L28: Masscan | M28: Active Scanning | N28: P2-MS7 | O28: Host | R28: 15 S | T28: masscan --router-mac 08-00-27-18-dc-50 10.0.2.0/25 -p 139,445 --rate 0.067 -v | V28: FN | W28: TP | X28: TP
A29: 100 | C29: 113 | D29: 24 | E29: Scanning of SSL Certificates to confirm CipherSuite | F29: sslscan with filters applied. | G29: 45941 | H29: 0.62986111 | I29: 0.63263889 | K29: 3 | L29: Masscan | M29: Active Scanning | N29: P2-MS8 | O29: Host | R29: 10 S | T29: masscan --router-mac 08-00-27-18-dc-50 10.0.2.0/25 -p 139,445 --rate 0.1 -v | V29: FN | W29: TP | X29: TP
A31: 101 | C31: 241 | D31: 25 | E31: Scanning of SSL Certificates to confirm CipherSuite | F31: sslscan with filters applied. | G31: 45942 | H31: 0.58402778 | I31: 0.61180556 | K31: 4 | L31: sslscan | M31: SSL Cert Scan | N31: P2-SS1 | O31: Host | P31: Sleep | Q31: mSecond | R31: 300 S (5 Min) | S31: N/A (Uses Time Out) | T31: sslscan --sleep=300000 --tls13 --no-goups --no-fallback --no-renegotiations --no-compression --no-heartbleed 10.0.2.112 | V31: FN | W31: TP | X31: FN
A32: 102 | C32: 242 | D32: 26 | E32: Scanning of SSL Certificates to confirm CipherSuite | F32: sslscan with filters applied. | G32: 45942 | H32: 0.62569444 | I32: 0.64444444 | K32: 4 | L32: sslscan | M32: SSL Cert Scan | N32: P2-SS2 | O32: Host | R32: 200 S | T32: sslscan --sleep=200000 --tls13 --no-goups --no-fallback --no-renegotiations --no-compression --no-heartbleed 10.0.2.112 | V32: FN | W32: TP | X32: FN
A33: 103 | C33: 243 | D33: 27 | E33: Scanning of SSL Certificates to confirm CipherSuite | F33: sslscan with filters applied. | G33: 45942 | H33: 0.65 | I33: 0.66388889 | K33: 4 | L33: sslscan | M33: SSL Cert Scan | N33: P2-SS3 | O33: Host | R33: 150 S | T33: sslscan --sleep=150000 --tls13 --no-goups --no-fallback --no-renegotiations --no-compression --no-heartbleed 10.0.2.112 | V33: FN | W33: TP | X33: FN
A34: 104 | C34: 244 | D34: 28 | E34: Scanning of SSL Certificates to confirm CipherSuite | F34: sslscan with filters applied. | G34: 45942 | H34: 0.66597222 | I34: 0.675 | K34: 4 | L34: sslscan | M34: SSL Cert Scan | N34: P2-SS4 | O34: Host | R34: 100 S | T34: sslscan --sleep=100000 --tls13 --no-goups --no-fallback --no-renegotiations --no-compression --no-heartbleed 10.0.2.112 | V34: FN | W34: TP | X34: FN
A35: 105 | C35: 245 | D35: 29 | E35: Scanning of SSL Certificates to confirm CipherSuite | F35: sslscan with filters applied. | G35: 45942 | H35: 0.67708333 | I35: 0.68125 | K35: 4 | L35: sslscan | M35: SSL Cert Scan | N35: P2-SS5 | O35: Host | R35: 50 S | T35: sslscan --sleep=50000 --tls13 --no-goups --no-fallback --no-renegotiations --no-compression --no-heartbleed 10.0.2.112 | V35: FN | W35: TP | X35: FN
A36: 106 | C36: 246 | D36: 30 | E36: Scanning of SSL Certificates to confirm CipherSuite | F36: sslscan with filters applied. | G36: 45942 | H36: 0.68402778 | I36: 0.68611111 | K36: 4 | L36: sslscan | M36: SSL Cert Scan | N36: P2-SS6 | O36: Host | R36: 25 S | T36: sslscan --sleep=25000 --tls13 --no-goups --no-fallback --no-renegotiations --no-compression --no-heartbleed 10.0.2.112 | V36: FN | W36: TP | X36: FN
A37: 107 | C37: 247 | D37: 31 | E37: Scanning of SSL Certificates to confirm CipherSuite | F37: sslscan with filters applied. | G37: 45942 | H37: 0.68888889 | I37: 0.69027778 | K37: 4 | L37: sslscan | M37: SSL Cert Scan | N37: P2-SS7 | O37: Host | R37: 15 S | T37: sslscan --sleep=15000 --tls13 --no-goups --no-fallback --no-renegotiations --no-compression --no-heartbleed 10.0.2.112 | V37: FN | W37: TP | X37: FN
A38: 108 | C38: 248 | D38: 32 | E38: Scanning of SSL Certificates to confirm CipherSuite | F38: sslscan with filters applied. | G38: 45942 | H38: 0.69236111 | I38: 0.69305556 | K38: 4 | L38: sslscan | M38: SSL Cert Scan | N38: P2-SS8 | O38: Host | R38: 10 S | T38: sslscan --sleep=10000 --tls13 --no-goups --no-fallback --no-renegotiations --no-compression --no-heartbleed 10.0.2.112 | V38: FN | W38: TP | X38: FN
T42: Analysis
T44: TP | V44: =COUNTIF(V4:V38, "TP") -> 8 | W44: =COUNTIF(W4:W38, "TP") -> 24 | X44: =COUNTIF(X4:X38, "TP") -> 16
T45: TN | V45: =COUNTIF(V4:V38, "TN") -> 0 | W45: =COUNTIF(W4:W38, "TN") -> 0 | X45: =COUNTIF(X4:X38, "TN") -> 0
T46: FP | V46: =COUNTIF(V4:V38, "FP") -> 0 | W46: =COUNTIF(W4:W38, "FP") -> 0 | X46: =COUNTIF(X4:X38, "FP") -> 0
T47: FN | V47: =COUNTIF(V4:V38, "FN") -> 24 | W47: =COUNTIF(W4:W38, "FN") -> 8 | X47: =COUNTIF(X4:X38, "FN") -> 16
T49: TP | V49: =V44/32 -> 0.25 | W49: =W44/32 -> 0.75 | X49: =X44/32 -> 0.5
T50: TN | V50: =V45/32 -> 0 | W50: =W45/32 -> 0 | X50: =X45/32 -> 0
T51: FP | V51: =V46/32 -> 0 | W51: =W46/32 -> 0 | X51: =X46/32 -> 0
T52: FN | V52: =V47/32 -> 0.75 | W52: =W47/32 -> 0.25 | X52: =X47/32 -> 0.5
T54: TP | V54: =V44/32 -> 0.25 | W54: =W44/32 -> 0.75 | X54: =X44/32 -> 0.5
T55: TN | V55: =V45/32 -> 0 | W55: =W45/32 -> 0 | X55: =X45/32 -> 0
T56: FP | V56: =V46/32 -> 0 | W56: =W46/32 -> 0 | X56: =X46/32 -> 0
T57: FN | V57: =V47/32 -> 0.75 | W57: =W47/32 -> 0.25 | X57: =X47/32 -> 0.5

Sheet Phase II-Long-Scan
C1: Details of Test | L1: Attack | W1: Defence
W2: Suricata | X2: Snort2 | Y2: Snort3
A3: Test # | C3: Original # | D3: P2 # | E3: Test | F3: Test Desctiption | G3: Start Date | H3: Start Time | I3: End Date | J3: End Time | L3: Tool # | M3: Tool | N3: Technique | O3: Technique ID | P3: Target | Q3: Timing Metric | R3: Unit | S3: Test Time Interval /Sleep | T3: Default Time Interval | U3: Command | W3: Classification | X3: Classification | Y3: Classification
A4: 122
A5: 109 | C5: 91L | D5: 33 | E5: Host Discovery & Port Scan | F5: Nmap TCP Full Open Scan Long Scan 5M interval | G5: 45943 | H5: 0.31944444 | I5: 45944 | J5: 0.31944444 | L5: 2 | M5: Nmap | N5: TCP Scan | O5: P2-NP1L | P5: Host | Q5: Delay | R5: Minute (M), Second or (S) MilliSecond (mS) | S5: 5 M | T5: N/A (Dynamic) | U5: nmap -sT 10.0.2.0/25 --scan-delay 5m | W5: TP | X5: TP | Y5: TP
C6: 92 | E6: Host Discovery & Port Scan | F6: Nmap TCP Full Open Scan | L6: 2 | M6: Nmap | N6: TCP Scan | O6: P2-NP2L | P6: Host | S6: 200 S | U6: nmap -sT 10.0.2.0/25 --scan-delay 200s
C7: 93 | E7: Host Discovery & Port Scan | F7: Nmap TCP Full Open Scan | L7: 2 | M7: Nmap | N7: TCP Scan | O7: P2-NP3L | P7: Host | S7: 150 S | U7: nmap -sT 10.0.2.0/25 --scan-delay 150s
C8: 94 | E8: Host Discovery & Port Scan | F8: Nmap TCP Full Open Scan | L8: 2 | M8: Nmap | N8: TCP Scan | O8: P2-NP4L | P8: Host | S8: 100 S | U8: nmap -sT 10.0.2.0/25 --scan-delay 100s
C9: 95 | E9: Host Discovery & Port Scan | F9: Nmap TCP Full Open Scan | L9: 2 | M9: Nmap | N9: TCP Scan | O9: P2-NP5L | P9: Host | S9: 50 S | U9: nmap -sT 10.0.2.0/25 --scan-delay 50s
A10: 110 | C10: 96L | D10: 34 | E10: Host Discovery & Port Scan | F10: Nmap TCP Full Open Scan Long Scan 25S Interval | G10: 45944 | H10: 0.33541667 | I10: 15/10/20205 | J10: TBC | L10: 2 | M10: Nmap | N10: TCP Scan | O10: P2-NP6L | P10: Host | S10: 25 S | U10: nmap -sT 10.0.2.0/25 --scan-delay 25s | W10: TP | X10: TP | Y10: TP
C11: 97 | E11: Host Discovery & Port Scan | F11: Nmap TCP Full Open Scan | L11: 2 | M11: Nmap | N11: TCP Scan | O11: P2-NP7L | P11: Host | S11: 15 S | U11: nmap -sT 10.0.2.0/25 --scan-delay 15s
A12: 111 | C12: 98L | D12: 35 | E12: Host Discovery & Port Scan | F12: Nmap TCP Full Open Scan Long Scan 10S Interval | G12: 45945 | H12: 0.33333333 | I12: 45945 | J12: TBC | L12: 2 | M12: Nmap | N12: TCP Scan | O12: P2-NP8L | P12: Host | S12: 10 S | U12: nmap -sT 10.0.2.0/25 --scan-delay 10s | W12: TP | X12: TP | Y12: TP
A13: 131
U17: Analysis
U19: TP | W19: =COUNTIF(W4:W13, "TP") -> 3 | X19: =COUNTIF(X4:X13, "TP") -> 3 | Y19: =COUNTIF(Y4:Y13, "TP") -> 3
U20: TN | W20: =COUNTIF(W4:W13, "TN") -> 0 | X20: =COUNTIF(X4:X13, "TN") -> 0 | Y20: =COUNTIF(Y4:Y13, "TN") -> 0
U21: FP | W21: =COUNTIF(W4:W13, "FP") -> 0 | X21: =COUNTIF(X4:X13, "FP") -> 0 | Y21: =COUNTIF(Y4:Y13, "FP") -> 0
U22: FN | W22: =COUNTIF(W4:W13, "FN") -> 0 | X22: =COUNTIF(X4:X13, "FN") -> 0 | Y22: =COUNTIF(Y4:Y13, "FN") -> 0
U24: TP | W24: =W19/3 -> 1 | X24: =X19/3 -> 1 | Y24: =Y19/3 -> 1
U25: TN | W25: =W20/3 -> 0 | X25: =X20/3 -> 0 | Y25: =Y20/3 -> 0
U26: FP | W26: =W21/3 -> 0 | X26: =X21/3 -> 0 | Y26: =Y21/3 -> 0
U27: FN | W27: =W22/3 -> 0 | X27: =X22/3 -> 0 | Y27: =Y22/3 -> 0
U29: TP | W29: =W19/3 -> 1 | X29: =X19/3 -> 1 | Y29: =Y19/3 -> 1
U30: TN | W30: =W20/3 -> 0 | X30: =X20/3 -> 0 | Y30: =Y20/3 -> 0
U31: FP | W31: =W21/3 -> 0 | X31: =X21/3 -> 0 | Y31: =Y21/3 -> 0
U32: FN | W32: =W22/3 -> 0 | X32: =X22/3 -> 0 | Y32: =Y22/3 -> 0

Sheet Phase III
C1: Details of Test | K1: Normal Traffic Generation | S1: Defence
S2: Suricata | T2: Snort2 | U2: Snort3
A3: Test # | C3: Original # | D3: P3 # | E3: Test | F3: Test Desctiption | G3: Date | H3: Start Time | I3: End Time | K3: Tool # | L3: Tool | M3: Technique | N3: Technique ID | O3: Target | P3: Command | Q3: Attack Output Saved? | S3: Classification | T3: Classification | U3: Classification
A4: 112 | C4: 256 | D4: 1 | E4: Test Connectivity to DC | F4: ICMP Ping of Meta2 from from Win10 PC. | G4: 45929 | H4: 0.40555556 | I4: 0.40625 | K4: 1 | L4: ping | M4: ICMP Ping | N4: P3-P1 | O4: Host | P4: ping 10.0.2.100 | Q4: Screenshot | S4: TN | T4: TN | U4: TN
A5: 113 | C5: 257 | D5: 2 | E5: Test DNS query of Meta2 | F5: DNS query using nslookup tool from Win10 PC. | G5: 45929 | H5: 0.41041667 | I5: 0.41041667 | K5: 2 | L5: Nslookup | M5: DNS Query | N5: P3-N1 | O5: Host | P5: nslookup meta2.com | Q5: Screenshot | S5: TN | T5: TN | U5: TN
A6: 114 | C6: 258 | D6: 3 | E6: Browse to website via HTTP | F6: Browse to Damn Vulnerable Web Application (DVWA) from Win10 PC. | G6: 45929 | H6: 0.4125 | I6: 0.4125 | K6: 3 | L6: Browser (HTTP) | M6: Website Traffic Generated | N6: P3-B1 | O6: Host | P6: http://meta2.com | Q6: Screenshot | S6: FP | T6: FP | U6: TN
A7: 115 | C7: 259 | D7: 4 | E7: Browse to website via HTTPS | F7: Browse to SSLTarget HTTPS website from Win10 PC. | G7: 45929 | H7: 0.41597222 | I7: 0.41597222 | K7: 3 | L7: Browser (HTTPS) | M7: Encrypted Website Traffic Generated | N7: P3-B2 | O7: Host | P7: https://ssltarget.com | Q7: Screenshot | S7: TN | T7: TN | U7: FP
A8: 116 | C8: 260 | D8: 5 | E8: Browse to shared folder | F8: Testing SMB traffic from Win10 PC. | G8: 45929 | H8: 0.42361111 | I8: 0.42430556 | K8: 4 | L8: Explorer | M8: Browsing to shared folder | N8: P3-E1 | O8: Host | P8: GUI | Q8: Screenshot | S8: TN | T8: TN | U8: TN
A9: 117 | C9: 261 | D9: 6 | E9: Domain Logon over network | F9: Logging onto Windows 11 PC via Test domain account using Kerberos. | G9: 45929 | H9: 0.40069444 | I9: 0.40138889 | K9: 5 | L9: Kerberos | M9: Network Logon | N9: P3-K1 | O9: Host | P9: GUI | Q9: Screenshot | S9: TN | T9: FP | U9: TN
A10: 118 | C10: 262 | D10: 7 | E10: SSH Session to SSLTarget server | F10: Opening a Secure Shell terminal to SSLTarget server from DAS. | G10: 45929 | H10: 0.42638889 | I10: 0.42708333 | K10: 6 | L10: PuTTY / SSH | M10: Terminal Access | N10: P3-S1 | O10: Host | P10: ssh 10.0.2.112 | Q10: Screenshot | S10: TN | T10: TN | U10: TN
A11: 119 | C11: 263 | D11: 8 | E11: Copy a file between servers | F11: Copying a file using WinSCP from DAS. | G11: 45929 | H11: 10.26 | I11: 0.43472222 | K11: 7 | L11: WinSCP | M11: File coping across network | N11: P3-W1 | O11: Host | P11: GUI | Q11: Screenshot | S11: TN | T11: TN | U11: TN
A12: 120 | C12: 264 | D12: 9 | E12: Remote Desktop Protocol (RDP) session between DC and Nessus servers | F12: Remote Desktop Session between servers | G12: 45929 | H12: 0.43888889 | I12: 0.44027778 | K12: 8 | L12: Microsoft RDP | M12: RDP Session | N12: P3-R1 | O12: Host | P12: GUI | Q12: Screenshot | S12: TN | T12: TN | U12: TN
A13: 121 | C13: 265 | D13: 10 | E13: Conduct Nessus Vulnerability Scan | F13: Vulnerability Scan of network | G13: 45933 | H13: 0.40486111 | I13: 0.43263889 | K13: 9 | L13: Nessus | M13: Vulnerability Scan | N13: P3-NS1 | O13: Range | P13: GUI | Q13: Screenshot | S13: FP | T13: FP | U13: FP
P17: Analysis
O19: Sum | P19: TP | S19: =COUNTIF(S4:S13, "TP") -> 0 | T19: =COUNTIF(T4:T13, "TP") -> 0 | U19: =COUNTIF(U4:U13, "TP") -> 0
P20: TN | S20: =COUNTIF(S4:S13, "TN") -> 8 | T20: =COUNTIF(T4:T13, "TN") -> 7 | U20: =COUNTIF(U4:U13, "TN") -> 8
P21: FP | S21: =COUNTIF(S4:S13, "FP") -> 2 | T21: =COUNTIF(T4:T13, "FP") -> 3 | U21: =COUNTIF(U4:U13, "FP") -> 2
P22: FN | S22: =COUNTIF(S4:S13, "FN") -> 0 | T22: =COUNTIF(T4:T13, "FN") -> 0 | U22: =COUNTIF(U4:U13, "FN") -> 0
O24: Percentage | P24: TP | S24: =S19/10 -> 0 | T24: =T19/10 -> 0 | U24: =U19/10 -> 0
P25: TN | S25: =S20/10 -> 0.8 | T25: =T20/10 -> 0.7 | U25: =U20/10 -> 0.8
P26: FP | S26: =S21/10 -> 0.2 | T26: =T21/10 -> 0.3 | U26: =U21/10 -> 0.2
P27: FN | S27: =S22/10 -> 0 | T27: =T22/10 -> 0 | U27: =U22/10 -> 0
O29: Median | P29: TP | S29: =S19/10 -> 0 | T29: =T19/10 -> 0 | U29: =U19/10 -> 0
P30: TN | S30: =S20/10 -> 0.8 | T30: =T20/10 -> 0.7 | U30: =U20/10 -> 0.8
P31: FP | S31: =S21/10 -> 0.2 | T31: =T21/10 -> 0.3 | U31: =U21/10 -> 0.2
P32: FN | S32: =S22/10 -> 0 | T32: =T22/10 -> 0 | U32: =U22/10 -> 0

Sheet Phase IV v3
C1: Details of Test | M1: Attack | V1: Defence | Z1: htop | AA1: CPU/ RAM Monitoring Command:
V2: Suricata | W2: Snort2 | X2: Snort3
A3: Test # | C3: Original # | D3: # | E3: P4 # | F3: P1 # | G3: Test | H3: Test Desctiption | I3: Date | J3: Start Time | K3: End Time | M3: Mitre ATT&CK Technique | N3: Mitre ATT&CK Description | O3: Tool # | P3: Tool | Q3: Technique | R3: Technique ID | S3: Target | T3: Command | V3: Classification | W3: Classification | X3: Classification
A4: 122 | C4: 266 | D4: 266 Test | E4: 1 | F4: 2 | G4: Port Scan of Device | H4: Port Scan Using SYN packets (Confirms Host Online) | I4: 45935 | J4: 0.56875 | K4: 0.56944444 | M4: T1595.0001 | N4: Active Scanning | O4: 1 | P4: hping3 | Q4: SYN Scan | R4: P4-HP1-Test | S4: Host | T4: hping3 -S 10.0.2.112 -p 0-1023 | V4: FN | W4: TP | X4: TP
A5: 123 | C5: 267 | D5: 266 With DoS | E5: 2 | F5: 2 | G5: Port Scan of Device | H5: Port Scan Using SYN packets (Confirms Host Online) | I5: 45935 | J5: 0.57152778 | K5: 0.57291667 | M5: T1595.0001 | N5: Active Scanning | O5: 1 | P5: hping3 | Q5: SYN Scan | R5: P4-HP1-With-DoS | S5: Host | T5: hping3 -S 10.0.2.112 -p 0-1023 | V5: FN | W5: TP | X5: TP
A6: 124 | C6: 268 | D6: 268 Test | E6: 3 | G6: Host Discovery & Port Scan | H6: Nmap TCP Full Open Scan | I6: 45935 | J6: 0.57638889 | K6: 0.57638889 | M6: T1595.0001 | N6: Active Scanning | O6: 2 | P6: nmap | Q6: TCP Scan | R6: P4-NP1-Test | S6: Host | T6: nmap -sT 10.0.2.112 | V6: FN | W6: TP | X6: TP
A7: 125 | C7: 269 | D7: 268 With DoS | E7: 4 | G7: Host Discovery & Port Scan | H7: Nmap TCP Full Open Scan | I7: 45935 | J7: 0.57847222 | K7: 0.57986111 | M7: T1595.0001 | N7: Active Scanning | O7: 2 | P7: nmap | Q7: TCP Scan | R7: P4-NP1-With-DoS | S7: Host | T7: nmap -sT 10.0.2.112 | V7: FN | W7: FN | X7: TP
A8: 126 | C8: 270 | D8: 270 Test | E8: 5 | F8: 22 | G8: Host Discovery | H8: Ping Scan using ARP | I8: 45935 | J8: 0.58263889 | K8: 0.58263889 | M8: T1595.0001 | N8: Active Scanning | O8: 10 | P8: sslscan | Q8: sslscan of host | R8: P4-SS1-Test | S8: Host | T8: sslscan 10.0.2.112 | V8: TP | W8: TP | X8: FN | Z8: Snort3 did not detect sslscan when DoS NOT applied, but DID detect it WITH DoS applied. It is believed that DoS destabalised the server and therefore impacting detections.
A9: 127 | C9: 271 | D9: 270 With DoS | E9: 6 | F9: 22 | G9: Host Discovery | H9: Ping Scan using ARP | I9: 45935 | J9: 0.58541667 | K9: 0.58680556 | M9: T1595.0001 | N9: Active Scanning | O9: 10 | P9: sslscan | Q9: sslscan of host | R9: P4-SS1-With-DoS | S9: Host | T9: sslscan 10.0.2.112 | V9: TP | W9: FN | X9: TP
A10: 128 | C10: 272 | D10: 272 Test | E10: 7 | F10: 40 | G10: Active ARP scan Host Discovery at L2 | H10: Active arp-scan of network range. | I10: 45935 | J10: 0.6 | K10: 0.6 | M10: T1595.0001 | N10: Active Scanning | O10: 5 | P10: arp-scan | Q10: Active ARP Scan | R10: P4-AS1-Test | S10: Range | T10: arp-scan 10.0.2.0/25 | V10: FN | W10: FN | X10: TP
A11: 129 | C11: 273 | D11: 272 With DoS | E11: 8 | F11: 40 | G11: Active ARP scan Host Discovery at L2 | H11: Active arp-scan of network range. | I11: 45935 | J11: 0.60138889 | K11: 0.60138889 | M11: T1595.0001 | N11: Active Scanning | O11: 5 | P11: arp-scan | Q11: Active ARP Scan | R11: P4-AS1-With-DoS | S11: Range | T11: arp-scan 10.0.2.0/25 | V11: FN | W11: FN | X11: TP
A12: 130 | C12: 274 | D12: 274 Test | E12: 9 | F12: 41 | G12: NetBIOS Scan | H12: NetBIOS Scan of range. | I12: 45935 | J12: 0.60625 | K12: 0.60694444 | M12: T1595.0001 | N12: Active Scanning | O12: 6 | P12: nbtscan | Q12: NetBIOS Scan of range | R12: P4-NB1-Test | S12: Range | T12: nbtscan 10.0.2.0/25 | V12: FN | W12: FN | X12: FN
A13: 131 | C13: 275 | D13: 274 With DoS | E13: 10 | F13: 41 | G13: NetBIOS Scan | H13: NetBIOS Scan of range. | I13: 45935 | J13: 0.61041667 | K13: 0.61111111 | M13: T1595.0001 | N13: Active Scanning | O13: 6 | P13: nbtscan | Q13: NetBIOS Scan of range | R13: P4-NB1-With-DoS | S13: Range | T13: nbtscan 10.0.2.0/25 | V13: FN | W13: FN | X13: FN
S15: Analysis
S17: Sum | T17: TP | V17: =COUNTIF(V4:V13, "TP") -> 2 | W17: =COUNTIF(W4:W13, "TP") -> 4 | X17: =COUNTIF(X4:X13, "TP") -> 7
T18: TN | V18: =COUNTIF(V4:V12, "TN") -> 0 | W18: =COUNTIF(W4:W13, "TN") -> 0 | X18: =COUNTIF(X4:X13, "TN") -> 0
T19: FP | V19: =COUNTIF(V4:V12, "FP") -> 0 | W19: =COUNTIF(W4:W12, "FP") -> 0 | X19: =COUNTIF(X4:X13, "FP") -> 0
T20: FN | V20: =COUNTIF(V4:V13, "FN") -> 8 | W20: =COUNTIF(W4:W13, "FN") -> 6 | X20: =COUNTIF(X4:X13, "FN") -> 3
S22: Percentage | T22: TP | V22: =V17/10 -> 0.2 | W22: =W17/10 -> 0.4 | X22: =X17/10 -> 0.7
T23: TN | V23: =V18/10 -> 0 | W23: =W18/10 -> 0 | X23: =X18/10 -> 0
T24: FP | V24: =V19/10 -> 0 | W24: =W19/10 -> 0 | X24: =X19/10 -> 0
T25: FN | V25: =V20/10 -> 0.8 | W25: =W20/10 -> 0.6 | X25: =X20/10 -> 0.3
S27: Median | T27: TP | V27: =V17/10 -> 0.2 | W27: =W17/10 -> 0.4 | X27: =X17/10 -> 0.7
T28: TN | V28: =V18/10 -> 0 | W28: =W18/10 -> 0 | X28: =X18/10 -> 0
T29: FP | V29: =V19/10 -> 0 | W29: =W19/10 -> 0 | X29: =X19/10 -> 0
T30: FN | V30: =V20/10 -> 0.8 | W30: =W20/10 -> 0.6 | X30: =X20/10 -> 0.3

Sheet Analysis Phase 1&3 Percent
A1: Phase | B1: Calculation | C1: Metric | E1: Suricata | F1: Snort2 | G1: Snort3 | I1: Calculation | K1: Suricata | L1: Snort2 | M1: Snort3 | O1: Preferred Result
A2: I | B2: Sum | C2: TP | E2: ='Phase I'!S85 -> 21 | F2: ='Phase I'!T85 -> 51 | G2: ='Phase I'!U85 -> 64
A3: I | C3: TN | E3: ='Phase I'!S86 -> 0 | F3: ='Phase I'!T86 -> 0 | G3: ='Phase I'!U86 -> 0
A4: I | C4: FP | E4: ='Phase I'!S87 -> 0 | F4: ='Phase I'!T87 -> 0 | G4: ='Phase I'!U87 -> 0
A5: I | C5: FN | E5: ='Phase I'!S88 -> 55 | F5: ='Phase I'!T88 -> 25 | G5: ='Phase I'!U88 -> 12
B7: Percentage | C7: TP | E7: ='Phase I'!S95 -> 0.28 | F7: ='Phase I'!T95 -> 0.67105263 | G7: ='Phase I'!U95 -> 0.84210526
C8: TN | E8: ='Phase I'!S96 -> 0 | F8: ='Phase I'!T96 -> 0 | G8: ='Phase I'!U96 -> 0
C9: FP | E9: ='Phase I'!S97 -> 0 | F9: ='Phase I'!T97 -> 0 | G9: ='Phase I'!U97 -> 0
C10: FN | E10: ='Phase I'!S98 -> 0.73333333 | F10: ='Phase I'!T98 -> 0.33333333 | G10: ='Phase I'!U98 -> 0.15789474
A12: I | B12: Median | C12: TP | E12: ='Phase I'!S95 -> 0.28 | F12: ='Phase I'!T95 -> 0.67105263 | G12: ='Phase I'!U95 -> 0.84210526
A13: I | C13: TN | E13: ='Phase I'!S96 -> 0 | F13: ='Phase I'!T96 -> 0 | G13: ='Phase I'!U96 -> 0
A14: I | C14: FP | E14: ='Phase I'!S97 -> 0 | F14: ='Phase I'!T97 -> 0 | G14: ='Phase I'!U97 -> 0
A15: I | C15: FN | E15: ='Phase I'!S98 -> 0.73333333 | F15: ='Phase I'!T98 -> 0.33333333 | G15: ='Phase I'!U98 -> 0.15789474
A17: III | B17: Sum | C17: TP | E17: ='Phase III'!S19 -> 0 | F17: ='Phase III'!T19 -> 0 | G17: ='Phase III'!U19 -> 0
A18: III | C18: TN | E18: ='Phase III'!S20 -> 8 | F18: ='Phase III'!T20 -> 7 | G18: ='Phase III'!U20 -> 8
A19: III | C19: FP | E19: ='Phase III'!S21 -> 2 | F19: ='Phase III'!T21 -> 3 | G19: ='Phase III'!U21 -> 2
A20: III | C20: FN | E20: ='Phase III'!S22 -> 0 | F20: ='Phase III'!T22 -> 0 | G20: ='Phase III'!U22 -> 0
B22: Percentage | C22: TP | E22: ='Phase III'!S29 -> 0 | F22: ='Phase III'!T29 -> 0 | G22: ='Phase III'!U24 -> 0
C23: TN | E23: ='Phase III'!S30 -> 0.8 | F23: ='Phase III'!T30 -> 0.7 | G23: ='Phase III'!U25 -> 0.8
C24: FP | E24: ='Phase III'!S31 -> 0.2 | F24: ='Phase III'!T31 -> 0.3 | G24: ='Phase III'!U26 -> 0.2
C25: FN | E25: ='Phase III'!S32 -> 0 | F25: ='Phase III'!T32 -> 0 | G25: ='Phase III'!U27 -> 0
A27: III | B27: Median | C27: TP | E27: ='Phase III'!S29 -> 0 | F27: ='Phase III'!T29 -> 0 | G27: ='Phase III'!U29 -> 0
A28: III | C28: TN | E28: ='Phase III'!S30 -> 0.8 | F28: ='Phase III'!T30 -> 0.7 | G28: ='Phase III'!U30 -> 0.8
A29: III | C29: FP | E29: ='Phase III'!S31 -> 0.2 | F29: ='Phase III'!T31 -> 0.3 | G29: ='Phase III'!U31 -> 0.2
A30: III | C30: FN | E30: ='Phase III'!S32 -> 0 | F30: ='Phase III'!T32 -> 0 | G30: ='Phase III'!U32 -> 0
K32: (%) | L32: (%) | M32: (%) | O32: (%) | R32: NIDS Comparison from Phase I & Phase III testing
A33: Combined Phase I & III | B33: Sum | C33: TP | E33: =E2+E17 -> 21 | F33: =F2+F17 -> 51 | G33: =G2+G17 -> 64 | I33: Accuracy | K33: =((E43+E44)/(E43+E44+E45+E46))*100 -> 53.815789 | L33: =((F43+F44)/(F43+F44+F45+F46))*100 -> 68.552632 | M33: =((G43+G44)/(G43+G44+G45+G46))*100 -> 82.105263 | O33: 100 | R33: NIDS | S33: Accuracy | T33: Precision | U33: Recall / TPR | V33: Specificity / TNR | W33: FPR | X33: FNR | Y33: NIDS Performance | Z33: F-Score | AA33: MCC
C34: TN | E34: =E3+E18 -> 8 | F34: =F3+F18 -> 7 | G34: =G3+G18 -> 8 | I34: Precision | K34: =(E43/(E43+E45))*100 -> 58.01105 | L34: =(F43/(F43+F45))*100 -> 69.105691 | M34: =(G43/(G43+G45))*100 -> 80.808081 | O34: 100 | S34: (%) | T34: (%) | U34: (%) | V34: (%) | W34: (%) | X34: (%) | Y34: (%) | Z34: (%) | AA34: (%)
C35: FP | E35: =E4+E19 -> 2 | F35: =F4+F19 -> 3 | G35: =G4+G19 -> 2 | I35: Recall / TPR | K35: =(E43/(E43+E46))*100 -> 27.631579 | L35: =(F43/(F43+F46))*100 -> 67.105263 | M35: =(G43/(G43+G46))*100 -> 84.210526 | O35: 100 | R35: Suricata | S35: =K33 -> 53.815789 | T35: =K34 -> 58.01105 | U35: =K35 -> 27.631579 | V35: =K36 -> 80 | W35: =K37 -> 20 | X35: =K38 -> 72.368421 | Y35: =K39 -> 47.016235 | Z35: =K40 -> 37.433155 | AA35: =K41 -> 8.9581727
C36: FN | E36: =E5+E20 -> 55 | F36: =F5+F20 -> 25 | G36: =G5+G20 -> 12 | I36: Specificity / TNR | K36: =(E44/(E44+E45))*100 -> 80 | L36: =(F44/(F44+F45))*100 -> 70 | M36: =(G44/(G44+G45))*100 -> 80 | O36: 100 | R36: Snort2 | S36: =L33 -> 68.552632 | T36: =L34 -> 69.105691 | U36: =L35 -> 67.105263 | V36: =L36 -> 70 | W36: =L37 -> 30 | X36: =L38 -> 32.894737 | Y36: =L39 -> 68.537351 | Z36: =L40 -> 68.090788 | AA36: =L41 -> 37.120819
I37: FPR | K37: =(E45/(E45+E44))*100 -> 20 | L37: =(F45/(F45+F44))*100 -> 30 | M37: =(G45/(G45+G44))*100 -> 20 | O37: 0 | R37: Snort3 | S37: =M33 -> 82.105263 | T37: =M34 -> 80.808081 | U37: =M35 -> 84.210526 | V37: =M36 -> 80 | W37: =M37 -> 20 | X37: =M38 -> 15.789474 | Y37: =M39 -> 82.078268 | Z37: =M40 -> 82.474227 | AA37: =M41 -> 64.26752
B38: Percentage | C38: TP | E38: =E33/76 -> 0.27631579 | F38: =F33/76 -> 0.67105263 | G38: =G33/76 -> 0.84210526 | I38: FNR | K38: =(E46/(E46+E43))*100 -> 72.368421 | L38: =(F46/(F46+F43))*100 -> 32.894737 | M38: =(G46/(G46+G43))*100 -> 15.789474 | O38: 0
C39: TN | E39: =E34/10 -> 0.8 | F39: =F34/10 -> 0.7 | G39: =G34/10 -> 0.8 | I39: NIDS Performance | K39: =(SQRT(K35*K36)) -> 47.016235 | L39: =SQRT(L35*L36) -> 68.537351 | M39: =SQRT(M35*M36) -> 82.078268 | O39: 100 | R39: Preferred Result | S39: 100 | T39: 100 | U39: 100 | V39: 100 | W39: 0 | X39: 0 | Y39: 100 | Z39: 100 | AA39: 100
C40: FP | E40: =E35/10 -> 0.2 | F40: =F35/10 -> 0.3 | G40: =G35/10 -> 0.2 | I40: F-Score | K40: =(2*((K34*K35)/(K34+K35))) -> 37.433155 | L40: =2*((L34*L35)/(L34+L35)) -> 68.090788 | M40: =2*((M34*M35)/(M34+M35)) -> 82.474227 | O40: 100
C41: FN | E41: =E36/76 -> 0.72368421 | F41: =F36/76 -> 0.32894737 | G41: =G36/76 -> 0.15789474 | I41: MCC | K41: =((E43*E44)-(E45*E46))/SQRT((E43+E45)*(E43+E46)*(E44+E45)*(E44+E46))*100 -> 8.9581727 | L41: =(((F43*F44)-(F45*F46))/SQRT((F43+F45)*(F43+F46)*(F44+F45)*(F44+F46)))*100 -> 37.120819 | M41: =(((G43*G44)-(G45*G46))/SQRT((G43+G45)*(G43+G46)*(G44+G45)*(G44+G46)))*100 -> 64.26752 | O41: 100
B43: Median | C43: TP | E43: =E33/76 -> 0.27631579 | F43: =F33/76 -> 0.67105263 | G43: =G33/76 -> 0.84210526
C44: TN | E44: =E34/10 -> 0.8 | F44: =F34/10 -> 0.7 | G44: =G34/10 -> 0.8
C45: FP | E45: =E35/10 -> 0.2 | F45: =F35/10 -> 0.3 | G45: =G35/10 -> 0.2
C46: FN | E46: =E36/76 -> 0.72368421 | F46: =F36/76 -> 0.32894737 | G46: =G36/76 -> 0.15789474
A49: Comparison with related works | AF49: Comparison with related works
AH50: NIDS | AI50: Accuracy | AJ50: Precision | AK50: Recall | AL50: F-Score
AI51: (%) | AJ51: (%) | AK51: (%) | AL51: (%)
AH52: Preferred | AI52: 100 | AJ52: 100 | AK52: 100 | AL52: 100
C53: >>>>>>>>>>>>>>>>>>>>>>>>>>>>>>>>> | AF53: Phase I & III Test Results | AH53: Suricata | AI53: =(E43+E44)/(E43+E44+E45+E46)*100 -> 53.815789 | AJ53: =E43/(E43+E45)*100 -> 58.01105 | AK53: =E43/(E43+E46)*100 -> 27.631579 | AL53: =2*((K34*K35)/(K34+K35)) -> 37.433155
C54: Cell AF49 | AH54: Snort2 | AI54: =(F43+F44)/(F43+F44+F45+F46)*100 -> 68.552632 | AJ54: =F43/(F43+F45)*100 -> 69.105691 | AK54: =F43/(F43+F46)*100 -> 67.105263 | AL54: =2*((L34*L35)/(L34+L35)) -> 68.090788
AH55: Snort3 | AI55: =(G43+G44)/(G43+G44+G45+G46)*100 -> 82.105263 | AJ55: =G43/(G43+G45)*100 -> 80.808081 | AK55: =G43/(G43+G46)*100 -> 84.210526 | AL55: =2*((M34*M35)/(M34+M35)) -> 82.474227
AF57: Related Works | AG57: Author | AH57: System | AI57: Accuracy | AJ57: Precision | AK57: Recall | AL57: F-Score
AI58: (%) | AJ58: (%) | AK58: (%) | AL58: (%)
AF59: Classification of Encrypted Traffic via packet analysis | AG59: Yu et al | AH59: BERT | AI59: 99.25 | AJ59: 99.26 | AK59: 99.24 | AL59: 99.24
AF60: Classification based on N-gram and time-aware analysis of IP Packet | AG60: Han et al. | AH60: GTID | AI60: 97.87 | AJ60: 98.16 | AK60: 97.59 | AL60: 97.83
AF61: Classification based on external attention and IP Packet header Non-VPN | AG61: Hu et al. | AH61: ECM | AI61: 98.39 | AJ61: 98.39 | AK61: 98.39 | AL61: 98.39
AF62: Classification based on external attention and IP Packet header VPN | AG62: Hu et al. | AH62: ECM | AI62: 99.21 | AJ62: 99.21 | AK62: 99.21 | AL62: 99.21
AF63: Classification based on Hybrid Machine Learning (Decision Tree) (DT) | AG63: Seo et al. | AH63: 2Level IDS | AI63: 97.9 | AJ63: 98.1 | AK63: 97.9 | AL63: 98
AF64: Classification based on Hybrid Machine Learning (Random Forest) (RF) | AG64: Seo et al. | AH64: 2Level IDS | AI64: 98.1 | AJ64: 98.2 | AK64: 98.1 | AL64: 98.2
AF65: Classification based on Deep Learning (Deep Feed Forward) (DFF) | AG65: Garcia et al. | AH65: Dique | AI65: 99.94 | AJ65: 99.95 | AK65: 99.9 | AL65: 99.93
AF66: Classification based on Deep Learning (Deep Learning Reinforcement) (DLR) | AG66: Alam et al. | AH66: DLR-LSTM | AI66: 99 | AJ66: 99 | AK66: 99 | AL66: 99
AF67: Classification based on Deep Learning (Large Language Model) (LLM) | AG67: Tirulo et al. | AH67: LLM-IDS | AI67: 98.5 | AJ67: 96.2 | AK67: 97.5 | AL67: 96.8
AF71: Classification based on Active Learning (AL) | AG71: Shakib et al. | AH71: AL | AI71: 92.36 | AJ71: 71.4 | AK71: 90 | AL71: 79 | AN71: Maybe remove this one as the paper was not scrutinised!
AL77: 0

Sheet Analysis Phase 2&3 Shrt Percent
A1: Phase | B1: Calculation | C1: Metric | E1: Suricata | F1: Snort2 | G1: Snort3 | I1: Calculation | K1: Suricata | L1: Snort2 | M1: Snort3 | O1: Preferred Result
A3: III | B3: Sum | C3: TP | E3: ='Phase III'!S19 -> 0 | F3: ='Phase III'!T19 -> 0 | G3: ='Phase III'!U19 -> 0
A4: III | C4: TN | E4: ='Phase III'!S20 -> 8 | F4: ='Phase III'!T20 -> 7 | G4: ='Phase III'!U20 -> 8
A5: III | C5: FP | E5: ='Phase III'!S21 -> 2 | F5: ='Phase III'!T21 -> 3 | G5: ='Phase III'!U21 -> 2
A6: III | C6: FN | E6: ='Phase III'!S22 -> 0 | F6: ='Phase III'!T22 -> 0 | G6: ='Phase III'!U22 -> 0
B8: Percentage | C8: TP | E8: ='Phase III'!S29 -> 0 | F8: ='Phase III'!T29 -> 0 | G8: ='Phase III'!U24 -> 0
C9: TN | E9: ='Phase III'!S30 -> 0.8 | F9: ='Phase III'!T30 -> 0.7 | G9: ='Phase III'!U25 -> 0.8
C10: FP | E10: ='Phase III'!S31 -> 0.2 | F10: ='Phase III'!T31 -> 0.3 | G10: ='Phase III'!U26 -> 0.2
C11: FN | E11: ='Phase III'!S32 -> 0 | F11: ='Phase III'!T32 -> 0 | G11: ='Phase III'!U27 -> 0
A13: III | B13: Median | C13: TP | E13: ='Phase III'!S29 -> 0 | F13: ='Phase III'!T29 -> 0 | G13: ='Phase III'!U29 -> 0
A14: III | C14: TN | E14: ='Phase III'!S30 -> 0.8 | F14: ='Phase III'!T30 -> 0.7 | G14: ='Phase III'!U30 -> 0.8
A15: III | C15: FP | E15: ='Phase III'!S31 -> 0.2 | F15: ='Phase III'!T31 -> 0.3 | G15: ='Phase III'!U31 -> 0.2
A16: III | C16: FN | E16: ='Phase III'!S32 -> 0 | F16: ='Phase III'!T32 -> 0 | G16: ='Phase III'!U32 -> 0
A18: II Short Scan | B18: Sum | C18: TP | E18: ='Phase II-Short-Scan'!V44 -> 8 | F18: ='Phase II-Short-Scan'!W44 -> 24 | G18: ='Phase II-Short-Scan'!X44 -> 16
A19: II Short Scan | C19: TN | E19: ='Phase II-Short-Scan'!V45 -> 0 | F19: ='Phase II-Short-Scan'!W45 -> 0 | G19: ='Phase II-Short-Scan'!X45 -> 0
A20: II Short Scan | C20: FP | E20: ='Phase II-Short-Scan'!V46 -> 0 | F20: ='Phase II-Short-Scan'!W46 -> 0 | G20: ='Phase II-Short-Scan'!X46 -> 0
A21: II Short Scan | C21: FN | E21: ='Phase II-Short-Scan'!V47 -> 24 | F21: ='Phase II-Short-Scan'!W47 -> 8 | G21: ='Phase II-Short-Scan'!X47 -> 16
A23: II Short Scan | B23: Percentage | C23: TP | E23: ='Phase II-Short-Scan'!V49 -> 0.25 | F23: ='Phase II-Short-Scan'!W49 -> 0.75 | G23: ='Phase II-Short-Scan'!X49 -> 0.5
A24: II Short Scan | C24: TN | E24: ='Phase II-Short-Scan'!V50 -> 0 | F24: ='Phase II-Short-Scan'!W50 -> 0 | G24: ='Phase II-Short-Scan'!X50 -> 0
A25: II Short Scan | C25: FP | E25: ='Phase II-Short-Scan'!V51 -> 0 | F25: ='Phase II-Short-Scan'!W51 -> 0 | G25: ='Phase II-Short-Scan'!X51 -> 0
A26: II Short Scan | C26: FN | E26: ='Phase II-Short-Scan'!V52 -> 0.75 | F26: ='Phase II-Short-Scan'!W52 -> 0.25 | G26: ='Phase II-Short-Scan'!X52 -> 0.5
A28: II Short Scan | B28: Median | C28: TP | E28: ='Phase II-Short-Scan'!V54 -> 0.25 | F28: ='Phase II-Short-Scan'!W54 -> 0.75 | G28: ='Phase II-Short-Scan'!X54 -> 0.5
A29: II Short Scan | C29: TN | E29: ='Phase II-Short-Scan'!V55 -> 0 | F29: ='Phase II-Short-Scan'!W55 -> 0 | G29: ='Phase II-Short-Scan'!X55 -> 0
A30: II Short Scan | C30: FP | E30: ='Phase II-Short-Scan'!V56 -> 0 | F30: ='Phase II-Short-Scan'!W56 -> 0 | G30: ='Phase II-Short-Scan'!X56 -> 0
A31: II Short Scan | C31: FN | E31: ='Phase II-Short-Scan'!V57 -> 0.75 | F31: ='Phase II-Short-Scan'!W57 -> 0.25 | G31: ='Phase II-Short-Scan'!X57 -> 0.5
K33: (%) | L33: (%) | M33: (%) | O33: (%) | R33: NIDS Comparison from Phase II Short Scan & Phase III testing
A34: Combined Phase II Short & III | B34: Sum | C34: TP | E34: =E18+E3 -> 8 | F34: =F18+F3 -> 24 | G34: =G18+G3 -> 16 | I34: Accuracy | K34: =((E44+E45)/(E44+E45+E46+E47))*100 -> 52.5 | L34: =((F44+F45)/(F44+F45+F46+F47))*100 -> 72.5 | M34: =((G44+G45)/(G44+G45+G46+G47))*100 -> 65 | O34: 100 | R34: NIDS | S34: Accuracy | T34: Precision | U34: Recall / TPR | V34: Specificity / TNR | W34: FPR | X34: FNR | Y34: NIDS Performance | Z34: F-Score | AA34: MCC
C35: TN | E35: =E19+E4 -> 8 | F35: =F19+F4 -> 7 | G35: =G19+G4 -> 8 | I35: Precision | K35: =(E44/(E44+E46))*100 -> 55.555556 | L35: =(F44/(F44+F46))*100 -> 71.428571 | M35: =(G44/(G44+G46))*100 -> 71.428571 | O35: 100 | S35: (%) | T35: (%) | U35: (%) | V35: (%) | W35: (%) | X35: (%) | Y35: (%) | Z35: (%) | AA35: (%)
C36: FP | E36: =E20+E5 -> 2 | F36: =F20+F5 -> 3 | G36: =G20+G5 -> 2 | I36: Recall / TPR | K36: =(E44/(E44+E47))*100 -> 25 | L36: =(F44/(F44+F47))*100 -> 75 | M36: =(G44/(G44+G47))*100 -> 50 | O36: 100 | R36: Suricata | S36: =K34 -> 52.5 | T36: =K35 -> 55.555556 | U36: =K36 -> 25 | V36: =K37 -> 80 | W36: =K38 -> 20 | X36: =K39 -> 75 | Y36: =K40 -> 44.72136 | Z36: =K41 -> 34.482759 | AA36: =K42 -> 5.9868434
C37: FN | E37: =E21+E6 -> 24 | F37: =F21+F6 -> 8 | G37: =G21+G6 -> 16 | I37: Specificity / TNR | K37: =(E45/(E45+E46))*100 -> 80 | L37: =(F45/(F45+F46))*100 -> 70 | M37: =(G45/(G45+G46))*100 -> 80 | O37: 100 | R37: Snort2 | S37: =L34 -> 72.5 | T37: =L35 -> 71.428571 | U37: =L36 -> 75 | V37: =L37 -> 70 | W37: =L38 -> 30 | X37: =L39 -> 25 | Y37: =L40 -> 72.456884 | Z37: =L41 -> 73.170732 | AA37: =L42 -> 45.056356
I38: FPR | K38: =(E46/(E46+E45))*100 -> 20 | L38: =(F46/(F46+F45))*100 -> 30 | M38: =(G46/(G46+G45))*100 -> 20 | O38: 0 | R38: Snort3 | S38: =M34 -> 65 | T38: =M35 -> 71.428571 | U38: =M36 -> 50 | V38: =M37 -> 80 | W38: =M38 -> 20 | X38: =M39 -> 50 | Y38: =M40 -> 63.245553 | Z38: =M41 -> 58.823529 | AA38: =M42 -> 31.448545
B39: Percentage | C39: TP | E39: =E34/32 -> 0.25 | F39: =F34/32 -> 0.75 | G39: =G34/32 -> 0.5 | I39: FNR | K39: =(E47/(E47+E44))*100 -> 75 | L39: =(F47/(F47+F44))*100 -> 25 | M39: =(G47/(G47+G44))*100 -> 50 | O39: 0
C40: TN | E40: =E35/10 -> 0.8 | F40: =F35/10 -> 0.7 | G40: =G35/10 -> 0.8 | I40: NIDS Performance | K40: =SQRT(K36*K37) -> 44.72136 | L40: =SQRT(L36*L37) -> 72.456884 | M40: =SQRT(M36*M37) -> 63.245553 | O40: 100 | R40: Preferred Result | S40: 100 | T40: 100 | U40: 100 | V40: 100 | W40: 0 | X40: 0 | Y40: 100 | Z40: 100 | AA40: 100
C41: FP | E41: =E36/10 -> 0.2 | F41: =F36/10 -> 0.3 | G41: =G36/10 -> 0.2 | I41: F-Score | K41: =2*((K35*K36)/(K35+K36)) -> 34.482759 | L41: =2*((L35*L36)/(L35+L36)) -> 73.170732 | M41: =2*((M35*M36)/(M35+M36)) -> 58.823529 | O41: 100
C42: FN | E42: =E37/32 -> 0.75 | F42: =F37/32 -> 0.25 | G42: =G37/32 -> 0.5 | I42: MCC | K42: =(((E44*E45)-(E46*E47))/SQRT((E44+E46)*(E44+E47)*(E45+E46)*(E45+E47)))*100 -> 5.9868434 | L42: =(((F44*F45)-(F46*F47))/SQRT((F44+F46)*(F44+F47)*(F45+F46)*(F45+F47)))*100 -> 45.056356 | M42: =(((G44*G45)-(G46*G47))/SQRT((G44+G46)*(G44+G47)*(G45+G46)*(G45+G47)))*100 -> 31.448545 | O42: 100
B44: Median | C44: TP | E44: =E34/32 -> 0.25 | F44: =F34/32 -> 0.75 | G44: =G34/32 -> 0.5
C45: TN | E45: =E35/10 -> 0.8 | F45: =F35/10 -> 0.7 | G45: =G35/10 -> 0.8
C46: FP | E46: =E36/10 -> 0.2 | F46: =F36/10 -> 0.3 | G46: =G36/10 -> 0.2
C47: FN | E47: =E37/32 -> 0.75 | F47: =F37/32 -> 0.25 | G47: =G37/32 -> 0.5

Sheet Analysis Phase 2&3 Lng Percent
A1: Phase | B1: Calculation | C1: Metric | E1: Suricata | F1: Snort2 | G1: Snort3 | I1: Calculation | K1: Suricata | L1: Snort2 | M1: Snort3 | O1: Preferred Result
A3: III | B3: Sum | C3: TP | E3: ='Phase III'!S19 -> 0 | F3: ='Phase III'!T19 -> 0 | G3: ='Phase III'!U19 -> 0
A4: III | C4: TN | E4: ='Phase III'!S20 -> 8 | F4: ='Phase III'!T20 -> 7 | G4: ='Phase III'!U20 -> 8
A5: III | C5: FP | E5: ='Phase III'!S21 -> 2 | F5: ='Phase III'!T21 -> 3 | G5: ='Phase III'!U21 -> 2
A6: III | C6: FN | E6: ='Phase III'!S22 -> 0 | F6: ='Phase III'!T22 -> 0 | G6: ='Phase III'!U22 -> 0
A8: III | B8: Percentage | C8: TP | E8: ='Phase III'!S29 -> 0 | F8: ='Phase III'!T29 -> 0 | G8: ='Phase III'!U24 -> 0
A9: III | C9: TN | E9: ='Phase III'!S30 -> 0.8 | F9: ='Phase III'!T30 -> 0.7 | G9: ='Phase III'!U25 -> 0.8
A10: III | C10: FP | E10: ='Phase III'!S31 -> 0.2 | F10: ='Phase III'!T31 -> 0.3 | G10: ='Phase III'!U26 -> 0.2
A11: III | C11: FN | E11: ='Phase III'!S32 -> 0 | F11: ='Phase III'!T32 -> 0 | G11: ='Phase III'!U27 -> 0
A13: III | B13: Median | C13: TP | E13: ='Phase III'!S29 -> 0 | F13: ='Phase III'!T29 -> 0 | G13: ='Phase III'!U29 -> 0
A14: III | C14: TN | E14: ='Phase III'!S30 -> 0.8 | F14: ='Phase III'!T30 -> 0.7 | G14: ='Phase III'!U30 -> 0.8
A15: III | C15: FP | E15: ='Phase III'!S31 -> 0.2 | F15: ='Phase III'!T31 -> 0.3 | G15: ='Phase III'!U31 -> 0.2
A16: III | C16: FN | E16: ='Phase III'!S32 -> 0 | F16: ='Phase III'!T32 -> 0 | G16: ='Phase III'!U32 -> 0
A18: II Long Scan | B18: Sum | C18: TP | E18: ='Phase II-Long-Scan'!W19 -> 3 | F18: ='Phase II-Long-Scan'!X19 -> 3 | G18: ='Phase II-Long-Scan'!Y19 -> 3
A19: II Long Scan | C19: TN | E19: ='Phase II-Long-Scan'!W20 -> 0 | F19: ='Phase II-Long-Scan'!X20 -> 0 | G19: ='Phase II-Long-Scan'!Y20 -> 0
A20: II Long Scan | C20: FP | E20: ='Phase II-Long-Scan'!W21 -> 0 | F20: ='Phase II-Long-Scan'!X21 -> 0 | G20: ='Phase II-Long-Scan'!Y21 -> 0
A21: II Long Scan | C21: FN | E21: ='Phase II-Long-Scan'!W22 -> 0 | F21: ='Phase II-Long-Scan'!X22 -> 0 | G21: ='Phase II-Long-Scan'!Y22 -> 0
A23: II Long Scan | B23: Percentage | C23: TP | E23: ='Phase II-Long-Scan'!W24 -> 1 | F23: ='Phase II-Long-Scan'!X24 -> 1 | G23: ='Phase II-Long-Scan'!Y24 -> 1
A24: II Long Scan | C24: TN | E24: ='Phase II-Long-Scan'!W25 -> 0 | F24: ='Phase II-Long-Scan'!X25 -> 0 | G24: ='Phase II-Long-Scan'!Y25 -> 0
A25: II Long Scan | C25: FP | E25: ='Phase II-Long-Scan'!W26 -> 0 | F25: ='Phase II-Long-Scan'!X26 -> 0 | G25: ='Phase II-Long-Scan'!Y26 -> 0
A26: II Long Scan | C26: FN | E26: ='Phase II-Long-Scan'!W27 -> 0 | F26: ='Phase II-Long-Scan'!X27 -> 0 | G26: ='Phase II-Long-Scan'!Y27 -> 0
A28: II Long Scan | B28: Median | C28: TP | E28: ='Phase II-Long-Scan'!W29 -> 1 | F28: ='Phase II-Long-Scan'!X29 -> 1 | G28: ='Phase II-Long-Scan'!Y29 -> 1
A29: II Long Scan | C29: TN | E29: ='Phase II-Long-Scan'!W30 -> 0 | F29: ='Phase II-Long-Scan'!X30 -> 0 | G29: ='Phase II-Long-Scan'!Y30 -> 0
A30: II Long Scan | C30: FP | E30: ='Phase II-Long-Scan'!W31 -> 0 | F30: ='Phase II-Long-Scan'!X31 -> 0 | G30: ='Phase II-Long-Scan'!Y31 -> 0
A31: II Long Scan | C31: FN | E31: ='Phase II-Long-Scan'!W32 -> 0 | F31: ='Phase II-Long-Scan'!X32 -> 0 | G31: ='Phase II-Long-Scan'!Y32 -> 0
K33: (%) | L33: (%) | M33: (%) | O33: (%) | R33: NIDS Comparison from Phase II Long Scan & Phase III testing
A34: Combined Phase II Long & III | B34: Sum | C34: TP | E34: =E18+E3 -> 3 | F34: =F18+F3 -> 3 | G34: =G18+G3 -> 3 | I34: Accuracy | K34: =((E44+E45)/(E44+E45+E46+E47))*100 -> 90 | L34: =((F44+F45)/(F44+F45+F46+F47))*100 -> 85 | M34: =((G44+G45)/(G44+G45+G46+G47))*100 -> 90 | O34: 100
C35: TN | E35: =E19+E4 -> 8 | F35: =F19+F4 -> 7 | G35: =G19+G4 -> 8 | I35: Precision | K35: =(E44/(E44+E46))*100 -> 83.333333 | L35: =(F44/(F44+F46))*100 -> 76.923077 | M35: =(G44/(G44+G46))*100 -> 83.333333 | O35: 100 | R35: NIDS | S35: Accuracy | T35: Precision | U35: Recall / TPR | V35: Specificity / TNR | W35: FPR | X35: FNR | Y35: NIDS Performance | Z35: F-Score | AA35: MCC
C36: FP | E36: =E20+E5 -> 2 | F36: =F20+F5 -> 3 | G36: =G20+G5 -> 2 | I36: Recall / TPR | K36: =(E44/(E44+E47))*100 -> 100 | L36: =(F44/(F44+F47))*100 -> 100 | M36: =(G44/(G44+G47))*100 -> 100 | O36: 100 | S36: (%) | T36: (%) | U36: (%) | V36: (%) | W36: (%) | X36: (%) | Y36: (%) | Z36: (%) | AA36: (%)
C37: FN | E37: =E21+E6 -> 0 | F37: =F21+F6 -> 0 | G37: =G21+G6 -> 0 | I37: Specificity / TNR | K37: =($E$45/($E$45+$E$46))*100 -> 80 | L37: =($F$45/($F$45+$F$46))*100 -> 70 | M37: =($G$45/($G$45+$G$46))*100 -> 80 | O37: 100 | R37: Suricata | S37: =K34 -> 90 | T37: =K35 -> 83.333333 | U37: =K36 -> 100 | V37: =K37 -> 80 | W37: =K38 -> 20 | X37: =K39 -> 0 | Y37: =K40 -> 89.442719 | Z37: =K41 -> 90.909091 | AA37: =K42 -> 81.649658
I38: FPR | K38: =($E$46/($E$46+$E$45))*100 -> 20 | L38: =($F$46/($F$46+$F$45))*100 -> 30 | M38: =($G$46/($G$46+$G$45))*100 -> 20 | O38: 0 | R38: Snort2 | S38: =L34 -> 85 | T38: =L35 -> 76.923077 | U38: =L36 -> 100 | V38: =L37 -> 70 | W38: =L38 -> 30 | X38: =L39 -> 0 | Y38: =L40 -> 83.666003 | Z38: =L41 -> 86.956522 | AA38: =L42 -> 73.379939
B39: Percentage | C39: TP | E39: =E34/3 -> 1 | F39: =F34/3 -> 1 | G39: =G34/3 -> 1 | I39: FNR | K39: =(E47/(E47+E44))*100 -> 0 | L39: =(F47/(F47+F44))*100 -> 0 | M39: =(G47/(G47+G44))*100 -> 0 | O39: 0 | R39: Snort3 | S39: =M34 -> 90 | T39: =M35 -> 83.333333 | U39: =M36 -> 100 | V39: =M37 -> 80 | W39: =M38 -> 20 | X39: =M39 -> 0 | Y39: =M40 -> 89.442719 | Z39: =M41 -> 90.909091 | AA39: =M42 -> 81.649658
C40: TN | E40: =E35/10 -> 0.8 | F40: =F35/10 -> 0.7 | G40: =G35/10 -> 0.8 | I40: NIDS Performance | K40: =SQRT(K36*K37) -> 89.442719 | L40: =SQRT(L36*L37) -> 83.666003 | M40: =SQRT(M36*M37) -> 89.442719 | O40: 100
C41: FP | E41: =E36/10 -> 0.2 | F41: =F36/10 -> 0.3 | G41: =G36/10 -> 0.2 | I41: F-Score | K41: =2*((K35*K36)/(K35+K36)) -> 90.909091 | L41: =2*((L35*L36)/(L35+L36)) -> 86.956522 | M41: =2*((M35*M36)/(M35+M36)) -> 90.909091 | O41: 100 | R41: Preferred Result | S41: 100 | T41: 100 | U41: 100 | V41: 100 | W41: 0 | X41: 0 | Y41: 100 | Z41: 100 | AA41: 100
C42: FN | E42: =E37/3 -> 0 | F42: =F37/3 -> 0 | G42: =G37/3 -> 0 | I42: MCC | K42: =(((E44*E45)-(E46*E47))/SQRT((E44+E46)*(E44+E47)*(E45+E46)*(E45+E47)))*100 -> 81.649658 | L42: =(((F44*F45)-(F46*F47))/SQRT((F44+F46)*(F44+F47)*(F45+F46)*(F45+F47)))*100 -> 73.379939 | M42: =(((G44*G45)-(G46*G47))/SQRT((G44+G46)*(G44+G47)*(G45+G46)*(G45+G47)))*100 -> 81.649658 | O42: 100
B44: Median | C44: TP | E44: =E34/3 -> 1 | F44: =F34/3 -> 1 | G44: =G34/3 -> 1
C45: TN | E45: =E35/10 -> 0.8 | F45: =F35/10 -> 0.7 | G45: =G35/10 -> 0.8
C46: FP | E46: =E36/10 -> 0.2 | F46: =F36/10 -> 0.3 | G46: =G36/10 -> 0.2
C47: FN | E47: =E37/3 -> 0 | F47: =F37/3 -> 0 | G47: =G37/3 -> 0
I49: Phase III | K49: (%) | L49: (%) | M49: (%) | O49: (%)
I50: Specificity / TNR | K50: =($E$45/($E$45+$E$46))*100 -> 80 | L50: =($F$45/($F$45+$F$46))*100 -> 70 | M50: =($G$45/($G$45+$G$46))*100 -> 80 | O50: 100
I51: FPR | K51: =($E$46/($E$46+$E$45))*100 -> 20 | L51: =($F$46/($F$46+$F$45))*100 -> 30 | M51: =($G$46/($G$46+$G$45))*100 -> 20 | O51: 0

Sheet Analysis Phase 3&4 Percent
A1: Phase | B1: Calculation | C1: Metric | E1: Suricata | F1: Snort2 | G1: Snort3 | I1: Calculation | K1: Suricata | L1: Snort2 | M1: Snort3 | O1: Preferred Result
A3: III | B3: Sum | C3: TP | E3: ='Phase III'!S19 -> 0 | F3: ='Phase III'!T19 -> 0 | G3: ='Phase III'!U19 -> 0
A4: III | C4: TN | E4: ='Phase III'!S20 -> 8 | F4: ='Phase III'!T20 -> 7 | G4: ='Phase III'!U20 -> 8
A5: III | C5: FP | E5: ='Phase III'!S21 -> 2 | F5: ='Phase III'!T21 -> 3 | G5: ='Phase III'!U21 -> 2
A6: III | C6: FN | E6: ='Phase III'!S22 -> 0 | F6: ='Phase III'!T22 -> 0 | G6: ='Phase III'!U22 -> 0
B8: Percentage | C8: TP | E8: ='Phase III'!S29 -> 0 | F8: ='Phase III'!T29 -> 0 | G8: ='Phase III'!U24 -> 0
C9: TN | E9: ='Phase III'!S30 -> 0.8 | F9: ='Phase III'!T30 -> 0.7 | G9: ='Phase III'!U25 -> 0.8
C10: FP | E10: ='Phase III'!S31 -> 0.2 | F10: ='Phase III'!T31 -> 0.3 | G10: ='Phase III'!U26 -> 0.2
C11: FN | E11: ='Phase III'!S32 -> 0 | F11: ='Phase III'!T32 -> 0 | G11: ='Phase III'!U27 -> 0
A13: III | B13: Median | C13: TP | E13: ='Phase III'!S29 -> 0 | F13: ='Phase III'!T29 -> 0 | G13: ='Phase III'!U29 -> 0
A14: III | C14: TN | E14: ='Phase III'!S30 -> 0.8 | F14: ='Phase III'!T30 -> 0.7 | G14: ='Phase III'!U30 -> 0.8
A15: III | C15: FP | E15: ='Phase III'!S31 -> 0.2 | F15: ='Phase III'!T31 -> 0.3 | G15: ='Phase III'!U31 -> 0.2
A16: III | C16: FN | E16: ='Phase III'!S32 -> 0 | F16: ='Phase III'!T32 -> 0 | G16: ='Phase III'!U32 -> 0
A18: IV | B18: Sum | C18: TP | E18: ='Phase IV v3'!V17 -> 2 | F18: ='Phase IV v3'!W17 -> 4 | G18: ='Phase IV v3'!X17 -> 7
A19: IV | C19: TN | E19: ='Phase IV v3'!V18 -> 0 | F19: ='Phase IV v3'!W18 -> 0 | G19: ='Phase IV v3'!X18 -> 0
A20: IV | C20: FP | E20: ='Phase IV v3'!V19 -> 0 | F20: ='Phase IV v3'!W19 -> 0 | G20: ='Phase IV v3'!X19 -> 0
A21: IV | C21: FN | E21: ='Phase IV v3'!V20 -> 8 | F21: ='Phase IV v3'!W20 -> 6 | G21: ='Phase IV v3'!X20 -> 3
A22: IV
A23: IV | B23: Percentage | C23: TP | E23: ='Phase IV v3'!V22 -> 0.2 | F23: ='Phase IV v3'!W22 -> 0.4 | G23: ='Phase IV v3'!X22 -> 0.7
A24: IV | C24: TN | E24: ='Phase IV v3'!V23 -> 0 | F24: ='Phase IV v3'!W23 -> 0 | G24: ='Phase IV v3'!X23 -> 0
A25: IV | C25: FP | E25: ='Phase IV v3'!V24 -> 0 | F25: ='Phase IV v3'!W24 -> 0 | G25: ='Phase IV v3'!X24 -> 0
A26: IV | C26: FN | E26: ='Phase IV v3'!V25 -> 0.8 | F26: ='Phase IV v3'!W25 -> 0.6 | G26: ='Phase IV v3'!X25 -> 0.3
A27: IV
A28: IV | B28: Median | C28: TP | E28: ='Phase IV v3'!V27 -> 0.2 | F28: ='Phase IV v3'!W22 -> 0.4 | G28: ='Phase IV v3'!X27 -> 0.7
A29: IV | C29: TN | E29: ='Phase IV v3'!V28 -> 0 | F29: ='Phase IV v3'!W23 -> 0 | G29: ='Phase IV v3'!X28 -> 0
A30: IV | C30: FP | E30: ='Phase IV v3'!V29 -> 0 | F30: ='Phase IV v3'!W24 -> 0 | G30: ='Phase IV v3'!X29 -> 0
A31: IV | C31: FN | E31: ='Phase IV v3'!V30 -> 0.8 | F31: ='Phase IV v3'!W25 -> 0.6 | G31: ='Phase IV v3'!X30 -> 0.3
K33: (%) | L33: (%) | M33: (%) | O33: (%) | R33: NIDS Comparison from Phase III & Phase IV testing
A34: Combined Phase III & IV | B34: Sum | C34: TP | E34: =E18+E3 -> 2 | F34: =F18+F3 -> 4 | G34: =G18+G3 -> 7 | I34: Accuracy | K34: =((E44+E45)/(E44+E45+E46+E47))*100 -> 50 | L34: =((F44+F45)/(F44+F45+F46+F47))*100 -> 55 | M34: =((G44+G45)/(G44+G45+G46+G47))*100 -> 75 | O34: 100 | R34: NIDS | S34: Accuracy | T34: Precision | U34: Recall / TPR | V34: Specificity / TNR | W34: FPR | X34: FNR | Y34: NIDS Performance | Z34: F-Score | AA34: MCC
C35: TN | E35: =E19+E4 -> 8 | F35: =F19+F4 -> 7 | G35: =G19+G4 -> 8 | I35: Precision | K35: =(E44/(E44+E46))*100 -> 50 | L35: =(F44/(F44+F46))*100 -> 57.142857 | M35: =(G44/(G44+G46))*100 -> 77.777778 | O35: 100 | S35: (%) | T35: (%) | U35: (%) | V35: (%) | W35: (%) | X35: (%) | Y35: (%) | Z35: (%) | AA35: (%)
C36: FP | E36: =E20+E5 -> 2 | F36: =F20+F5 -> 3 | G36: =G20+G5 -> 2 | I36: Recall / TPR | K36: =(E44/(E44+E47))*100 -> 20 | L36: =(F44/(F44+F47))*100 -> 40 | M36: =(G44/(G44+G47))*100 -> 70 | O36: 100 | R36: Suricata | S36: =K34 -> 50 | T36: =K35 -> 50 | U36: =K36 -> 20 | V36: =K37 -> 80 | W36: =K38 -> 20 | X36: =K39 -> 80 | Y36: =K40 -> 40 | Z36: =K41 -> 28.571429 | AA36: =K42 -> 0
C37: FN | E37: =E21+E6 -> 8 | F37: =F21+F6 -> 6 | G37: =G21+G6 -> 3 | I37: Specificity / TNR | K37: =(E45/(E45+E46))*100 -> 80 | L37: =(F45/(F45+F46))*100 -> 70 | M37: =(G45/(G45+G46))*100 -> 80 | O37: 100 | R37: Snort2 | S37: =L34 -> 55 | T37: =L35 -> 57.142857 | U37: =L36 -> 40 | V37: =L37 -> 70 | W37: =L38 -> 30 | X37: =L39 -> 60 | Y37: =L40 -> 52.915026 | Z37: =L41 -> 47.058824 | AA37: =L42 -> 10.482848
I38: FPR | K38: =(E46/(E46+E45))*100 -> 20 | L38: =(F46/(F46+F45))*100 -> 30 | M38: =(G46/(G46+G45))*100 -> 20 | O38: 0 | R38: Snort3 | S38: =M34 -> 75 | T38: =M35 -> 77.777778 | U38: =M36 -> 70 | V38: =M37 -> 80 | W38: =M38 -> 20 | X38: =M39 -> 30 | Y38: =M40 -> 74.833148 | Z38: =M41 -> 73.684211 | AA38: =M42 -> 50.251891
B39: Percentage | C39: TP | E39: =E34/10 -> 0.2 | F39: =F34/10 -> 0.4 | G39: =G34/10 -> 0.7 | I39: FNR | K39: =(E47/(E47+E44))*100 -> 80 | L39: =(F47/(F47+F44))*100 -> 60 | M39: =(G47/(G47+G44))*100 -> 30 | O39: 0
C40: TN | E40: =E35/10 -> 0.8 | F40: =F35/10 -> 0.7 | G40: =G35/10 -> 0.8 | I40: NIDS Performance | K40: =SQRT(K36*K37) -> 40 | L40: =SQRT(L36*L37) -> 52.915026 | M40: =SQRT(M36*M37) -> 74.833148 | O40: 100 | R40: Preferred Result | S40: 100 | T40: 100 | U40: 100 | V40: 100 | W40: 0 | X40: 0 | Y40: 100 | Z40: 100 | AA40: 100
C41: FP | E41: =E36/10 -> 0.2 | F41: =F36/10 -> 0.3 | G41: =G36/10 -> 0.2 | I41: F-Score | K41: =2*((K35*K36)/(K35+K36)) -> 28.571429 | L41: =2*((L35*L36)/(L35+L36)) -> 47.058824 | M41: =2*((M35*M36)/(M35+M36)) -> 73.684211 | O41: 100
C42: FN | E42: =E37/10 -> 0.8 | F42: =F37/10 -> 0.6 | G42: =G37/10 -> 0.3 | I42: MCC | K42: =(((E44*E45)-(E46*E47))/SQRT((E44+E46)*(E44+E47)*(E45+E46)*(E45+E47)))*100 -> 0 | L42: =(((F44*F45)-(F46*F47))/SQRT((F44+F46)*(F44+F47)*(F45+F46)*(F45+F47)))*100 -> 10.482848 | M42: =(((G44*G45)-(G46*G47))/SQRT((G44+G46)*(G44+G47)*(G45+G46)*(G45+G47)))*100 -> 50.251891 | O42: 100
B44: Median | C44: TP | E44: =E34/10 -> 0.2 | F44: =F34/10 -> 0.4 | G44: =G34/10 -> 0.7
C45: TN | E45: =E35/10 -> 0.8 | F45: =F35/10 -> 0.7 | G45: =G35/10 -> 0.8
C46: FP | E46: =E36/10 -> 0.2 | F46: =F36/10 -> 0.3 | G46: =G36/10 -> 0.2
C47: FN | E47: =E37/10 -> 0.8 | F47: =F37/10 -> 0.6 | G47: =G37/10 -> 0.3

Sheet Phase I&III ROC TPR-FPR Graph
D3: Y Axis | E3: X Axis
C6: NIDS | D6: Recall / Sensitivity | E6: (1-Specificity)
D7: TPR | E7: FPR
C8: Suricata | D8: ='Analysis Phase I & III'!$K$35 -> 0.27631579 | E8: ='Analysis Phase I & III'!$K$37 -> 0.2
C9: Snort2 | D9: ='Analysis Phase I & III'!$L$35 -> 0.67105263 | E9: ='Analysis Phase I & III'!$L$37 -> 0.3
C10: Snort3 | D10: ='Analysis Phase I & III'!$M$35 -> 0.84210526 | E10: ='Analysis Phase I & III'!$M$37 -> 0.2
C13: NIDS | D13: Symbol
C14: Suricata | D14: S
C15: Snort2 | D15: S2
C16: Snort3 | D16: S3
D23: 1 | E23: 1

Sheet Phase 2&3 S ROC TPR-FPR Graph
D3: Y Axis | E3: X Axis
C6: NIDS | D6: Recall / Sensitivity | E6: (1-Specificity)
D7: TPR | E7: FPR
C8: Suricata | D8: ='Analysis Phase 2&3 Short Scan'!$U$34 -> 0.25 | E8: ='Analysis Phase 2&3 Short Scan'!W34 -> 0.2
C9: Snort2 | D9: ='Analysis Phase 2&3 Short Scan'!$U$35 -> 0.75 | E9: ='Analysis Phase 2&3 Short Scan'!W35 -> 0.3
C10: Snort3 | D10: ='Analysis Phase 2&3 Short Scan'!$U$36 -> 0.5 | E10: ='Analysis Phase 2&3 Short Scan'!$W$36 -> 0.2
C13: NIDS | D13: Symbol
C14: Suricata | D14: S
C15: Snort2 | D15: S2
C16: Snort3 | D16: S3
D23: 1 | E23: 1

Sheet Phase 2&3 L ROC TPR-FPR Graph
D3: Y Axis | E3: X Axis
C6: NIDS | D6: Recall / Sensitivity | E6: (1-Specificity)
D7: TPR | E7: FPR
C8: Suricata | D8: ='Analysis Phase 2&3 Long Scan'!$U$34 -> 1 | E8: ='Analysis Phase 2&3 Long Scan'!$W$34 -> 0.2
C9: Snort2 | D9: ='Analysis Phase 2&3 Long Scan'!$U$35 -> 1 | E9: ='Analysis Phase 2&3 Long Scan'!$W$35 -> 0.3
C10: Snort3 | D10: ='Analysis Phase 2&3 Long Scan'!$U$36 -> 1 | E10: ='Analysis Phase 2&3 Long Scan'!$W$36 -> 0.2
C13: NIDS | D13: Symbol
C14: Suricata | D14: S
C15: Snort2 | D15: S2
C16: Snort3 | D16: S3
D23: 1 | E23: 1

Sheet Phase III&IV ROC TPR-FPR Graph
D3: Y Axis | E3: X Axis
C6: NIDS | D6: Recall / Sensitivity | E6: (1-Specificity)
D7: TPR | E7: FPR
C8: Suricata | D8: ='Analysis Phase III & IV'!$K$35 -> 0.2 | E8: ='Analysis Phase III & IV'!$K$37 -> 0.2
C9: Snort2 | D9: ='Analysis Phase III & IV'!$L$35 -> 0.4 | E9: ='Analysis Phase III & IV'!$L$37 -> 0.3
C10: Snort3 | D10: ='Analysis Phase III & IV'!$M$35 -> 0.7 | E10: ='Analysis Phase III & IV'!$M$37 -> 0.2
C13: NIDS | D13: Symbol
C14: Suricata | D14: S
C15: Snort2 | D15: S2
C16: Snort3 | D16: S3
D25: 1 | E25: 1

Sheet Combined ROC TPR-FPR Graph
B3: Phases | E3: Y Axis | F3: X Axis
D6: NIDS | E6: Recall / Sensitivity | F6: (1-Specificity)
E7: TPR | F7: FPR
B8: I | C8: III | D8: Suricata | E8: ='Analysis Phase I & III'!$K$35 -> 0.27631579 | F8: ='Analysis Phase I & III'!$K$37 -> 0.2
B9: I | C9: III | D9: Snort2 | E9: ='Analysis Phase I & III'!$L$35 -> 0.67105263 | F9: ='Analysis Phase I & III'!$L$37 -> 0.3
B10: I | C10: III | D10: Snort3 | E10: ='Analysis Phase I & III'!$M$35 -> 0.84210526 | F10: ='Analysis Phase I & III'!$M$37 -> 0.2
B11: II Short Scan | C11: III | D11: Suricata | E11: ='Analysis Phase 2&3 Short Scan'!$U$34 -> 0.25 | F11: ='Analysis Phase 2&3 Short Scan'!$W$34 -> 0.2
B12: II Short Scan | C12: III | D12: Snort2 | E12: ='Analysis Phase 2&3 Short Scan'!$U$35 -> 0.75 | F12: ='Analysis Phase 2&3 Short Scan'!$W$35 -> 0.3
B13: II Short Scan | C13: III | D13: Snort3 | E13: ='Analysis Phase 2&3 Short Scan'!$U$36 -> 0.5 | F13: ='Analysis Phase 2&3 Short Scan'!$W$36 -> 0.2
B14: II Long Scan | C14: III | D14: Suricata | E14: ='Analysis Phase 2&3 Long Scan'!$U$34 -> 1 | F14: ='Analysis Phase 2&3 Long Scan'!$W$34 -> 0.2
B15: II Long Scan | C15: III | D15: Snort2 | E15: ='Analysis Phase 2&3 Long Scan'!$U$35 -> 1 | F15: ='Analysis Phase 2&3 Long Scan'!$W$35 -> 0.3
B16: II Long Scan | C16: III | D16: Snort3 | E16: ='Analysis Phase 2&3 Long Scan'!$U$36 -> 1 | F16: ='Analysis Phase 2&3 Long Scan'!$W$36 -> 0.2
B17: IV | C17: III | D17: Suricata | E17: ='Analysis Phase III & IV'!K35 -> 0.2 | F17: ='Analysis Phase III & IV'!K37 -> 0.2
B18: IV | C18: III | D18: Snort2 | E18: ='Analysis Phase III & IV'!L35 -> 0.4 | F18: ='Analysis Phase III & IV'!L37 -> 0.3
B19: IV | C19: III | D19: Snort3 | E19: ='Analysis Phase III & IV'!M35 -> 0.7 | F19: ='Analysis Phase III & IV'!M37 -> 0.2
D22: NIDS | E22: Symbol
D23: Suricata | E23: S
D24: Snort2 | E24: S2
D25: Snort3 | E25: S3
E35: 1 | F35: 1

Sheet Analysis Phase I & III
A1: Phase | B1: Calculation | C1: Metric | E1: Suricata | F1: Snort2 | G1: Snort3 | I1: Calculation | K1: Suricata | L1: Snort2 | M1: Snort3 | O1: Preferred Result
A2: I | B2: Sum | C2: TP | E2: ='Phase I'!S85 -> 21 | F2: ='Phase I'!T85 -> 51 | G2: ='Phase I'!U85 -> 64
A3: I | C3: TN | E3: ='Phase I'!S86 -> 0 | F3: ='Phase I'!T86 -> 0 | G3: ='Phase I'!U86 -> 0
A4: I | C4: FP | E4: ='Phase I'!S87 -> 0 | F4: ='Phase I'!T87 -> 0 | G4: ='Phase I'!U87 -> 0
A5: I | C5: FN | E5: ='Phase I'!S88 -> 55 | F5: ='Phase I'!T88 -> 25 | G5: ='Phase I'!U88 -> 12
A7: I | B7: Percentage | C7: TP | E7: ='Phase I'!S95 -> 0.28 | F7: ='Phase I'!T95 -> 0.67105263 | G7: ='Phase I'!U95 -> 0.84210526
A8: I | C8: TN | E8: ='Phase I'!S96 -> 0 | F8: ='Phase I'!T96 -> 0 | G8: ='Phase I'!U96 -> 0
A9: I | C9: FP | E9: ='Phase I'!S97 -> 0 | F9: ='Phase I'!T97 -> 0 | G9: ='Phase I'!U97 -> 0
A10: I | C10: FN | E10: ='Phase I'!S98 -> 0.73333333 | F10: ='Phase I'!T98 -> 0.33333333 | G10: ='Phase I'!U98 -> 0.15789474
A12: I | B12: Median | C12: TP | E12: ='Phase I'!S95 -> 0.28 | F12: ='Phase I'!T95 -> 0.67105263 | G12: ='Phase I'!U95 -> 0.84210526
A13: I | C13: TN | E13: ='Phase I'!S96 -> 0 | F13: ='Phase I'!T96 -> 0 | G13: ='Phase I'!U96 -> 0
A14: I | C14: FP | E14: ='Phase I'!S97 -> 0 | F14: ='Phase I'!T97 -> 0 | G14: ='Phase I'!U97 -> 0
A15: I | C15: FN | E15: ='Phase I'!S98 -> 0.73333333 | F15: ='Phase I'!T98 -> 0.33333333 | G15: ='Phase I'!U98 -> 0.15789474
A17: III | B17: Sum | C17: TP | E17: ='Phase III'!S19 -> 0 | F17: ='Phase III'!T19 -> 0 | G17: ='Phase III'!U19 -> 0
A18: III | C18: TN | E18: ='Phase III'!S20 -> 8 | F18: ='Phase III'!T20 -> 7 | G18: ='Phase III'!U20 -> 8
A19: III | C19: FP | E19: ='Phase III'!S21 -> 2 | F19: ='Phase III'!T21 -> 3 | G19: ='Phase III'!U21 -> 2
A20: III | C20: FN | E20: ='Phase III'!S22 -> 0 | F20: ='Phase III'!T22 -> 0 | G20: ='Phase III'!U22 -> 0
A22: III | B22: Percentage | C22: TP | E22: ='Phase III'!S29 -> 0 | F22: ='Phase III'!T29 -> 0 | G22: ='Phase III'!U24 -> 0
A23: III | C23: TN | E23: ='Phase III'!S30 -> 0.8 | F23: ='Phase III'!T30 -> 0.7 | G23: ='Phase III'!U25 -> 0.8
A24: III | C24: FP | E24: ='Phase III'!S31 -> 0.2 | F24: ='Phase III'!T31 -> 0.3 | G24: ='Phase III'!U26 -> 0.2
A25: III | C25: FN | E25: ='Phase III'!S32 -> 0 | F25: ='Phase III'!T32 -> 0 | G25: ='Phase III'!U27 -> 0
A27: III | B27: Median | C27: TP | E27: ='Phase III'!S29 -> 0 | F27: ='Phase III'!T29 -> 0 | G27: ='Phase III'!U29 -> 0
A28: III | C28: TN | E28: ='Phase III'!S30 -> 0.8 | F28: ='Phase III'!T30 -> 0.7 | G28: ='Phase III'!U30 -> 0.8
A29: III | C29: FP | E29: ='Phase III'!S31 -> 0.2 | F29: ='Phase III'!T31 -> 0.3 | G29: ='Phase III'!U31 -> 0.2
A30: III | C30: FN | E30: ='Phase III'!S32 -> 0 | F30: ='Phase III'!T32 -> 0 | G30: ='Phase III'!U32 -> 0
R32: NIDS Comparison from Phase I & Phase III testing
A33: Combined Phase I & III | B33: Sum | C33: TP | E33: =E2+E17 -> 21 | F33: =F2+F17 -> 51 | G33: =G2+G17 -> 64 | I33: Accuracy | K33: =(E43+E44)/(E43+E44+E45+E46) -> 0.53815789 | L33: =(F43+F44)/(F43+F44+F45+F46) -> 0.68552632 | M33: =(G43+G44)/(G43+G44+G45+G46) -> 0.82105263 | O33: 1 | R33: NIDS | S33: Accuracy | T33: Precision | U33: Recall / TPR | V33: Specificity / TNR | W33: FPR | X33: FNR | Y33: NIDS Performance | Z33: F-Score | AA33: MCC
C34: TN | E34: =E3+E18 -> 8 | F34: =F3+F18 -> 7 | G34: =G3+G18 -> 8 | I34: Precision | K34: =E43/(E43+E45) -> 0.5801105 | L34: =F43/(F43+F45) -> 0.69105691 | M34: =G43/(G43+G45) -> 0.80808081 | O34: 1 | R34: Suricata | S34: =(E43+E44)/(E43+E44+E45+E46) -> 0.53815789 | T34: =E43/(E43+E45) -> 0.5801105 | U34: =E43/(E43+E46) -> 0.27631579 | V34: =E44/(E44+E45) -> 0.8 | W34: =E45/(E45+E44) -> 0.2 | X34: =E46/(E46+E43) -> 0.72368421 | Y34: =SQRT(K35*K36) -> 0.47016235 | Z34: =2*((K34*K35)/(K34+K35)) -> 0.37433155 | AA34: =((E43*E44)-(E45*E46))/SQRT((E43+E45)*(E43+E46)*(E44+E45)*(E44+E46)) -> 0.089581727
C35: FP | E35: =E4+E19 -> 2 | F35: =F4+F19 -> 3 | G35: =G4+G19 -> 2 | I35: Recall / TPR | K35: =E43/(E43+E46) -> 0.27631579 | L35: =F43/(F43+F46) -> 0.67105263 | M35: =G43/(G43+G46) -> 0.84210526 | O35: 1 | R35: Snort2 | S35: =(F43+F44)/(F43+F44+F45+F46) -> 0.68552632 | T35: =F43/(F43+F45) -> 0.69105691 | U35: =F43/(F43+F46) -> 0.67105263 | V35: =F44/(F44+F45) -> 0.7 | W35: =F45/(F45+F44) -> 0.3 | X35: =F46/(F46+F43) -> 0.32894737 | Y35: =SQRT(L35*L36) -> 0.68537351 | Z35: =2*((L34*L35)/(L34+L35)) -> 0.68090788 | AA35: =((F43*F44)-(F45*F46))/SQRT((F43+F45)*(F43+F46)*(F44+F45)*(F44+F46)) -> 0.37120819
C36: FN | E36: =E5+E20 -> 55 | F36: =F5+F20 -> 25 | G36: =G5+G20 -> 12 | I36: Specificity / TNR | K36: =E44/(E44+E45) -> 0.8 | L36: =F44/(F44+F45) -> 0.7 | M36: =G44/(G44+G45) -> 0.8 | O36: 1 | R36: Snort3 | S36: =(G43+G44)/(G43+G44+G45+G46) -> 0.82105263 | T36: =G43/(G43+G45) -> 0.80808081 | U36: =G43/(G43+G46) -> 0.84210526 | V36: =G44/(G44+G45) -> 0.8 | W36: =G45/(G45+G44) -> 0.2 | X36: =G46/(G46+G43) -> 0.15789474 | Y36: =SQRT(M35*M36) -> 0.82078268 | Z36: =2*((M34*M35)/(M34+M35)) -> 0.82474227 | AA36: =((G43*G44)-(G45*G46))/SQRT((G43+G45)*(G43+G46)*(G44+G45)*(G44+G46)) -> 0.6426752
I37: FPR | K37: =E45/(E45+E44) -> 0.2 | L37: =F45/(F45+F44) -> 0.3 | M37: =G45/(G45+G44) -> 0.2 | O37: 0
B38: Percentage | C38: TP | E38: =E33/76 -> 0.27631579 | F38: =F33/76 -> 0.67105263 | G38: =G33/76 -> 0.84210526 | I38: FNR | K38: =E46/(E46+E43) -> 0.72368421 | L38: =F46/(F46+F43) -> 0.32894737 | M38: =G46/(G46+G43) -> 0.15789474 | O38: 0 | R38: Preferred Result | S38: 1 | T38: 1 | U38: 1 | V38: 1 | W38: 0 | X38: 0 | Y38: 1 | Z38: 1 | AA38: 1
C39: TN | E39: =E34/10 -> 0.8 | F39: =F34/10 -> 0.7 | G39: =G34/10 -> 0.8 | I39: NIDS Performance | K39: =SQRT(K35*K36) -> 0.47016235 | L39: =SQRT(L35*L36) -> 0.68537351 | M39: =SQRT(M35*M36) -> 0.82078268 | O39: 1
C40: FP | E40: =E35/10 -> 0.2 | F40: =F35/10 -> 0.3 | G40: =G35/10 -> 0.2 | I40: F-Score | K40: =2*((K34*K35)/(K34+K35)) -> 0.37433155 | L40: =2*((L34*L35)/(L34+L35)) -> 0.68090788 | M40: =2*((M34*M35)/(M34+M35)) -> 0.82474227 | O40: 1
C41: FN | E41: =E36/76 -> 0.72368421 | F41: =F36/76 -> 0.32894737 | G41: =G36/76 -> 0.15789474 | I41: MCC | K41: =((E43*E44)-(E45*E46))/SQRT((E43+E45)*(E43+E46)*(E44+E45)*(E44+E46)) -> 0.089581727 | L41: =((F43*F44)-(F45*F46))/SQRT((F43+F45)*(F43+F46)*(F44+F45)*(F44+F46)) -> 0.37120819 | M41: =((G43*G44)-(G45*G46))/SQRT((G43+G45)*(G43+G46)*(G44+G45)*(G44+G46)) -> 0.6426752 | O41: 1
B43: Median | C43: TP | E43: =E33/76 -> 0.27631579 | F43: =F33/76 -> 0.67105263 | G43: =G33/76 -> 0.84210526
C44: TN | E44: =E34/10 -> 0.8 | F44: =F34/10 -> 0.7 | G44: =G34/10 -> 0.8
C45: FP | E45: =E35/10 -> 0.2 | F45: =F35/10 -> 0.3 | G45: =G35/10 -> 0.2
C46: FN | E46: =E36/76 -> 0.72368421 | F46: =F36/76 -> 0.32894737 | G46: =G36/76 -> 0.15789474
A49: Comparison with related works | AF49: Comparison with related works
AH50: NIDS | AI50: Accuracy | AJ50: Precision | AK50: Recall | AL50: F-Score
AH51: Preferred | AI51: 100 | AJ51: 100 | AK51: 100 | AL51: 100
C52: >>>>>>>>>>>>>>>>>>>>>>>>>>>>>>>>> | AF52: Phase I & III Test Results | AH52: Suricata | AI52: =(E43+E44)/(E43+E44+E45+E46)*100 -> 53.815789 | AJ52: =E43/(E43+E45)*100 -> 58.01105 | AK52: =E43/(E43+E46)*100 -> 27.631579 | AL52: =2*((K34*K35)/(K34+K35))*100 -> 37.433155
C53: Cell AF49 | AH53: Snort2 | AI53: =(F43+F44)/(F43+F44+F45+F46)*100 -> 68.552632 | AJ53: =F43/(F43+F45)*100 -> 69.105691 | AK53: =F43/(F43+F46)*100 -> 67.105263 | AL53: =2*((L34*L35)/(L34+L35))*100 -> 68.090788
AH54: Snort3 | AI54: =(G43+G44)/(G43+G44+G45+G46)*100 -> 82.105263 | AJ54: =G43/(G43+G45)*100 -> 80.808081 | AK54: =G43/(G43+G46)*100 -> 84.210526 | AL54: =2*((M34*M35)/(M34+M35))*100 -> 82.474227
AF56: Related Works | AG56: Author | AH56: System | AI56: Accuracy | AJ56: Precision | AK56: Recall | AL56: F-Score
AF57: Classification of Encrypted Traffic via packet analysis | AG57: Yu et al | AH57: BERT | AI57: 99.25 | AJ57: 99.26 | AK57: 99.24 | AL57: 99.24
AF58: Classification based on N-gram and time-aware analysis of IP Packet | AG58: Han et al. | AH58: GTID | AI58: 97.87 | AJ58: 98.16 | AK58: 97.59 | AL58: 97.83
AF59: Classification based on external attention and IP Packet header Non-VPN | AG59: Hu et al. | AH59: ECM | AI59: 98.39 | AJ59: 98.39 | AK59: 98.39 | AL59: 98.39
AF60: Classification based on external attention and IP Packet header VPN | AG60: Hu et al. | AH60: ECM | AI60: 99.21 | AJ60: 99.21 | AK60: 99.21 | AL60: 99.21
AF61: Classification based on Hybrid Machine Learning (Decision Tree) (DT) | AG61: Seo et al. | AH61: 2Level IDS | AI61: 97.9 | AJ61: 98.1 | AK61: 97.9 | AL61: 98
AF62: Classification based on Hybrid Machine Learning (Random Forest) (RF) | AG62: Seo et al. | AH62: 2Level IDS | AI62: 98.1 | AJ62: 98.2 | AK62: 98.1 | AL62: 98.2
AF63: Classification based on Deep Learning (Deep Feed Forward) (DFF) | AG63: Garcia et al. | AH63: Dique | AI63: 99.94 | AJ63: 99.95 | AK63: 99.9 | AL63: 99.93
AF64: Classification based on Deep Learning (Deep Learning Reinforcement) (DLR) | AG64: Alam et al. | AH64: DLR-LSTM | AI64: 99 | AJ64: 99 | AK64: 99 | AL64: 99
AF65: Classification based on Deep Learning (Large Language Model) (LLM) | AG65: Tirulo et al. | AH65: LLM-IDS | AI65: 98.5 | AJ65: 96.2 | AK65: 97.5 | AL65: 96.8
AF66: Classification based on Active Learning (AL) | AG66: Shakib et al. | AH66: AL | AI66: 92.36 | AJ66: 71.4 | AK66: 90 | AL66: 79 | AN66: Maybe remove this one as the paper was not scrutinised!

Sheet Analysis Phase 2&3 Short Scan
A1: Phase | B1: Calculation | C1: Metric | E1: Suricata | F1: Snort2 | G1: Snort3 | I1: Calculation | K1: Suricata | L1: Snort2 | M1: Snort3 | O1: Preferred Result
A3: III | B3: Sum | C3: TP | E3: ='Phase III'!S19 -> 0 | F3: ='Phase III'!T19 -> 0 | G3: ='Phase III'!U19 -> 0
A4: III | C4: TN | E4: ='Phase III'!S20 -> 8 | F4: ='Phase III'!T20 -> 7 | G4: ='Phase III'!U20 -> 8
A5: III | C5: FP | E5: ='Phase III'!S21 -> 2 | F5: ='Phase III'!T21 -> 3 | G5: ='Phase III'!U21 -> 2
A6: III | C6: FN | E6: ='Phase III'!S22 -> 0 | F6: ='Phase III'!T22 -> 0 | G6: ='Phase III'!U22 -> 0
B8: Percentage | C8: TP | E8: ='Phase III'!S29 -> 0 | F8: ='Phase III'!T29 -> 0 | G8: ='Phase III'!U24 -> 0
C9: TN | E9: ='Phase III'!S30 -> 0.8 | F9: ='Phase III'!T30 -> 0.7 | G9: ='Phase III'!U25 -> 0.8
C10: FP | E10: ='Phase III'!S31 -> 0.2 | F10: ='Phase III'!T31 -> 0.3 | G10: ='Phase III'!U26 -> 0.2
C11: FN | E11: ='Phase III'!S32 -> 0 | F11: ='Phase III'!T32 -> 0 | G11: ='Phase III'!U27 -> 0
A13: III | B13: Median | C13: TP | E13: ='Phase III'!S29 -> 0 | F13: ='Phase III'!T29 -> 0 | G13: ='Phase III'!U29 -> 0
A14: III | C14: TN | E14: ='Phase III'!S30 -> 0.8 | F14: ='Phase III'!T30 -> 0.7 | G14: ='Phase III'!U30 -> 0.8
A15: III | C15: FP | E15: ='Phase III'!S31 -> 0.2 | F15: ='Phase III'!T31 -> 0.3 | G15: ='Phase III'!U31 -> 0.2
A16: III | C16: FN | E16: ='Phase III'!S32 -> 0 | F16: ='Phase III'!T32 -> 0 | G16: ='Phase III'!U32 -> 0
A18: II Short Scan | B18: Sum | C18: TP | E18: ='Phase II-Short-Scan'!V44 -> 8 | F18: ='Phase II-Short-Scan'!W44 -> 24 | G18: ='Phase II-Short-Scan'!X44 -> 16
A19: II Short Scan | C19: TN | E19: ='Phase II-Short-Scan'!V45 -> 0 | F19: ='Phase II-Short-Scan'!W45 -> 0 | G19: ='Phase II-Short-Scan'!X45 -> 0
A20: II Short Scan | C20: FP | E20: ='Phase II-Short-Scan'!V46 -> 0 | F20: ='Phase II-Short-Scan'!W46 -> 0 | G20: ='Phase II-Short-Scan'!X46 -> 0
A21: II Short Scan | C21: FN | E21: ='Phase II-Short-Scan'!V47 -> 24 | F21: ='Phase II-Short-Scan'!W47 -> 8 | G21: ='Phase II-Short-Scan'!X47 -> 16
A23: II Short Scan | B23: Percentage | C23: TP | E23: ='Phase II-Short-Scan'!V49 -> 0.25 | F23: ='Phase II-Short-Scan'!W49 -> 0.75 | G23: ='Phase II-Short-Scan'!X49 -> 0.5
A24: II Short Scan | C24: TN | E24: ='Phase II-Short-Scan'!V50 -> 0 | F24: ='Phase II-Short-Scan'!W50 -> 0 | G24: ='Phase II-Short-Scan'!X50 -> 0
A25: II Short Scan | C25: FP | E25: ='Phase II-Short-Scan'!V51 -> 0 | F25: ='Phase II-Short-Scan'!W51 -> 0 | G25: ='Phase II-Short-Scan'!X51 -> 0
A26: II Short Scan | C26: FN | E26: ='Phase II-Short-Scan'!V52 -> 0.75 | F26: ='Phase II-Short-Scan'!W52 -> 0.25 | G26: ='Phase II-Short-Scan'!X52 -> 0.5
A28: II Short Scan | B28: Median | C28: TP | E28: ='Phase II-Short-Scan'!V54 -> 0.25 | F28: ='Phase II-Short-Scan'!W54 -> 0.75 | G28: ='Phase II-Short-Scan'!X54 -> 0.5
A29: II Short Scan | C29: TN | E29: ='Phase II-Short-Scan'!V55 -> 0 | F29: ='Phase II-Short-Scan'!W55 -> 0 | G29: ='Phase II-Short-Scan'!X55 -> 0
A30: II Short Scan | C30: FP | E30: ='Phase II-Short-Scan'!V56 -> 0 | F30: ='Phase II-Short-Scan'!W56 -> 0 | G30: ='Phase II-Short-Scan'!X56 -> 0
A31: II Short Scan | C31: FN | E31: ='Phase II-Short-Scan'!V57 -> 0.75 | F31: ='Phase II-Short-Scan'!W57 -> 0.25 | G31: ='Phase II-Short-Scan'!X57 -> 0.5
R32: NIDS Comparison from Phase II Short Scan & Phase III testing
A33: Combined Phase II & III Short | B33: Sum | C33: TP | E33: =E18+E3 -> 8 | F33: =F18+F3 -> 24 | G33: =G18+G3 -> 16 | I33: Accuracy | K33: =(E43+E44)/(E43+E44+E45+E46) -> 0.525 | L33: =(F43+F44)/(F43+F44+F45+F46) -> 0.725 | M33: =(G43+G44)/(G43+G44+G45+G46) -> 0.65 | O33: 1 | R33: NIDS | S33: Accuracy | T33: Precision | U33: Recall / TPR | V33: Specificity / TNR | W33: FPR | X33: FNR | Y33: NIDS Performance | Z33: F-Score | AA33: MCC
C34: TN | E34: =E19+E4 -> 8 | F34: =F19+F4 -> 7 | G34: =G19+G4 -> 8 | I34: Precision | K34: =E43/(E43+E45) -> 0.55555556 | L34: =F43/(F43+F45) -> 0.71428571 | M34: =G43/(G43+G45) -> 0.71428571 | O34: 1 | R34: Suricata | S34: =(E43+E44)/(E43+E44+E45+E46) -> 0.525 | T34: =E43/(E43+E45) -> 0.55555556 | U34: =E43/(E43+E46) -> 0.25 | V34: =E44/(E44+E45) -> 0.8 | W34: =E45/(E45+E44) -> 0.2 | X34: =E46/(E46+E43) -> 0.75 | Y34: =SQRT(K35*K36) -> 0.4472136 | Z34: =2*((K34*K35)/(K34+K35)) -> 0.34482759 | AA34: =((E43*E44)-(E45*E46))/SQRT((E43+E45)*(E43+E46)*(E44+E45)*(E44+E46)) -> 0.059868434
C35: FP | E35: =E20+E5 -> 2 | F35: =F20+F5 -> 3 | G35: =G20+G5 -> 2 | I35: Recall / TPR | K35: =E43/(E43+E46) -> 0.25 | L35: =F43/(F43+F46) -> 0.75 | M35: =G43/(G43+G46) -> 0.5 | O35: 1 | R35: Snort2 | S35: =(F43+F44)/(F43+F44+F45+F46) -> 0.725 | T35: =F43/(F43+F45) -> 0.71428571 | U35: =F43/(F43+F46) -> 0.75 | V35: =F44/(F44+F45) -> 0.7 | W35: =F45/(F45+F44) -> 0.3 | X35: =F46/(F46+F43) -> 0.25 | Y35: =SQRT(L35*L36) -> 0.72456884 | Z35: =2*((L34*L35)/(L34+L35)) -> 0.73170732 | AA35: =((F43*F44)-(F45*F46))/SQRT((F43+F45)*(F43+F46)*(F44+F45)*(F44+F46)) -> 0.45056356
C36: FN | E36: =E21+E6 -> 24 | F36: =F21+F6 -> 8 | G36: =G21+G6 -> 16 | I36: Specificity / TNR | K36: =E44/(E44+E45) -> 0.8 | L36: =F44/(F44+F45) -> 0.7 | M36: =G44/(G44+G45) -> 0.8 | O36: 1 | R36: Snort3 | S36: =(G43+G44)/(G43+G44+G45+G46) -> 0.65 | T36: =G43/(G43+G45) -> 0.71428571 | U36: =G43/(G43+G46) -> 0.5 | V36: =G44/(G44+G45) -> 0.8 | W36: =G45/(G45+G44) -> 0.2 | X36: =G46/(G46+G43) -> 0.5 | Y36: =SQRT(M35*M36) -> 0.63245553 | Z36: =2*((M34*M35)/(M34+M35)) -> 0.58823529 | AA36: =((G43*G44)-(G45*G46))/SQRT((G43+G45)*(G43+G46)*(G44+G45)*(G44+G46)) -> 0.31448545
I37: FPR | K37: =E45/(E45+E44) -> 0.2 | L37: =F45/(F45+F44) -> 0.3 | M37: =G45/(G45+G44) -> 0.2 | O37: 0
B38: Percentage | C38: TP | E38: =E33/32 -> 0.25 | F38: =F33/32 -> 0.75 | G38: =G33/32 -> 0.5 | I38: FNR | K38: =E46/(E46+E43) -> 0.75 | L38: =F46/(F46+F43) -> 0.25 | M38: =G46/(G46+G43) -> 0.5 | O38: 0 | R38: Preferred Result | S38: 1 | T38: 1 | U38: 1 | V38: 1 | W38: 0 | X38: 0 | Y38: 1 | Z38: 1 | AA38: 1
C39: TN | E39: =E34/10 -> 0.8 | F39: =F34/10 -> 0.7 | G39: =G34/10 -> 0.8 | I39: NIDS Performance | K39: =SQRT(K35*K36) -> 0.4472136 | L39: =SQRT(L35*L36) -> 0.72456884 | M39: =SQRT(M35*M36) -> 0.63245553 | O39: 1
C40: FP | E40: =E35/10 -> 0.2 | F40: =F35/10 -> 0.3 | G40: =G35/10 -> 0.2 | I40: F-Score | K40: =2*((K34*K35)/(K34+K35)) -> 0.34482759 | L40: =2*((L34*L35)/(L34+L35)) -> 0.73170732 | M40: =2*((M34*M35)/(M34+M35)) -> 0.58823529 | O40: 1
C41: FN | E41: =E36/32 -> 0.75 | F41: =F36/32 -> 0.25 | G41: =G36/32 -> 0.5 | I41: MCC | K41: =((E43*E44)-(E45*E46))/SQRT((E43+E45)*(E43+E46)*(E44+E45)*(E44+E46)) -> 0.059868434 | L41: =((F43*F44)-(F45*F46))/SQRT((F43+F45)*(F43+F46)*(F44+F45)*(F44+F46)) -> 0.45056356 | M41: =((G43*G44)-(G45*G46))/SQRT((G43+G45)*(G43+G46)*(G44+G45)*(G44+G46)) -> 0.31448545 | O41: 1
B43: Median | C43: TP | E43: =E33/32 -> 0.25 | F43: =F33/32 -> 0.75 | G43: =G33/32 -> 0.5
C44: TN | E44: =E34/10 -> 0.8 | F44: =F34/10 -> 0.7 | G44: =G34/10 -> 0.8
C45: FP | E45: =E35/10 -> 0.2 | F45: =F35/10 -> 0.3 | G45: =G35/10 -> 0.2
C46: FN | E46: =E36/32 -> 0.75 | F46: =F36/32 -> 0.25 | G46: =G36/32 -> 0.5

Sheet Analysis Phase 2&3 Long Scan
A1: Phase | B1: Calculation | C1: Metric | E1: Suricata | F1: Snort2 | G1: Snort3 | I1: Calculation | K1: Suricata | L1: Snort2 | M1: Snort3 | O1: Preferred Result
A3: III | B3: Sum | C3: TP | E3: ='Phase III'!S19 -> 0 | F3: ='Phase III'!T19 -> 0 | G3: ='Phase III'!U19 -> 0
A4: III | C4: TN | E4: ='Phase III'!S20 -> 8 | F4: ='Phase III'!T20 -> 7 | G4: ='Phase III'!U20 -> 8
A5: III | C5: FP | E5: ='Phase III'!S21 -> 2 | F5: ='Phase III'!T21 -> 3 | G5: ='Phase III'!U21 -> 2
A6: III | C6: FN | E6: ='Phase III'!S22 -> 0 | F6: ='Phase III'!T22 -> 0 | G6: ='Phase III'!U22 -> 0
B8: Percentage | C8: TP | E8: ='Phase III'!S29 -> 0 | F8: ='Phase III'!T29 -> 0 | G8: ='Phase III'!U24 -> 0
C9: TN | E9: ='Phase III'!S30 -> 0.8 | F9: ='Phase III'!T30 -> 0.7 | G9: ='Phase III'!U25 -> 0.8
C10: FP | E10: ='Phase III'!S31 -> 0.2 | F10: ='Phase III'!T31 -> 0.3 | G10: ='Phase III'!U26 -> 0.2
C11: FN | E11: ='Phase III'!S32 -> 0 | F11: ='Phase III'!T32 -> 0 | G11: ='Phase III'!U27 -> 0
A13: III | B13: Median | C13: TP | E13: ='Phase III'!S29 -> 0 | F13: ='Phase III'!T29 -> 0 | G13: ='Phase III'!U29 -> 0
A14: III | C14: TN | E14: ='Phase III'!S30 -> 0.8 | F14: ='Phase III'!T30 -> 0.7 | G14: ='Phase III'!U30 -> 0.8
A15: III | C15: FP | E15: ='Phase III'!S31 -> 0.2 | F15: ='Phase III'!T31 -> 0.3 | G15: ='Phase III'!U31 -> 0.2
A16: III | C16: FN | E16: ='Phase III'!S32 -> 0 | F16: ='Phase III'!T32 -> 0 | G16: ='Phase III'!U32 -> 0
A18: II Long Scan | B18: Sum | C18: TP | E18: ='Phase II-Long-Scan'!W19 -> 3 | F18: ='Phase II-Long-Scan'!X19 -> 3 | G18: ='Phase II-Long-Scan'!Y19 -> 3
A19: II Long Scan | C19: TN | E19: ='Phase II-Long-Scan'!W20 -> 0 | F19: ='Phase II-Long-Scan'!X20 -> 0 | G19: ='Phase II-Long-Scan'!Y20 -> 0
A20: II Long Scan | C20: FP | E20: ='Phase II-Long-Scan'!W21 -> 0 | F20: ='Phase II-Long-Scan'!X21 -> 0 | G20: ='Phase II-Long-Scan'!Y21 -> 0
A21: II Long Scan | C21: FN | E21: ='Phase II-Long-Scan'!W22 -> 0 | F21: ='Phase II-Long-Scan'!X22 -> 0 | G21: ='Phase II-Long-Scan'!Y22 -> 0
A23: II Long Scan | B23: Percentage | C23: TP | E23: ='Phase II-Long-Scan'!W24 -> 1 | F23: ='Phase II-Long-Scan'!X24 -> 1 | G23: ='Phase II-Long-Scan'!Y24 -> 1
A24: II Long Scan | C24: TN | E24: ='Phase II-Long-Scan'!W25 -> 0 | F24: ='Phase II-Long-Scan'!X25 -> 0 | G24: ='Phase II-Long-Scan'!Y25 -> 0
A25: II Long Scan | C25: FP | E25: ='Phase II-Long-Scan'!W26 -> 0 | F25: ='Phase II-Long-Scan'!X26 -> 0 | G25: ='Phase II-Long-Scan'!Y26 -> 0
A26: II Long Scan | C26: FN | E26: ='Phase II-Long-Scan'!W27 -> 0 | F26: ='Phase II-Long-Scan'!X27 -> 0 | G26: ='Phase II-Long-Scan'!Y27 -> 0
A28: II Long Scan | B28: Median | C28: TP | E28: ='Phase II-Long-Scan'!W29 -> 1 | F28: ='Phase II-Long-Scan'!X29 -> 1 | G28: ='Phase II-Long-Scan'!Y29 -> 1
A29: II Long Scan | C29: TN | E29: ='Phase II-Long-Scan'!W30 -> 0 | F29: ='Phase II-Long-Scan'!X30 -> 0 | G29: ='Phase II-Long-Scan'!Y30 -> 0
A30: II Long Scan | C30: FP | E30: ='Phase II-Long-Scan'!W31 -> 0 | F30: ='Phase II-Long-Scan'!X31 -> 0 | G30: ='Phase II-Long-Scan'!Y31 -> 0
A31: II Long Scan | C31: FN | E31: ='Phase II-Long-Scan'!W32 -> 0 | F31: ='Phase II-Long-Scan'!X32 -> 0 | G31: ='Phase II-Long-Scan'!Y32 -> 0
R32: NIDS Comparison from Phase II Long Scan & Phase III testing
A33: Combined Phase II & III Long | B33: Sum | C33: TP | E33: =E18+E3 -> 3 | F33: =F18+F3 -> 3 | G33: =G18+G3 -> 3 | I33: Accuracy | K33: =(E43+E44)/(E43+E44+E45+E46) -> 0.9 | L33: =(F43+F44)/(F43+F44+F45+F46) -> 0.85 | M33: =(G43+G44)/(G43+G44+G45+G46) -> 0.9 | O33: 1 | R33: NIDS | S33: Accuracy | T33: Precision | U33: Recall / TPR | V33: Specificity / TNR | W33: FPR | X33: FNR | Y33: NIDS Performance | Z33: F-Score | AA33: MCC
C34: TN | E34: =E19+E4 -> 8 | F34: =F19+F4 -> 7 | G34: =G19+G4 -> 8 | I34: Precision | K34: =E43/(E43+E45) -> 0.83333333 | L34: =F43/(F43+F45) -> 0.76923077 | M34: =G43/(G43+G45) -> 0.83333333 | O34: 1 | R34: Suricata | S34: =(E43+E44)/(E43+E44+E45+E46) -> 0.9 | T34: =E43/(E43+E45) -> 0.83333333 | U34: =E43/(E43+E46) -> 1 | V34: =E44/(E44+E45) -> 0.8 | W34: =E45/(E45+E44) -> 0.2 | X34: =E46/(E46+E43) -> 0 | Y34: =SQRT(K35*K36) -> 0.89442719 | Z34: =2*((K34*K35)/(K34+K35)) -> 0.90909091 | AA34: =((E43*E44)-(E45*E46))/SQRT((E43+E45)*(E43+E46)*(E44+E45)*(E44+E46)) -> 0.81649658
C35: FP | E35: =E20+E5 -> 2 | F35: =F20+F5 -> 3 | G35: =G20+G5 -> 2 | I35: Recall / TPR | K35: =E43/(E43+E46) -> 1 | L35: =F43/(F43+F46) -> 1 | M35: =G43/(G43+G46) -> 1 | O35: 1 | R35: Snort2 | S35: =(F43+F44)/(F43+F44+F45+F46) -> 0.85 | T35: =F43/(F43+F45) -> 0.76923077 | U35: =F43/(F43+F46) -> 1 | V35: =F44/(F44+F45) -> 0.7 | W35: =F45/(F45+F44) -> 0.3 | X35: =F46/(F46+F43) -> 0 | Y35: =SQRT(L35*L36) -> 0.83666003 | Z35: =2*((L34*L35)/(L34+L35)) -> 0.86956522 | AA35: =((F43*F44)-(F45*F46))/SQRT((F43+F45)*(F43+F46)*(F44+F45)*(F44+F46)) -> 0.73379939
C36: FN | E36: =E21+E6 -> 0 | F36: =F21+F6 -> 0 | G36: =G21+G6 -> 0 | I36: Specificity / TNR | K36: =E44/(E44+E45) -> 0.8 | L36: =F44/(F44+F45) -> 0.7 | M36: =G44/(G44+G45) -> 0.8 | O36: 1 | R36: Snort3 | S36: =(G43+G44)/(G43+G44+G45+G46) -> 0.9 | T36: =G43/(G43+G45) -> 0.83333333 | U36: =G43/(G43+G46) -> 1 | V36: =G44/(G44+G45) -> 0.8 | W36: =G45/(G45+G44) -> 0.2 | X36: =G46/(G46+G43) -> 0 | Y36: =SQRT(M35*M36) -> 0.89442719 | Z36: =2*((M34*M35)/(M34+M35)) -> 0.90909091 | AA36: =((G43*G44)-(G45*G46))/SQRT((G43+G45)*(G43+G46)*(G44+G45)*(G44+G46)) -> 0.81649658
I37: FPR | K37: =E45/(E45+E44) -> 0.2 | L37: =F45/(F45+F44) -> 0.3 | M37: =G45/(G45+G44) -> 0.2 | O37: 0
B38: Percentage | C38: TP | E38: =E33/3 -> 1 | F38: =F33/3 -> 1 | G38: =G33/3 -> 1 | I38: FNR | K38: =E46/(E46+E43) -> 0 | L38: =F46/(F46+F43) -> 0 | M38: =G46/(G46+G43) -> 0 | O38: 0 | R38: Preferred Result | S38: 1 | T38: 1 | U38: 1 | V38: 1 | W38: 0 | X38: 0 | Y38: 1 | Z38: 1 | AA38: 1
C39: TN | E39: =E34/10 -> 0.8 | F39: =F34/10 -> 0.7 | G39: =G34/10 -> 0.8 | I39: NIDS Performance | K39: =SQRT(K35*K36) -> 0.89442719 | L39: =SQRT(L35*L36) -> 0.83666003 | M39: =SQRT(M35*M36) -> 0.89442719 | O39: 1
C40: FP | E40: =E35/10 -> 0.2 | F40: =F35/10 -> 0.3 | G40: =G35/10 -> 0.2 | I40: F-Score | K40: =2*((K34*K35)/(K34+K35)) -> 0.90909091 | L40: =2*((L34*L35)/(L34+L35)) -> 0.86956522 | M40: =2*((M34*M35)/(M34+M35)) -> 0.90909091 | O40: 1
C41: FN | E41: =E36/3 -> 0 | F41: =F36/3 -> 0 | G41: =G36/3 -> 0 | I41: MCC | K41: =((E43*E44)-(E45*E46))/SQRT((E43+E45)*(E43+E46)*(E44+E45)*(E44+E46)) -> 0.81649658 | L41: =((F43*F44)-(F45*F46))/SQRT((F43+F45)*(F43+F46)*(F44+F45)*(F44+F46)) -> 0.73379939 | M41: =((G43*G44)-(G45*G46))/SQRT((G43+G45)*(G43+G46)*(G44+G45)*(G44+G46)) -> 0.81649658 | O41: 1
B43: Median | C43: TP | E43: =E33/3 -> 1 | F43: =F33/3 -> 1 | G43: =G33/3 -> 1
C44: TN | E44: =E34/10 -> 0.8 | F44: =F34/10 -> 0.7 | G44: =G34/10 -> 0.8
C45: FP | E45: =E35/10 -> 0.2 | F45: =F35/10 -> 0.3 | G45: =G35/10 -> 0.2
C46: FN | E46: =E36/3 -> 0 | F46: =F36/3 -> 0 | G46: =G36/3 -> 0

Sheet Analysis Phase III & IV
A1: Phase | B1: Calculation | C1: Metric | E1: Suricata | F1: Snort2 | G1: Snort3 | I1: Calculation | K1: Suricata | L1: Snort2 | M1: Snort3 | O1: Preferred Result
A3: III | B3: Sum | C3: TP | E3: ='Phase III'!S19 -> 0 | F3: ='Phase III'!T19 -> 0 | G3: ='Phase III'!U19 -> 0
A4: III | C4: TN | E4: ='Phase III'!S20 -> 8 | F4: ='Phase III'!T20 -> 7 | G4: ='Phase III'!U20 -> 8
A5: III | C5: FP | E5: ='Phase III'!S21 -> 2 | F5: ='Phase III'!T21 -> 3 | G5: ='Phase III'!U21 -> 2
A6: III | C6: FN | E6: ='Phase III'!S22 -> 0 | F6: ='Phase III'!T22 -> 0 | G6: ='Phase III'!U22 -> 0
B8: Percentage | C8: TP | E8: ='Phase III'!S29 -> 0 | F8: ='Phase III'!T29 -> 0 | G8: ='Phase III'!U24 -> 0
C9: TN | E9: ='Phase III'!S30 -> 0.8 | F9: ='Phase III'!T30 -> 0.7 | G9: ='Phase III'!U25 -> 0.8
C10: FP | E10: ='Phase III'!S31 -> 0.2 | F10: ='Phase III'!T31 -> 0.3 | G10: ='Phase III'!U26 -> 0.2
C11: FN | E11: ='Phase III'!S32 -> 0 | F11: ='Phase III'!T32 -> 0 | G11: ='Phase III'!U27 -> 0
A13: III | B13: Median | C13: TP | E13: ='Phase III'!S29 -> 0 | F13: ='Phase III'!T29 -> 0 | G13: ='Phase III'!U29 -> 0
A14: III | C14: TN | E14: ='Phase III'!S30 -> 0.8 | F14: ='Phase III'!T30 -> 0.7 | G14: ='Phase III'!U30 -> 0.8
A15: III | C15: FP | E15: ='Phase III'!S31 -> 0.2 | F15: ='Phase III'!T31 -> 0.3 | G15: ='Phase III'!U31 -> 0.2
A16: III | C16: FN | E16: ='Phase III'!S32 -> 0 | F16: ='Phase III'!T32 -> 0 | G16: ='Phase III'!U32 -> 0
A18: IV | B18: Sum | C18: TP | E18: ='Phase IV v3'!V17 -> 2 | F18: ='Phase IV v3'!W17 -> 4 | G18: ='Phase IV v3'!X17 -> 7
A19: IV | C19: TN | E19: ='Phase IV v3'!V18 -> 0 | F19: ='Phase IV v3'!W18 -> 0 | G19: ='Phase IV v3'!X18 -> 0
A20: IV | C20: FP | E20: ='Phase IV v3'!V19 -> 0 | F20: ='Phase IV v3'!W19 -> 0 | G20: ='Phase IV v3'!X19 -> 0
A21: IV | C21: FN | E21: ='Phase IV v3'!V20 -> 8 | F21: ='Phase IV v3'!W20 -> 6 | G21: ='Phase IV v3'!X20 -> 3
A22: IV
A23: IV | B23: Percentage | C23: TP | E23: ='Phase IV v3'!V22 -> 0.2 | F23: ='Phase IV v3'!W22 -> 0.4 | G23: ='Phase IV v3'!X22 -> 0.7
A24: IV | C24: TN | E24: ='Phase IV v3'!V23 -> 0 | F24: ='Phase IV v3'!W23 -> 0 | G24: ='Phase IV v3'!X23 -> 0
A25: IV | C25: FP | E25: ='Phase IV v3'!V24 -> 0 | F25: ='Phase IV v3'!W24 -> 0 | G25: ='Phase IV v3'!X24 -> 0
A26: IV | C26: FN | E26: ='Phase IV v3'!V25 -> 0.8 | F26: ='Phase IV v3'!W25 -> 0.6 | G26: ='Phase IV v3'!X25 -> 0.3
A27: IV
A28: IV | B28: Median | C28: TP | E28: ='Phase IV v3'!V27 -> 0.2 | F28: ='Phase IV v3'!W22 -> 0.4 | G28: ='Phase IV v3'!X27 -> 0.7
A29: IV | C29: TN | E29: ='Phase IV v3'!V28 -> 0 | F29: ='Phase IV v3'!W23 -> 0 | G29: ='Phase IV v3'!X28 -> 0
A30: IV | C30: FP | E30: ='Phase IV v3'!V29 -> 0 | F30: ='Phase IV v3'!W24 -> 0 | G30: ='Phase IV v3'!X29 -> 0
A31: IV | C31: FN | E31: ='Phase IV v3'!V30 -> 0.8 | F31: ='Phase IV v3'!W25 -> 0.6 | G31: ='Phase IV v3'!X30 -> 0.3
R32: NIDS Comparison from Phase III & Phase IV testing
A33: Combined Phase III & IV | B33: Sum | C33: TP | E33: =E18+E3 -> 2 | F33: =F18+F3 -> 4 | G33: =G18+G3 -> 7 | I33: Accuracy | K33: =(E43+E44)/(E43+E44+E45+E46) -> 0.5 | L33: =(F43+F44)/(F43+F44+F45+F46) -> 0.55 | M33: =(G43+G44)/(G43+G44+G45+G46) -> 0.75 | O33: 1 | R33: NIDS | S33: Accuracy | T33: Precision | U33: Recall / TPR | V33: Specificity / TNR | W33: FPR | X33: FNR | Y33: NIDS Performance | Z33: F-Score | AA33: MCC
C34: TN | E34: =E19+E4 -> 8 | F34: =F19+F4 -> 7 | G34: =G19+G4 -> 8 | I34: Precision | K34: =E43/(E43+E45) -> 0.5 | L34: =F43/(F43+F45) -> 0.57142857 | M34: =G43/(G43+G45) -> 0.77777778 | O34: 1 | R34: Suricata | S34: =(E43+E44)/(E43+E44+E45+E46) -> 0.5 | T34: =E43/(E43+E45) -> 0.5 | U34: =E43/(E43+E46) -> 0.2 | V34: =E44/(E44+E45) -> 0.8 | W34: =E45/(E45+E44) -> 0.2 | X34: =E46/(E46+E43) -> 0.8 | Y34: =SQRT(K35*K36) -> 0.4 | Z34: =2*((K34*K35)/(K34+K35)) -> 0.28571429 | AA34: =((E43*E44)-(E45*E46))/SQRT((E43+E45)*(E43+E46)*(E44+E45)*(E44+E46)) -> 0
C35: FP | E35: =E20+E5 -> 2 | F35: =F20+F5 -> 3 | G35: =G20+G5 -> 2 | I35: Recall / TPR | K35: =E43/(E43+E46) -> 0.2 | L35: =F43/(F43+F46) -> 0.4 | M35: =G43/(G43+G46) -> 0.7 | O35: 1 | R35: Snort2 | S35: =(F43+F44)/(F43+F44+F45+F46) -> 0.55 | T35: =F43/(F43+F45) -> 0.57142857 | U35: =F43/(F43+F46) -> 0.4 | V35: =F44/(F44+F45) -> 0.7 | W35: =F45/(F45+F44) -> 0.3 | X35: =F46/(F46+F43) -> 0.6 | Y35: =SQRT(L35*L36) -> 0.52915026 | Z35: =2*((L34*L35)/(L34+L35)) -> 0.47058824 | AA35: =((F43*F44)-(F45*F46))/SQRT((F43+F45)*(F43+F46)*(F44+F45)*(F44+F46)) -> 0.10482848
C36: FN | E36: =E21+E6 -> 8 | F36: =F21+F6 -> 6 | G36: =G21+G6 -> 3 | I36: Specificity / TNR | K36: =E44/(E44+E45) -> 0.8 | L36: =F44/(F44+F45) -> 0.7 | M36: =G44/(G44+G45) -> 0.8 | O36: 1 | R36: Snort3 | S36: =(G43+G44)/(G43+G44+G45+G46) -> 0.75 | T36: =G43/(G43+G45) -> 0.77777778 | U36: =G43/(G43+G46) -> 0.7 | V36: =G44/(G44+G45) -> 0.8 | W36: =G45/(G45+G44) -> 0.2 | X36: =G46/(G46+G43) -> 0.3 | Y36: =SQRT(M35*M36) -> 0.74833148 | Z36: =2*((M34*M35)/(M34+M35)) -> 0.73684211 | AA36: =((G43*G44)-(G45*G46))/SQRT((G43+G45)*(G43+G46)*(G44+G45)*(G44+G46)) -> 0.50251891
I37: FPR | K37: =E45/(E45+E44) -> 0.2 | L37: =F45/(F45+F44) -> 0.3 | M37: =G45/(G45+G44) -> 0.2 | O37: 0
B38: Percentage | C38: TP | E38: =E33/10 -> 0.2 | F38: =F33/10 -> 0.4 | G38: =G33/10 -> 0.7 | I38: FNR | K38: =E46/(E46+E43) -> 0.8 | L38: =F46/(F46+F43) -> 0.6 | M38: =G46/(G46+G43) -> 0.3 | O38: 0 | R38: Preferred Result | S38: 1 | T38: 1 | U38: 1 | V38: 1 | W38: 0 | X38: 0 | Y38: 1 | Z38: 1 | AA38: 1
C39: TN | E39: =E34/10 -> 0.8 | F39: =F34/10 -> 0.7 | G39: =G34/10 -> 0.8 | I39: NIDS Performance | K39: =SQRT(K35*K36) -> 0.4 | L39: =SQRT(L35*L36) -> 0.52915026 | M39: =SQRT(M35*M36) -> 0.74833148 | O39: 1
C40: FP | E40: =E35/10 -> 0.2 | F40: =F35/10 -> 0.3 | G40: =G35/10 -> 0.2 | I40: F-Score | K40: =2*((K34*K35)/(K34+K35)) -> 0.28571429 | L40: =2*((L34*L35)/(L34+L35)) -> 0.47058824 | M40: =2*((M34*M35)/(M34+M35)) -> 0.73684211 | O40: 1
C41: FN | E41: =E36/10 -> 0.8 | F41: =F36/10 -> 0.6 | G41: =G36/10 -> 0.3 | I41: MCC | K41: =((E43*E44)-(E45*E46))/SQRT((E43+E45)*(E43+E46)*(E44+E45)*(E44+E46)) -> 0 | L41: =((F43*F44)-(F45*F46))/SQRT((F43+F45)*(F43+F46)*(F44+F45)*(F44+F46)) -> 0.10482848 | M41: =((G43*G44)-(G45*G46))/SQRT((G43+G45)*(G43+G46)*(G44+G45)*(G44+G46)) -> 0.50251891 | O41: 1
B43: Median | C43: TP | E43: =E33/10 -> 0.2 | F43: =F33/10 -> 0.4 | G43: =G33/10 -> 0.7
C44: TN | E44: =E34/10 -> 0.8 | F44: =F34/10 -> 0.7 | G44: =G34/10 -> 0.8
C45: FP | E45: =E35/10 -> 0.2 | F45: =F35/10 -> 0.3 | G45: =G35/10 -> 0.2
C46: FN | E46: =E36/10 -> 0.8 | F46: =F36/10 -> 0.6 | G46: =G36/10 -> 0.3

Sheet Analysis Combined Phases
A1: Phase | B1: Calculation | C1: Metric | E1: Suricata | F1: Snort2 | G1: Snort3 | I1: Calculation | K1: Suricata | L1: Snort2 | M1: Snort3 | O1: Preferred Result
A3: III | B3: Sum | C3: TP | E3: ='Phase III'!S19 -> 0 | F3: ='Phase III'!T19 -> 0 | G3: ='Phase III'!U19 -> 0
A4: III | C4: TN | E4: ='Phase III'!S20 -> 8 | F4: ='Phase III'!T20 -> 7 | G4: ='Phase III'!U20 -> 8
A5: III | C5: FP | E5: ='Phase III'!S21 -> 2 | F5: ='Phase III'!T21 -> 3 | G5: ='Phase III'!U21 -> 2
A6: III | C6: FN | E6: ='Phase III'!S22 -> 0 | F6: ='Phase III'!T22 -> 0 | G6: ='Phase III'!U22 -> 0
B8: Percentage | C8: TP | E8: ='Phase III'!S29 -> 0 | F8: ='Phase III'!T29 -> 0 | G8: ='Phase III'!U24 -> 0
C9: TN | E9: ='Phase III'!S30 -> 0.8 | F9: ='Phase III'!T30 -> 0.7 | G9: ='Phase III'!U25 -> 0.8
C10: FP | E10: ='Phase III'!S31 -> 0.2 | F10: ='Phase III'!T31 -> 0.3 | G10: ='Phase III'!U26 -> 0.2
C11: FN | E11: ='Phase III'!S32 -> 0 | F11: ='Phase III'!T32 -> 0 | G11: ='Phase III'!U27 -> 0
A13: III | B13: Median | C13: TP | E13: ='Phase III'!S29 -> 0 | F13: ='Phase III'!T29 -> 0 | G13: ='Phase III'!U29 -> 0
A14: III | C14: TN | E14: ='Phase III'!S30 -> 0.8 | F14: ='Phase III'!T30 -> 0.7 | G14: ='Phase III'!U30 -> 0.8
A15: III | C15: FP | E15: ='Phase III'!S31 -> 0.2 | F15: ='Phase III'!T31 -> 0.3 | G15: ='Phase III'!U31 -> 0.2
A16: III | C16: FN | E16: ='Phase III'!S32 -> 0 | F16: ='Phase III'!T32 -> 0 | G16: ='Phase III'!U32 -> 0
A18: IV | B18: Sum | C18: TP | E18: ='Phase IV v3'!V17 -> 2 | F18: ='Phase IV v3'!W17 -> 4 | G18: ='Phase IV v3'!X17 -> 7
A19: IV | C19: TN | E19: ='Phase IV v3'!V18 -> 0 | F19: ='Phase IV v3'!W18 -> 0 | G19: ='Phase IV v3'!X18 -> 0
A20: IV | C20: FP | E20: ='Phase IV v3'!V19 -> 0 | F20: ='Phase IV v3'!W19 -> 0 | G20: ='Phase IV v3'!X19 -> 0
A21: IV | C21: FN | E21: ='Phase IV v3'!V20 -> 8 | F21: ='Phase IV v3'!W20 -> 6 | G21: ='Phase IV v3'!X20 -> 3
A22: IV
A23: IV | B23: Percentage | C23: TP | E23: ='Phase IV v3'!V22 -> 0.2 | F23: ='Phase IV v3'!W22 -> 0.4 | G23: ='Phase IV v3'!X22 -> 0.7
A24: IV | C24: TN | E24: ='Phase IV v3'!V23 -> 0 | F24: ='Phase IV v3'!W23 -> 0 | G24: ='Phase IV v3'!X23 -> 0
A25: IV | C25: FP | E25: ='Phase IV v3'!V24 -> 0 | F25: ='Phase IV v3'!W24 -> 0 | G25: ='Phase IV v3'!X24 -> 0
A26: IV | C26: FN | E26: ='Phase IV v3'!V25 -> 0.8 | F26: ='Phase IV v3'!W25 -> 0.6 | G26: ='Phase IV v3'!X25 -> 0.3
A27: IV
A28: IV | B28: Median | C28: TP | E28: ='Phase IV v3'!V27 -> 0.2 | F28: ='Phase IV v3'!W22 -> 0.4 | G28: ='Phase IV v3'!X27 -> 0.7
A29: IV | C29: TN | E29: ='Phase IV v3'!V28 -> 0 | F29: ='Phase IV v3'!W23 -> 0 | G29: ='Phase IV v3'!X28 -> 0
A30: IV | C30: FP | E30: ='Phase IV v3'!V29 -> 0 | F30: ='Phase IV v3'!W24 -> 0 | G30: ='Phase IV v3'!X29 -> 0
A31: IV | C31: FN | E31: ='Phase IV v3'!V30 -> 0.8 | F31: ='Phase IV v3'!W25 -> 0.6 | G31: ='Phase IV v3'!X30 -> 0.3
R32: NIDS Comparison Combined of all Phases of testing
A33: Combined Phase III & IV | B33: Sum | C33: TP | E33: =E18+E3 -> 2 | F33: =F18+F3 -> 4 | G33: =G18+G3 -> 7 | I33: Accuracy | K33: =(E43+E44)/(E43+E44+E45+E46) -> 0.5 | L33: =(F43+F44)/(F43+F44+F45+F46) -> 0.55 | M33: =(G43+G44)/(G43+G44+G45+G46) -> 0.75 | O33: 1 | R33: NIDS | S33: Accuracy | T33: Precision | U33: Recall / TPR | V33: Specificity / TNR | W33: FPR | X33: FNR | Y33: NIDS Performance | Z33: F-Score | AA33: MCC
C34: TN | E34: =E19+E4 -> 8 | F34: =F19+F4 -> 7 | G34: =G19+G4 -> 8 | I34: Precision | K34: =E43/(E43+E45) -> 0.5 | L34: =F43/(F43+F45) -> 0.57142857 | M34: =G43/(G43+G45) -> 0.77777778 | O34: 1 | R34: Suricata | S34: =(E43+E44)/(E43+E44+E45+E46) -> 0.5 | T34: =E43/(E43+E45) -> 0.5 | U34: =E43/(E43+E46) -> 0.2 | V34: =E44/(E44+E45) -> 0.8 | W34: =E45/(E45+E44) -> 0.2 | X34: =E46/(E46+E43) -> 0.8 | Y34: =SQRT(K35*K36) -> 0.4 | Z34: =2*((K34*K35)/(K34+K35)) -> 0.28571429 | AA34: =((E43*E44)-(E45*E46))/SQRT((E43+E45)*(E43+E46)*(E44+E45)*(E44+E46)) -> 0
C35: FP | E35: =E20+E5 -> 2 | F35: =F20+F5 -> 3 | G35: =G20+G5 -> 2 | I35: Recall / TPR | K35: =E43/(E43+E46) -> 0.2 | L35: =F43/(F43+F46) -> 0.4 | M35: =G43/(G43+G46) -> 0.7 | O35: 1 | R35: Snort2 | S35: =(F43+F44)/(F43+F44+F45+F46) -> 0.55 | T35: =F43/(F43+F45) -> 0.57142857 | U35: =F43/(F43+F46) -> 0.4 | V35: =F44/(F44+F45) -> 0.7 | W35: =F45/(F45+F44) -> 0.3 | X35: =F46/(F46+F43) -> 0.6 | Y35: =SQRT(L35*L36) -> 0.52915026 | Z35: =2*((L34*L35)/(L34+L35)) -> 0.47058824 | AA35: =((F43*F44)-(F45*F46))/SQRT((F43+F45)*(F43+F46)*(F44+F45)*(F44+F46)) -> 0.10482848
C36: FN | E36: =E21+E6 -> 8 | F36: =F21+F6 -> 6 | G36: =G21+G6 -> 3 | I36: Specificity / TNR | K36: =E44/(E44+E45) -> 0.8 | L36: =F44/(F44+F45) -> 0.7 | M36: =G44/(G44+G45) -> 0.8 | O36: 1 | R36: Snort3 | S36: =(G43+G44)/(G43+G44+G45+G46) -> 0.75 | T36: =G43/(G43+G45) -> 0.77777778 | U36: =G43/(G43+G46) -> 0.7 | V36: =G44/(G44+G45) -> 0.8 | W36: =G45/(G45+G44) -> 0.2 | X36: =G46/(G46+G43) -> 0.3 | Y36: =SQRT(M35*M36) -> 0.74833148 | Z36: =2*((M34*M35)/(M34+M35)) -> 0.73684211 | AA36: =((G43*G44)-(G45*G46))/SQRT((G43+G45)*(G43+G46)*(G44+G45)*(G44+G46)) -> 0.50251891
I37: FPR | K37: =E45/(E45+E44) -> 0.2 | L37: =F45/(F45+F44) -> 0.3 | M37: =G45/(G45+G44) -> 0.2 | O37: 0
B38: Percentage | C38: TP | E38: =E33/10 -> 0.2 | F38: =F33/10 -> 0.4 | G38: =G33/10 -> 0.7 | I38: FNR | K38: =E46/(E46+E43) -> 0.8 | L38: =F46/(F46+F43) -> 0.6 | M38: =G46/(G46+G43) -> 0.3 | O38: 0 | R38: Preferred Result | S38: 1 | T38: 1 | U38: 1 | V38: 1 | W38: 0 | X38: 0 | Y38: 1 | Z38: 1 | AA38: 1
C39: TN | E39: =E34/10 -> 0.8 | F39: =F34/10 -> 0.7 | G39: =G34/10 -> 0.8 | I39: NIDS Performance | K39: =SQRT(K35*K36) -> 0.4 | L39: =SQRT(L35*L36) -> 0.52915026 | M39: =SQRT(M35*M36) -> 0.74833148 | O39: 1
C40: FP | E40: =E35/10 -> 0.2 | F40: =F35/10 -> 0.3 | G40: =G35/10 -> 0.2 | I40: F-Score | K40: =2*((K34*K35)/(K34+K35)) -> 0.28571429 | L40: =2*((L34*L35)/(L34+L35)) -> 0.47058824 | M40: =2*((M34*M35)/(M34+M35)) -> 0.73684211 | O40: 1
C41: FN | E41: =E36/10 -> 0.8 | F41: =F36/10 -> 0.6 | G41: =G36/10 -> 0.3 | I41: MCC | K41: =((E43*E44)-(E45*E46))/SQRT((E43+E45)*(E43+E46)*(E44+E45)*(E44+E46)) -> 0 | L41: =((F43*F44)-(F45*F46))/SQRT((F43+F45)*(F43+F46)*(F44+F45)*(F44+F46)) -> 0.10482848 | M41: =((G43*G44)-(G45*G46))/SQRT((G43+G45)*(G43+G46)*(G44+G45)*(G44+G46)) -> 0.50251891 | O41: 1
B43: Median | C43: TP | E43: =E33/10 -> 0.2 | F43: =F33/10 -> 0.4 | G43: =G33/10 -> 0.7
C44: TN | E44: =E34/10 -> 0.8 | F44: =F34/10 -> 0.7 | G44: =G34/10 -> 0.8
C45: FP | E45: =E35/10 -> 0.2 | F45: =F35/10 -> 0.3 | G45: =G35/10 -> 0.2
C46: FN | E46: =E36/10 -> 0.8 | F46: =F36/10 -> 0.6 | G46: =G36/10 -> 0.3

Sheet Phase II - Original
G2: Tools | J2: Attack | AH2: Defence Suricata Number of Alerts | AX2: Defence Snort2 Number of Alerts | BN2: Defence Snort3 Number of Alerts
B3: #Start | C3: # End | E3: P2 # | F3: P1 # | G3: Test | J3: Tool | K3: Technique | L3: Technique ID | M3: Target | N3: Timing Metric | O3: Unit | Q3: Command Example | R3: Command 1 | S3: Command 2 | T3: Command 3 | U3: Command 4 | V3: Command 5 | W3: Command 6 | X3: Command 7 | Y3: Command 8 | Z3: Command 9 | AA3: Command 10 | AB3: Command 11 | AC3: Command 12 | AD3: Command 13 | AE3: Command 14 | AF3: Command 15 | AH3: 1 | AI3: 2 | AJ3: 3 | AK3: 4 | AL3: 5 | AM3: 6 | AN3: 7 | AO3: 8 | AP3: 9 | AQ3: 10 | AR3: 11 | AS3: 12 | AT3: 13 | AU3: 14 | AV3: 15 | AX3: 1 | AY3: 2 | AZ3: 3 | BA3: 4 | BB3: 5 | BC3: 6 | BD3: 7 | BE3: 8 | BF3: 9 | BG3: 10 | BH3: 11 | BI3: 12 | BJ3: 13 | BK3: 14 | BL3: 15 | BN3: 1 | BO3: 2 | BP3: 3 | BQ3: 4 | BR3: 5 | BS3: 6 | BT3: 7 | BU3: 8 | BV3: 9 | BW3: 10 | BX3: 11 | BY3: 12 | BZ3: 13 | CA3: 14 | CB3: 15
G4: Time interval (ms) | R4: 300000 | S4: 200,00 | T4: 150000 | U4: 100000 | V4: 50000 | W4: 25000 | X4: 15000 | Y4: 10000 | Z4: 5000 | AA4: 2500 | AB4: 1000 | AC4: 500 | AD4: 250 | AE4: 10 | AF4: 5 | AH4: 300000 | AI4: 200000 | AJ4: 150000 | AK4: 100000 | AL4: 50000 | AM4: 25000 | AN4: 15000 | AO4: 10000 | AP4: 5000 | AQ4: 2500 | AR4: 1000 | AS4: 500 | AT4: 250 | AU4: 10 | AV4: 5 | AX4: 300000 | AY4: 200000 | AZ4: 150000 | BA4: 100000 | BB4: 50000 | BC4: 25000 | BD4: 15000 | BE4: 10000 | BF4: 5000 | BG4: 2500 | BH4: 1000 | BI4: 500 | BJ4: 250 | BK4: 10 | BL4: 5 | BN4: 300000 | BO4: 200000 | BP4: 150000 | BQ4: 100000 | BR4: 50000 | BS4: 25000 | BT4: 15000 | BU4: 10000 | BV4: 5000 | BW4: 2500 | BX4: 1000 | BY4: 500 | BZ4: 250 | CA4: 10 | CB4: 5
E5: # | G5: Tools | H5: Description
B6: 76 | C6: =B6+14 -> 90 | E6: 1 | F6: 2 | G6: hping3 | H6: Packet Crafting tool | J6: hping3 | K6: SYN Scan | L6: P2-HP-(1-15) | M6: Host | N6: Interval | O6: Seconds Or Microseconds (u) | Q6: hping3 -S 10.0.2.111 -p 0-1023 -i (time in Seconds) | R6: hping3 -S 10.0.2.111 -p 0-1023 -i 300 | S6: hping3 -S 10.0.2.111 -p 0-1023 -i 200 | T6: hping3 -S 10.0.2.111 -p 0-1023 -i 150 | U6: hping3 -S 10.0.2.111 -p 0-1023 -i 100 | V6: hping3 -S 10.0.2.111 -p 0-1023 -i 50 | W6: hping3 -S 10.0.2.111 -p 0-1023 -i 25 | X6: hping3 -S 10.0.2.111 -p 0-1023 -i 15 | Y6: hping3 -S 10.0.2.111 -p 0-1023 -i 10 | Z6: hping3 -S 10.0.2.111 -p 0-1023 -i 5 | AA6: hping3 -S 10.0.2.111 -p 0-1023 -i 2.5 | AB6: hping3 -S 10.0.2.111 -p 0-1023 -i 1 | AC6: hping3 -S 10.0.2.111 -p 0-1023 -i u500000 | AD6: hping3 -S 10.0.2.111 -p 0-1023 -i u250000 | AE6: hping3 -S 10.0.2.111 -p 0-1023 -i u10000 | AF6: hping3 -S 10.0.2.111 -p 0-1023 -i u5000
B7: 91 | C7: =B7+14 -> 105 | E7: 2 | F7: 24 | G7: Nmap | H7: Network Scanner | J7: Nmap | K7: TCP Scan | L7: P2-NP-(1-15) | M7: Range | N7: Delay | O7: Minute (m), Second (s) MilliSecond (ms) | Q7: nmap -sT 10.0.2.0/25 --scan-delay (Minutes, Seconds or mSeconds) | R7: nmap -sT 10.0.2.0/25 --scan-delay 5m | S7: nmap -sT 10.0.2.0/25 --scan-delay 200s | T7: nmap -sT 10.0.2.0/25 --scan-delay 150s | U7: nmap -sT 10.0.2.0/25 --scan-delay 100s | V7: nmap -sT 10.0.2.0/25 --scan-delay 50s | W7: nmap -sT 10.0.2.0/25 --scan-delay 25s | X7: nmap -sT 10.0.2.0/25 --scan-delay 15s | Y7: nmap -sT 10.0.2.0/25 --scan-delay 10s | Z7: nmap -sT 10.0.2.0/25 --scan-delay 5s | AA7: nmap -sT 10.0.2.0/25 --scan-delay 2.5s | AB7: nmap -sT 10.0.2.0/25 --scan-delay 1s | AC7: nmap -sT 10.0.2.0/25 --scan-delay 500ms | AD7: nmap -sT 10.0.2.0/25 --scan-delay 250ms | AE7: nmap -sT 10.0.2.0/25 --scan-delay 10ms | AF7: nmap -sT 10.0.2.0/25 --scan-delay 5ms
B8: 106 | C8: =B8+14 -> 120 | E8: 3 | F8: 35 | G8: masscan | H8: Network Scanner | J8: masscan | K8: TCP Scan | L8: P2-MS-(1-15) | M8: Range | N8: Rate | O8: Packets per second (pps) | Q8: masscan --router-mac 08-00-27-18-dc-50 10.0.2.0/25 -p 139,445 --rate (pps) -v | R8: masscan --router-mac 08-00-27-18-dc-50 10.0.2.0/25 -p 139,445 --rate 0.0033 -v | S8: masscan --router-mac 08-00-27-18-dc-50 10.0.2.0/25 -p 139,445 --rate 0.005 -v | T8: masscan --router-mac 08-00-27-18-dc-50 10.0.2.0/25 -p 139,445 --rate 0.0067 -v | U8: masscan --router-mac 08-00-27-18-dc-50 10.0.2.0/25 -p 139,445 --rate 0.01 -v | V8: masscan --router-mac 08-00-27-18-dc-50 10.0.2.0/25 -p 139,445 --rate 0.04 -v | W8: masscan --router-mac 08-00-27-18-dc-50 10.0.2.0/25 -p 139,445 --rate 0.03 -v | X8: masscan --router-mac 08-00-27-18-dc-50 10.0.2.0/25 -p 139,445 --rate 0.067 -v | Y8: masscan --router-mac 08-00-27-18-dc-50 10.0.2.0/25 -p 139,445 --rate 0.1 -v | Z8: masscan --router-mac 08-00-27-18-dc-50 10.0.2.0/25 -p 139,445 --rate 0.2 -v | AA8: masscan --router-mac 08-00-27-18-dc-50 10.0.2.0/25 -p 139,445 --rate 0.4 -v | AB8: masscan --router-mac 08-00-27-18-dc-50 10.0.2.0/25 -p 139,445 --rate 1 -v | AC8: masscan --router-mac 08-00-27-18-dc-50 10.0.2.0/25 -p 139,445 --rate 2 -v | AD8: masscan --router-mac 08-00-27-18-dc-50 10.0.2.0/25 -p 139,445 --rate 4 -v | AE8: masscan --router-mac 08-00-27-18-dc-50 10.0.2.0/25 -p 139,445 --rate 100 -v | AF8: masscan --router-mac 08-00-27-18-dc-50 10.0.2.0/25 -p 139,445 --rate 200 -v
B9: 121 | C9: =B9+14 -> 135 | E9: 4 | F9: 37 | G9: Arping | H9: Address Resolution Protocol Scanner | J9: Arping | K9: ARP Ping | L9: P2-AP-(1-15) | M9: Host | N9: Delay | O9: Seconds | Q9: arping -c 10 10.0.2.111 -W (Seconds) | R9: arping -c 10 10.0.2.111 -W 300 | S9: arping -c 10 10.0.2.111 -W 200 | T9: arping -c 10 10.0.2.111 -W 150 | U9: arping -c 10 10.0.2.111 -W 100 | V9: arping -c 10 10.0.2.111 -W 50 | W9: arping -c 10 10.0.2.111 -W 25 | X9: arping -c 10 10.0.2.111 -W 15 | Y9: arping -c 10 10.0.2.111 -W 10 | Z9: arping -c 10 10.0.2.111 -W 5 | AA9: arping -c 10 10.0.2.111 -W 2.5 | AB9: arping -c 10 10.0.2.111 -W 1 | AC9: arping -c 10 10.0.2.111 -W 0.5 | AD9: arping -c 10 10.0.2.111 -W 0.25 | AE9: arping -c 10 10.0.2.111 -W 0.01 | AF9: arping -c 10 10.0.2.111 -W 0.005
B10: 136 | C10: =B10+14 -> 150 | E10: 5 | F10: 40 | G10: Arp-Scan | H10: Address Resolution Protocol Scanner | J10: Arp-Scan | K10: ARP Scan | L10: P2-AS-(1-15) | M10: Range | N10: Interval | O10: mSeconds Or Microseconds (u) | Q10: arp-scan 10.0.2.0/25 -i (mSeconds) | R10: arp-scan 10.0.2.0/25 -I 300000 | S10: arp-scan 10.0.2.0/25 -I 200000 | T10: arp-scan 10.0.2.0/25 -I 150000 | U10: arp-scan 10.0.2.0/25 -I 100000 | V10: arp-scan 10.0.2.0/25 -I 50000 | W10: arp-scan 10.0.2.0/25 -i 25000 | X10: arp-scan 10.0.2.0/25 -i 15000 | Y10: arp-scan 10.0.2.0/25 -i 10000 | Z10: arp-scan 10.0.2.0/25 -i 5000 | AA10: arp-scan 10.0.2.0/25 -i 2500 | AB10: arp-scan 10.0.2.0/25 -i 1000 | AC10: arp-scan 10.0.2.0/25 -i 500 | AD10: arp-scan 10.0.2.0/25 -i 250 | AE10: arp-scan 10.0.2.0/25 -i 10 | AF10: arp-scan 10.0.2.0/25 -i 5
B11: 151 | C11: =B11+14 -> 165 | E11: 6 | F11: 41 | G11: nbtscan | H11: NetBIOS Scanner | J11: nbtscan | K11: NetBIOS Scan | L11: P2-NB-(1-15) | M11: Range | N11: Bandwidth | O11: Bits per second | Q11: nbtscan 10.0.2.0/25 -b (bps) | R11: nbtscan 10.0.2.0/25 -b 2.45 | S11: nbtscan 10.0.2.0/25 -b 3.68 | T11: nbtscan 10.0.2.0/25 -b 4.91 | U11: nbtscan 10.0.2.0/25 -b 7.36 | V11: nbtscan 10.0.2.0/25 -b 14.72 | W11: nbtscan 10.0.2.0/25 -b 29.44 | X11: nbtscan 10.0.2.0/25 -b 49.07 | Y11: nbtscan 10.0.2.0/25 -b 73.6 | Z11: nbtscan 10.0.2.0/25 -b 147.2 | AA11: nbtscan 10.0.2.0/25 -b 294.4 | AB11: nbtscan 10.0.2.0/25 -b 736 | AC11: nbtscan 10.0.2.0/25 -b 1472 | AD11: nbtscan 10.0.2.0/25 -b 2944 | AE11: nbtscan 10.0.2.0/25 -b 73600 | AF11: nbtscan 10.0.2.0/25 -b 147200
B12: 166 | C12: =B12+14 -> 180 | E12: 7 | F12: 43 | G12: fping | H12: Host Detection | J12: fping | K12: ARP & ICMP Scan | L12: P2-FP-(1-15) | M12: Range | N12: Interval | O12: mSeconds | Q12: fping -g 10.0.2.0/25 -i (mSeconds) | R12: fping -g 10.0.2.0/25 -i 300000 | S12: fping -g 10.0.2.0/25 -i 200000 | T12: fping -g 10.0.2.0/25 -i 150000 | U12: fping -g 10.0.2.0/25 -i 100000 | V12: fping -g 10.0.2.0/25 -i 50000 | W12: fping -g 10.0.2.0/25 -i 25000 | X12: fping -g 10.0.2.0/25 -i 15000 | Y12: fping -g 10.0.2.0/25 -i 10000 | Z12: fping -g 10.0.2.0/25 -i 5000 | AA12: fping -g 10.0.2.0/25 -i 2500 | AB12: fping -g 10.0.2.0/25 -i 1000 | AC12: fping -g 10.0.2.0/25 -i 500 | AD12: fping -g 10.0.2.0/25 -i 250 | AE12: fping -g 10.0.2.0/25 -i 10 | AF12: fping -g 10.0.2.0/25 -i 5
B13: 181 | C13: =B13+14 -> 195 | E13: 8 | F13: 44 | G13: ftester | H13: Web Application Firewall and IDS Discovery Tool Snort2 | J13: ftester | K13: IDS Test Snort2 | L13: P2-FT1-(1-15) | M13: Host | N13: Delay | O13: Seconds | Q13: ftest -c 10.0.2.70:999:10.0.2.50:139:AP:TCP:VRFY -v -d (Seconds) | R13: ftest -c 10.0.2.70:999:10.0.2.50:139:AP:TCP:VRFY -v -d 250 | S13: ftest -c 10.0.2.70:999:10.0.2.50:139:AP:TCP:VRFY -v -d 200 | T13: ftest -c 10.0.2.70:999:10.0.2.50:139:AP:TCP:VRFY -v -d 150 | U13: ftest -c 10.0.2.70:999:10.0.2.50:139:AP:TCP:VRFY -v -d 100 | V13: ftest -c 10.0.2.70:999:10.0.2.50:139:AP:TCP:VRFY -v -d 50 | W13: ftest -c 10.0.2.70:999:10.0.2.50:139:AP:TCP:VRFY -v -d 25 | X13: ftest -c 10.0.2.70:999:10.0.2.50:139:AP:TCP:VRFY -v -d 15 | Y13: ftest -c 10.0.2.70:999:10.0.2.50:139:AP:TCP:VRFY -v -d 10 | Z13: ftest -c 10.0.2.70:999:10.0.2.50:139:AP:TCP:VRFY -v -d 5 | AA13: ftest -c 10.0.2.70:999:10.0.2.50:139:AP:TCP:VRFY -v -d 2.5 | AB13: ftest -c 10.0.2.70:999:10.0.2.50:139:AP:TCP:VRFY -v -d 1 | AC13: ftest -c 10.0.2.70:999:10.0.2.50:139:AP:TCP:VRFY -v -d 0.5 | AD13: ftest -c 10.0.2.70:999:10.0.2.50:139:AP:TCP:VRFY -v -d 0.25 | AE13: ftest -c 10.0.2.70:999:10.0.2.50:139:AP:TCP:VRFY -v -d 0.01 | AF13: ftest -c 10.0.2.70:999:10.0.2.50:139:AP:TCP:VRFY -v -d 0.005
B14: 196 | C14: =B14+14 -> 210 | E14: 9 | F14: 45 | G14: ftester | H14: Web Application Firewall and IDS Discovery Tool Snort3 | J14: ftester | K14: IDS Test Snort3 | L14: P2-FT2-(1-15) | M14: Host | N14: Delay | O14: Seconds | Q14: ftest -c 10.0.2.70:999:10.0.2.51:139:AP:TCP:VRFY -v -d (Seconds) | R14: ftest -c 10.0.2.70:999:10.0.2.51:139:AP:TCP:VRFY -v -d 250 | S14: ftest -c 10.0.2.70:999:10.0.2.51:139:AP:TCP:VRFY -v -d 200 | T14: ftest -c 10.0.2.70:999:10.0.2.51:139:AP:TCP:VRFY -v -d 150 | U14: ftest -c 10.0.2.70:999:10.0.2.51:139:AP:TCP:VRFY -v -d 100 | V14: ftest -c 10.0.2.70:999:10.0.2.51:139:AP:TCP:VRFY -v -d 50 | W14: ftest -c 10.0.2.70:999:10.0.2.51:139:AP:TCP:VRFY -v -d 25 | X14: ftest -c 10.0.2.70:999:10.0.2.51:139:AP:TCP:VRFY -v -d 15 | Y14: ftest -c 10.0.2.70:999:10.0.2.51:139:AP:TCP:VRFY -v -d 10 | Z14: ftest -c 10.0.2.70:999:10.0.2.51:139:AP:TCP:VRFY -v -d 5 | AA14: ftest -c 10.0.2.70:999:10.0.2.51:139:AP:TCP:VRFY -v -d 2.5 | AB14: ftest -c 10.0.2.70:999:10.0.2.51:139:AP:TCP:VRFY -v -d 1 | AC14: ftest -c 10.0.2.70:999:10.0.2.51:139:AP:TCP:VRFY -v -d 0.5 | AD14: ftest -c 10.0.2.70:999:10.0.2.51:139:AP:TCP:VRFY -v -d 0.25 | AE14: ftest -c 10.0.2.70:999:10.0.2.51:139:AP:TCP:VRFY -v -d 0.01 | AF14: ftest -c 10.0.2.70:999:10.0.2.51:139:AP:TCP:VRFY -v -d 0.005
B15: 211 | C15: =B15+14 -> 225 | E15: 10 | F15: 46 | G15: ftester | H15: Web Application Firewall and IDS Discovery Tool Suricata | J15: ftester | K15: IDS Test Suricata | L15: P2-FT3-(1-15) | M15: Host | N15: Delay | O15: Seconds | Q15: ftest -c 10.0.2.70:999:10.0.2.52:139:AP:TCP:VRFY -v -d (Seconds) | R15: ftest -c 10.0.2.70:999:10.0.2.52:139:AP:TCP:VRFY -v -d 250 | S15: ftest -c 10.0.2.70:999:10.0.2.52:139:AP:TCP:VRFY -v -d 200 | T15: ftest -c 10.0.2.70:999:10.0.2.52:139:AP:TCP:VRFY -v -d 150 | U15: ftest -c 10.0.2.70:999:10.0.2.52:139:AP:TCP:VRFY -v -d 100 | V15: ftest -c 10.0.2.70:999:10.0.2.52:139:AP:TCP:VRFY -v -d 50 | W15: ftest -c 10.0.2.70:999:10.0.2.52:139:AP:TCP:VRFY -v -d 25 | X15: ftest -c 10.0.2.70:999:10.0.2.52:139:AP:TCP:VRFY -v -d 15 | Y15: ftest -c 10.0.2.70:999:10.0.2.52:139:AP:TCP:VRFY -v -d 10 | Z15: ftest -c 10.0.2.70:999:10.0.2.52:139:AP:TCP:VRFY -v -d 5 | AA15: ftest -c 10.0.2.70:999:10.0.2.52:139:AP:TCP:VRFY -v -d 2.5 | AB15: ftest -c 10.0.2.70:999:10.0.2.52:139:AP:TCP:VRFY -v -d 1 | AC15: ftest -c 10.0.2.70:999:10.0.2.52:139:AP:TCP:VRFY -v -d 0.5 | AD15: ftest -c 10.0.2.70:999:10.0.2.52:139:AP:TCP:VRFY -v -d 0.25 | AE15: ftest -c 10.0.2.70:999:10.0.2.52:139:AP:TCP:VRFY -v -d 0.01 | AF15: ftest -c 10.0.2.70:999:10.0.2.52:139:AP:TCP:VRFY -v -d 0.005
B16: 226 | C16: =B16+14 -> 240 | E16: 11 | F16: 47 | G16: netdiscover | H16: Address Resolution Protocol Scanner | J16: netdiscover | K16: Topology Discovery | L16: P2-ND-(1-15) | M16: Range | N16: Sleep | O16: mSeconds | Q16: netdiscover -i eth0 -r 10.0.2.0/24 -s (mSeconds) | R16: netdiscover -i eth0 -r 10.0.2.0/24 -s 300000 | S16: netdiscover -i eth0 -r 10.0.2.0/24 -s 200000 | T16: netdiscover -i eth0 -r 10.0.2.0/24 -s 150000 | U16: netdiscover -i eth0 -r 10.0.2.0/24 -s 100000 | V16: netdiscover -i eth0 -r 10.0.2.0/24 -s 50000 | W16: netdiscover -i eth0 -r 10.0.2.0/24 -s 25000 | X16: netdiscover -i eth0 -r 10.0.2.0/24 -s 15000 | Y16: netdiscover -i eth0 -r 10.0.2.0/24 -s 10000 | Z16: netdiscover -i eth0 -r 10.0.2.0/24 -s 5000 | AA16: netdiscover -i eth0 -r 10.0.2.0/24 -s 2500 | AB16: netdiscover -i eth0 -r 10.0.2.0/24 -s 1000 | AC16: netdiscover -i eth0 -r 10.0.2.0/24 -s 500 | AD16: netdiscover -i eth0 -r 10.0.2.0/24 -s 250 | AE16: netdiscover -i eth0 -r 10.0.2.0/24 -s 10 | AF16: netdiscover -i eth0 -r 10.0.2.0/24 -s 5
B17: 241 | C17: =B17+14 -> 255 | E17: 12 | F17: 49 | G17: sslscan | H17: Digital Certificate Scanner | J17: sslscan | K17: SSL Cert Scan | L17: P2-SS-(1-15) | M17: Host | N17: Sleep | O17: mSeconds | Q17: sslscan 10.0.2.112 -s (mSeconds) | R17: sslscan 10.0.2.112 -s 300000 | S17: sslscan 10.0.2.112 -s 200000 | T17: sslscan 10.0.2.112 -s 150000 | U17: sslscan 10.0.2.112 -s 100000 | V17: sslscan 10.0.2.112 -s 50000 | W17: sslscan 10.0.2.112 -s 25000 | X17: sslscan 10.0.2.112 -s 15000 | Y17: sslscan 10.0.2.112 -s 10000 | Z17: sslscan 10.0.2.112 -s 5000 | AA17: sslscan 10.0.2.112 -s 2500 | AB17: sslscan 10.0.2.112 -s 1000 | AC17: sslscan 10.0.2.112 -s 500 | AD17: sslscan 10.0.2.112 -s 250 | AE17: sslscan 10.0.2.112 -s 10 | AF17: sslscan 10.0.2.112 -s 5
R23: Nmap settings
H24: Time interval (ms) | R24: 300000 | X24: 15000 | AB24: 1000 | AE24: 10 | AF24: 5
H25: Nmap | R25: T0 | X25: T1 | AB25: T3 | AE25: T4 | AF25: T5
R26: Paranoid | X26: Sneaky | AB26: Normal | AE26: Aggressive | AF26: Insane

Sheet Anasis Phase II Orig
F1: Defence Suricata Number of Alerts | V1: Defence Snort2 Number of Alerts | AL1: Defence Snort3 Number of Alerts
B2: Tool | C2: Technique | D2: Technique ID | F2: 1 | G2: 2 | H2: 3 | I2: 4 | J2: 5 | K2: 6 | L2: 7 | M2: 8 | N2: 9 | O2: 10 | P2: 11 | Q2: 12 | R2: 13 | S2: 14 | T2: 15 | V2: 1 | W2: 2 | X2: 3 | Y2: 4 | Z2: 5 | AA2: 6 | AB2: 7 | AC2: 8 | AD2: 9 | AE2: 10 | AF2: 11 | AG2: 12 | AH2: 13 | AI2: 14 | AJ2: 15 | AL2: 1 | AM2: 2 | AN2: 3 | AO2: 4 | AP2: 5 | AQ2: 6 | AR2: 7 | AS2: 8 | AT2: 9 | AU2: 10 | AV2: 11 | AW2: 12 | AX2: 13 | AY2: 14 | AZ2: 15
F3: 300000 | G3: 200000 | H3: 150000 | I3: 100000 | J3: 50000 | K3: 25000 | L3: 15000 | M3: 10000 | N3: 5000 | O3: 2500 | P3: 1000 | Q3: 500 | R3: 250 | S3: 10 | T3: 5 | V3: 300000 | W3: 200000 | X3: 150000 | Y3: 100000 | Z3: 50000 | AA3: 25000 | AB3: 15000 | AC3: 10000 | AD3: 5000 | AE3: 2500 | AF3: 1000 | AG3: 500 | AH3: 250 | AI3: 10 | AJ3: 5 | AL3: 300000 | AM3: 200,00 | AN3: 150000 | AO3: 100000 | AP3: 50000 | AQ3: 25000 | AR3: 15000 | AS3: 10000 | AT3: 5000 | AU3: 2500 | AV3: 1000 | AW3: 500 | AX3: 250 | AY3: 10 | AZ3: 5
B5: hping3 | C5: SYN Scan | D5: P2-HP-(1-15)
B6: Nmap | C6: TCP Scan | D6: P2-NP-(1-15)
B7: masscan | C7: TCP Scan | D7: P2-MS-(1-15)
B8: Arping | C8: ARP Ping | D8: P2-AP-(1-15)
B9: Arp-Scan | C9: ARP Scan | D9: P2-AS-(1-15)
B10: nbtscan | C10: NetBIOS Scan | D10: P2-NB-(1-15)
B11: fping | C11: ARP & ICMP Scan | D11: P2-FP-(1-15)
B12: ftester | C12: IDS Test Snort2 | D12: P2-FT1-(1-15)
B13: ftester | C13: IDS Test Snort3 | D13: P2-FT2-(1-15)
B14: ftester | C14: IDS Test Suricata | D14: P2-FT3-(1-15)
B15: netdiscover | C15: Topology Discovery | D15: P2-ND-(1-15)
B16: sslscan | C16: SSL Cert Scan | D16: P2-SS-(1-15)

Sheet Anasis Phase II Comp TOOLS Orig
A1: Tool | B1: Technique | C1: Technique ID | E1: Statistic | F1: Suricata | G1: Snort2 | H1: Snort3 | J1: Description
A3: hping3 | B3: SYN Scan | C3: P2-HP-(1-15) | E3: Mean | F3: =AVERAGE(('Anasis Phase II Orig'!F5:T5)) -> #DIV/0! | G3: =AVERAGE(('Anasis Phase II Orig'!V5:AJ5)) -> #DIV/0! | H3: =AVERAGE('Anasis Phase II Orig'!AL5:AZ5) -> #DIV/0! | J3: The mean provides the average number of alerts over all time intervals for hping3, it can compare Suricata and Snort2, Snort3 across all time intervals for hping3.
E4: Median | F4: =MEDIAN(('Anasis Phase II Orig'!F5:T5)) -> #NUM! | G4: =MEDIAN(('Anasis Phase II Orig'!V5:AJ5)) -> #NUM! | H4: =MEDIAN(('Anasis Phase II Orig'!AL5:AZ5)) -> #NUM! | J4: The Median provides the middle value of alerts for the NIDS.
E5: Mode | F5: =MODE('Anasis Phase II Orig'!F5:T5) -> #N/A | G5: =MODE('Anasis Phase II Orig'!V5:AJ5) -> #N/A | H5: =MODE('Anasis Phase II Orig'!AL5:AZ5) -> #N/A | J5: The Mode provides the most common value of alerts for the NIDS detecting hping3.
E6: Range | F6: {=RANGE('Anasis Phase II Orig'!F5:T5)} -> #NAME? | G6: {=RANGE('Anasis Phase II Orig'!V5:AJ5)} -> #NAME? | H6: {=RANGE('Anasis Phase II Orig'!AL5:AZ5)} -> #NAME? | J6: This is the highest value of alerts minus the lowest value across all time intervals. Giving the range of this dataset.
E7: Standard Deviation (SD) | F7: =_xlfn.STDEV.S(('Anasis Phase II Orig'!F5:T5)) -> #DIV/0! | G7: =_xlfn.STDEV.S(('Anasis Phase II Orig'!V5:AJ5)) -> #DIV/0! | H7: =_xlfn.STDEV.S(('Anasis Phase II Orig'!AL5:AZ5)) -> #DIV/0! | J7: The SD is used to calculate the variation away from the Mean (Average) Value.
E8: Variance | F8: =_xlfn.VAR.S(('Anasis Phase II Orig'!F5:T5)) -> #DIV/0! | G8: =_xlfn.VAR.S(('Anasis Phase II Orig'!V5:AJ5)) -> #DIV/0! | H8: =_xlfn.VAR.S(('Anasis Phase II Orig'!AL5:AZ5)) -> #DIV/0! | J8: The Variance provides the spread of alerts across all time intervals for hping3.
A10: Nmap | B10: TCP Scan | C10: P2-NP-(1-15) | E10: Mean | F10: =AVERAGE('Anasis Phase II Orig'!F6:T6) -> #DIV/0! | G10: =AVERAGE(('Anasis Phase II Orig'!V6:AJ6)) -> #DIV/0! | H10: =AVERAGE('Anasis Phase II Orig'!AL6:AZ6) -> #DIV/0! | J10: Mean number of alerts across all time intervals for Nmap.
E11: Median | F11: =MEDIAN(('Anasis Phase II Orig'!F6:T6)) -> #NUM! | G11: =MEDIAN(('Anasis Phase II Orig'!V6:AJ6)) -> #NUM! | H11: =MEDIAN(('Anasis Phase II Orig'!AL6:AZ6)) -> #NUM! | J11: Median value of alerts across all time intervals for Nmap.
E12: Mode | F12: =MODE('Anasis Phase II Orig'!F6:T6) -> #N/A | G12: =MODE('Anasis Phase II Orig'!V6:AJ6) -> #N/A | H12: =MODE('Anasis Phase II Orig'!AL6:AZ6) -> #N/A | J12: Mode value of alerts across all time intervals for Nmap.
E13: Range | F13: {=RANGE('Anasis Phase II Orig'!F6:T6)} -> #NAME? | G13: {=RANGE('Anasis Phase II Orig'!V6:AJ6)} -> #NAME? | H13: {=RANGE('Anasis Phase II Orig'!AL6:AZ6)} -> #NAME? | J13: Range of alerts across all time intervals for Nmap.
E14: Standard Deviation (SD) | F14: =_xlfn.STDEV.S(('Anasis Phase II Orig'!F6:T6)) -> #DIV/0! | G14: =_xlfn.STDEV.S(('Anasis Phase II Orig'!V6:AJ6)) -> #DIV/0! | H14: =_xlfn.STDEV.S(('Anasis Phase II Orig'!AL6:AZ6)) -> #DIV/0! | J14: SD of alerts across all time intervals for Nmap.
E15: Variance | F15: =_xlfn.VAR.S(('Anasis Phase II Orig'!F6:T6)) -> #DIV/0! | G15: =_xlfn.VAR.S(('Anasis Phase II Orig'!V6:AJ6)) -> #DIV/0! | H15: =_xlfn.VAR.S(('Anasis Phase II Orig'!AL6:AZ6)) -> #DIV/0! | J15: Variance of alerts across all time intervals for Nmap.
A17: masscan | B17: TCP Scan | C17: P2-MS-(1-15) | E17: Mean | F17: =AVERAGE(('Anasis Phase II Orig'!F7:T7)) -> #DIV/0! | G17: =AVERAGE('Anasis Phase II Orig'!V7:AJ7) -> #DIV/0! | H17: =AVERAGE('Anasis Phase II Orig'!AL7:AZ7) -> #DIV/0! | J17: Mean number of alerts across all time intervals for Masscan.
E18: Median | F18: =MEDIAN(('Anasis Phase II Orig'!F7:T7)) -> #NUM! | G18: =MEDIAN(('Anasis Phase II Orig'!V7:AJ7)) -> #NUM! | H18: =MEDIAN(('Anasis Phase II Orig'!AL7:AZ7)) -> #NUM! | J18: Median value of alerts across all time intervals for Masscan.
E19: Mode | F19: =MODE(('Anasis Phase II Orig'!F7:T7)) -> #N/A | G19: =MODE('Anasis Phase II Orig'!V7:AJ7) -> #N/A | H19: =MODE('Anasis Phase II Orig'!AL7:AZ7) -> #N/A | J19: Mode value of alerts across all time intervals for Masscan.
E20: Range | F20: {=RANGE('Anasis Phase II Orig'!F7:T7)} -> #NAME? | G20: {=RANGE('Anasis Phase II Orig'!V7:AJ7)} -> #NAME? | H20: {=RANGE('Anasis Phase II Orig'!AL7:AZ7)} -> #NAME? | J20: Range of alerts across all time intervals for Masscan.
E21: Standard Deviation (SD) | F21: =_xlfn.STDEV.S(('Anasis Phase II Orig'!F7:T7)) -> #DIV/0! | G21: =_xlfn.STDEV.S(('Anasis Phase II Orig'!V7:AJ7)) -> #DIV/0! | H21: =_xlfn.STDEV.S(('Anasis Phase II Orig'!AL7:AZ7)) -> #DIV/0! | J21: SD of alerts across all time intervals for Masscan.
E22: Variance | F22: =_xlfn.VAR.S(('Anasis Phase II Orig'!F7:T7)) -> #DIV/0! | G22: =_xlfn.VAR.S(('Anasis Phase II Orig'!V7:AJ7)) -> #DIV/0! | H22: =_xlfn.VAR.S(('Anasis Phase II Orig'!AL7:AZ7)) -> #DIV/0! | J22: Variance of alerts across all time intervals for Masscan.
A24: Arping | B24: ARP Ping | C24: P2-AP-(1-15) | E24: Mean | F24: =AVERAGE('Anasis Phase II Orig'!F8:T8) -> #DIV/0! | G24: =AVERAGE(('Anasis Phase II Orig'!V8:AJ8)) -> #DIV/0! | H24: =AVERAGE('Anasis Phase II Orig'!AL8:AZ8) -> #DIV/0!
E25: Median | F25: =MEDIAN('Anasis Phase II Orig'!F8:T8) -> #NUM! | G25: =MEDIAN(('Anasis Phase II Orig'!V8:AJ8)) -> #NUM! | H25: =MEDIAN(('Anasis Phase II Orig'!AL8:AZ8)) -> #NUM!
E26: Mode | F26: =MODE('Anasis Phase II Orig'!F8:T8) -> #N/A | G26: =MODE('Anasis Phase II Orig'!V8:AJ8) -> #N/A | H26: =MODE('Anasis Phase II Orig'!AL8:AZ8) -> #N/A
E27: Range | F27: {=RANGE('Anasis Phase II Orig'!F8:T8)} -> #NAME? | G27: {=RANGE('Anasis Phase II Orig'!V8:AJ8)} -> #NAME? | H27: {=RANGE('Anasis Phase II Orig'!AL8:AZ8)} -> #NAME?
E28: Standard Deviation (SD) | F28: =_xlfn.STDEV.S('Anasis Phase II Orig'!F8:T8) -> #DIV/0! | G28: =_xlfn.STDEV.S(('Anasis Phase II Orig'!V8:AJ8)) -> #DIV/0! | H28: =_xlfn.STDEV.S(('Anasis Phase II Orig'!AL8:AZ8)) -> #DIV/0!
E29: Variance | F29: =_xlfn.VAR.S('Anasis Phase II Orig'!F8:T8) -> #DIV/0! | G29: =_xlfn.VAR.S(('Anasis Phase II Orig'!V8:AJ8)) -> #DIV/0! | H29: =_xlfn.VAR.S(('Anasis Phase II Orig'!AL8:AZ8)) -> #DIV/0!
A31: Arp-Scan | B31: ARP Scan | C31: P2-AS-(1-15) | E31: Mean | F31: =AVERAGE(('Anasis Phase II Orig'!F9:T9)) -> #DIV/0! | G31: =AVERAGE(('Anasis Phase II Orig'!V9:AJ9)) -> #DIV/0! | H31: =AVERAGE('Anasis Phase II Orig'!AL9:AZ9) -> #DIV/0!
E32: Median | F32: =MEDIAN(('Anasis Phase II Orig'!F9:T9)) -> #NUM! | G32: =MEDIAN(('Anasis Phase II Orig'!V9:AJ9)) -> #NUM! | H32: =MEDIAN(('Anasis Phase II Orig'!AL9:AZ9)) -> #NUM!
E33: Mode | F33: =MODE(('Anasis Phase II Orig'!F9:T9)) -> #N/A | G33: =MODE('Anasis Phase II Orig'!V9:AJ9) -> #N/A | H33: =MODE('Anasis Phase II Orig'!AL9:AZ9) -> #N/A
E34: Range | F34: {=RANGE('Anasis Phase II Orig'!F9:T9)} -> #NAME? | G34: {=RANGE('Anasis Phase II Orig'!V9:AJ9)} -> #NAME? | H34: {=RANGE('Anasis Phase II Orig'!AL9:AZ9)} -> #NAME?
E35: Standard Deviation (SD) | F35: =_xlfn.STDEV.S(('Anasis Phase II Orig'!F9:T9)) -> #DIV/0! | G35: =_xlfn.STDEV.S(('Anasis Phase II Orig'!V9:AJ9)) -> #DIV/0! | H35: =_xlfn.STDEV.S(('Anasis Phase II Orig'!AL9:AZ9)) -> #DIV/0!
E36: Variance | F36: =_xlfn.VAR.S(('Anasis Phase II Orig'!F9:T9)) -> #DIV/0! | G36: =_xlfn.VAR.S(('Anasis Phase II Orig'!V9:AJ9)) -> #DIV/0! | H36: =_xlfn.VAR.S(('Anasis Phase II Orig'!AL9:AZ9)) -> #DIV/0!
A38: nbtscan | B38: NetBIOS Scan | C38: P2-NB-(1-15) | E38: Mean | F38: =AVERAGE('Anasis Phase II Orig'!F10:T10) -> #DIV/0! | G38: =AVERAGE(('Anasis Phase II Orig'!V10:AJ10)) -> #DIV/0! | H38: =AVERAGE('Anasis Phase II Orig'!AL10:AZ10) -> #DIV/0!
E39: Median | F39: =MEDIAN(('Anasis Phase II Orig'!F10:T10)) -> #NUM! | G39: =MEDIAN(('Anasis Phase II Orig'!V10:AJ10)) -> #NUM! | H39: =MEDIAN(('Anasis Phase II Orig'!AL10:AZ10)) -> #NUM!
E40: Mode | F40: =MODE(('Anasis Phase II Orig'!F10:T10)) -> #N/A | G40: =MODE('Anasis Phase II Orig'!V10:AJ10) -> #N/A | H40: =MODE('Anasis Phase II Orig'!AL10:AZ10) -> #N/A
E41: Range | F41: {=RANGE('Anasis Phase II Orig'!F10:T10)} -> #NAME? | G41: {=RANGE('Anasis Phase II Orig'!V10:AJ10)} -> #NAME? | H41: {=RANGE('Anasis Phase II Orig'!AL10:AZ10)} -> #NAME?
E42: Standard Deviation (SD) | F42: =_xlfn.STDEV.S(('Anasis Phase II Orig'!F10:T10)) -> #DIV/0! | G42: =_xlfn.STDEV.S(('Anasis Phase II Orig'!V10:AJ10)) -> #DIV/0! | H42: =_xlfn.STDEV.S(('Anasis Phase II Orig'!AL10:AZ10)) -> #DIV/0!
E43: Variance | F43: =_xlfn.VAR.S(('Anasis Phase II Orig'!F10:T10)) -> #DIV/0! | G43: =_xlfn.VAR.S(('Anasis Phase II Orig'!V10:AJ10)) -> #DIV/0! | H43: =_xlfn.VAR.S(('Anasis Phase II Orig'!AL10:AZ10)) -> #DIV/0!
A45: fping | B45: ARP & ICMP Scan | C45: P2-FP-(1-15) | E45: Mean | F45: =AVERAGE('Anasis Phase II Orig'!F11:T11) -> #DIV/0! | G45: =AVERAGE(('Anasis Phase II Orig'!V11:AJ11)) -> #DIV/0! | H45: =AVERAGE('Anasis Phase II Orig'!AL11:AZ11) -> #DIV/0!
E46: Median | F46: =MEDIAN('Anasis Phase II Orig'!F11:T11) -> #NUM! | G46: =MEDIAN(('Anasis Phase II Orig'!V11:AJ11)) -> #NUM! | H46: =MEDIAN(('Anasis Phase II Orig'!AL11:AZ11)) -> #NUM!
E47: Mode | F47: =MODE(('Anasis Phase II Orig'!F11:T11)) -> #N/A | G47: =MODE('Anasis Phase II Orig'!V11:AJ11) -> #N/A | H47: =MODE('Anasis Phase II Orig'!AL11:AZ11) -> #N/A
E48: Range | F48: {=RANGE('Anasis Phase II Orig'!F11:T11)} -> #NAME? | G48: {=RANGE('Anasis Phase II Orig'!V11:AJ11)} -> #NAME? | H48: {=RANGE('Anasis Phase II Orig'!AL11:AZ11)} -> #NAME?
E49: Standard Deviation (SD) | F49: =_xlfn.STDEV.S(('Anasis Phase II Orig'!F11:T11)) -> #DIV/0! | G49: =_xlfn.STDEV.S(('Anasis Phase II Orig'!V11:AJ11)) -> #DIV/0! | H49: =_xlfn.STDEV.S(('Anasis Phase II Orig'!AL11:AZ11)) -> #DIV/0!
E50: Variance | F50: =_xlfn.VAR.S(('Anasis Phase II Orig'!F11:T11)) -> #DIV/0! | G50: =_xlfn.VAR.S(('Anasis Phase II Orig'!V11:AJ11)) -> #DIV/0! | H50: =_xlfn.VAR.S(('Anasis Phase II Orig'!AL11:AZ11)) -> #DIV/0!
A52: ftester | B52: IDS Test Snort2 | C52: P2-FT1-(1-15) | E52: Mean | F52: =AVERAGE(('Anasis Phase II Orig'!F12:T12)) -> #DIV/0! | G52: =AVERAGE(('Anasis Phase II Orig'!V12:AJ12)) -> #DIV/0! | H52: =AVERAGE('Anasis Phase II Orig'!AL12:AZ12) -> #DIV/0!
E53: Median | F53: =MEDIAN(('Anasis Phase II Orig'!F12:T12)) -> #NUM! | G53: =MEDIAN(('Anasis Phase II Orig'!V12:AJ12)) -> #NUM! | H53: =MEDIAN(('Anasis Phase II Orig'!AL12:AZ12)) -> #NUM!
E54: Mode | F54: =MODE(('Anasis Phase II Orig'!F12:T12)) -> #N/A | G54: =MODE('Anasis Phase II Orig'!V12:AJ12) -> #N/A | H54: =MODE('Anasis Phase II Orig'!AL12:AZ12) -> #N/A
E55: Range | F55: {=RANGE('Anasis Phase II Orig'!F12:T12)} -> #NAME? | G55: {=RANGE('Anasis Phase II Orig'!V12:AJ12)} -> #NAME? | H55: {=RANGE('Anasis Phase II Orig'!AL12:AZ12)} -> #NAME?
E56: Standard Deviation (SD) | F56: =_xlfn.STDEV.S(('Anasis Phase II Orig'!F12:T12)) -> #DIV/0! | G56: =_xlfn.STDEV.S(('Anasis Phase II Orig'!V12:AJ12)) -> #DIV/0! | H56: =_xlfn.STDEV.S(('Anasis Phase II Orig'!AL12:AZ12)) -> #DIV/0!
E57: Variance | F57: =_xlfn.VAR.S(('Anasis Phase II Orig'!F12:T12)) -> #DIV/0! | G57: =_xlfn.VAR.S(('Anasis Phase II Orig'!V12:AJ12)) -> #DIV/0! | H57: =_xlfn.VAR.S(('Anasis Phase II Orig'!AL12:AZ12)) -> #DIV/0!
A59: ftester | B59: IDS Test Snort3 | C59: P2-FT2-(1-15) | E59: Mean | F59: =AVERAGE(('Anasis Phase II Orig'!F13:T13)) -> #DIV/0! | G59: =AVERAGE(('Anasis Phase II Orig'!V13:AJ13)) -> #DIV/0! | H59: =AVERAGE('Anasis Phase II Orig'!AL13:AZ13) -> #DIV/0!
E60: Median | F60: =MEDIAN(('Anasis Phase II Orig'!F13:T13)) -> #NUM! | G60: =MEDIAN(('Anasis Phase II Orig'!V13:AJ13)) -> #NUM! | H60: =MEDIAN(('Anasis Phase II Orig'!AL13:AZ13)) -> #NUM!
E61: Mode | F61: =MODE(('Anasis Phase II Orig'!F13:T13)) -> #N/A | G61: =MODE('Anasis Phase II Orig'!V13:AJ13) -> #N/A | H61: =MODE('Anasis Phase II Orig'!AL13:AZ13) -> #N/A
E62: Range | F62: {=RANGE('Anasis Phase II Orig'!F13:T13)} -> #NAME? | G62: {=RANGE('Anasis Phase II Orig'!V13:AJ13)} -> #NAME? | H62: {=RANGE('Anasis Phase II Orig'!AL13:AZ13)} -> #NAME?
E63: Standard Deviation (SD) | F63: =_xlfn.STDEV.S(('Anasis Phase II Orig'!F13:T13)) -> #DIV/0! | G63: =_xlfn.STDEV.S(('Anasis Phase II Orig'!V13:AJ13)) -> #DIV/0! | H63: =_xlfn.STDEV.S(('Anasis Phase II Orig'!AL13:AZ13)) -> #DIV/0!
E64: Variance | F64: =_xlfn.VAR.S(('Anasis Phase II Orig'!F13:T13)) -> #DIV/0! | G64: =_xlfn.VAR.S(('Anasis Phase II Orig'!V13:AJ13)) -> #DIV/0! | H64: =_xlfn.VAR.S(('Anasis Phase II Orig'!AL13:AZ13)) -> #DIV/0!
A66: ftester | B66: IDS Test Suricata | C66: P2-FT3-(1-15) | E66: Mean | F66: =AVERAGE('Anasis Phase II Orig'!F14:T14) -> #DIV/0! | G66: =AVERAGE(('Anasis Phase II Orig'!V14:AJ14)) -> #DIV/0! | H66: =AVERAGE('Anasis Phase II Orig'!AL14:AZ14) -> #DIV/0!
E67: Median | F67: =MEDIAN(('Anasis Phase II Orig'!F14:T14)) -> #NUM! | G67: =MEDIAN(('Anasis Phase II Orig'!V14:AJ14)) -> #NUM! | H67: =MEDIAN(('Anasis Phase II Orig'!AL14:AZ14)) -> #NUM!
E68: Mode | F68: =MODE(('Anasis Phase II Orig'!F14:T14)) -> #N/A | G68: =MODE('Anasis Phase II Orig'!V14:AJ14) -> #N/A | H68: =MODE('Anasis Phase II Orig'!AL14:AZ14) -> #N/A
E69: Range | F69: {=RANGE('Anasis Phase II Orig'!F14:T14)} -> #NAME? | G69: {=RANGE('Anasis Phase II Orig'!V14:AJ14)} -> #NAME? | H69: {=RANGE('Anasis Phase II Orig'!AL14:AZ14)} -> #NAME?
E70: Standard Deviation (SD) | F70: =_xlfn.STDEV.S(('Anasis Phase II Orig'!F14:T14)) -> #DIV/0! | G70: =_xlfn.STDEV.S(('Anasis Phase II Orig'!V14:AJ14)) -> #DIV/0! | H70: =_xlfn.STDEV.S(('Anasis Phase II Orig'!AL14:AZ14)) -> #DIV/0!
E71: Variance | F71: =_xlfn.VAR.S(('Anasis Phase II Orig'!F14:T14)) -> #DIV/0! | G71: =_xlfn.VAR.S(('Anasis Phase II Orig'!V14:AJ14)) -> #DIV/0! | H71: =_xlfn.VAR.S(('Anasis Phase II Orig'!AL14:AZ14)) -> #DIV/0!
A73: netdiscover | B73: Topology Discovery | C73: P2-ND-(1-15) | E73: Mean | F73: =AVERAGE(('Anasis Phase II Orig'!F15:T15)) -> #DIV/0! | G73: =AVERAGE(('Anasis Phase II Orig'!V15:AJ15)) -> #DIV/0! | H73: =AVERAGE('Anasis Phase II Orig'!AL15:AZ15) -> #DIV/0!
E74: Median | F74: =MEDIAN(('Anasis Phase II Orig'!F15:T15)) -> #NUM! | G74: =MEDIAN(('Anasis Phase II Orig'!V15:AJ15)) -> #NUM! | H74: =MEDIAN(('Anasis Phase II Orig'!AL15:AZ15)) -> #NUM!
E75: Mode | F75: =MODE(('Anasis Phase II Orig'!F15:T15)) -> #N/A | G75: =MODE('Anasis Phase II Orig'!V15:AJ15) -> #N/A | H75: =MODE('Anasis Phase II Orig'!AL15:AZ15) -> #N/A
E76: Range | F76: {=RANGE('Anasis Phase II Orig'!F15:T15)} -> #NAME? | G76: {=RANGE('Anasis Phase II Orig'!V15:AJ15)} -> #NAME? | H76: {=RANGE('Anasis Phase II Orig'!AL15:AZ15)} -> #NAME?
E77: Standard Deviation (SD) | F77: =_xlfn.STDEV.S(('Anasis Phase II Orig'!F15:T15)) -> #DIV/0! | G77: =_xlfn.STDEV.S(('Anasis Phase II Orig'!V15:AJ15)) -> #DIV/0! | H77: =_xlfn.STDEV.S(('Anasis Phase II Orig'!AL15:AZ15)) -> #DIV/0!
E78: Variance | F78: =_xlfn.VAR.S(('Anasis Phase II Orig'!F15:T15)) -> #DIV/0! | G78: =_xlfn.VAR.S(('Anasis Phase II Orig'!V15:AJ15)) -> #DIV/0! | H78: =_xlfn.VAR.S(('Anasis Phase II Orig'!AL15:AZ15)) -> #DIV/0!
A80: sslscan | B80: SSL Cert Scan | C80: P2-SS-(1-15) | E80: Mean | F80: =AVERAGE(('Anasis Phase II Orig'!F16:T16)) -> #DIV/0! | G80: =AVERAGE(('Anasis Phase II Orig'!V16:AJ16)) -> #DIV/0! | H80: =AVERAGE('Anasis Phase II Orig'!AL16:AZ16) -> #DIV/0!
E81: Median | F81: =MEDIAN(('Anasis Phase II Orig'!F16:T16)) -> #NUM! | G81: =MEDIAN(('Anasis Phase II Orig'!V16:AJ16)) -> #NUM! | H81: =MEDIAN(('Anasis Phase II Orig'!AL16:AZ16)) -> #NUM!
E82: Mode | F82: =MODE(('Anasis Phase II Orig'!F16:T16)) -> #N/A | G82: =MODE('Anasis Phase II Orig'!AJ16:VV16) -> #N/A | H82: =MODE('Anasis Phase II Orig'!AL16:AZ16) -> #N/A
E83: Range | F83: {=RANGE('Anasis Phase II Orig'!F16:T16)} -> #NAME? | G83: {=RANGE('Anasis Phase II Orig'!AJ16:VV16)} -> #NAME? | H83: {=RANGE('Anasis Phase II Orig'!AL16:AZ16)} -> #NAME?
E84: Standard Deviation (SD) | F84: =_xlfn.STDEV.S(('Anasis Phase II Orig'!F16:T16)) -> #DIV/0! | G84: =_xlfn.STDEV.S(('Anasis Phase II Orig'!V16:AJ16)) -> #DIV/0! | H84: =_xlfn.STDEV.S(('Anasis Phase II Orig'!AL16:AZ16)) -> #DIV/0!
E85: Variance | F85: =_xlfn.VAR.S(('Anasis Phase II Orig'!F16:T16)) -> #DIV/0! | G85: =_xlfn.VAR.S(('Anasis Phase II Orig'!V16:AJ16)) -> #DIV/0! | H85: =_xlfn.VAR.S(('Anasis Phase II Orig'!AL16:AZ16)) -> #DIV/0!

Sheet Anasis Phase II Comp TIME Orig
A1: Test # | B1: Time (mSec) | D1: Statistic | E1: Suricata | F1: Snort2 | G1: Snort3 | I1: Description
A3: 1 | B3: 300000 | D3: Mean | E3: =AVERAGE('Anasis Phase II Orig'!F5:F16) -> #DIV/0! | F3: =AVERAGE('Anasis Phase II Orig'!V5:V16) -> #DIV/0! | G3: =AVERAGE('Anasis Phase II Orig'!AL5:AL16) -> #DIV/0! | I3: The mean provides the average number of alerts over all tools for the 300,000 mSecond time interval, it can compare Suricata and Snort2, Snort3 across all tools.
D4: Median | E4: =MEDIAN(('Anasis Phase II Orig'!F5:F16)) -> #NUM! | F4: =MEDIAN(('Anasis Phase II Orig'!V5:V16)) -> #NUM! | G4: =MEDIAN(('Anasis Phase II Orig'!AL5:AL16)) -> #NUM! | I4: The Median provides the middle value of alerts for the NIDS with the 300,000 mSecond interval.
D5: Mode | E5: =MODE('Anasis Phase II Orig'!F5:F16) -> #N/A | F5: =MODE('Anasis Phase II Orig'!V5:V16) -> #N/A | G5: =MODE('Anasis Phase II Orig'!AL5:AL16) -> #N/A | I5: The Mode provides the most common value of alerts for the NIDS detecting 300,000 mSecond interval.
D6: Range | E6: {=RANGE('Anasis Phase II Orig'!F5:F16)} -> #NAME? | F6: {=RANGE('Anasis Phase II Orig'!V5:V16)} -> #NAME? | G6: {=RANGE('Anasis Phase II Orig'!AL5:AL16)} -> #NAME? | I6: This is the highest value of alerts minus the lowest value across all tools for the 300,000 mSecond time interval. Giving the range of this dataset.
D7: Standard Deviation (SD) | E7: =_xlfn.STDEV.S(('Anasis Phase II Orig'!F5:F16)) -> #DIV/0! | F7: =_xlfn.STDEV.S(('Anasis Phase II Orig'!V5:V16)) -> #DIV/0! | G7: =_xlfn.STDEV.S(('Anasis Phase II Orig'!AL5:AL16)) -> #DIV/0! | I7: The SD is used to calculate the variation away from the Mean (Average) value.
D8: Variance | E8: =_xlfn.VAR.S(('Anasis Phase II Orig'!F5:F16)) -> #DIV/0! | F8: =_xlfn.VAR.S(('Anasis Phase II Orig'!V5:V16)) -> #DIV/0! | G8: =_xlfn.VAR.S(('Anasis Phase II Orig'!AL5:AL16)) -> #DIV/0! | I8: The Variance provides the spread of alerts across all tools for the 300,000 time interval.
A10: 2 | B10: 200000 | D10: Mean | E10: =AVERAGE('Anasis Phase II Orig'!G5:G16) -> #DIV/0! | F10: =AVERAGE('Anasis Phase II Orig'!W5:W16) -> #DIV/0! | G10: =AVERAGE('Anasis Phase II Orig'!AM5:AM16) -> #DIV/0! | I10: Mean number of alerts across all tools for the time interval of 200,000 mS.
D11: Median | E11: =MEDIAN(('Anasis Phase II Orig'!G5:G16)) -> #NUM! | F11: =MEDIAN(('Anasis Phase II Orig'!W5:W16)) -> #NUM! | G11: =MEDIAN(('Anasis Phase II Orig'!AM5:AM16)) -> #NUM! | I11: Median value of alerts across all tools for the time interval of 200,000 mS.
D12: Mode | E12: =MODE('Anasis Phase II Orig'!G5:G16) -> #N/A | F12: =MODE('Anasis Phase II Orig'!W5:W16) -> #N/A | G12: =MODE('Anasis Phase II Orig'!AM5:AM16) -> #N/A | I12: Mode value of alerts across all tools for the time interval of 200,000 mS.
D13: Range | E13: {=RANGE('Anasis Phase II Orig'!G5:G16)} -> #NAME? | F13: {=RANGE('Anasis Phase II Orig'!W5:W16)} -> #NAME? | G13: {=RANGE('Anasis Phase II Orig'!AM5:AM16)} -> #NAME? | I13: Range of alerts across all tools for the time interval of 200,000 mS.
D14: Standard Deviation (SD) | E14: =_xlfn.STDEV.S(('Anasis Phase II Orig'!G5:G16)) -> #DIV/0! | F14: =_xlfn.STDEV.S(('Anasis Phase II Orig'!W5:W16)) -> #DIV/0! | G14: =_xlfn.STDEV.S(('Anasis Phase II Orig'!AM5:AM16)) -> #DIV/0! | I14: SD of alerts across all tools for the time interval of 200,000 mS.
D15: Variance | E15: =_xlfn.VAR.S(('Anasis Phase II Orig'!G5:G16)) -> #DIV/0! | F15: =_xlfn.VAR.S(('Anasis Phase II Orig'!W5:W16)) -> #DIV/0! | G15: =_xlfn.VAR.S(('Anasis Phase II Orig'!AM5:AM16)) -> #DIV/0! | I15: Variance of alerts across all tools for the time interval of 200,000 mS.
A17: 3 | B17: 150000 | D17: Mean | E17: =AVERAGE('Anasis Phase II Orig'!H5:H16) -> #DIV/0! | F17: =AVERAGE('Anasis Phase II Orig'!X5:X16) -> #DIV/0! | G17: =AVERAGE('Anasis Phase II Orig'!AN5:AN16) -> #DIV/0! | I17: Mean number of alerts across all tools for the time interval of 150,000 mS.
D18: Median | E18: =MEDIAN(('Anasis Phase II Orig'!H5:H16)) -> #NUM! | F18: =MEDIAN(('Anasis Phase II Orig'!X5:X16)) -> #NUM! | G18: =MEDIAN(('Anasis Phase II Orig'!AN5:AN16)) -> #NUM! | I18: Median value of alerts across all tools for the time interval of 150,000 mS.
D19: Mode | E19: =MODE(('Anasis Phase II Orig'!H5:H16)) -> #N/A | F19: =MODE('Anasis Phase II Orig'!X5:X16) -> #N/A | G19: =MODE('Anasis Phase II Orig'!AN5:AN16) -> #N/A | I19: Mode value of alerts across all tools for the time interval of 150,000 mS.
D20: Range | E20: {=RANGE('Anasis Phase II Orig'!H5:H16)} -> #NAME? | F20: {=RANGE('Anasis Phase II Orig'!X5:X16)} -> #NAME? | G20: {=RANGE('Anasis Phase II Orig'!AN5:AN16)} -> #NAME? | I20: Range of alerts across all tools for the time interval of 150,000 mS.
D21: Standard Deviation (SD) | E21: =_xlfn.STDEV.S(('Anasis Phase II Orig'!H5:H16)) -> #DIV/0! | F21: =_xlfn.STDEV.S(('Anasis Phase II Orig'!X5:X16)) -> #DIV/0! | G21: =_xlfn.STDEV.S(('Anasis Phase II Orig'!AN5:AN16)) -> #DIV/0! | I21: SD of alerts across all tools for the time interval of 150,000 mS.
D22: Variance | E22: =_xlfn.VAR.S(('Anasis Phase II Orig'!H5:H16)) -> #DIV/0! | F22: =_xlfn.VAR.S(('Anasis Phase II Orig'!X5:X16)) -> #DIV/0! | G22: =_xlfn.VAR.S(('Anasis Phase II Orig'!AN5:AN16)) -> #DIV/0! | I22: Variance of alerts across all tools for the time interval of 150,000 mS.
A24: 4 | B24: 100000 | D24: Mean | E24: =AVERAGE('Anasis Phase II Orig'!I5:I16) -> #DIV/0! | F24: =AVERAGE('Anasis Phase II Orig'!Y5:Y16) -> #DIV/0! | G24: =AVERAGE('Anasis Phase II Orig'!AO5:AO16) -> #DIV/0! | I24: Mean number of alerts across all tools for the time interval of 100,000 mS.
D25: Median | E25: =MEDIAN('Anasis Phase II Orig'!I5:I16) -> #NUM! | F25: =MEDIAN(('Anasis Phase II Orig'!Y5:Y16)) -> #NUM! | G25: =MEDIAN(('Anasis Phase II Orig'!AO5:AO16)) -> #NUM! | I25: Median value of alerts across all tools for the time interval of 100,000 mS.
D26: Mode | E26: =MODE('Anasis Phase II Orig'!I5:I16) -> #N/A | F26: =MODE('Anasis Phase II Orig'!Y5:Y16) -> #N/A | G26: =MODE('Anasis Phase II Orig'!AO5:AO16) -> #N/A | I26: Mode value of alerts across all tools for the time interval of 100,000 mS.
D27: Range | E27: {=RANGE('Anasis Phase II Orig'!I5:I16)} -> #NAME? | F27: {=RANGE('Anasis Phase II Orig'!Y5:Y16)} -> #NAME? | G27: {=RANGE('Anasis Phase II Orig'!AO5:AO16)} -> #NAME? | I27: Range of alerts across all tools for the time interval of 100,000 mS.
D28: Standard Deviation (SD) | E28: =_xlfn.STDEV.S('Anasis Phase II Orig'!I5:I16) -> #DIV/0! | F28: =_xlfn.STDEV.S(('Anasis Phase II Orig'!Y5:Y16)) -> #DIV/0! | G28: =_xlfn.STDEV.S(('Anasis Phase II Orig'!AO5:AO16)) -> #DIV/0! | I28: SD of alerts across all tools for the time interval of 100,000 mS.
D29: Variance | E29: =_xlfn.VAR.S('Anasis Phase II Orig'!I5:I16) -> #DIV/0! | F29: =_xlfn.VAR.S(('Anasis Phase II Orig'!Y5:Y16)) -> #DIV/0! | G29: =_xlfn.VAR.S(('Anasis Phase II Orig'!AO5:AO16)) -> #DIV/0! | I29: Variance of alerts across all tools for the time interval of 100,000 mS.
A31: 5 | B31: 50000 | D31: Mean | E31: =AVERAGE('Anasis Phase II Orig'!J5:J16) -> #DIV/0! | F31: =AVERAGE('Anasis Phase II Orig'!Z5:Z16) -> #DIV/0! | G31: =AVERAGE('Anasis Phase II Orig'!AP5:AP16) -> #DIV/0! | I31: Mean number of alerts across all tools for the time interval of 50,000 mS.
D32: Median | E32: =MEDIAN(('Anasis Phase II Orig'!J5:J16)) -> #NUM! | F32: =MEDIAN(('Anasis Phase II Orig'!Z5:Z16)) -> #NUM! | G32: =MEDIAN(('Anasis Phase II Orig'!AP5:AP16)) -> #NUM! | I32: Median value of alerts across all tools for the time interval of 50,000 mS.
D33: Mode | E33: =MODE(('Anasis Phase II Orig'!J5:J16)) -> #N/A | F33: =MODE('Anasis Phase II Orig'!Z5:Z16) -> #N/A | G33: =MODE('Anasis Phase II Orig'!AP5:AP16) -> #N/A | I33: Mode value of alerts across all tools for the time interval of 50,000 mS.
D34: Range | E34: {=RANGE('Anasis Phase II Orig'!J5:J16)} -> #NAME? | F34: {=RANGE('Anasis Phase II Orig'!Z5:Z16)} -> #NAME? | G34: {=RANGE('Anasis Phase II Orig'!AP5:AP16)} -> #NAME? | I34: Range of alerts across all tools for the time interval of 50,000 mS.
D35: Standard Deviation (SD) | E35: =_xlfn.STDEV.S(('Anasis Phase II Orig'!J5:J16)) -> #DIV/0! | F35: =_xlfn.STDEV.S(('Anasis Phase II Orig'!Z5:Z16)) -> #DIV/0! | G35: =_xlfn.STDEV.S(('Anasis Phase II Orig'!AP5:AP16)) -> #DIV/0! | I35: SD of alerts across all tools for the time interval of 50,000 mS.
D36: Variance | E36: =_xlfn.VAR.S(('Anasis Phase II Orig'!J5:J16)) -> #DIV/0! | F36: =_xlfn.VAR.S(('Anasis Phase II Orig'!Z5:Z16)) -> #DIV/0! | G36: =_xlfn.VAR.S(('Anasis Phase II Orig'!AP5:AP16)) -> #DIV/0! | I36: Variance of alerts across all tools for the time interval of 50,000 mS.
A38: 6 | B38: 25000 | D38: Mean | E38: =AVERAGE('Anasis Phase II Orig'!K5:K16) -> #DIV/0! | F38: =AVERAGE('Anasis Phase II Orig'!AA5:AA16) -> #DIV/0! | G38: =AVERAGE('Anasis Phase II Orig'!AQ5:AQ16) -> #DIV/0! | I38: Mean number of alerts across all tools for the time interval of 25,000 mS.
D39: Median | E39: =MEDIAN(('Anasis Phase II Orig'!K5:K16)) -> #NUM! | F39: =MEDIAN(('Anasis Phase II Orig'!AA5:AA16)) -> #NUM! | G39: =MEDIAN(('Anasis Phase II Orig'!AQ5:AQ16)) -> #NUM! | I39: Median value of alerts across all tools for the time interval of 25,000 mS.
D40: Mode | E40: =MODE(('Anasis Phase II Orig'!K5:K16)) -> #N/A | F40: =MODE('Anasis Phase II Orig'!AA5:AA16) -> #N/A | G40: =MODE('Anasis Phase II Orig'!AQ5:AQ16) -> #N/A | I40: Mode value of alerts across all tools for the time interval of 25,000 mS.
D41: Range | E41: {=RANGE('Anasis Phase II Orig'!K5:K16)} -> #NAME? | F41: {=RANGE('Anasis Phase II Orig'!AA5:AA16)} -> #NAME? | G41: {=RANGE('Anasis Phase II Orig'!AQ5:AQ16)} -> #NAME? | I41: Range of alerts across all tools for the time interval of 25,000 mS.
D42: Standard Deviation (SD) | E42: =_xlfn.STDEV.S(('Anasis Phase II Orig'!K5:K16)) -> #DIV/0! | F42: =_xlfn.STDEV.S(('Anasis Phase II Orig'!AA5:AA16)) -> #DIV/0! | G42: =_xlfn.STDEV.S(('Anasis Phase II Orig'!AQ5:AQ16)) -> #DIV/0! | I42: SD of alerts across all tools for the time interval of 25,000 mS.
D43: Variance | E43: =_xlfn.VAR.S(('Anasis Phase II Orig'!K5:K16)) -> #DIV/0! | F43: =_xlfn.VAR.S(('Anasis Phase II Orig'!AA5:AA16)) -> #DIV/0! | G43: =_xlfn.VAR.S(('Anasis Phase II Orig'!AQ5:AQ16)) -> #DIV/0! | I43: Variance of alerts across all tools for the time interval of 25,000 mS.
A45: 7 | B45: 15000 | D45: Mean | E45: =AVERAGE('Anasis Phase II Orig'!L5:L16) -> #DIV/0! | F45: =AVERAGE('Anasis Phase II Orig'!AB5:AB16) -> #DIV/0! | G45: =AVERAGE('Anasis Phase II Orig'!AR5:AR16) -> #DIV/0! | I45: Mean number of alerts across all tools for the time interval of 15,000 mS.
D46: Median | E46: =MEDIAN('Anasis Phase II Orig'!L5:L16) -> #NUM! | F46: =MEDIAN(('Anasis Phase II Orig'!AB5:AB16)) -> #NUM! | G46: =MEDIAN(('Anasis Phase II Orig'!AR5:AR16)) -> #NUM! | I46: Median value of alerts across all tools for the time interval of 15,000 mS.
D47: Mode | E47: =MODE(('Anasis Phase II Orig'!L5:L16)) -> #N/A | F47: =MODE('Anasis Phase II Orig'!AB5:AB16) -> #N/A | G47: =MODE('Anasis Phase II Orig'!AR5:AR16) -> #N/A | I47: Mode value of alerts across all tools for the time interval of 15,000 mS.
D48: Range | E48: {=RANGE('Anasis Phase II Orig'!L5:L16)} -> #NAME? | F48: {=RANGE('Anasis Phase II Orig'!AB5:AB16)} -> #NAME? | G48: {=RANGE('Anasis Phase II Orig'!AR5:AR16)} -> #NAME? | I48: Range of alerts across all tools for the time interval of 15,000 mS.
D49: Standard Deviation (SD) | E49: =_xlfn.STDEV.S(('Anasis Phase II Orig'!L5:L16)) -> #DIV/0! | F49: =_xlfn.STDEV.S(('Anasis Phase II Orig'!AB5:AB16)) -> #DIV/0! | G49: =_xlfn.STDEV.S(('Anasis Phase II Orig'!AR5:AR16)) -> #DIV/0! | I49: SD of alerts across all tools for the time interval of 15,000 mS.
D50: Variance | E50: =_xlfn.VAR.S(('Anasis Phase II Orig'!L5:L16)) -> #DIV/0! | F50: =_xlfn.VAR.S(('Anasis Phase II Orig'!AB5:AB16)) -> #DIV/0! | G50: =_xlfn.VAR.S(('Anasis Phase II Orig'!AR5:AR16)) -> #DIV/0! | I50: Variance of alerts across all tools for the time interval of 15,000 mS.
A52: 8 | B52: 10000 | D52: Mean | E52: =AVERAGE('Anasis Phase II Orig'!M5:M16) -> #DIV/0! | F52: =AVERAGE('Anasis Phase II Orig'!AC5:AC16) -> #DIV/0! | G52: =AVERAGE('Anasis Phase II Orig'!AS5:AS16) -> #DIV/0! | I52: Mean number of alerts across all tools for the time interval of 10,000 mS.
D53: Median | E53: =MEDIAN(('Anasis Phase II Orig'!M5:M16)) -> #NUM! | F53: =MEDIAN(('Anasis Phase II Orig'!AC5:AC16)) -> #NUM! | G53: =MEDIAN(('Anasis Phase II Orig'!AS5:AS16)) -> #NUM! | I53: Median value of alerts across all tools for the time interval of 10,000 mS.
D54: Mode | E54: =MODE(('Anasis Phase II Orig'!M5:M16)) -> #N/A | F54: =MODE('Anasis Phase II Orig'!AC5:AC16) -> #N/A | G54: =MODE('Anasis Phase II Orig'!AS5:AS16) -> #N/A | I54: Mode value of alerts across all tools for the time interval of 10,000 mS.
D55: Range | E55: {=RANGE('Anasis Phase II Orig'!M5:M16)} -> #NAME? | F55: {=RANGE('Anasis Phase II Orig'!AC5:AC16)} -> #NAME? | G55: {=RANGE('Anasis Phase II Orig'!AS5:AS16)} -> #NAME? | I55: Range of alerts across all tools for the time interval of 10,000 mS.
D56: Standard Deviation (SD) | E56: =_xlfn.STDEV.S(('Anasis Phase II Orig'!M5:M16)) -> #DIV/0! | F56: =_xlfn.STDEV.S(('Anasis Phase II Orig'!AC5:AC16)) -> #DIV/0! | G56: =_xlfn.STDEV.S(('Anasis Phase II Orig'!AS5:AS16)) -> #DIV/0! | I56: SD of alerts across all tools for the time interval of 10,000 mS.
D57: Variance | E57: =_xlfn.VAR.S(('Anasis Phase II Orig'!M5:M16)) -> #DIV/0! | F57: =_xlfn.VAR.S(('Anasis Phase II Orig'!AC5:AC16)) -> #DIV/0! | G57: =_xlfn.VAR.S(('Anasis Phase II Orig'!AS5:AS16)) -> #DIV/0! | I57: Variance of alerts across all tools for the time interval of 10,000 mS.
A59: 9 | B59: 5000 | D59: Mean | E59: =AVERAGE('Anasis Phase II Orig'!N5:N16) -> #DIV/0! | F59: =AVERAGE('Anasis Phase II Orig'!AD5:AD16) -> #DIV/0! | G59: =AVERAGE('Anasis Phase II Orig'!AT5:AT16) -> #DIV/0! | I59: Mean number of alerts across all tools for the time interval of 5,000 mS.
D60: Median | E60: =MEDIAN(('Anasis Phase II Orig'!N5:N16)) -> #NUM! | F60: =MEDIAN(('Anasis Phase II Orig'!AD5:AD16)) -> #NUM! | G60: =MEDIAN(('Anasis Phase II Orig'!AT5:AT16)) -> #NUM! | I60: Median value of alerts across all tools for the time interval of 5,000 mS.
D61: Mode | E61: =MODE(('Anasis Phase II Orig'!N5:N16)) -> #N/A | F61: =MODE('Anasis Phase II Orig'!AD5:AD16) -> #N/A | G61: =MODE('Anasis Phase II Orig'!AT5:AT16) -> #N/A | I61: Mode value of alerts across all tools for the time interval of 5,000 mS.
D62: Range | E62: {=RANGE('Anasis Phase II Orig'!N5:N16)} -> #NAME? | F62: {=RANGE('Anasis Phase II Orig'!AD5:AD16)} -> #NAME? | G62: {=RANGE('Anasis Phase II Orig'!AT5:AT16)} -> #NAME? | I62: Range of alerts across all tools for the time interval of 5,000 mS.
D63: Standard Deviation (SD) | E63: =_xlfn.STDEV.S(('Anasis Phase II Orig'!N5:N16)) -> #DIV/0! | F63: =_xlfn.STDEV.S(('Anasis Phase II Orig'!AD5:AD16)) -> #DIV/0! | G63: =_xlfn.STDEV.S(('Anasis Phase II Orig'!AT5:AT16)) -> #DIV/0! | I63: SD of alerts across all tools for the time interval of 5,000 mS.
D64: Variance | E64: =_xlfn.VAR.S(('Anasis Phase II Orig'!N5:N16)) -> #DIV/0! | F64: =_xlfn.VAR.S(('Anasis Phase II Orig'!AD5:AD16)) -> #DIV/0! | G64: =_xlfn.VAR.S(('Anasis Phase II Orig'!AT5:AT16)) -> #DIV/0! | I64: Variance of alerts across all tools for the time interval of 5,000 mS.
A66: 10 | B66: 2500 | D66: Mean | E66: =AVERAGE('Anasis Phase II Orig'!O5:O16) -> #DIV/0! | F66: =AVERAGE('Anasis Phase II Orig'!AE5:AE16) -> #DIV/0! | G66: =AVERAGE('Anasis Phase II Orig'!AU5:AU16) -> #DIV/0! | I66: Mean number of alerts across all tools for the time interval of 2,500 mS.
D67: Median | E67: =MEDIAN(('Anasis Phase II Orig'!O5:O16)) -> #NUM! | F67: =MEDIAN(('Anasis Phase II Orig'!AE5:AE16)) -> #NUM! | G67: =MEDIAN(('Anasis Phase II Orig'!AU5:AU16)) -> #NUM! | I67: Median value of alerts across all tools for the time interval of 2,500 mS.
D68: Mode | E68: =MODE(('Anasis Phase II Orig'!O5:O16)) -> #N/A | F68: =MODE('Anasis Phase II Orig'!AE5:AE16) -> #N/A | G68: =MODE('Anasis Phase II Orig'!AU5:AU16) -> #N/A | I68: Mode value of alerts across all tools for the time interval of 2,500 mS.
D69: Range | E69: {=RANGE('Anasis Phase II Orig'!O5:O16)} -> #NAME? | F69: {=RANGE('Anasis Phase II Orig'!AE5:AE16)} -> #NAME? | G69: {=RANGE('Anasis Phase II Orig'!AU5:AU16)} -> #NAME? | I69: Range of alerts across all tools for the time interval of 2,500 mS.
D70: Standard Deviation (SD) | E70: =_xlfn.STDEV.S(('Anasis Phase II Orig'!O5:O16)) -> #DIV/0! | F70: =_xlfn.STDEV.S(('Anasis Phase II Orig'!AE5:AE16)) -> #DIV/0! | G70: =_xlfn.STDEV.S(('Anasis Phase II Orig'!AU5:AU16)) -> #DIV/0! | I70: SD of alerts across all tools for the time interval of 2,500 mS.
D71: Variance | E71: =_xlfn.VAR.S(('Anasis Phase II Orig'!O5:O16)) -> #DIV/0! | F71: =_xlfn.VAR.S(('Anasis Phase II Orig'!AE5:AE16)) -> #DIV/0! | G71: =_xlfn.VAR.S(('Anasis Phase II Orig'!AU5:AU16)) -> #DIV/0! | I71: Variance of alerts across all tools for the time interval of 2,500 mS.
A73: 11 | B73: 1000 | D73: Mean | E73: =AVERAGE('Anasis Phase II Orig'!P5:P16) -> #DIV/0! | F73: =AVERAGE('Anasis Phase II Orig'!AF5:AF16) -> #DIV/0! | G73: =AVERAGE('Anasis Phase II Orig'!AV5:AV16) -> #DIV/0! | I73: Mean number of alerts across all tools for the time interval of 1,000 mS.
D74: Median | E74: =MEDIAN(('Anasis Phase II Orig'!P5:P16)) -> #NUM! | F74: =MEDIAN(('Anasis Phase II Orig'!AF5:AF16)) -> #NUM! | G74: =MEDIAN(('Anasis Phase II Orig'!AV5:AV16)) -> #NUM! | I74: Median value of alerts across all tools for the time interval of 1,000 mS.
D75: Mode | E75: =MODE(('Anasis Phase II Orig'!P5:P16)) -> #N/A | F75: =MODE('Anasis Phase II Orig'!AF5:AF16) -> #N/A | G75: =MODE('Anasis Phase II Orig'!AV5:AV16) -> #N/A | I75: Mode value of alerts across all tools for the time interval of 1,000 mS.
D76: Range | E76: {=RANGE('Anasis Phase II Orig'!P5:P16)} -> #NAME? | F76: {=RANGE('Anasis Phase II Orig'!AF5:AF16)} -> #NAME? | G76: {=RANGE('Anasis Phase II Orig'!AV5:AV16)} -> #NAME? | I76: Range of alerts across all tools for the time interval of 1,000 mS.
D77: Standard Deviation (SD) | E77: =_xlfn.STDEV.S(('Anasis Phase II Orig'!P5:P16)) -> #DIV/0! | F77: =_xlfn.STDEV.S(('Anasis Phase II Orig'!AF5:AF16)) -> #DIV/0! | G77: =_xlfn.STDEV.S(('Anasis Phase II Orig'!AV5:AV16)) -> #DIV/0! | I77: SD of alerts across all tools for the time interval of 1,000 mS.
D78: Variance | E78: =_xlfn.VAR.S(('Anasis Phase II Orig'!P5:P16)) -> #DIV/0! | F78: =_xlfn.VAR.S(('Anasis Phase II Orig'!AF5:AF16)) -> #DIV/0! | G78: =_xlfn.VAR.S(('Anasis Phase II Orig'!AV5:AV16)) -> #DIV/0! | I78: Variance of alerts across all tools for the time interval of 1,000 mS.
A80: 12 | B80: 500 | D80: Mean | E80: =AVERAGE('Anasis Phase II Orig'!Q5:Q16) -> #DIV/0! | F80: =AVERAGE('Anasis Phase II Orig'!AG5:AG16) -> #DIV/0! | G80: =AVERAGE('Anasis Phase II Orig'!AW5:AW16) -> #DIV/0! | I80: Mean number of alerts across all tools for the time interval of 500 mS.
D81: Median | E81: =MEDIAN(('Anasis Phase II Orig'!Q5:Q16)) -> #NUM! | F81: =MEDIAN(('Anasis Phase II Orig'!AG5:AG16)) -> #NUM! | G81: =MEDIAN(('Anasis Phase II Orig'!AW5:AW16)) -> #NUM! | I81: Median value of alerts across all tools for the time interval of 500 mS.
D82: Mode | E82: =MODE(('Anasis Phase II Orig'!Q5:Q16)) -> #N/A | F82: =MODE('Anasis Phase II Orig'!AG5:AG16) -> #N/A | G82: =MODE('Anasis Phase II Orig'!AW5:AW16) -> #N/A | I82: Mode value of alerts across all tools for the time interval of 500 mS.
D83: Range | E83: {=RANGE('Anasis Phase II Orig'!Q5:Q16)} -> #NAME? | F83: {=RANGE('Anasis Phase II Orig'!AG5:AG16)} -> #NAME? | G83: {=RANGE('Anasis Phase II Orig'!AW5:AW16)} -> #NAME? | I83: Range of alerts across all tools for the time interval of 500mS.
D84: Standard Deviation (SD) | E84: =_xlfn.STDEV.S(('Anasis Phase II Orig'!Q5:Q16)) -> #DIV/0! | F84: =_xlfn.STDEV.S(('Anasis Phase II Orig'!AG5:AG16)) -> #DIV/0! | G84: =_xlfn.STDEV.S(('Anasis Phase II Orig'!AW5:AW16)) -> #DIV/0! | I84: SD of alerts across all tools for the time interval of 500mS.
D85: Variance | E85: =_xlfn.VAR.S(('Anasis Phase II Orig'!Q5:Q16)) -> #DIV/0! | F85: =_xlfn.VAR.S(('Anasis Phase II Orig'!AG5:AG16)) -> #DIV/0! | G85: =_xlfn.VAR.S(('Anasis Phase II Orig'!AW5:AW16)) -> #DIV/0! | I85: Variance of alerts across all tools for the time interval of 500 mS.
A87: 13 | B87: 250 | D87: Mean | E87: =AVERAGE('Anasis Phase II Orig'!R5:R16) -> #DIV/0! | F87: =AVERAGE('Anasis Phase II Orig'!AH5:AH16) -> #DIV/0! | G87: =AVERAGE('Anasis Phase II Orig'!AX5:AX16) -> #DIV/0! | I87: Mean number of alerts across all tools for the time interval of 250 mS.
D88: Median | E88: =MEDIAN(('Anasis Phase II Orig'!R5:R16)) -> #NUM! | F88: =MEDIAN(('Anasis Phase II Orig'!AH5:AH16)) -> #NUM! | G88: =MEDIAN(('Anasis Phase II Orig'!AX5:AX16)) -> #NUM! | I88: Median value of alerts across all tools for the time interval of 250 mS.
D89: Mode | E89: =MODE(('Anasis Phase II Orig'!R5:R16)) -> #N/A | F89: =MODE('Anasis Phase II Orig'!AH5:AH16) -> #N/A | G89: =MODE('Anasis Phase II Orig'!AX5:AX16) -> #N/A | I89: Mode value of alerts across all tools for the time interval of 250 mS.
D90: Range | E90: {=RANGE('Anasis Phase II Orig'!R5:R16)} -> #NAME? | F90: {=RANGE('Anasis Phase II Orig'!AH5:AH16)} -> #NAME? | G90: {=RANGE('Anasis Phase II Orig'!AX5:AX16)} -> #NAME? | I90: Range of alerts across all tools for the time interval of 250 mS.
D91: Standard Deviation (SD) | E91: =_xlfn.STDEV.S(('Anasis Phase II Orig'!R5:R16)) -> #DIV/0! | F91: =_xlfn.STDEV.S(('Anasis Phase II Orig'!AH5:AH16)) -> #DIV/0! | G91: =_xlfn.STDEV.S(('Anasis Phase II Orig'!AX5:AX16)) -> #DIV/0! | I91: SD of alerts across all tools for the time interval of 250 mS.
D92: Variance | E92: =_xlfn.VAR.S(('Anasis Phase II Orig'!R5:R16)) -> #DIV/0! | F92: =_xlfn.VAR.S(('Anasis Phase II Orig'!AH5:AH16)) -> #DIV/0! | G92: =_xlfn.VAR.S(('Anasis Phase II Orig'!AX5:AX16)) -> #DIV/0! | I92: Variance of alerts across all tools for the time interval of 250 mS.
A94: 14 | B94: 10 | D94: Mean | E94: =AVERAGE('Anasis Phase II Orig'!S5:S16) -> #DIV/0! | F94: =AVERAGE('Anasis Phase II Orig'!AI5:AI16) -> #DIV/0! | G94: =AVERAGE('Anasis Phase II Orig'!AY5:AY16) -> #DIV/0! | I94: Mean number of alerts across all tools for the time interval of 10 mS.
D95: Median | E95: =MEDIAN(('Anasis Phase II Orig'!S5:S16)) -> #NUM! | F95: =MEDIAN(('Anasis Phase II Orig'!AI5:AI16)) -> #NUM! | G95: =MEDIAN(('Anasis Phase II Orig'!AY5:AY16)) -> #NUM! | I95: Median value of alerts across all tools for the time interval of 10 mS.
D96: Mode | E96: =MODE(('Anasis Phase II Orig'!S5:S16)) -> #N/A | F96: =MODE('Anasis Phase II Orig'!AI5:AI16) -> #N/A | G96: =MODE('Anasis Phase II Orig'!AY5:AY16) -> #N/A | I96: Mode value of alerts across all tools for the time interval of 10 mS.
D97: Range | E97: {=RANGE('Anasis Phase II Orig'!S5:S16)} -> #NAME? | F97: {=RANGE('Anasis Phase II Orig'!AI5:AI16)} -> #NAME? | G97: {=RANGE('Anasis Phase II Orig'!AY5:AY16)} -> #NAME? | I97: Range of alerts across all tools for the time interval of 10 mS.
D98: Standard Deviation (SD) | E98: =_xlfn.STDEV.S(('Anasis Phase II Orig'!S5:S16)) -> #DIV/0! | F98: =_xlfn.STDEV.S(('Anasis Phase II Orig'!AI5:AI16)) -> #DIV/0! | G98: =_xlfn.STDEV.S(('Anasis Phase II Orig'!AY5:AY16)) -> #DIV/0! | I98: SD of alerts across all tools for the time interval of 10 mS.
D99: Variance | E99: =_xlfn.VAR.S(('Anasis Phase II Orig'!S5:S16)) -> #DIV/0! | F99: =_xlfn.VAR.S(('Anasis Phase II Orig'!AI5:AI16)) -> #DIV/0! | G99: =_xlfn.VAR.S(('Anasis Phase II Orig'!AY5:AY16)) -> #DIV/0! | I99: Variance of alerts across all tools for the time interval of 10 mS.
A101: 15 | B101: 5 | D101: Mean | E101: =AVERAGE('Anasis Phase II Orig'!T5:T16) -> #DIV/0! | F101: =AVERAGE('Anasis Phase II Orig'!AJ5:AJ16) -> #DIV/0! | G101: =AVERAGE('Anasis Phase II Orig'!AZ5:AZ16) -> #DIV/0! | I101: Mean number of alerts across all tools for the time interval of 5 mS.
D102: Median | E102: =MEDIAN(('Anasis Phase II Orig'!T5:T16)) -> #NUM! | F102: =MEDIAN(('Anasis Phase II Orig'!AJ5:AJ16)) -> #NUM! | G102: =MEDIAN(('Anasis Phase II Orig'!AZ5:AZ16)) -> #NUM! | I102: Median value of alerts across all tools for the time interval of 5mS.
D103: Mode | E103: =MODE(('Anasis Phase II Orig'!T5:T16)) -> #N/A | F103: =MODE('Anasis Phase II Orig'!AJ5:AJ16) -> #N/A | G103: =MODE('Anasis Phase II Orig'!AZ5:AZ16) -> #N/A | I103: Mode value of alerts across all tools for the time interval of 5 mS.
D104: Range | E104: {=RANGE('Anasis Phase II Orig'!T5:T16)} -> #NAME? | F104: {=RANGE('Anasis Phase II Orig'!AJ5:AJ16)} -> #NAME? | G104: {=RANGE('Anasis Phase II Orig'!AZ5:AZ16)} -> #NAME? | I104: Range of alerts across all tools for the time interval of 5 mS.
D105: Standard Deviation (SD) | E105: =_xlfn.STDEV.S(('Anasis Phase II Orig'!T5:T16)) -> #DIV/0! | F105: =_xlfn.STDEV.S(('Anasis Phase II Orig'!AJ5:AJ16)) -> #DIV/0! | G105: =_xlfn.STDEV.S(('Anasis Phase II Orig'!AZ5:AZ16)) -> #DIV/0! | I105: SD of alerts across all tools for the time interval of 5 mS.
D106: Variance | E106: =_xlfn.VAR.S(('Anasis Phase II Orig'!T5:T16)) -> #DIV/0! | F106: =_xlfn.VAR.S(('Anasis Phase II Orig'!AJ5:AJ16)) -> #DIV/0! | G106: =_xlfn.VAR.S(('Anasis Phase II Orig'!AZ5:AZ16)) -> #DIV/0! | I106: Variance of alerts across all tools for the time interval of 5 mS.
