Workbook

Sheet Power Screw
A1: Force (KN) | B1: 9000
A2: E (Youngs Modulus) | B2: 73500000000
A3: Yield Stress (Pascal) | B3: 542000000
A4: Factor of Safety | B4: 5
A5: Working Stress | B5: =B3/B4 -> 108400000
A6: Area of Screw | B6: =B1/B5 -> 8.302583e-05
A7: Min Dia (m) | B7: =SQRT((B6*4)/PI()) -> 0.010281623
A8: Min Dia (mm) | B8: =B7*1000 -> 10.281623
A9: Diameter used (mm) | B9: 20 | C9: =B9/1000 -> 0.02 | D9: 0.01
A11: Buckling
A12: c | B12: 1.2
A13: Length (m) | B13: 0.2 | C13: =B13*1000 -> 200
A14: Second moment of area (I)
A15: I | B15: =PI()*D9^4/4 -> 7.8539816e-09
A16: Buckling Force (N) | B16: =B12*PI()^2*B2*B15/B13^2 -> 170922.1
A18: Raising Torque
A19: Friction coefficient | B19: 0.1
A20: Pitch (l) | B20: 3 | C20: =B20/1000 -> 0.003
A21: TR | B21: =((B1*C9)/2)*(C20+(PI()*B19*C9))/(PI()*C9)-(B19*C20) -> 13.296883
A22: Shear stress on threads | B22: =(3*(0.38*B1))/(PI()*C9*1*C20) -> 54430991
A23: Shear Stess due to Torque | B23: =(16*B21)/(PI()*C9^3) -> 8465058.9
A24: Bending Stress on Threads | B24: =(6*(0.38*B1))/(PI()*C9*1*C20) -> 1.0886198e+08

Sheet Gears
A1: Linear Velocity | B1: 10 | C1: =B1/1000 -> 0.01
A2: Pitch | B2: 3 | C2: =B2/1000 -> 0.003
A4: Gear 4 RPM (NL) | B4: =(C1*60)/C2 -> 200
A5: Gear 1 RPM (NF) | B5: 1000 | C5: Driven by motor
A7: Train Value,e | B7: =B4/B5 -> 0.2
A9: Gear Diameter
A10: Gear 2 | B10: 150 | C10: Driven
A11: Gear 4 | B11: 150 | C11: Driven
A12: Gear 1 | B12: 90 | C12: Driving | D12: Pick
A13: Gear 3 | B13: =B7*B10*B11/B12 -> 50 | C13: Driving | D13: Calc
A15: Gear Teeth
A16: Module | B16: 2 | C16: mm | D16: =B16/1000 -> 0.002
A17: Gear 1 | B17: =B12/B16 -> 45 | C17: Teeth
A18: Gear 2 | B18: =B10/B16 -> 75 | C18: Teeth
A19: Gear 3 | B19: =B13/B16 -> 25 | C19: Teeth
A20: Gear 4 | B20: =B11/B16 -> 75 | C20: Teeth
A22: Power | B22: =B23*B24 -> 278.48928 | C22: W
A23: Torque Out (G4) | B23: ='Power Screw'!B21 -> 13.296883 | C23: Nm | D23: =2*PI()/60 -> 0.10471976 | E23: 200 | F23: rpm
A24: Ang Vel out (G4) | B24: =B4*(2*PI()/60) -> 20.943951 | C24: Rad/s
A25: Power (G4) | B25: =B24*B23 -> 278.48928 | C25: W
A27: Torque G3 | B27: =(B23/(B11/1000))*(B13/1000) -> 4.4322945 | C27: Nm
A28: Ang Vel G3 | B28: =B25/B27 -> 62.831853 | C28: Rad/s
A30: Torque G2 | B30: =B25/B31 -> 4.4322945 | C30: Nm
A31: Ang Vel G2 | B31: =B28 -> 62.831853 | C31: Rad/s
A33: Torque G1 | B33: =B22/B34 -> 2.6593767 | C33: Nm
A34: Ang Vel G1 | B34: =D23*B5 -> 104.71976 | C34: Rad/s
A36: Tangential Force
A37: G1 | B37: =B33/0.045 -> 59.09726
A38: G2 | B38: =B30/0.075 -> 59.09726
A40: G3 | B40: =B27/0.025 -> 177.29178
A41: G4 | B41: =B23/0.075 -> 177.29178
A43: Stress on Gears
A45: Face Width | B45: 10 | C45: =B45/1000 -> 0.01
A46: G1 | B46: =(B37/(C45*D16*B47)) -> 7379777.7 | C46: Pa
A47: Form factor | B47: 0.4004
A48: G2 | B48: =(B37/(C45*D16*B49)) -> 6792788.5 | C48: Pa
A49: Form factor | B49: 0.435
A50: G3 | B50: =(B40/(C45*D16*B51)) -> 25957801 | C50: Pa
A51: Form factor | B51: 0.3415
A52: G4 | B52: =(B41/(C45*D16*B53)) -> 20378365 | C52: Pa
A53: Form factor | B53: 0.435
A55: Stress with Dynamic effect
A56: Shaped Profile | B56: 3.56
A58: G1 | B58: Velocity | C58: =B34*(0.09/2) -> 4.712389 | D58: m/s
A59: Kv | B59: =(3.56+SQRT(C58))/3.56 -> 1.6097763
A60: G2 | B60: Velocity | C60: =C58 -> 4.712389 | D60: m/s
A61: Kv | B61: =B59 -> 1.6097763
A62: G3 | B62: Velocity | C62: =B28*(0.05/2) -> 1.5707963 | D62: m/s
A63: Kv | B63: =(3.56+SQRT(C62))/3.56 -> 1.3520545
A64: G4 | B64: Velocity | C64: =C62 -> 1.5707963 | D64: m/s
A65: Kv | B65: =B63 -> 1.3520545
A67: Stress with Dynamic
A68: G1 | B68: =(B37*B59/(C45*D16*B47)) -> 11879792
A69: G2 | B69: =((B61*B37)/(C45*D16*B49)) -> 10934870
A70: G3 | B70: =((B63*B40)/(C45*D16*B51)) -> 35096362
A71: G4 | B71: =((B65*B41)/(C45*D16*B53)) -> 27552661
A73: Yield Stress | B73: 172000000
A74: G1 FOS | B74: =B73/B68 -> 14.478369
A75: G2 FOS | B75: =B73/B69 -> 15.729496
A76: G3 FOS | B76: =B73/B70 -> 4.9007928
A77: G4 FOS | B77: =B73/B71 -> 6.2425911

Sheet Shaft for gears 2 & 3
A1: Using Pressure angle of 20 deg
A2: 20 | B2: =(PI()/180) -> 0.017453293 | C2: =A2*B2 -> 0.34906585
A3: Cos 20 | B3: =COS(C2) -> 0.93969262
A5: Force on Gear | D5: Tangental Force
A6: G1 | B6: =E6/B3 -> 62.88999 | D6: G1 | E6: =Gears!B37 -> 59.09726
A7: G2 | B7: =E7/B3 -> 62.88999 | D7: G2 | E7: =Gears!B38 -> 59.09726
A8: G3 | B8: =E8/B3 -> 188.66997 | D8: G3 | E8: =Gears!B40 -> 177.29178
A9: G4 | B9: =E9/B3 -> 188.66997 | D9: G4 | E9: =Gears!B41 -> 177.29178
A11: Yield Strength of Shaft | C11: 265000000
A12: FoS | C12: 4
A14: Shaft for gear 2 and 3
A15: Maximum Moment | C15: 7.86 | D15: from graph
A16: Maximum Torque | C16: =Gears!B30 -> 4.4322945
A17: k | C17: 0.2
A18: kb | C18: 1.5
A19: kt | C19: 1
A20: E Youngs Modulus | C20: 205000000000 | D20: Gpa
C21: =32*4 -> 128
C22: =PI()*(1-C17)*C11 -> 6.6601764e+08
C23: =C21/C22 -> 1.921871e-07
C24: =SQRT((C18*C15)^2+(C19*C16)^2) -> 12.595608
C25: =(C23*C24)^(1/3) -> 0.013427066 | D25: m | E25: rad
B26: shaft dia | C26: 13.4 | D26: mm | E26: =C26/2 -> 6.7 | F26: =E26/1000 -> 0.0067
B27: shaft length | C27: 0.2 | D27: m
A28: I | B28: =(0.25*PI()*(F26^4)) -> 1.5826653e-09
A29: Defelction | B29: =(B8*C27^3)/(48*C20*B28) -> 9.6918923e-05
A30: Slope | B30: =(B8*C27^2)/(16*C20*B28) -> 0.0014537838
A31: Nc | B31: =(60/2*PI())*(SQRT(9.81/B29)) -> 29984.813 | C31: rpm
A32: 0.75 | B32: =B31*0.75 -> 22488.61 | C32: max rpm is 1000

Sheet Shafts for gear 1 
A1: Using Pressue angle of 20 deg
A2: 20 | B2: =(PI()/180) -> 0.017453293 | C2: =A2*B2 -> 0.34906585
A3: Cos 20 | B3: =COS(C2) -> 0.93969262
A5: Force on Gear | D5: Tangental Force
A6: G1 | B6: =E6/B3 -> 62.88999 | D6: G1 | E6: =Gears!B37 -> 59.09726
A7: G2 | B7: =E7/B3 -> 62.88999 | D7: G2 | E7: =Gears!B38 -> 59.09726
A8: G3 | B8: =E8/B3 -> 188.66997 | D8: G3 | E8: =Gears!B40 -> 177.29178
A9: G4 | B9: =E9/B3 -> 188.66997 | D9: G4 | E9: =Gears!B41 -> 177.29178
A11: Yield Strength of Shaft | C11: 265000000
A12: FoS | C12: 4
A14: Gear 1 shaft
A15: Maximum Moment | C15: 1.572 | D15: from graph
A16: Maximum Torque | C16: =Gears!B33 -> 2.6593767
A17: k | C17: 0.2
A18: kb | C18: 1.5
A19: kt | C19: 1
A20: E Youngs Modulus | C20: 205000000000 | D20: Gpa
C21: =32*4 -> 128
C22: =PI()*(1-C17)*C11 -> 6.6601764e+08
C23: =C21/C22 -> 1.921871e-07
C24: =SQRT((C18*C15)^2+(C19*C16)^2) -> 3.5542156
C25: =(C23*C24)^(1/3) -> 0.0088068919 | D25: m | E25: rad
B26: shaft dia | C26: 0.0088 | D26: m | E26: =C26/2 -> 0.0044 | F26: =E26/1000 -> 4.4e-06
B27: shaft length | C27: 0.1 | D27: m
A28: I | B28: =(0.25*PI()*(E26^4)) -> 2.9437477e-10
A29: Defelction | B29: =(B8*C27^3)/(48*C20*B28) -> 6.5133902e-05
A30: Slope | B30: =(B8*C27^2)/(16*C20*B28) -> 0.0019540171
A31: Nc | B31: =(60/2*PI())*(SQRT(9.81/B29)) -> 36576.495 | C31: rpm
A32: 0.75 | B32: =B31*0.75 -> 27432.371 | C32: max rpm is 1000
