Workbook

Sheet Sheet1
F2: Coefficient RR (𝐶_𝑟𝑟) | G2: Rolling resistance (N) | H2: Vehichle weight (kg) | K2: Frontal area (mm^2) | L2: (m^2) | N2: WLTP P/w ratio | Q2: Air density (ρ) (kg/m^3) | T2: Aero Drag coefficient | W2: MPG
F3: 0.02 | G3: =I5*9.81*F3 -> 64.9422 | H3: Wet weight | I3: 241 | K3: 333505.41 | L3: =K3/1000000 -> 0.33350541 | N3: =SUM(95000/241) -> 394.19087 | Q3: 1.204 | T3: 0.6 | W3: 40.9 | AD3: KWH
H4: Rider + Lugguage | I4: 90
H5: total | I5: =SUM(I3:I4) -> 331 | BN5: =MAX(BN10:BN1810) -> 175.75453
P6: =MIN(P10:P1810) -> -1.4861111 | R6: Resistances | W6: Power | AD6: KE | AH6: Possotive power | AL6: System losses
A7: Triumph sprint ST1050 | S7: Friction | AL7: 0.97 | AM7: 0.99 | AN7: 0.94 | AO7: 0.99 | AP7: 0.94 | AQ7: 0.99 | AR7: 0.97 | BK7: 0.97 | BL7: 0.99 | BM7: 0.94 | BN7: 0.99 | BO7: 0.94 | BP7: 0.99 | BQ7: 0.97
A8: High speed = Aero resistance | E8: Low speed = Rolling resistance | K8: Phase | L8: Total elapsed time | M8: Phase elapsed time | N8: WLTC class 3, version 5, vehicle speed | O8: WLTC class 3, version 5, vehicle speed | P8: WLTC class 3, version 5, acceleration | R8: Acceleration force (N) | S8: Rolling resistance (N) | T8: Aero resistance (N) | U8: Total resistance (N) | V8: Cummulative resistance | W8: Power (W) | X8: Power (KW) | Y8: Negative power values (KW) | Z8: Power (KJ) - Negative made Positive | AA8: Cumulative Power (KJ) - Made possitive | AB8: Kinetic energy (J) | AC8: Kinetic energy (KJ) | AD8: Braking KE = energy where power is negartive (KJ) | AE8: Cummulative Braking KE (KJ) | AF8: Cumulative braking KE (KW/h) | AG8: Power (KJ) - Negative | AH8: Tractive energy (KJ) | AI8: Cummulative Tractive energy (KJ) | AJ8: Cummulative Tractive Kinetic energy (KW/h) | AK8: Tractive - Braking = Aero + RR / Drage forces | AL8: Gear in loss @95% | AM8: Motor in loss @90% | AN8: Controller in loss @85% | AO8: Storage in/out loss @80% | AP8: Controller out loss @ 75% | AQ8: Motor out loss @70% | AR8: Gear out loss @65% | AS8: Final energy out (KJ) | AT8: Final energy out (KW/h) | AU8: Cummulative final energy out (KJ) | AV8: Cummulative final energy out (KW/h) | AX8: Specifications | BJ8: Energy in (KJ) | BK8: Gear in loss @95% | BL8: Motor in loss @90% | BM8: Controller in loss @85% | BN8: Storage in/out loss @80% | BO8: Controller out loss @ 75% | BP8: Motor out loss @70% | BQ8: Gear out loss @65% | BR8: Energy out (KJ) | BS8: Final energy out (KW/h) | BT8: Cummulative final energy out (KJ) | BU8: Cummulative final energy out (KW/h)
B9: KM/h | E9: m/s | K9: Phase | L9: s | M9: s | N9: km/h | O9: m/s | P9: m/s² | AK9: (KJ)
A10: Time | B10: Test 1 | C10: Test 2 | D10: Average | E10: Average | F10: acceleration (m/s ^2) | G10: Acceleration resistance (N) | K10: Low | L10: 0 | M10: 0 | N10: 0 | O10: =N10*1000/3600 -> 0 | P10: =($N11-0)/2/3.6 -> 0 | R10: =$I$5*P10 -> 0 | S10: =$I$5*9.81*$F$3 -> 64.9422 | T10: =(0.5*$L$3*$Q$3*$T$3*O10^2) -> 0 | U10: =R10+S10+T10 -> 64.9422 | V10: =U10 -> 64.9422 | W10: =U10*O10 -> 0 | X10: =W10/1000 -> 0 | Y10: =IF(X10<0, X10, 0) -> 0 | Z10: 0 | AA10: =AG10+0 -> 0 | AB10: =0.5*$I$5*O10^2 -> 0 | AC10: 0 | AD10: =IF(X10<0,AC10,0) -> 0 | AE10: 0 | AF10: =AE10/3600 -> 0 | AG10: =IF(X10<0,X10,0) -> 0 | AH10: =IF(X10>0,AC10,0) -> 0 | AI10: =AH10+0 -> 0 | AJ10: =AI10/3600 -> 0 | AK10: =AH10-AG10 -> 0 | AL10: =AE10*$AL$7 -> 0 | AM10: =AL10*$AM$7 -> 0 | AN10: =AM10*$AN$7 -> 0 | AO10: =AN10*$AO$7 -> 0 | AP10: =AO10*$AP$7 -> 0 | AQ10: =AP10*$AQ$7 -> 0 | AR10: =AQ10*$AR$7 -> 0 | AS10: =AR10 -> 0 | AT10: =AS10/3600 -> 0 | AU10: =AI10-AS10 -> 0 | AV10: =AU10/3600 -> 0 | AX10: ENGINE | BJ10: 0 | BK10: =BJ10*$AL$7 -> 0 | BL10: =BK10*$AM$7 -> 0 | BM10: =BL10*$AN$7 -> 0 | BN10: =BM10*$AO$7 -> 0 | BO10: =BN10*$AP$7 -> 0 | BP10: =BO10*$AQ$7 -> 0 | BQ10: =BP10*$AR$7 -> 0 | BR10: =BQ10 -> 0 | BS10: =BR10/3600 -> 0 | BT10: =BJ10-BR10 -> 0 | BU10: =BT10/3600 -> 0
A11: 0 | B11: 185.72 | C11: 188.44 | D11: =AVERAGE(B11,C11) -> 187.08 | E11: =SUM(D11*1000)/3600 -> 51.966667 | K11: Low | L11: 1 | M11: 1 | N11: 0 | O11: =N11*1000/3600 -> 0 | P11: =($N12-$N10)/2/3.6 -> 0 | R11: =$I$5*P11 -> 0 | S11: =$I$5*9.81*$F$3 -> 64.9422 | T11: =(0.5*$L$3*$Q$3*$T$3*O11^2) -> 0 | U11: =R11+S11+T11 -> 64.9422 | V11: =U11+V10 -> 129.8844 | W11: =U11*O11 -> 0 | X11: =W11/1000 -> 0 | Y11: =IF(X11<0, X11, 0) -> 0 | Z11: 0 | AA11: =-AG11+AA10 -> 0 | AB11: =0.5*$I$5*O11^2 -> 0 | AC11: =AB11/1000 -> 0 | AD11: =IF(X11<0,AC11,0) -> 0 | AE11: =AD11+AE10 -> 0 | AF11: =AE11/3600 -> 0 | AG11: =IF(X11<0,X11,0) -> 0 | AH11: =IF(X11>0,AC11,0) -> 0 | AI11: =AH11+AI10 -> 0 | AJ11: =AI11/3600 -> 0 | AK11: =AH11-AG11 -> 0 | AL11: =AE11*$AL$7 -> 0 | AM11: =AL11*$AM$7 -> 0 | AN11: =AM11*$AN$7 -> 0 | AO11: =AN11*$AO$7 -> 0 | AP11: =AO11*$AP$7 -> 0 | AQ11: =AP11*$AQ$7 -> 0 | AR11: =AQ11*$AR$7 -> 0 | AS11: =AR11 -> 0 | AT11: =AS11/3600 -> 0 | AU11: =AI11-AS11 -> 0 | AV11: =AU11/3600 -> 0 | AX11: Engine (type) | AY11: Liquid-cooled, 4-stroke | BJ11: 0 | BK11: =BJ11*$AL$7 -> 0 | BL11: =BK11*$AM$7 -> 0 | BM11: =BL11*$AN$7 -> 0 | BN11: =BM11*$AO$7 -> 0 | BO11: =BN11*$AP$7 -> 0 | BP11: =BO11*$AQ$7 -> 0 | BQ11: =BP11*$AR$7 -> 0 | BR11: =BQ11 -> 0 | BS11: =BR11/3600 -> 0 | BT11: =BJ11-BR11 -> 0 | BU11: =BT11/3600 -> 0
A12: 0.08 | B12: 184.65 | C12: 188.42 | D12: =AVERAGE(B12,C12) -> 186.535 | E12: =SUM(D12*1000)/3600 -> 51.815278 | F12: =(E12-E11)/0.08 -> -1.8923611 | G12: =Sheet1!$I$5*F12 -> -626.37153 | K12: Low | L12: 2 | M12: 2 | N12: 0 | O12: =N12*1000/3600 -> 0 | P12: =($N13-$N11)/2/3.6 -> 0 | R12: =$I$5*P12 -> 0 | S12: =$I$5*9.81*$F$3 -> 64.9422 | T12: =(0.5*$L$3*$Q$3*$T$3*O12^2) -> 0 | U12: =R12+S12+T12 -> 64.9422 | V12: =U12+V11 -> 194.8266 | W12: =U12*O12 -> 0 | X12: =W12/1000 -> 0 | Y12: =IF(X12<0, X12, 0) -> 0 | Z12: 0 | AA12: =-AG12+AA11 -> 0 | AB12: =0.5*$I$5*O12^2 -> 0 | AC12: =AB12/1000 -> 0 | AD12: =IF(X12<0,AC12,0) -> 0 | AE12: =AD12+AE11 -> 0 | AF12: =AE12/3600 -> 0 | AG12: =IF(X12<0,X12,0) -> 0 | AH12: =IF(X12>0,AC12,0) -> 0 | AI12: =AH12+AI11 -> 0 | AJ12: =AI12/3600 -> 0 | AK12: =AH12-AG12 -> 0 | AL12: =AE12*$AL$7 -> 0 | AM12: =AL12*$AM$7 -> 0 | AN12: =AM12*$AN$7 -> 0 | AO12: =AN12*$AO$7 -> 0 | AP12: =AO12*$AP$7 -> 0 | AQ12: =AP12*$AQ$7 -> 0 | AR12: =AQ12*$AR$7 -> 0 | AS12: =AR12 -> 0 | AT12: =AS12/3600 -> 0 | AU12: =AI12-AS12 -> 0 | AV12: =AU12/3600 -> 0 | AX12: Cylinder arrangement | AY12: 3-cylinders, transverse in-line | BJ12: 0 | BK12: =BJ12*$AL$7 -> 0 | BL12: =BK12*$AM$7 -> 0 | BM12: =BL12*$AN$7 -> 0 | BN12: =BM12*$AO$7 -> 0 | BO12: =BN12*$AP$7 -> 0 | BP12: =BO12*$AQ$7 -> 0 | BQ12: =BP12*$AR$7 -> 0 | BR12: =BQ12 -> 0 | BS12: =BR12/3600 -> 0 | BT12: =BJ12-BR12 -> 0 | BU12: =BT12/3600 -> 0
A13: 0.16 | B13: 183.71 | C13: 187.65 | D13: =AVERAGE(B13,C13) -> 185.68 | E13: =SUM(D13*1000)/3600 -> 51.577778 | F13: =(E13-E12)/0.08 -> -2.96875 | G13: =Sheet1!$I$5*F13 -> -982.65625 | K13: Low | L13: 3 | M13: 3 | N13: 0 | O13: =N13*1000/3600 -> 0 | P13: =($N14-$N12)/2/3.6 -> 0 | R13: =$I$5*P13 -> 0 | S13: =$I$5*9.81*$F$3 -> 64.9422 | T13: =(0.5*$L$3*$Q$3*$T$3*O13^2) -> 0 | U13: =R13+S13+T13 -> 64.9422 | V13: =U13+V12 -> 259.7688 | W13: =U13*O13 -> 0 | X13: =W13/1000 -> 0 | Y13: =IF(X13<0, X13, 0) -> 0 | Z13: 0 | AA13: =-AG13+AA12 -> 0 | AB13: =0.5*$I$5*O13^2 -> 0 | AC13: =AB13/1000 -> 0 | AD13: =IF(X13<0,AC13,0) -> 0 | AE13: =AD13+AE12 -> 0 | AF13: =AE13/3600 -> 0 | AG13: =IF(X13<0,X13,0) -> 0 | AH13: =IF(X13>0,AC13,0) -> 0 | AI13: =AH13+AI12 -> 0 | AJ13: =AI13/3600 -> 0 | AK13: =AH13-AG13 -> 0 | AL13: =AE13*$AL$7 -> 0 | AM13: =AL13*$AM$7 -> 0 | AN13: =AM13*$AN$7 -> 0 | AO13: =AN13*$AO$7 -> 0 | AP13: =AO13*$AP$7 -> 0 | AQ13: =AP13*$AQ$7 -> 0 | AR13: =AQ13*$AR$7 -> 0 | AS13: =AR13 -> 0 | AT13: =AS13/3600 -> 0 | AU13: =AI13-AS13 -> 0 | AV13: =AU13/3600 -> 0 | AX13: Bore & Stroke | AY13: 79,0 x 71,4 mm | BJ13: 0 | BK13: =BJ13*$AL$7 -> 0 | BL13: =BK13*$AM$7 -> 0 | BM13: =BL13*$AN$7 -> 0 | BN13: =BM13*$AO$7 -> 0 | BO13: =BN13*$AP$7 -> 0 | BP13: =BO13*$AQ$7 -> 0 | BQ13: =BP13*$AR$7 -> 0 | BR13: =BQ13 -> 0 | BS13: =BR13/3600 -> 0 | BT13: =BJ13-BR13 -> 0 | BU13: =BT13/3600 -> 0
A14: 0.24 | B14: 183.42 | C14: 187.34 | D14: =AVERAGE(B14,C14) -> 185.38 | E14: =SUM(D14*1000)/3600 -> 51.494444 | F14: =(E14-E13)/0.08 -> -1.0416667 | G14: =Sheet1!$I$5*F14 -> -344.79167 | K14: Low | L14: 4 | M14: 4 | N14: 0 | O14: =N14*1000/3600 -> 0 | P14: =($N15-$N13)/2/3.6 -> 0 | R14: =$I$5*P14 -> 0 | S14: =$I$5*9.81*$F$3 -> 64.9422 | T14: =(0.5*$L$3*$Q$3*$T$3*O14^2) -> 0 | U14: =R14+S14+T14 -> 64.9422 | V14: =U14+V13 -> 324.711 | W14: =U14*O14 -> 0 | X14: =W14/1000 -> 0 | Y14: =IF(X14<0, X14, 0) -> 0 | Z14: 0 | AA14: =-AG14+AA13 -> 0 | AB14: =0.5*$I$5*O14^2 -> 0 | AC14: =AB14/1000 -> 0 | AD14: =IF(X14<0,AC14,0) -> 0 | AE14: =AD14+AE13 -> 0 | AF14: =AE14/3600 -> 0 | AG14: =IF(X14<0,X14,0) -> 0 | AH14: =IF(X14>0,AC14,0) -> 0 | AI14: =AH14+AI13 -> 0 | AJ14: =AI14/3600 -> 0 | AK14: =AH14-AG14 -> 0 | AL14: =AE14*$AL$7 -> 0 | AM14: =AL14*$AM$7 -> 0 | AN14: =AM14*$AN$7 -> 0 | AO14: =AN14*$AO$7 -> 0 | AP14: =AO14*$AP$7 -> 0 | AQ14: =AP14*$AQ$7 -> 0 | AR14: =AQ14*$AR$7 -> 0 | AS14: =AR14 -> 0 | AT14: =AS14/3600 -> 0 | AU14: =AI14-AS14 -> 0 | AV14: =AU14/3600 -> 0 | AX14: Displacement | AY14: 1050 cm³ (64,1 cu. in) | BJ14: 0 | BK14: =BJ14*$AL$7 -> 0 | BL14: =BK14*$AM$7 -> 0 | BM14: =BL14*$AN$7 -> 0 | BN14: =BM14*$AO$7 -> 0 | BO14: =BN14*$AP$7 -> 0 | BP14: =BO14*$AQ$7 -> 0 | BQ14: =BP14*$AR$7 -> 0 | BR14: =BQ14 -> 0 | BS14: =BR14/3600 -> 0 | BT14: =BJ14-BR14 -> 0 | BU14: =BT14/3600 -> 0
A15: 0.32 | B15: 182.89 | C15: 186.19 | D15: =AVERAGE(B15,C15) -> 184.54 | E15: =SUM(D15*1000)/3600 -> 51.261111 | F15: =(E15-E14)/0.08 -> -2.9166667 | G15: =Sheet1!$I$5*F15 -> -965.41667 | K15: Low | L15: 5 | M15: 5 | N15: 0 | O15: =N15*1000/3600 -> 0 | P15: =($N16-$N14)/2/3.6 -> 0 | R15: =$I$5*P15 -> 0 | S15: =$I$5*9.81*$F$3 -> 64.9422 | T15: =(0.5*$L$3*$Q$3*$T$3*O15^2) -> 0 | U15: =R15+S15+T15 -> 64.9422 | V15: =U15+V14 -> 389.6532 | W15: =U15*O15 -> 0 | X15: =W15/1000 -> 0 | Y15: =IF(X15<0, X15, 0) -> 0 | Z15: 0 | AA15: =-AG15+AA14 -> 0 | AB15: =0.5*$I$5*O15^2 -> 0 | AC15: =AB15/1000 -> 0 | AD15: =IF(X15<0,AC15,0) -> 0 | AE15: =AD15+AE14 -> 0 | AF15: =AE15/3600 -> 0 | AG15: =IF(X15<0,X15,0) -> 0 | AH15: =IF(X15>0,AC15,0) -> 0 | AI15: =AH15+AI14 -> 0 | AJ15: =AI15/3600 -> 0 | AK15: =AH15-AG15 -> 0 | AL15: =AE15*$AL$7 -> 0 | AM15: =AL15*$AM$7 -> 0 | AN15: =AM15*$AN$7 -> 0 | AO15: =AN15*$AO$7 -> 0 | AP15: =AO15*$AP$7 -> 0 | AQ15: =AP15*$AQ$7 -> 0 | AR15: =AQ15*$AR$7 -> 0 | AS15: =AR15 -> 0 | AT15: =AS15/3600 -> 0 | AU15: =AI15-AS15 -> 0 | AV15: =AU15/3600 -> 0 | AX15: Compression ratio | AY15: 12.0:1 | BJ15: 0 | BK15: =BJ15*$AL$7 -> 0 | BL15: =BK15*$AM$7 -> 0 | BM15: =BL15*$AN$7 -> 0 | BN15: =BM15*$AO$7 -> 0 | BO15: =BN15*$AP$7 -> 0 | BP15: =BO15*$AQ$7 -> 0 | BQ15: =BP15*$AR$7 -> 0 | BR15: =BQ15 -> 0 | BS15: =BR15/3600 -> 0 | BT15: =BJ15-BR15 -> 0 | BU15: =BT15/3600 -> 0
A16: 0.4 | B16: 181.99 | C16: 185.52 | D16: =AVERAGE(B16,C16) -> 183.755 | E16: =SUM(D16*1000)/3600 -> 51.043056 | F16: =(E16-E15)/0.08 -> -2.7256944 | G16: =Sheet1!$I$5*F16 -> -902.20486 | K16: Low | L16: 6 | M16: 6 | N16: 0 | O16: =N16*1000/3600 -> 0 | P16: =($N17-$N15)/2/3.6 -> 0 | R16: =$I$5*P16 -> 0 | S16: =$I$5*9.81*$F$3 -> 64.9422 | T16: =(0.5*$L$3*$Q$3*$T$3*O16^2) -> 0 | U16: =R16+S16+T16 -> 64.9422 | V16: =U16+V15 -> 454.5954 | W16: =U16*O16 -> 0 | X16: =W16/1000 -> 0 | Y16: =IF(X16<0, X16, 0) -> 0 | Z16: 0 | AA16: =-AG16+AA15 -> 0 | AB16: =0.5*$I$5*O16^2 -> 0 | AC16: =AB16/1000 -> 0 | AD16: =IF(X16<0,AC16,0) -> 0 | AE16: =AD16+AE15 -> 0 | AF16: =AE16/3600 -> 0 | AG16: =IF(X16<0,X16,0) -> 0 | AH16: =IF(X16>0,AC16,0) -> 0 | AI16: =AH16+AI15 -> 0 | AJ16: =AI16/3600 -> 0 | AK16: =AH16-AG16 -> 0 | AL16: =AE16*$AL$7 -> 0 | AM16: =AL16*$AM$7 -> 0 | AN16: =AM16*$AN$7 -> 0 | AO16: =AN16*$AO$7 -> 0 | AP16: =AO16*$AP$7 -> 0 | AQ16: =AP16*$AQ$7 -> 0 | AR16: =AQ16*$AR$7 -> 0 | AS16: =AR16 -> 0 | AT16: =AS16/3600 -> 0 | AU16: =AI16-AS16 -> 0 | AV16: =AU16/3600 -> 0 | AX16: Valve train | AY16: Chain driven DOHC, 4 valves per cylinder | BJ16: 0 | BK16: =BJ16*$AL$7 -> 0 | BL16: =BK16*$AM$7 -> 0 | BM16: =BL16*$AN$7 -> 0 | BN16: =BM16*$AO$7 -> 0 | BO16: =BN16*$AP$7 -> 0 | BP16: =BO16*$AQ$7 -> 0 | BQ16: =BP16*$AR$7 -> 0 | BR16: =BQ16 -> 0 | BS16: =BR16/3600 -> 0 | BT16: =BJ16-BR16 -> 0 | BU16: =BT16/3600 -> 0
A17: 0.48 | B17: 182.04 | C17: 184.71 | D17: =AVERAGE(B17,C17) -> 183.375 | E17: =SUM(D17*1000)/3600 -> 50.9375 | F17: =(E17-E16)/0.08 -> -1.3194444 | G17: =Sheet1!$I$5*F17 -> -436.73611 | K17: Low | L17: 7 | M17: 7 | N17: 0 | O17: =N17*1000/3600 -> 0 | P17: =($N18-$N16)/2/3.6 -> 0 | R17: =$I$5*P17 -> 0 | S17: =$I$5*9.81*$F$3 -> 64.9422 | T17: =(0.5*$L$3*$Q$3*$T$3*O17^2) -> 0 | U17: =R17+S17+T17 -> 64.9422 | V17: =U17+V16 -> 519.5376 | W17: =U17*O17 -> 0 | X17: =W17/1000 -> 0 | Y17: =IF(X17<0, X17, 0) -> 0 | Z17: 0 | AA17: =-AG17+AA16 -> 0 | AB17: =0.5*$I$5*O17^2 -> 0 | AC17: =AB17/1000 -> 0 | AD17: =IF(X17<0,AC17,0) -> 0 | AE17: =AD17+AE16 -> 0 | AF17: =AE17/3600 -> 0 | AG17: =IF(X17<0,X17,0) -> 0 | AH17: =IF(X17>0,AC17,0) -> 0 | AI17: =AH17+AI16 -> 0 | AJ17: =AI17/3600 -> 0 | AK17: =AH17-AG17 -> 0 | AL17: =AE17*$AL$7 -> 0 | AM17: =AL17*$AM$7 -> 0 | AN17: =AM17*$AN$7 -> 0 | AO17: =AN17*$AO$7 -> 0 | AP17: =AO17*$AP$7 -> 0 | AQ17: =AP17*$AQ$7 -> 0 | AR17: =AQ17*$AR$7 -> 0 | AS17: =AR17 -> 0 | AT17: =AS17/3600 -> 0 | AU17: =AI17-AS17 -> 0 | AV17: =AU17/3600 -> 0 | AX17: Max. power | AY17: 125,0 hp (91,9 kW) / 9250 rpm1 | BJ17: 0 | BK17: =BJ17*$AL$7 -> 0 | BL17: =BK17*$AM$7 -> 0 | BM17: =BL17*$AN$7 -> 0 | BN17: =BM17*$AO$7 -> 0 | BO17: =BN17*$AP$7 -> 0 | BP17: =BO17*$AQ$7 -> 0 | BQ17: =BP17*$AR$7 -> 0 | BR17: =BQ17 -> 0 | BS17: =BR17/3600 -> 0 | BT17: =BJ17-BR17 -> 0 | BU17: =BT17/3600 -> 0
A18: 0.56 | B18: 181.05 | C18: 183.92 | D18: =AVERAGE(B18,C18) -> 182.485 | E18: =SUM(D18*1000)/3600 -> 50.690278 | F18: =(E18-E17)/0.08 -> -3.0902778 | G18: =Sheet1!$I$5*F18 -> -1022.8819 | K18: Low | L18: 8 | M18: 8 | N18: 0 | O18: =N18*1000/3600 -> 0 | P18: =($N19-$N17)/2/3.6 -> 0 | R18: =$I$5*P18 -> 0 | S18: =$I$5*9.81*$F$3 -> 64.9422 | T18: =(0.5*$L$3*$Q$3*$T$3*O18^2) -> 0 | U18: =R18+S18+T18 -> 64.9422 | V18: =U18+V17 -> 584.4798 | W18: =U18*O18 -> 0 | X18: =W18/1000 -> 0 | Y18: =IF(X18<0, X18, 0) -> 0 | Z18: 0 | AA18: =-AG18+AA17 -> 0 | AB18: =0.5*$I$5*O18^2 -> 0 | AC18: =AB18/1000 -> 0 | AD18: =IF(X18<0,AC18,0) -> 0 | AE18: =AD18+AE17 -> 0 | AF18: =AE18/3600 -> 0 | AG18: =IF(X18<0,X18,0) -> 0 | AH18: =IF(X18>0,AC18,0) -> 0 | AI18: =AH18+AI17 -> 0 | AJ18: =AI18/3600 -> 0 | AK18: =AH18-AG18 -> 0 | AL18: =AE18*$AL$7 -> 0 | AM18: =AL18*$AM$7 -> 0 | AN18: =AM18*$AN$7 -> 0 | AO18: =AN18*$AO$7 -> 0 | AP18: =AO18*$AP$7 -> 0 | AQ18: =AP18*$AQ$7 -> 0 | AR18: =AQ18*$AR$7 -> 0 | AS18: =AR18 -> 0 | AT18: =AS18/3600 -> 0 | AU18: =AI18-AS18 -> 0 | AV18: =AU18/3600 -> 0 | AY18: 125,0 hp (91,9 kW) / 9100 rpm2 | BJ18: 0 | BK18: =BJ18*$AL$7 -> 0 | BL18: =BK18*$AM$7 -> 0 | BM18: =BL18*$AN$7 -> 0 | BN18: =BM18*$AO$7 -> 0 | BO18: =BN18*$AP$7 -> 0 | BP18: =BO18*$AQ$7 -> 0 | BQ18: =BP18*$AR$7 -> 0 | BR18: =BQ18 -> 0 | BS18: =BR18/3600 -> 0 | BT18: =BJ18-BR18 -> 0 | BU18: =BT18/3600 -> 0
A19: 0.64 | B19: 180.07 | C19: 183.36 | D19: =AVERAGE(B19,C19) -> 181.715 | E19: =SUM(D19*1000)/3600 -> 50.476389 | F19: =(E19-E18)/0.08 -> -2.6736111 | G19: =Sheet1!$I$5*F19 -> -884.96528 | K19: Low | L19: 9 | M19: 9 | N19: 0 | O19: =N19*1000/3600 -> 0 | P19: =($N20-$N18)/2/3.6 -> 0 | R19: =$I$5*P19 -> 0 | S19: =$I$5*9.81*$F$3 -> 64.9422 | T19: =(0.5*$L$3*$Q$3*$T$3*O19^2) -> 0 | U19: =R19+S19+T19 -> 64.9422 | V19: =U19+V18 -> 649.422 | W19: =U19*O19 -> 0 | X19: =W19/1000 -> 0 | Y19: =IF(X19<0, X19, 0) -> 0 | Z19: 0 | AA19: =-AG19+AA18 -> 0 | AB19: =0.5*$I$5*O19^2 -> 0 | AC19: =AB19/1000 -> 0 | AD19: =IF(X19<0,AC19,0) -> 0 | AE19: =AD19+AE18 -> 0 | AF19: =AE19/3600 -> 0 | AG19: =IF(X19<0,X19,0) -> 0 | AH19: =IF(X19>0,AC19,0) -> 0 | AI19: =AH19+AI18 -> 0 | AJ19: =AI19/3600 -> 0 | AK19: =AH19-AG19 -> 0 | AL19: =AE19*$AL$7 -> 0 | AM19: =AL19*$AM$7 -> 0 | AN19: =AM19*$AN$7 -> 0 | AO19: =AN19*$AO$7 -> 0 | AP19: =AO19*$AP$7 -> 0 | AQ19: =AP19*$AQ$7 -> 0 | AR19: =AQ19*$AR$7 -> 0 | AS19: =AR19 -> 0 | AT19: =AS19/3600 -> 0 | AU19: =AI19-AS19 -> 0 | AV19: =AU19/3600 -> 0 | AY19: 127,0 hp (93,4 kW) / 9250 rpm3 | BJ19: 0 | BK19: =BJ19*$AL$7 -> 0 | BL19: =BK19*$AM$7 -> 0 | BM19: =BL19*$AN$7 -> 0 | BN19: =BM19*$AO$7 -> 0 | BO19: =BN19*$AP$7 -> 0 | BP19: =BO19*$AQ$7 -> 0 | BQ19: =BP19*$AR$7 -> 0 | BR19: =BQ19 -> 0 | BS19: =BR19/3600 -> 0 | BT19: =BJ19-BR19 -> 0 | BU19: =BT19/3600 -> 0
A20: 0.72 | B20: 180.16 | C20: 182.35 | D20: =AVERAGE(B20,C20) -> 181.255 | E20: =SUM(D20*1000)/3600 -> 50.348611 | F20: =(E20-E19)/0.08 -> -1.5972222 | G20: =Sheet1!$I$5*F20 -> -528.68056 | K20: Low | L20: 10 | M20: 10 | N20: 0 | O20: =N20*1000/3600 -> 0 | P20: =($N21-$N19)/2/3.6 -> 0 | R20: =$I$5*P20 -> 0 | S20: =$I$5*9.81*$F$3 -> 64.9422 | T20: =(0.5*$L$3*$Q$3*$T$3*O20^2) -> 0 | U20: =R20+S20+T20 -> 64.9422 | V20: =U20+V19 -> 714.3642 | W20: =U20*O20 -> 0 | X20: =W20/1000 -> 0 | Y20: =IF(X20<0, X20, 0) -> 0 | Z20: 0 | AA20: =-AG20+AA19 -> 0 | AB20: =0.5*$I$5*O20^2 -> 0 | AC20: =AB20/1000 -> 0 | AD20: =IF(X20<0,AC20,0) -> 0 | AE20: =AD20+AE19 -> 0 | AF20: =AE20/3600 -> 0 | AG20: =IF(X20<0,X20,0) -> 0 | AH20: =IF(X20>0,AC20,0) -> 0 | AI20: =AH20+AI19 -> 0 | AJ20: =AI20/3600 -> 0 | AK20: =AH20-AG20 -> 0 | AL20: =AE20*$AL$7 -> 0 | AM20: =AL20*$AM$7 -> 0 | AN20: =AM20*$AN$7 -> 0 | AO20: =AN20*$AO$7 -> 0 | AP20: =AO20*$AP$7 -> 0 | AQ20: =AP20*$AQ$7 -> 0 | AR20: =AQ20*$AR$7 -> 0 | AS20: =AR20 -> 0 | AT20: =AS20/3600 -> 0 | AU20: =AI20-AS20 -> 0 | AV20: =AU20/3600 -> 0 | AY20: 129,0 hp (95 kW) / 9250 rpm4 | BJ20: 0 | BK20: =BJ20*$AL$7 -> 0 | BL20: =BK20*$AM$7 -> 0 | BM20: =BL20*$AN$7 -> 0 | BN20: =BM20*$AO$7 -> 0 | BO20: =BN20*$AP$7 -> 0 | BP20: =BO20*$AQ$7 -> 0 | BQ20: =BP20*$AR$7 -> 0 | BR20: =BQ20 -> 0 | BS20: =BR20/3600 -> 0 | BT20: =BJ20-BR20 -> 0 | BU20: =BT20/3600 -> 0
A21: 0.8 | B21: 179.07 | C21: 181.73 | D21: =AVERAGE(B21,C21) -> 180.4 | E21: =SUM(D21*1000)/3600 -> 50.111111 | F21: =(E21-E20)/0.08 -> -2.96875 | G21: =Sheet1!$I$5*F21 -> -982.65625 | K21: Low | L21: 11 | M21: 11 | N21: 0 | O21: =N21*1000/3600 -> 0 | P21: =($N22-$N20)/2/3.6 -> 0.027777778 | R21: =$I$5*P21 -> 9.1944444 | S21: =$I$5*9.81*$F$3 -> 64.9422 | T21: =(0.5*$L$3*$Q$3*$T$3*O21^2) -> 0 | U21: =R21+S21+T21 -> 74.136644 | V21: =U21+V20 -> 788.50084 | W21: =U21*O21 -> 0 | X21: =W21/1000 -> 0 | Y21: =IF(X21<0, X21, 0) -> 0 | Z21: 0 | AA21: =-AG21+AA20 -> 0 | AB21: =0.5*$I$5*O21^2 -> 0 | AC21: =AB21/1000 -> 0 | AD21: =IF(X21<0,AC21,0) -> 0 | AE21: =AD21+AE20 -> 0 | AF21: =AE21/3600 -> 0 | AG21: =IF(X21<0,X21,0) -> 0 | AH21: =IF(X21>0,AC21,0) -> 0 | AI21: =AH21+AI20 -> 0 | AJ21: =AI21/3600 -> 0 | AK21: =AH21-AG21 -> 0 | AL21: =AE21*$AL$7 -> 0 | AM21: =AL21*$AM$7 -> 0 | AN21: =AM21*$AN$7 -> 0 | AO21: =AN21*$AO$7 -> 0 | AP21: =AO21*$AP$7 -> 0 | AQ21: =AP21*$AQ$7 -> 0 | AR21: =AQ21*$AR$7 -> 0 | AS21: =AR21 -> 0 | AT21: =AS21/3600 -> 0 | AU21: =AI21-AS21 -> 0 | AV21: =AU21/3600 -> 0 | AX21: Max. torque | AY21: 104,0 Nm (10,6 kg*m) / 5000 rpm5 | BJ21: 0 | BK21: =BJ21*$AL$7 -> 0 | BL21: =BK21*$AM$7 -> 0 | BM21: =BL21*$AN$7 -> 0 | BN21: =BM21*$AO$7 -> 0 | BO21: =BN21*$AP$7 -> 0 | BP21: =BO21*$AQ$7 -> 0 | BQ21: =BP21*$AR$7 -> 0 | BR21: =BQ21 -> 0 | BS21: =BR21/3600 -> 0 | BT21: =BJ21-BR21 -> 0 | BU21: =BT21/3600 -> 0
A22: 0.88 | B22: 178.47 | C22: 180.96 | D22: =AVERAGE(B22,C22) -> 179.715 | E22: =SUM(D22*1000)/3600 -> 49.920833 | F22: =(E22-E21)/0.08 -> -2.3784722 | G22: =$I$5*F22 -> -787.27431 | K22: Low | L22: 12 | M22: 12 | N22: 0.2 | O22: =N22*1000/3600 -> 0.055555556 | P22: =($N23-$N21)/2/3.6 -> 0.23611111 | R22: =$I$5*P22 -> 78.152778 | S22: =$I$5*9.81*$F$3 -> 64.9422 | T22: =(0.5*$L$3*$Q$3*$T$3*O22^2) -> 0.00037179677 | U22: =R22+S22+T22 -> 143.09535 | V22: =U22+V21 -> 931.59619 | W22: =U22*O22 -> 7.9497416 | X22: =W22/1000 -> 0.0079497416 | Y22: =IF(X22<0, X22, 0) -> 0 | Z22: 0 | AA22: =-AG22+AA21 -> 0 | AB22: =0.5*$I$5*O22^2 -> 0.51080247 | AC22: =AB22/1000 -> 0.00051080247 | AD22: =IF(X22<0,AC22,0) -> 0 | AE22: =AD22+AE21 -> 0 | AF22: =AE22/3600 -> 0 | AG22: =IF(X22<0,X22,0) -> 0 | AH22: =IF(X22>0,AC22,0) -> 0.00051080247 | AI22: =AH22+AI21 -> 0.00051080247 | AJ22: =AI22/3600 -> 1.4188957e-07 | AK22: =AH22-AG22 -> 0.00051080247 | AL22: =AE22*$AL$7 -> 0 | AM22: =AL22*$AM$7 -> 0 | AN22: =AM22*$AN$7 -> 0 | AO22: =AN22*$AO$7 -> 0 | AP22: =AO22*$AP$7 -> 0 | AQ22: =AP22*$AQ$7 -> 0 | AR22: =AQ22*$AR$7 -> 0 | AS22: =AR22 -> 0 | AT22: =AS22/3600 -> 0 | AU22: =AI22-AS22 -> 0.00051080247 | AV22: =AU22/3600 -> 1.4188957e-07 | AY22: 105,0 Nm (10,7 kg*m) / 7500 rpm6 | BJ22: 0 | BK22: =BJ22*$AL$7 -> 0 | BL22: =BK22*$AM$7 -> 0 | BM22: =BL22*$AN$7 -> 0 | BN22: =BM22*$AO$7 -> 0 | BO22: =BN22*$AP$7 -> 0 | BP22: =BO22*$AQ$7 -> 0 | BQ22: =BP22*$AR$7 -> 0 | BR22: =BQ22 -> 0 | BS22: =BR22/3600 -> 0 | BT22: =BJ22-BR22 -> 0 | BU22: =BT22/3600 -> 0
A23: 0.96 | B23: 177.64 | C23: 180.35 | D23: =AVERAGE(B23,C23) -> 178.995 | E23: =SUM(D23*1000)/3600 -> 49.720833 | F23: =(E23-E22)/0.08 -> -2.5 | G23: =Sheet1!$I$5*F23 -> -827.5 | K23: Low | L23: 13 | M23: 13 | N23: 1.7 | O23: =N23*1000/3600 -> 0.47222222 | P23: =($N24-$N22)/2/3.6 -> 0.72222222 | R23: =$I$5*P23 -> 239.05556 | S23: =$I$5*9.81*$F$3 -> 64.9422 | T23: =(0.5*$L$3*$Q$3*$T$3*O23^2) -> 0.026862317 | U23: =R23+S23+T23 -> 304.02462 | V23: =U23+V22 -> 1235.6208 | W23: =U23*O23 -> 143.56718 | X23: =W23/1000 -> 0.14356718 | Y23: =IF(X23<0, X23, 0) -> 0 | Z23: 0 | AA23: =-AG23+AA22 -> 0 | AB23: =0.5*$I$5*O23^2 -> 36.905478 | AC23: =AB23/1000 -> 0.036905478 | AD23: =IF(X23<0,AC23,0) -> 0 | AE23: =AD23+AE22 -> 0 | AF23: =AE23/3600 -> 0 | AG23: =IF(X23<0,X23,0) -> 0 | AH23: =IF(X23>0,AC23,0) -> 0.036905478 | AI23: =AH23+AI22 -> 0.037416281 | AJ23: =AI23/3600 -> 1.0393411e-05 | AK23: =AH23-AG23 -> 0.036905478 | AL23: =AE23*$AL$7 -> 0 | AM23: =AL23*$AM$7 -> 0 | AN23: =AM23*$AN$7 -> 0 | AO23: =AN23*$AO$7 -> 0 | AP23: =AO23*$AP$7 -> 0 | AQ23: =AP23*$AQ$7 -> 0 | AR23: =AQ23*$AR$7 -> 0 | AS23: =AR23 -> 0 | AT23: =AS23/3600 -> 0 | AU23: =AI23-AS23 -> 0.037416281 | AV23: =AU23/3600 -> 1.0393411e-05 | AY23: 107,0 Nm (10,9 kg*m) / 7500 rpm7 | BJ23: 0 | BK23: =BJ23*$AL$7 -> 0 | BL23: =BK23*$AM$7 -> 0 | BM23: =BL23*$AN$7 -> 0 | BN23: =BM23*$AO$7 -> 0 | BO23: =BN23*$AP$7 -> 0 | BP23: =BO23*$AQ$7 -> 0 | BQ23: =BP23*$AR$7 -> 0 | BR23: =BQ23 -> 0 | BS23: =BR23/3600 -> 0 | BT23: =BJ23-BR23 -> 0 | BU23: =BT23/3600 -> 0
A24: 1.04 | B24: 177.32 | C24: 179.51 | D24: =AVERAGE(B24,C24) -> 178.415 | E24: =SUM(D24*1000)/3600 -> 49.559722 | F24: =(E24-E23)/0.08 -> -2.0138889 | G24: =Sheet1!$I$5*F24 -> -666.59722 | K24: Low | L24: 14 | M24: 14 | N24: 5.4 | O24: =N24*1000/3600 -> 1.5 | P24: =($N25-$N23)/2/3.6 -> 1.1388889 | R24: =$I$5*P24 -> 376.97222 | S24: =$I$5*9.81*$F$3 -> 64.9422 | T24: =(0.5*$L$3*$Q$3*$T$3*O24^2) -> 0.27103985 | U24: =R24+S24+T24 -> 442.18546 | V24: =U24+V23 -> 1677.8063 | W24: =U24*O24 -> 663.27819 | X24: =W24/1000 -> 0.66327819 | Y24: =IF(X24<0, X24, 0) -> 0 | Z24: 0 | AA24: =-AG24+AA23 -> 0 | AB24: =0.5*$I$5*O24^2 -> 372.375 | AC24: =AB24/1000 -> 0.372375 | AD24: =IF(X24<0,AC24,0) -> 0 | AE24: =AD24+AE23 -> 0 | AF24: =AE24/3600 -> 0 | AG24: =IF(X24<0,X24,0) -> 0 | AH24: =IF(X24>0,AC24,0) -> 0.372375 | AI24: =AH24+AI23 -> 0.40979128 | AJ24: =AI24/3600 -> 0.00011383091 | AK24: =AH24-AG24 -> 0.372375 | AL24: =AE24*$AL$7 -> 0 | AM24: =AL24*$AM$7 -> 0 | AN24: =AM24*$AN$7 -> 0 | AO24: =AN24*$AO$7 -> 0 | AP24: =AO24*$AP$7 -> 0 | AQ24: =AP24*$AQ$7 -> 0 | AR24: =AQ24*$AR$7 -> 0 | AS24: =AR24 -> 0 | AT24: =AS24/3600 -> 0 | AU24: =AI24-AS24 -> 0.40979128 | AV24: =AU24/3600 -> 0.00011383091 | AY24: 103,0 Nm (10,5 kg*m) / 7500 rpm8 | BJ24: 0 | BK24: =BJ24*$AL$7 -> 0 | BL24: =BK24*$AM$7 -> 0 | BM24: =BL24*$AN$7 -> 0 | BN24: =BM24*$AO$7 -> 0 | BO24: =BN24*$AP$7 -> 0 | BP24: =BO24*$AQ$7 -> 0 | BQ24: =BP24*$AR$7 -> 0 | BR24: =BQ24 -> 0 | BS24: =BR24/3600 -> 0 | BT24: =BJ24-BR24 -> 0 | BU24: =BT24/3600 -> 0
A25: 1.12 | B25: 176.89 | C25: 178.62 | D25: =AVERAGE(B25,C25) -> 177.755 | E25: =SUM(D25*1000)/3600 -> 49.376389 | F25: =(E25-E24)/0.08 -> -2.2916667 | G25: =Sheet1!$I$5*F25 -> -758.54167 | K25: Low | L25: 15 | M25: 15 | N25: 9.9 | O25: =N25*1000/3600 -> 2.75 | P25: =($N26-$N24)/2/3.6 -> 1.0694444 | R25: =$I$5*P25 -> 353.98611 | S25: =$I$5*9.81*$F$3 -> 64.9422 | T25: =(0.5*$L$3*$Q$3*$T$3*O25^2) -> 0.91099504 | U25: =R25+S25+T25 -> 419.83931 | V25: =U25+V24 -> 2097.6456 | W25: =U25*O25 -> 1154.5581 | X25: =W25/1000 -> 1.1545581 | Y25: =IF(X25<0, X25, 0) -> 0 | Z25: 0 | AA25: =-AG25+AA24 -> 0 | AB25: =0.5*$I$5*O25^2 -> 1251.5938 | AC25: =AB25/1000 -> 1.2515938 | AD25: =IF(X25<0,AC25,0) -> 0 | AE25: =AD25+AE24 -> 0 | AF25: =AE25/3600 -> 0 | AG25: =IF(X25<0,X25,0) -> 0 | AH25: =IF(X25>0,AC25,0) -> 1.2515938 | AI25: =AH25+AI24 -> 1.661385 | AJ25: =AI25/3600 -> 0.00046149584 | AK25: =AH25-AG25 -> 1.2515938 | AL25: =AE25*$AL$7 -> 0 | AM25: =AL25*$AM$7 -> 0 | AN25: =AM25*$AN$7 -> 0 | AO25: =AN25*$AO$7 -> 0 | AP25: =AO25*$AP$7 -> 0 | AQ25: =AP25*$AQ$7 -> 0 | AR25: =AQ25*$AR$7 -> 0 | AS25: =AR25 -> 0 | AT25: =AS25/3600 -> 0 | AU25: =AI25-AS25 -> 1.661385 | AV25: =AU25/3600 -> 0.00046149584 | AX25: Acceleration 0 to 100 km/h (0-60 mph) | AY25: 3,38 sec.9 | BC25: Rate = 4.7 Kj/s | BJ25: 0 | BK25: =BJ25*$AL$7 -> 0 | BL25: =BK25*$AM$7 -> 0 | BM25: =BL25*$AN$7 -> 0 | BN25: =BM25*$AO$7 -> 0 | BO25: =BN25*$AP$7 -> 0 | BP25: =BO25*$AQ$7 -> 0 | BQ25: =BP25*$AR$7 -> 0 | BR25: =BQ25 -> 0 | BS25: =BR25/3600 -> 0 | BT25: =BJ25-BR25 -> 0 | BU25: =BT25/3600 -> 0
A26: 1.2 | B26: 175.67 | C26: 178.05 | D26: =AVERAGE(B26,C26) -> 176.86 | E26: =SUM(D26*1000)/3600 -> 49.127778 | F26: =(E26-E25)/0.08 -> -3.1076389 | G26: =Sheet1!$I$5*F26 -> -1028.6285 | K26: Low | L26: 16 | M26: 16 | N26: 13.1 | O26: =N26*1000/3600 -> 3.6388889 | P26: =($N27-$N25)/2/3.6 -> 0.97222222 | R26: =$I$5*P26 -> 321.80556 | S26: =$I$5*9.81*$F$3 -> 64.9422 | T26: =(0.5*$L$3*$Q$3*$T$3*O26^2) -> 1.5951011 | U26: =R26+S26+T26 -> 388.34286 | V26: =U26+V25 -> 2485.9884 | W26: =U26*O26 -> 1413.1365 | X26: =W26/1000 -> 1.4131365 | Y26: =IF(X26<0, X26, 0) -> 0 | Z26: 0 | AA26: =-AG26+AA25 -> 0 | AB26: =0.5*$I$5*O26^2 -> 2191.4703 | AC26: =AB26/1000 -> 2.1914703 | AD26: =IF(X26<0,AC26,0) -> 0 | AE26: =AD26+AE25 -> 0 | AF26: =AE26/3600 -> 0 | AG26: =IF(X26<0,X26,0) -> 0 | AH26: =IF(X26>0,AC26,0) -> 2.1914703 | AI26: =AH26+AI25 -> 3.8528553 | AJ26: =AI26/3600 -> 0.0010702376 | AK26: =AH26-AG26 -> 2.1914703 | AL26: =AE26*$AL$7 -> 0 | AM26: =AL26*$AM$7 -> 0 | AN26: =AM26*$AN$7 -> 0 | AO26: =AN26*$AO$7 -> 0 | AP26: =AO26*$AP$7 -> 0 | AQ26: =AP26*$AQ$7 -> 0 | AR26: =AQ26*$AR$7 -> 0 | AS26: =AR26 -> 0 | AT26: =AS26/3600 -> 0 | AU26: =AI26-AS26 -> 3.8528553 | AV26: =AU26/3600 -> 0.0010702376 | AX26: Top speed | AY26: 257 km/h (160 mph)10 | BJ26: 0 | BK26: =BJ26*$AL$7 -> 0 | BL26: =BK26*$AM$7 -> 0 | BM26: =BL26*$AN$7 -> 0 | BN26: =BM26*$AO$7 -> 0 | BO26: =BN26*$AP$7 -> 0 | BP26: =BO26*$AQ$7 -> 0 | BQ26: =BP26*$AR$7 -> 0 | BR26: =BQ26 -> 0 | BS26: =BR26/3600 -> 0 | BT26: =BJ26-BR26 -> 0 | BU26: =BT26/3600 -> 0
A27: 1.28 | B27: 175.06 | C27: 177.46 | D27: =AVERAGE(B27,C27) -> 176.26 | E27: =SUM(D27*1000)/3600 -> 48.961111 | F27: =(E27-E26)/0.08 -> -2.0833333 | G27: =Sheet1!$I$5*F27 -> -689.58333 | K27: Low | L27: 17 | M27: 17 | N27: 16.9 | O27: =N27*1000/3600 -> 4.6944444 | P27: =($N28-$N26)/2/3.6 -> 1.1944444 | R27: =$I$5*P27 -> 395.36111 | S27: =$I$5*9.81*$F$3 -> 64.9422 | T27: =(0.5*$L$3*$Q$3*$T$3*O27^2) -> 2.6547219 | U27: =R27+S27+T27 -> 462.95803 | V27: =U27+V26 -> 2948.9465 | W27: =U27*O27 -> 2173.3308 | X27: =W27/1000 -> 2.1733308 | Y27: =IF(X27<0, X27, 0) -> 0 | Z27: 0 | AA27: =-AG27+AA26 -> 0 | AB27: =0.5*$I$5*O27^2 -> 3647.2573 | AC27: =AB27/1000 -> 3.6472573 | AD27: =IF(X27<0,AC27,0) -> 0 | AE27: =AD27+AE26 -> 0 | AF27: =AE27/3600 -> 0 | AG27: =IF(X27<0,X27,0) -> 0 | AH27: =IF(X27>0,AC27,0) -> 3.6472573 | AI27: =AH27+AI26 -> 7.5001127 | AJ27: =AI27/3600 -> 0.0020833646 | AK27: =AH27-AG27 -> 3.6472573 | AL27: =AE27*$AL$7 -> 0 | AM27: =AL27*$AM$7 -> 0 | AN27: =AM27*$AN$7 -> 0 | AO27: =AN27*$AO$7 -> 0 | AP27: =AO27*$AP$7 -> 0 | AQ27: =AP27*$AQ$7 -> 0 | AR27: =AQ27*$AR$7 -> 0 | AS27: =AR27 -> 0 | AT27: =AS27/3600 -> 0 | AU27: =AI27-AS27 -> 7.5001127 | AV27: =AU27/3600 -> 0.0020833646 | AX27: Fuel system (type) | AY27: Fuel Injection | BJ27: 0 | BK27: =BJ27*$AL$7 -> 0 | BL27: =BK27*$AM$7 -> 0 | BM27: =BL27*$AN$7 -> 0 | BN27: =BM27*$AO$7 -> 0 | BO27: =BN27*$AP$7 -> 0 | BP27: =BO27*$AQ$7 -> 0 | BQ27: =BP27*$AR$7 -> 0 | BR27: =BQ27 -> 0 | BS27: =BR27/3600 -> 0 | BT27: =BJ27-BR27 -> 0 | BU27: =BT27/3600 -> 0
A28: 1.36 | B28: 174.45 | C28: 176.42 | D28: =AVERAGE(B28,C28) -> 175.435 | E28: =SUM(D28*1000)/3600 -> 48.731944 | F28: =(E28-E27)/0.08 -> -2.8645833 | G28: =Sheet1!$I$5*F28 -> -948.17708 | K28: Low | L28: 18 | M28: 18 | N28: 21.7 | O28: =N28*1000/3600 -> 6.0277778 | P28: =($N29-$N27)/2/3.6 -> 1.2638889 | R28: =$I$5*P28 -> 418.34722 | S28: =$I$5*9.81*$F$3 -> 64.9422 | T28: =(0.5*$L$3*$Q$3*$T$3*O28^2) -> 4.3768845 | U28: =R28+S28+T28 -> 487.66631 | V28: =U28+V27 -> 3436.6128 | W28: =U28*O28 -> 2939.5441 | X28: =W28/1000 -> 2.9395441 | Y28: =IF(X28<0, X28, 0) -> 0 | Z28: 0 | AA28: =-AG28+AA27 -> 0 | AB28: =0.5*$I$5*O28^2 -> 6013.2944 | AC28: =AB28/1000 -> 6.0132944 | AD28: =IF(X28<0,AC28,0) -> 0 | AE28: =AD28+AE27 -> 0 | AF28: =AE28/3600 -> 0 | AG28: =IF(X28<0,X28,0) -> 0 | AH28: =IF(X28>0,AC28,0) -> 6.0132944 | AI28: =AH28+AI27 -> 13.513407 | AJ28: =AI28/3600 -> 0.0037537242 | AK28: =AH28-AG28 -> 6.0132944 | AL28: =AE28*$AL$7 -> 0 | AM28: =AL28*$AM$7 -> 0 | AN28: =AM28*$AN$7 -> 0 | AO28: =AN28*$AO$7 -> 0 | AP28: =AO28*$AP$7 -> 0 | AQ28: =AP28*$AQ$7 -> 0 | AR28: =AQ28*$AR$7 -> 0 | AS28: =AR28 -> 0 | AT28: =AS28/3600 -> 0 | AU28: =AI28-AS28 -> 13.513407 | AV28: =AU28/3600 -> 0.0037537242 | AX28: Fuel economy / consumption | AY28: 6,31 l / 100 km (37,3 mpg)11 | BJ28: 0 | BK28: =BJ28*$AL$7 -> 0 | BL28: =BK28*$AM$7 -> 0 | BM28: =BL28*$AN$7 -> 0 | BN28: =BM28*$AO$7 -> 0 | BO28: =BN28*$AP$7 -> 0 | BP28: =BO28*$AQ$7 -> 0 | BQ28: =BP28*$AR$7 -> 0 | BR28: =BQ28 -> 0 | BS28: =BR28/3600 -> 0 | BT28: =BJ28-BR28 -> 0 | BU28: =BT28/3600 -> 0
A29: 1.44 | B29: 173.88 | C29: 176.02 | D29: =AVERAGE(B29,C29) -> 174.95 | E29: =SUM(D29*1000)/3600 -> 48.597222 | F29: =(E29-E28)/0.08 -> -1.6840278 | G29: =Sheet1!$I$5*F29 -> -557.41319 | K29: Low | L29: 19 | M29: 19 | N29: 26 | O29: =N29*1000/3600 -> 7.2222222 | P29: =($N30-$N28)/2/3.6 -> 0.80555556 | R29: =$I$5*P29 -> 266.63889 | S29: =$I$5*9.81*$F$3 -> 64.9422 | T29: =(0.5*$L$3*$Q$3*$T$3*O29^2) -> 6.2833654 | U29: =R29+S29+T29 -> 337.86445 | V29: =U29+V28 -> 3774.4772 | W29: =U29*O29 -> 2440.1322 | X29: =W29/1000 -> 2.4401322 | Y29: =IF(X29<0, X29, 0) -> 0 | Z29: 0 | AA29: =-AG29+AA28 -> 0 | AB29: =0.5*$I$5*O29^2 -> 8632.5617 | AC29: =AB29/1000 -> 8.6325617 | AD29: =IF(X29<0,AC29,0) -> 0 | AE29: =AD29+AE28 -> 0 | AF29: =AE29/3600 -> 0 | AG29: =IF(X29<0,X29,0) -> 0 | AH29: =IF(X29>0,AC29,0) -> 8.6325617 | AI29: =AH29+AI28 -> 22.145969 | AJ29: =AI29/3600 -> 0.006151658 | AK29: =AH29-AG29 -> 8.6325617 | AL29: =AE29*$AL$7 -> 0 | AM29: =AL29*$AM$7 -> 0 | AN29: =AM29*$AN$7 -> 0 | AO29: =AN29*$AO$7 -> 0 | AP29: =AO29*$AP$7 -> 0 | AQ29: =AP29*$AQ$7 -> 0 | AR29: =AQ29*$AR$7 -> 0 | AS29: =AR29 -> 0 | AT29: =AS29/3600 -> 0 | AU29: =AI29-AS29 -> 22.145969 | AV29: =AU29/3600 -> 0.006151658 | BJ29: 0 | BK29: =BJ29*$AL$7 -> 0 | BL29: =BK29*$AM$7 -> 0 | BM29: =BL29*$AN$7 -> 0 | BN29: =BM29*$AO$7 -> 0 | BO29: =BN29*$AP$7 -> 0 | BP29: =BO29*$AQ$7 -> 0 | BQ29: =BP29*$AR$7 -> 0 | BR29: =BQ29 -> 0 | BS29: =BR29/3600 -> 0 | BT29: =BJ29-BR29 -> 0 | BU29: =BT29/3600 -> 0
A30: 1.52 | B30: 173.67 | C30: 175.42 | D30: =AVERAGE(B30,C30) -> 174.545 | E30: =SUM(D30*1000)/3600 -> 48.484722 | F30: =(E30-E29)/0.08 -> -1.40625 | G30: =Sheet1!$I$5*F30 -> -465.46875 | K30: Low | L30: 20 | M30: 20 | N30: 27.5 | O30: =N30*1000/3600 -> 7.6388889 | P30: =($N31-$N29)/2/3.6 -> 0.29166667 | R30: =$I$5*P30 -> 96.541667 | S30: =$I$5*9.81*$F$3 -> 64.9422 | T30: =(0.5*$L$3*$Q$3*$T$3*O30^2) -> 7.0292827 | U30: =R30+S30+T30 -> 168.51315 | V30: =U30+V29 -> 3942.9904 | W30: =U30*O30 -> 1287.2532 | X30: =W30/1000 -> 1.2872532 | Y30: =IF(X30<0, X30, 0) -> 0 | Z30: 0 | AA30: =-AG30+AA29 -> 0 | AB30: =0.5*$I$5*O30^2 -> 9657.3592 | AC30: =AB30/1000 -> 9.6573592 | AD30: =IF(X30<0,AC30,0) -> 0 | AE30: =AD30+AE29 -> 0 | AF30: =AE30/3600 -> 0 | AG30: =IF(X30<0,X30,0) -> 0 | AH30: =IF(X30>0,AC30,0) -> 9.6573592 | AI30: =AH30+AI29 -> 31.803328 | AJ30: =AI30/3600 -> 0.0088342578 | AK30: =AH30-AG30 -> 9.6573592 | AL30: =AE30*$AL$7 -> 0 | AM30: =AL30*$AM$7 -> 0 | AN30: =AM30*$AN$7 -> 0 | AO30: =AN30*$AO$7 -> 0 | AP30: =AO30*$AP$7 -> 0 | AQ30: =AP30*$AQ$7 -> 0 | AR30: =AQ30*$AR$7 -> 0 | AS30: =AR30 -> 0 | AT30: =AS30/3600 -> 0 | AU30: =AI30-AS30 -> 31.803328 | AV30: =AU30/3600 -> 0.0088342578 | AX30: DRIVE TRAIN | BJ30: 0 | BK30: =BJ30*$AL$7 -> 0 | BL30: =BK30*$AM$7 -> 0 | BM30: =BL30*$AN$7 -> 0 | BN30: =BM30*$AO$7 -> 0 | BO30: =BN30*$AP$7 -> 0 | BP30: =BO30*$AQ$7 -> 0 | BQ30: =BP30*$AR$7 -> 0 | BR30: =BQ30 -> 0 | BS30: =BR30/3600 -> 0 | BT30: =BJ30-BR30 -> 0 | BU30: =BT30/3600 -> 0
A31: 1.6 | B31: 172.66 | C31: 174.66 | D31: =AVERAGE(B31,C31) -> 173.66 | E31: =SUM(D31*1000)/3600 -> 48.238889 | F31: =(E31-E30)/0.08 -> -3.0729167 | G31: =Sheet1!$I$5*F31 -> -1017.1354 | K31: Low | L31: 21 | M31: 21 | N31: 28.1 | O31: =N31*1000/3600 -> 7.8055556 | P31: =($N32-$N30)/2/3.6 -> 0.11111111 | R31: =$I$5*P31 -> 36.777778 | S31: =$I$5*9.81*$F$3 -> 64.9422 | T31: =(0.5*$L$3*$Q$3*$T$3*O31^2) -> 7.3393612 | U31: =R31+S31+T31 -> 109.05934 | V31: =U31+V30 -> 4052.0497 | W31: =U31*O31 -> 851.26873 | X31: =W31/1000 -> 0.85126873 | Y31: =IF(X31<0, X31, 0) -> 0 | Z31: 0 | AA31: =-AG31+AA30 -> 0 | AB31: =0.5*$I$5*O31^2 -> 10083.368 | AC31: =AB31/1000 -> 10.083368 | AD31: =IF(X31<0,AC31,0) -> 0 | AE31: =AD31+AE30 -> 0 | AF31: =AE31/3600 -> 0 | AG31: =IF(X31<0,X31,0) -> 0 | AH31: =IF(X31>0,AC31,0) -> 10.083368 | AI31: =AH31+AI30 -> 41.886696 | AJ31: =AI31/3600 -> 0.011635193 | AK31: =AH31-AG31 -> 10.083368 | AL31: =AE31*$AL$7 -> 0 | AM31: =AL31*$AM$7 -> 0 | AN31: =AM31*$AN$7 -> 0 | AO31: =AN31*$AO$7 -> 0 | AP31: =AO31*$AP$7 -> 0 | AQ31: =AP31*$AQ$7 -> 0 | AR31: =AQ31*$AR$7 -> 0 | AS31: =AR31 -> 0 | AT31: =AS31/3600 -> 0 | AU31: =AI31-AS31 -> 41.886696 | AV31: =AU31/3600 -> 0.011635193 | AX31: Clutch | AY31: Wet, multi-plate, cable operated | BJ31: 0 | BK31: =BJ31*$AL$7 -> 0 | BL31: =BK31*$AM$7 -> 0 | BM31: =BL31*$AN$7 -> 0 | BN31: =BM31*$AO$7 -> 0 | BO31: =BN31*$AP$7 -> 0 | BP31: =BO31*$AQ$7 -> 0 | BQ31: =BP31*$AR$7 -> 0 | BR31: =BQ31 -> 0 | BS31: =BR31/3600 -> 0 | BT31: =BJ31-BR31 -> 0 | BU31: =BT31/3600 -> 0
A32: 1.68 | B32: 172.11 | C32: 173.88 | D32: =AVERAGE(B32,C32) -> 172.995 | E32: =SUM(D32*1000)/3600 -> 48.054167 | F32: =(E32-E31)/0.08 -> -2.3090278 | G32: =Sheet1!$I$5*F32 -> -764.28819 | K32: Low | L32: 22 | M32: 22 | N32: 28.3 | O32: =N32*1000/3600 -> 7.8611111 | P32: =($N33-$N31)/2/3.6 -> 0.097222222 | R32: =$I$5*P32 -> 32.180556 | S32: =$I$5*9.81*$F$3 -> 64.9422 | T32: =(0.5*$L$3*$Q$3*$T$3*O32^2) -> 7.4442079 | U32: =R32+S32+T32 -> 104.56696 | V32: =U32+V31 -> 4156.6167 | W32: =U32*O32 -> 822.01252 | X32: =W32/1000 -> 0.82201252 | Y32: =IF(X32<0, X32, 0) -> 0 | Z32: 0 | AA32: =-AG32+AA31 -> 0 | AB32: =0.5*$I$5*O32^2 -> 10227.415 | AC32: =AB32/1000 -> 10.227415 | AD32: =IF(X32<0,AC32,0) -> 0 | AE32: =AD32+AE31 -> 0 | AF32: =AE32/3600 -> 0 | AG32: =IF(X32<0,X32,0) -> 0 | AH32: =IF(X32>0,AC32,0) -> 10.227415 | AI32: =AH32+AI31 -> 52.114111 | AJ32: =AI32/3600 -> 0.014476142 | AK32: =AH32-AG32 -> 10.227415 | AL32: =AE32*$AL$7 -> 0 | AM32: =AL32*$AM$7 -> 0 | AN32: =AM32*$AN$7 -> 0 | AO32: =AN32*$AO$7 -> 0 | AP32: =AO32*$AP$7 -> 0 | AQ32: =AP32*$AQ$7 -> 0 | AR32: =AQ32*$AR$7 -> 0 | AS32: =AR32 -> 0 | AT32: =AS32/3600 -> 0 | AU32: =AI32-AS32 -> 52.114111 | AV32: =AU32/3600 -> 0.014476142 | AX32: Transmission | AY32: 6-speed | BJ32: 0 | BK32: =BJ32*$AL$7 -> 0 | BL32: =BK32*$AM$7 -> 0 | BM32: =BL32*$AN$7 -> 0 | BN32: =BM32*$AO$7 -> 0 | BO32: =BN32*$AP$7 -> 0 | BP32: =BO32*$AQ$7 -> 0 | BQ32: =BP32*$AR$7 -> 0 | BR32: =BQ32 -> 0 | BS32: =BR32/3600 -> 0 | BT32: =BJ32-BR32 -> 0 | BU32: =BT32/3600 -> 0
A33: 1.76 | B33: 171.58 | C33: 173.29 | D33: =AVERAGE(B33,C33) -> 172.435 | E33: =SUM(D33*1000)/3600 -> 47.898611 | F33: =(E33-E32)/0.08 -> -1.9444444 | G33: =Sheet1!$I$5*F33 -> -643.61111 | K33: Low | L33: 23 | M33: 23 | N33: 28.8 | O33: =N33*1000/3600 -> 8 | P33: =($N34-$N32)/2/3.6 -> 0.11111111 | R33: =$I$5*P33 -> 36.777778 | S33: =$I$5*9.81*$F$3 -> 64.9422 | T33: =(0.5*$L$3*$Q$3*$T$3*O33^2) -> 7.7095779 | U33: =R33+S33+T33 -> 109.42956 | V33: =U33+V32 -> 4266.0462 | W33: =U33*O33 -> 875.43645 | X33: =W33/1000 -> 0.87543645 | Y33: =IF(X33<0, X33, 0) -> 0 | Z33: 0 | AA33: =-AG33+AA32 -> 0 | AB33: =0.5*$I$5*O33^2 -> 10592 | AC33: =AB33/1000 -> 10.592 | AD33: =IF(X33<0,AC33,0) -> 0 | AE33: =AD33+AE32 -> 0 | AF33: =AE33/3600 -> 0 | AG33: =IF(X33<0,X33,0) -> 0 | AH33: =IF(X33>0,AC33,0) -> 10.592 | AI33: =AH33+AI32 -> 62.706111 | AJ33: =AI33/3600 -> 0.017418364 | AK33: =AH33-AG33 -> 10.592 | AL33: =AE33*$AL$7 -> 0 | AM33: =AL33*$AM$7 -> 0 | AN33: =AM33*$AN$7 -> 0 | AO33: =AN33*$AO$7 -> 0 | AP33: =AO33*$AP$7 -> 0 | AQ33: =AP33*$AQ$7 -> 0 | AR33: =AQ33*$AR$7 -> 0 | AS33: =AR33 -> 0 | AT33: =AS33/3600 -> 0 | AU33: =AI33-AS33 -> 62.706111 | AV33: =AU33/3600 -> 0.017418364 | AX33: Final drive | AY33: Chain | BJ33: 0 | BK33: =BJ33*$AL$7 -> 0 | BL33: =BK33*$AM$7 -> 0 | BM33: =BL33*$AN$7 -> 0 | BN33: =BM33*$AO$7 -> 0 | BO33: =BN33*$AP$7 -> 0 | BP33: =BO33*$AQ$7 -> 0 | BQ33: =BP33*$AR$7 -> 0 | BR33: =BQ33 -> 0 | BS33: =BR33/3600 -> 0 | BT33: =BJ33-BR33 -> 0 | BU33: =BT33/3600 -> 0
A34: 1.84 | B34: 170.74 | C34: 172.64 | D34: =AVERAGE(B34,C34) -> 171.69 | E34: =SUM(D34*1000)/3600 -> 47.691667 | F34: =(E34-E33)/0.08 -> -2.5868056 | G34: =Sheet1!$I$5*F34 -> -856.23264 | K34: Low | L34: 24 | M34: 24 | N34: 29.1 | O34: =N34*1000/3600 -> 8.0833333 | P34: =($N35-$N33)/2/3.6 -> 0.27777778 | R34: =$I$5*P34 -> 91.944444 | S34: =$I$5*9.81*$F$3 -> 64.9422 | T34: =(0.5*$L$3*$Q$3*$T$3*O34^2) -> 7.8710306 | U34: =R34+S34+T34 -> 164.75768 | V34: =U34+V33 -> 4430.8039 | W34: =U34*O34 -> 1331.7912 | X34: =W34/1000 -> 1.3317912 | Y34: =IF(X34<0, X34, 0) -> 0 | Z34: 0 | AA34: =-AG34+AA33 -> 0 | AB34: =0.5*$I$5*O34^2 -> 10813.816 | AC34: =AB34/1000 -> 10.813816 | AD34: =IF(X34<0,AC34,0) -> 0 | AE34: =AD34+AE33 -> 0 | AF34: =AE34/3600 -> 0 | AG34: =IF(X34<0,X34,0) -> 0 | AH34: =IF(X34>0,AC34,0) -> 10.813816 | AI34: =AH34+AI33 -> 73.519927 | AJ34: =AI34/3600 -> 0.020422202 | AK34: =AH34-AG34 -> 10.813816 | AL34: =AE34*$AL$7 -> 0 | AM34: =AL34*$AM$7 -> 0 | AN34: =AM34*$AN$7 -> 0 | AO34: =AN34*$AO$7 -> 0 | AP34: =AO34*$AP$7 -> 0 | AQ34: =AP34*$AQ$7 -> 0 | AR34: =AQ34*$AR$7 -> 0 | AS34: =AR34 -> 0 | AT34: =AS34/3600 -> 0 | AU34: =AI34-AS34 -> 73.519927 | AV34: =AU34/3600 -> 0.020422202 | AX34: Gear ratio | BJ34: 0 | BK34: =BJ34*$AL$7 -> 0 | BL34: =BK34*$AM$7 -> 0 | BM34: =BL34*$AN$7 -> 0 | BN34: =BM34*$AO$7 -> 0 | BO34: =BN34*$AP$7 -> 0 | BP34: =BO34*$AQ$7 -> 0 | BQ34: =BP34*$AR$7 -> 0 | BR34: =BQ34 -> 0 | BS34: =BR34/3600 -> 0 | BT34: =BJ34-BR34 -> 0 | BU34: =BT34/3600 -> 0
A35: 1.92 | B35: 170.32 | C35: 171.96 | D35: =AVERAGE(B35,C35) -> 171.14 | E35: =SUM(D35*1000)/3600 -> 47.538889 | F35: =(E35-E34)/0.08 -> -1.9097222 | G35: =Sheet1!$I$5*F35 -> -632.11806 | K35: Low | L35: 25 | M35: 25 | N35: 30.8 | O35: =N35*1000/3600 -> 8.5555556 | P35: =($N36-$N34)/2/3.6 -> 0.38888889 | R35: =$I$5*P35 -> 128.72222 | S35: =$I$5*9.81*$F$3 -> 64.9422 | T35: =(0.5*$L$3*$Q$3*$T$3*O35^2) -> 8.8175322 | U35: =R35+S35+T35 -> 202.48195 | V35: =U35+V34 -> 4633.2859 | W35: =U35*O35 -> 1732.3456 | X35: =W35/1000 -> 1.7323456 | Y35: =IF(X35<0, X35, 0) -> 0 | Z35: 0 | AA35: =-AG35+AA34 -> 0 | AB35: =0.5*$I$5*O35^2 -> 12114.191 | AC35: =AB35/1000 -> 12.114191 | AD35: =IF(X35<0,AC35,0) -> 0 | AE35: =AD35+AE34 -> 0 | AF35: =AE35/3600 -> 0 | AG35: =IF(X35<0,X35,0) -> 0 | AH35: =IF(X35>0,AC35,0) -> 12.114191 | AI35: =AH35+AI34 -> 85.634118 | AJ35: =AI35/3600 -> 0.023787255 | AK35: =AH35-AG35 -> 12.114191 | AL35: =AE35*$AL$7 -> 0 | AM35: =AL35*$AM$7 -> 0 | AN35: =AM35*$AN$7 -> 0 | AO35: =AN35*$AO$7 -> 0 | AP35: =AO35*$AP$7 -> 0 | AQ35: =AP35*$AQ$7 -> 0 | AR35: =AQ35*$AR$7 -> 0 | AS35: =AR35 -> 0 | AT35: =AS35/3600 -> 0 | AU35: =AI35-AS35 -> 85.634118 | AV35: =AU35/3600 -> 0.023787255 | AX35: I | AY35: 2.733 | BJ35: 0 | BK35: =BJ35*$AL$7 -> 0 | BL35: =BK35*$AM$7 -> 0 | BM35: =BL35*$AN$7 -> 0 | BN35: =BM35*$AO$7 -> 0 | BO35: =BN35*$AP$7 -> 0 | BP35: =BO35*$AQ$7 -> 0 | BQ35: =BP35*$AR$7 -> 0 | BR35: =BQ35 -> 0 | BS35: =BR35/3600 -> 0 | BT35: =BJ35-BR35 -> 0 | BU35: =BT35/3600 -> 0
A36: 2 | B36: 169.83 | C36: 171.21 | D36: =AVERAGE(B36,C36) -> 170.52 | E36: =SUM(D36*1000)/3600 -> 47.366667 | F36: =(E36-E35)/0.08 -> -2.1527778 | G36: =Sheet1!$I$5*F36 -> -712.56944 | K36: Low | L36: 26 | M36: 26 | N36: 31.9 | O36: =N36*1000/3600 -> 8.8611111 | P36: =($N37-$N35)/2/3.6 -> 0.45833333 | R36: =$I$5*P36 -> 151.70833 | S36: =$I$5*9.81*$F$3 -> 64.9422 | T36: =(0.5*$L$3*$Q$3*$T$3*O36^2) -> 9.4586028 | U36: =R36+S36+T36 -> 226.10914 | V36: =U36+V35 -> 4859.395 | W36: =U36*O36 -> 2003.5782 | X36: =W36/1000 -> 2.0035782 | Y36: =IF(X36<0, X36, 0) -> 0 | Z36: 0 | AA36: =-AG36+AA35 -> 0 | AB36: =0.5*$I$5*O36^2 -> 12994.943 | AC36: =AB36/1000 -> 12.994943 | AD36: =IF(X36<0,AC36,0) -> 0 | AE36: =AD36+AE35 -> 0 | AF36: =AE36/3600 -> 0 | AG36: =IF(X36<0,X36,0) -> 0 | AH36: =IF(X36>0,AC36,0) -> 12.994943 | AI36: =AH36+AI35 -> 98.629061 | AJ36: =AI36/3600 -> 0.027396961 | AK36: =AH36-AG36 -> 12.994943 | AL36: =AE36*$AL$7 -> 0 | AM36: =AL36*$AM$7 -> 0 | AN36: =AM36*$AN$7 -> 0 | AO36: =AN36*$AO$7 -> 0 | AP36: =AO36*$AP$7 -> 0 | AQ36: =AP36*$AQ$7 -> 0 | AR36: =AQ36*$AR$7 -> 0 | AS36: =AR36 -> 0 | AT36: =AS36/3600 -> 0 | AU36: =AI36-AS36 -> 98.629061 | AV36: =AU36/3600 -> 0.027396961 | AX36: II | AY36: 1.947 | BJ36: 0 | BK36: =BJ36*$AL$7 -> 0 | BL36: =BK36*$AM$7 -> 0 | BM36: =BL36*$AN$7 -> 0 | BN36: =BM36*$AO$7 -> 0 | BO36: =BN36*$AP$7 -> 0 | BP36: =BO36*$AQ$7 -> 0 | BQ36: =BP36*$AR$7 -> 0 | BR36: =BQ36 -> 0 | BS36: =BR36/3600 -> 0 | BT36: =BJ36-BR36 -> 0 | BU36: =BT36/3600 -> 0
A37: 2.08 | B37: 169.07 | C37: 170.3 | D37: =AVERAGE(B37,C37) -> 169.685 | E37: =SUM(D37*1000)/3600 -> 47.134722 | F37: =(E37-E36)/0.08 -> -2.8993056 | G37: =Sheet1!$I$5*F37 -> -959.67014 | K37: Low | L37: 27 | M37: 27 | N37: 34.1 | O37: =N37*1000/3600 -> 9.4722222 | P37: =($N38-$N36)/2/3.6 -> 0.65277778 | R37: =$I$5*P37 -> 216.06944 | S37: =$I$5*9.81*$F$3 -> 64.9422 | T37: =(0.5*$L$3*$Q$3*$T$3*O37^2) -> 10.808225 | U37: =R37+S37+T37 -> 291.81987 | V37: =U37+V36 -> 5151.2149 | W37: =U37*O37 -> 2764.1827 | X37: =W37/1000 -> 2.7641827 | Y37: =IF(X37<0, X37, 0) -> 0 | Z37: 0 | AA37: =-AG37+AA36 -> 0 | AB37: =0.5*$I$5*O37^2 -> 14849.155 | AC37: =AB37/1000 -> 14.849155 | AD37: =IF(X37<0,AC37,0) -> 0 | AE37: =AD37+AE36 -> 0 | AF37: =AE37/3600 -> 0 | AG37: =IF(X37<0,X37,0) -> 0 | AH37: =IF(X37>0,AC37,0) -> 14.849155 | AI37: =AH37+AI36 -> 113.47822 | AJ37: =AI37/3600 -> 0.031521727 | AK37: =AH37-AG37 -> 14.849155 | AL37: =AE37*$AL$7 -> 0 | AM37: =AL37*$AM$7 -> 0 | AN37: =AM37*$AN$7 -> 0 | AO37: =AN37*$AO$7 -> 0 | AP37: =AO37*$AP$7 -> 0 | AQ37: =AP37*$AQ$7 -> 0 | AR37: =AQ37*$AR$7 -> 0 | AS37: =AR37 -> 0 | AT37: =AS37/3600 -> 0 | AU37: =AI37-AS37 -> 113.47822 | AV37: =AU37/3600 -> 0.031521727 | AX37: III | AY37: 1.545 | BJ37: 0 | BK37: =BJ37*$AL$7 -> 0 | BL37: =BK37*$AM$7 -> 0 | BM37: =BL37*$AN$7 -> 0 | BN37: =BM37*$AO$7 -> 0 | BO37: =BN37*$AP$7 -> 0 | BP37: =BO37*$AQ$7 -> 0 | BQ37: =BP37*$AR$7 -> 0 | BR37: =BQ37 -> 0 | BS37: =BR37/3600 -> 0 | BT37: =BJ37-BR37 -> 0 | BU37: =BT37/3600 -> 0
A38: 2.16 | B38: 168.5 | C38: 169.47 | D38: =AVERAGE(B38,C38) -> 168.985 | E38: =SUM(D38*1000)/3600 -> 46.940278 | F38: =(E38-E37)/0.08 -> -2.4305556 | G38: =Sheet1!$I$5*F38 -> -804.51389 | K38: Low | L38: 28 | M38: 28 | N38: 36.6 | O38: =N38*1000/3600 -> 10.166667 | P38: =($N39-$N37)/2/3.6 -> 0.69444444 | R38: =$I$5*P38 -> 229.86111 | S38: =$I$5*9.81*$F$3 -> 64.9422 | T38: =(0.5*$L$3*$Q$3*$T$3*O38^2) -> 12.451102 | U38: =R38+S38+T38 -> 307.25441 | V38: =U38+V37 -> 5458.4693 | W38: =U38*O38 -> 3123.7532 | X38: =W38/1000 -> 3.1237532 | Y38: =IF(X38<0, X38, 0) -> 0 | Z38: 0 | AA38: =-AG38+AA37 -> 0 | AB38: =0.5*$I$5*O38^2 -> 17106.264 | AC38: =AB38/1000 -> 17.106264 | AD38: =IF(X38<0,AC38,0) -> 0 | AE38: =AD38+AE37 -> 0 | AF38: =AE38/3600 -> 0 | AG38: =IF(X38<0,X38,0) -> 0 | AH38: =IF(X38>0,AC38,0) -> 17.106264 | AI38: =AH38+AI37 -> 130.58448 | AJ38: =AI38/3600 -> 0.036273467 | AK38: =AH38-AG38 -> 17.106264 | AL38: =AE38*$AL$7 -> 0 | AM38: =AL38*$AM$7 -> 0 | AN38: =AM38*$AN$7 -> 0 | AO38: =AN38*$AO$7 -> 0 | AP38: =AO38*$AP$7 -> 0 | AQ38: =AP38*$AQ$7 -> 0 | AR38: =AQ38*$AR$7 -> 0 | AS38: =AR38 -> 0 | AT38: =AS38/3600 -> 0 | AU38: =AI38-AS38 -> 130.58448 | AV38: =AU38/3600 -> 0.036273467 | AX38: IV | AY38: 1.291 | BJ38: 0 | BK38: =BJ38*$AL$7 -> 0 | BL38: =BK38*$AM$7 -> 0 | BM38: =BL38*$AN$7 -> 0 | BN38: =BM38*$AO$7 -> 0 | BO38: =BN38*$AP$7 -> 0 | BP38: =BO38*$AQ$7 -> 0 | BQ38: =BP38*$AR$7 -> 0 | BR38: =BQ38 -> 0 | BS38: =BR38/3600 -> 0 | BT38: =BJ38-BR38 -> 0 | BU38: =BT38/3600 -> 0
A39: 2.24 | B39: 168.32 | C39: 169.22 | D39: =AVERAGE(B39,C39) -> 168.77 | E39: =SUM(D39*1000)/3600 -> 46.880556 | F39: =(E39-E38)/0.08 -> -0.74652778 | G39: =Sheet1!$I$5*F39 -> -247.10069 | K39: Low | L39: 29 | M39: 29 | N39: 39.1 | O39: =N39*1000/3600 -> 10.861111 | P39: =($N40-$N38)/2/3.6 -> 0.65277778 | R39: =$I$5*P39 -> 216.06944 | S39: =$I$5*9.81*$F$3 -> 64.9422 | T39: =(0.5*$L$3*$Q$3*$T$3*O39^2) -> 14.210166 | U39: =R39+S39+T39 -> 295.22181 | V39: =U39+V38 -> 5753.6911 | W39: =U39*O39 -> 3206.4369 | X39: =W39/1000 -> 3.2064369 | Y39: =IF(X39<0, X39, 0) -> 0 | Z39: 0 | AA39: =-AG39+AA38 -> 0 | AB39: =0.5*$I$5*O39^2 -> 19522.998 | AC39: =AB39/1000 -> 19.522998 | AD39: =IF(X39<0,AC39,0) -> 0 | AE39: =AD39+AE38 -> 0 | AF39: =AE39/3600 -> 0 | AG39: =IF(X39<0,X39,0) -> 0 | AH39: =IF(X39>0,AC39,0) -> 19.522998 | AI39: =AH39+AI38 -> 150.10748 | AJ39: =AI39/3600 -> 0.041696522 | AK39: =AH39-AG39 -> 19.522998 | AL39: =AE39*$AL$7 -> 0 | AM39: =AL39*$AM$7 -> 0 | AN39: =AM39*$AN$7 -> 0 | AO39: =AN39*$AO$7 -> 0 | AP39: =AO39*$AP$7 -> 0 | AQ39: =AP39*$AQ$7 -> 0 | AR39: =AQ39*$AR$7 -> 0 | AS39: =AR39 -> 0 | AT39: =AS39/3600 -> 0 | AU39: =AI39-AS39 -> 150.10748 | AV39: =AU39/3600 -> 0.041696522 | AX39: V | AY39: 1.154 | BJ39: 0 | BK39: =BJ39*$AL$7 -> 0 | BL39: =BK39*$AM$7 -> 0 | BM39: =BL39*$AN$7 -> 0 | BN39: =BM39*$AO$7 -> 0 | BO39: =BN39*$AP$7 -> 0 | BP39: =BO39*$AQ$7 -> 0 | BQ39: =BP39*$AR$7 -> 0 | BR39: =BQ39 -> 0 | BS39: =BR39/3600 -> 0 | BT39: =BJ39-BR39 -> 0 | BU39: =BT39/3600 -> 0
A40: 2.32 | B40: 167.27 | C40: 168.66 | D40: =AVERAGE(B40,C40) -> 167.965 | E40: =SUM(D40*1000)/3600 -> 46.656944 | F40: =(E40-E39)/0.08 -> -2.7951389 | G40: =Sheet1!$I$5*F40 -> -925.19097 | K40: Low | L40: 30 | M40: 30 | N40: 41.3 | O40: =N40*1000/3600 -> 11.472222 | P40: =($N41-$N39)/2/3.6 -> 0.47222222 | R40: =$I$5*P40 -> 156.30556 | S40: =$I$5*9.81*$F$3 -> 64.9422 | T40: =(0.5*$L$3*$Q$3*$T$3*O40^2) -> 15.854251 | U40: =R40+S40+T40 -> 237.10201 | V40: =U40+V39 -> 5990.7931 | W40: =U40*O40 -> 2720.0869 | X40: =W40/1000 -> 2.7200869 | Y40: =IF(X40<0, X40, 0) -> 0 | Z40: 0 | AA40: =-AG40+AA39 -> 0 | AB40: =0.5*$I$5*O40^2 -> 21781.767 | AC40: =AB40/1000 -> 21.781767 | AD40: =IF(X40<0,AC40,0) -> 0 | AE40: =AD40+AE39 -> 0 | AF40: =AE40/3600 -> 0 | AG40: =IF(X40<0,X40,0) -> 0 | AH40: =IF(X40>0,AC40,0) -> 21.781767 | AI40: =AH40+AI39 -> 171.88924 | AJ40: =AI40/3600 -> 0.047747012 | AK40: =AH40-AG40 -> 21.781767 | AL40: =AE40*$AL$7 -> 0 | AM40: =AL40*$AM$7 -> 0 | AN40: =AM40*$AN$7 -> 0 | AO40: =AN40*$AO$7 -> 0 | AP40: =AO40*$AP$7 -> 0 | AQ40: =AP40*$AQ$7 -> 0 | AR40: =AQ40*$AR$7 -> 0 | AS40: =AR40 -> 0 | AT40: =AS40/3600 -> 0 | AU40: =AI40-AS40 -> 171.88924 | AV40: =AU40/3600 -> 0.047747012 | AX40: VI | AY40: 1.074 | BJ40: 0 | BK40: =BJ40*$AL$7 -> 0 | BL40: =BK40*$AM$7 -> 0 | BM40: =BL40*$AN$7 -> 0 | BN40: =BM40*$AO$7 -> 0 | BO40: =BN40*$AP$7 -> 0 | BP40: =BO40*$AQ$7 -> 0 | BQ40: =BP40*$AR$7 -> 0 | BR40: =BQ40 -> 0 | BS40: =BR40/3600 -> 0 | BT40: =BJ40-BR40 -> 0 | BU40: =BT40/3600 -> 0
A41: 2.4 | B41: 166.87 | C41: 167.95 | D41: =AVERAGE(B41,C41) -> 167.41 | E41: =SUM(D41*1000)/3600 -> 46.502778 | F41: =(E41-E40)/0.08 -> -1.9270833 | G41: =Sheet1!$I$5*F41 -> -637.86458 | K41: Low | L41: 31 | M41: 31 | N41: 42.5 | O41: =N41*1000/3600 -> 11.805556 | P41: =($N42-$N40)/2/3.6 -> 0.27777778 | R41: =$I$5*P41 -> 91.944444 | S41: =$I$5*9.81*$F$3 -> 64.9422 | T41: =(0.5*$L$3*$Q$3*$T$3*O41^2) -> 16.788948 | U41: =R41+S41+T41 -> 173.67559 | V41: =U41+V40 -> 6164.4687 | W41: =U41*O41 -> 2050.3369 | X41: =W41/1000 -> 2.0503369 | Y41: =IF(X41<0, X41, 0) -> 0 | Z41: 0 | AA41: =-AG41+AA40 -> 0 | AB41: =0.5*$I$5*O41^2 -> 23065.924 | AC41: =AB41/1000 -> 23.065924 | AD41: =IF(X41<0,AC41,0) -> 0 | AE41: =AD41+AE40 -> 0 | AF41: =AE41/3600 -> 0 | AG41: =IF(X41<0,X41,0) -> 0 | AH41: =IF(X41>0,AC41,0) -> 23.065924 | AI41: =AH41+AI40 -> 194.95517 | AJ41: =AI41/3600 -> 0.054154214 | AK41: =AH41-AG41 -> 23.065924 | AL41: =AE41*$AL$7 -> 0 | AM41: =AL41*$AM$7 -> 0 | AN41: =AM41*$AN$7 -> 0 | AO41: =AN41*$AO$7 -> 0 | AP41: =AO41*$AP$7 -> 0 | AQ41: =AP41*$AQ$7 -> 0 | AR41: =AQ41*$AR$7 -> 0 | AS41: =AR41 -> 0 | AT41: =AS41/3600 -> 0 | AU41: =AI41-AS41 -> 194.95517 | AV41: =AU41/3600 -> 0.054154214 | BJ41: 0 | BK41: =BJ41*$AL$7 -> 0 | BL41: =BK41*$AM$7 -> 0 | BM41: =BL41*$AN$7 -> 0 | BN41: =BM41*$AO$7 -> 0 | BO41: =BN41*$AP$7 -> 0 | BP41: =BO41*$AQ$7 -> 0 | BQ41: =BP41*$AR$7 -> 0 | BR41: =BQ41 -> 0 | BS41: =BR41/3600 -> 0 | BT41: =BJ41-BR41 -> 0 | BU41: =BT41/3600 -> 0
...

Sheet Sheet3

Sheet Sheet2
