Workbook

Sheet Sheet1
F2: Coefficient RR (𝐶_𝑟𝑟) | G2: Rolling resistance (N) | H2: Vehichle weight (kg) | K2: Frontal area (mm^2) | L2: (m^2) | N2: WLTP P/w ratio | Q2: Air density (ρ) (kg/m^3) | T2: Aero Drag coefficient | W2: MPG
F3: 0.02 | G3: =I5*9.81*F3 -> 64.9422 | H3: Wet weight | I3: 241 | K3: 333505.41 | L3: =K3/1000000 -> 0.33350541 | N3: =SUM(95000/241) -> 394.19087 | Q3: 1.204 | T3: 0.6 | W3: 40.9 | AD3: KWH
H4: Rider + Lugguage | I4: 90
H5: total | I5: =SUM(I3:I4) -> 331 | BN5: =MAX(BN10:BN1810) -> 175.75453
P6: =MIN(P10:P1810) -> -1.4861111 | R6: Resistances | W6: Power | AD6: KE | AH6: Possotive power | AL6: System losses
A7: Triumph sprint ST1050 | S7: Friction | AL7: 0.97 | AM7: 0.99 | AN7: 0.94 | AO7: 0.99 | AP7: 0.94 | AQ7: 0.99 | AR7: 0.97 | BK7: 0.97 | BL7: 0.99 | BM7: 0.94 | BN7: 0.99 | BO7: 0.94 | BP7: 0.99 | BQ7: 0.97
A8: High speed = Aero resistance | E8: Low speed = Rolling resistance | K8: Phase | L8: Total elapsed time | M8: Phase elapsed time | N8: WLTC class 3, version 5, vehicle speed | O8: WLTC class 3, version 5, vehicle speed | P8: WLTC class 3, version 5, acceleration | R8: Acceleration force (N) | S8: Rolling resistance (N) | T8: Aero resistance (N) | U8: Total resistance (N) | V8: Cummulative resistance | W8: Power (W) | X8: Power (KW) | Y8: Negative power values (KW) | Z8: Power (KJ) - Negative made Positive | AA8: Cumulative Power (KJ) - Made possitive | AB8: Kinetic energy (J) | AC8: Kinetic energy (KJ) | AD8: Braking KE = energy where power is negartive (KJ) | AE8: Cummulative Braking KE (KJ) | AF8: Cumulative braking KE (KW/h) | AG8: Power (KJ) - Negative | AH8: Tractive energy (KJ) | AI8: Cummulative Tractive energy (KJ) | AJ8: Cummulative Tractive Kinetic energy (KW/h) | AK8: Tractive - Braking = Aero + RR / Drage forces | AL8: Gear in loss @95% | AM8: Motor in loss @90% | AN8: Controller in loss @85% | AO8: Storage in/out loss @80% | AP8: Controller out loss @ 75% | AQ8: Motor out loss @70% | AR8: Gear out loss @65% | AS8: Final energy out (KJ) | AT8: Final energy out (KW/h) | AU8: Cummulative final energy out (KJ) | AV8: Cummulative final energy out (KW/h) | AX8: Specifications | BJ8: Energy in (KJ) | BK8: Gear in loss @95% | BL8: Motor in loss @90% | BM8: Controller in loss @85% | BN8: Storage in/out loss @80% | BO8: Controller out loss @ 75% | BP8: Motor out loss @70% | BQ8: Gear out loss @65% | BR8: Energy out (KJ) | BS8: Final energy out (KW/h) | BT8: Cummulative final energy out (KJ) | BU8: Cummulative final energy out (KW/h)
B9: KM/h | E9: m/s | K9: Phase | L9: s | M9: s | N9: km/h | O9: m/s | P9: m/s² | AK9: (KJ)
A10: Time | B10: Test 1 | C10: Test 2 | D10: Average | E10: Average | F10: acceleration (m/s ^2) | G10: Acceleration resistance (N) | K10: Low | L10: 0 | M10: 0 | N10: 0 | O10: =N10*1000/3600 -> 0 | P10: =($N11-0)/2/3.6 -> 0 | R10: =$I$5*P10 -> 0 | S10: =$I$5*9.81*$F$3 -> 64.9422 | T10: =(0.5*$L$3*$Q$3*$T$3*O10^2) -> 0 | U10: =R10+S10+T10 -> 64.9422 | V10: =U10 -> 64.9422 | W10: =U10*O10 -> 0 | X10: =W10/1000 -> 0 | Y10: =IF(X10<0, X10, 0) -> 0 | Z10: 0 | AA10: =AG10+0 -> 0 | AB10: =0.5*$I$5*O10^2 -> 0 | AC10: 0 | AD10: =IF(X10<0,AC10,0) -> 0 | AE10: 0 | AF10: =AE10/3600 -> 0 | AG10: =IF(X10<0,X10,0) -> 0 | AH10: =IF(X10>0,AC10,0) -> 0 | AI10: =AH10+0 -> 0 | AJ10: =AI10/3600 -> 0 | AK10: =AH10-AG10 -> 0 | AL10: =AE10*$AL$7 -> 0 | AM10: =AL10*$AM$7 -> 0 | AN10: =AM10*$AN$7 -> 0 | AO10: =AN10*$AO$7 -> 0 | AP10: =AO10*$AP$7 -> 0 | AQ10: =AP10*$AQ$7 -> 0 | AR10: =AQ10*$AR$7 -> 0 | AS10: =AR10 -> 0 | AT10: =AS10/3600 -> 0 | AU10: =AI10-AS10 -> 0 | AV10: =AU10/3600 -> 0 | AX10: ENGINE | BJ10: 0 | BK10: =BJ10*$AL$7 -> 0 | BL10: =BK10*$AM$7 -> 0 | BM10: =BL10*$AN$7 -> 0 | BN10: =BM10*$AO$7 -> 0 | BO10: =BN10*$AP$7 -> 0 | BP10: =BO10*$AQ$7 -> 0 | BQ10: =BP10*$AR$7 -> 0 | BR10: =BQ10 -> 0 | BS10: =BR10/3600 -> 0 | BT10: =BJ10-BR10 -> 0 | BU10: =BT10/3600 -> 0
A11: 0 | B11: 185.72 | C11: 188.44 | D11: =AVERAGE(B11,C11) -> 187.08 | E11: =SUM(D11*1000)/3600 -> 51.966667 | K11: Low | L11: 1 | M11: 1 | N11: 0 | O11: =N11*1000/3600 -> 0 | P11: =($N12-$N10)/2/3.6 -> 0 | R11: =$I$5*P11 -> 0 | S11: =$I$5*9.81*$F$3 -> 64.9422 | T11: =(0.5*$L$3*$Q$3*$T$3*O11^2) -> 0 | U11: =R11+S11+T11 -> 64.9422 | V11: =U11+V10 -> 129.8844 | W11: =U11*O11 -> 0 | X11: =W11/1000 -> 0 | Y11: =IF(X11<0, X11, 0) -> 0 | Z11: 0 | AA11: =-AG11+AA10 -> 0 | AB11: =0.5*$I$5*O11^2 -> 0 | AC11: =AB11/1000 -> 0 | AD11: =IF(X11<0,AC11,0) -> 0 | AE11: =AD11+AE10 -> 0 | AF11: =AE11/3600 -> 0 | AG11: =IF(X11<0,X11,0) -> 0 | AH11: =IF(X11>0,AC11,0) -> 0 | AI11: =AH11+AI10 -> 0 | AJ11: =AI11/3600 -> 0 | AK11: =AH11-AG11 -> 0 | AL11: =AE11*$AL$7 -> 0 | AM11: =AL11*$AM$7 -> 0 | AN11: =AM11*$AN$7 -> 0 | AO11: =AN11*$AO$7 -> 0 | AP11: =AO11*$AP$7 -> 0 | AQ11: =AP11*$AQ$7 -> 0 | AR11: =AQ11*$AR$7 -> 0 | AS11: =AR11 -> 0 | AT11: =AS11/3600 -> 0 | AU11: =AI11-AS11 -> 0 | AV11: =AU11/3600 -> 0 | AX11: Engine (type) | AY11: Liquid-cooled, 4-stroke | BJ11: 0 | BK11: =BJ11*$AL$7 -> 0 | BL11: =BK11*$AM$7 -> 0 | BM11: =BL11*$AN$7 -> 0 | BN11: =BM11*$AO$7 -> 0 | BO11: =BN11*$AP$7 -> 0 | BP11: =BO11*$AQ$7 -> 0 | BQ11: =BP11*$AR$7 -> 0 | BR11: =BQ11 -> 0 | BS11: =BR11/3600 -> 0 | BT11: =BJ11-BR11 -> 0 | BU11: =BT11/3600 -> 0
A12: 0.08 | B12: 184.65 | C12: 188.42 | D12: =AVERAGE(B12,C12) -> 186.535 | E12: =SUM(D12*1000)/3600 -> 51.815278 | F12: =(E12-E11)/0.08 -> -1.8923611 | G12: =Sheet1!$I$5*F12 -> -626.37153 | K12: Low | L12: 2 | M12: 2 | N12: 0 | O12: =N12*1000/3600 -> 0 | P12: =($N13-$N11)/2/3.6 -> 0 | R12: =$I$5*P12 -> 0 | S12: =$I$5*9.81*$F$3 -> 64.9422 | T12: =(0.5*$L$3*$Q$3*$T$3*O12^2) -> 0 | U12: =R12+S12+T12 -> 64.9422 | V12: =U12+V11 -> 194.8266 | W12: =U12*O12 -> 0 | X12: =W12/1000 -> 0 | Y12: =IF(X12<0, X12, 0) -> 0 | Z12: 0 | AA12: =-AG12+AA11 -> 0 | AB12: =0.5*$I$5*O12^2 -> 0 | AC12: =AB12/1000 -> 0 | AD12: =IF(X12<0,AC12,0) -> 0 | AE12: =AD12+AE11 -> 0 | AF12: =AE12/3600 -> 0 | AG12: =IF(X12<0,X12,0) -> 0 | AH12: =IF(X12>0,AC12,0) -> 0 | AI12: =AH12+AI11 -> 0 | AJ12: =AI12/3600 -> 0 | AK12: =AH12-AG12 -> 0 | AL12: =AE12*$AL$7 -> 0 | AM12: =AL12*$AM$7 -> 0 | AN12: =AM12*$AN$7 -> 0 | AO12: =AN12*$AO$7 -> 0 | AP12: =AO12*$AP$7 -> 0 | AQ12: =AP12*$AQ$7 -> 0 | AR12: =AQ12*$AR$7 -> 0 | AS12: =AR12 -> 0 | AT12: =AS12/3600 -> 0 | AU12: =AI12-AS12 -> 0 | AV12: =AU12/3600 -> 0 | AX12: Cylinder arrangement | AY12: 3-cylinders, transverse in-line | BJ12: 0 | BK12: =BJ12*$AL$7 -> 0 | BL12: =BK12*$AM$7 -> 0 | BM12: =BL12*$AN$7 -> 0 | BN12: =BM12*$AO$7 -> 0 | BO12: =BN12*$AP$7 -> 0 | BP12: =BO12*$AQ$7 -> 0 | BQ12: =BP12*$AR$7 -> 0 | BR12: =BQ12 -> 0 | BS12: =BR12/3600 -> 0 | BT12: =BJ12-BR12 -> 0 | BU12: =BT12/3600 -> 0
A13: 0.16 | B13: 183.71 | C13: 187.65 | D13: =AVERAGE(B13,C13) -> 185.68 | E13: =SUM(D13*1000)/3600 -> 51.577778 | F13: =(E13-E12)/0.08 -> -2.96875 | G13: =Sheet1!$I$5*F13 -> -982.65625 | K13: Low | L13: 3 | M13: 3 | N13: 0 | O13: =N13*1000/3600 -> 0 | P13: =($N14-$N12)/2/3.6 -> 0 | R13: =$I$5*P13 -> 0 | S13: =$I$5*9.81*$F$3 -> 64.9422 | T13: =(0.5*$L$3*$Q$3*$T$3*O13^2) -> 0 | U13: =R13+S13+T13 -> 64.9422 | V13: =U13+V12 -> 259.7688 | W13: =U13*O13 -> 0 | X13: =W13/1000 -> 0 | Y13: =IF(X13<0, X13, 0) -> 0 | Z13: 0 | AA13: =-AG13+AA12 -> 0 | AB13: =0.5*$I$5*O13^2 -> 0 | AC13: =AB13/1000 -> 0 | AD13: =IF(X13<0,AC13,0) -> 0 | AE13: =AD13+AE12 -> 0 | AF13: =AE13/3600 -> 0 | AG13: =IF(X13<0,X13,0) -> 0 | AH13: =IF(X13>0,AC13,0) -> 0 | AI13: =AH13+AI12 -> 0 | AJ13: =AI13/3600 -> 0 | AK13: =AH13-AG13 -> 0 | AL13: =AE13*$AL$7 -> 0 | AM13: =AL13*$AM$7 -> 0 | AN13: =AM13*$AN$7 -> 0 | AO13: =AN13*$AO$7 -> 0 | AP13: =AO13*$AP$7 -> 0 | AQ13: =AP13*$AQ$7 -> 0 | AR13: =AQ13*$AR$7 -> 0 | AS13: =AR13 -> 0 | AT13: =AS13/3600 -> 0 | AU13: =AI13-AS13 -> 0 | AV13: =AU13/3600 -> 0 | AX13: Bore & Stroke | AY13: 79,0 x 71,4 mm | BJ13: 0 | BK13: =BJ13*$AL$7 -> 0 | BL13: =BK13*$AM$7 -> 0 | BM13: =BL13*$AN$7 -> 0 | BN13: =BM13*$AO$7 -> 0 | BO13: =BN13*$AP$7 -> 0 | BP13: =BO13*$AQ$7 -> 0 | BQ13: =BP13*$AR$7 -> 0 | BR13: =BQ13 -> 0 | BS13: =BR13/3600 -> 0 | BT13: =BJ13-BR13 -> 0 | BU13: =BT13/3600 -> 0
A14: 0.24 | B14: 183.42 | C14: 187.34 | D14: =AVERAGE(B14,C14) -> 185.38 | E14: =SUM(D14*1000)/3600 -> 51.494444 | F14: =(E14-E13)/0.08 -> -1.0416667 | G14: =Sheet1!$I$5*F14 -> -344.79167 | K14: Low | L14: 4 | M14: 4 | N14: 0 | O14: =N14*1000/3600 -> 0 | P14: =($N15-$N13)/2/3.6 -> 0 | R14: =$I$5*P14 -> 0 | S14: =$I$5*9.81*$F$3 -> 64.9422 | T14: =(0.5*$L$3*$Q$3*$T$3*O14^2) -> 0 | U14: =R14+S14+T14 -> 64.9422 | V14: =U14+V13 -> 324.711 | W14: =U14*O14 -> 0 | X14: =W14/1000 -> 0 | Y14: =IF(X14<0, X14, 0) -> 0 | Z14: 0 | AA14: =-AG14+AA13 -> 0 | AB14: =0.5*$I$5*O14^2 -> 0 | AC14: =AB14/1000 -> 0 | AD14: =IF(X14<0,AC14,0) -> 0 | AE14: =AD14+AE13 -> 0 | AF14: =AE14/3600 -> 0 | AG14: =IF(X14<0,X14,0) -> 0 | AH14: =IF(X14>0,AC14,0) -> 0 | AI14: =AH14+AI13 -> 0 | AJ14: =AI14/3600 -> 0 | AK14: =AH14-AG14 -> 0 | AL14: =AE14*$AL$7 -> 0 | AM14: =AL14*$AM$7 -> 0 | AN14: =AM14*$AN$7 -> 0 | AO14: =AN14*$AO$7 -> 0 | AP14: =AO14*$AP$7 -> 0 | AQ14: =AP14*$AQ$7 -> 0 | AR14: =AQ14*$AR$7 -> 0 | AS14: =AR14 -> 0 | AT14: =AS14/3600 -> 0 | AU14: =AI14-AS14 -> 0 | AV14: =AU14/3600 -> 0 | AX14: Displacement | AY14: 1050 cm³ (64,1 cu. in) | BJ14: 0 | BK14: =BJ14*$AL$7 -> 0 | BL14: =BK14*$AM$7 -> 0 | BM14: =BL14*$AN$7 -> 0 | BN14: =BM14*$AO$7 -> 0 | BO14: =BN14*$AP$7 -> 0 | BP14: =BO14*$AQ$7 -> 0 | BQ14: =BP14*$AR$7 -> 0 | BR14: =BQ14 -> 0 | BS14: =BR14/3600 -> 0 | BT14: =BJ14-BR14 -> 0 | BU14: =BT14/3600 -> 0
A15: 0.32 | B15: 182.89 | C15: 186.19 | D15: =AVERAGE(B15,C15) -> 184.54 | E15: =SUM(D15*1000)/3600 -> 51.261111 | F15: =(E15-E14)/0.08 -> -2.9166667 | G15: =Sheet1!$I$5*F15 -> -965.41667 | K15: Low | L15: 5 | M15: 5 | N15: 0 | O15: =N15*1000/3600 -> 0 | P15: =($N16-$N14)/2/3.6 -> 0 | R15: =$I$5*P15 -> 0 | S15: =$I$5*9.81*$F$3 -> 64.9422 | T15: =(0.5*$L$3*$Q$3*$T$3*O15^2) -> 0 | U15: =R15+S15+T15 -> 64.9422 | V15: =U15+V14 -> 389.6532 | W15: =U15*O15 -> 0 | X15: =W15/1000 -> 0 | Y15: =IF(X15<0, X15, 0) -> 0 | Z15: 0 | AA15: =-AG15+AA14 -> 0 | AB15: =0.5*$I$5*O15^2 -> 0 | AC15: =AB15/1000 -> 0 | AD15: =IF(X15<0,AC15,0) -> 0 | AE15: =AD15+AE14 -> 0 | AF15: =AE15/3600 -> 0 | AG15: =IF(X15<0,X15,0) -> 0 | AH15: =IF(X15>0,AC15,0) -> 0 | AI15: =AH15+AI14 -> 0 | AJ15: =AI15/3600 -> 0 | AK15: =AH15-AG15 -> 0 | AL15: =AE15*$AL$7 -> 0 | AM15: =AL15*$AM$7 -> 0 | AN15: =AM15*$AN$7 -> 0 | AO15: =AN15*$AO$7 -> 0 | AP15: =AO15*$AP$7 -> 0 | AQ15: =AP15*$AQ$7 -> 0 | AR15: =AQ15*$AR$7 -> 0 | AS15: =AR15 -> 0 | AT15: =AS15/3600 -> 0 | AU15: =AI15-AS15 -> 0 | AV15: =AU15/3600 -> 0 | AX15: Compression ratio | AY15: 12.0:1 | BJ15: 0 | BK15: =BJ15*$AL$7 -> 0 | BL15: =BK15*$AM$7 -> 0 | BM15: =BL15*$AN$7 -> 0 | BN15: =BM15*$AO$7 -> 0 | BO15: =BN15*$AP$7 -> 0 | BP15: =BO15*$AQ$7 -> 0 | BQ15: =BP15*$AR$7 -> 0 | BR15: =BQ15 -> 0 | BS15: =BR15/3600 -> 0 | BT15: =BJ15-BR15 -> 0 | BU15: =BT15/3600 -> 0
A16: 0.4 | B16: 181.99 | C16: 185.52 | D16: =AVERAGE(B16,C16) -> 183.755 | E16: =SUM(D16*1000)/3600 -> 51.043056 | F16: =(E16-E15)/0.08 -> -2.7256944 | G16: =Sheet1!$I$5*F16 -> -902.20486 | K16: Low | L16: 6 | M16: 6 | N16: 0 | O16: =N16*1000/3600 -> 0 | P16: =($N17-$N15)/2/3.6 -> 0 | R16: =$I$5*P16 -> 0 | S16: =$I$5*9.81*$F$3 -> 64.9422 | T16: =(0.5*$L$3*$Q$3*$T$3*O16^2) -> 0 | U16: =R16+S16+T16 -> 64.9422 | V16: =U16+V15 -> 454.5954 | W16: =U16*O16 -> 0 | X16: =W16/1000 -> 0 | Y16: =IF(X16<0, X16, 0) -> 0 | Z16: 0 | AA16: =-AG16+AA15 -> 0 | AB16: =0.5*$I$5*O16^2 -> 0 | AC16: =AB16/1000 -> 0 | AD16: =IF(X16<0,AC16,0) -> 0 | AE16: =AD16+AE15 -> 0 | AF16: =AE16/3600 -> 0 | AG16: =IF(X16<0,X16,0) -> 0 | AH16: =IF(X16>0,AC16,0) -> 0 | AI16: =AH16+AI15 -> 0 | AJ16: =AI16/3600 -> 0 | AK16: =AH16-AG16 -> 0 | AL16: =AE16*$AL$7 -> 0 | AM16: =AL16*$AM$7 -> 0 | AN16: =AM16*$AN$7 -> 0 | AO16: =AN16*$AO$7 -> 0 | AP16: =AO16*$AP$7 -> 0 | AQ16: =AP16*$AQ$7 -> 0 | AR16: =AQ16*$AR$7 -> 0 | AS16: =AR16 -> 0 | AT16: =AS16/3600 -> 0 | AU16: =AI16-AS16 -> 0 | AV16: =AU16/3600 -> 0 | AX16: Valve train | AY16: Chain driven DOHC, 4 valves per cylinder | BJ16: 0 | BK16: =BJ16*$AL$7 -> 0 | BL16: =BK16*$AM$7 -> 0 | BM16: =BL16*$AN$7 -> 0 | BN16: =BM16*$AO$7 -> 0 | BO16: =BN16*$AP$7 -> 0 | BP16: =BO16*$AQ$7 -> 0 | BQ16: =BP16*$AR$7 -> 0 | BR16: =BQ16 -> 0 | BS16: =BR16/3600 -> 0 | BT16: =BJ16-BR16 -> 0 | BU16: =BT16/3600 -> 0
A17: 0.48 | B17: 182.04 | C17: 184.71 | D17: =AVERAGE(B17,C17) -> 183.375 | E17: =SUM(D17*1000)/3600 -> 50.9375 | F17: =(E17-E16)/0.08 -> -1.3194444 | G17: =Sheet1!$I$5*F17 -> -436.73611 | K17: Low | L17: 7 | M17: 7 | N17: 0 | O17: =N17*1000/3600 -> 0 | P17: =($N18-$N16)/2/3.6 -> 0 | R17: =$I$5*P17 -> 0 | S17: =$I$5*9.81*$F$3 -> 64.9422 | T17: =(0.5*$L$3*$Q$3*$T$3*O17^2) -> 0 | U17: =R17+S17+T17 -> 64.9422 | V17: =U17+V16 -> 519.5376 | W17: =U17*O17 -> 0 | X17: =W17/1000 -> 0 | Y17: =IF(X17<0, X17, 0) -> 0 | Z17: 0 | AA17: =-AG17+AA16 -> 0 | AB17: =0.5*$I$5*O17^2 -> 0 | AC17: =AB17/1000 -> 0 | AD17: =IF(X17<0,AC17,0) -> 0 | AE17: =AD17+AE16 -> 0 | AF17: =AE17/3600 -> 0 | AG17: =IF(X17<0,X17,0) -> 0 | AH17: =IF(X17>0,AC17,0) -> 0 | AI17: =AH17+AI16 -> 0 | AJ17: =AI17/3600 -> 0 | AK17: =AH17-AG17 -> 0 | AL17: =AE17*$AL$7 -> 0 | AM17: =AL17*$AM$7 -> 0 | AN17: =AM17*$AN$7 -> 0 | AO17: =AN17*$AO$7 -> 0 | AP17: =AO17*$AP$7 -> 0 | AQ17: =AP17*$AQ$7 -> 0 | AR17: =AQ17*$AR$7 -> 0 | AS17: =AR17 -> 0 | AT17: =AS17/3600 -> 0 | AU17: =AI17-AS17 -> 0 | AV17: =AU17/3600 -> 0 | AX17: Max. power | AY17: 125,0 hp (91,9 kW) / 9250 rpm1 | BJ17: 0 | BK17: =BJ17*$AL$7 -> 0 | BL17: =BK17*$AM$7 -> 0 | BM17: =BL17*$AN$7 -> 0 | BN17: =BM17*$AO$7 -> 0 | BO17: =BN17*$AP$7 -> 0 | BP17: =BO17*$AQ$7 -> 0 | BQ17: =BP17*$AR$7 -> 0 | BR17: =BQ17 -> 0 | BS17: =BR17/3600 -> 0 | BT17: =BJ17-BR17 -> 0 | BU17: =BT17/3600 -> 0
A18: 0.56 | B18: 181.05 | C18: 183.92 | D18: =AVERAGE(B18,C18) -> 182.485 | E18: =SUM(D18*1000)/3600 -> 50.690278 | F18: =(E18-E17)/0.08 -> -3.0902778 | G18: =Sheet1!$I$5*F18 -> -1022.8819 | K18: Low | L18: 8 | M18: 8 | N18: 0 | O18: =N18*1000/3600 -> 0 | P18: =($N19-$N17)/2/3.6 -> 0 | R18: =$I$5*P18 -> 0 | S18: =$I$5*9.81*$F$3 -> 64.9422 | T18: =(0.5*$L$3*$Q$3*$T$3*O18^2) -> 0 | U18: =R18+S18+T18 -> 64.9422 | V18: =U18+V17 -> 584.4798 | W18: =U18*O18 -> 0 | X18: =W18/1000 -> 0 | Y18: =IF(X18<0, X18, 0) -> 0 | Z18: 0 | AA18: =-AG18+AA17 -> 0 | AB18: =0.5*$I$5*O18^2 -> 0 | AC18: =AB18/1000 -> 0 | AD18: =IF(X18<0,AC18,0) -> 0 | AE18: =AD18+AE17 -> 0 | AF18: =AE18/3600 -> 0 | AG18: =IF(X18<0,X18,0) -> 0 | AH18: =IF(X18>0,AC18,0) -> 0 | AI18: =AH18+AI17 -> 0 | AJ18: =AI18/3600 -> 0 | AK18: =AH18-AG18 -> 0 | AL18: =AE18*$AL$7 -> 0 | AM18: =AL18*$AM$7 -> 0 | AN18: =AM18*$AN$7 -> 0 | AO18: =AN18*$AO$7 -> 0 | AP18: =AO18*$AP$7 -> 0 | AQ18: =AP18*$AQ$7 -> 0 | AR18: =AQ18*$AR$7 -> 0 | AS18: =AR18 -> 0 | AT18: =AS18/3600 -> 0 | AU18: =AI18-AS18 -> 0 | AV18: =AU18/3600 -> 0 | AY18: 125,0 hp (91,9 kW) / 9100 rpm2 | BJ18: 0 | BK18: =BJ18*$AL$7 -> 0 | BL18: =BK18*$AM$7 -> 0 | BM18: =BL18*$AN$7 -> 0 | BN18: =BM18*$AO$7 -> 0 | BO18: =BN18*$AP$7 -> 0 | BP18: =BO18*$AQ$7 -> 0 | BQ18: =BP18*$AR$7 -> 0 | BR18: =BQ18 -> 0 | BS18: =BR18/3600 -> 0 | BT18: =BJ18-BR18 -> 0 | BU18: =BT18/3600 -> 0
A19: 0.64 | B19: 180.07 | C19: 183.36 | D19: =AVERAGE(B19,C19) -> 181.715 | E19: =SUM(D19*1000)/3600 -> 50.476389 | F19: =(E19-E18)/0.08 -> -2.6736111 | G19: =Sheet1!$I$5*F19 -> -884.96528 | K19: Low | L19: 9 | M19: 9 | N19: 0 | O19: =N19*1000/3600 -> 0 | P19: =($N20-$N18)/2/3.6 -> 0 | R19: =$I$5*P19 -> 0 | S19: =$I$5*9.81*$F$3 -> 64.9422 | T19: =(0.5*$L$3*$Q$3*$T$3*O19^2) -> 0 | U19: =R19+S19+T19 -> 64.9422 | V19: =U19+V18 -> 649.422 | W19: =U19*O19 -> 0 | X19: =W19/1000 -> 0 | Y19: =IF(X19<0, X19, 0) -> 0 | Z19: 0 | AA19: =-AG19+AA18 -> 0 | AB19: =0.5*$I$5*O19^2 -> 0 | AC19: =AB19/1000 -> 0 | AD19: =IF(X19<0,AC19,0) -> 0 | AE19: =AD19+AE18 -> 0 | AF19: =AE19/3600 -> 0 | AG19: =IF(X19<0,X19,0) -> 0 | AH19: =IF(X19>0,AC19,0) -> 0 | AI19: =AH19+AI18 -> 0 | AJ19: =AI19/3600 -> 0 | AK19: =AH19-AG19 -> 0 | AL19: =AE19*$AL$7 -> 0 | AM19: =AL19*$AM$7 -> 0 | AN19: =AM19*$AN$7 -> 0 | AO19: =AN19*$AO$7 -> 0 | AP19: =AO19*$AP$7 -> 0 | AQ19: =AP19*$AQ$7 -> 0 | AR19: =AQ19*$AR$7 -> 0 | AS19: =AR19 -> 0 | AT19: =AS19/3600 -> 0 | AU19: =AI19-AS19 -> 0 | AV19: =AU19/3600 -> 0 | AY19: 127,0 hp (93,4 kW) / 9250 rpm3 | BJ19: 0 | BK19: =BJ19*$AL$7 -> 0 | BL19: =BK19*$AM$7 -> 0 | BM19: =BL19*$AN$7 -> 0 | BN19: =BM19*$AO$7 -> 0 | BO19: =BN19*$AP$7 -> 0 | BP19: =BO19*$AQ$7 -> 0 | BQ19: =BP19*$AR$7 -> 0 | BR19: =BQ19 -> 0 | BS19: =BR19/3600 -> 0 | BT19: =BJ19-BR19 -> 0 | BU19: =BT19/3600 -> 0
A20: 0.72 | B20: 180.16 | C20: 182.35 | D20: =AVERAGE(B20,C20) -> 181.255 | E20: =SUM(D20*1000)/3600 -> 50.348611 | F20: =(E20-E19)/0.08 -> -1.5972222 | G20: =Sheet1!$I$5*F20 -> -528.68056 | K20: Low | L20: 10 | M20: 10 | N20: 0 | O20: =N20*1000/3600 -> 0 | P20: =($N21-$N19)/2/3.6 -> 0 | R20: =$I$5*P20 -> 0 | S20: =$I$5*9.81*$F$3 -> 64.9422 | T20: =(0.5*$L$3*$Q$3*$T$3*O20^2) -> 0 | U20: =R20+S20+T20 -> 64.9422 | V20: =U20+V19 -> 714.3642 | W20: =U20*O20 -> 0 | X20: =W20/1000 -> 0 | Y20: =IF(X20<0, X20, 0) -> 0 | Z20: 0 | AA20: =-AG20+AA19 -> 0 | AB20: =0.5*$I$5*O20^2 -> 0 | AC20: =AB20/1000 -> 0 | AD20: =IF(X20<0,AC20,0) -> 0 | AE20: =AD20+AE19 -> 0 | AF20: =AE20/3600 -> 0 | AG20: =IF(X20<0,X20,0) -> 0 | AH20: =IF(X20>0,AC20,0) -> 0 | AI20: =AH20+AI19 -> 0 | AJ20: =AI20/3600 -> 0 | AK20: =AH20-AG20 -> 0 | AL20: =AE20*$AL$7 -> 0 | AM20: =AL20*$AM$7 -> 0 | AN20: =AM20*$AN$7 -> 0 | AO20: =AN20*$AO$7 -> 0 | AP20: =AO20*$AP$7 -> 0 | AQ20: =AP20*$AQ$7 -> 0 | AR20: =AQ20*$AR$7 -> 0 | AS20: =AR20 -> 0 | AT20: =AS20/3600 -> 0 | AU20: =AI20-AS20 -> 0 | AV20: =AU20/3600 -> 0 | AY20: 129,0 hp (95 kW) / 9250 rpm4 | BJ20: 0 | BK20: =BJ20*$AL$7 -> 0 | BL20: =BK20*$AM$7 -> 0 | BM20: =BL20*$AN$7 -> 0 | BN20: =BM20*$AO$7 -> 0 | BO20: =BN20*$AP$7 -> 0 | BP20: =BO20*$AQ$7 -> 0 | BQ20: =BP20*$AR$7 -> 0 | BR20: =BQ20 -> 0 | BS20: =BR20/3600 -> 0 | BT20: =BJ20-BR20 -> 0 | BU20: =BT20/3600 -> 0
A21: 0.8 | B21: 179.07 | C21: 181.73 | D21: =AVERAGE(B21,C21) -> 180.4 | E21: =SUM(D21*1000)/3600 -> 50.111111 | F21: =(E21-E20)/0.08 -> -2.96875 | G21: =Sheet1!$I$5*F21 -> -982.65625 | K21: Low | L21: 11 | M21: 11 | N21: 0 | O21: =N21*1000/3600 -> 0 | P21: =($N22-$N20)/2/3.6 -> 0.027777778 | R21: =$I$5*P21 -> 9.1944444 | S21: =$I$5*9.81*$F$3 -> 64.9422 | T21: =(0.5*$L$3*$Q$3*$T$3*O21^2) -> 0 | U21: =R21+S21+T21 -> 74.136644 | V21: =U21+V20 -> 788.50084 | W21: =U21*O21 -> 0 | X21: =W21/1000 -> 0 | Y21: =IF(X21<0, X21, 0) -> 0 | Z21: 0 | AA21: =-AG21+AA20 -> 0 | AB21: =0.5*$I$5*O21^2 -> 0 | AC21: =AB21/1000 -> 0 | AD21: =IF(X21<0,AC21,0) -> 0 | AE21: =AD21+AE20 -> 0 | AF21: =AE21/3600 -> 0 | AG21: =IF(X21<0,X21,0) -> 0 | AH21: =IF(X21>0,AC21,0) -> 0 | AI21: =AH21+AI20 -> 0 | AJ21: =AI21/3600 -> 0 | AK21: =AH21-AG21 -> 0 | AL21: =AE21*$AL$7 -> 0 | AM21: =AL21*$AM$7 -> 0 | AN21: =AM21*$AN$7 -> 0 | AO21: =AN21*$AO$7 -> 0 | AP21: =AO21*$AP$7 -> 0 | AQ21: =AP21*$AQ$7 -> 0 | AR21: =AQ21*$AR$7 -> 0 | AS21: =AR21 -> 0 | AT21: =AS21/3600 -> 0 | AU21: =AI21-AS21 -> 0 | AV21: =AU21/3600 -> 0 | AX21: Max. torque | AY21: 104,0 Nm (10,6 kg*m) / 5000 rpm5 | BJ21: 0 | BK21: =BJ21*$AL$7 -> 0 | BL21: =BK21*$AM$7 -> 0 | BM21: =BL21*$AN$7 -> 0 | BN21: =BM21*$AO$7 -> 0 | BO21: =BN21*$AP$7 -> 0 | BP21: =BO21*$AQ$7 -> 0 | BQ21: =BP21*$AR$7 -> 0 | BR21: =BQ21 -> 0 | BS21: =BR21/3600 -> 0 | BT21: =BJ21-BR21 -> 0 | BU21: =BT21/3600 -> 0
A22: 0.88 | B22: 178.47 | C22: 180.96 | D22: =AVERAGE(B22,C22) -> 179.715 | E22: =SUM(D22*1000)/3600 -> 49.920833 | F22: =(E22-E21)/0.08 -> -2.3784722 | G22: =$I$5*F22 -> -787.27431 | K22: Low | L22: 12 | M22: 12 | N22: 0.2 | O22: =N22*1000/3600 -> 0.055555556 | P22: =($N23-$N21)/2/3.6 -> 0.23611111 | R22: =$I$5*P22 -> 78.152778 | S22: =$I$5*9.81*$F$3 -> 64.9422 | T22: =(0.5*$L$3*$Q$3*$T$3*O22^2) -> 0.00037179677 | U22: =R22+S22+T22 -> 143.09535 | V22: =U22+V21 -> 931.59619 | W22: =U22*O22 -> 7.9497416 | X22: =W22/1000 -> 0.0079497416 | Y22: =IF(X22<0, X22, 0) -> 0 | Z22: 0 | AA22: =-AG22+AA21 -> 0 | AB22: =0.5*$I$5*O22^2 -> 0.51080247 | AC22: =AB22/1000 -> 0.00051080247 | AD22: =IF(X22<0,AC22,0) -> 0 | AE22: =AD22+AE21 -> 0 | AF22: =AE22/3600 -> 0 | AG22: =IF(X22<0,X22,0) -> 0 | AH22: =IF(X22>0,AC22,0) -> 0.00051080247 | AI22: =AH22+AI21 -> 0.00051080247 | AJ22: =AI22/3600 -> 1.4188957e-07 | AK22: =AH22-AG22 -> 0.00051080247 | AL22: =AE22*$AL$7 -> 0 | AM22: =AL22*$AM$7 -> 0 | AN22: =AM22*$AN$7 -> 0 | AO22: =AN22*$AO$7 -> 0 | AP22: =AO22*$AP$7 -> 0 | AQ22: =AP22*$AQ$7 -> 0 | AR22: =AQ22*$AR$7 -> 0 | AS22: =AR22 -> 0 | AT22: =AS22/3600 -> 0 | AU22: =AI22-AS22 -> 0.00051080247 | AV22: =AU22/3600 -> 1.4188957e-07 | AY22: 105,0 Nm (10,7 kg*m) / 7500 rpm6 | BJ22: 0 | BK22: =BJ22*$AL$7 -> 0 | BL22: =BK22*$AM$7 -> 0 | BM22: =BL22*$AN$7 -> 0 | BN22: =BM22*$AO$7 -> 0 | BO22: =BN22*$AP$7 -> 0 | BP22: =BO22*$AQ$7 -> 0 | BQ22: =BP22*$AR$7 -> 0 | BR22: =BQ22 -> 0 | BS22: =BR22/3600 -> 0 | BT22: =BJ22-BR22 -> 0 | BU22: =BT22/3600 -> 0
A23: 0.96 | B23: 177.64 | C23: 180.35 | D23: =AVERAGE(B23,C23) -> 178.995 | E23: =SUM(D23*1000)/3600 -> 49.720833 | F23: =(E23-E22)/0.08 -> -2.5 | G23: =Sheet1!$I$5*F23 -> -827.5 | K23: Low | L23: 13 | M23: 13 | N23: 1.7 | O23: =N23*1000/3600 -> 0.47222222 | P23: =($N24-$N22)/2/3.6 -> 0.72222222 | R23: =$I$5*P23 -> 239.05556 | S23: =$I$5*9.81*$F$3 -> 64.9422 | T23: =(0.5*$L$3*$Q$3*$T$3*O23^2) -> 0.026862317 | U23: =R23+S23+T23 -> 304.02462 | V23: =U23+V22 -> 1235.6208 | W23: =U23*O23 -> 143.56718 | X23: =W23/1000 -> 0.14356718 | Y23: =IF(X23<0, X23, 0) -> 0 | Z23: 0 | AA23: =-AG23+AA22 -> 0 | AB23: =0.5*$I$5*O23^2 -> 36.905478 | AC23: =AB23/1000 -> 0.036905478 | AD23: =IF(X23<0,AC23,0) -> 0 | AE23: =AD23+AE22 -> 0 | AF23: =AE23/3600 -> 0 | AG23: =IF(X23<0,X23,0) -> 0 | AH23: =IF(X23>0,AC23,0) -> 0.036905478 | AI23: =AH23+AI22 -> 0.037416281 | AJ23: =AI23/3600 -> 1.0393411e-05 | AK23: =AH23-AG23 -> 0.036905478 | AL23: =AE23*$AL$7 -> 0 | AM23: =AL23*$AM$7 -> 0 | AN23: =AM23*$AN$7 -> 0 | AO23: =AN23*$AO$7 -> 0 | AP23: =AO23*$AP$7 -> 0 | AQ23: =AP23*$AQ$7 -> 0 | AR23: =AQ23*$AR$7 -> 0 | AS23: =AR23 -> 0 | AT23: =AS23/3600 -> 0 | AU23: =AI23-AS23 -> 0.037416281 | AV23: =AU23/3600 -> 1.0393411e-05 | AY23: 107,0 Nm (10,9 kg*m) / 7500 rpm7 | BJ23: 0 | BK23: =BJ23*$AL$7 -> 0 | BL23: =BK23*$AM$7 -> 0 | BM23: =BL23*$AN$7 -> 0 | BN23: =BM23*$AO$7 -> 0 | BO23: =BN23*$AP$7 -> 0 | BP23: =BO23*$AQ$7 -> 0 | BQ23: =BP23*$AR$7 -> 0 | BR23: =BQ23 -> 0 | BS23: =BR23/3600 -> 0 | BT23: =BJ23-BR23 -> 0 | BU23: =BT23/3600 -> 0
A24: 1.04 | B24: 177.32 | C24: 179.51 | D24: =AVERAGE(B24,C24) -> 178.415 | E24: =SUM(D24*1000)/3600 -> 49.559722 | F24: =(E24-E23)/0.08 -> -2.0138889 | G24: =Sheet1!$I$5*F24 -> -666.59722 | K24: Low | L24: 14 | M24: 14 | N24: 5.4 | O24: =N24*1000/3600 -> 1.5 | P24: =($N25-$N23)/2/3.6 -> 1.1388889 | R24: =$I$5*P24 -> 376.97222 | S24: =$I$5*9.81*$F$3 -> 64.9422 | T24: =(0.5*$L$3*$Q$3*$T$3*O24^2) -> 0.27103985 | U24: =R24+S24+T24 -> 442.18546 | V24: =U24+V23 -> 1677.8063 | W24: =U24*O24 -> 663.27819 | X24: =W24/1000 -> 0.66327819 | Y24: =IF(X24<0, X24, 0) -> 0 | Z24: 0 | AA24: =-AG24+AA23 -> 0 | AB24: =0.5*$I$5*O24^2 -> 372.375 | AC24: =AB24/1000 -> 0.372375 | AD24: =IF(X24<0,AC24,0) -> 0 | AE24: =AD24+AE23 -> 0 | AF24: =AE24/3600 -> 0 | AG24: =IF(X24<0,X24,0) -> 0 | AH24: =IF(X24>0,AC24,0) -> 0.372375 | AI24: =AH24+AI23 -> 0.40979128 | AJ24: =AI24/3600 -> 0.00011383091 | AK24: =AH24-AG24 -> 0.372375 | AL24: =AE24*$AL$7 -> 0 | AM24: =AL24*$AM$7 -> 0 | AN24: =AM24*$AN$7 -> 0 | AO24: =AN24*$AO$7 -> 0 | AP24: =AO24*$AP$7 -> 0 | AQ24: =AP24*$AQ$7 -> 0 | AR24: =AQ24*$AR$7 -> 0 | AS24: =AR24 -> 0 | AT24: =AS24/3600 -> 0 | AU24: =AI24-AS24 -> 0.40979128 | AV24: =AU24/3600 -> 0.00011383091 | AY24: 103,0 Nm (10,5 kg*m) / 7500 rpm8 | BJ24: 0 | BK24: =BJ24*$AL$7 -> 0 | BL24: =BK24*$AM$7 -> 0 | BM24: =BL24*$AN$7 -> 0 | BN24: =BM24*$AO$7 -> 0 | BO24: =BN24*$AP$7 -> 0 | BP24: =BO24*$AQ$7 -> 0 | BQ24: =BP24*$AR$7 -> 0 | BR24: =BQ24 -> 0 | BS24: =BR24/3600 -> 0 | BT24: =BJ24-BR24 -> 0 | BU24: =BT24/3600 -> 0
A25: 1.12 | B25: 176.89 | C25: 178.62 | D25: =AVERAGE(B25,C25) -> 177.755 | E25: =SUM(D25*1000)/3600 -> 49.376389 | F25: =(E25-E24)/0.08 -> -2.2916667 | G25: =Sheet1!$I$5*F25 -> -758.54167 | K25: Low | L25: 15 | M25: 15 | N25: 9.9 | O25: =N25*1000/3600 -> 2.75 | P25: =($N26-$N24)/2/3.6 -> 1.0694444 | R25: =$I$5*P25 -> 353.98611 | S25: =$I$5*9.81*$F$3 -> 64.9422 | T25: =(0.5*$L$3*$Q$3*$T$3*O25^2) -> 0.91099504 | U25: =R25+S25+T25 -> 419.83931 | V25: =U25+V24 -> 2097.6456 | W25: =U25*O25 -> 1154.5581 | X25: =W25/1000 -> 1.1545581 | Y25: =IF(X25<0, X25, 0) -> 0 | Z25: 0 | AA25: =-AG25+AA24 -> 0 | AB25: =0.5*$I$5*O25^2 -> 1251.5938 | AC25: =AB25/1000 -> 1.2515938 | AD25: =IF(X25<0,AC25,0) -> 0 | AE25: =AD25+AE24 -> 0 | AF25: =AE25/3600 -> 0 | AG25: =IF(X25<0,X25,0) -> 0 | AH25: =IF(X25>0,AC25,0) -> 1.2515938 | AI25: =AH25+AI24 -> 1.661385 | AJ25: =AI25/3600 -> 0.00046149584 | AK25: =AH25-AG25 -> 1.2515938 | AL25: =AE25*$AL$7 -> 0 | AM25: =AL25*$AM$7 -> 0 | AN25: =AM25*$AN$7 -> 0 | AO25: =AN25*$AO$7 -> 0 | AP25: =AO25*$AP$7 -> 0 | AQ25: =AP25*$AQ$7 -> 0 | AR25: =AQ25*$AR$7 -> 0 | AS25: =AR25 -> 0 | AT25: =AS25/3600 -> 0 | AU25: =AI25-AS25 -> 1.661385 | AV25: =AU25/3600 -> 0.00046149584 | AX25: Acceleration 0 to 100 km/h (0-60 mph) | AY25: 3,38 sec.9 | BC25: Rate = 4.7 Kj/s | BJ25: 0 | BK25: =BJ25*$AL$7 -> 0 | BL25: =BK25*$AM$7 -> 0 | BM25: =BL25*$AN$7 -> 0 | BN25: =BM25*$AO$7 -> 0 | BO25: =BN25*$AP$7 -> 0 | BP25: =BO25*$AQ$7 -> 0 | BQ25: =BP25*$AR$7 -> 0 | BR25: =BQ25 -> 0 | BS25: =BR25/3600 -> 0 | BT25: =BJ25-BR25 -> 0 | BU25: =BT25/3600 -> 0
A26: 1.2 | B26: 175.67 | C26: 178.05 | D26: =AVERAGE(B26,C26) -> 176.86 | E26: =SUM(D26*1000)/3600 -> 49.127778 | F26: =(E26-E25)/0.08 -> -3.1076389 | G26: =Sheet1!$I$5*F26 -> -1028.6285 | K26: Low | L26: 16 | M26: 16 | N26: 13.1 | O26: =N26*1000/3600 -> 3.6388889 | P26: =($N27-$N25)/2/3.6 -> 0.97222222 | R26: =$I$5*P26 -> 321.80556 | S26: =$I$5*9.81*$F$3 -> 64.9422 | T26: =(0.5*$L$3*$Q$3*$T$3*O26^2) -> 1.5951011 | U26: =R26+S26+T26 -> 388.34286 | V26: =U26+V25 -> 2485.9884 | W26: =U26*O26 -> 1413.1365 | X26: =W26/1000 -> 1.4131365 | Y26: =IF(X26<0, X26, 0) -> 0 | Z26: 0 | AA26: =-AG26+AA25 -> 0 | AB26: =0.5*$I$5*O26^2 -> 2191.4703 | AC26: =AB26/1000 -> 2.1914703 | AD26: =IF(X26<0,AC26,0) -> 0 | AE26: =AD26+AE25 -> 0 | AF26: =AE26/3600 -> 0 | AG26: =IF(X26<0,X26,0) -> 0 | AH26: =IF(X26>0,AC26,0) -> 2.1914703 | AI26: =AH26+AI25 -> 3.8528553 | AJ26: =AI26/3600 -> 0.0010702376 | AK26: =AH26-AG26 -> 2.1914703 | AL26: =AE26*$AL$7 -> 0 | AM26: =AL26*$AM$7 -> 0 | AN26: =AM26*$AN$7 -> 0 | AO26: =AN26*$AO$7 -> 0 | AP26: =AO26*$AP$7 -> 0 | AQ26: =AP26*$AQ$7 -> 0 | AR26: =AQ26*$AR$7 -> 0 | AS26: =AR26 -> 0 | AT26: =AS26/3600 -> 0 | AU26: =AI26-AS26 -> 3.8528553 | AV26: =AU26/3600 -> 0.0010702376 | AX26: Top speed | AY26: 257 km/h (160 mph)10 | BJ26: 0 | BK26: =BJ26*$AL$7 -> 0 | BL26: =BK26*$AM$7 -> 0 | BM26: =BL26*$AN$7 -> 0 | BN26: =BM26*$AO$7 -> 0 | BO26: =BN26*$AP$7 -> 0 | BP26: =BO26*$AQ$7 -> 0 | BQ26: =BP26*$AR$7 -> 0 | BR26: =BQ26 -> 0 | BS26: =BR26/3600 -> 0 | BT26: =BJ26-BR26 -> 0 | BU26: =BT26/3600 -> 0
A27: 1.28 | B27: 175.06 | C27: 177.46 | D27: =AVERAGE(B27,C27) -> 176.26 | E27: =SUM(D27*1000)/3600 -> 48.961111 | F27: =(E27-E26)/0.08 -> -2.0833333 | G27: =Sheet1!$I$5*F27 -> -689.58333 | K27: Low | L27: 17 | M27: 17 | N27: 16.9 | O27: =N27*1000/3600 -> 4.6944444 | P27: =($N28-$N26)/2/3.6 -> 1.1944444 | R27: =$I$5*P27 -> 395.36111 | S27: =$I$5*9.81*$F$3 -> 64.9422 | T27: =(0.5*$L$3*$Q$3*$T$3*O27^2) -> 2.6547219 | U27: =R27+S27+T27 -> 462.95803 | V27: =U27+V26 -> 2948.9465 | W27: =U27*O27 -> 2173.3308 | X27: =W27/1000 -> 2.1733308 | Y27: =IF(X27<0, X27, 0) -> 0 | Z27: 0 | AA27: =-AG27+AA26 -> 0 | AB27: =0.5*$I$5*O27^2 -> 3647.2573 | AC27: =AB27/1000 -> 3.6472573 | AD27: =IF(X27<0,AC27,0) -> 0 | AE27: =AD27+AE26 -> 0 | AF27: =AE27/3600 -> 0 | AG27: =IF(X27<0,X27,0) -> 0 | AH27: =IF(X27>0,AC27,0) -> 3.6472573 | AI27: =AH27+AI26 -> 7.5001127 | AJ27: =AI27/3600 -> 0.0020833646 | AK27: =AH27-AG27 -> 3.6472573 | AL27: =AE27*$AL$7 -> 0 | AM27: =AL27*$AM$7 -> 0 | AN27: =AM27*$AN$7 -> 0 | AO27: =AN27*$AO$7 -> 0 | AP27: =AO27*$AP$7 -> 0 | AQ27: =AP27*$AQ$7 -> 0 | AR27: =AQ27*$AR$7 -> 0 | AS27: =AR27 -> 0 | AT27: =AS27/3600 -> 0 | AU27: =AI27-AS27 -> 7.5001127 | AV27: =AU27/3600 -> 0.0020833646 | AX27: Fuel system (type) | AY27: Fuel Injection | BJ27: 0 | BK27: =BJ27*$AL$7 -> 0 | BL27: =BK27*$AM$7 -> 0 | BM27: =BL27*$AN$7 -> 0 | BN27: =BM27*$AO$7 -> 0 | BO27: =BN27*$AP$7 -> 0 | BP27: =BO27*$AQ$7 -> 0 | BQ27: =BP27*$AR$7 -> 0 | BR27: =BQ27 -> 0 | BS27: =BR27/3600 -> 0 | BT27: =BJ27-BR27 -> 0 | BU27: =BT27/3600 -> 0
A28: 1.36 | B28: 174.45 | C28: 176.42 | D28: =AVERAGE(B28,C28) -> 175.435 | E28: =SUM(D28*1000)/3600 -> 48.731944 | F28: =(E28-E27)/0.08 -> -2.8645833 | G28: =Sheet1!$I$5*F28 -> -948.17708 | K28: Low | L28: 18 | M28: 18 | N28: 21.7 | O28: =N28*1000/3600 -> 6.0277778 | P28: =($N29-$N27)/2/3.6 -> 1.2638889 | R28: =$I$5*P28 -> 418.34722 | S28: =$I$5*9.81*$F$3 -> 64.9422 | T28: =(0.5*$L$3*$Q$3*$T$3*O28^2) -> 4.3768845 | U28: =R28+S28+T28 -> 487.66631 | V28: =U28+V27 -> 3436.6128 | W28: =U28*O28 -> 2939.5441 | X28: =W28/1000 -> 2.9395441 | Y28: =IF(X28<0, X28, 0) -> 0 | Z28: 0 | AA28: =-AG28+AA27 -> 0 | AB28: =0.5*$I$5*O28^2 -> 6013.2944 | AC28: =AB28/1000 -> 6.0132944 | AD28: =IF(X28<0,AC28,0) -> 0 | AE28: =AD28+AE27 -> 0 | AF28: =AE28/3600 -> 0 | AG28: =IF(X28<0,X28,0) -> 0 | AH28: =IF(X28>0,AC28,0) -> 6.0132944 | AI28: =AH28+AI27 -> 13.513407 | AJ28: =AI28/3600 -> 0.0037537242 | AK28: =AH28-AG28 -> 6.0132944 | AL28: =AE28*$AL$7 -> 0 | AM28: =AL28*$AM$7 -> 0 | AN28: =AM28*$AN$7 -> 0 | AO28: =AN28*$AO$7 -> 0 | AP28: =AO28*$AP$7 -> 0 | AQ28: =AP28*$AQ$7 -> 0 | AR28: =AQ28*$AR$7 -> 0 | AS28: =AR28 -> 0 | AT28: =AS28/3600 -> 0 | AU28: =AI28-AS28 -> 13.513407 | AV28: =AU28/3600 -> 0.0037537242 | AX28: Fuel economy / consumption | AY28: 6,31 l / 100 km (37,3 mpg)11 | BJ28: 0 | BK28: =BJ28*$AL$7 -> 0 | BL28: =BK28*$AM$7 -> 0 | BM28: =BL28*$AN$7 -> 0 | BN28: =BM28*$AO$7 -> 0 | BO28: =BN28*$AP$7 -> 0 | BP28: =BO28*$AQ$7 -> 0 | BQ28: =BP28*$AR$7 -> 0 | BR28: =BQ28 -> 0 | BS28: =BR28/3600 -> 0 | BT28: =BJ28-BR28 -> 0 | BU28: =BT28/3600 -> 0
A29: 1.44 | B29: 173.88 | C29: 176.02 | D29: =AVERAGE(B29,C29) -> 174.95 | E29: =SUM(D29*1000)/3600 -> 48.597222 | F29: =(E29-E28)/0.08 -> -1.6840278 | G29: =Sheet1!$I$5*F29 -> -557.41319 | K29: Low | L29: 19 | M29: 19 | N29: 26 | O29: =N29*1000/3600 -> 7.2222222 | P29: =($N30-$N28)/2/3.6 -> 0.80555556 | R29: =$I$5*P29 -> 266.63889 | S29: =$I$5*9.81*$F$3 -> 64.9422 | T29: =(0.5*$L$3*$Q$3*$T$3*O29^2) -> 6.2833654 | U29: =R29+S29+T29 -> 337.86445 | V29: =U29+V28 -> 3774.4772 | W29: =U29*O29 -> 2440.1322 | X29: =W29/1000 -> 2.4401322 | Y29: =IF(X29<0, X29, 0) -> 0 | Z29: 0 | AA29: =-AG29+AA28 -> 0 | AB29: =0.5*$I$5*O29^2 -> 8632.5617 | AC29: =AB29/1000 -> 8.6325617 | AD29: =IF(X29<0,AC29,0) -> 0 | AE29: =AD29+AE28 -> 0 | AF29: =AE29/3600 -> 0 | AG29: =IF(X29<0,X29,0) -> 0 | AH29: =IF(X29>0,AC29,0) -> 8.6325617 | AI29: =AH29+AI28 -> 22.145969 | AJ29: =AI29/3600 -> 0.006151658 | AK29: =AH29-AG29 -> 8.6325617 | AL29: =AE29*$AL$7 -> 0 | AM29: =AL29*$AM$7 -> 0 | AN29: =AM29*$AN$7 -> 0 | AO29: =AN29*$AO$7 -> 0 | AP29: =AO29*$AP$7 -> 0 | AQ29: =AP29*$AQ$7 -> 0 | AR29: =AQ29*$AR$7 -> 0 | AS29: =AR29 -> 0 | AT29: =AS29/3600 -> 0 | AU29: =AI29-AS29 -> 22.145969 | AV29: =AU29/3600 -> 0.006151658 | BJ29: 0 | BK29: =BJ29*$AL$7 -> 0 | BL29: =BK29*$AM$7 -> 0 | BM29: =BL29*$AN$7 -> 0 | BN29: =BM29*$AO$7 -> 0 | BO29: =BN29*$AP$7 -> 0 | BP29: =BO29*$AQ$7 -> 0 | BQ29: =BP29*$AR$7 -> 0 | BR29: =BQ29 -> 0 | BS29: =BR29/3600 -> 0 | BT29: =BJ29-BR29 -> 0 | BU29: =BT29/3600 -> 0
A30: 1.52 | B30: 173.67 | C30: 175.42 | D30: =AVERAGE(B30,C30) -> 174.545 | E30: =SUM(D30*1000)/3600 -> 48.484722 | F30: =(E30-E29)/0.08 -> -1.40625 | G30: =Sheet1!$I$5*F30 -> -465.46875 | K30: Low | L30: 20 | M30: 20 | N30: 27.5 | O30: =N30*1000/3600 -> 7.6388889 | P30: =($N31-$N29)/2/3.6 -> 0.29166667 | R30: =$I$5*P30 -> 96.541667 | S30: =$I$5*9.81*$F$3 -> 64.9422 | T30: =(0.5*$L$3*$Q$3*$T$3*O30^2) -> 7.0292827 | U30: =R30+S30+T30 -> 168.51315 | V30: =U30+V29 -> 3942.9904 | W30: =U30*O30 -> 1287.2532 | X30: =W30/1000 -> 1.2872532 | Y30: =IF(X30<0, X30, 0) -> 0 | Z30: 0 | AA30: =-AG30+AA29 -> 0 | AB30: =0.5*$I$5*O30^2 -> 9657.3592 | AC30: =AB30/1000 -> 9.6573592 | AD30: =IF(X30<0,AC30,0) -> 0 | AE30: =AD30+AE29 -> 0 | AF30: =AE30/3600 -> 0 | AG30: =IF(X30<0,X30,0) -> 0 | AH30: =IF(X30>0,AC30,0) -> 9.6573592 | AI30: =AH30+AI29 -> 31.803328 | AJ30: =AI30/3600 -> 0.0088342578 | AK30: =AH30-AG30 -> 9.6573592 | AL30: =AE30*$AL$7 -> 0 | AM30: =AL30*$AM$7 -> 0 | AN30: =AM30*$AN$7 -> 0 | AO30: =AN30*$AO$7 -> 0 | AP30: =AO30*$AP$7 -> 0 | AQ30: =AP30*$AQ$7 -> 0 | AR30: =AQ30*$AR$7 -> 0 | AS30: =AR30 -> 0 | AT30: =AS30/3600 -> 0 | AU30: =AI30-AS30 -> 31.803328 | AV30: =AU30/3600 -> 0.0088342578 | AX30: DRIVE TRAIN | BJ30: 0 | BK30: =BJ30*$AL$7 -> 0 | BL30: =BK30*$AM$7 -> 0 | BM30: =BL30*$AN$7 -> 0 | BN30: =BM30*$AO$7 -> 0 | BO30: =BN30*$AP$7 -> 0 | BP30: =BO30*$AQ$7 -> 0 | BQ30: =BP30*$AR$7 -> 0 | BR30: =BQ30 -> 0 | BS30: =BR30/3600 -> 0 | BT30: =BJ30-BR30 -> 0 | BU30: =BT30/3600 -> 0
A31: 1.6 | B31: 172.66 | C31: 174.66 | D31: =AVERAGE(B31,C31) -> 173.66 | E31: =SUM(D31*1000)/3600 -> 48.238889 | F31: =(E31-E30)/0.08 -> -3.0729167 | G31: =Sheet1!$I$5*F31 -> -1017.1354 | K31: Low | L31: 21 | M31: 21 | N31: 28.1 | O31: =N31*1000/3600 -> 7.8055556 | P31: =($N32-$N30)/2/3.6 -> 0.11111111 | R31: =$I$5*P31 -> 36.777778 | S31: =$I$5*9.81*$F$3 -> 64.9422 | T31: =(0.5*$L$3*$Q$3*$T$3*O31^2) -> 7.3393612 | U31: =R31+S31+T31 -> 109.05934 | V31: =U31+V30 -> 4052.0497 | W31: =U31*O31 -> 851.26873 | X31: =W31/1000 -> 0.85126873 | Y31: =IF(X31<0, X31, 0) -> 0 | Z31: 0 | AA31: =-AG31+AA30 -> 0 | AB31: =0.5*$I$5*O31^2 -> 10083.368 | AC31: =AB31/1000 -> 10.083368 | AD31: =IF(X31<0,AC31,0) -> 0 | AE31: =AD31+AE30 -> 0 | AF31: =AE31/3600 -> 0 | AG31: =IF(X31<0,X31,0) -> 0 | AH31: =IF(X31>0,AC31,0) -> 10.083368 | AI31: =AH31+AI30 -> 41.886696 | AJ31: =AI31/3600 -> 0.011635193 | AK31: =AH31-AG31 -> 10.083368 | AL31: =AE31*$AL$7 -> 0 | AM31: =AL31*$AM$7 -> 0 | AN31: =AM31*$AN$7 -> 0 | AO31: =AN31*$AO$7 -> 0 | AP31: =AO31*$AP$7 -> 0 | AQ31: =AP31*$AQ$7 -> 0 | AR31: =AQ31*$AR$7 -> 0 | AS31: =AR31 -> 0 | AT31: =AS31/3600 -> 0 | AU31: =AI31-AS31 -> 41.886696 | AV31: =AU31/3600 -> 0.011635193 | AX31: Clutch | AY31: Wet, multi-plate, cable operated | BJ31: 0 | BK31: =BJ31*$AL$7 -> 0 | BL31: =BK31*$AM$7 -> 0 | BM31: =BL31*$AN$7 -> 0 | BN31: =BM31*$AO$7 -> 0 | BO31: =BN31*$AP$7 -> 0 | BP31: =BO31*$AQ$7 -> 0 | BQ31: =BP31*$AR$7 -> 0 | BR31: =BQ31 -> 0 | BS31: =BR31/3600 -> 0 | BT31: =BJ31-BR31 -> 0 | BU31: =BT31/3600 -> 0
A32: 1.68 | B32: 172.11 | C32: 173.88 | D32: =AVERAGE(B32,C32) -> 172.995 | E32: =SUM(D32*1000)/3600 -> 48.054167 | F32: =(E32-E31)/0.08 -> -2.3090278 | G32: =Sheet1!$I$5*F32 -> -764.28819 | K32: Low | L32: 22 | M32: 22 | N32: 28.3 | O32: =N32*1000/3600 -> 7.8611111 | P32: =($N33-$N31)/2/3.6 -> 0.097222222 | R32: =$I$5*P32 -> 32.180556 | S32: =$I$5*9.81*$F$3 -> 64.9422 | T32: =(0.5*$L$3*$Q$3*$T$3*O32^2) -> 7.4442079 | U32: =R32+S32+T32 -> 104.56696 | V32: =U32+V31 -> 4156.6167 | W32: =U32*O32 -> 822.01252 | X32: =W32/1000 -> 0.82201252 | Y32: =IF(X32<0, X32, 0) -> 0 | Z32: 0 | AA32: =-AG32+AA31 -> 0 | AB32: =0.5*$I$5*O32^2 -> 10227.415 | AC32: =AB32/1000 -> 10.227415 | AD32: =IF(X32<0,AC32,0) -> 0 | AE32: =AD32+AE31 -> 0 | AF32: =AE32/3600 -> 0 | AG32: =IF(X32<0,X32,0) -> 0 | AH32: =IF(X32>0,AC32,0) -> 10.227415 | AI32: =AH32+AI31 -> 52.114111 | AJ32: =AI32/3600 -> 0.014476142 | AK32: =AH32-AG32 -> 10.227415 | AL32: =AE32*$AL$7 -> 0 | AM32: =AL32*$AM$7 -> 0 | AN32: =AM32*$AN$7 -> 0 | AO32: =AN32*$AO$7 -> 0 | AP32: =AO32*$AP$7 -> 0 | AQ32: =AP32*$AQ$7 -> 0 | AR32: =AQ32*$AR$7 -> 0 | AS32: =AR32 -> 0 | AT32: =AS32/3600 -> 0 | AU32: =AI32-AS32 -> 52.114111 | AV32: =AU32/3600 -> 0.014476142 | AX32: Transmission | AY32: 6-speed | BJ32: 0 | BK32: =BJ32*$AL$7 -> 0 | BL32: =BK32*$AM$7 -> 0 | BM32: =BL32*$AN$7 -> 0 | BN32: =BM32*$AO$7 -> 0 | BO32: =BN32*$AP$7 -> 0 | BP32: =BO32*$AQ$7 -> 0 | BQ32: =BP32*$AR$7 -> 0 | BR32: =BQ32 -> 0 | BS32: =BR32/3600 -> 0 | BT32: =BJ32-BR32 -> 0 | BU32: =BT32/3600 -> 0
A33: 1.76 | B33: 171.58 | C33: 173.29 | D33: =AVERAGE(B33,C33) -> 172.435 | E33: =SUM(D33*1000)/3600 -> 47.898611 | F33: =(E33-E32)/0.08 -> -1.9444444 | G33: =Sheet1!$I$5*F33 -> -643.61111 | K33: Low | L33: 23 | M33: 23 | N33: 28.8 | O33: =N33*1000/3600 -> 8 | P33: =($N34-$N32)/2/3.6 -> 0.11111111 | R33: =$I$5*P33 -> 36.777778 | S33: =$I$5*9.81*$F$3 -> 64.9422 | T33: =(0.5*$L$3*$Q$3*$T$3*O33^2) -> 7.7095779 | U33: =R33+S33+T33 -> 109.42956 | V33: =U33+V32 -> 4266.0462 | W33: =U33*O33 -> 875.43645 | X33: =W33/1000 -> 0.87543645 | Y33: =IF(X33<0, X33, 0) -> 0 | Z33: 0 | AA33: =-AG33+AA32 -> 0 | AB33: =0.5*$I$5*O33^2 -> 10592 | AC33: =AB33/1000 -> 10.592 | AD33: =IF(X33<0,AC33,0) -> 0 | AE33: =AD33+AE32 -> 0 | AF33: =AE33/3600 -> 0 | AG33: =IF(X33<0,X33,0) -> 0 | AH33: =IF(X33>0,AC33,0) -> 10.592 | AI33: =AH33+AI32 -> 62.706111 | AJ33: =AI33/3600 -> 0.017418364 | AK33: =AH33-AG33 -> 10.592 | AL33: =AE33*$AL$7 -> 0 | AM33: =AL33*$AM$7 -> 0 | AN33: =AM33*$AN$7 -> 0 | AO33: =AN33*$AO$7 -> 0 | AP33: =AO33*$AP$7 -> 0 | AQ33: =AP33*$AQ$7 -> 0 | AR33: =AQ33*$AR$7 -> 0 | AS33: =AR33 -> 0 | AT33: =AS33/3600 -> 0 | AU33: =AI33-AS33 -> 62.706111 | AV33: =AU33/3600 -> 0.017418364 | AX33: Final drive | AY33: Chain | BJ33: 0 | BK33: =BJ33*$AL$7 -> 0 | BL33: =BK33*$AM$7 -> 0 | BM33: =BL33*$AN$7 -> 0 | BN33: =BM33*$AO$7 -> 0 | BO33: =BN33*$AP$7 -> 0 | BP33: =BO33*$AQ$7 -> 0 | BQ33: =BP33*$AR$7 -> 0 | BR33: =BQ33 -> 0 | BS33: =BR33/3600 -> 0 | BT33: =BJ33-BR33 -> 0 | BU33: =BT33/3600 -> 0
A34: 1.84 | B34: 170.74 | C34: 172.64 | D34: =AVERAGE(B34,C34) -> 171.69 | E34: =SUM(D34*1000)/3600 -> 47.691667 | F34: =(E34-E33)/0.08 -> -2.5868056 | G34: =Sheet1!$I$5*F34 -> -856.23264 | K34: Low | L34: 24 | M34: 24 | N34: 29.1 | O34: =N34*1000/3600 -> 8.0833333 | P34: =($N35-$N33)/2/3.6 -> 0.27777778 | R34: =$I$5*P34 -> 91.944444 | S34: =$I$5*9.81*$F$3 -> 64.9422 | T34: =(0.5*$L$3*$Q$3*$T$3*O34^2) -> 7.8710306 | U34: =R34+S34+T34 -> 164.75768 | V34: =U34+V33 -> 4430.8039 | W34: =U34*O34 -> 1331.7912 | X34: =W34/1000 -> 1.3317912 | Y34: =IF(X34<0, X34, 0) -> 0 | Z34: 0 | AA34: =-AG34+AA33 -> 0 | AB34: =0.5*$I$5*O34^2 -> 10813.816 | AC34: =AB34/1000 -> 10.813816 | AD34: =IF(X34<0,AC34,0) -> 0 | AE34: =AD34+AE33 -> 0 | AF34: =AE34/3600 -> 0 | AG34: =IF(X34<0,X34,0) -> 0 | AH34: =IF(X34>0,AC34,0) -> 10.813816 | AI34: =AH34+AI33 -> 73.519927 | AJ34: =AI34/3600 -> 0.020422202 | AK34: =AH34-AG34 -> 10.813816 | AL34: =AE34*$AL$7 -> 0 | AM34: =AL34*$AM$7 -> 0 | AN34: =AM34*$AN$7 -> 0 | AO34: =AN34*$AO$7 -> 0 | AP34: =AO34*$AP$7 -> 0 | AQ34: =AP34*$AQ$7 -> 0 | AR34: =AQ34*$AR$7 -> 0 | AS34: =AR34 -> 0 | AT34: =AS34/3600 -> 0 | AU34: =AI34-AS34 -> 73.519927 | AV34: =AU34/3600 -> 0.020422202 | AX34: Gear ratio | BJ34: 0 | BK34: =BJ34*$AL$7 -> 0 | BL34: =BK34*$AM$7 -> 0 | BM34: =BL34*$AN$7 -> 0 | BN34: =BM34*$AO$7 -> 0 | BO34: =BN34*$AP$7 -> 0 | BP34: =BO34*$AQ$7 -> 0 | BQ34: =BP34*$AR$7 -> 0 | BR34: =BQ34 -> 0 | BS34: =BR34/3600 -> 0 | BT34: =BJ34-BR34 -> 0 | BU34: =BT34/3600 -> 0
A35: 1.92 | B35: 170.32 | C35: 171.96 | D35: =AVERAGE(B35,C35) -> 171.14 | E35: =SUM(D35*1000)/3600 -> 47.538889 | F35: =(E35-E34)/0.08 -> -1.9097222 | G35: =Sheet1!$I$5*F35 -> -632.11806 | K35: Low | L35: 25 | M35: 25 | N35: 30.8 | O35: =N35*1000/3600 -> 8.5555556 | P35: =($N36-$N34)/2/3.6 -> 0.38888889 | R35: =$I$5*P35 -> 128.72222 | S35: =$I$5*9.81*$F$3 -> 64.9422 | T35: =(0.5*$L$3*$Q$3*$T$3*O35^2) -> 8.8175322 | U35: =R35+S35+T35 -> 202.48195 | V35: =U35+V34 -> 4633.2859 | W35: =U35*O35 -> 1732.3456 | X35: =W35/1000 -> 1.7323456 | Y35: =IF(X35<0, X35, 0) -> 0 | Z35: 0 | AA35: =-AG35+AA34 -> 0 | AB35: =0.5*$I$5*O35^2 -> 12114.191 | AC35: =AB35/1000 -> 12.114191 | AD35: =IF(X35<0,AC35,0) -> 0 | AE35: =AD35+AE34 -> 0 | AF35: =AE35/3600 -> 0 | AG35: =IF(X35<0,X35,0) -> 0 | AH35: =IF(X35>0,AC35,0) -> 12.114191 | AI35: =AH35+AI34 -> 85.634118 | AJ35: =AI35/3600 -> 0.023787255 | AK35: =AH35-AG35 -> 12.114191 | AL35: =AE35*$AL$7 -> 0 | AM35: =AL35*$AM$7 -> 0 | AN35: =AM35*$AN$7 -> 0 | AO35: =AN35*$AO$7 -> 0 | AP35: =AO35*$AP$7 -> 0 | AQ35: =AP35*$AQ$7 -> 0 | AR35: =AQ35*$AR$7 -> 0 | AS35: =AR35 -> 0 | AT35: =AS35/3600 -> 0 | AU35: =AI35-AS35 -> 85.634118 | AV35: =AU35/3600 -> 0.023787255 | AX35: I | AY35: 2.733 | BJ35: 0 | BK35: =BJ35*$AL$7 -> 0 | BL35: =BK35*$AM$7 -> 0 | BM35: =BL35*$AN$7 -> 0 | BN35: =BM35*$AO$7 -> 0 | BO35: =BN35*$AP$7 -> 0 | BP35: =BO35*$AQ$7 -> 0 | BQ35: =BP35*$AR$7 -> 0 | BR35: =BQ35 -> 0 | BS35: =BR35/3600 -> 0 | BT35: =BJ35-BR35 -> 0 | BU35: =BT35/3600 -> 0
A36: 2 | B36: 169.83 | C36: 171.21 | D36: =AVERAGE(B36,C36) -> 170.52 | E36: =SUM(D36*1000)/3600 -> 47.366667 | F36: =(E36-E35)/0.08 -> -2.1527778 | G36: =Sheet1!$I$5*F36 -> -712.56944 | K36: Low | L36: 26 | M36: 26 | N36: 31.9 | O36: =N36*1000/3600 -> 8.8611111 | P36: =($N37-$N35)/2/3.6 -> 0.45833333 | R36: =$I$5*P36 -> 151.70833 | S36: =$I$5*9.81*$F$3 -> 64.9422 | T36: =(0.5*$L$3*$Q$3*$T$3*O36^2) -> 9.4586028 | U36: =R36+S36+T36 -> 226.10914 | V36: =U36+V35 -> 4859.395 | W36: =U36*O36 -> 2003.5782 | X36: =W36/1000 -> 2.0035782 | Y36: =IF(X36<0, X36, 0) -> 0 | Z36: 0 | AA36: =-AG36+AA35 -> 0 | AB36: =0.5*$I$5*O36^2 -> 12994.943 | AC36: =AB36/1000 -> 12.994943 | AD36: =IF(X36<0,AC36,0) -> 0 | AE36: =AD36+AE35 -> 0 | AF36: =AE36/3600 -> 0 | AG36: =IF(X36<0,X36,0) -> 0 | AH36: =IF(X36>0,AC36,0) -> 12.994943 | AI36: =AH36+AI35 -> 98.629061 | AJ36: =AI36/3600 -> 0.027396961 | AK36: =AH36-AG36 -> 12.994943 | AL36: =AE36*$AL$7 -> 0 | AM36: =AL36*$AM$7 -> 0 | AN36: =AM36*$AN$7 -> 0 | AO36: =AN36*$AO$7 -> 0 | AP36: =AO36*$AP$7 -> 0 | AQ36: =AP36*$AQ$7 -> 0 | AR36: =AQ36*$AR$7 -> 0 | AS36: =AR36 -> 0 | AT36: =AS36/3600 -> 0 | AU36: =AI36-AS36 -> 98.629061 | AV36: =AU36/3600 -> 0.027396961 | AX36: II | AY36: 1.947 | BJ36: 0 | BK36: =BJ36*$AL$7 -> 0 | BL36: =BK36*$AM$7 -> 0 | BM36: =BL36*$AN$7 -> 0 | BN36: =BM36*$AO$7 -> 0 | BO36: =BN36*$AP$7 -> 0 | BP36: =BO36*$AQ$7 -> 0 | BQ36: =BP36*$AR$7 -> 0 | BR36: =BQ36 -> 0 | BS36: =BR36/3600 -> 0 | BT36: =BJ36-BR36 -> 0 | BU36: =BT36/3600 -> 0
A37: 2.08 | B37: 169.07 | C37: 170.3 | D37: =AVERAGE(B37,C37) -> 169.685 | E37: =SUM(D37*1000)/3600 -> 47.134722 | F37: =(E37-E36)/0.08 -> -2.8993056 | G37: =Sheet1!$I$5*F37 -> -959.67014 | K37: Low | L37: 27 | M37: 27 | N37: 34.1 | O37: =N37*1000/3600 -> 9.4722222 | P37: =($N38-$N36)/2/3.6 -> 0.65277778 | R37: =$I$5*P37 -> 216.06944 | S37: =$I$5*9.81*$F$3 -> 64.9422 | T37: =(0.5*$L$3*$Q$3*$T$3*O37^2) -> 10.808225 | U37: =R37+S37+T37 -> 291.81987 | V37: =U37+V36 -> 5151.2149 | W37: =U37*O37 -> 2764.1827 | X37: =W37/1000 -> 2.7641827 | Y37: =IF(X37<0, X37, 0) -> 0 | Z37: 0 | AA37: =-AG37+AA36 -> 0 | AB37: =0.5*$I$5*O37^2 -> 14849.155 | AC37: =AB37/1000 -> 14.849155 | AD37: =IF(X37<0,AC37,0) -> 0 | AE37: =AD37+AE36 -> 0 | AF37: =AE37/3600 -> 0 | AG37: =IF(X37<0,X37,0) -> 0 | AH37: =IF(X37>0,AC37,0) -> 14.849155 | AI37: =AH37+AI36 -> 113.47822 | AJ37: =AI37/3600 -> 0.031521727 | AK37: =AH37-AG37 -> 14.849155 | AL37: =AE37*$AL$7 -> 0 | AM37: =AL37*$AM$7 -> 0 | AN37: =AM37*$AN$7 -> 0 | AO37: =AN37*$AO$7 -> 0 | AP37: =AO37*$AP$7 -> 0 | AQ37: =AP37*$AQ$7 -> 0 | AR37: =AQ37*$AR$7 -> 0 | AS37: =AR37 -> 0 | AT37: =AS37/3600 -> 0 | AU37: =AI37-AS37 -> 113.47822 | AV37: =AU37/3600 -> 0.031521727 | AX37: III | AY37: 1.545 | BJ37: 0 | BK37: =BJ37*$AL$7 -> 0 | BL37: =BK37*$AM$7 -> 0 | BM37: =BL37*$AN$7 -> 0 | BN37: =BM37*$AO$7 -> 0 | BO37: =BN37*$AP$7 -> 0 | BP37: =BO37*$AQ$7 -> 0 | BQ37: =BP37*$AR$7 -> 0 | BR37: =BQ37 -> 0 | BS37: =BR37/3600 -> 0 | BT37: =BJ37-BR37 -> 0 | BU37: =BT37/3600 -> 0
A38: 2.16 | B38: 168.5 | C38: 169.47 | D38: =AVERAGE(B38,C38) -> 168.985 | E38: =SUM(D38*1000)/3600 -> 46.940278 | F38: =(E38-E37)/0.08 -> -2.4305556 | G38: =Sheet1!$I$5*F38 -> -804.51389 | K38: Low | L38: 28 | M38: 28 | N38: 36.6 | O38: =N38*1000/3600 -> 10.166667 | P38: =($N39-$N37)/2/3.6 -> 0.69444444 | R38: =$I$5*P38 -> 229.86111 | S38: =$I$5*9.81*$F$3 -> 64.9422 | T38: =(0.5*$L$3*$Q$3*$T$3*O38^2) -> 12.451102 | U38: =R38+S38+T38 -> 307.25441 | V38: =U38+V37 -> 5458.4693 | W38: =U38*O38 -> 3123.7532 | X38: =W38/1000 -> 3.1237532 | Y38: =IF(X38<0, X38, 0) -> 0 | Z38: 0 | AA38: =-AG38+AA37 -> 0 | AB38: =0.5*$I$5*O38^2 -> 17106.264 | AC38: =AB38/1000 -> 17.106264 | AD38: =IF(X38<0,AC38,0) -> 0 | AE38: =AD38+AE37 -> 0 | AF38: =AE38/3600 -> 0 | AG38: =IF(X38<0,X38,0) -> 0 | AH38: =IF(X38>0,AC38,0) -> 17.106264 | AI38: =AH38+AI37 -> 130.58448 | AJ38: =AI38/3600 -> 0.036273467 | AK38: =AH38-AG38 -> 17.106264 | AL38: =AE38*$AL$7 -> 0 | AM38: =AL38*$AM$7 -> 0 | AN38: =AM38*$AN$7 -> 0 | AO38: =AN38*$AO$7 -> 0 | AP38: =AO38*$AP$7 -> 0 | AQ38: =AP38*$AQ$7 -> 0 | AR38: =AQ38*$AR$7 -> 0 | AS38: =AR38 -> 0 | AT38: =AS38/3600 -> 0 | AU38: =AI38-AS38 -> 130.58448 | AV38: =AU38/3600 -> 0.036273467 | AX38: IV | AY38: 1.291 | BJ38: 0 | BK38: =BJ38*$AL$7 -> 0 | BL38: =BK38*$AM$7 -> 0 | BM38: =BL38*$AN$7 -> 0 | BN38: =BM38*$AO$7 -> 0 | BO38: =BN38*$AP$7 -> 0 | BP38: =BO38*$AQ$7 -> 0 | BQ38: =BP38*$AR$7 -> 0 | BR38: =BQ38 -> 0 | BS38: =BR38/3600 -> 0 | BT38: =BJ38-BR38 -> 0 | BU38: =BT38/3600 -> 0
A39: 2.24 | B39: 168.32 | C39: 169.22 | D39: =AVERAGE(B39,C39) -> 168.77 | E39: =SUM(D39*1000)/3600 -> 46.880556 | F39: =(E39-E38)/0.08 -> -0.74652778 | G39: =Sheet1!$I$5*F39 -> -247.10069 | K39: Low | L39: 29 | M39: 29 | N39: 39.1 | O39: =N39*1000/3600 -> 10.861111 | P39: =($N40-$N38)/2/3.6 -> 0.65277778 | R39: =$I$5*P39 -> 216.06944 | S39: =$I$5*9.81*$F$3 -> 64.9422 | T39: =(0.5*$L$3*$Q$3*$T$3*O39^2) -> 14.210166 | U39: =R39+S39+T39 -> 295.22181 | V39: =U39+V38 -> 5753.6911 | W39: =U39*O39 -> 3206.4369 | X39: =W39/1000 -> 3.2064369 | Y39: =IF(X39<0, X39, 0) -> 0 | Z39: 0 | AA39: =-AG39+AA38 -> 0 | AB39: =0.5*$I$5*O39^2 -> 19522.998 | AC39: =AB39/1000 -> 19.522998 | AD39: =IF(X39<0,AC39,0) -> 0 | AE39: =AD39+AE38 -> 0 | AF39: =AE39/3600 -> 0 | AG39: =IF(X39<0,X39,0) -> 0 | AH39: =IF(X39>0,AC39,0) -> 19.522998 | AI39: =AH39+AI38 -> 150.10748 | AJ39: =AI39/3600 -> 0.041696522 | AK39: =AH39-AG39 -> 19.522998 | AL39: =AE39*$AL$7 -> 0 | AM39: =AL39*$AM$7 -> 0 | AN39: =AM39*$AN$7 -> 0 | AO39: =AN39*$AO$7 -> 0 | AP39: =AO39*$AP$7 -> 0 | AQ39: =AP39*$AQ$7 -> 0 | AR39: =AQ39*$AR$7 -> 0 | AS39: =AR39 -> 0 | AT39: =AS39/3600 -> 0 | AU39: =AI39-AS39 -> 150.10748 | AV39: =AU39/3600 -> 0.041696522 | AX39: V | AY39: 1.154 | BJ39: 0 | BK39: =BJ39*$AL$7 -> 0 | BL39: =BK39*$AM$7 -> 0 | BM39: =BL39*$AN$7 -> 0 | BN39: =BM39*$AO$7 -> 0 | BO39: =BN39*$AP$7 -> 0 | BP39: =BO39*$AQ$7 -> 0 | BQ39: =BP39*$AR$7 -> 0 | BR39: =BQ39 -> 0 | BS39: =BR39/3600 -> 0 | BT39: =BJ39-BR39 -> 0 | BU39: =BT39/3600 -> 0
A40: 2.32 | B40: 167.27 | C40: 168.66 | D40: =AVERAGE(B40,C40) -> 167.965 | E40: =SUM(D40*1000)/3600 -> 46.656944 | F40: =(E40-E39)/0.08 -> -2.7951389 | G40: =Sheet1!$I$5*F40 -> -925.19097 | K40: Low | L40: 30 | M40: 30 | N40: 41.3 | O40: =N40*1000/3600 -> 11.472222 | P40: =($N41-$N39)/2/3.6 -> 0.47222222 | R40: =$I$5*P40 -> 156.30556 | S40: =$I$5*9.81*$F$3 -> 64.9422 | T40: =(0.5*$L$3*$Q$3*$T$3*O40^2) -> 15.854251 | U40: =R40+S40+T40 -> 237.10201 | V40: =U40+V39 -> 5990.7931 | W40: =U40*O40 -> 2720.0869 | X40: =W40/1000 -> 2.7200869 | Y40: =IF(X40<0, X40, 0) -> 0 | Z40: 0 | AA40: =-AG40+AA39 -> 0 | AB40: =0.5*$I$5*O40^2 -> 21781.767 | AC40: =AB40/1000 -> 21.781767 | AD40: =IF(X40<0,AC40,0) -> 0 | AE40: =AD40+AE39 -> 0 | AF40: =AE40/3600 -> 0 | AG40: =IF(X40<0,X40,0) -> 0 | AH40: =IF(X40>0,AC40,0) -> 21.781767 | AI40: =AH40+AI39 -> 171.88924 | AJ40: =AI40/3600 -> 0.047747012 | AK40: =AH40-AG40 -> 21.781767 | AL40: =AE40*$AL$7 -> 0 | AM40: =AL40*$AM$7 -> 0 | AN40: =AM40*$AN$7 -> 0 | AO40: =AN40*$AO$7 -> 0 | AP40: =AO40*$AP$7 -> 0 | AQ40: =AP40*$AQ$7 -> 0 | AR40: =AQ40*$AR$7 -> 0 | AS40: =AR40 -> 0 | AT40: =AS40/3600 -> 0 | AU40: =AI40-AS40 -> 171.88924 | AV40: =AU40/3600 -> 0.047747012 | AX40: VI | AY40: 1.074 | BJ40: 0 | BK40: =BJ40*$AL$7 -> 0 | BL40: =BK40*$AM$7 -> 0 | BM40: =BL40*$AN$7 -> 0 | BN40: =BM40*$AO$7 -> 0 | BO40: =BN40*$AP$7 -> 0 | BP40: =BO40*$AQ$7 -> 0 | BQ40: =BP40*$AR$7 -> 0 | BR40: =BQ40 -> 0 | BS40: =BR40/3600 -> 0 | BT40: =BJ40-BR40 -> 0 | BU40: =BT40/3600 -> 0
A41: 2.4 | B41: 166.87 | C41: 167.95 | D41: =AVERAGE(B41,C41) -> 167.41 | E41: =SUM(D41*1000)/3600 -> 46.502778 | F41: =(E41-E40)/0.08 -> -1.9270833 | G41: =Sheet1!$I$5*F41 -> -637.86458 | K41: Low | L41: 31 | M41: 31 | N41: 42.5 | O41: =N41*1000/3600 -> 11.805556 | P41: =($N42-$N40)/2/3.6 -> 0.27777778 | R41: =$I$5*P41 -> 91.944444 | S41: =$I$5*9.81*$F$3 -> 64.9422 | T41: =(0.5*$L$3*$Q$3*$T$3*O41^2) -> 16.788948 | U41: =R41+S41+T41 -> 173.67559 | V41: =U41+V40 -> 6164.4687 | W41: =U41*O41 -> 2050.3369 | X41: =W41/1000 -> 2.0503369 | Y41: =IF(X41<0, X41, 0) -> 0 | Z41: 0 | AA41: =-AG41+AA40 -> 0 | AB41: =0.5*$I$5*O41^2 -> 23065.924 | AC41: =AB41/1000 -> 23.065924 | AD41: =IF(X41<0,AC41,0) -> 0 | AE41: =AD41+AE40 -> 0 | AF41: =AE41/3600 -> 0 | AG41: =IF(X41<0,X41,0) -> 0 | AH41: =IF(X41>0,AC41,0) -> 23.065924 | AI41: =AH41+AI40 -> 194.95517 | AJ41: =AI41/3600 -> 0.054154214 | AK41: =AH41-AG41 -> 23.065924 | AL41: =AE41*$AL$7 -> 0 | AM41: =AL41*$AM$7 -> 0 | AN41: =AM41*$AN$7 -> 0 | AO41: =AN41*$AO$7 -> 0 | AP41: =AO41*$AP$7 -> 0 | AQ41: =AP41*$AQ$7 -> 0 | AR41: =AQ41*$AR$7 -> 0 | AS41: =AR41 -> 0 | AT41: =AS41/3600 -> 0 | AU41: =AI41-AS41 -> 194.95517 | AV41: =AU41/3600 -> 0.054154214 | BJ41: 0 | BK41: =BJ41*$AL$7 -> 0 | BL41: =BK41*$AM$7 -> 0 | BM41: =BL41*$AN$7 -> 0 | BN41: =BM41*$AO$7 -> 0 | BO41: =BN41*$AP$7 -> 0 | BP41: =BO41*$AQ$7 -> 0 | BQ41: =BP41*$AR$7 -> 0 | BR41: =BQ41 -> 0 | BS41: =BR41/3600 -> 0 | BT41: =BJ41-BR41 -> 0 | BU41: =BT41/3600 -> 0
A42: 2.48 | B42: 166.25 | C42: 166.92 | D42: =AVERAGE(B42,C42) -> 166.585 | E42: =SUM(D42*1000)/3600 -> 46.273611 | F42: =(E42-E41)/0.08 -> -2.8645833 | G42: =Sheet1!$I$5*F42 -> -948.17708 | K42: Low | L42: 32 | M42: 32 | N42: 43.3 | O42: =N42*1000/3600 -> 12.027778 | P42: =($N43-$N41)/2/3.6 -> 0.19444444 | R42: =$I$5*P42 -> 64.361111 | S42: =$I$5*9.81*$F$3 -> 64.9422 | T42: =(0.5*$L$3*$Q$3*$T$3*O42^2) -> 17.426951 | U42: =R42+S42+T42 -> 146.73026 | V42: =U42+V41 -> 6311.199 | W42: =U42*O42 -> 1764.839 | X42: =W42/1000 -> 1.764839 | Y42: =IF(X42<0, X42, 0) -> 0 | Z42: 0 | AA42: =-AG42+AA41 -> 0 | AB42: =0.5*$I$5*O42^2 -> 23942.461 | AC42: =AB42/1000 -> 23.942461 | AD42: =IF(X42<0,AC42,0) -> 0 | AE42: =AD42+AE41 -> 0 | AF42: =AE42/3600 -> 0 | AG42: =IF(X42<0,X42,0) -> 0 | AH42: =IF(X42>0,AC42,0) -> 23.942461 | AI42: =AH42+AI41 -> 218.89763 | AJ42: =AI42/3600 -> 0.060804897 | AK42: =AH42-AG42 -> 23.942461 | AL42: =AE42*$AL$7 -> 0 | AM42: =AL42*$AM$7 -> 0 | AN42: =AM42*$AN$7 -> 0 | AO42: =AN42*$AO$7 -> 0 | AP42: =AO42*$AP$7 -> 0 | AQ42: =AP42*$AQ$7 -> 0 | AR42: =AQ42*$AR$7 -> 0 | AS42: =AR42 -> 0 | AT42: =AS42/3600 -> 0 | AU42: =AI42-AS42 -> 218.89763 | AV42: =AU42/3600 -> 0.060804897 | AX42: FRAME | BJ42: 0 | BK42: =BJ42*$AL$7 -> 0 | BL42: =BK42*$AM$7 -> 0 | BM42: =BL42*$AN$7 -> 0 | BN42: =BM42*$AO$7 -> 0 | BO42: =BN42*$AP$7 -> 0 | BP42: =BO42*$AQ$7 -> 0 | BQ42: =BP42*$AR$7 -> 0 | BR42: =BQ42 -> 0 | BS42: =BR42/3600 -> 0 | BT42: =BJ42-BR42 -> 0 | BU42: =BT42/3600 -> 0
A43: 2.56 | B43: 165.95 | C43: 166.85 | D43: =AVERAGE(B43,C43) -> 166.4 | E43: =SUM(D43*1000)/3600 -> 46.222222 | F43: =(E43-E42)/0.08 -> -0.64236111 | G43: =Sheet1!$I$5*F43 -> -212.62153 | K43: Low | L43: 33 | M43: 33 | N43: 43.9 | O43: =N43*1000/3600 -> 12.194444 | P43: =($N44-$N42)/2/3.6 -> 0.15277778 | R43: =$I$5*P43 -> 50.569444 | S43: =$I$5*9.81*$F$3 -> 64.9422 | T43: =(0.5*$L$3*$Q$3*$T$3*O43^2) -> 17.913261 | U43: =R43+S43+T43 -> 133.42491 | V43: =U43+V42 -> 6444.6239 | W43: =U43*O43 -> 1627.0426 | X43: =W43/1000 -> 1.6270426 | Y43: =IF(X43<0, X43, 0) -> 0 | Z43: 0 | AA43: =-AG43+AA42 -> 0 | AB43: =0.5*$I$5*O43^2 -> 24610.591 | AC43: =AB43/1000 -> 24.610591 | AD43: =IF(X43<0,AC43,0) -> 0 | AE43: =AD43+AE42 -> 0 | AF43: =AE43/3600 -> 0 | AG43: =IF(X43<0,X43,0) -> 0 | AH43: =IF(X43>0,AC43,0) -> 24.610591 | AI43: =AH43+AI42 -> 243.50822 | AJ43: =AI43/3600 -> 0.067641172 | AK43: =AH43-AG43 -> 24.610591 | AL43: =AE43*$AL$7 -> 0 | AM43: =AL43*$AM$7 -> 0 | AN43: =AM43*$AN$7 -> 0 | AO43: =AN43*$AO$7 -> 0 | AP43: =AO43*$AP$7 -> 0 | AQ43: =AP43*$AQ$7 -> 0 | AR43: =AQ43*$AR$7 -> 0 | AS43: =AR43 -> 0 | AT43: =AS43/3600 -> 0 | AU43: =AI43-AS43 -> 243.50822 | AV43: =AU43/3600 -> 0.067641172 | AX43: Frame (type) | AY43: Twin-spar (aluminum) | BJ43: 0 | BK43: =BJ43*$AL$7 -> 0 | BL43: =BK43*$AM$7 -> 0 | BM43: =BL43*$AN$7 -> 0 | BN43: =BM43*$AO$7 -> 0 | BO43: =BN43*$AP$7 -> 0 | BP43: =BO43*$AQ$7 -> 0 | BQ43: =BP43*$AR$7 -> 0 | BR43: =BQ43 -> 0 | BS43: =BR43/3600 -> 0 | BT43: =BJ43-BR43 -> 0 | BU43: =BT43/3600 -> 0
A44: 2.64 | B44: 165.11 | C44: 165.84 | D44: =AVERAGE(B44,C44) -> 165.475 | E44: =SUM(D44*1000)/3600 -> 45.965278 | F44: =(E44-E43)/0.08 -> -3.2118056 | G44: =Sheet1!$I$5*F44 -> -1063.1076 | K44: Low | L44: 34 | M44: 34 | N44: 44.4 | O44: =N44*1000/3600 -> 12.333333 | P44: =($N45-$N43)/2/3.6 -> 0.083333333 | R44: =$I$5*P44 -> 27.583333 | S44: =$I$5*9.81*$F$3 -> 64.9422 | T44: =(0.5*$L$3*$Q$3*$T$3*O44^2) -> 18.323632 | U44: =R44+S44+T44 -> 110.84917 | V44: =U44+V43 -> 6555.473 | W44: =U44*O44 -> 1367.1397 | X44: =W44/1000 -> 1.3671397 | Y44: =IF(X44<0, X44, 0) -> 0 | Z44: 0 | AA44: =-AG44+AA43 -> 0 | AB44: =0.5*$I$5*O44^2 -> 25174.389 | AC44: =AB44/1000 -> 25.174389 | AD44: =IF(X44<0,AC44,0) -> 0 | AE44: =AD44+AE43 -> 0 | AF44: =AE44/3600 -> 0 | AG44: =IF(X44<0,X44,0) -> 0 | AH44: =IF(X44>0,AC44,0) -> 25.174389 | AI44: =AH44+AI43 -> 268.68261 | AJ44: =AI44/3600 -> 0.074634058 | AK44: =AH44-AG44 -> 25.174389 | AL44: =AE44*$AL$7 -> 0 | AM44: =AL44*$AM$7 -> 0 | AN44: =AM44*$AN$7 -> 0 | AO44: =AN44*$AO$7 -> 0 | AP44: =AO44*$AP$7 -> 0 | AQ44: =AP44*$AQ$7 -> 0 | AR44: =AQ44*$AR$7 -> 0 | AS44: =AR44 -> 0 | AT44: =AS44/3600 -> 0 | AU44: =AI44-AS44 -> 268.68261 | AV44: =AU44/3600 -> 0.074634058 | AX44: Front suspension, travel | AY44: 43 mm telescopic fork Showa (adjustable spring pre-load), 120 mm / 4,7 in | BJ44: 0 | BK44: =BJ44*$AL$7 -> 0 | BL44: =BK44*$AM$7 -> 0 | BM44: =BL44*$AN$7 -> 0 | BN44: =BM44*$AO$7 -> 0 | BO44: =BN44*$AP$7 -> 0 | BP44: =BO44*$AQ$7 -> 0 | BQ44: =BP44*$AR$7 -> 0 | BR44: =BQ44 -> 0 | BS44: =BR44/3600 -> 0 | BT44: =BJ44-BR44 -> 0 | BU44: =BT44/3600 -> 0
A45: 2.72 | B45: 164.69 | C45: 165.18 | D45: =AVERAGE(B45,C45) -> 164.935 | E45: =SUM(D45*1000)/3600 -> 45.815278 | F45: =(E45-E44)/0.08 -> -1.875 | G45: =Sheet1!$I$5*F45 -> -620.625 | K45: Low | L45: 35 | M45: 35 | N45: 44.5 | O45: =N45*1000/3600 -> 12.361111 | P45: =($N46-$N44)/2/3.6 -> -0.027777778 | R45: =$I$5*P45 -> -9.1944444 | S45: =$I$5*9.81*$F$3 -> 64.9422 | T45: =(0.5*$L$3*$Q$3*$T$3*O45^2) -> 18.406264 | U45: =R45+S45+T45 -> 74.154019 | V45: =U45+V44 -> 6629.627 | W45: =U45*O45 -> 916.62607 | X45: =W45/1000 -> 0.91662607 | Y45: =IF(X45<0, X45, 0) -> 0 | Z45: 0 | AA45: =-AG45+AA44 -> 0 | AB45: =0.5*$I$5*O45^2 -> 25287.915 | AC45: =AB45/1000 -> 25.287915 | AD45: =IF(X45<0,AC45,0) -> 0 | AE45: =AD45+AE44 -> 0 | AF45: =AE45/3600 -> 0 | AG45: =IF(X45<0,X45,0) -> 0 | AH45: =IF(X45>0,AC45,0) -> 25.287915 | AI45: =AH45+AI44 -> 293.97052 | AJ45: =AI45/3600 -> 0.081658479 | AK45: =AH45-AG45 -> 25.287915 | AL45: =AE45*$AL$7 -> 0 | AM45: =AL45*$AM$7 -> 0 | AN45: =AM45*$AN$7 -> 0 | AO45: =AN45*$AO$7 -> 0 | AP45: =AO45*$AP$7 -> 0 | AQ45: =AP45*$AQ$7 -> 0 | AR45: =AQ45*$AR$7 -> 0 | AS45: =AR45 -> 0 | AT45: =AS45/3600 -> 0 | AU45: =AI45-AS45 -> 293.97052 | AV45: =AU45/3600 -> 0.081658479 | AX45: Rear suspension, travel | AY45: Swingarm with mono-shock Showa (adjustable spring pre-load & rebound damping), 140 mm / 5,5 in | BJ45: 0 | BK45: =BJ45*$AL$7 -> 0 | BL45: =BK45*$AM$7 -> 0 | BM45: =BL45*$AN$7 -> 0 | BN45: =BM45*$AO$7 -> 0 | BO45: =BN45*$AP$7 -> 0 | BP45: =BO45*$AQ$7 -> 0 | BQ45: =BP45*$AR$7 -> 0 | BR45: =BQ45 -> 0 | BS45: =BR45/3600 -> 0 | BT45: =BJ45-BR45 -> 0 | BU45: =BT45/3600 -> 0
A46: 2.8 | B46: 163.83 | C46: 164.57 | D46: =AVERAGE(B46,C46) -> 164.2 | E46: =SUM(D46*1000)/3600 -> 45.611111 | F46: =(E46-E45)/0.08 -> -2.5520833 | G46: =Sheet1!$I$5*F46 -> -844.73958 | K46: Low | L46: 36 | M46: 36 | N46: 44.2 | O46: =N46*1000/3600 -> 12.277778 | P46: =($N47-$N45)/2/3.6 -> -0.25 | R46: =$I$5*P46 -> -82.75 | S46: =$I$5*9.81*$F$3 -> 64.9422 | T46: =(0.5*$L$3*$Q$3*$T$3*O46^2) -> 18.158926 | U46: =R46+S46+T46 -> 0.35112614 | V46: =U46+V45 -> 6629.9782 | W46: =U46*O46 -> 4.3110487 | X46: =W46/1000 -> 0.0043110487 | Y46: =IF(X46<0, X46, 0) -> 0 | Z46: 0 | AA46: =-AG46+AA45 -> 0 | AB46: =0.5*$I$5*O46^2 -> 24948.103 | AC46: =AB46/1000 -> 24.948103 | AD46: =IF(X46<0,AC46,0) -> 0 | AE46: =AD46+AE45 -> 0 | AF46: =AE46/3600 -> 0 | AG46: =IF(X46<0,X46,0) -> 0 | AH46: =IF(X46>0,AC46,0) -> 24.948103 | AI46: =AH46+AI45 -> 318.91863 | AJ46: =AI46/3600 -> 0.088588508 | AK46: =AH46-AG46 -> 24.948103 | AL46: =AE46*$AL$7 -> 0 | AM46: =AL46*$AM$7 -> 0 | AN46: =AM46*$AN$7 -> 0 | AO46: =AN46*$AO$7 -> 0 | AP46: =AO46*$AP$7 -> 0 | AQ46: =AP46*$AQ$7 -> 0 | AR46: =AQ46*$AR$7 -> 0 | AS46: =AR46 -> 0 | AT46: =AS46/3600 -> 0 | AU46: =AI46-AS46 -> 318.91863 | AV46: =AU46/3600 -> 0.088588508 | AX46: Front tire size | AY46: 120/70-ZR17 | BJ46: 0 | BK46: =BJ46*$AL$7 -> 0 | BL46: =BK46*$AM$7 -> 0 | BM46: =BL46*$AN$7 -> 0 | BN46: =BM46*$AO$7 -> 0 | BO46: =BN46*$AP$7 -> 0 | BP46: =BO46*$AQ$7 -> 0 | BQ46: =BP46*$AR$7 -> 0 | BR46: =BQ46 -> 0 | BS46: =BR46/3600 -> 0 | BT46: =BJ46-BR46 -> 0 | BU46: =BT46/3600 -> 0
A47: 2.88 | B47: 163.43 | C47: 163.92 | D47: =AVERAGE(B47,C47) -> 163.675 | E47: =SUM(D47*1000)/3600 -> 45.465278 | F47: =(E47-E46)/0.08 -> -1.8229167 | G47: =Sheet1!$I$5*F47 -> -603.38542 | K47: Low | L47: 37 | M47: 37 | N47: 42.7 | O47: =N47*1000/3600 -> 11.861111 | P47: =($N48-$N46)/2/3.6 -> -0.59722222 | R47: =$I$5*P47 -> -197.68056 | S47: =$I$5*9.81*$F$3 -> 64.9422 | T47: =(0.5*$L$3*$Q$3*$T$3*O47^2) -> 16.947333 | U47: =R47+S47+T47 -> -115.79102 | V47: =U47+V46 -> 6514.1872 | W47: =U47*O47 -> -1373.4102 | X47: =W47/1000 -> -1.3734102 | Y47: =IF(X47<0, X47, 0) -> -1.3734102 | Z47: 1.3734102 | AA47: =-AG47+AA46 -> 1.3734102 | AB47: =0.5*$I$5*O47^2 -> 23283.526 | AC47: =AB47/1000 -> 23.283526 | AD47: =IF(X47<0,AC47,0) -> 23.283526 | AE47: =AD47+AE46 -> 23.283526 | AF47: =AE47/3600 -> 0.0064676461 | AG47: =IF(X47<0,X47,0) -> -1.3734102 | AH47: =IF(X47>0,AC47,0) -> 0 | AI47: =AH47+AI46 -> 318.91863 | AJ47: =AI47/3600 -> 0.088588508 | AK47: =AH47-AG47 -> 1.3734102 | AL47: =AE47*$AL$7 -> 22.58502 | AM47: =AL47*$AM$7 -> 22.35917 | AN47: =AM47*$AN$7 -> 21.01762 | AO47: =AN47*$AO$7 -> 20.807443 | AP47: =AO47*$AP$7 -> 19.558997 | AQ47: =AP47*$AQ$7 -> 19.363407 | AR47: =AQ47*$AR$7 -> 18.782505 | AS47: =AR47 -> 18.782505 | AT47: =AS47/3600 -> 0.0052173624 | AU47: =AI47-AS47 -> 300.13612 | AV47: =AU47/3600 -> 0.083371145 | AX47: Rear tire size | AY47: 180/55-ZR17 | BJ47: 23.283526 | BK47: =BJ47*$AL$7 -> 22.58502 | BL47: =BK47*$AM$7 -> 22.35917 | BM47: =BL47*$AN$7 -> 21.01762 | BN47: =BM47*$AO$7 -> 20.807443 | BO47: =BN47*$AP$7 -> 19.558997 | BP47: =BO47*$AQ$7 -> 19.363407 | BQ47: =BP47*$AR$7 -> 18.782505 | BR47: =BQ47 -> 18.782505 | BS47: =BR47/3600 -> 0.0052173624 | BT47: =BJ47-BR47 -> 4.5010212 | BU47: =BT47/3600 -> 0.0012502837
A48: 2.96 | B48: 163.18 | C48: 163.09 | D48: =AVERAGE(B48,C48) -> 163.135 | E48: =SUM(D48*1000)/3600 -> 45.315278 | F48: =(E48-E47)/0.08 -> -1.875 | G48: =Sheet1!$I$5*F48 -> -620.625 | K48: Low | L48: 38 | M48: 38 | N48: 39.9 | O48: =N48*1000/3600 -> 11.083333 | P48: =($N49-$N47)/2/3.6 -> -0.79166667 | R48: =$I$5*P48 -> -262.04167 | S48: =$I$5*9.81*$F$3 -> 64.9422 | T48: =(0.5*$L$3*$Q$3*$T$3*O48^2) -> 14.797604 | U48: =R48+S48+T48 -> -182.30186 | V48: =U48+V47 -> 6331.8853 | W48: =U48*O48 -> -2020.5123 | X48: =W48/1000 -> -2.0205123 | Y48: =IF(X48<0, X48, 0) -> -2.0205123 | Z48: 2.0205123 | AA48: =-AG48+AA47 -> 3.3939225 | AB48: =0.5*$I$5*O48^2 -> 20330.066 | AC48: =AB48/1000 -> 20.330066 | AD48: =IF(X48<0,AC48,0) -> 20.330066 | AE48: =AD48+AE47 -> 43.613592 | AF48: =AE48/3600 -> 0.012114887 | AG48: =IF(X48<0,X48,0) -> -2.0205123 | AH48: =IF(X48>0,AC48,0) -> 0 | AI48: =AH48+AI47 -> 318.91863 | AJ48: =AI48/3600 -> 0.088588508 | AK48: =AH48-AG48 -> 2.0205123 | AL48: =AE48*$AL$7 -> 42.305184 | AM48: =AL48*$AM$7 -> 41.882132 | AN48: =AM48*$AN$7 -> 39.369204 | AO48: =AN48*$AO$7 -> 38.975512 | AP48: =AO48*$AP$7 -> 36.636982 | AQ48: =AP48*$AQ$7 -> 36.270612 | AR48: =AQ48*$AR$7 -> 35.182493 | AS48: =AR48 -> 35.182493 | AT48: =AS48/3600 -> 0.0097729148 | AU48: =AI48-AS48 -> 283.73613 | AV48: =AU48/3600 -> 0.078815593 | AX48: Front brake | AY48: Double disc, 320 mm, 4-piston calipers (ABS, from 2006) | BJ48: 20.330066 | BK48: =BJ48*$AL$7 -> 19.720164 | BL48: =BK48*$AM$7 -> 19.522962 | BM48: =BL48*$AN$7 -> 18.351585 | BN48: =BM48*$AO$7 -> 18.168069 | BO48: =BN48*$AP$7 -> 17.077985 | BP48: =BO48*$AQ$7 -> 16.907205 | BQ48: =BP48*$AR$7 -> 16.399989 | BR48: =BQ48 -> 16.399989 | BS48: =BR48/3600 -> 0.0045555524 | BT48: =BJ48-BR48 -> 3.9300773 | BU48: =BT48/3600 -> 0.0010916881
A49: 3.04 | B49: 162.24 | C49: 162.82 | D49: =AVERAGE(B49,C49) -> 162.53 | E49: =SUM(D49*1000)/3600 -> 45.147222 | F49: =(E49-E48)/0.08 -> -2.1006944 | G49: =Sheet1!$I$5*F49 -> -695.32986 | K49: Low | L49: 39 | M49: 39 | N49: 37 | O49: =N49*1000/3600 -> 10.277778 | P49: =($N50-$N48)/2/3.6 -> -0.73611111 | R49: =$I$5*P49 -> -243.65278 | S49: =$I$5*9.81*$F$3 -> 64.9422 | T49: =(0.5*$L$3*$Q$3*$T$3*O49^2) -> 12.724745 | U49: =R49+S49+T49 -> -165.98583 | V49: =U49+V48 -> 6165.8995 | W49: =U49*O49 -> -1705.9655 | X49: =W49/1000 -> -1.7059655 | Y49: =IF(X49<0, X49, 0) -> -1.7059655 | Z49: 1.7059655 | AA49: =-AG49+AA48 -> 5.099888 | AB49: =0.5*$I$5*O49^2 -> 17482.215 | AC49: =AB49/1000 -> 17.482215 | AD49: =IF(X49<0,AC49,0) -> 17.482215 | AE49: =AD49+AE48 -> 61.095806 | AF49: =AE49/3600 -> 0.016971057 | AG49: =IF(X49<0,X49,0) -> -1.7059655 | AH49: =IF(X49>0,AC49,0) -> 0 | AI49: =AH49+AI48 -> 318.91863 | AJ49: =AI49/3600 -> 0.088588508 | AK49: =AH49-AG49 -> 1.7059655 | AL49: =AE49*$AL$7 -> 59.262932 | AM49: =AL49*$AM$7 -> 58.670303 | AN49: =AM49*$AN$7 -> 55.150085 | AO49: =AN49*$AO$7 -> 54.598584 | AP49: =AO49*$AP$7 -> 51.322669 | AQ49: =AP49*$AQ$7 -> 50.809442 | AR49: =AQ49*$AR$7 -> 49.285159 | AS49: =AR49 -> 49.285159 | AT49: =AS49/3600 -> 0.013690322 | AU49: =AI49-AS49 -> 269.63347 | AV49: =AU49/3600 -> 0.074898186 | AX49: Rear brake | AY49: Single disc, 255 mm, 2-piston caliper (ABS, from 2006) | BJ49: 17.482215 | BK49: =BJ49*$AL$7 -> 16.957748 | BL49: =BK49*$AM$7 -> 16.788171 | BM49: =BL49*$AN$7 -> 15.78088 | BN49: =BM49*$AO$7 -> 15.623072 | BO49: =BN49*$AP$7 -> 14.685687 | BP49: =BO49*$AQ$7 -> 14.53883 | BQ49: =BP49*$AR$7 -> 14.102665 | BR49: =BQ49 -> 14.102665 | BS49: =BR49/3600 -> 0.0039174071 | BT49: =BJ49-BR49 -> 3.379549 | BU49: =BT49/3600 -> 0.00093876362
A50: 3.12 | B50: 161.8 | C50: 162.16 | D50: =AVERAGE(B50,C50) -> 161.98 | E50: =SUM(D50*1000)/3600 -> 44.994444 | F50: =(E50-E49)/0.08 -> -1.9097222 | G50: =Sheet1!$I$5*F50 -> -632.11806 | K50: Low | L50: 40 | M50: 40 | N50: 34.6 | O50: =N50*1000/3600 -> 9.6111111 | P50: =($N51-$N49)/2/3.6 -> -0.65277778 | R50: =$I$5*P50 -> -216.06944 | S50: =$I$5*9.81*$F$3 -> 64.9422 | T50: =(0.5*$L$3*$Q$3*$T$3*O50^2) -> 11.127506 | U50: =R50+S50+T50 -> -139.99974 | V50: =U50+V49 -> 6025.8997 | W50: =U50*O50 -> -1345.553 | X50: =W50/1000 -> -1.345553 | Y50: =IF(X50<0, X50, 0) -> -1.345553 | Z50: 1.345553 | AA50: =-AG50+AA49 -> 6.445441 | AB50: =0.5*$I$5*O50^2 -> 15287.807 | AC50: =AB50/1000 -> 15.287807 | AD50: =IF(X50<0,AC50,0) -> 15.287807 | AE50: =AD50+AE49 -> 76.383613 | AF50: =AE50/3600 -> 0.02121767 | AG50: =IF(X50<0,X50,0) -> -1.345553 | AH50: =IF(X50>0,AC50,0) -> 0 | AI50: =AH50+AI49 -> 318.91863 | AJ50: =AI50/3600 -> 0.088588508 | AK50: =AH50-AG50 -> 1.345553 | AL50: =AE50*$AL$7 -> 74.092105 | AM50: =AL50*$AM$7 -> 73.351184 | AN50: =AM50*$AN$7 -> 68.950113 | AO50: =AN50*$AO$7 -> 68.260612 | AP50: =AO50*$AP$7 -> 64.164975 | AQ50: =AP50*$AQ$7 -> 63.523325 | AR50: =AQ50*$AR$7 -> 61.617626 | AS50: =AR50 -> 61.617626 | AT50: =AS50/3600 -> 0.017116007 | AU50: =AI50-AS50 -> 257.301 | AV50: =AU50/3600 -> 0.071472501 | AX50: Fuel capacity | AY50: 21,0 l / 5,54 US gal.12 | BJ50: 15.287807 | BK50: =BJ50*$AL$7 -> 14.829173 | BL50: =BK50*$AM$7 -> 14.680881 | BM50: =BL50*$AN$7 -> 13.800028 | BN50: =BM50*$AO$7 -> 13.662028 | BO50: =BN50*$AP$7 -> 12.842306 | BP50: =BO50*$AQ$7 -> 12.713883 | BQ50: =BP50*$AR$7 -> 12.332467 | BR50: =BQ50 -> 12.332467 | BS50: =BR50/3600 -> 0.0034256852 | BT50: =BJ50-BR50 -> 2.9553403 | BU50: =BT50/3600 -> 0.00082092787
A51: 3.2 | B51: 161.18 | C51: 161.48 | D51: =AVERAGE(B51,C51) -> 161.33 | E51: =SUM(D51*1000)/3600 -> 44.813889 | F51: =(E51-E50)/0.08 -> -2.2569444 | G51: =Sheet1!$I$5*F51 -> -747.04861 | K51: Low | L51: 41 | M51: 41 | N51: 32.3 | O51: =N51*1000/3600 -> 8.9722222 | P51: =($N52-$N50)/2/3.6 -> -0.77777778 | R51: =$I$5*P51 -> -257.44444 | S51: =$I$5*9.81*$F$3 -> 64.9422 | T51: =(0.5*$L$3*$Q$3*$T$3*O51^2) -> 9.6972964 | U51: =R51+S51+T51 -> -182.80495 | V51: =U51+V50 -> 5843.0948 | W51: =U51*O51 -> -1640.1666 | X51: =W51/1000 -> -1.6401666 | Y51: =IF(X51<0, X51, 0) -> -1.6401666 | Z51: 1.6401666 | AA51: =-AG51+AA50 -> 8.0856077 | AB51: =0.5*$I$5*O51^2 -> 13322.878 | AC51: =AB51/1000 -> 13.322878 | AD51: =IF(X51<0,AC51,0) -> 13.322878 | AE51: =AD51+AE50 -> 89.706491 | AF51: =AE51/3600 -> 0.02491847 | AG51: =IF(X51<0,X51,0) -> -1.6401666 | AH51: =IF(X51>0,AC51,0) -> 0 | AI51: =AH51+AI50 -> 318.91863 | AJ51: =AI51/3600 -> 0.088588508 | AK51: =AH51-AG51 -> 1.6401666 | AL51: =AE51*$AL$7 -> 87.015296 | AM51: =AL51*$AM$7 -> 86.145143 | AN51: =AM51*$AN$7 -> 80.976435 | AO51: =AN51*$AO$7 -> 80.16667 | AP51: =AO51*$AP$7 -> 75.35667 | AQ51: =AP51*$AQ$7 -> 74.603104 | AR51: =AQ51*$AR$7 -> 72.36501 | AS51: =AR51 -> 72.36501 | AT51: =AS51/3600 -> 0.020101392 | AU51: =AI51-AS51 -> 246.55362 | AV51: =AU51/3600 -> 0.068487116 | AY51: 20,0 l / 5,2 US gal.13 | BJ51: 13.322878 | BK51: =BJ51*$AL$7 -> 12.923191 | BL51: =BK51*$AM$7 -> 12.793959 | BM51: =BL51*$AN$7 -> 12.026322 | BN51: =BM51*$AO$7 -> 11.906059 | BO51: =BN51*$AP$7 -> 11.191695 | BP51: =BO51*$AQ$7 -> 11.079778 | BQ51: =BP51*$AR$7 -> 10.747385 | BR51: =BQ51 -> 10.747385 | BS51: =BR51/3600 -> 0.0029853847 | BT51: =BJ51-BR51 -> 2.5754928 | BU51: =BT51/3600 -> 0.00071541468
A52: 3.28 | B52: 160.97 | C52: 160.65 | D52: =AVERAGE(B52,C52) -> 160.81 | E52: =SUM(D52*1000)/3600 -> 44.669444 | F52: =(E52-E51)/0.08 -> -1.8055556 | G52: =Sheet1!$I$5*F52 -> -597.63889 | K52: Low | L52: 42 | M52: 42 | N52: 29 | O52: =N52*1000/3600 -> 8.0555556 | P52: =($N53-$N51)/2/3.6 -> -1 | R52: =$I$5*P52 -> -331 | S52: =$I$5*9.81*$F$3 -> 64.9422 | T52: =(0.5*$L$3*$Q$3*$T$3*O52^2) -> 7.8170271 | U52: =R52+S52+T52 -> -258.24077 | V52: =U52+V51 -> 5584.854 | W52: =U52*O52 -> -2080.2729 | X52: =W52/1000 -> -2.0802729 | Y52: =IF(X52<0, X52, 0) -> -2.0802729 | Z52: 2.0802729 | AA52: =-AG52+AA51 -> 10.165881 | AB52: =0.5*$I$5*O52^2 -> 10739.622 | AC52: =AB52/1000 -> 10.739622 | AD52: =IF(X52<0,AC52,0) -> 10.739622 | AE52: =AD52+AE51 -> 100.44611 | AF52: =AE52/3600 -> 0.027901698 | AG52: =IF(X52<0,X52,0) -> -2.0802729 | AH52: =IF(X52>0,AC52,0) -> 0 | AI52: =AH52+AI51 -> 318.91863 | AJ52: =AI52/3600 -> 0.088588508 | AK52: =AH52-AG52 -> 2.0802729 | AL52: =AE52*$AL$7 -> 97.43273 | AM52: =AL52*$AM$7 -> 96.458402 | AN52: =AM52*$AN$7 -> 90.670898 | AO52: =AN52*$AO$7 -> 89.764189 | AP52: =AO52*$AP$7 -> 84.378338 | AQ52: =AP52*$AQ$7 -> 83.534554 | AR52: =AQ52*$AR$7 -> 81.028518 | AS52: =AR52 -> 81.028518 | AT52: =AS52/3600 -> 0.022507922 | AU52: =AI52-AS52 -> 237.89011 | AV52: =AU52/3600 -> 0.066080586 | AX52: Low level warning lamp | AY52: 4,0 l / 1,05 US gal. | BJ52: 10.739622 | BK52: =BJ52*$AL$7 -> 10.417433 | BL52: =BK52*$AM$7 -> 10.313259 | BM52: =BL52*$AN$7 -> 9.6944634 | BN52: =BM52*$AO$7 -> 9.5975188 | BO52: =BN52*$AP$7 -> 9.0216676 | BP52: =BO52*$AQ$7 -> 8.931451 | BQ52: =BP52*$AR$7 -> 8.6635074 | BR52: =BQ52 -> 8.6635074 | BS52: =BR52/3600 -> 0.0024065298 | BT52: =BJ52-BR52 -> 2.0761145 | BU52: =BT52/3600 -> 0.00057669847
A53: 3.36 | B53: 160.05 | C53: 160.71 | D53: =AVERAGE(B53,C53) -> 160.38 | E53: =SUM(D53*1000)/3600 -> 44.55 | F53: =(E53-E52)/0.08 -> -1.4930556 | G53: =Sheet1!$I$5*F53 -> -494.20139 | K53: Low | L53: 43 | M53: 43 | N53: 25.1 | O53: =N53*1000/3600 -> 6.9722222 | P53: =($N54-$N52)/2/3.6 -> -0.94444444 | R53: =$I$5*P53 -> -312.61111 | S53: =$I$5*9.81*$F$3 -> 64.9422 | T53: =(0.5*$L$3*$Q$3*$T$3*O53^2) -> 5.8558921 | U53: =R53+S53+T53 -> -241.81302 | V53: =U53+V52 -> 5343.041 | W53: =U53*O53 -> -1685.9741 | X53: =W53/1000 -> -1.6859741 | Y53: =IF(X53<0, X53, 0) -> -1.6859741 | Z53: 1.6859741 | AA53: =-AG53+AA52 -> 11.851855 | AB53: =0.5*$I$5*O53^2 -> 8045.2666 | AC53: =AB53/1000 -> 8.0452666 | AD53: =IF(X53<0,AC53,0) -> 8.0452666 | AE53: =AD53+AE52 -> 108.49138 | AF53: =AE53/3600 -> 0.030136494 | AG53: =IF(X53<0,X53,0) -> -1.6859741 | AH53: =IF(X53>0,AC53,0) -> 0 | AI53: =AH53+AI52 -> 318.91863 | AJ53: =AI53/3600 -> 0.088588508 | AK53: =AH53-AG53 -> 1.6859741 | AL53: =AE53*$AL$7 -> 105.23664 | AM53: =AL53*$AM$7 -> 104.18427 | AN53: =AM53*$AN$7 -> 97.933216 | AO53: =AN53*$AO$7 -> 96.953883 | AP53: =AO53*$AP$7 -> 91.13665 | AQ53: =AP53*$AQ$7 -> 90.225284 | AR53: =AQ53*$AR$7 -> 87.518525 | AS53: =AR53 -> 87.518525 | AT53: =AS53/3600 -> 0.024310701 | AU53: =AI53-AS53 -> 231.4001 | AV53: =AU53/3600 -> 0.064277806 | AX53: Fuel type | AY53: Unleaded 95 RON (US 89 CLC/AKI) | BJ53: 8.0452666 | BK53: =BJ53*$AL$7 -> 7.8039086 | BL53: =BK53*$AM$7 -> 7.7258695 | BM53: =BL53*$AN$7 -> 7.2623173 | BN53: =BM53*$AO$7 -> 7.1896942 | BO53: =BN53*$AP$7 -> 6.7583125 | BP53: =BO53*$AQ$7 -> 6.6907294 | BQ53: =BP53*$AR$7 -> 6.4900075 | BR53: =BQ53 -> 6.4900075 | BS53: =BR53/3600 -> 0.0018027799 | BT53: =BJ53-BR53 -> 1.5552591 | BU53: =BT53/3600 -> 0.00043201641
A54: 3.44 | B54: 159.68 | C54: 159.89 | D54: =AVERAGE(B54,C54) -> 159.785 | E54: =SUM(D54*1000)/3600 -> 44.384722 | F54: =(E54-E53)/0.08 -> -2.0659722 | G54: =Sheet1!$I$5*F54 -> -683.83681 | K54: Low | L54: 44 | M54: 44 | N54: 22.2 | O54: =N54*1000/3600 -> 6.1666667 | P54: =($N55-$N53)/2/3.6 -> -0.58333333 | R54: =$I$5*P54 -> -193.08333 | S54: =$I$5*9.81*$F$3 -> 64.9422 | T54: =(0.5*$L$3*$Q$3*$T$3*O54^2) -> 4.580908 | U54: =R54+S54+T54 -> -123.56023 | V54: =U54+V53 -> 5219.4808 | W54: =U54*O54 -> -761.95472 | X54: =W54/1000 -> -0.76195472 | Y54: =IF(X54<0, X54, 0) -> -0.76195472 | Z54: 0.76195472 | AA54: =-AG54+AA53 -> 12.613809 | AB54: =0.5*$I$5*O54^2 -> 6293.5972 | AC54: =AB54/1000 -> 6.2935972 | AD54: =IF(X54<0,AC54,0) -> 6.2935972 | AE54: =AD54+AE53 -> 114.78498 | AF54: =AE54/3600 -> 0.031884716 | AG54: =IF(X54<0,X54,0) -> -0.76195472 | AH54: =IF(X54>0,AC54,0) -> 0 | AI54: =AH54+AI53 -> 318.91863 | AJ54: =AI54/3600 -> 0.088588508 | AK54: =AH54-AG54 -> 0.76195472 | AL54: =AE54*$AL$7 -> 111.34143 | AM54: =AL54*$AM$7 -> 110.22801 | AN54: =AM54*$AN$7 -> 103.61433 | AO54: =AN54*$AO$7 -> 102.57819 | AP54: =AO54*$AP$7 -> 96.423498 | AQ54: =AP54*$AQ$7 -> 95.459263 | AR54: =AQ54*$AR$7 -> 92.595485 | AS54: =AR54 -> 92.595485 | AT54: =AS54/3600 -> 0.025720968 | AU54: =AI54-AS54 -> 226.32314 | AV54: =AU54/3600 -> 0.06286754 | BJ54: 6.2935972 | BK54: =BJ54*$AL$7 -> 6.1047893 | BL54: =BK54*$AM$7 -> 6.0437414 | BM54: =BL54*$AN$7 -> 5.6811169 | BN54: =BM54*$AO$7 -> 5.6243058 | BO54: =BN54*$AP$7 -> 5.2868474 | BP54: =BO54*$AQ$7 -> 5.2339789 | BQ54: =BP54*$AR$7 -> 5.0769596 | BR54: =BQ54 -> 5.0769596 | BS54: =BR54/3600 -> 0.0014102665 | BT54: =BJ54-BR54 -> 1.2166377 | BU54: =BT54/3600 -> 0.0003379549
A55: 3.52 | B55: 159.37 | C55: 158.68 | D55: =AVERAGE(B55,C55) -> 159.025 | E55: =SUM(D55*1000)/3600 -> 44.173611 | F55: =(E55-E54)/0.08 -> -2.6388889 | G55: =Sheet1!$I$5*F55 -> -873.47222 | K55: Low | L55: 45 | M55: 45 | N55: 20.9 | O55: =N55*1000/3600 -> 5.8055556 | P55: =($N56-$N54)/2/3.6 -> -0.25 | R55: =$I$5*P55 -> -82.75 | S55: =$I$5*9.81*$F$3 -> 64.9422 | T55: =(0.5*$L$3*$Q$3*$T$3*O55^2) -> 4.0601137 | U55: =R55+S55+T55 -> -13.747686 | V55: =U55+V54 -> 5205.7331 | W55: =U55*O55 -> -79.812957 | X55: =W55/1000 -> -0.079812957 | Y55: =IF(X55<0, X55, 0) -> -0.079812957 | Z55: 0.079812957 | AA55: =-AG55+AA54 -> 12.693622 | AB55: =0.5*$I$5*O55^2 -> 5578.0907 | AC55: =AB55/1000 -> 5.5780907 | AD55: =IF(X55<0,AC55,0) -> 5.5780907 | AE55: =AD55+AE54 -> 120.36307 | AF55: =AE55/3600 -> 0.033434185 | AG55: =IF(X55<0,X55,0) -> -0.079812957 | AH55: =IF(X55>0,AC55,0) -> 0 | AI55: =AH55+AI54 -> 318.91863 | AJ55: =AI55/3600 -> 0.088588508 | AK55: =AH55-AG55 -> 0.079812957 | AL55: =AE55*$AL$7 -> 116.75218 | AM55: =AL55*$AM$7 -> 115.58465 | AN55: =AM55*$AN$7 -> 108.64957 | AO55: =AN55*$AO$7 -> 107.56308 | AP55: =AO55*$AP$7 -> 101.10929 | AQ55: =AP55*$AQ$7 -> 100.0982 | AR55: =AQ55*$AR$7 -> 97.095255 | AS55: =AR55 -> 97.095255 | AT55: =AS55/3600 -> 0.026970904 | AU55: =AI55-AS55 -> 221.82337 | AV55: =AU55/3600 -> 0.061617604 | AX55: ELECTRICAL | BJ55: 5.5780907 | BK55: =BJ55*$AL$7 -> 5.4107479 | BL55: =BK55*$AM$7 -> 5.3566405 | BM55: =BL55*$AN$7 -> 5.035242 | BN55: =BM55*$AO$7 -> 4.9848896 | BO55: =BN55*$AP$7 -> 4.6857962 | BP55: =BO55*$AQ$7 -> 4.6389383 | BQ55: =BP55*$AR$7 -> 4.4997701 | BR55: =BQ55 -> 4.4997701 | BS55: =BR55/3600 -> 0.0012499361 | BT55: =BJ55-BR55 -> 1.0783205 | BU55: =BT55/3600 -> 0.00029953348
A56: 3.6 | B56: 158.47 | C56: 158.75 | D56: =AVERAGE(B56,C56) -> 158.61 | E56: =SUM(D56*1000)/3600 -> 44.058333 | F56: =(E56-E55)/0.08 -> -1.4409722 | G56: =Sheet1!$I$5*F56 -> -476.96181 | K56: Low | L56: 46 | M56: 46 | N56: 20.4 | O56: =N56*1000/3600 -> 5.6666667 | P56: =($N57-$N55)/2/3.6 -> -0.19444444 | R56: =$I$5*P56 -> -64.361111 | S56: =$I$5*9.81*$F$3 -> 64.9422 | T56: =(0.5*$L$3*$Q$3*$T$3*O56^2) -> 3.8681736 | U56: =R56+S56+T56 -> 4.4492625 | V56: =U56+V55 -> 5210.1823 | W56: =U56*O56 -> 25.212488 | X56: =W56/1000 -> 0.025212488 | Y56: =IF(X56<0, X56, 0) -> 0 | Z56: 0 | AA56: =-AG56+AA55 -> 12.693622 | AB56: =0.5*$I$5*O56^2 -> 5314.3889 | AC56: =AB56/1000 -> 5.3143889 | AD56: =IF(X56<0,AC56,0) -> 0 | AE56: =AD56+AE55 -> 120.36307 | AF56: =AE56/3600 -> 0.033434185 | AG56: =IF(X56<0,X56,0) -> 0 | AH56: =IF(X56>0,AC56,0) -> 5.3143889 | AI56: =AH56+AI55 -> 324.23302 | AJ56: =AI56/3600 -> 0.090064727 | AK56: =AH56-AG56 -> 5.3143889 | AL56: =AE56*$AL$7 -> 116.75218 | AM56: =AL56*$AM$7 -> 115.58465 | AN56: =AM56*$AN$7 -> 108.64957 | AO56: =AN56*$AO$7 -> 107.56308 | AP56: =AO56*$AP$7 -> 101.10929 | AQ56: =AP56*$AQ$7 -> 100.0982 | AR56: =AQ56*$AR$7 -> 97.095255 | AS56: =AR56 -> 97.095255 | AT56: =AS56/3600 -> 0.026970904 | AU56: =AI56-AS56 -> 227.13776 | AV56: =AU56/3600 -> 0.063093823 | AX56: Ignition system | AY56: Digital Inductive | BJ56: 0 | BK56: =BJ56*$AL$7 -> 0 | BL56: =BK56*$AM$7 -> 0 | BM56: =BL56*$AN$7 -> 0 | BN56: =BM56*$AO$7 -> 0 | BO56: =BN56*$AP$7 -> 0 | BP56: =BO56*$AQ$7 -> 0 | BQ56: =BP56*$AR$7 -> 0 | BR56: =BQ56 -> 0 | BS56: =BR56/3600 -> 0 | BT56: =BJ56-BR56 -> 0 | BU56: =BT56/3600 -> 0
A57: 3.68 | B57: 158.5 | C57: 157.68 | D57: =AVERAGE(B57,C57) -> 158.09 | E57: =SUM(D57*1000)/3600 -> 43.913889 | F57: =(E57-E56)/0.08 -> -1.8055556 | G57: =Sheet1!$I$5*F57 -> -597.63889 | K57: Low | L57: 47 | M57: 47 | N57: 19.5 | O57: =N57*1000/3600 -> 5.4166667 | P57: =($N58-$N56)/2/3.6 -> -0.27777778 | R57: =$I$5*P57 -> -91.944444 | S57: =$I$5*9.81*$F$3 -> 64.9422 | T57: =(0.5*$L$3*$Q$3*$T$3*O57^2) -> 3.5343931 | U57: =R57+S57+T57 -> -23.467851 | V57: =U57+V56 -> 5186.7145 | W57: =U57*O57 -> -127.11753 | X57: =W57/1000 -> -0.12711753 | Y57: =IF(X57<0, X57, 0) -> -0.12711753 | Z57: 0.12711753 | AA57: =-AG57+AA56 -> 12.82074 | AB57: =0.5*$I$5*O57^2 -> 4855.816 | AC57: =AB57/1000 -> 4.855816 | AD57: =IF(X57<0,AC57,0) -> 4.855816 | AE57: =AD57+AE56 -> 125.21888 | AF57: =AE57/3600 -> 0.034783023 | AG57: =IF(X57<0,X57,0) -> -0.12711753 | AH57: =IF(X57>0,AC57,0) -> 0 | AI57: =AH57+AI56 -> 324.23302 | AJ57: =AI57/3600 -> 0.090064727 | AK57: =AH57-AG57 -> 0.12711753 | AL57: =AE57*$AL$7 -> 121.46232 | AM57: =AL57*$AM$7 -> 120.24769 | AN57: =AM57*$AN$7 -> 113.03283 | AO57: =AN57*$AO$7 -> 111.9025 | AP57: =AO57*$AP$7 -> 105.18835 | AQ57: =AP57*$AQ$7 -> 104.13647 | AR57: =AQ57*$AR$7 -> 101.01238 | AS57: =AR57 -> 101.01238 | AT57: =AS57/3600 -> 0.028058993 | AU57: =AI57-AS57 -> 223.22064 | AV57: =AU57/3600 -> 0.062005733 | AX57: Alternator | AY57: 12V-420W | BJ57: 4.855816 | BK57: =BJ57*$AL$7 -> 4.7101415 | BL57: =BK57*$AM$7 -> 4.6630401 | BM57: =BL57*$AN$7 -> 4.3832577 | BN57: =BM57*$AO$7 -> 4.3394251 | BO57: =BN57*$AP$7 -> 4.0790596 | BP57: =BO57*$AQ$7 -> 4.038269 | BQ57: =BP57*$AR$7 -> 3.9171209 | BR57: =BQ57 -> 3.9171209 | BS57: =BR57/3600 -> 0.0010880891 | BT57: =BJ57-BR57 -> 0.93869505 | BU57: =BT57/3600 -> 0.00026074862
A58: 3.76 | B58: 157.55 | C58: 157.56 | D58: =AVERAGE(B58,C58) -> 157.555 | E58: =SUM(D58*1000)/3600 -> 43.765278 | F58: =(E58-E57)/0.08 -> -1.8576389 | G58: =Sheet1!$I$5*F58 -> -614.87847 | K58: Low | L58: 48 | M58: 48 | N58: 18.4 | O58: =N58*1000/3600 -> 5.1111111 | P58: =($N59-$N57)/2/3.6 -> -0.23611111 | R58: =$I$5*P58 -> -78.152778 | S58: =$I$5*9.81*$F$3 -> 64.9422 | T58: =(0.5*$L$3*$Q$3*$T$3*O58^2) -> 3.1468879 | U58: =R58+S58+T58 -> -10.06369 | V58: =U58+V57 -> 5176.6508 | W58: =U58*O58 -> -51.436637 | X58: =W58/1000 -> -0.051436637 | Y58: =IF(X58<0, X58, 0) -> -0.051436637 | Z58: 0.051436637 | AA58: =-AG58+AA57 -> 12.872176 | AB58: =0.5*$I$5*O58^2 -> 4323.4321 | AC58: =AB58/1000 -> 4.3234321 | AD58: =IF(X58<0,AC58,0) -> 4.3234321 | AE58: =AD58+AE57 -> 129.54232 | AF58: =AE58/3600 -> 0.035983977 | AG58: =IF(X58<0,X58,0) -> -0.051436637 | AH58: =IF(X58>0,AC58,0) -> 0 | AI58: =AH58+AI57 -> 324.23302 | AJ58: =AI58/3600 -> 0.090064727 | AK58: =AH58-AG58 -> 0.051436637 | AL58: =AE58*$AL$7 -> 125.65605 | AM58: =AL58*$AM$7 -> 124.39949 | AN58: =AM58*$AN$7 -> 116.93552 | AO58: =AN58*$AO$7 -> 115.76616 | AP58: =AO58*$AP$7 -> 108.82019 | AQ58: =AP58*$AQ$7 -> 107.73199 | AR58: =AQ58*$AR$7 -> 104.50003 | AS58: =AR58 -> 104.50003 | AT58: =AS58/3600 -> 0.029027786 | AU58: =AI58-AS58 -> 219.73299 | AV58: =AU58/3600 -> 0.061036941 | AX58: Battery | AY58: 12V-10Ah | BJ58: 4.3234321 | BK58: =BJ58*$AL$7 -> 4.1937291 | BL58: =BK58*$AM$7 -> 4.1517918 | BM58: =BL58*$AN$7 -> 3.9026843 | BN58: =BM58*$AO$7 -> 3.8636575 | BO58: =BN58*$AP$7 -> 3.631838 | BP58: =BO58*$AQ$7 -> 3.5955197 | BQ58: =BP58*$AR$7 -> 3.4876541 | BR58: =BQ58 -> 3.4876541 | BS58: =BR58/3600 -> 0.0009687928 | BT58: =BJ58-BR58 -> 0.83577803 | BU58: =BT58/3600 -> 0.00023216056
A59: 3.84 | B59: 157.21 | C59: 157.26 | D59: =AVERAGE(B59,C59) -> 157.235 | E59: =SUM(D59*1000)/3600 -> 43.676389 | F59: =(E59-E58)/0.08 -> -1.1111111 | G59: =Sheet1!$I$5*F59 -> -367.77778 | K59: Low | L59: 49 | M59: 49 | N59: 17.8 | O59: =N59*1000/3600 -> 4.9444444 | P59: =($N60-$N58)/2/3.6 -> -0.083333333 | R59: =$I$5*P59 -> -27.583333 | S59: =$I$5*9.81*$F$3 -> 64.9422 | T59: =(0.5*$L$3*$Q$3*$T$3*O59^2) -> 2.9450022 | U59: =R59+S59+T59 -> 40.303869 | V59: =U59+V58 -> 5216.9547 | W59: =U59*O59 -> 199.28024 | X59: =W59/1000 -> 0.19928024 | Y59: =IF(X59<0, X59, 0) -> 0 | Z59: 0 | AA59: =-AG59+AA58 -> 12.872176 | AB59: =0.5*$I$5*O59^2 -> 4046.0664 | AC59: =AB59/1000 -> 4.0460664 | AD59: =IF(X59<0,AC59,0) -> 0 | AE59: =AD59+AE58 -> 129.54232 | AF59: =AE59/3600 -> 0.035983977 | AG59: =IF(X59<0,X59,0) -> 0 | AH59: =IF(X59>0,AC59,0) -> 4.0460664 | AI59: =AH59+AI58 -> 328.27908 | AJ59: =AI59/3600 -> 0.091188634 | AK59: =AH59-AG59 -> 4.0460664 | AL59: =AE59*$AL$7 -> 125.65605 | AM59: =AL59*$AM$7 -> 124.39949 | AN59: =AM59*$AN$7 -> 116.93552 | AO59: =AN59*$AO$7 -> 115.76616 | AP59: =AO59*$AP$7 -> 108.82019 | AQ59: =AP59*$AQ$7 -> 107.73199 | AR59: =AQ59*$AR$7 -> 104.50003 | AS59: =AR59 -> 104.50003 | AT59: =AS59/3600 -> 0.029027786 | AU59: =AI59-AS59 -> 223.77905 | AV59: =AU59/3600 -> 0.062160848 | BJ59: 0 | BK59: =BJ59*$AL$7 -> 0 | BL59: =BK59*$AM$7 -> 0 | BM59: =BL59*$AN$7 -> 0 | BN59: =BM59*$AO$7 -> 0 | BO59: =BN59*$AP$7 -> 0 | BP59: =BO59*$AQ$7 -> 0 | BQ59: =BP59*$AR$7 -> 0 | BR59: =BQ59 -> 0 | BS59: =BR59/3600 -> 0 | BT59: =BJ59-BR59 -> 0 | BU59: =BT59/3600 -> 0
A60: 3.92 | B60: 156.79 | C60: 156.3 | D60: =AVERAGE(B60,C60) -> 156.545 | E60: =SUM(D60*1000)/3600 -> 43.484722 | F60: =(E60-E59)/0.08 -> -2.3958333 | G60: =Sheet1!$I$5*F60 -> -793.02083 | K60: Low | L60: 50 | M60: 50 | N60: 17.8 | O60: =N60*1000/3600 -> 4.9444444 | P60: =($N61-$N59)/2/3.6 -> -0.055555556 | R60: =$I$5*P60 -> -18.388889 | S60: =$I$5*9.81*$F$3 -> 64.9422 | T60: =(0.5*$L$3*$Q$3*$T$3*O60^2) -> 2.9450022 | U60: =R60+S60+T60 -> 49.498313 | V60: =U60+V59 -> 5266.453 | W60: =U60*O60 -> 244.74166 | X60: =W60/1000 -> 0.24474166 | Y60: =IF(X60<0, X60, 0) -> 0 | Z60: 0 | AA60: =-AG60+AA59 -> 12.872176 | AB60: =0.5*$I$5*O60^2 -> 4046.0664 | AC60: =AB60/1000 -> 4.0460664 | AD60: =IF(X60<0,AC60,0) -> 0 | AE60: =AD60+AE59 -> 129.54232 | AF60: =AE60/3600 -> 0.035983977 | AG60: =IF(X60<0,X60,0) -> 0 | AH60: =IF(X60>0,AC60,0) -> 4.0460664 | AI60: =AH60+AI59 -> 332.32515 | AJ60: =AI60/3600 -> 0.092312541 | AK60: =AH60-AG60 -> 4.0460664 | AL60: =AE60*$AL$7 -> 125.65605 | AM60: =AL60*$AM$7 -> 124.39949 | AN60: =AM60*$AN$7 -> 116.93552 | AO60: =AN60*$AO$7 -> 115.76616 | AP60: =AO60*$AP$7 -> 108.82019 | AQ60: =AP60*$AQ$7 -> 107.73199 | AR60: =AQ60*$AR$7 -> 104.50003 | AS60: =AR60 -> 104.50003 | AT60: =AS60/3600 -> 0.029027786 | AU60: =AI60-AS60 -> 227.82512 | AV60: =AU60/3600 -> 0.063284755 | AX60: DIMENSIONS | BJ60: 0 | BK60: =BJ60*$AL$7 -> 0 | BL60: =BK60*$AM$7 -> 0 | BM60: =BL60*$AN$7 -> 0 | BN60: =BM60*$AO$7 -> 0 | BO60: =BN60*$AP$7 -> 0 | BP60: =BO60*$AQ$7 -> 0 | BQ60: =BP60*$AR$7 -> 0 | BR60: =BQ60 -> 0 | BS60: =BR60/3600 -> 0 | BT60: =BJ60-BR60 -> 0 | BU60: =BT60/3600 -> 0
A61: 4 | B61: 156.57 | C61: 156.04 | D61: =AVERAGE(B61,C61) -> 156.305 | E61: =SUM(D61*1000)/3600 -> 43.418056 | F61: =(E61-E60)/0.08 -> -0.83333333 | G61: =Sheet1!$I$5*F61 -> -275.83333 | K61: Low | L61: 51 | M61: 51 | N61: 17.4 | O61: =N61*1000/3600 -> 4.8333333 | P61: =($N62-$N60)/2/3.6 -> -0.29166667 | R61: =$I$5*P61 -> -96.541667 | S61: =$I$5*9.81*$F$3 -> 64.9422 | T61: =(0.5*$L$3*$Q$3*$T$3*O61^2) -> 2.8141298 | U61: =R61+S61+T61 -> -28.785337 | V61: =U61+V60 -> 5237.6676 | W61: =U61*O61 -> -139.12913 | X61: =W61/1000 -> -0.13912913 | Y61: =IF(X61<0, X61, 0) -> -0.13912913 | Z61: 0.13912913 | AA61: =-AG61+AA60 -> 13.011306 | AB61: =0.5*$I$5*O61^2 -> 3866.2639 | AC61: =AB61/1000 -> 3.8662639 | AD61: =IF(X61<0,AC61,0) -> 3.8662639 | AE61: =AD61+AE60 -> 133.40858 | AF61: =AE61/3600 -> 0.037057939 | AG61: =IF(X61<0,X61,0) -> -0.13912913 | AH61: =IF(X61>0,AC61,0) -> 0 | AI61: =AH61+AI60 -> 332.32515 | AJ61: =AI61/3600 -> 0.092312541 | AK61: =AH61-AG61 -> 0.13912913 | AL61: =AE61*$AL$7 -> 129.40632 | AM61: =AL61*$AM$7 -> 128.11226 | AN61: =AM61*$AN$7 -> 120.42552 | AO61: =AN61*$AO$7 -> 119.22127 | AP61: =AO61*$AP$7 -> 112.06799 | AQ61: =AP61*$AQ$7 -> 110.94731 | AR61: =AQ61*$AR$7 -> 107.61889 | AS61: =AR61 -> 107.61889 | AT61: =AS61/3600 -> 0.029894137 | AU61: =AI61-AS61 -> 224.70626 | AV61: =AU61/3600 -> 0.062418405 | AX61: Overall length | AY61: 2114 mm / 83,2 in | BJ61: 3.8662639 | BK61: =BJ61*$AL$7 -> 3.750276 | BL61: =BK61*$AM$7 -> 3.7127732 | BM61: =BL61*$AN$7 -> 3.4900068 | BN61: =BM61*$AO$7 -> 3.4551068 | BO61: =BN61*$AP$7 -> 3.2478003 | BP61: =BO61*$AQ$7 -> 3.2153223 | BQ61: =BP61*$AR$7 -> 3.1188627 | BR61: =BQ61 -> 3.1188627 | BS61: =BR61/3600 -> 0.00086635074 | BT61: =BJ61-BR61 -> 0.74740122 | BU61: =BT61/3600 -> 0.00020761145
A62: 4.08 | B62: 155.62 | C62: 155.47 | D62: =AVERAGE(B62,C62) -> 155.545 | E62: =SUM(D62*1000)/3600 -> 43.206944 | F62: =(E62-E61)/0.08 -> -2.6388889 | G62: =Sheet1!$I$5*F62 -> -873.47222 | K62: Low | L62: 52 | M62: 52 | N62: 15.7 | O62: =N62*1000/3600 -> 4.3611111 | P62: =($N63-$N61)/2/3.6 -> -0.59722222 | R62: =$I$5*P62 -> -197.68056 | S62: =$I$5*9.81*$F$3 -> 64.9422 | T62: =(0.5*$L$3*$Q$3*$T$3*O62^2) -> 2.2911047 | U62: =R62+S62+T62 -> -130.44725 | V62: =U62+V61 -> 5107.2204 | W62: =U62*O62 -> -568.89496 | X62: =W62/1000 -> -0.56889496 | Y62: =IF(X62<0, X62, 0) -> -0.56889496 | Z62: 0.56889496 | AA62: =-AG62+AA61 -> 13.580201 | AB62: =0.5*$I$5*O62^2 -> 3147.6925 | AC62: =AB62/1000 -> 3.1476925 | AD62: =IF(X62<0,AC62,0) -> 3.1476925 | AE62: =AD62+AE61 -> 136.55627 | AF62: =AE62/3600 -> 0.037932298 | AG62: =IF(X62<0,X62,0) -> -0.56889496 | AH62: =IF(X62>0,AC62,0) -> 0 | AI62: =AH62+AI61 -> 332.32515 | AJ62: =AI62/3600 -> 0.092312541 | AK62: =AH62-AG62 -> 0.56889496 | AL62: =AE62*$AL$7 -> 132.45958 | AM62: =AL62*$AM$7 -> 131.13499 | AN62: =AM62*$AN$7 -> 123.26689 | AO62: =AN62*$AO$7 -> 122.03422 | AP62: =AO62*$AP$7 -> 114.71217 | AQ62: =AP62*$AQ$7 -> 113.56504 | AR62: =AQ62*$AR$7 -> 110.15809 | AS62: =AR62 -> 110.15809 | AT62: =AS62/3600 -> 0.03059947 | AU62: =AI62-AS62 -> 222.16706 | AV62: =AU62/3600 -> 0.061713071 | AX62: Overall width | AY62: 745 mm / 29,3 in | BJ62: 3.1476925 | BK62: =BJ62*$AL$7 -> 3.0532617 | BL62: =BK62*$AM$7 -> 3.0227291 | BM62: =BL62*$AN$7 -> 2.8413654 | BN62: =BM62*$AO$7 -> 2.8129517 | BO62: =BN62*$AP$7 -> 2.6441746 | BP62: =BO62*$AQ$7 -> 2.6177329 | BQ62: =BP62*$AR$7 -> 2.5392009 | BR62: =BQ62 -> 2.5392009 | BS62: =BR62/3600 -> 0.00070533358 | BT62: =BJ62-BR62 -> 0.60849163 | BU62: =BT62/3600 -> 0.00016902545
A63: 4.16 | B63: 155.27 | C63: 154.67 | D63: =AVERAGE(B63,C63) -> 154.97 | E63: =SUM(D63*1000)/3600 -> 43.047222 | F63: =(E63-E62)/0.08 -> -1.9965278 | G63: =Sheet1!$I$5*F63 -> -660.85069 | K63: Low | L63: 53 | M63: 53 | N63: 13.1 | O63: =N63*1000/3600 -> 3.6388889 | P63: =($N64-$N62)/2/3.6 -> -0.5 | R63: =$I$5*P63 -> -165.5 | S63: =$I$5*9.81*$F$3 -> 64.9422 | T63: =(0.5*$L$3*$Q$3*$T$3*O63^2) -> 1.5951011 | U63: =R63+S63+T63 -> -98.962699 | V63: =U63+V62 -> 5008.2577 | W63: =U63*O63 -> -360.11427 | X63: =W63/1000 -> -0.36011427 | Y63: =IF(X63<0, X63, 0) -> -0.36011427 | Z63: 0.36011427 | AA63: =-AG63+AA62 -> 13.940315 | AB63: =0.5*$I$5*O63^2 -> 2191.4703 | AC63: =AB63/1000 -> 2.1914703 | AD63: =IF(X63<0,AC63,0) -> 2.1914703 | AE63: =AD63+AE62 -> 138.74774 | AF63: =AE63/3600 -> 0.03854104 | AG63: =IF(X63<0,X63,0) -> -0.36011427 | AH63: =IF(X63>0,AC63,0) -> 0 | AI63: =AH63+AI62 -> 332.32515 | AJ63: =AI63/3600 -> 0.092312541 | AK63: =AH63-AG63 -> 0.36011427 | AL63: =AE63*$AL$7 -> 134.58531 | AM63: =AL63*$AM$7 -> 133.23946 | AN63: =AM63*$AN$7 -> 125.24509 | AO63: =AN63*$AO$7 -> 123.99264 | AP63: =AO63*$AP$7 -> 116.55308 | AQ63: =AP63*$AQ$7 -> 115.38755 | AR63: =AQ63*$AR$7 -> 111.92592 | AS63: =AR63 -> 111.92592 | AT63: =AS63/3600 -> 0.031090534 | AU63: =AI63-AS63 -> 220.39923 | AV63: =AU63/3600 -> 0.061222007 | AX63: Overall height | AY63: 1228 mm / 48,3 in | BJ63: 2.1914703 | BK63: =BJ63*$AL$7 -> 2.1257262 | BL63: =BK63*$AM$7 -> 2.1044689 | BM63: =BL63*$AN$7 -> 1.9782008 | BN63: =BM63*$AO$7 -> 1.9584188 | BO63: =BN63*$AP$7 -> 1.8409137 | BP63: =BO63*$AQ$7 -> 1.8225045 | BQ63: =BP63*$AR$7 -> 1.7678294 | BR63: =BQ63 -> 1.7678294 | BS63: =BR63/3600 -> 0.00049106372 | BT63: =BJ63-BR63 -> 0.42364091 | BU63: =BT63/3600 -> 0.00011767803
A64: 4.24 | B64: 154.41 | C64: 153.86 | D64: =AVERAGE(B64,C64) -> 154.135 | E64: =SUM(D64*1000)/3600 -> 42.815278 | F64: =(E64-E63)/0.08 -> -2.8993056 | G64: =Sheet1!$I$5*F64 -> -959.67014 | K64: Low | L64: 54 | M64: 54 | N64: 12.1 | O64: =N64*1000/3600 -> 3.3611111 | P64: =($N65-$N63)/2/3.6 -> -0.15277778 | R64: =$I$5*P64 -> -50.569444 | S64: =$I$5*9.81*$F$3 -> 64.9422 | T64: =(0.5*$L$3*$Q$3*$T$3*O64^2) -> 1.3608691 | U64: =R64+S64+T64 -> 15.733625 | V64: =U64+V63 -> 5023.9913 | W64: =U64*O64 -> 52.882461 | X64: =W64/1000 -> 0.052882461 | Y64: =IF(X64<0, X64, 0) -> 0 | Z64: 0 | AA64: =-AG64+AA63 -> 13.940315 | AB64: =0.5*$I$5*O64^2 -> 1869.6647 | AC64: =AB64/1000 -> 1.8696647 | AD64: =IF(X64<0,AC64,0) -> 0 | AE64: =AD64+AE63 -> 138.74774 | AF64: =AE64/3600 -> 0.03854104 | AG64: =IF(X64<0,X64,0) -> 0 | AH64: =IF(X64>0,AC64,0) -> 1.8696647 | AI64: =AH64+AI63 -> 334.19481 | AJ64: =AI64/3600 -> 0.092831893 | AK64: =AH64-AG64 -> 1.8696647 | AL64: =AE64*$AL$7 -> 134.58531 | AM64: =AL64*$AM$7 -> 133.23946 | AN64: =AM64*$AN$7 -> 125.24509 | AO64: =AN64*$AO$7 -> 123.99264 | AP64: =AO64*$AP$7 -> 116.55308 | AQ64: =AP64*$AQ$7 -> 115.38755 | AR64: =AQ64*$AR$7 -> 111.92592 | AS64: =AR64 -> 111.92592 | AT64: =AS64/3600 -> 0.031090534 | AU64: =AI64-AS64 -> 222.26889 | AV64: =AU64/3600 -> 0.061741359 | AX64: Seat height | AY64: 805 mm / 31,7 in | BJ64: 0 | BK64: =BJ64*$AL$7 -> 0 | BL64: =BK64*$AM$7 -> 0 | BM64: =BL64*$AN$7 -> 0 | BN64: =BM64*$AO$7 -> 0 | BO64: =BN64*$AP$7 -> 0 | BP64: =BO64*$AQ$7 -> 0 | BQ64: =BP64*$AR$7 -> 0 | BR64: =BQ64 -> 0 | BS64: =BR64/3600 -> 0 | BT64: =BJ64-BR64 -> 0 | BU64: =BT64/3600 -> 0
A65: 4.32 | B65: 153.72 | C65: 154.26 | D65: =AVERAGE(B65,C65) -> 153.99 | E65: =SUM(D65*1000)/3600 -> 42.775 | F65: =(E65-E64)/0.08 -> -0.50347222 | G65: =Sheet1!$I$5*F65 -> -166.64931 | K65: Low | L65: 55 | M65: 55 | N65: 12 | O65: =N65*1000/3600 -> 3.3333333 | P65: =($N66-$N64)/2/3.6 -> -0.013888889 | R65: =$I$5*P65 -> -4.5972222 | S65: =$I$5*9.81*$F$3 -> 64.9422 | T65: =(0.5*$L$3*$Q$3*$T$3*O65^2) -> 1.3384684 | U65: =R65+S65+T65 -> 61.683446 | V65: =U65+V64 -> 5085.6748 | W65: =U65*O65 -> 205.61149 | X65: =W65/1000 -> 0.20561149 | Y65: =IF(X65<0, X65, 0) -> 0 | Z65: 0 | AA65: =-AG65+AA64 -> 13.940315 | AB65: =0.5*$I$5*O65^2 -> 1838.8889 | AC65: =AB65/1000 -> 1.8388889 | AD65: =IF(X65<0,AC65,0) -> 0 | AE65: =AD65+AE64 -> 138.74774 | AF65: =AE65/3600 -> 0.03854104 | AG65: =IF(X65<0,X65,0) -> 0 | AH65: =IF(X65>0,AC65,0) -> 1.8388889 | AI65: =AH65+AI64 -> 336.0337 | AJ65: =AI65/3600 -> 0.093342695 | AK65: =AH65-AG65 -> 1.8388889 | AL65: =AE65*$AL$7 -> 134.58531 | AM65: =AL65*$AM$7 -> 133.23946 | AN65: =AM65*$AN$7 -> 125.24509 | AO65: =AN65*$AO$7 -> 123.99264 | AP65: =AO65*$AP$7 -> 116.55308 | AQ65: =AP65*$AQ$7 -> 115.38755 | AR65: =AQ65*$AR$7 -> 111.92592 | AS65: =AR65 -> 111.92592 | AT65: =AS65/3600 -> 0.031090534 | AU65: =AI65-AS65 -> 224.10778 | AV65: =AU65/3600 -> 0.062252161 | AX65: Wheelbase | AY65: 1457 mm / 57,4 in | BJ65: 0 | BK65: =BJ65*$AL$7 -> 0 | BL65: =BK65*$AM$7 -> 0 | BM65: =BL65*$AN$7 -> 0 | BN65: =BM65*$AO$7 -> 0 | BO65: =BN65*$AP$7 -> 0 | BP65: =BO65*$AQ$7 -> 0 | BQ65: =BP65*$AR$7 -> 0 | BR65: =BQ65 -> 0 | BS65: =BR65/3600 -> 0 | BT65: =BJ65-BR65 -> 0 | BU65: =BT65/3600 -> 0
A66: 4.4 | B66: 153.75 | C66: 153.34 | D66: =AVERAGE(B66,C66) -> 153.545 | E66: =SUM(D66*1000)/3600 -> 42.651389 | F66: =(E66-E65)/0.08 -> -1.5451389 | G66: =Sheet1!$I$5*F66 -> -511.44097 | K66: Low | L66: 56 | M66: 56 | N66: 12 | O66: =N66*1000/3600 -> 3.3333333 | P66: =($N67-$N65)/2/3.6 -> 0 | R66: =$I$5*P66 -> 0 | S66: =$I$5*9.81*$F$3 -> 64.9422 | T66: =(0.5*$L$3*$Q$3*$T$3*O66^2) -> 1.3384684 | U66: =R66+S66+T66 -> 66.280668 | V66: =U66+V65 -> 5151.9554 | W66: =U66*O66 -> 220.93556 | X66: =W66/1000 -> 0.22093556 | Y66: =IF(X66<0, X66, 0) -> 0 | Z66: 0 | AA66: =-AG66+AA65 -> 13.940315 | AB66: =0.5*$I$5*O66^2 -> 1838.8889 | AC66: =AB66/1000 -> 1.8388889 | AD66: =IF(X66<0,AC66,0) -> 0 | AE66: =AD66+AE65 -> 138.74774 | AF66: =AE66/3600 -> 0.03854104 | AG66: =IF(X66<0,X66,0) -> 0 | AH66: =IF(X66>0,AC66,0) -> 1.8388889 | AI66: =AH66+AI65 -> 337.87259 | AJ66: =AI66/3600 -> 0.093853498 | AK66: =AH66-AG66 -> 1.8388889 | AL66: =AE66*$AL$7 -> 134.58531 | AM66: =AL66*$AM$7 -> 133.23946 | AN66: =AM66*$AN$7 -> 125.24509 | AO66: =AN66*$AO$7 -> 123.99264 | AP66: =AO66*$AP$7 -> 116.55308 | AQ66: =AP66*$AQ$7 -> 115.38755 | AR66: =AQ66*$AR$7 -> 111.92592 | AS66: =AR66 -> 111.92592 | AT66: =AS66/3600 -> 0.031090534 | AU66: =AI66-AS66 -> 225.94667 | AV66: =AU66/3600 -> 0.062762964 | AX66: Ground clearance | BJ66: 0 | BK66: =BJ66*$AL$7 -> 0 | BL66: =BK66*$AM$7 -> 0 | BM66: =BL66*$AN$7 -> 0 | BN66: =BM66*$AO$7 -> 0 | BO66: =BN66*$AP$7 -> 0 | BP66: =BO66*$AQ$7 -> 0 | BQ66: =BP66*$AR$7 -> 0 | BR66: =BQ66 -> 0 | BS66: =BR66/3600 -> 0 | BT66: =BJ66-BR66 -> 0 | BU66: =BT66/3600 -> 0
A67: 4.48 | B67: 154.02 | C67: 152.8 | D67: =AVERAGE(B67,C67) -> 153.41 | E67: =SUM(D67*1000)/3600 -> 42.613889 | F67: =(E67-E66)/0.08 -> -0.46875 | G67: =Sheet1!$I$5*F67 -> -155.15625 | K67: Low | L67: 57 | M67: 57 | N67: 12 | O67: =N67*1000/3600 -> 3.3333333 | P67: =($N68-$N66)/2/3.6 -> 0.041666667 | R67: =$I$5*P67 -> 13.791667 | S67: =$I$5*9.81*$F$3 -> 64.9422 | T67: =(0.5*$L$3*$Q$3*$T$3*O67^2) -> 1.3384684 | U67: =R67+S67+T67 -> 80.072335 | V67: =U67+V66 -> 5232.0278 | W67: =U67*O67 -> 266.90778 | X67: =W67/1000 -> 0.26690778 | Y67: =IF(X67<0, X67, 0) -> 0 | Z67: 0 | AA67: =-AG67+AA66 -> 13.940315 | AB67: =0.5*$I$5*O67^2 -> 1838.8889 | AC67: =AB67/1000 -> 1.8388889 | AD67: =IF(X67<0,AC67,0) -> 0 | AE67: =AD67+AE66 -> 138.74774 | AF67: =AE67/3600 -> 0.03854104 | AG67: =IF(X67<0,X67,0) -> 0 | AH67: =IF(X67>0,AC67,0) -> 1.8388889 | AI67: =AH67+AI66 -> 339.71148 | AJ67: =AI67/3600 -> 0.0943643 | AK67: =AH67-AG67 -> 1.8388889 | AL67: =AE67*$AL$7 -> 134.58531 | AM67: =AL67*$AM$7 -> 133.23946 | AN67: =AM67*$AN$7 -> 125.24509 | AO67: =AN67*$AO$7 -> 123.99264 | AP67: =AO67*$AP$7 -> 116.55308 | AQ67: =AP67*$AQ$7 -> 115.38755 | AR67: =AQ67*$AR$7 -> 111.92592 | AS67: =AR67 -> 111.92592 | AT67: =AS67/3600 -> 0.031090534 | AU67: =AI67-AS67 -> 227.78556 | AV67: =AU67/3600 -> 0.063273766 | AX67: Dry weight | AY67: 210 kg / 462 lbs | BJ67: 0 | BK67: =BJ67*$AL$7 -> 0 | BL67: =BK67*$AM$7 -> 0 | BM67: =BL67*$AN$7 -> 0 | BN67: =BM67*$AO$7 -> 0 | BO67: =BN67*$AP$7 -> 0 | BP67: =BO67*$AQ$7 -> 0 | BQ67: =BP67*$AR$7 -> 0 | BR67: =BQ67 -> 0 | BS67: =BR67/3600 -> 0 | BT67: =BJ67-BR67 -> 0 | BU67: =BT67/3600 -> 0
A68: 4.56 | B68: 152.37 | C68: 152.09 | D68: =AVERAGE(B68,C68) -> 152.23 | E68: =SUM(D68*1000)/3600 -> 42.286111 | F68: =(E68-E67)/0.08 -> -4.0972222 | G68: =Sheet1!$I$5*F68 -> -1356.1806 | K68: Low | L68: 58 | M68: 58 | N68: 12.3 | O68: =N68*1000/3600 -> 3.4166667 | P68: =($N69-$N67)/2/3.6 -> 0.083333333 | R68: =$I$5*P68 -> 27.583333 | S68: =$I$5*9.81*$F$3 -> 64.9422 | T68: =(0.5*$L$3*$Q$3*$T$3*O68^2) -> 1.4062283 | U68: =R68+S68+T68 -> 93.931762 | V68: =U68+V67 -> 5325.9595 | W68: =U68*O68 -> 320.93352 | X68: =W68/1000 -> 0.32093352 | Y68: =IF(X68<0, X68, 0) -> 0 | Z68: 0 | AA68: =-AG68+AA67 -> 13.940315 | AB68: =0.5*$I$5*O68^2 -> 1931.9826 | AC68: =AB68/1000 -> 1.9319826 | AD68: =IF(X68<0,AC68,0) -> 0 | AE68: =AD68+AE67 -> 138.74774 | AF68: =AE68/3600 -> 0.03854104 | AG68: =IF(X68<0,X68,0) -> 0 | AH68: =IF(X68>0,AC68,0) -> 1.9319826 | AI68: =AH68+AI67 -> 341.64346 | AJ68: =AI68/3600 -> 0.094900962 | AK68: =AH68-AG68 -> 1.9319826 | AL68: =AE68*$AL$7 -> 134.58531 | AM68: =AL68*$AM$7 -> 133.23946 | AN68: =AM68*$AN$7 -> 125.24509 | AO68: =AN68*$AO$7 -> 123.99264 | AP68: =AO68*$AP$7 -> 116.55308 | AQ68: =AP68*$AQ$7 -> 115.38755 | AR68: =AQ68*$AR$7 -> 111.92592 | AS68: =AR68 -> 111.92592 | AT68: =AS68/3600 -> 0.031090534 | AU68: =AI68-AS68 -> 229.71754 | AV68: =AU68/3600 -> 0.063810428 | AY68: 213 kg / 469 lbs – Sprint ST 1050 (ABS) | BJ68: 0 | BK68: =BJ68*$AL$7 -> 0 | BL68: =BK68*$AM$7 -> 0 | BM68: =BL68*$AN$7 -> 0 | BN68: =BM68*$AO$7 -> 0 | BO68: =BN68*$AP$7 -> 0 | BP68: =BO68*$AQ$7 -> 0 | BQ68: =BP68*$AR$7 -> 0 | BR68: =BQ68 -> 0 | BS68: =BR68/3600 -> 0 | BT68: =BJ68-BR68 -> 0 | BU68: =BT68/3600 -> 0
A69: 4.64 | B69: 152.54 | C69: 151.79 | D69: =AVERAGE(B69,C69) -> 152.165 | E69: =SUM(D69*1000)/3600 -> 42.268056 | F69: =(E69-E68)/0.08 -> -0.22569444 | G69: =Sheet1!$I$5*F69 -> -74.704861 | K69: Low | L69: 59 | M69: 59 | N69: 12.6 | O69: =N69*1000/3600 -> 3.5 | P69: =($N70-$N68)/2/3.6 -> 0.33333333 | R69: =$I$5*P69 -> 110.33333 | S69: =$I$5*9.81*$F$3 -> 64.9422 | T69: =(0.5*$L$3*$Q$3*$T$3*O69^2) -> 1.4756614 | U69: =R69+S69+T69 -> 176.75119 | V69: =U69+V68 -> 5502.7107 | W69: =U69*O69 -> 618.62918 | X69: =W69/1000 -> 0.61862918 | Y69: =IF(X69<0, X69, 0) -> 0 | Z69: 0 | AA69: =-AG69+AA68 -> 13.940315 | AB69: =0.5*$I$5*O69^2 -> 2027.375 | AC69: =AB69/1000 -> 2.027375 | AD69: =IF(X69<0,AC69,0) -> 0 | AE69: =AD69+AE68 -> 138.74774 | AF69: =AE69/3600 -> 0.03854104 | AG69: =IF(X69<0,X69,0) -> 0 | AH69: =IF(X69>0,AC69,0) -> 2.027375 | AI69: =AH69+AI68 -> 343.67084 | AJ69: =AI69/3600 -> 0.095464122 | AK69: =AH69-AG69 -> 2.027375 | AL69: =AE69*$AL$7 -> 134.58531 | AM69: =AL69*$AM$7 -> 133.23946 | AN69: =AM69*$AN$7 -> 125.24509 | AO69: =AN69*$AO$7 -> 123.99264 | AP69: =AO69*$AP$7 -> 116.55308 | AQ69: =AP69*$AQ$7 -> 115.38755 | AR69: =AQ69*$AR$7 -> 111.92592 | AS69: =AR69 -> 111.92592 | AT69: =AS69/3600 -> 0.031090534 | AU69: =AI69-AS69 -> 231.74492 | AV69: =AU69/3600 -> 0.064373588 | AX69: Curb (wet) weight | AY69: 241 kg / 530 lbs | BJ69: 0 | BK69: =BJ69*$AL$7 -> 0 | BL69: =BK69*$AM$7 -> 0 | BM69: =BL69*$AN$7 -> 0 | BN69: =BM69*$AO$7 -> 0 | BO69: =BN69*$AP$7 -> 0 | BP69: =BO69*$AQ$7 -> 0 | BQ69: =BP69*$AR$7 -> 0 | BR69: =BQ69 -> 0 | BS69: =BR69/3600 -> 0 | BT69: =BJ69-BR69 -> 0 | BU69: =BT69/3600 -> 0
A70: 4.72 | B70: 151.61 | C70: 150.93 | D70: =AVERAGE(B70,C70) -> 151.27 | E70: =SUM(D70*1000)/3600 -> 42.019444 | F70: =(E70-E69)/0.08 -> -3.1076389 | G70: =Sheet1!$I$5*F70 -> -1028.6285 | K70: Low | L70: 60 | M70: 60 | N70: 14.7 | O70: =N70*1000/3600 -> 4.0833333 | P70: =($N71-$N69)/2/3.6 -> 0.375 | R70: =$I$5*P70 -> 124.125 | S70: =$I$5*9.81*$F$3 -> 64.9422 | T70: =(0.5*$L$3*$Q$3*$T$3*O70^2) -> 2.0085391 | U70: =R70+S70+T70 -> 191.07574 | V70: =U70+V69 -> 5693.7865 | W70: =U70*O70 -> 780.22593 | X70: =W70/1000 -> 0.78022593 | Y70: =IF(X70<0, X70, 0) -> 0 | Z70: 0 | AA70: =-AG70+AA69 -> 13.940315 | AB70: =0.5*$I$5*O70^2 -> 2759.4826 | AC70: =AB70/1000 -> 2.7594826 | AD70: =IF(X70<0,AC70,0) -> 0 | AE70: =AD70+AE69 -> 138.74774 | AF70: =AE70/3600 -> 0.03854104 | AG70: =IF(X70<0,X70,0) -> 0 | AH70: =IF(X70>0,AC70,0) -> 2.7594826 | AI70: =AH70+AI69 -> 346.43032 | AJ70: =AI70/3600 -> 0.096230645 | AK70: =AH70-AG70 -> 2.7594826 | AL70: =AE70*$AL$7 -> 134.58531 | AM70: =AL70*$AM$7 -> 133.23946 | AN70: =AM70*$AN$7 -> 125.24509 | AO70: =AN70*$AO$7 -> 123.99264 | AP70: =AO70*$AP$7 -> 116.55308 | AQ70: =AP70*$AQ$7 -> 115.38755 | AR70: =AQ70*$AR$7 -> 111.92592 | AS70: =AR70 -> 111.92592 | AT70: =AS70/3600 -> 0.031090534 | AU70: =AI70-AS70 -> 234.5044 | AV70: =AU70/3600 -> 0.065140111 | BJ70: 0 | BK70: =BJ70*$AL$7 -> 0 | BL70: =BK70*$AM$7 -> 0 | BM70: =BL70*$AN$7 -> 0 | BN70: =BM70*$AO$7 -> 0 | BO70: =BN70*$AP$7 -> 0 | BP70: =BO70*$AQ$7 -> 0 | BQ70: =BP70*$AR$7 -> 0 | BR70: =BQ70 -> 0 | BS70: =BR70/3600 -> 0 | BT70: =BJ70-BR70 -> 0 | BU70: =BT70/3600 -> 0
A71: 4.8 | B71: 151.11 | C71: 150.31 | D71: =AVERAGE(B71,C71) -> 150.71 | E71: =SUM(D71*1000)/3600 -> 41.863889 | F71: =(E71-E70)/0.08 -> -1.9444444 | G71: =Sheet1!$I$5*F71 -> -643.61111 | K71: Low | L71: 61 | M71: 61 | N71: 15.3 | O71: =N71*1000/3600 -> 4.25 | P71: =($N72-$N70)/2/3.6 -> 0.16666667 | R71: =$I$5*P71 -> 55.166667 | S71: =$I$5*9.81*$F$3 -> 64.9422 | T71: =(0.5*$L$3*$Q$3*$T$3*O71^2) -> 2.1758477 | U71: =R71+S71+T71 -> 122.28471 | V71: =U71+V70 -> 5816.0712 | W71: =U71*O71 -> 519.71004 | X71: =W71/1000 -> 0.51971004 | Y71: =IF(X71<0, X71, 0) -> 0 | Z71: 0 | AA71: =-AG71+AA70 -> 13.940315 | AB71: =0.5*$I$5*O71^2 -> 2989.3438 | AC71: =AB71/1000 -> 2.9893438 | AD71: =IF(X71<0,AC71,0) -> 0 | AE71: =AD71+AE70 -> 138.74774 | AF71: =AE71/3600 -> 0.03854104 | AG71: =IF(X71<0,X71,0) -> 0 | AH71: =IF(X71>0,AC71,0) -> 2.9893438 | AI71: =AH71+AI70 -> 349.41966 | AJ71: =AI71/3600 -> 0.097061018 | AK71: =AH71-AG71 -> 2.9893438 | AL71: =AE71*$AL$7 -> 134.58531 | AM71: =AL71*$AM$7 -> 133.23946 | AN71: =AM71*$AN$7 -> 125.24509 | AO71: =AN71*$AO$7 -> 123.99264 | AP71: =AO71*$AP$7 -> 116.55308 | AQ71: =AP71*$AQ$7 -> 115.38755 | AR71: =AQ71*$AR$7 -> 111.92592 | AS71: =AR71 -> 111.92592 | AT71: =AS71/3600 -> 0.031090534 | AU71: =AI71-AS71 -> 237.49374 | AV71: =AU71/3600 -> 0.065970484 | BJ71: 0 | BK71: =BJ71*$AL$7 -> 0 | BL71: =BK71*$AM$7 -> 0 | BM71: =BL71*$AN$7 -> 0 | BN71: =BM71*$AO$7 -> 0 | BO71: =BN71*$AP$7 -> 0 | BP71: =BO71*$AQ$7 -> 0 | BQ71: =BP71*$AR$7 -> 0 | BR71: =BQ71 -> 0 | BS71: =BR71/3600 -> 0 | BT71: =BJ71-BR71 -> 0 | BU71: =BT71/3600 -> 0
A72: 4.88 | B72: 151.31 | C72: 149.78 | D72: =AVERAGE(B72,C72) -> 150.545 | E72: =SUM(D72*1000)/3600 -> 41.818056 | F72: =(E72-E71)/0.08 -> -0.57291667 | G72: =Sheet1!$I$5*F72 -> -189.63542 | K72: Low | L72: 62 | M72: 62 | N72: 15.9 | O72: =N72*1000/3600 -> 4.4166667 | P72: =($N73-$N71)/2/3.6 -> 0.125 | R72: =$I$5*P72 -> 41.375 | S72: =$I$5*9.81*$F$3 -> 64.9422 | T72: =(0.5*$L$3*$Q$3*$T$3*O72^2) -> 2.3498485 | U72: =R72+S72+T72 -> 108.66705 | V72: =U72+V71 -> 5924.7382 | W72: =U72*O72 -> 479.94613 | X72: =W72/1000 -> 0.47994613 | Y72: =IF(X72<0, X72, 0) -> 0 | Z72: 0 | AA72: =-AG72+AA71 -> 13.940315 | AB72: =0.5*$I$5*O72^2 -> 3228.3993 | AC72: =AB72/1000 -> 3.2283993 | AD72: =IF(X72<0,AC72,0) -> 0 | AE72: =AD72+AE71 -> 138.74774 | AF72: =AE72/3600 -> 0.03854104 | AG72: =IF(X72<0,X72,0) -> 0 | AH72: =IF(X72>0,AC72,0) -> 3.2283993 | AI72: =AH72+AI71 -> 352.64806 | AJ72: =AI72/3600 -> 0.097957796 | AK72: =AH72-AG72 -> 3.2283993 | AL72: =AE72*$AL$7 -> 134.58531 | AM72: =AL72*$AM$7 -> 133.23946 | AN72: =AM72*$AN$7 -> 125.24509 | AO72: =AN72*$AO$7 -> 123.99264 | AP72: =AO72*$AP$7 -> 116.55308 | AQ72: =AP72*$AQ$7 -> 115.38755 | AR72: =AQ72*$AR$7 -> 111.92592 | AS72: =AR72 -> 111.92592 | AT72: =AS72/3600 -> 0.031090534 | AU72: =AI72-AS72 -> 240.72214 | AV72: =AU72/3600 -> 0.066867261 | BJ72: 0 | BK72: =BJ72*$AL$7 -> 0 | BL72: =BK72*$AM$7 -> 0 | BM72: =BL72*$AN$7 -> 0 | BN72: =BM72*$AO$7 -> 0 | BO72: =BN72*$AP$7 -> 0 | BP72: =BO72*$AQ$7 -> 0 | BQ72: =BP72*$AR$7 -> 0 | BR72: =BQ72 -> 0 | BS72: =BR72/3600 -> 0 | BT72: =BJ72-BR72 -> 0 | BU72: =BT72/3600 -> 0
A73: 4.96 | B73: 150.09 | C73: 149.72 | D73: =AVERAGE(B73,C73) -> 149.905 | E73: =SUM(D73*1000)/3600 -> 41.640278 | F73: =(E73-E72)/0.08 -> -2.2222222 | G73: =Sheet1!$I$5*F73 -> -735.55556 | K73: Low | L73: 63 | M73: 63 | N73: 16.2 | O73: =N73*1000/3600 -> 4.5 | P73: =($N74-$N72)/2/3.6 -> 0.16666667 | R73: =$I$5*P73 -> 55.166667 | S73: =$I$5*9.81*$F$3 -> 64.9422 | T73: =(0.5*$L$3*$Q$3*$T$3*O73^2) -> 2.4393586 | U73: =R73+S73+T73 -> 122.54823 | V73: =U73+V72 -> 6047.2864 | W73: =U73*O73 -> 551.46701 | X73: =W73/1000 -> 0.55146701 | Y73: =IF(X73<0, X73, 0) -> 0 | Z73: 0 | AA73: =-AG73+AA72 -> 13.940315 | AB73: =0.5*$I$5*O73^2 -> 3351.375 | AC73: =AB73/1000 -> 3.351375 | AD73: =IF(X73<0,AC73,0) -> 0 | AE73: =AD73+AE72 -> 138.74774 | AF73: =AE73/3600 -> 0.03854104 | AG73: =IF(X73<0,X73,0) -> 0 | AH73: =IF(X73>0,AC73,0) -> 3.351375 | AI73: =AH73+AI72 -> 355.99944 | AJ73: =AI73/3600 -> 0.098888733 | AK73: =AH73-AG73 -> 3.351375 | AL73: =AE73*$AL$7 -> 134.58531 | AM73: =AL73*$AM$7 -> 133.23946 | AN73: =AM73*$AN$7 -> 125.24509 | AO73: =AN73*$AO$7 -> 123.99264 | AP73: =AO73*$AP$7 -> 116.55308 | AQ73: =AP73*$AQ$7 -> 115.38755 | AR73: =AQ73*$AR$7 -> 111.92592 | AS73: =AR73 -> 111.92592 | AT73: =AS73/3600 -> 0.031090534 | AU73: =AI73-AS73 -> 244.07352 | AV73: =AU73/3600 -> 0.067798199 | BJ73: 0 | BK73: =BJ73*$AL$7 -> 0 | BL73: =BK73*$AM$7 -> 0 | BM73: =BL73*$AN$7 -> 0 | BN73: =BM73*$AO$7 -> 0 | BO73: =BN73*$AP$7 -> 0 | BP73: =BO73*$AQ$7 -> 0 | BQ73: =BP73*$AR$7 -> 0 | BR73: =BQ73 -> 0 | BS73: =BR73/3600 -> 0 | BT73: =BJ73-BR73 -> 0 | BU73: =BT73/3600 -> 0
A74: 5.04 | B74: 150.17 | C74: 149.06 | D74: =AVERAGE(B74,C74) -> 149.615 | E74: =SUM(D74*1000)/3600 -> 41.559722 | F74: =(E74-E73)/0.08 -> -1.0069444 | G74: =Sheet1!$I$5*F74 -> -333.29861 | K74: Low | L74: 64 | M74: 64 | N74: 17.1 | O74: =N74*1000/3600 -> 4.75 | P74: =($N75-$N73)/2/3.6 -> 0.22222222 | R74: =$I$5*P74 -> 73.555556 | S74: =$I$5*9.81*$F$3 -> 64.9422 | T74: =(0.5*$L$3*$Q$3*$T$3*O74^2) -> 2.7179274 | U74: =R74+S74+T74 -> 141.21568 | V74: =U74+V73 -> 6188.5021 | W74: =U74*O74 -> 670.77449 | X74: =W74/1000 -> 0.67077449 | Y74: =IF(X74<0, X74, 0) -> 0 | Z74: 0 | AA74: =-AG74+AA73 -> 13.940315 | AB74: =0.5*$I$5*O74^2 -> 3734.0938 | AC74: =AB74/1000 -> 3.7340937 | AD74: =IF(X74<0,AC74,0) -> 0 | AE74: =AD74+AE73 -> 138.74774 | AF74: =AE74/3600 -> 0.03854104 | AG74: =IF(X74<0,X74,0) -> 0 | AH74: =IF(X74>0,AC74,0) -> 3.7340937 | AI74: =AH74+AI73 -> 359.73353 | AJ74: =AI74/3600 -> 0.099925981 | AK74: =AH74-AG74 -> 3.7340937 | AL74: =AE74*$AL$7 -> 134.58531 | AM74: =AL74*$AM$7 -> 133.23946 | AN74: =AM74*$AN$7 -> 125.24509 | AO74: =AN74*$AO$7 -> 123.99264 | AP74: =AO74*$AP$7 -> 116.55308 | AQ74: =AP74*$AQ$7 -> 115.38755 | AR74: =AQ74*$AR$7 -> 111.92592 | AS74: =AR74 -> 111.92592 | AT74: =AS74/3600 -> 0.031090534 | AU74: =AI74-AS74 -> 247.80761 | AV74: =AU74/3600 -> 0.068835447 | BJ74: 0 | BK74: =BJ74*$AL$7 -> 0 | BL74: =BK74*$AM$7 -> 0 | BM74: =BL74*$AN$7 -> 0 | BN74: =BM74*$AO$7 -> 0 | BO74: =BN74*$AP$7 -> 0 | BP74: =BO74*$AQ$7 -> 0 | BQ74: =BP74*$AR$7 -> 0 | BR74: =BQ74 -> 0 | BS74: =BR74/3600 -> 0 | BT74: =BJ74-BR74 -> 0 | BU74: =BT74/3600 -> 0
A75: 5.12 | B75: 149.6 | C75: 147.85 | D75: =AVERAGE(B75,C75) -> 148.725 | E75: =SUM(D75*1000)/3600 -> 41.3125 | F75: =(E75-E74)/0.08 -> -3.0902778 | G75: =Sheet1!$I$5*F75 -> -1022.8819 | K75: Low | L75: 65 | M75: 65 | N75: 17.8 | O75: =N75*1000/3600 -> 4.9444444 | P75: =($N76-$N74)/2/3.6 -> 0.13888889 | R75: =$I$5*P75 -> 45.972222 | S75: =$I$5*9.81*$F$3 -> 64.9422 | T75: =(0.5*$L$3*$Q$3*$T$3*O75^2) -> 2.9450022 | U75: =R75+S75+T75 -> 113.85942 | V75: =U75+V74 -> 6302.3615 | W75: =U75*O75 -> 562.9716 | X75: =W75/1000 -> 0.5629716 | Y75: =IF(X75<0, X75, 0) -> 0 | Z75: 0 | AA75: =-AG75+AA74 -> 13.940315 | AB75: =0.5*$I$5*O75^2 -> 4046.0664 | AC75: =AB75/1000 -> 4.0460664 | AD75: =IF(X75<0,AC75,0) -> 0 | AE75: =AD75+AE74 -> 138.74774 | AF75: =AE75/3600 -> 0.03854104 | AG75: =IF(X75<0,X75,0) -> 0 | AH75: =IF(X75>0,AC75,0) -> 4.0460664 | AI75: =AH75+AI74 -> 363.7796 | AJ75: =AI75/3600 -> 0.10104989 | AK75: =AH75-AG75 -> 4.0460664 | AL75: =AE75*$AL$7 -> 134.58531 | AM75: =AL75*$AM$7 -> 133.23946 | AN75: =AM75*$AN$7 -> 125.24509 | AO75: =AN75*$AO$7 -> 123.99264 | AP75: =AO75*$AP$7 -> 116.55308 | AQ75: =AP75*$AQ$7 -> 115.38755 | AR75: =AQ75*$AR$7 -> 111.92592 | AS75: =AR75 -> 111.92592 | AT75: =AS75/3600 -> 0.031090534 | AU75: =AI75-AS75 -> 251.85368 | AV75: =AU75/3600 -> 0.069959354 | BJ75: 0 | BK75: =BJ75*$AL$7 -> 0 | BL75: =BK75*$AM$7 -> 0 | BM75: =BL75*$AN$7 -> 0 | BN75: =BM75*$AO$7 -> 0 | BO75: =BN75*$AP$7 -> 0 | BP75: =BO75*$AQ$7 -> 0 | BQ75: =BP75*$AR$7 -> 0 | BR75: =BQ75 -> 0 | BS75: =BR75/3600 -> 0 | BT75: =BJ75-BR75 -> 0 | BU75: =BT75/3600 -> 0
A76: 5.2 | B76: 148.53 | C76: 148.08 | D76: =AVERAGE(B76,C76) -> 148.305 | E76: =SUM(D76*1000)/3600 -> 41.195833 | F76: =(E76-E75)/0.08 -> -1.4583333 | G76: =Sheet1!$I$5*F76 -> -482.70833 | K76: Low | L76: 66 | M76: 66 | N76: 18.1 | O76: =N76*1000/3600 -> 5.0277778 | P76: =($N77-$N75)/2/3.6 -> 0.083333333 | R76: =$I$5*P76 -> 27.583333 | S76: =$I$5*9.81*$F$3 -> 64.9422 | T76: =(0.5*$L$3*$Q$3*$T$3*O76^2) -> 3.0451085 | U76: =R76+S76+T76 -> 95.570642 | V76: =U76+V75 -> 6397.9322 | W76: =U76*O76 -> 480.50795 | X76: =W76/1000 -> 0.48050795 | Y76: =IF(X76<0, X76, 0) -> 0 | Z76: 0 | AA76: =-AG76+AA75 -> 13.940315 | AB76: =0.5*$I$5*O76^2 -> 4183.5999 | AC76: =AB76/1000 -> 4.1835999 | AD76: =IF(X76<0,AC76,0) -> 0 | AE76: =AD76+AE75 -> 138.74774 | AF76: =AE76/3600 -> 0.03854104 | AG76: =IF(X76<0,X76,0) -> 0 | AH76: =IF(X76>0,AC76,0) -> 4.1835999 | AI76: =AH76+AI75 -> 367.9632 | AJ76: =AI76/3600 -> 0.102212 | AK76: =AH76-AG76 -> 4.1835999 | AL76: =AE76*$AL$7 -> 134.58531 | AM76: =AL76*$AM$7 -> 133.23946 | AN76: =AM76*$AN$7 -> 125.24509 | AO76: =AN76*$AO$7 -> 123.99264 | AP76: =AO76*$AP$7 -> 116.55308 | AQ76: =AP76*$AQ$7 -> 115.38755 | AR76: =AQ76*$AR$7 -> 111.92592 | AS76: =AR76 -> 111.92592 | AT76: =AS76/3600 -> 0.031090534 | AU76: =AI76-AS76 -> 256.03728 | AV76: =AU76/3600 -> 0.071121466 | BJ76: 0 | BK76: =BJ76*$AL$7 -> 0 | BL76: =BK76*$AM$7 -> 0 | BM76: =BL76*$AN$7 -> 0 | BN76: =BM76*$AO$7 -> 0 | BO76: =BN76*$AP$7 -> 0 | BP76: =BO76*$AQ$7 -> 0 | BQ76: =BP76*$AR$7 -> 0 | BR76: =BQ76 -> 0 | BS76: =BR76/3600 -> 0 | BT76: =BJ76-BR76 -> 0 | BU76: =BT76/3600 -> 0
A77: 5.28 | B77: 148.73 | C77: 147.42 | D77: =AVERAGE(B77,C77) -> 148.075 | E77: =SUM(D77*1000)/3600 -> 41.131944 | F77: =(E77-E76)/0.08 -> -0.79861111 | G77: =Sheet1!$I$5*F77 -> -264.34028 | K77: Low | L77: 67 | M77: 67 | N77: 18.4 | O77: =N77*1000/3600 -> 5.1111111 | P77: =($N78-$N76)/2/3.6 -> 0.30555556 | R77: =$I$5*P77 -> 101.13889 | S77: =$I$5*9.81*$F$3 -> 64.9422 | T77: =(0.5*$L$3*$Q$3*$T$3*O77^2) -> 3.1468879 | U77: =R77+S77+T77 -> 169.22798 | V77: =U77+V76 -> 6567.1602 | W77: =U77*O77 -> 864.94299 | X77: =W77/1000 -> 0.86494299 | Y77: =IF(X77<0, X77, 0) -> 0 | Z77: 0 | AA77: =-AG77+AA76 -> 13.940315 | AB77: =0.5*$I$5*O77^2 -> 4323.4321 | AC77: =AB77/1000 -> 4.3234321 | AD77: =IF(X77<0,AC77,0) -> 0 | AE77: =AD77+AE76 -> 138.74774 | AF77: =AE77/3600 -> 0.03854104 | AG77: =IF(X77<0,X77,0) -> 0 | AH77: =IF(X77>0,AC77,0) -> 4.3234321 | AI77: =AH77+AI76 -> 372.28663 | AJ77: =AI77/3600 -> 0.10341295 | AK77: =AH77-AG77 -> 4.3234321 | AL77: =AE77*$AL$7 -> 134.58531 | AM77: =AL77*$AM$7 -> 133.23946 | AN77: =AM77*$AN$7 -> 125.24509 | AO77: =AN77*$AO$7 -> 123.99264 | AP77: =AO77*$AP$7 -> 116.55308 | AQ77: =AP77*$AQ$7 -> 115.38755 | AR77: =AQ77*$AR$7 -> 111.92592 | AS77: =AR77 -> 111.92592 | AT77: =AS77/3600 -> 0.031090534 | AU77: =AI77-AS77 -> 260.36071 | AV77: =AU77/3600 -> 0.072322419 | BJ77: 0 | BK77: =BJ77*$AL$7 -> 0 | BL77: =BK77*$AM$7 -> 0 | BM77: =BL77*$AN$7 -> 0 | BN77: =BM77*$AO$7 -> 0 | BO77: =BN77*$AP$7 -> 0 | BP77: =BO77*$AQ$7 -> 0 | BQ77: =BP77*$AR$7 -> 0 | BR77: =BQ77 -> 0 | BS77: =BR77/3600 -> 0 | BT77: =BJ77-BR77 -> 0 | BU77: =BT77/3600 -> 0
A78: 5.36 | B78: 148.24 | C78: 146.79 | D78: =AVERAGE(B78,C78) -> 147.515 | E78: =SUM(D78*1000)/3600 -> 40.976389 | F78: =(E78-E77)/0.08 -> -1.9444444 | G78: =Sheet1!$I$5*F78 -> -643.61111 | K78: Low | L78: 68 | M78: 68 | N78: 20.3 | O78: =N78*1000/3600 -> 5.6388889 | P78: =($N79-$N77)/2/3.6 -> 0.66666667 | R78: =$I$5*P78 -> 220.66667 | S78: =$I$5*9.81*$F$3 -> 64.9422 | T78: =(0.5*$L$3*$Q$3*$T$3*O78^2) -> 3.8303433 | U78: =R78+S78+T78 -> 289.43921 | V78: =U78+V77 -> 6856.5994 | W78: =U78*O78 -> 1632.1155 | X78: =W78/1000 -> 1.6321155 | Y78: =IF(X78<0, X78, 0) -> 0 | Z78: 0 | AA78: =-AG78+AA77 -> 13.940315 | AB78: =0.5*$I$5*O78^2 -> 5262.4147 | AC78: =AB78/1000 -> 5.2624147 | AD78: =IF(X78<0,AC78,0) -> 0 | AE78: =AD78+AE77 -> 138.74774 | AF78: =AE78/3600 -> 0.03854104 | AG78: =IF(X78<0,X78,0) -> 0 | AH78: =IF(X78>0,AC78,0) -> 5.2624147 | AI78: =AH78+AI77 -> 377.54905 | AJ78: =AI78/3600 -> 0.10487473 | AK78: =AH78-AG78 -> 5.2624147 | AL78: =AE78*$AL$7 -> 134.58531 | AM78: =AL78*$AM$7 -> 133.23946 | AN78: =AM78*$AN$7 -> 125.24509 | AO78: =AN78*$AO$7 -> 123.99264 | AP78: =AO78*$AP$7 -> 116.55308 | AQ78: =AP78*$AQ$7 -> 115.38755 | AR78: =AQ78*$AR$7 -> 111.92592 | AS78: =AR78 -> 111.92592 | AT78: =AS78/3600 -> 0.031090534 | AU78: =AI78-AS78 -> 265.62312 | AV78: =AU78/3600 -> 0.073784201 | BJ78: 0 | BK78: =BJ78*$AL$7 -> 0 | BL78: =BK78*$AM$7 -> 0 | BM78: =BL78*$AN$7 -> 0 | BN78: =BM78*$AO$7 -> 0 | BO78: =BN78*$AP$7 -> 0 | BP78: =BO78*$AQ$7 -> 0 | BQ78: =BP78*$AR$7 -> 0 | BR78: =BQ78 -> 0 | BS78: =BR78/3600 -> 0 | BT78: =BJ78-BR78 -> 0 | BU78: =BT78/3600 -> 0
A79: 5.44 | B79: 147.58 | C79: 146.01 | D79: =AVERAGE(B79,C79) -> 146.795 | E79: =SUM(D79*1000)/3600 -> 40.776389 | F79: =(E79-E78)/0.08 -> -2.5 | G79: =Sheet1!$I$5*F79 -> -827.5 | K79: Low | L79: 69 | M79: 69 | N79: 23.2 | O79: =N79*1000/3600 -> 6.4444444 | P79: =($N80-$N78)/2/3.6 -> 0.86111111 | R79: =$I$5*P79 -> 285.02778 | S79: =$I$5*9.81*$F$3 -> 64.9422 | T79: =(0.5*$L$3*$Q$3*$T$3*O79^2) -> 5.0028974 | U79: =R79+S79+T79 -> 354.97288 | V79: =U79+V78 -> 7211.5723 | W79: =U79*O79 -> 2287.603 | X79: =W79/1000 -> 2.287603 | Y79: =IF(X79<0, X79, 0) -> 0 | Z79: 0 | AA79: =-AG79+AA78 -> 13.940315 | AB79: =0.5*$I$5*O79^2 -> 6873.358 | AC79: =AB79/1000 -> 6.873358 | AD79: =IF(X79<0,AC79,0) -> 0 | AE79: =AD79+AE78 -> 138.74774 | AF79: =AE79/3600 -> 0.03854104 | AG79: =IF(X79<0,X79,0) -> 0 | AH79: =IF(X79>0,AC79,0) -> 6.873358 | AI79: =AH79+AI78 -> 384.4224 | AJ79: =AI79/3600 -> 0.106784 | AK79: =AH79-AG79 -> 6.873358 | AL79: =AE79*$AL$7 -> 134.58531 | AM79: =AL79*$AM$7 -> 133.23946 | AN79: =AM79*$AN$7 -> 125.24509 | AO79: =AN79*$AO$7 -> 123.99264 | AP79: =AO79*$AP$7 -> 116.55308 | AQ79: =AP79*$AQ$7 -> 115.38755 | AR79: =AQ79*$AR$7 -> 111.92592 | AS79: =AR79 -> 111.92592 | AT79: =AS79/3600 -> 0.031090534 | AU79: =AI79-AS79 -> 272.49648 | AV79: =AU79/3600 -> 0.075693467 | BJ79: 0 | BK79: =BJ79*$AL$7 -> 0 | BL79: =BK79*$AM$7 -> 0 | BM79: =BL79*$AN$7 -> 0 | BN79: =BM79*$AO$7 -> 0 | BO79: =BN79*$AP$7 -> 0 | BP79: =BO79*$AQ$7 -> 0 | BQ79: =BP79*$AR$7 -> 0 | BR79: =BQ79 -> 0 | BS79: =BR79/3600 -> 0 | BT79: =BJ79-BR79 -> 0 | BU79: =BT79/3600 -> 0
A80: 5.52 | B80: 147.13 | C80: 146.22 | D80: =AVERAGE(B80,C80) -> 146.675 | E80: =SUM(D80*1000)/3600 -> 40.743056 | F80: =(E80-E79)/0.08 -> -0.41666667 | G80: =Sheet1!$I$5*F80 -> -137.91667 | K80: Low | L80: 70 | M80: 70 | N80: 26.5 | O80: =N80*1000/3600 -> 7.3611111 | P80: =($N81-$N79)/2/3.6 -> 0.91666667 | R80: =$I$5*P80 -> 303.41667 | S80: =$I$5*9.81*$F$3 -> 64.9422 | T80: =(0.5*$L$3*$Q$3*$T$3*O80^2) -> 6.5273571 | U80: =R80+S80+T80 -> 374.88622 | V80: =U80+V79 -> 7586.4585 | W80: =U80*O80 -> 2759.5791 | X80: =W80/1000 -> 2.7595791 | Y80: =IF(X80<0, X80, 0) -> 0 | Z80: 0 | AA80: =-AG80+AA79 -> 13.940315 | AB80: =0.5*$I$5*O80^2 -> 8967.7758 | AC80: =AB80/1000 -> 8.9677758 | AD80: =IF(X80<0,AC80,0) -> 0 | AE80: =AD80+AE79 -> 138.74774 | AF80: =AE80/3600 -> 0.03854104 | AG80: =IF(X80<0,X80,0) -> 0 | AH80: =IF(X80>0,AC80,0) -> 8.9677758 | AI80: =AH80+AI79 -> 393.39018 | AJ80: =AI80/3600 -> 0.10927505 | AK80: =AH80-AG80 -> 8.9677758 | AL80: =AE80*$AL$7 -> 134.58531 | AM80: =AL80*$AM$7 -> 133.23946 | AN80: =AM80*$AN$7 -> 125.24509 | AO80: =AN80*$AO$7 -> 123.99264 | AP80: =AO80*$AP$7 -> 116.55308 | AQ80: =AP80*$AQ$7 -> 115.38755 | AR80: =AQ80*$AR$7 -> 111.92592 | AS80: =AR80 -> 111.92592 | AT80: =AS80/3600 -> 0.031090534 | AU80: =AI80-AS80 -> 281.46426 | AV80: =AU80/3600 -> 0.078184516 | BJ80: 0 | BK80: =BJ80*$AL$7 -> 0 | BL80: =BK80*$AM$7 -> 0 | BM80: =BL80*$AN$7 -> 0 | BN80: =BM80*$AO$7 -> 0 | BO80: =BN80*$AP$7 -> 0 | BP80: =BO80*$AQ$7 -> 0 | BQ80: =BP80*$AR$7 -> 0 | BR80: =BQ80 -> 0 | BS80: =BR80/3600 -> 0 | BT80: =BJ80-BR80 -> 0 | BU80: =BT80/3600 -> 0
A81: 5.6 | B81: 146.51 | C81: 145.42 | D81: =AVERAGE(B81,C81) -> 145.965 | E81: =SUM(D81*1000)/3600 -> 40.545833 | F81: =(E81-E80)/0.08 -> -2.4652778 | G81: =Sheet1!$I$5*F81 -> -816.00694 | K81: Low | L81: 71 | M81: 71 | N81: 29.8 | O81: =N81*1000/3600 -> 8.2777778 | P81: =($N82-$N80)/2/3.6 -> 0.84722222 | R81: =$I$5*P81 -> 280.43056 | S81: =$I$5*9.81*$F$3 -> 64.9422 | T81: =(0.5*$L$3*$Q$3*$T$3*O81^2) -> 8.2542601 | U81: =R81+S81+T81 -> 353.62702 | V81: =U81+V80 -> 7940.0855 | W81: =U81*O81 -> 2927.2459 | X81: =W81/1000 -> 2.9272459 | Y81: =IF(X81<0, X81, 0) -> 0 | Z81: 0 | AA81: =-AG81+AA80 -> 13.940315 | AB81: =0.5*$I$5*O81^2 -> 11340.326 | AC81: =AB81/1000 -> 11.340326 | AD81: =IF(X81<0,AC81,0) -> 0 | AE81: =AD81+AE80 -> 138.74774 | AF81: =AE81/3600 -> 0.03854104 | AG81: =IF(X81<0,X81,0) -> 0 | AH81: =IF(X81>0,AC81,0) -> 11.340326 | AI81: =AH81+AI80 -> 404.73051 | AJ81: =AI81/3600 -> 0.11242514 | AK81: =AH81-AG81 -> 11.340326 | AL81: =AE81*$AL$7 -> 134.58531 | AM81: =AL81*$AM$7 -> 133.23946 | AN81: =AM81*$AN$7 -> 125.24509 | AO81: =AN81*$AO$7 -> 123.99264 | AP81: =AO81*$AP$7 -> 116.55308 | AQ81: =AP81*$AQ$7 -> 115.38755 | AR81: =AQ81*$AR$7 -> 111.92592 | AS81: =AR81 -> 111.92592 | AT81: =AS81/3600 -> 0.031090534 | AU81: =AI81-AS81 -> 292.80458 | AV81: =AU81/3600 -> 0.081334606 | BJ81: 0 | BK81: =BJ81*$AL$7 -> 0 | BL81: =BK81*$AM$7 -> 0 | BM81: =BL81*$AN$7 -> 0 | BN81: =BM81*$AO$7 -> 0 | BO81: =BN81*$AP$7 -> 0 | BP81: =BO81*$AQ$7 -> 0 | BQ81: =BP81*$AR$7 -> 0 | BR81: =BQ81 -> 0 | BS81: =BR81/3600 -> 0 | BT81: =BJ81-BR81 -> 0 | BU81: =BT81/3600 -> 0
... A1647: 130.88 | B1647: 0.2 | C1647: 0 | D1647: =AVERAGE(B1647,C1647) -> 0.1 | E1647: =SUM(D1647*1000)/3600 -> 0.027777778 | F1647: =(E1647-E1646)/0.08 -> -0.65972222 | G1647: =Sheet1!$I$5*F1647 -> -218.36806 | K1647: Extra-high | L1647: 1637 | M1647: 160 | N1647: 105.6 | O1647: =N1647*1000/3600 -> 29.333333 | P1647: =($N1648-$N1646)/2/3.6 -> -0.055555556 | R1647: =$I$5*P1647 -> -18.388889 | S1647: =$I$5*9.81*$F$3 -> 64.9422 | T1647: =(0.5*$L$3*$Q$3*$T$3*O1647^2) -> 103.65099 | U1647: =R1647+S1647+T1647 -> 150.2043 | V1647: =U1647+V1646 -> 157187.74 | W1647: =U1647*O1647 -> 4405.9929 | X1647: =W1647/1000 -> 4.4059929 | Y1647: =IF(X1647<0, X1647, 0) -> 0 | Z1647: 0 | AA1647: =-AG1647+AA1646 -> 446.12997 | AB1647: =0.5*$I$5*O1647^2 -> 142403.56 | AC1647: =AB1647/1000 -> 142.40356 | AD1647: =IF(X1647<0,AC1647,0) -> 0 | AE1647: =AD1647+AE1646 -> 5714.2574 | AF1647: =AE1647/3600 -> 1.5872937 | AG1647: =IF(X1647<0,X1647,0) -> 0 | AH1647: =IF(X1647>0,AC1647,0) -> 142.40356 | AI1647: =AH1647+AI1646 -> 50775.211 | AJ1647: =AI1647/3600 -> 14.104225 | AK1647: =AH1647-AG1647 -> 142.40356 | AL1647: =AE1647*$AL$7 -> 5542.8297 | AM1647: =AL1647*$AM$7 -> 5487.4014 | AN1647: =AM1647*$AN$7 -> 5158.1573 | AO1647: =AN1647*$AO$7 -> 5106.5758 | AP1647: =AO1647*$AP$7 -> 4800.1812 | AQ1647: =AP1647*$AQ$7 -> 4752.1794 | AR1647: =AQ1647*$AR$7 -> 4609.614 | AS1647: =AR1647 -> 4609.614 | AT1647: =AS1647/3600 -> 1.2804483 | AU1647: =AI1647-AS1647 -> 46165.597 | AV1647: =AU1647/3600 -> 12.823777 | BJ1647: 0 | BK1647: =BJ1647*$AL$7 -> 0 | BL1647: =BK1647*$AM$7 -> 0 | BM1647: =BL1647*$AN$7 -> 0 | BN1647: =BM1647*$AO$7 -> 0 | BO1647: =BN1647*$AP$7 -> 0 | BP1647: =BO1647*$AQ$7 -> 0 | BQ1647: =BP1647*$AR$7 -> 0 | BR1647: =BQ1647 -> 0 | BS1647: =BR1647/3600 -> 0 | BT1647: =BJ1647-BR1647 -> 0 | BU1647: =BT1647/3600 -> 0
A1648: 130.96 | B1648: 0 | C1648: 0 | D1648: 0 | E1648: =SUM(D1648*1000)/3600 -> 0 | F1648: =(E1648-E1647)/0.08 -> -0.34722222 | G1648: =Sheet1!$I$5*F1648 -> -114.93056 | K1648: Extra-high | L1648: 1638 | M1648: 161 | N1648: 105.3 | O1648: =N1648*1000/3600 -> 29.25 | P1648: =($N1649-$N1647)/2/3.6 -> -0.097222222 | R1648: =$I$5*P1648 -> -32.180556 | S1648: =$I$5*9.81*$F$3 -> 64.9422 | T1648: =(0.5*$L$3*$Q$3*$T$3*O1648^2) -> 103.0629 | U1648: =R1648+S1648+T1648 -> 135.82455 | V1648: =U1648+V1647 -> 157323.57 | W1648: =U1648*O1648 -> 3972.868 | X1648: =W1648/1000 -> 3.972868 | Y1648: =IF(X1648<0, X1648, 0) -> 0 | Z1648: 0 | AA1648: =-AG1648+AA1647 -> 446.12997 | AB1648: =0.5*$I$5*O1648^2 -> 141595.59 | AC1648: =AB1648/1000 -> 141.59559 | AD1648: =IF(X1648<0,AC1648,0) -> 0 | AE1648: =AD1648+AE1647 -> 5714.2574 | AF1648: =AE1648/3600 -> 1.5872937 | AG1648: =IF(X1648<0,X1648,0) -> 0 | AH1648: =IF(X1648>0,AC1648,0) -> 141.59559 | AI1648: =AH1648+AI1647 -> 50916.806 | AJ1648: =AI1648/3600 -> 14.143557 | AK1648: =AH1648-AG1648 -> 141.59559 | AL1648: =AE1648*$AL$7 -> 5542.8297 | AM1648: =AL1648*$AM$7 -> 5487.4014 | AN1648: =AM1648*$AN$7 -> 5158.1573 | AO1648: =AN1648*$AO$7 -> 5106.5758 | AP1648: =AO1648*$AP$7 -> 4800.1812 | AQ1648: =AP1648*$AQ$7 -> 4752.1794 | AR1648: =AQ1648*$AR$7 -> 4609.614 | AS1648: =AR1648 -> 4609.614 | AT1648: =AS1648/3600 -> 1.2804483 | AU1648: =AI1648-AS1648 -> 46307.192 | AV1648: =AU1648/3600 -> 12.863109 | BJ1648: 0 | BK1648: =BJ1648*$AL$7 -> 0 | BL1648: =BK1648*$AM$7 -> 0 | BM1648: =BL1648*$AN$7 -> 0 | BN1648: =BM1648*$AO$7 -> 0 | BO1648: =BN1648*$AP$7 -> 0 | BP1648: =BO1648*$AQ$7 -> 0 | BQ1648: =BP1648*$AR$7 -> 0 | BR1648: =BQ1648 -> 0 | BS1648: =BR1648/3600 -> 0 | BT1648: =BJ1648-BR1648 -> 0 | BU1648: =BT1648/3600 -> 0
K1649: Extra-high | L1649: 1639 | M1649: 162 | N1649: 104.9 | O1649: =N1649*1000/3600 -> 29.138889 | P1649: =($N1650-$N1648)/2/3.6 -> -0.125 | R1649: =$I$5*P1649 -> -41.375 | S1649: =$I$5*9.81*$F$3 -> 64.9422 | T1649: =(0.5*$L$3*$Q$3*$T$3*O1649^2) -> 102.28138 | U1649: =R1649+S1649+T1649 -> 125.84858 | V1649: =U1649+V1648 -> 157449.41 | W1649: =U1649*O1649 -> 3667.0879 | X1649: =W1649/1000 -> 3.6670879 | Y1649: =IF(X1649<0, X1649, 0) -> 0 | Z1649: 0 | AA1649: =-AG1649+AA1648 -> 446.12997 | AB1649: =0.5*$I$5*O1649^2 -> 140521.89 | AC1649: =AB1649/1000 -> 140.52189 | AD1649: =IF(X1649<0,AC1649,0) -> 0 | AE1649: =AD1649+AE1648 -> 5714.2574 | AF1649: =AE1649/3600 -> 1.5872937 | AG1649: =IF(X1649<0,X1649,0) -> 0 | AH1649: =IF(X1649>0,AC1649,0) -> 140.52189 | AI1649: =AH1649+AI1648 -> 51057.328 | AJ1649: =AI1649/3600 -> 14.182591 | AK1649: =AH1649-AG1649 -> 140.52189 | AL1649: =AE1649*$AL$7 -> 5542.8297 | AM1649: =AL1649*$AM$7 -> 5487.4014 | AN1649: =AM1649*$AN$7 -> 5158.1573 | AO1649: =AN1649*$AO$7 -> 5106.5758 | AP1649: =AO1649*$AP$7 -> 4800.1812 | AQ1649: =AP1649*$AQ$7 -> 4752.1794 | AR1649: =AQ1649*$AR$7 -> 4609.614 | AS1649: =AR1649 -> 4609.614 | AT1649: =AS1649/3600 -> 1.2804483 | AU1649: =AI1649-AS1649 -> 46447.714 | AV1649: =AU1649/3600 -> 12.902143 | BJ1649: 0 | BK1649: =BJ1649*$AL$7 -> 0 | BL1649: =BK1649*$AM$7 -> 0 | BM1649: =BL1649*$AN$7 -> 0 | BN1649: =BM1649*$AO$7 -> 0 | BO1649: =BN1649*$AP$7 -> 0 | BP1649: =BO1649*$AQ$7 -> 0 | BQ1649: =BP1649*$AR$7 -> 0 | BR1649: =BQ1649 -> 0 | BS1649: =BR1649/3600 -> 0 | BT1649: =BJ1649-BR1649 -> 0 | BU1649: =BT1649/3600 -> 0
K1650: Extra-high | L1650: 1640 | M1650: 163 | N1650: 104.4 | O1650: =N1650*1000/3600 -> 29 | P1650: =($N1651-$N1649)/2/3.6 -> -0.125 | R1650: =$I$5*P1650 -> -41.375 | S1650: =$I$5*9.81*$F$3 -> 64.9422 | T1650: =(0.5*$L$3*$Q$3*$T$3*O1650^2) -> 101.30867 | U1650: =R1650+S1650+T1650 -> 124.87587 | V1650: =U1650+V1649 -> 157574.29 | W1650: =U1650*O1650 -> 3621.4003 | X1650: =W1650/1000 -> 3.6214003 | Y1650: =IF(X1650<0, X1650, 0) -> 0 | Z1650: 0 | AA1650: =-AG1650+AA1649 -> 446.12997 | AB1650: =0.5*$I$5*O1650^2 -> 139185.5 | AC1650: =AB1650/1000 -> 139.1855 | AD1650: =IF(X1650<0,AC1650,0) -> 0 | AE1650: =AD1650+AE1649 -> 5714.2574 | AF1650: =AE1650/3600 -> 1.5872937 | AG1650: =IF(X1650<0,X1650,0) -> 0 | AH1650: =IF(X1650>0,AC1650,0) -> 139.1855 | AI1650: =AH1650+AI1649 -> 51196.514 | AJ1650: =AI1650/3600 -> 14.221254 | AK1650: =AH1650-AG1650 -> 139.1855 | AL1650: =AE1650*$AL$7 -> 5542.8297 | AM1650: =AL1650*$AM$7 -> 5487.4014 | AN1650: =AM1650*$AN$7 -> 5158.1573 | AO1650: =AN1650*$AO$7 -> 5106.5758 | AP1650: =AO1650*$AP$7 -> 4800.1812 | AQ1650: =AP1650*$AQ$7 -> 4752.1794 | AR1650: =AQ1650*$AR$7 -> 4609.614 | AS1650: =AR1650 -> 4609.614 | AT1650: =AS1650/3600 -> 1.2804483 | AU1650: =AI1650-AS1650 -> 46586.9 | AV1650: =AU1650/3600 -> 12.940805 | BJ1650: 0 | BK1650: =BJ1650*$AL$7 -> 0 | BL1650: =BK1650*$AM$7 -> 0 | BM1650: =BL1650*$AN$7 -> 0 | BN1650: =BM1650*$AO$7 -> 0 | BO1650: =BN1650*$AP$7 -> 0 | BP1650: =BO1650*$AQ$7 -> 0 | BQ1650: =BP1650*$AR$7 -> 0 | BR1650: =BQ1650 -> 0 | BS1650: =BR1650/3600 -> 0 | BT1650: =BJ1650-BR1650 -> 0 | BU1650: =BT1650/3600 -> 0
K1651: Extra-high | L1651: 1641 | M1651: 164 | N1651: 104 | O1651: =N1651*1000/3600 -> 28.888889 | P1651: =($N1652-$N1650)/2/3.6 -> -0.083333333 | R1651: =$I$5*P1651 -> -27.583333 | S1651: =$I$5*9.81*$F$3 -> 64.9422 | T1651: =(0.5*$L$3*$Q$3*$T$3*O1651^2) -> 100.53385 | U1651: =R1651+S1651+T1651 -> 137.89271 | V1651: =U1651+V1650 -> 157712.18 | W1651: =U1651*O1651 -> 3983.5673 | X1651: =W1651/1000 -> 3.9835673 | Y1651: =IF(X1651<0, X1651, 0) -> 0 | Z1651: 0 | AA1651: =-AG1651+AA1650 -> 446.12997 | AB1651: =0.5*$I$5*O1651^2 -> 138120.99 | AC1651: =AB1651/1000 -> 138.12099 | AD1651: =IF(X1651<0,AC1651,0) -> 0 | AE1651: =AD1651+AE1650 -> 5714.2574 | AF1651: =AE1651/3600 -> 1.5872937 | AG1651: =IF(X1651<0,X1651,0) -> 0 | AH1651: =IF(X1651>0,AC1651,0) -> 138.12099 | AI1651: =AH1651+AI1650 -> 51334.635 | AJ1651: =AI1651/3600 -> 14.259621 | AK1651: =AH1651-AG1651 -> 138.12099 | AL1651: =AE1651*$AL$7 -> 5542.8297 | AM1651: =AL1651*$AM$7 -> 5487.4014 | AN1651: =AM1651*$AN$7 -> 5158.1573 | AO1651: =AN1651*$AO$7 -> 5106.5758 | AP1651: =AO1651*$AP$7 -> 4800.1812 | AQ1651: =AP1651*$AQ$7 -> 4752.1794 | AR1651: =AQ1651*$AR$7 -> 4609.614 | AS1651: =AR1651 -> 4609.614 | AT1651: =AS1651/3600 -> 1.2804483 | AU1651: =AI1651-AS1651 -> 46725.021 | AV1651: =AU1651/3600 -> 12.979172 | BJ1651: 0 | BK1651: =BJ1651*$AL$7 -> 0 | BL1651: =BK1651*$AM$7 -> 0 | BM1651: =BL1651*$AN$7 -> 0 | BN1651: =BM1651*$AO$7 -> 0 | BO1651: =BN1651*$AP$7 -> 0 | BP1651: =BO1651*$AQ$7 -> 0 | BQ1651: =BP1651*$AR$7 -> 0 | BR1651: =BQ1651 -> 0 | BS1651: =BR1651/3600 -> 0 | BT1651: =BJ1651-BR1651 -> 0 | BU1651: =BT1651/3600 -> 0
K1652: Extra-high | L1652: 1642 | M1652: 165 | N1652: 103.8 | O1652: =N1652*1000/3600 -> 28.833333 | P1652: =($N1653-$N1651)/2/3.6 -> -0.013888889 | R1652: =$I$5*P1652 -> -4.5972222 | S1652: =$I$5*9.81*$F$3 -> 64.9422 | T1652: =(0.5*$L$3*$Q$3*$T$3*O1652^2) -> 100.14755 | U1652: =R1652+S1652+T1652 -> 160.49253 | V1652: =U1652+V1651 -> 157872.68 | W1652: =U1652*O1652 -> 4627.5346 | X1652: =W1652/1000 -> 4.6275346 | Y1652: =IF(X1652<0, X1652, 0) -> 0 | Z1652: 0 | AA1652: =-AG1652+AA1651 -> 446.12997 | AB1652: =0.5*$I$5*O1652^2 -> 137590.26 | AC1652: =AB1652/1000 -> 137.59026 | AD1652: =IF(X1652<0,AC1652,0) -> 0 | AE1652: =AD1652+AE1651 -> 5714.2574 | AF1652: =AE1652/3600 -> 1.5872937 | AG1652: =IF(X1652<0,X1652,0) -> 0 | AH1652: =IF(X1652>0,AC1652,0) -> 137.59026 | AI1652: =AH1652+AI1651 -> 51472.225 | AJ1652: =AI1652/3600 -> 14.29784 | AK1652: =AH1652-AG1652 -> 137.59026 | AL1652: =AE1652*$AL$7 -> 5542.8297 | AM1652: =AL1652*$AM$7 -> 5487.4014 | AN1652: =AM1652*$AN$7 -> 5158.1573 | AO1652: =AN1652*$AO$7 -> 5106.5758 | AP1652: =AO1652*$AP$7 -> 4800.1812 | AQ1652: =AP1652*$AQ$7 -> 4752.1794 | AR1652: =AQ1652*$AR$7 -> 4609.614 | AS1652: =AR1652 -> 4609.614 | AT1652: =AS1652/3600 -> 1.2804483 | AU1652: =AI1652-AS1652 -> 46862.611 | AV1652: =AU1652/3600 -> 13.017392 | BJ1652: 0 | BK1652: =BJ1652*$AL$7 -> 0 | BL1652: =BK1652*$AM$7 -> 0 | BM1652: =BL1652*$AN$7 -> 0 | BN1652: =BM1652*$AO$7 -> 0 | BO1652: =BN1652*$AP$7 -> 0 | BP1652: =BO1652*$AQ$7 -> 0 | BQ1652: =BP1652*$AR$7 -> 0 | BR1652: =BQ1652 -> 0 | BS1652: =BR1652/3600 -> 0 | BT1652: =BJ1652-BR1652 -> 0 | BU1652: =BT1652/3600 -> 0
K1653: Extra-high | L1653: 1643 | M1653: 166 | N1653: 103.9 | O1653: =N1653*1000/3600 -> 28.861111 | P1653: =($N1654-$N1652)/2/3.6 -> 0.083333333 | R1653: =$I$5*P1653 -> 27.583333 | S1653: =$I$5*9.81*$F$3 -> 64.9422 | T1653: =(0.5*$L$3*$Q$3*$T$3*O1653^2) -> 100.34061 | U1653: =R1653+S1653+T1653 -> 192.86614 | V1653: =U1653+V1652 -> 158065.54 | W1653: =U1653*O1653 -> 5566.3311 | X1653: =W1653/1000 -> 5.5663311 | Y1653: =IF(X1653<0, X1653, 0) -> 0 | Z1653: 0 | AA1653: =-AG1653+AA1652 -> 446.12997 | AB1653: =0.5*$I$5*O1653^2 -> 137855.5 | AC1653: =AB1653/1000 -> 137.8555 | AD1653: =IF(X1653<0,AC1653,0) -> 0 | AE1653: =AD1653+AE1652 -> 5714.2574 | AF1653: =AE1653/3600 -> 1.5872937 | AG1653: =IF(X1653<0,X1653,0) -> 0 | AH1653: =IF(X1653>0,AC1653,0) -> 137.8555 | AI1653: =AH1653+AI1652 -> 51610.08 | AJ1653: =AI1653/3600 -> 14.336133 | AK1653: =AH1653-AG1653 -> 137.8555 | AL1653: =AE1653*$AL$7 -> 5542.8297 | AM1653: =AL1653*$AM$7 -> 5487.4014 | AN1653: =AM1653*$AN$7 -> 5158.1573 | AO1653: =AN1653*$AO$7 -> 5106.5758 | AP1653: =AO1653*$AP$7 -> 4800.1812 | AQ1653: =AP1653*$AQ$7 -> 4752.1794 | AR1653: =AQ1653*$AR$7 -> 4609.614 | AS1653: =AR1653 -> 4609.614 | AT1653: =AS1653/3600 -> 1.2804483 | AU1653: =AI1653-AS1653 -> 47000.466 | AV1653: =AU1653/3600 -> 13.055685 | BJ1653: 0 | BK1653: =BJ1653*$AL$7 -> 0 | BL1653: =BK1653*$AM$7 -> 0 | BM1653: =BL1653*$AN$7 -> 0 | BN1653: =BM1653*$AO$7 -> 0 | BO1653: =BN1653*$AP$7 -> 0 | BP1653: =BO1653*$AQ$7 -> 0 | BQ1653: =BP1653*$AR$7 -> 0 | BR1653: =BQ1653 -> 0 | BS1653: =BR1653/3600 -> 0 | BT1653: =BJ1653-BR1653 -> 0 | BU1653: =BT1653/3600 -> 0
K1654: Extra-high | L1654: 1644 | M1654: 167 | N1654: 104.4 | O1654: =N1654*1000/3600 -> 29 | P1654: =($N1655-$N1653)/2/3.6 -> 0.16666667 | R1654: =$I$5*P1654 -> 55.166667 | S1654: =$I$5*9.81*$F$3 -> 64.9422 | T1654: =(0.5*$L$3*$Q$3*$T$3*O1654^2) -> 101.30867 | U1654: =R1654+S1654+T1654 -> 221.41754 | V1654: =U1654+V1653 -> 158286.96 | W1654: =U1654*O1654 -> 6421.1086 | X1654: =W1654/1000 -> 6.4211086 | Y1654: =IF(X1654<0, X1654, 0) -> 0 | Z1654: 0 | AA1654: =-AG1654+AA1653 -> 446.12997 | AB1654: =0.5*$I$5*O1654^2 -> 139185.5 | AC1654: =AB1654/1000 -> 139.1855 | AD1654: =IF(X1654<0,AC1654,0) -> 0 | AE1654: =AD1654+AE1653 -> 5714.2574 | AF1654: =AE1654/3600 -> 1.5872937 | AG1654: =IF(X1654<0,X1654,0) -> 0 | AH1654: =IF(X1654>0,AC1654,0) -> 139.1855 | AI1654: =AH1654+AI1653 -> 51749.266 | AJ1654: =AI1654/3600 -> 14.374796 | AK1654: =AH1654-AG1654 -> 139.1855 | AL1654: =AE1654*$AL$7 -> 5542.8297 | AM1654: =AL1654*$AM$7 -> 5487.4014 | AN1654: =AM1654*$AN$7 -> 5158.1573 | AO1654: =AN1654*$AO$7 -> 5106.5758 | AP1654: =AO1654*$AP$7 -> 4800.1812 | AQ1654: =AP1654*$AQ$7 -> 4752.1794 | AR1654: =AQ1654*$AR$7 -> 4609.614 | AS1654: =AR1654 -> 4609.614 | AT1654: =AS1654/3600 -> 1.2804483 | AU1654: =AI1654-AS1654 -> 47139.652 | AV1654: =AU1654/3600 -> 13.094348 | BJ1654: 0 | BK1654: =BJ1654*$AL$7 -> 0 | BL1654: =BK1654*$AM$7 -> 0 | BM1654: =BL1654*$AN$7 -> 0 | BN1654: =BM1654*$AO$7 -> 0 | BO1654: =BN1654*$AP$7 -> 0 | BP1654: =BO1654*$AQ$7 -> 0 | BQ1654: =BP1654*$AR$7 -> 0 | BR1654: =BQ1654 -> 0 | BS1654: =BR1654/3600 -> 0 | BT1654: =BJ1654-BR1654 -> 0 | BU1654: =BT1654/3600 -> 0
K1655: Extra-high | L1655: 1645 | M1655: 168 | N1655: 105.1 | O1655: =N1655*1000/3600 -> 29.194444 | P1655: =($N1656-$N1654)/2/3.6 -> 0.23611111 | R1655: =$I$5*P1655 -> 78.152778 | S1655: =$I$5*9.81*$F$3 -> 64.9422 | T1655: =(0.5*$L$3*$Q$3*$T$3*O1655^2) -> 102.67177 | U1655: =R1655+S1655+T1655 -> 245.76675 | V1655: =U1655+V1654 -> 158532.73 | W1655: =U1655*O1655 -> 7175.0237 | X1655: =W1655/1000 -> 7.1750237 | Y1655: =IF(X1655<0, X1655, 0) -> 0 | Z1655: 0 | AA1655: =-AG1655+AA1654 -> 446.12997 | AB1655: =0.5*$I$5*O1655^2 -> 141058.23 | AC1655: =AB1655/1000 -> 141.05823 | AD1655: =IF(X1655<0,AC1655,0) -> 0 | AE1655: =AD1655+AE1654 -> 5714.2574 | AF1655: =AE1655/3600 -> 1.5872937 | AG1655: =IF(X1655<0,X1655,0) -> 0 | AH1655: =IF(X1655>0,AC1655,0) -> 141.05823 | AI1655: =AH1655+AI1654 -> 51890.324 | AJ1655: =AI1655/3600 -> 14.413979 | AK1655: =AH1655-AG1655 -> 141.05823 | AL1655: =AE1655*$AL$7 -> 5542.8297 | AM1655: =AL1655*$AM$7 -> 5487.4014 | AN1655: =AM1655*$AN$7 -> 5158.1573 | AO1655: =AN1655*$AO$7 -> 5106.5758 | AP1655: =AO1655*$AP$7 -> 4800.1812 | AQ1655: =AP1655*$AQ$7 -> 4752.1794 | AR1655: =AQ1655*$AR$7 -> 4609.614 | AS1655: =AR1655 -> 4609.614 | AT1655: =AS1655/3600 -> 1.2804483 | AU1655: =AI1655-AS1655 -> 47280.71 | AV1655: =AU1655/3600 -> 13.133531 | BJ1655: 0 | BK1655: =BJ1655*$AL$7 -> 0 | BL1655: =BK1655*$AM$7 -> 0 | BM1655: =BL1655*$AN$7 -> 0 | BN1655: =BM1655*$AO$7 -> 0 | BO1655: =BN1655*$AP$7 -> 0 | BP1655: =BO1655*$AQ$7 -> 0 | BQ1655: =BP1655*$AR$7 -> 0 | BR1655: =BQ1655 -> 0 | BS1655: =BR1655/3600 -> 0 | BT1655: =BJ1655-BR1655 -> 0 | BU1655: =BT1655/3600 -> 0
K1656: Extra-high | L1656: 1646 | M1656: 169 | N1656: 106.1 | O1656: =N1656*1000/3600 -> 29.472222 | P1656: =($N1657-$N1655)/2/3.6 -> 0.29166667 | R1656: =$I$5*P1656 -> 96.541667 | S1656: =$I$5*9.81*$F$3 -> 64.9422 | T1656: =(0.5*$L$3*$Q$3*$T$3*O1656^2) -> 104.63486 | U1656: =R1656+S1656+T1656 -> 266.11873 | V1656: =U1656+V1655 -> 158798.84 | W1656: =U1656*O1656 -> 7843.1102 | X1656: =W1656/1000 -> 7.8431102 | Y1656: =IF(X1656<0, X1656, 0) -> 0 | Z1656: 0 | AA1656: =-AG1656+AA1655 -> 446.12997 | AB1656: =0.5*$I$5*O1656^2 -> 143755.27 | AC1656: =AB1656/1000 -> 143.75527 | AD1656: =IF(X1656<0,AC1656,0) -> 0 | AE1656: =AD1656+AE1655 -> 5714.2574 | AF1656: =AE1656/3600 -> 1.5872937 | AG1656: =IF(X1656<0,X1656,0) -> 0 | AH1656: =IF(X1656>0,AC1656,0) -> 143.75527 | AI1656: =AH1656+AI1655 -> 52034.079 | AJ1656: =AI1656/3600 -> 14.453911 | AK1656: =AH1656-AG1656 -> 143.75527 | AL1656: =AE1656*$AL$7 -> 5542.8297 | AM1656: =AL1656*$AM$7 -> 5487.4014 | AN1656: =AM1656*$AN$7 -> 5158.1573 | AO1656: =AN1656*$AO$7 -> 5106.5758 | AP1656: =AO1656*$AP$7 -> 4800.1812 | AQ1656: =AP1656*$AQ$7 -> 4752.1794 | AR1656: =AQ1656*$AR$7 -> 4609.614 | AS1656: =AR1656 -> 4609.614 | AT1656: =AS1656/3600 -> 1.2804483 | AU1656: =AI1656-AS1656 -> 47424.465 | AV1656: =AU1656/3600 -> 13.173463 | BJ1656: 0 | BK1656: =BJ1656*$AL$7 -> 0 | BL1656: =BK1656*$AM$7 -> 0 | BM1656: =BL1656*$AN$7 -> 0 | BN1656: =BM1656*$AO$7 -> 0 | BO1656: =BN1656*$AP$7 -> 0 | BP1656: =BO1656*$AQ$7 -> 0 | BQ1656: =BP1656*$AR$7 -> 0 | BR1656: =BQ1656 -> 0 | BS1656: =BR1656/3600 -> 0 | BT1656: =BJ1656-BR1656 -> 0 | BU1656: =BT1656/3600 -> 0
K1657: Extra-high | L1657: 1647 | M1657: 170 | N1657: 107.2 | O1657: =N1657*1000/3600 -> 29.777778 | P1657: =($N1658-$N1656)/2/3.6 -> 0.33333333 | R1657: =$I$5*P1657 -> 110.33333 | S1657: =$I$5*9.81*$F$3 -> 64.9422 | T1657: =(0.5*$L$3*$Q$3*$T$3*O1657^2) -> 106.81573 | U1657: =R1657+S1657+T1657 -> 282.09126 | V1657: =U1657+V1656 -> 159080.94 | W1657: =U1657*O1657 -> 8400.0508 | X1657: =W1657/1000 -> 8.4000508 | Y1657: =IF(X1657<0, X1657, 0) -> 0 | Z1657: 0 | AA1657: =-AG1657+AA1656 -> 446.12997 | AB1657: =0.5*$I$5*O1657^2 -> 146751.51 | AC1657: =AB1657/1000 -> 146.75151 | AD1657: =IF(X1657<0,AC1657,0) -> 0 | AE1657: =AD1657+AE1656 -> 5714.2574 | AF1657: =AE1657/3600 -> 1.5872937 | AG1657: =IF(X1657<0,X1657,0) -> 0 | AH1657: =IF(X1657>0,AC1657,0) -> 146.75151 | AI1657: =AH1657+AI1656 -> 52180.831 | AJ1657: =AI1657/3600 -> 14.494675 | AK1657: =AH1657-AG1657 -> 146.75151 | AL1657: =AE1657*$AL$7 -> 5542.8297 | AM1657: =AL1657*$AM$7 -> 5487.4014 | AN1657: =AM1657*$AN$7 -> 5158.1573 | AO1657: =AN1657*$AO$7 -> 5106.5758 | AP1657: =AO1657*$AP$7 -> 4800.1812 | AQ1657: =AP1657*$AQ$7 -> 4752.1794 | AR1657: =AQ1657*$AR$7 -> 4609.614 | AS1657: =AR1657 -> 4609.614 | AT1657: =AS1657/3600 -> 1.2804483 | AU1657: =AI1657-AS1657 -> 47571.217 | AV1657: =AU1657/3600 -> 13.214227 | BJ1657: 0 | BK1657: =BJ1657*$AL$7 -> 0 | BL1657: =BK1657*$AM$7 -> 0 | BM1657: =BL1657*$AN$7 -> 0 | BN1657: =BM1657*$AO$7 -> 0 | BO1657: =BN1657*$AP$7 -> 0 | BP1657: =BO1657*$AQ$7 -> 0 | BQ1657: =BP1657*$AR$7 -> 0 | BR1657: =BQ1657 -> 0 | BS1657: =BR1657/3600 -> 0 | BT1657: =BJ1657-BR1657 -> 0 | BU1657: =BT1657/3600 -> 0
K1658: Extra-high | L1658: 1648 | M1658: 171 | N1658: 108.5 | O1658: =N1658*1000/3600 -> 30.138889 | P1658: =($N1659-$N1657)/2/3.6 -> 0.375 | R1658: =$I$5*P1658 -> 124.125 | S1658: =$I$5*9.81*$F$3 -> 64.9422 | T1658: =(0.5*$L$3*$Q$3*$T$3*O1658^2) -> 109.42211 | U1658: =R1658+S1658+T1658 -> 298.48931 | V1658: =U1658+V1657 -> 159379.43 | W1658: =U1658*O1658 -> 8996.1363 | X1658: =W1658/1000 -> 8.9961363 | Y1658: =IF(X1658<0, X1658, 0) -> 0 | Z1658: 0 | AA1658: =-AG1658+AA1657 -> 446.12997 | AB1658: =0.5*$I$5*O1658^2 -> 150332.36 | AC1658: =AB1658/1000 -> 150.33236 | AD1658: =IF(X1658<0,AC1658,0) -> 0 | AE1658: =AD1658+AE1657 -> 5714.2574 | AF1658: =AE1658/3600 -> 1.5872937 | AG1658: =IF(X1658<0,X1658,0) -> 0 | AH1658: =IF(X1658>0,AC1658,0) -> 150.33236 | AI1658: =AH1658+AI1657 -> 52331.163 | AJ1658: =AI1658/3600 -> 14.536434 | AK1658: =AH1658-AG1658 -> 150.33236 | AL1658: =AE1658*$AL$7 -> 5542.8297 | AM1658: =AL1658*$AM$7 -> 5487.4014 | AN1658: =AM1658*$AN$7 -> 5158.1573 | AO1658: =AN1658*$AO$7 -> 5106.5758 | AP1658: =AO1658*$AP$7 -> 4800.1812 | AQ1658: =AP1658*$AQ$7 -> 4752.1794 | AR1658: =AQ1658*$AR$7 -> 4609.614 | AS1658: =AR1658 -> 4609.614 | AT1658: =AS1658/3600 -> 1.2804483 | AU1658: =AI1658-AS1658 -> 47721.549 | AV1658: =AU1658/3600 -> 13.255986 | BJ1658: 0 | BK1658: =BJ1658*$AL$7 -> 0 | BL1658: =BK1658*$AM$7 -> 0 | BM1658: =BL1658*$AN$7 -> 0 | BN1658: =BM1658*$AO$7 -> 0 | BO1658: =BN1658*$AP$7 -> 0 | BP1658: =BO1658*$AQ$7 -> 0 | BQ1658: =BP1658*$AR$7 -> 0 | BR1658: =BQ1658 -> 0 | BS1658: =BR1658/3600 -> 0 | BT1658: =BJ1658-BR1658 -> 0 | BU1658: =BT1658/3600 -> 0
K1659: Extra-high | L1659: 1649 | M1659: 172 | N1659: 109.9 | O1659: =N1659*1000/3600 -> 30.527778 | P1659: =($N1660-$N1658)/2/3.6 -> 0.38888889 | R1659: =$I$5*P1659 -> 128.72222 | S1659: =$I$5*9.81*$F$3 -> 64.9422 | T1659: =(0.5*$L$3*$Q$3*$T$3*O1659^2) -> 112.26413 | U1659: =R1659+S1659+T1659 -> 305.92855 | V1659: =U1659+V1658 -> 159685.35 | W1659: =U1659*O1659 -> 9339.3188 | X1659: =W1659/1000 -> 9.3393188 | Y1659: =IF(X1659<0, X1659, 0) -> 0 | Z1659: 0 | AA1659: =-AG1659+AA1658 -> 446.12997 | AB1659: =0.5*$I$5*O1659^2 -> 154236.93 | AC1659: =AB1659/1000 -> 154.23693 | AD1659: =IF(X1659<0,AC1659,0) -> 0 | AE1659: =AD1659+AE1658 -> 5714.2574 | AF1659: =AE1659/3600 -> 1.5872937 | AG1659: =IF(X1659<0,X1659,0) -> 0 | AH1659: =IF(X1659>0,AC1659,0) -> 154.23693 | AI1659: =AH1659+AI1658 -> 52485.4 | AJ1659: =AI1659/3600 -> 14.579278 | AK1659: =AH1659-AG1659 -> 154.23693 | AL1659: =AE1659*$AL$7 -> 5542.8297 | AM1659: =AL1659*$AM$7 -> 5487.4014 | AN1659: =AM1659*$AN$7 -> 5158.1573 | AO1659: =AN1659*$AO$7 -> 5106.5758 | AP1659: =AO1659*$AP$7 -> 4800.1812 | AQ1659: =AP1659*$AQ$7 -> 4752.1794 | AR1659: =AQ1659*$AR$7 -> 4609.614 | AS1659: =AR1659 -> 4609.614 | AT1659: =AS1659/3600 -> 1.2804483 | AU1659: =AI1659-AS1659 -> 47875.786 | AV1659: =AU1659/3600 -> 13.298829 | BJ1659: 0 | BK1659: =BJ1659*$AL$7 -> 0 | BL1659: =BK1659*$AM$7 -> 0 | BM1659: =BL1659*$AN$7 -> 0 | BN1659: =BM1659*$AO$7 -> 0 | BO1659: =BN1659*$AP$7 -> 0 | BP1659: =BO1659*$AQ$7 -> 0 | BQ1659: =BP1659*$AR$7 -> 0 | BR1659: =BQ1659 -> 0 | BS1659: =BR1659/3600 -> 0 | BT1659: =BJ1659-BR1659 -> 0 | BU1659: =BT1659/3600 -> 0
K1660: Extra-high | L1660: 1650 | M1660: 173 | N1660: 111.3 | O1660: =N1660*1000/3600 -> 30.916667 | P1660: =($N1661-$N1659)/2/3.6 -> 0.38888889 | R1660: =$I$5*P1660 -> 128.72222 | S1660: =$I$5*9.81*$F$3 -> 64.9422 | T1660: =(0.5*$L$3*$Q$3*$T$3*O1660^2) -> 115.14258 | U1660: =R1660+S1660+T1660 -> 308.807 | V1660: =U1660+V1659 -> 159994.16 | W1660: =U1660*O1660 -> 9547.2831 | X1660: =W1660/1000 -> 9.5472831 | Y1660: =IF(X1660<0, X1660, 0) -> 0 | Z1660: 0 | AA1660: =-AG1660+AA1659 -> 446.12997 | AB1660: =0.5*$I$5*O1660^2 -> 158191.57 | AC1660: =AB1660/1000 -> 158.19157 | AD1660: =IF(X1660<0,AC1660,0) -> 0 | AE1660: =AD1660+AE1659 -> 5714.2574 | AF1660: =AE1660/3600 -> 1.5872937 | AG1660: =IF(X1660<0,X1660,0) -> 0 | AH1660: =IF(X1660>0,AC1660,0) -> 158.19157 | AI1660: =AH1660+AI1659 -> 52643.592 | AJ1660: =AI1660/3600 -> 14.62322 | AK1660: =AH1660-AG1660 -> 158.19157 | AL1660: =AE1660*$AL$7 -> 5542.8297 | AM1660: =AL1660*$AM$7 -> 5487.4014 | AN1660: =AM1660*$AN$7 -> 5158.1573 | AO1660: =AN1660*$AO$7 -> 5106.5758 | AP1660: =AO1660*$AP$7 -> 4800.1812 | AQ1660: =AP1660*$AQ$7 -> 4752.1794 | AR1660: =AQ1660*$AR$7 -> 4609.614 | AS1660: =AR1660 -> 4609.614 | AT1660: =AS1660/3600 -> 1.2804483 | AU1660: =AI1660-AS1660 -> 48033.978 | AV1660: =AU1660/3600 -> 13.342772 | BJ1660: 0 | BK1660: =BJ1660*$AL$7 -> 0 | BL1660: =BK1660*$AM$7 -> 0 | BM1660: =BL1660*$AN$7 -> 0 | BN1660: =BM1660*$AO$7 -> 0 | BO1660: =BN1660*$AP$7 -> 0 | BP1660: =BO1660*$AQ$7 -> 0 | BQ1660: =BP1660*$AR$7 -> 0 | BR1660: =BQ1660 -> 0 | BS1660: =BR1660/3600 -> 0 | BT1660: =BJ1660-BR1660 -> 0 | BU1660: =BT1660/3600 -> 0
... K1810: Extra-high | L1810: 1800 | M1810: 323 | N1810: 0 | O1810: =N1810*1000/3600 -> 0 | P1810: =($N1811-$N1809)/2/3.6 -> 0 | R1810: =$I$5*P1810 -> 0 | S1810: =$I$5*9.81*$F$3 -> 64.9422 | T1810: =(0.5*$L$3*$Q$3*$T$3*O1810^2) -> 0 | U1810: =R1810+S1810+T1810 -> 64.9422 | V1810: =U1810+V1809 -> 174883.48 | W1810: =U1810*O1810 -> 0 | X1810: =W1810/1000 -> 0 | Y1810: =IF(X1810<0, X1810, 0) -> 0 | Z1810: 0 | AA1810: =-AG1810+AA1809 -> 507.32784 | AB1810: =0.5*$I$5*O1810^2 -> 0 | AC1810: =AB1810/1000 -> 0 | AD1810: =IF(X1810<0,AC1810,0) -> 0 | AE1810: =AD1810+AE1809 -> 8300.1137 | AF1810: =AE1810/3600 -> 2.3055871 | AG1810: =IF(X1810<0,X1810,0) -> 0 | AH1810: =IF(X1810>0,AC1810,0) -> 0 | AI1810: =AH1810+AI1809 -> 71278.294 | AJ1810: =AI1810/3600 -> 19.799526 | AK1810: =AH1810-AG1810 -> 0 | AL1810: =AE1810*$AL$7 -> 8051.1103 | AM1810: =AL1810*$AM$7 -> 7970.5992 | AN1810: =AM1810*$AN$7 -> 7492.3633 | AO1810: =AN1810*$AO$7 -> 7417.4396 | AP1810: =AO1810*$AP$7 -> 6972.3933 | AQ1810: =AP1810*$AQ$7 -> 6902.6693 | AR1810: =AQ1810*$AR$7 -> 6695.5892 | AS1810: =AR1810 -> 6695.5892 | AT1810: =AS1810/3600 -> 1.8598859 | AU1810: =AI1810-AS1810 -> 64582.705 | AV1810: =AU1810/3600 -> 17.93964 | BJ1810: 0 | BK1810: =BJ1810*$AL$7 -> 0 | BL1810: =BK1810*$AM$7 -> 0 | BM1810: =BL1810*$AN$7 -> 0 | BN1810: =BM1810*$AO$7 -> 0 | BO1810: =BN1810*$AP$7 -> 0 | BP1810: =BO1810*$AQ$7 -> 0 | BQ1810: =BP1810*$AR$7 -> 0 | BR1810: =BQ1810 -> 0 | BS1810: =BR1810/3600 -> 0 | BT1810: =BJ1810-BR1810 -> 0 | BU1810: =BT1810/3600 -> 0
AG1813: =AJ1810-AF1810 -> 17.493939

Sheet Sheet3

Sheet Sheet2
