Workbook

Sheet Vehicle Data
A1: Ducati 1199 Panigale S (2012-2014)
A2: Power (kW) | B2: 143 | C2: Fuel Mass (kg) | D2: =0.79 -> 0.79
A3: Torque (Nm) | B3: 132 | C3: Oil Mass (kg) | D3: =0.88 -> 0.88
A4: Power (W) | B4: =B2*1000 -> 143000 | C4: Rider Mass (kg) | D4: 80
A5: Kerb Mass (kg) | B5: 188 | C5: Added Luggage Mass (kg) | D5: 8
A6: Test Mass (kg) | B6: =B5+(D2*17)+(D3*3.7)+D4+D5 -> 292.686
A7: Frontal Area (m²) | B7: 0.33
A8: Rolling Resistance Coefficient | B8: 0.02
A9: Generic Coefficient of Aerodynamic Drag | B9: 0.6
A10: Power to Mass (W/kg) | B10: =B4/B5 -> 760.6383
A11: Rolling Radius

Sheet WLTP Calculations
B2: Phase | C2: Total elapsed time | D2: Phase elapsed time | E2: Vehicle speed | F2: Vehicle speed | G2: Acceleration | H2: Acceleration | I2: Acceleration Resistance | J2: Rolling Resistance | K2: Aerodynamic Resistance | L2: Total Road Load Resistance | M2: Power | N2: Energy | O2: Tractive Energy | P2: Braking Energy | Q2: Cumulative Tractive Energy | R2: Cumulative Tractive Energy | S2: Cumulative Braking Energy | T2: Cumulative Braking Energy | U2: Returned Energy | V2: Highest Potential Recovery | W2: Highest Potential Recovery | X2: Assumed KERS efficiency for >25%
B3: Phase | C3: s | E3: m/s | F3: km/h | G3: m/s² | H3: km/h/s | I3: N | J3: N | K3: N | L3: kN | M3: W | N3: J | O3: J | P3: J | Q3: J | R3: kJ | S3: J | T3: kJ | U3: kJ | V3: J | W3: kJ | X3: %
B4: Low | C4: 0 | D4: 0 | E4: =F4/3.6 -> 0 | F4: 0 | G4: =($E5-0)/2 -> 0 | H4: =($F5-0)/2 -> 0 | I4: ='Vehicle Data'!$B$6*'WLTP Calculations'!G4 -> 0 | J4: ='Vehicle Data'!B$8*'Vehicle Data'!B$6*9.81 -> 57.424993 | K4: =0.5*(1.225*'Vehicle Data'!B$9*'Vehicle Data'!B$7*'WLTP Calculations'!F4) -> 0 | L4: =(I4+J4+K4)/1000 -> 0.057424993 | M4: =(L4*E4) -> 0 | N4: =(((M4+M5)/2)*(C5-C4)) -> 0 | O4: =IF((M4 + M5) / 2 > 0, ((M4 + M5) / 2) * D5, 0) -> 0 | P4: =IF((M4 + M5) / 2 < 0, ((M4 + M5) / 2) * D5, 0) -> 0 | Q4: 0 | R4: =Q4/1000 -> 0 | S4: 0 | T4: =S4/1000 -> 0 | U4: =T4*X$4 -> 0 | V4: =V1804*-1 -> 15366.838 | W4: =V4/1000 -> 15.366838 | X4: 65
B5: Low | C5: 1 | D5: 1 | E5: =F5/3.6 -> 0 | F5: 0 | G5: =($E6-$E4)/2 -> 0 | H5: =($F6-$F4)/2 -> 0 | I5: ='Vehicle Data'!$B$6*'WLTP Calculations'!G5 -> 0 | J5: ='Vehicle Data'!$B$6*9.81*'Vehicle Data'!$B$8 -> 57.424993 | K5: =0.5*(1.225*'Vehicle Data'!B$9*'Vehicle Data'!B$7*'WLTP Calculations'!F5) -> 0 | L5: =(I5+J5+K5)/1000 -> 0.057424993 | M5: =(L5*E5) -> 0 | N5: =(((M5+M6)/2)*(C6-C5)) -> 0 | O5: =IF((M5 + M6) / 2 > 0, ((M5 + M6) / 2) * D6, 0) -> 0 | P5: =IF((M5 + M6) / 2 < 0, ((M5 + M6) / 2) * D6, 0) -> 0 | Q5: =(Q4+O5)/100 -> 0 | R5: =Q5/1000 -> 0 | S5: =S4+(P5*-1) -> 0 | T5: =S5/1000 -> 0 | U5: =T5*X$4 -> 0
B6: Low | C6: 2 | D6: 2 | E6: =F6/3.6 -> 0 | F6: 0 | G6: =($E7-$E5)/2 -> 0 | H6: =($F7-$F5)/2 -> 0 | I6: ='Vehicle Data'!$B$6*'WLTP Calculations'!G6 -> 0 | J6: ='Vehicle Data'!$B$6*9.81*'Vehicle Data'!$B$8 -> 57.424993 | K6: =0.5*(1.225*'Vehicle Data'!B$9*'Vehicle Data'!B$7*'WLTP Calculations'!F6) -> 0 | L6: =(I6+J6+K6)/1000 -> 0.057424993 | M6: =(L6*E6) -> 0 | N6: =(((M6+M7)/2)*(C7-C6)) -> 0 | O6: =IF((M6 + M7) / 2 > 0, ((M6 + M7) / 2) * D7, 0) -> 0 | P6: =IF((M6 + M7) / 2 < 0, ((M6 + M7) / 2) * D7, 0) -> 0 | Q6: =(Q5+O6) -> 0 | R6: =Q6/1000 -> 0 | S6: =S5+(P6*-1) -> 0 | T6: =S6/1000 -> 0 | U6: =T6*X$4 -> 0
B7: Low | C7: 3 | D7: 3 | E7: =F7/3.6 -> 0 | F7: 0 | G7: =($E8-$E6)/2 -> 0 | H7: =($F8-$F6)/2 -> 0 | I7: ='Vehicle Data'!$B$6*'WLTP Calculations'!G7 -> 0 | J7: ='Vehicle Data'!$B$6*9.81*'Vehicle Data'!$B$8 -> 57.424993 | K7: =0.5*(1.225*'Vehicle Data'!B$9*'Vehicle Data'!B$7*'WLTP Calculations'!F7) -> 0 | L7: =(I7+J7+K7)/1000 -> 0.057424993 | M7: =(L7*E7) -> 0 | N7: =(((M7+M8)/2)*(C8-C7)) -> 0 | O7: =IF((M7 + M8) / 2 > 0, ((M7 + M8) / 2) * D8, 0) -> 0 | P7: =IF((M7 + M8) / 2 < 0, ((M7 + M8) / 2) * D8, 0) -> 0 | Q7: =(Q6+O7) -> 0 | R7: =Q7/1000 -> 0 | S7: =S6+(P7*-1) -> 0 | T7: =S7/1000 -> 0 | U7: =T7*X$4 -> 0
B8: Low | C8: 4 | D8: 4 | E8: =F8/3.6 -> 0 | F8: 0 | G8: =($E9-$E7)/2 -> 0 | H8: =($F9-$F7)/2 -> 0 | I8: ='Vehicle Data'!$B$6*'WLTP Calculations'!G8 -> 0 | J8: ='Vehicle Data'!$B$6*9.81*'Vehicle Data'!$B$8 -> 57.424993 | K8: =0.5*(1.225*'Vehicle Data'!B$9*'Vehicle Data'!B$7*'WLTP Calculations'!F8) -> 0 | L8: =(I8+J8+K8)/1000 -> 0.057424993 | M8: =(L8*E8) -> 0 | N8: =(((M8+M9)/2)*(C9-C8)) -> 0 | O8: =IF((M8 + M9) / 2 > 0, ((M8 + M9) / 2) * D9, 0) -> 0 | P8: =IF((M8 + M9) / 2 < 0, ((M8 + M9) / 2) * D9, 0) -> 0 | Q8: =(Q7+O8) -> 0 | R8: =Q8/1000 -> 0 | S8: =S7+(P8*-1) -> 0 | T8: =S8/1000 -> 0 | U8: =T8*X$4 -> 0
B9: Low | C9: 5 | D9: 5 | E9: =F9/3.6 -> 0 | F9: 0 | G9: =($E10-$E8)/2 -> 0 | H9: =($F10-$F8)/2 -> 0 | I9: ='Vehicle Data'!$B$6*'WLTP Calculations'!G9 -> 0 | J9: ='Vehicle Data'!$B$6*9.81*'Vehicle Data'!$B$8 -> 57.424993 | K9: =0.5*(1.225*'Vehicle Data'!B$9*'Vehicle Data'!B$7*'WLTP Calculations'!F9) -> 0 | L9: =(I9+J9+K9)/1000 -> 0.057424993 | M9: =(L9*E9) -> 0 | N9: =(((M9+M10)/2)*(C10-C9)) -> 0 | O9: =IF((M9 + M10) / 2 > 0, ((M9 + M10) / 2) * D10, 0) -> 0 | P9: =IF((M9 + M10) / 2 < 0, ((M9 + M10) / 2) * D10, 0) -> 0 | Q9: =(Q8+O9) -> 0 | R9: =Q9/1000 -> 0 | S9: =S8+(P9*-1) -> 0 | T9: =S9/1000 -> 0 | U9: =T9*X$4 -> 0
B10: Low | C10: 6 | D10: 6 | E10: =F10/3.6 -> 0 | F10: 0 | G10: =($E11-$E9)/2 -> 0 | H10: =($F11-$F9)/2 -> 0 | I10: ='Vehicle Data'!$B$6*'WLTP Calculations'!G10 -> 0 | J10: ='Vehicle Data'!$B$6*9.81*'Vehicle Data'!$B$8 -> 57.424993 | K10: =0.5*(1.225*'Vehicle Data'!B$9*'Vehicle Data'!B$7*'WLTP Calculations'!F10) -> 0 | L10: =(I10+J10+K10)/1000 -> 0.057424993 | M10: =(L10*E10) -> 0 | N10: =(((M10+M11)/2)*(C11-C10)) -> 0 | O10: =IF((M10 + M11) / 2 > 0, ((M10 + M11) / 2) * D11, 0) -> 0 | P10: =IF((M10 + M11) / 2 < 0, ((M10 + M11) / 2) * D11, 0) -> 0 | Q10: =(Q9+O10) -> 0 | R10: =Q10/1000 -> 0 | S10: =S9+(P10*-1) -> 0 | T10: =S10/1000 -> 0 | U10: =T10*X$4 -> 0
B11: Low | C11: 7 | D11: 7 | E11: =F11/3.6 -> 0 | F11: 0 | G11: =($E12-$E10)/2 -> 0 | H11: =($F12-$F10)/2 -> 0 | I11: ='Vehicle Data'!$B$6*'WLTP Calculations'!G11 -> 0 | J11: ='Vehicle Data'!$B$6*9.81*'Vehicle Data'!$B$8 -> 57.424993 | K11: =0.5*(1.225*'Vehicle Data'!B$9*'Vehicle Data'!B$7*'WLTP Calculations'!F11) -> 0 | L11: =(I11+J11+K11)/1000 -> 0.057424993 | M11: =(L11*E11) -> 0 | N11: =(((M11+M12)/2)*(C12-C11)) -> 0 | O11: =IF((M11 + M12) / 2 > 0, ((M11 + M12) / 2) * D12, 0) -> 0 | P11: =IF((M11 + M12) / 2 < 0, ((M11 + M12) / 2) * D12, 0) -> 0 | Q11: =(Q10+O11) -> 0 | R11: =Q11/1000 -> 0 | S11: =S10+(P11*-1) -> 0 | T11: =S11/1000 -> 0 | U11: =T11*X$4 -> 0
B12: Low | C12: 8 | D12: 8 | E12: =F12/3.6 -> 0 | F12: 0 | G12: =($E13-$E11)/2 -> 0 | H12: =($F13-$F11)/2 -> 0 | I12: ='Vehicle Data'!$B$6*'WLTP Calculations'!G12 -> 0 | J12: ='Vehicle Data'!$B$6*9.81*'Vehicle Data'!$B$8 -> 57.424993 | K12: =0.5*(1.225*'Vehicle Data'!B$9*'Vehicle Data'!B$7*'WLTP Calculations'!F12) -> 0 | L12: =(I12+J12+K12)/1000 -> 0.057424993 | M12: =(L12*E12) -> 0 | N12: =(((M12+M13)/2)*(C13-C12)) -> 0 | O12: =IF((M12 + M13) / 2 > 0, ((M12 + M13) / 2) * D13, 0) -> 0 | P12: =IF((M12 + M13) / 2 < 0, ((M12 + M13) / 2) * D13, 0) -> 0 | Q12: =(Q11+O12) -> 0 | R12: =Q12/1000 -> 0 | S12: =S11+(P12*-1) -> 0 | T12: =S12/1000 -> 0 | U12: =T12*X$4 -> 0
B13: Low | C13: 9 | D13: 9 | E13: =F13/3.6 -> 0 | F13: 0 | G13: =($E14-$E12)/2 -> 0 | H13: =($F14-$F12)/2 -> 0 | I13: ='Vehicle Data'!$B$6*'WLTP Calculations'!G13 -> 0 | J13: ='Vehicle Data'!$B$6*9.81*'Vehicle Data'!$B$8 -> 57.424993 | K13: =0.5*(1.225*'Vehicle Data'!B$9*'Vehicle Data'!B$7*'WLTP Calculations'!F13) -> 0 | L13: =(I13+J13+K13)/1000 -> 0.057424993 | M13: =(L13*E13) -> 0 | N13: =(((M13+M14)/2)*(C14-C13)) -> 0 | O13: =IF((M13 + M14) / 2 > 0, ((M13 + M14) / 2) * D14, 0) -> 0 | P13: =IF((M13 + M14) / 2 < 0, ((M13 + M14) / 2) * D14, 0) -> 0 | Q13: =(Q12+O13) -> 0 | R13: =Q13/1000 -> 0 | S13: =S12+(P13*-1) -> 0 | T13: =S13/1000 -> 0 | U13: =T13*X$4 -> 0
B14: Low | C14: 10 | D14: 10 | E14: =F14/3.6 -> 0 | F14: 0 | G14: =($E15-$E13)/2 -> 0 | H14: =($F15-$F13)/2 -> 0 | I14: ='Vehicle Data'!$B$6*'WLTP Calculations'!G14 -> 0 | J14: ='Vehicle Data'!$B$6*9.81*'Vehicle Data'!$B$8 -> 57.424993 | K14: =0.5*(1.225*'Vehicle Data'!B$9*'Vehicle Data'!B$7*'WLTP Calculations'!F14) -> 0 | L14: =(I14+J14+K14)/1000 -> 0.057424993 | M14: =(L14*E14) -> 0 | N14: =(((M14+M15)/2)*(C15-C14)) -> 0 | O14: =IF((M14 + M15) / 2 > 0, ((M14 + M15) / 2) * D15, 0) -> 0 | P14: =IF((M14 + M15) / 2 < 0, ((M14 + M15) / 2) * D15, 0) -> 0 | Q14: =(Q13+O14) -> 0 | R14: =Q14/1000 -> 0 | S14: =S13+(P14*-1) -> 0 | T14: =S14/1000 -> 0 | U14: =T14*X$4 -> 0
B15: Low | C15: 11 | D15: 11 | E15: =F15/3.6 -> 0 | F15: 0 | G15: =($E16-$E14)/2 -> 0.027777778 | H15: =($F16-$F14)/2 -> 0.1 | I15: ='Vehicle Data'!$B$6*'WLTP Calculations'!G15 -> 8.1301667 | J15: ='Vehicle Data'!$B$6*9.81*'Vehicle Data'!$B$8 -> 57.424993 | K15: =0.5*(1.225*'Vehicle Data'!B$9*'Vehicle Data'!B$7*'WLTP Calculations'!F15) -> 0 | L15: =(I15+J15+K15)/1000 -> 0.06555516 | M15: =(L15*E15) -> 0 | N15: =(((M15+M16)/2)*(C16-C15)) -> 0.0035154351 | O15: =IF((M15 + M16) / 2 > 0, ((M15 + M16) / 2) * D16, 0) -> 0.042185222 | P15: =IF((M15 + M16) / 2 < 0, ((M15 + M16) / 2) * D16, 0) -> 0 | Q15: =(Q14+O15) -> 0.042185222 | R15: =Q15/1000 -> 4.2185222e-05 | S15: =S14+(P15*-1) -> 0 | T15: =S15/1000 -> 0 | U15: =T15*X$4 -> 0
B16: Low | C16: 12 | D16: 12 | E16: =F16/3.6 -> 0.055555556 | F16: 0.2 | G16: =($E17-$E15)/2 -> 0.23611111 | H16: =($F17-$F15)/2 -> 0.85 | I16: ='Vehicle Data'!$B$6*'WLTP Calculations'!G16 -> 69.106417 | J16: ='Vehicle Data'!$B$6*9.81*'Vehicle Data'!$B$8 -> 57.424993 | K16: =0.5*(1.225*'Vehicle Data'!B$9*'Vehicle Data'!B$7*'WLTP Calculations'!F16) -> 0.024255 | L16: =(I16+J16+K16)/1000 -> 0.12655566 | M16: =(L16*E16) -> 0.0070308703 | N16: =(((M16+M17)/2)*(C17-C16)) -> 0.067032982 | O16: =IF((M16 + M17) / 2 > 0, ((M16 + M17) / 2) * D17, 0) -> 0.87142877 | P16: =IF((M16 + M17) / 2 < 0, ((M16 + M17) / 2) * D17, 0) -> 0 | Q16: =(Q15+O16) -> 0.91361399 | R16: =Q16/1000 -> 0.00091361399 | S16: =S15+(P16*-1) -> 0 | T16: =S16/1000 -> 0 | U16: =T16*X$4 -> 0
B17: Low | C17: 13 | D17: 13 | E17: =F17/3.6 -> 0.47222222 | F17: 1.7 | G17: =($E18-$E16)/2 -> 0.72222222 | H17: =($F18-$F16)/2 -> 2.6 | I17: ='Vehicle Data'!$B$6*'WLTP Calculations'!G17 -> 211.38433 | J17: ='Vehicle Data'!$B$6*9.81*'Vehicle Data'!$B$8 -> 57.424993 | K17: =0.5*(1.225*'Vehicle Data'!B$9*'Vehicle Data'!B$7*'WLTP Calculations'!F17) -> 0.2061675 | L17: =(I17+J17+K17)/1000 -> 0.26901549 | M17: =(L17*E17) -> 0.12703509 | N17: =(((M17+M18)/2)*(C18-C17)) -> 0.35708008 | O17: =IF((M17 + M18) / 2 > 0, ((M17 + M18) / 2) * D18, 0) -> 4.9991211 | P17: =IF((M17 + M18) / 2 < 0, ((M17 + M18) / 2) * D18, 0) -> 0 | Q17: =(Q16+O17) -> 5.9127351 | R17: =Q17/1000 -> 0.0059127351 | S17: =S16+(P17*-1) -> 0 | T17: =S17/1000 -> 0 | U17: =T17*X$4 -> 0
... B1634: Extra-high | C1634: 1630 | D1634: 153 | E1634: =F1634/3.6 -> 30.583333 | F1634: 110.1 | G1634: =($E1635-$E1633)/2 -> -0.51388889 | H1634: =($F1635-$F1633)/2 -> -1.85 | I1634: ='Vehicle Data'!$B$6*'WLTP Calculations'!G1634 -> -150.40808 | J1634: ='Vehicle Data'!$B$6*9.81*'Vehicle Data'!$B$8 -> 57.424993 | K1634: =0.5*(1.225*'Vehicle Data'!B$9*'Vehicle Data'!B$7*'WLTP Calculations'!F1634) -> 13.352377 | L1634: =(I1634+J1634+K1634)/1000 -> -0.079630713 | M1634: =(L1634*E1634) -> -2.4353726 | N1634: =(((M1634+M1635)/2)*(C1635-C1634)) -> -2.0518747 | O1634: =IF((M1634 + M1635) / 2 > 0, ((M1634 + M1635) / 2) * D1635, 0) -> 0 | P1634: =IF((M1634 + M1635) / 2 < 0, ((M1634 + M1635) / 2) * D1635, 0) -> -315.9887 | Q1634: =(Q1633+O1634) -> 313588.16 | R1634: =Q1634/1000 -> 313.58816 | S1634: =S1633+(P1634*-1) -> 100271.98 | T1634: =S1634/1000 -> 100.27198 | U1634: =T1634*X$4 -> 6517.6787
B1635: Extra-high | C1635: 1631 | D1635: 154 | E1635: =F1635/3.6 -> 30.083333 | F1635: 108.3 | G1635: =($E1636-$E1634)/2 -> -0.43055556 | H1635: =($F1636-$F1634)/2 -> -1.55 | I1635: ='Vehicle Data'!$B$6*'WLTP Calculations'!G1635 -> -126.01758 | J1635: ='Vehicle Data'!$B$6*9.81*'Vehicle Data'!$B$8 -> 57.424993 | K1635: =0.5*(1.225*'Vehicle Data'!B$9*'Vehicle Data'!B$7*'WLTP Calculations'!F1635) -> 13.134082 | L1635: =(I1635+J1635+K1635)/1000 -> -0.055458508 | M1635: =(L1635*E1635) -> -1.6683768 | N1635: =(((M1635+M1636)/2)*(C1636-C1635)) -> -1.1170015 | O1635: =IF((M1635 + M1636) / 2 > 0, ((M1635 + M1636) / 2) * D1636, 0) -> 0 | P1635: =IF((M1635 + M1636) / 2 < 0, ((M1635 + M1636) / 2) * D1636, 0) -> -173.13523 | Q1635: =(Q1634+O1635) -> 313588.16 | R1635: =Q1635/1000 -> 313.58816 | S1635: =S1634+(P1635*-1) -> 100445.12 | T1635: =S1635/1000 -> 100.44512 | U1635: =T1635*X$4 -> 6528.9325 | V1635: =SUM(P1630:P1635) -> -1424.6667
B1636: Extra-high | C1636: 1632 | D1636: 155 | E1636: =F1636/3.6 -> 29.722222 | F1636: 107 | G1636: =($E1637-$E1635)/2 -> -0.30555556 | H1636: =($F1637-$F1635)/2 -> -1.1 | I1636: ='Vehicle Data'!$B$6*'WLTP Calculations'!G1636 -> -89.431833 | J1636: ='Vehicle Data'!$B$6*9.81*'Vehicle Data'!$B$8 -> 57.424993 | K1636: =0.5*(1.225*'Vehicle Data'!B$9*'Vehicle Data'!B$7*'WLTP Calculations'!F1636) -> 12.976425 | L1636: =(I1636+J1636+K1636)/1000 -> -0.019030415 | M1636: =(L1636*E1636) -> -0.56562623 | N1636: =(((M1636+M1637)/2)*(C1637-C1636)) -> 0.034179361 | O1636: =IF((M1636 + M1637) / 2 > 0, ((M1636 + M1637) / 2) * D1637, 0) -> 5.3319804 | P1636: =IF((M1636 + M1637) / 2 < 0, ((M1636 + M1637) / 2) * D1637, 0) -> 0 | Q1636: =(Q1635+O1636) -> 313593.49 | R1636: =Q1636/1000 -> 313.59349 | S1636: =S1635+(P1636*-1) -> 100445.12 | T1636: =S1636/1000 -> 100.44512 | U1636: =T1636*X$4 -> 6528.9325
B1637: Extra-high | C1637: 1633 | D1637: 156 | E1637: =F1637/3.6 -> 29.472222 | F1637: 106.1 | G1637: =($E1638-$E1636)/2 -> -0.16666667 | H1637: =($F1638-$F1636)/2 -> -0.6 | I1637: ='Vehicle Data'!$B$6*'WLTP Calculations'!G1637 -> -48.781 | J1637: ='Vehicle Data'!$B$6*9.81*'Vehicle Data'!$B$8 -> 57.424993 | K1637: =0.5*(1.225*'Vehicle Data'!B$9*'Vehicle Data'!B$7*'WLTP Calculations'!F1637) -> 12.867278 | L1637: =(I1637+J1637+K1637)/1000 -> 0.021511271 | M1637: =(L1637*E1637) -> 0.63398495 | N1637: =(((M1637+M1638)/2)*(C1638-C1637)) -> 1.1104272 | O1637: =IF((M1637 + M1638) / 2 > 0, ((M1637 + M1638) / 2) * D1638, 0) -> 174.33706 | P1637: =IF((M1637 + M1638) / 2 < 0, ((M1637 + M1638) / 2) * D1638, 0) -> 0 | Q1637: =(Q1636+O1637) -> 313767.83 | R1637: =Q1637/1000 -> 313.76783 | S1637: =S1636+(P1637*-1) -> 100445.12 | T1637: =S1637/1000 -> 100.44512 | U1637: =T1637*X$4 -> 6528.9325
B1638: Extra-high | C1638: 1634 | D1638: 157 | E1638: =F1638/3.6 -> 29.388889 | F1638: 105.8 | G1638: =($E1639-$E1637)/2 -> -0.055555556 | H1638: =($F1639-$F1637)/2 -> -0.2 | I1638: ='Vehicle Data'!$B$6*'WLTP Calculations'!G1638 -> -16.260333 | J1638: ='Vehicle Data'!$B$6*9.81*'Vehicle Data'!$B$8 -> 57.424993 | K1638: =0.5*(1.225*'Vehicle Data'!B$9*'Vehicle Data'!B$7*'WLTP Calculations'!F1638) -> 12.830895 | L1638: =(I1638+J1638+K1638)/1000 -> 0.053995555 | M1638: =(L1638*E1638) -> 1.5868694 | N1638: =(((M1638+M1639)/2)*(C1639-C1638)) -> 1.7649744 | O1638: =IF((M1638 + M1639) / 2 > 0, ((M1638 + M1639) / 2) * D1639, 0) -> 278.86596 | P1638: =IF((M1638 + M1639) / 2 < 0, ((M1638 + M1639) / 2) * D1639, 0) -> 0 | Q1638: =(Q1637+O1638) -> 314046.69 | R1638: =Q1638/1000 -> 314.04669 | S1638: =S1637+(P1638*-1) -> 100445.12 | T1638: =S1638/1000 -> 100.44512 | U1638: =T1638*X$4 -> 6528.9325
B1639: Extra-high | C1639: 1635 | D1639: 158 | E1639: =F1639/3.6 -> 29.361111 | F1639: 105.7 | G1639: =($E1640-$E1638)/2 -> -0.013888889 | H1639: =($F1640-$F1638)/2 -> -0.05 | I1639: ='Vehicle Data'!$B$6*'WLTP Calculations'!G1639 -> -4.0650833 | J1639: ='Vehicle Data'!$B$6*9.81*'Vehicle Data'!$B$8 -> 57.424993 | K1639: =0.5*(1.225*'Vehicle Data'!B$9*'Vehicle Data'!B$7*'WLTP Calculations'!F1639) -> 12.818768 | L1639: =(I1639+J1639+K1639)/1000 -> 0.066178677 | M1639: =(L1639*E1639) -> 1.9430795 | N1639: =(((M1639+M1640)/2)*(C1640-C1639)) -> 1.9430795 | O1639: =IF((M1639 + M1640) / 2 > 0, ((M1639 + M1640) / 2) * D1640, 0) -> 308.94964 | P1639: =IF((M1639 + M1640) / 2 < 0, ((M1639 + M1640) / 2) * D1640, 0) -> 0 | Q1639: =(Q1638+O1639) -> 314355.64 | R1639: =Q1639/1000 -> 314.35564 | S1639: =S1638+(P1639*-1) -> 100445.12 | T1639: =S1639/1000 -> 100.44512 | U1639: =T1639*X$4 -> 6528.9325
B1640: Extra-high | C1640: 1636 | D1640: 159 | E1640: =F1640/3.6 -> 29.361111 | F1640: 105.7 | G1640: =($E1641-$E1639)/2 -> -0.013888889 | H1640: =($F1641-$F1639)/2 -> -0.05 | I1640: ='Vehicle Data'!$B$6*'WLTP Calculations'!G1640 -> -4.0650833 | J1640: ='Vehicle Data'!$B$6*9.81*'Vehicle Data'!$B$8 -> 57.424993 | K1640: =0.5*(1.225*'Vehicle Data'!B$9*'Vehicle Data'!B$7*'WLTP Calculations'!F1640) -> 12.818768 | L1640: =(I1640+J1640+K1640)/1000 -> 0.066178677 | M1640: =(L1640*E1640) -> 1.9430795 | N1640: =(((M1640+M1641)/2)*(C1641-C1640)) -> 1.7631188 | O1640: =IF((M1640 + M1641) / 2 > 0, ((M1640 + M1641) / 2) * D1641, 0) -> 282.09901 | P1640: =IF((M1640 + M1641) / 2 < 0, ((M1640 + M1641) / 2) * D1641, 0) -> 0 | Q1640: =(Q1639+O1640) -> 314637.74 | R1640: =Q1640/1000 -> 314.63774 | S1640: =S1639+(P1640*-1) -> 100445.12 | T1640: =S1640/1000 -> 100.44512 | U1640: =T1640*X$4 -> 6528.9325
B1641: Extra-high | C1641: 1637 | D1641: 160 | E1641: =F1641/3.6 -> 29.333333 | F1641: 105.6 | G1641: =($E1642-$E1640)/2 -> -0.055555556 | H1641: =($F1642-$F1640)/2 -> -0.2 | I1641: ='Vehicle Data'!$B$6*'WLTP Calculations'!G1641 -> -16.260333 | J1641: ='Vehicle Data'!$B$6*9.81*'Vehicle Data'!$B$8 -> 57.424993 | K1641: =0.5*(1.225*'Vehicle Data'!B$9*'Vehicle Data'!B$7*'WLTP Calculations'!F1641) -> 12.80664 | L1641: =(I1641+J1641+K1641)/1000 -> 0.0539713 | M1641: =(L1641*E1641) -> 1.5831581 | N1641: =(((M1641+M1642)/2)*(C1642-C1641)) -> 1.4020217 | O1641: =IF((M1641 + M1642) / 2 > 0, ((M1641 + M1642) / 2) * D1642, 0) -> 225.72549 | P1641: =IF((M1641 + M1642) / 2 < 0, ((M1641 + M1642) / 2) * D1642, 0) -> 0 | Q1641: =(Q1640+O1641) -> 314863.47 | R1641: =Q1641/1000 -> 314.86347 | S1641: =S1640+(P1641*-1) -> 100445.12 | T1641: =S1641/1000 -> 100.44512 | U1641: =T1641*X$4 -> 6528.9325
B1642: Extra-high | C1642: 1638 | D1642: 161 | E1642: =F1642/3.6 -> 29.25 | F1642: 105.3 | G1642: =($E1643-$E1641)/2 -> -0.097222222 | H1642: =($F1643-$F1641)/2 -> -0.35 | I1642: ='Vehicle Data'!$B$6*'WLTP Calculations'!G1642 -> -28.455583 | J1642: ='Vehicle Data'!$B$6*9.81*'Vehicle Data'!$B$8 -> 57.424993 | K1642: =0.5*(1.225*'Vehicle Data'!B$9*'Vehicle Data'!B$7*'WLTP Calculations'!F1642) -> 12.770257 | L1642: =(I1642+J1642+K1642)/1000 -> 0.041739667 | M1642: =(L1642*E1642) -> 1.2208853 | N1642: =(((M1642+M1643)/2)*(C1643-C1642)) -> 1.0994076 | O1642: =IF((M1642 + M1643) / 2 > 0, ((M1642 + M1643) / 2) * D1643, 0) -> 178.10404 | P1642: =IF((M1642 + M1643) / 2 < 0, ((M1642 + M1643) / 2) * D1643, 0) -> 0 | Q1642: =(Q1641+O1642) -> 315041.57 | R1642: =Q1642/1000 -> 315.04157 | S1642: =S1641+(P1642*-1) -> 100445.12 | T1642: =S1642/1000 -> 100.44512 | U1642: =T1642*X$4 -> 6528.9325
B1643: Extra-high | C1643: 1639 | D1643: 162 | E1643: =F1643/3.6 -> 29.138889 | F1643: 104.9 | G1643: =($E1644-$E1642)/2 -> -0.125 | H1643: =($F1644-$F1642)/2 -> -0.45 | I1643: ='Vehicle Data'!$B$6*'WLTP Calculations'!G1643 -> -36.58575 | J1643: ='Vehicle Data'!$B$6*9.81*'Vehicle Data'!$B$8 -> 57.424993 | K1643: =0.5*(1.225*'Vehicle Data'!B$9*'Vehicle Data'!B$7*'WLTP Calculations'!F1643) -> 12.721748 | L1643: =(I1643+J1643+K1643)/1000 -> 0.033560991 | M1643: =(L1643*E1643) -> 0.97792998 | N1643: =(((M1643+M1644)/2)*(C1644-C1643)) -> 0.97472011 | O1643: =IF((M1643 + M1644) / 2 > 0, ((M1643 + M1644) / 2) * D1644, 0) -> 158.87938 | P1643: =IF((M1643 + M1644) / 2 < 0, ((M1643 + M1644) / 2) * D1644, 0) -> 0 | Q1643: =(Q1642+O1643) -> 315200.45 | R1643: =Q1643/1000 -> 315.20045 | S1643: =S1642+(P1643*-1) -> 100445.12 | T1643: =S1643/1000 -> 100.44512 | U1643: =T1643*X$4 -> 6528.9325
B1644: Extra-high | C1644: 1640 | D1644: 163 | E1644: =F1644/3.6 -> 29 | F1644: 104.4 | G1644: =($E1645-$E1643)/2 -> -0.125 | H1644: =($F1645-$F1643)/2 -> -0.45 | I1644: ='Vehicle Data'!$B$6*'WLTP Calculations'!G1644 -> -36.58575 | J1644: ='Vehicle Data'!$B$6*9.81*'Vehicle Data'!$B$8 -> 57.424993 | K1644: =0.5*(1.225*'Vehicle Data'!B$9*'Vehicle Data'!B$7*'WLTP Calculations'!F1644) -> 12.66111 | L1644: =(I1644+J1644+K1644)/1000 -> 0.033500353 | M1644: =(L1644*E1644) -> 0.97151024 | N1644: =(((M1644+M1645)/2)*(C1645-C1644)) -> 1.145102 | O1644: =IF((M1644 + M1645) / 2 > 0, ((M1644 + M1645) / 2) * D1645, 0) -> 187.79673 | P1644: =IF((M1644 + M1645) / 2 < 0, ((M1644 + M1645) / 2) * D1645, 0) -> 0 | Q1644: =(Q1643+O1644) -> 315388.25 | R1644: =Q1644/1000 -> 315.38825 | S1644: =S1643+(P1644*-1) -> 100445.12 | T1644: =S1644/1000 -> 100.44512 | U1644: =T1644*X$4 -> 6528.9325
B1645: Extra-high | C1645: 1641 | D1645: 164 | E1645: =F1645/3.6 -> 28.888889 | F1645: 104 | G1645: =($E1646-$E1644)/2 -> -0.083333333 | H1645: =($F1646-$F1644)/2 -> -0.3 | I1645: ='Vehicle Data'!$B$6*'WLTP Calculations'!G1645 -> -24.3905 | J1645: ='Vehicle Data'!$B$6*9.81*'Vehicle Data'!$B$8 -> 57.424993 | K1645: =0.5*(1.225*'Vehicle Data'!B$9*'Vehicle Data'!B$7*'WLTP Calculations'!F1645) -> 12.6126 | L1645: =(I1645+J1645+K1645)/1000 -> 0.045647093 | M1645: =(L1645*E1645) -> 1.3186938 | N1645: =(((M1645+M1646)/2)*(C1646-C1645)) -> 1.6101009 | O1645: =IF((M1645 + M1646) / 2 > 0, ((M1645 + M1646) / 2) * D1646, 0) -> 265.66665 | P1645: =IF((M1645 + M1646) / 2 < 0, ((M1645 + M1646) / 2) * D1646, 0) -> 0 | Q1645: =(Q1644+O1645) -> 315653.91 | R1645: =Q1645/1000 -> 315.65391 | S1645: =S1644+(P1645*-1) -> 100445.12 | T1645: =S1645/1000 -> 100.44512 | U1645: =T1645*X$4 -> 6528.9325
B1646: Extra-high | C1646: 1642 | D1646: 165 | E1646: =F1646/3.6 -> 28.833333 | F1646: 103.8 | G1646: =($E1647-$E1645)/2 -> -0.013888889 | H1646: =($F1647-$F1645)/2 -> -0.05 | I1646: ='Vehicle Data'!$B$6*'WLTP Calculations'!G1646 -> -4.0650833 | J1646: ='Vehicle Data'!$B$6*9.81*'Vehicle Data'!$B$8 -> 57.424993 | K1646: =0.5*(1.225*'Vehicle Data'!B$9*'Vehicle Data'!B$7*'WLTP Calculations'!F1646) -> 12.588345 | L1646: =(I1646+J1646+K1646)/1000 -> 0.065948255 | M1646: =(L1646*E1646) -> 1.901508 | N1646: =(((M1646+M1647)/2)*(C1647-C1646)) -> 2.3132288 | O1646: =IF((M1646 + M1647) / 2 > 0, ((M1646 + M1647) / 2) * D1647, 0) -> 383.99599 | P1646: =IF((M1646 + M1647) / 2 < 0, ((M1646 + M1647) / 2) * D1647, 0) -> 0 | Q1646: =(Q1645+O1646) -> 316037.91 | R1646: =Q1646/1000 -> 316.03791 | S1646: =S1645+(P1646*-1) -> 100445.12 | T1646: =S1646/1000 -> 100.44512 | U1646: =T1646*X$4 -> 6528.9325
B1647: Extra-high | C1647: 1643 | D1647: 166 | E1647: =F1647/3.6 -> 28.861111 | F1647: 103.9 | G1647: =($E1648-$E1646)/2 -> 0.083333333 | H1647: =($F1648-$F1646)/2 -> 0.3 | I1647: ='Vehicle Data'!$B$6*'WLTP Calculations'!G1647 -> 24.3905 | J1647: ='Vehicle Data'!$B$6*9.81*'Vehicle Data'!$B$8 -> 57.424993 | K1647: =0.5*(1.225*'Vehicle Data'!B$9*'Vehicle Data'!B$7*'WLTP Calculations'!F1647) -> 12.600473 | L1647: =(I1647+J1647+K1647)/1000 -> 0.094415966 | M1647: =(L1647*E1647) -> 2.7249497 | N1647: =(((M1647+M1648)/2)*(C1648-C1647)) -> 3.0860478 | O1647: =IF((M1647 + M1648) / 2 > 0, ((M1647 + M1648) / 2) * D1648, 0) -> 515.36999 | P1647: =IF((M1647 + M1648) / 2 < 0, ((M1647 + M1648) / 2) * D1648, 0) -> 0 | Q1647: =(Q1646+O1647) -> 316553.28 | R1647: =Q1647/1000 -> 316.55328 | S1647: =S1646+(P1647*-1) -> 100445.12 | T1647: =S1647/1000 -> 100.44512 | U1647: =T1647*X$4 -> 6528.9325
... B1750: Extra-high | C1750: 1746 | D1750: 269 | E1750: =F1750/3.6 -> 25.777778 | F1750: 92.8 | G1750: =($E1751-$E1749)/2 -> -0.27777778 | H1750: =($F1751-$F1749)/2 -> -1 | I1750: ='Vehicle Data'!$B$6*'WLTP Calculations'!G1750 -> -81.301667 | J1750: ='Vehicle Data'!$B$6*9.81*'Vehicle Data'!$B$8 -> 57.424993 | K1750: =0.5*(1.225*'Vehicle Data'!B$9*'Vehicle Data'!B$7*'WLTP Calculations'!F1750) -> 11.25432 | L1750: =(I1750+J1750+K1750)/1000 -> -0.012622353 | M1750: =(L1750*E1750) -> -0.32537622 | N1750: =(((M1750+M1751)/2)*(C1751-C1750)) -> -0.22150975 | O1750: =IF((M1750 + M1751) / 2 > 0, ((M1750 + M1751) / 2) * D1751, 0) -> 0 | P1750: =IF((M1750 + M1751) / 2 < 0, ((M1750 + M1751) / 2) * D1751, 0) -> -59.807632 | Q1750: =(Q1749+O1750) -> 372715.23 | R1750: =Q1750/1000 -> 372.71523 | S1750: =S1749+(P1750*-1) -> 113872.41 | T1750: =S1750/1000 -> 113.87241 | U1750: =T1750*X$4 -> 7401.7067
B1751: Extra-high | C1751: 1747 | D1751: 270 | E1751: =F1751/3.6 -> 25.5 | F1751: 91.8 | G1751: =($E1752-$E1750)/2 -> -0.25 | H1751: =($F1752-$F1750)/2 -> -0.9 | I1751: ='Vehicle Data'!$B$6*'WLTP Calculations'!G1751 -> -73.1715 | J1751: ='Vehicle Data'!$B$6*9.81*'Vehicle Data'!$B$8 -> 57.424993 | K1751: =0.5*(1.225*'Vehicle Data'!B$9*'Vehicle Data'!B$7*'WLTP Calculations'!F1751) -> 11.133045 | L1751: =(I1751+J1751+K1751)/1000 -> -0.0046134618 | M1751: =(L1751*E1751) -> -0.11764328 | N1751: =(((M1751+M1752)/2)*(C1752-C1751)) -> -0.015600621 | O1751: =IF((M1751 + M1752) / 2 > 0, ((M1751 + M1752) / 2) * D1752, 0) -> 0 | P1751: =IF((M1751 + M1752) / 2 < 0, ((M1751 + M1752) / 2) * D1752, 0) -> -4.2277683 | Q1751: =(Q1750+O1751) -> 372715.23 | R1751: =Q1751/1000 -> 372.71523 | S1751: =S1750+(P1751*-1) -> 113876.64 | T1751: =S1751/1000 -> 113.87664 | U1751: =T1751*X$4 -> 7401.9815 | V1751: =SUM(P1730:P1750) -> -13427.295
B1752: Extra-high | C1752: 1748 | D1752: 271 | E1752: =F1752/3.6 -> 25.277778 | F1752: 91 | G1752: =($E1753-$E1751)/2 -> -0.22222222 | H1752: =($F1753-$F1751)/2 -> -0.8 | I1752: ='Vehicle Data'!$B$6*'WLTP Calculations'!G1752 -> -65.041333 | J1752: ='Vehicle Data'!$B$6*9.81*'Vehicle Data'!$B$8 -> 57.424993 | K1752: =0.5*(1.225*'Vehicle Data'!B$9*'Vehicle Data'!B$7*'WLTP Calculations'!F1752) -> 11.036025 | L1752: =(I1752+J1752+K1752)/1000 -> 0.0034196849 | M1752: =(L1752*E1752) -> 0.086442034 | N1752: =(((M1752+M1753)/2)*(C1753-C1752)) -> 0.18669955 | O1752: =IF((M1752 + M1753) / 2 > 0, ((M1752 + M1753) / 2) * D1753, 0) -> 50.782276 | P1752: =IF((M1752 + M1753) / 2 < 0, ((M1752 + M1753) / 2) * D1753, 0) -> 0 | Q1752: =(Q1751+O1752) -> 372766.01 | R1752: =Q1752/1000 -> 372.76601 | S1752: =S1751+(P1752*-1) -> 113876.64 | T1752: =S1752/1000 -> 113.87664 | U1752: =T1752*X$4 -> 7401.9815
B1753: Extra-high | C1753: 1749 | D1753: 272 | E1753: =F1753/3.6 -> 25.055556 | F1753: 90.2 | G1753: =($E1754-$E1752)/2 -> -0.19444444 | H1753: =($F1754-$F1752)/2 -> -0.7 | I1753: ='Vehicle Data'!$B$6*'WLTP Calculations'!G1753 -> -56.911167 | J1753: ='Vehicle Data'!$B$6*9.81*'Vehicle Data'!$B$8 -> 57.424993 | K1753: =0.5*(1.225*'Vehicle Data'!B$9*'Vehicle Data'!B$7*'WLTP Calculations'!F1753) -> 10.939005 | L1753: =(I1753+J1753+K1753)/1000 -> 0.011452832 | M1753: =(L1753*E1753) -> 0.28695706 | N1753: =(((M1753+M1754)/2)*(C1754-C1753)) -> 0.43686025 | O1753: =IF((M1753 + M1754) / 2 > 0, ((M1753 + M1754) / 2) * D1754, 0) -> 119.26285 | P1753: =IF((M1753 + M1754) / 2 < 0, ((M1753 + M1754) / 2) * D1754, 0) -> 0 | Q1753: =(Q1752+O1753) -> 372885.28 | R1753: =Q1753/1000 -> 372.88528 | S1753: =S1752+(P1753*-1) -> 113876.64 | T1753: =S1753/1000 -> 113.87664 | U1753: =T1753*X$4 -> 7401.9815
B1754: Extra-high | C1754: 1750 | D1754: 273 | E1754: =F1754/3.6 -> 24.888889 | F1754: 89.6 | G1754: =($E1755-$E1753)/2 -> -0.15277778 | H1754: =($F1755-$F1753)/2 -> -0.55 | I1754: ='Vehicle Data'!$B$6*'WLTP Calculations'!G1754 -> -44.715917 | J1754: ='Vehicle Data'!$B$6*9.81*'Vehicle Data'!$B$8 -> 57.424993 | K1754: =0.5*(1.225*'Vehicle Data'!B$9*'Vehicle Data'!B$7*'WLTP Calculations'!F1754) -> 10.86624 | L1754: =(I1754+J1754+K1754)/1000 -> 0.023575317 | M1754: =(L1754*E1754) -> 0.58676343 | N1754: =(((M1754+M1755)/2)*(C1755-C1754)) -> 0.63468128 | O1754: =IF((M1754 + M1755) / 2 > 0, ((M1754 + M1755) / 2) * D1755, 0) -> 173.90267 | P1754: =IF((M1754 + M1755) / 2 < 0, ((M1754 + M1755) / 2) * D1755, 0) -> 0 | Q1754: =(Q1753+O1754) -> 373059.18 | R1754: =Q1754/1000 -> 373.05918 | S1754: =S1753+(P1754*-1) -> 113876.64 | T1754: =S1754/1000 -> 113.87664 | U1754: =T1754*X$4 -> 7401.9815
B1755: Extra-high | C1755: 1751 | D1755: 274 | E1755: =F1755/3.6 -> 24.75 | F1755: 89.1 | G1755: =($E1756-$E1754)/2 -> -0.13888889 | H1755: =($F1756-$F1754)/2 -> -0.5 | I1755: ='Vehicle Data'!$B$6*'WLTP Calculations'!G1755 -> -40.650833 | J1755: ='Vehicle Data'!$B$6*9.81*'Vehicle Data'!$B$8 -> 57.424993 | K1755: =0.5*(1.225*'Vehicle Data'!B$9*'Vehicle Data'!B$7*'WLTP Calculations'!F1755) -> 10.805603 | L1755: =(I1755+J1755+K1755)/1000 -> 0.027579762 | M1755: =(L1755*E1755) -> 0.68259912 | N1755: =(((M1755+M1756)/2)*(C1756-C1755)) -> 0.67993768 | O1755: =IF((M1755 + M1756) / 2 > 0, ((M1755 + M1756) / 2) * D1756, 0) -> 186.98286 | P1755: =IF((M1755 + M1756) / 2 < 0, ((M1755 + M1756) / 2) * D1756, 0) -> 0 | Q1755: =(Q1754+O1755) -> 373246.16 | R1755: =Q1755/1000 -> 373.24616 | S1755: =S1754+(P1755*-1) -> 113876.64 | T1755: =S1755/1000 -> 113.87664 | U1755: =T1755*X$4 -> 7401.9815
B1756: Extra-high | C1756: 1752 | D1756: 275 | E1756: =F1756/3.6 -> 24.611111 | F1756: 88.6 | G1756: =($E1757-$E1755)/2 -> -0.13888889 | H1756: =($F1757-$F1755)/2 -> -0.5 | I1756: ='Vehicle Data'!$B$6*'WLTP Calculations'!G1756 -> -40.650833 | J1756: ='Vehicle Data'!$B$6*9.81*'Vehicle Data'!$B$8 -> 57.424993 | K1756: =0.5*(1.225*'Vehicle Data'!B$9*'Vehicle Data'!B$7*'WLTP Calculations'!F1756) -> 10.744965 | L1756: =(I1756+J1756+K1756)/1000 -> 0.027519125 | M1756: =(L1756*E1756) -> 0.67727624 | N1756: =(((M1756+M1757)/2)*(C1757-C1756)) -> 0.67462322 | O1756: =IF((M1756 + M1757) / 2 > 0, ((M1756 + M1757) / 2) * D1757, 0) -> 186.19601 | P1756: =IF((M1756 + M1757) / 2 < 0, ((M1756 + M1757) / 2) * D1757, 0) -> 0 | Q1756: =(Q1755+O1756) -> 373432.36 | R1756: =Q1756/1000 -> 373.43236 | S1756: =S1755+(P1756*-1) -> 113876.64 | T1756: =S1756/1000 -> 113.87664 | U1756: =T1756*X$4 -> 7401.9815
B1757: Extra-high | C1757: 1753 | D1757: 276 | E1757: =F1757/3.6 -> 24.472222 | F1757: 88.1 | G1757: =($E1758-$E1756)/2 -> -0.13888889 | H1757: =($F1758-$F1756)/2 -> -0.5 | I1757: ='Vehicle Data'!$B$6*'WLTP Calculations'!G1757 -> -40.650833 | J1757: ='Vehicle Data'!$B$6*9.81*'Vehicle Data'!$B$8 -> 57.424993 | K1757: =0.5*(1.225*'Vehicle Data'!B$9*'Vehicle Data'!B$7*'WLTP Calculations'!F1757) -> 10.684328 | L1757: =(I1757+J1757+K1757)/1000 -> 0.027458487 | M1757: =(L1757*E1757) -> 0.6719702 | N1757: =(((M1757+M1758)/2)*(C1758-C1757)) -> 0.66932561 | O1757: =IF((M1757 + M1758) / 2 > 0, ((M1757 + M1758) / 2) * D1758, 0) -> 185.40319 | P1757: =IF((M1757 + M1758) / 2 < 0, ((M1757 + M1758) / 2) * D1758, 0) -> 0 | Q1757: =(Q1756+O1757) -> 373617.76 | R1757: =Q1757/1000 -> 373.61776 | S1757: =S1756+(P1757*-1) -> 113876.64 | T1757: =S1757/1000 -> 113.87664 | U1757: =T1757*X$4 -> 7401.9815
B1758: Extra-high | C1758: 1754 | D1758: 277 | E1758: =F1758/3.6 -> 24.333333 | F1758: 87.6 | G1758: =($E1759-$E1757)/2 -> -0.13888889 | H1758: =($F1759-$F1757)/2 -> -0.5 | I1758: ='Vehicle Data'!$B$6*'WLTP Calculations'!G1758 -> -40.650833 | J1758: ='Vehicle Data'!$B$6*9.81*'Vehicle Data'!$B$8 -> 57.424993 | K1758: =0.5*(1.225*'Vehicle Data'!B$9*'Vehicle Data'!B$7*'WLTP Calculations'!F1758) -> 10.62369 | L1758: =(I1758+J1758+K1758)/1000 -> 0.02739785 | M1758: =(L1758*E1758) -> 0.66668101 | N1758: =(((M1758+M1759)/2)*(C1759-C1758)) -> 0.66404484 | O1758: =IF((M1758 + M1759) / 2 > 0, ((M1758 + M1759) / 2) * D1759, 0) -> 184.60447 | P1758: =IF((M1758 + M1759) / 2 < 0, ((M1758 + M1759) / 2) * D1759, 0) -> 0 | Q1758: =(Q1757+O1758) -> 373802.37 | R1758: =Q1758/1000 -> 373.80237 | S1758: =S1757+(P1758*-1) -> 113876.64 | T1758: =S1758/1000 -> 113.87664 | U1758: =T1758*X$4 -> 7401.9815
B1759: Extra-high | C1759: 1755 | D1759: 278 | E1759: =F1759/3.6 -> 24.194444 | F1759: 87.1 | G1759: =($E1760-$E1758)/2 -> -0.13888889 | H1759: =($F1760-$F1758)/2 -> -0.5 | I1759: ='Vehicle Data'!$B$6*'WLTP Calculations'!G1759 -> -40.650833 | J1759: ='Vehicle Data'!$B$6*9.81*'Vehicle Data'!$B$8 -> 57.424993 | K1759: =0.5*(1.225*'Vehicle Data'!B$9*'Vehicle Data'!B$7*'WLTP Calculations'!F1759) -> 10.563052 | L1759: =(I1759+J1759+K1759)/1000 -> 0.027337212 | M1759: =(L1759*E1759) -> 0.66140867 | N1759: =(((M1759+M1760)/2)*(C1760-C1759)) -> 0.65878091 | O1759: =IF((M1759 + M1760) / 2 > 0, ((M1759 + M1760) / 2) * D1760, 0) -> 183.79987 | P1759: =IF((M1759 + M1760) / 2 < 0, ((M1759 + M1760) / 2) * D1760, 0) -> 0 | Q1759: =(Q1758+O1759) -> 373986.17 | R1759: =Q1759/1000 -> 373.98617 | S1759: =S1758+(P1759*-1) -> 113876.64 | T1759: =S1759/1000 -> 113.87664 | U1759: =T1759*X$4 -> 7401.9815
...
