Workbook

Sheet Part 1-3
A1: Mass | B1: 628 | C1: kg
A2: Wheelbase | B2: 2.8 | C2: m
A3: CoG Height | B3: 0.36 | C3: m
A4: SWD (Front) | B4: 0.47 | C4: %
A5: SWD (Left) | B5: 0.51 | C5: %
A6: Cl | B6: -0.62
A7: A | B7: 1.2 | C7: m2
A8: Air Density | B8: 1.223 | C8: kg/m3
A9: CoP | B9: 0.42 | C9: %
A10: Average Track | B10: 1.62 | C10: m
A11: Maximum G | B11: 1.5 | C11: G
A13: Front static verticle | B13: =B4*B1*9.81 -> 2895.5196 | C13: rear static verticle | D13: =0.53*B1*9.81 -> 3265.1604
A14: front left | B14: =B13*0.51 -> 1476.715 | C14: rear left | D14: =D13*0.51 -> 1665.2318
A15: front right | B15: =B13*0.49 -> 1418.8046 | C15: rear right | D15: =D13*0.49 -> 1599.9286
A17: Aero Load | B17: =B6*0.5*(B8*B18^2)*B7 -> -409.4604
A18: Volcity | B18: 30 | C18: m/s | G18: Long G-Force | H18: Lat Accel | I18: Corner Weight | M18: Long G-Froce | N18: Lat Accel | O18: Corner Weight | Q18: Front Load Transfer
F19: Front Left | G19: 0 | H19: 0 | I19: =$B$14+(($B$1*G19*$B$3)/$B$10)*$B$5*$B$4-(($B$6*0.5*($B$18^2)*$B$7*$B$9)/2) -> 1547.023 | L19: Front Right | M19: 0 | N19: 0 | O19: =$B$15-(($B$1*M19*$B$3)/$B$10)*0.49*$B$4-(($B$6*0.5*($B$18^2)*$B$7*$B$9)/2) -> 1489.1126 | Q19: =I19-O19 -> 57.910392
G20: 0.1 | H20: 0 | I20: =$B$14+(($B$1*G20*$B$3)/$B$10)*$B$5*$B$4-(($B$6*0.5*($B$18^2)*$B$7*$B$9)/2) -> 1550.3681 | M20: 0.1 | N20: 0 | O20: =$B$15-(($B$1*M20*$B$3)/$B$10)*0.49*$B$4-(($B$6*0.5*($B$18^2)*$B$7*$B$9)/2) -> 1485.8986 | Q20: =I20-O20 -> 64.469503
G21: 0.2 | H21: 0 | I21: =$B$14+(($B$1*G21*$B$3)/$B$10)*$B$5*$B$4-(($B$6*0.5*($B$18^2)*$B$7*$B$9)/2) -> 1553.7133 | M21: 0.2 | N21: 0 | O21: =$B$15-(($B$1*M21*$B$3)/$B$10)*0.49*$B$4-(($B$6*0.5*($B$18^2)*$B$7*$B$9)/2) -> 1482.6847 | Q21: =I21-O21 -> 71.028614
G22: 0.3 | H22: 0 | I22: =$B$14+(($B$1*G22*$B$3)/$B$10)*$B$5*$B$4-(($B$6*0.5*($B$18^2)*$B$7*$B$9)/2) -> 1557.0584 | M22: 0.3 | N22: 0 | O22: =$B$15-(($B$1*M22*$B$3)/$B$10)*0.49*$B$4-(($B$6*0.5*($B$18^2)*$B$7*$B$9)/2) -> 1479.4707 | Q22: =I22-O22 -> 77.587725
G23: 0.4 | H23: 0 | I23: =$B$14+(($B$1*G23*$B$3)/$B$10)*$B$5*$B$4-(($B$6*0.5*($B$18^2)*$B$7*$B$9)/2) -> 1560.4036 | M23: 0.4 | N23: 0 | O23: =$B$15-(($B$1*M23*$B$3)/$B$10)*0.49*$B$4-(($B$6*0.5*($B$18^2)*$B$7*$B$9)/2) -> 1476.2567 | Q23: =I23-O23 -> 84.146836
G24: 0.5 | H24: 0 | I24: =$B$14+(($B$1*G24*$B$3)/$B$10)*$B$5*$B$4-(($B$6*0.5*($B$18^2)*$B$7*$B$9)/2) -> 1563.7487 | M24: 0.5 | N24: 0 | O24: =$B$15-(($B$1*M24*$B$3)/$B$10)*0.49*$B$4-(($B$6*0.5*($B$18^2)*$B$7*$B$9)/2) -> 1473.0428 | Q24: =I24-O24 -> 90.705948
G25: 0.6 | H25: 0 | I25: =$B$14+(($B$1*G25*$B$3)/$B$10)*$B$5*$B$4-(($B$6*0.5*($B$18^2)*$B$7*$B$9)/2) -> 1567.0939 | M25: 0.6 | N25: 0 | O25: =$B$15-(($B$1*M25*$B$3)/$B$10)*0.49*$B$4-(($B$6*0.5*($B$18^2)*$B$7*$B$9)/2) -> 1469.8288 | Q25: =I25-O25 -> 97.265059
G26: 0.7 | H26: 0 | I26: =$B$14+(($B$1*G26*$B$3)/$B$10)*$B$5*$B$4-(($B$6*0.5*($B$18^2)*$B$7*$B$9)/2) -> 1570.439 | M26: 0.7 | N26: 0 | O26: =$B$15-(($B$1*M26*$B$3)/$B$10)*0.49*$B$4-(($B$6*0.5*($B$18^2)*$B$7*$B$9)/2) -> 1466.6149 | Q26: =I26-O26 -> 103.82417
G27: 0.8 | H27: 0 | I27: =$B$14+(($B$1*G27*$B$3)/$B$10)*$B$5*$B$4-(($B$6*0.5*($B$18^2)*$B$7*$B$9)/2) -> 1573.7842 | M27: 0.8 | N27: 0 | O27: =$B$15-(($B$1*M27*$B$3)/$B$10)*0.49*$B$4-(($B$6*0.5*($B$18^2)*$B$7*$B$9)/2) -> 1463.4009 | Q27: =I27-O27 -> 110.38328
G28: 0.9 | H28: 0 | I28: =$B$14+(($B$1*G28*$B$3)/$B$10)*$B$5*$B$4-(($B$6*0.5*($B$18^2)*$B$7*$B$9)/2) -> 1577.1293 | M28: 0.9 | N28: 0 | O28: =$B$15-(($B$1*M28*$B$3)/$B$10)*0.49*$B$4-(($B$6*0.5*($B$18^2)*$B$7*$B$9)/2) -> 1460.1869 | Q28: =I28-O28 -> 116.94239
G29: 1 | H29: 0 | I29: =$B$14+(($B$1*G29*$B$3)/$B$10)*$B$5*$B$4-(($B$6*0.5*($B$18^2)*$B$7*$B$9)/2) -> 1580.4745 | M29: 1 | N29: 0 | O29: =$B$15-(($B$1*M29*$B$3)/$B$10)*0.49*$B$4-(($B$6*0.5*($B$18^2)*$B$7*$B$9)/2) -> 1456.973 | Q29: =I29-O29 -> 123.5015
G30: 1.1 | H30: 0 | I30: =$B$14+(($B$1*G30*$B$3)/$B$10)*$B$5*$B$4-(($B$6*0.5*($B$18^2)*$B$7*$B$9)/2) -> 1583.8196 | M30: 1.1 | N30: 0 | O30: =$B$15-(($B$1*M30*$B$3)/$B$10)*0.49*$B$4-(($B$6*0.5*($B$18^2)*$B$7*$B$9)/2) -> 1453.759 | Q30: =I30-O30 -> 130.06061
G31: 1.2 | H31: 0 | I31: =$B$14+(($B$1*G31*$B$3)/$B$10)*$B$5*$B$4-(($B$6*0.5*($B$18^2)*$B$7*$B$9)/2) -> 1587.1648 | M31: 1.2 | N31: 0 | O31: =$B$15-(($B$1*M31*$B$3)/$B$10)*0.49*$B$4-(($B$6*0.5*($B$18^2)*$B$7*$B$9)/2) -> 1450.545 | Q31: =I31-O31 -> 136.61973
... G34: 1.5 | H34: 0 | I34: =$B$14+(($B$1*G34*$B$3)/$B$10)*$B$5*$B$4-(($B$6*0.5*($B$18^2)*$B$7*$B$9)/2) -> 1597.2002 | M34: 1.5 | N34: 0 | O34: =$B$15-(($B$1*M34*$B$3)/$B$10)*0.49*$B$4-(($B$6*0.5*($B$18^2)*$B$7*$B$9)/2) -> 1440.9031 | Q34: =I34-O34 -> 156.29706
G35: Long G-Fore | H35: Lat Accel | I35: Corner Weight | M35: Long G-Fore | N35: Lat Accel | O35: Corner Weight | Q35: Rear Load Transfer
F36: Rear Left | G36: 0 | H36: 0 | I36: =$D$14+(($B$1*G36*$B$3)/$B$10)*$B$5*0.53-(($B$6*0.5*($B$18^2)*$B$7*$B$9)/2) -> 1735.5398 | L36: Rear Right | M36: 0 | N36: 0 | O36: =$D$15+-(($B$1*M36*$B$3)/$B$10)*0.49*0.53-(($B$6*0.5*($B$18^2)*$B$7*$B$9)/2) -> 1670.2366 | Q36: =I36-O36 -> 65.303208
G37: 0.1 | H37: 0 | I37: =$D$14+(($B$1*G37*$B$3)/$B$10)*$B$5*0.53-(($B$6*0.5*($B$18^2)*$B$7*$B$9)/2) -> 1739.312 | M37: 0.1 | N37: 0 | O37: =$D$15+-(($B$1*M37*$B$3)/$B$10)*0.49*0.53-(($B$6*0.5*($B$18^2)*$B$7*$B$9)/2) -> 1666.6123 | Q37: =I37-O37 -> 72.699652
G38: 0.2 | H38: 0 | I38: =$D$14+(($B$1*G38*$B$3)/$B$10)*$B$5*0.53-(($B$6*0.5*($B$18^2)*$B$7*$B$9)/2) -> 1743.0842 | M38: 0.2 | N38: 0 | O38: =$D$15+-(($B$1*M38*$B$3)/$B$10)*0.49*0.53-(($B$6*0.5*($B$18^2)*$B$7*$B$9)/2) -> 1662.9881 | Q38: =I38-O38 -> 80.096097
G39: 0.3 | H39: 0 | I39: =$D$14+(($B$1*G39*$B$3)/$B$10)*$B$5*0.53-(($B$6*0.5*($B$18^2)*$B$7*$B$9)/2) -> 1746.8564 | M39: 0.3 | N39: 0 | O39: =$D$15+-(($B$1*M39*$B$3)/$B$10)*0.49*0.53-(($B$6*0.5*($B$18^2)*$B$7*$B$9)/2) -> 1659.3638 | Q39: =I39-O39 -> 87.492541
G40: 0.4 | H40: 0 | I40: =$D$14+(($B$1*G40*$B$3)/$B$10)*$B$5*0.53-(($B$6*0.5*($B$18^2)*$B$7*$B$9)/2) -> 1750.6286 | M40: 0.4 | N40: 0 | O40: =$D$15+-(($B$1*M40*$B$3)/$B$10)*0.49*0.53-(($B$6*0.5*($B$18^2)*$B$7*$B$9)/2) -> 1655.7396 | Q40: =I40-O40 -> 94.888986
G41: 0.5 | H41: 0 | I41: =$D$14+(($B$1*G41*$B$3)/$B$10)*$B$5*0.53-(($B$6*0.5*($B$18^2)*$B$7*$B$9)/2) -> 1754.4007 | M41: 0.5 | N41: 0 | O41: =$D$15+-(($B$1*M41*$B$3)/$B$10)*0.49*0.53-(($B$6*0.5*($B$18^2)*$B$7*$B$9)/2) -> 1652.1153 | Q41: =I41-O41 -> 102.28543
G42: 0.6 | H42: 0 | I42: =$D$14+(($B$1*G42*$B$3)/$B$10)*$B$5*0.53-(($B$6*0.5*($B$18^2)*$B$7*$B$9)/2) -> 1758.1729 | M42: 0.6 | N42: 0 | O42: =$D$15+-(($B$1*M42*$B$3)/$B$10)*0.49*0.53-(($B$6*0.5*($B$18^2)*$B$7*$B$9)/2) -> 1648.491 | Q42: =I42-O42 -> 109.68187
G43: 0.7 | H43: 0 | I43: =$D$14+(($B$1*G43*$B$3)/$B$10)*$B$5*0.53-(($B$6*0.5*($B$18^2)*$B$7*$B$9)/2) -> 1761.9451 | M43: 0.7 | N43: 0 | O43: =$D$15+-(($B$1*M43*$B$3)/$B$10)*0.49*0.53-(($B$6*0.5*($B$18^2)*$B$7*$B$9)/2) -> 1644.8668 | Q43: =I43-O43 -> 117.07832
G44: 0.8 | H44: 0 | I44: =$D$14+(($B$1*G44*$B$3)/$B$10)*$B$5*0.53-(($B$6*0.5*($B$18^2)*$B$7*$B$9)/2) -> 1765.7173 | M44: 0.8 | N44: 0 | O44: =$D$15+-(($B$1*M44*$B$3)/$B$10)*0.49*0.53-(($B$6*0.5*($B$18^2)*$B$7*$B$9)/2) -> 1641.2425 | Q44: =I44-O44 -> 124.47476
...

Sheet Part 4
J1: Angle A | K1: Lateral Acceleration | L1: Longitudinal acceleration | M1: Front Left | N1: Front Right | O1: Rear Left | P1: Rear Right
D2: Max Acceleration
J3: 0 | K3: 0 | L3: 1.5 | M3: ='Part 1-3'!$B$14+(('Part 1-3'!$B$1*L3*'Part 1-3'!$B$3)/'Part 1-3'!$B$10)*'Part 1-3'!$B$5*'Part 1-3'!$B$4+(('Part 1-3'!$B$1*K3*'Part 1-3'!$B$3)/'Part 1-3'!$B$10)*'Part 1-3'!$B$5*'Part 1-3'!$B$4-(('Part 1-3'!$B$6*0.5*('Part 1-3'!$B$18^2)*'Part 1-3'!$B$7*'Part 1-3'!$B$9)/2) -> 1597.2002 | N3: ='Part 1-3'!$B$15+(('Part 1-3'!$B$1*L3*'Part 1-3'!$B$3)/'Part 1-3'!$B$10)*0.49*'Part 1-3'!$B$4+(('Part 1-3'!$B$1*K3*'Part 1-3'!$B$3)/'Part 1-3'!$B$10)*0.49*'Part 1-3'!$B$4-(('Part 1-3'!$B$6*0.5*('Part 1-3'!$B$18^2)*'Part 1-3'!$B$7*'Part 1-3'!$B$9)/2) -> 1537.3221 | O3: ='Part 1-3'!$D$14+(('Part 1-3'!$B$1*L3*'Part 1-3'!$B$3)/'Part 1-3'!$B$10)*'Part 1-3'!$B$5*0.53+(('Part 1-3'!$B$1*K3*'Part 1-3'!$B$3)/'Part 1-3'!$B$10)*'Part 1-3'!$B$5*0.53-(('Part 1-3'!$B$6*0.5*('Part 1-3'!$B$18^2)*'Part 1-3'!$B$7*'Part 1-3'!$B$9)/2) -> 1792.1226 | P3: ='Part 1-3'!$D$15+(('Part 1-3'!$B$1*L3*'Part 1-3'!$B$3)/'Part 1-3'!$B$10)*0.49*0.53+(('Part 1-3'!$B$1*K3*'Part 1-3'!$B$3)/'Part 1-3'!$B$10)*0.49*0.53-(('Part 1-3'!$B$6*0.5*('Part 1-3'!$B$18^2)*'Part 1-3'!$B$7*'Part 1-3'!$B$9)/2) -> 1724.6005
J4: 5 | K4: 0.13 | L4: =1.5-K4 -> 1.37 | M4: ='Part 1-3'!$B$14+(('Part 1-3'!$B$1*L4*'Part 1-3'!$B$3)/'Part 1-3'!$B$10)*'Part 1-3'!$B$5*'Part 1-3'!$B$4+(('Part 1-3'!$B$1*K4*'Part 1-3'!$B$3)/'Part 1-3'!$B$10)*'Part 1-3'!$B$5*'Part 1-3'!$B$4-(('Part 1-3'!$B$6*0.5*('Part 1-3'!$B$18^2)*'Part 1-3'!$B$7*'Part 1-3'!$B$9)/2) -> 1597.2002 | N4: ='Part 1-3'!$B$15+(('Part 1-3'!$B$1*L4*'Part 1-3'!$B$3)/'Part 1-3'!$B$10)*0.49*'Part 1-3'!$B$4+(('Part 1-3'!$B$1*K4*'Part 1-3'!$B$3)/'Part 1-3'!$B$10)*0.49*'Part 1-3'!$B$4-(('Part 1-3'!$B$6*0.5*('Part 1-3'!$B$18^2)*'Part 1-3'!$B$7*'Part 1-3'!$B$9)/2) -> 1537.3221 | O4: ='Part 1-3'!$D$14+(('Part 1-3'!$B$1*L4*'Part 1-3'!$B$3)/'Part 1-3'!$B$10)*'Part 1-3'!$B$5*0.53+(('Part 1-3'!$B$1*K4*'Part 1-3'!$B$3)/'Part 1-3'!$B$10)*'Part 1-3'!$B$5*0.53-(('Part 1-3'!$B$6*0.5*('Part 1-3'!$B$18^2)*'Part 1-3'!$B$7*'Part 1-3'!$B$9)/2) -> 1792.1226 | P4: ='Part 1-3'!$D$15+(('Part 1-3'!$B$1*L4*'Part 1-3'!$B$3)/'Part 1-3'!$B$10)*0.49*0.53+(('Part 1-3'!$B$1*K4*'Part 1-3'!$B$3)/'Part 1-3'!$B$10)*0.49*0.53-(('Part 1-3'!$B$6*0.5*('Part 1-3'!$B$18^2)*'Part 1-3'!$B$7*'Part 1-3'!$B$9)/2) -> 1724.6005
J5: 10 | K5: 0.26 | L5: =1.5-K5 -> 1.24 | M5: ='Part 1-3'!$B$14+(('Part 1-3'!$B$1*L5*'Part 1-3'!$B$3)/'Part 1-3'!$B$10)*'Part 1-3'!$B$5*'Part 1-3'!$B$4+(('Part 1-3'!$B$1*K5*'Part 1-3'!$B$3)/'Part 1-3'!$B$10)*'Part 1-3'!$B$5*'Part 1-3'!$B$4-(('Part 1-3'!$B$6*0.5*('Part 1-3'!$B$18^2)*'Part 1-3'!$B$7*'Part 1-3'!$B$9)/2) -> 1597.2002 | N5: ='Part 1-3'!$B$15+(('Part 1-3'!$B$1*L5*'Part 1-3'!$B$3)/'Part 1-3'!$B$10)*0.49*'Part 1-3'!$B$4+(('Part 1-3'!$B$1*K5*'Part 1-3'!$B$3)/'Part 1-3'!$B$10)*0.49*'Part 1-3'!$B$4-(('Part 1-3'!$B$6*0.5*('Part 1-3'!$B$18^2)*'Part 1-3'!$B$7*'Part 1-3'!$B$9)/2) -> 1537.3221 | O5: ='Part 1-3'!$D$14+(('Part 1-3'!$B$1*L5*'Part 1-3'!$B$3)/'Part 1-3'!$B$10)*'Part 1-3'!$B$5*0.53+(('Part 1-3'!$B$1*K5*'Part 1-3'!$B$3)/'Part 1-3'!$B$10)*'Part 1-3'!$B$5*0.53-(('Part 1-3'!$B$6*0.5*('Part 1-3'!$B$18^2)*'Part 1-3'!$B$7*'Part 1-3'!$B$9)/2) -> 1792.1226 | P5: ='Part 1-3'!$D$15+(('Part 1-3'!$B$1*L5*'Part 1-3'!$B$3)/'Part 1-3'!$B$10)*0.49*0.53+(('Part 1-3'!$B$1*K5*'Part 1-3'!$B$3)/'Part 1-3'!$B$10)*0.49*0.53-(('Part 1-3'!$B$6*0.5*('Part 1-3'!$B$18^2)*'Part 1-3'!$B$7*'Part 1-3'!$B$9)/2) -> 1724.6005
J6: 15 | K6: 0.39 | L6: =1.5-K6 -> 1.11 | M6: ='Part 1-3'!$B$14+(('Part 1-3'!$B$1*L6*'Part 1-3'!$B$3)/'Part 1-3'!$B$10)*'Part 1-3'!$B$5*'Part 1-3'!$B$4+(('Part 1-3'!$B$1*K6*'Part 1-3'!$B$3)/'Part 1-3'!$B$10)*'Part 1-3'!$B$5*'Part 1-3'!$B$4-(('Part 1-3'!$B$6*0.5*('Part 1-3'!$B$18^2)*'Part 1-3'!$B$7*'Part 1-3'!$B$9)/2) -> 1597.2002 | N6: ='Part 1-3'!$B$15+(('Part 1-3'!$B$1*L6*'Part 1-3'!$B$3)/'Part 1-3'!$B$10)*0.49*'Part 1-3'!$B$4+(('Part 1-3'!$B$1*K6*'Part 1-3'!$B$3)/'Part 1-3'!$B$10)*0.49*'Part 1-3'!$B$4-(('Part 1-3'!$B$6*0.5*('Part 1-3'!$B$18^2)*'Part 1-3'!$B$7*'Part 1-3'!$B$9)/2) -> 1537.3221 | O6: ='Part 1-3'!$D$14+(('Part 1-3'!$B$1*L6*'Part 1-3'!$B$3)/'Part 1-3'!$B$10)*'Part 1-3'!$B$5*0.53+(('Part 1-3'!$B$1*K6*'Part 1-3'!$B$3)/'Part 1-3'!$B$10)*'Part 1-3'!$B$5*0.53-(('Part 1-3'!$B$6*0.5*('Part 1-3'!$B$18^2)*'Part 1-3'!$B$7*'Part 1-3'!$B$9)/2) -> 1792.1226 | P6: ='Part 1-3'!$D$15+(('Part 1-3'!$B$1*L6*'Part 1-3'!$B$3)/'Part 1-3'!$B$10)*0.49*0.53+(('Part 1-3'!$B$1*K6*'Part 1-3'!$B$3)/'Part 1-3'!$B$10)*0.49*0.53-(('Part 1-3'!$B$6*0.5*('Part 1-3'!$B$18^2)*'Part 1-3'!$B$7*'Part 1-3'!$B$9)/2) -> 1724.6005
J7: 20 | K7: 0.51 | L7: =1.5-K7 -> 0.99 | M7: ='Part 1-3'!$B$14+(('Part 1-3'!$B$1*L7*'Part 1-3'!$B$3)/'Part 1-3'!$B$10)*'Part 1-3'!$B$5*'Part 1-3'!$B$4+(('Part 1-3'!$B$1*K7*'Part 1-3'!$B$3)/'Part 1-3'!$B$10)*'Part 1-3'!$B$5*'Part 1-3'!$B$4-(('Part 1-3'!$B$6*0.5*('Part 1-3'!$B$18^2)*'Part 1-3'!$B$7*'Part 1-3'!$B$9)/2) -> 1597.2002 | N7: ='Part 1-3'!$B$15+(('Part 1-3'!$B$1*L7*'Part 1-3'!$B$3)/'Part 1-3'!$B$10)*0.49*'Part 1-3'!$B$4+(('Part 1-3'!$B$1*K7*'Part 1-3'!$B$3)/'Part 1-3'!$B$10)*0.49*'Part 1-3'!$B$4-(('Part 1-3'!$B$6*0.5*('Part 1-3'!$B$18^2)*'Part 1-3'!$B$7*'Part 1-3'!$B$9)/2) -> 1537.3221 | O7: ='Part 1-3'!$D$14+(('Part 1-3'!$B$1*L7*'Part 1-3'!$B$3)/'Part 1-3'!$B$10)*'Part 1-3'!$B$5*0.53+(('Part 1-3'!$B$1*K7*'Part 1-3'!$B$3)/'Part 1-3'!$B$10)*'Part 1-3'!$B$5*0.53-(('Part 1-3'!$B$6*0.5*('Part 1-3'!$B$18^2)*'Part 1-3'!$B$7*'Part 1-3'!$B$9)/2) -> 1792.1226 | P7: ='Part 1-3'!$D$15+(('Part 1-3'!$B$1*L7*'Part 1-3'!$B$3)/'Part 1-3'!$B$10)*0.49*0.53+(('Part 1-3'!$B$1*K7*'Part 1-3'!$B$3)/'Part 1-3'!$B$10)*0.49*0.53-(('Part 1-3'!$B$6*0.5*('Part 1-3'!$B$18^2)*'Part 1-3'!$B$7*'Part 1-3'!$B$9)/2) -> 1724.6005
C8: Left Turn | G8: Right Turn | J8: 25 | K8: 0.63 | L8: =1.5-K8 -> 0.87 | M8: ='Part 1-3'!$B$14+(('Part 1-3'!$B$1*L8*'Part 1-3'!$B$3)/'Part 1-3'!$B$10)*'Part 1-3'!$B$5*'Part 1-3'!$B$4+(('Part 1-3'!$B$1*K8*'Part 1-3'!$B$3)/'Part 1-3'!$B$10)*'Part 1-3'!$B$5*'Part 1-3'!$B$4-(('Part 1-3'!$B$6*0.5*('Part 1-3'!$B$18^2)*'Part 1-3'!$B$7*'Part 1-3'!$B$9)/2) -> 1597.2002 | N8: ='Part 1-3'!$B$15+(('Part 1-3'!$B$1*L8*'Part 1-3'!$B$3)/'Part 1-3'!$B$10)*0.49*'Part 1-3'!$B$4+(('Part 1-3'!$B$1*K8*'Part 1-3'!$B$3)/'Part 1-3'!$B$10)*0.49*'Part 1-3'!$B$4-(('Part 1-3'!$B$6*0.5*('Part 1-3'!$B$18^2)*'Part 1-3'!$B$7*'Part 1-3'!$B$9)/2) -> 1537.3221 | O8: ='Part 1-3'!$D$14+(('Part 1-3'!$B$1*L8*'Part 1-3'!$B$3)/'Part 1-3'!$B$10)*'Part 1-3'!$B$5*0.53+(('Part 1-3'!$B$1*K8*'Part 1-3'!$B$3)/'Part 1-3'!$B$10)*'Part 1-3'!$B$5*0.53-(('Part 1-3'!$B$6*0.5*('Part 1-3'!$B$18^2)*'Part 1-3'!$B$7*'Part 1-3'!$B$9)/2) -> 1792.1226 | P8: ='Part 1-3'!$D$15+(('Part 1-3'!$B$1*L8*'Part 1-3'!$B$3)/'Part 1-3'!$B$10)*0.49*0.53+(('Part 1-3'!$B$1*K8*'Part 1-3'!$B$3)/'Part 1-3'!$B$10)*0.49*0.53-(('Part 1-3'!$B$6*0.5*('Part 1-3'!$B$18^2)*'Part 1-3'!$B$7*'Part 1-3'!$B$9)/2) -> 1724.6005
J9: 30 | K9: 0.75 | L9: =1.5-K9 -> 0.75 | M9: ='Part 1-3'!$B$14+(('Part 1-3'!$B$1*L9*'Part 1-3'!$B$3)/'Part 1-3'!$B$10)*'Part 1-3'!$B$5*'Part 1-3'!$B$4+(('Part 1-3'!$B$1*K9*'Part 1-3'!$B$3)/'Part 1-3'!$B$10)*'Part 1-3'!$B$5*'Part 1-3'!$B$4-(('Part 1-3'!$B$6*0.5*('Part 1-3'!$B$18^2)*'Part 1-3'!$B$7*'Part 1-3'!$B$9)/2) -> 1597.2002 | N9: ='Part 1-3'!$B$15+(('Part 1-3'!$B$1*L9*'Part 1-3'!$B$3)/'Part 1-3'!$B$10)*0.49*'Part 1-3'!$B$4+(('Part 1-3'!$B$1*K9*'Part 1-3'!$B$3)/'Part 1-3'!$B$10)*0.49*'Part 1-3'!$B$4-(('Part 1-3'!$B$6*0.5*('Part 1-3'!$B$18^2)*'Part 1-3'!$B$7*'Part 1-3'!$B$9)/2) -> 1537.3221 | O9: ='Part 1-3'!$D$14+(('Part 1-3'!$B$1*L9*'Part 1-3'!$B$3)/'Part 1-3'!$B$10)*'Part 1-3'!$B$5*0.53+(('Part 1-3'!$B$1*K9*'Part 1-3'!$B$3)/'Part 1-3'!$B$10)*'Part 1-3'!$B$5*0.53-(('Part 1-3'!$B$6*0.5*('Part 1-3'!$B$18^2)*'Part 1-3'!$B$7*'Part 1-3'!$B$9)/2) -> 1792.1226 | P9: ='Part 1-3'!$D$15+(('Part 1-3'!$B$1*L9*'Part 1-3'!$B$3)/'Part 1-3'!$B$10)*0.49*0.53+(('Part 1-3'!$B$1*K9*'Part 1-3'!$B$3)/'Part 1-3'!$B$10)*0.49*0.53-(('Part 1-3'!$B$6*0.5*('Part 1-3'!$B$18^2)*'Part 1-3'!$B$7*'Part 1-3'!$B$9)/2) -> 1724.6005
J10: 35 | K10: 0.86 | L10: =1.5-K10 -> 0.64 | M10: ='Part 1-3'!$B$14+(('Part 1-3'!$B$1*L10*'Part 1-3'!$B$3)/'Part 1-3'!$B$10)*'Part 1-3'!$B$5*'Part 1-3'!$B$4+(('Part 1-3'!$B$1*K10*'Part 1-3'!$B$3)/'Part 1-3'!$B$10)*'Part 1-3'!$B$5*'Part 1-3'!$B$4-(('Part 1-3'!$B$6*0.5*('Part 1-3'!$B$18^2)*'Part 1-3'!$B$7*'Part 1-3'!$B$9)/2) -> 1597.2002 | N10: ='Part 1-3'!$B$15+(('Part 1-3'!$B$1*L10*'Part 1-3'!$B$3)/'Part 1-3'!$B$10)*0.49*'Part 1-3'!$B$4+(('Part 1-3'!$B$1*K10*'Part 1-3'!$B$3)/'Part 1-3'!$B$10)*0.49*'Part 1-3'!$B$4-(('Part 1-3'!$B$6*0.5*('Part 1-3'!$B$18^2)*'Part 1-3'!$B$7*'Part 1-3'!$B$9)/2) -> 1537.3221 | O10: ='Part 1-3'!$D$14+(('Part 1-3'!$B$1*L10*'Part 1-3'!$B$3)/'Part 1-3'!$B$10)*'Part 1-3'!$B$5*0.53+(('Part 1-3'!$B$1*K10*'Part 1-3'!$B$3)/'Part 1-3'!$B$10)*'Part 1-3'!$B$5*0.53-(('Part 1-3'!$B$6*0.5*('Part 1-3'!$B$18^2)*'Part 1-3'!$B$7*'Part 1-3'!$B$9)/2) -> 1792.1226 | P10: ='Part 1-3'!$D$15+(('Part 1-3'!$B$1*L10*'Part 1-3'!$B$3)/'Part 1-3'!$B$10)*0.49*0.53+(('Part 1-3'!$B$1*K10*'Part 1-3'!$B$3)/'Part 1-3'!$B$10)*0.49*0.53-(('Part 1-3'!$B$6*0.5*('Part 1-3'!$B$18^2)*'Part 1-3'!$B$7*'Part 1-3'!$B$9)/2) -> 1724.6005
J11: 40 | K11: 0.96 | L11: =1.5-K11 -> 0.54 | M11: ='Part 1-3'!$B$14+(('Part 1-3'!$B$1*L11*'Part 1-3'!$B$3)/'Part 1-3'!$B$10)*'Part 1-3'!$B$5*'Part 1-3'!$B$4+(('Part 1-3'!$B$1*K11*'Part 1-3'!$B$3)/'Part 1-3'!$B$10)*'Part 1-3'!$B$5*'Part 1-3'!$B$4-(('Part 1-3'!$B$6*0.5*('Part 1-3'!$B$18^2)*'Part 1-3'!$B$7*'Part 1-3'!$B$9)/2) -> 1597.2002 | N11: ='Part 1-3'!$B$15+(('Part 1-3'!$B$1*L11*'Part 1-3'!$B$3)/'Part 1-3'!$B$10)*0.49*'Part 1-3'!$B$4+(('Part 1-3'!$B$1*K11*'Part 1-3'!$B$3)/'Part 1-3'!$B$10)*0.49*'Part 1-3'!$B$4-(('Part 1-3'!$B$6*0.5*('Part 1-3'!$B$18^2)*'Part 1-3'!$B$7*'Part 1-3'!$B$9)/2) -> 1537.3221 | O11: ='Part 1-3'!$D$14+(('Part 1-3'!$B$1*L11*'Part 1-3'!$B$3)/'Part 1-3'!$B$10)*'Part 1-3'!$B$5*0.53+(('Part 1-3'!$B$1*K11*'Part 1-3'!$B$3)/'Part 1-3'!$B$10)*'Part 1-3'!$B$5*0.53-(('Part 1-3'!$B$6*0.5*('Part 1-3'!$B$18^2)*'Part 1-3'!$B$7*'Part 1-3'!$B$9)/2) -> 1792.1226 | P11: ='Part 1-3'!$D$15+(('Part 1-3'!$B$1*L11*'Part 1-3'!$B$3)/'Part 1-3'!$B$10)*0.49*0.53+(('Part 1-3'!$B$1*K11*'Part 1-3'!$B$3)/'Part 1-3'!$B$10)*0.49*0.53-(('Part 1-3'!$B$6*0.5*('Part 1-3'!$B$18^2)*'Part 1-3'!$B$7*'Part 1-3'!$B$9)/2) -> 1724.6005
J12: 45 | K12: 1.06 | L12: =1.5-K12 -> 0.44 | M12: ='Part 1-3'!$B$14+(('Part 1-3'!$B$1*L12*'Part 1-3'!$B$3)/'Part 1-3'!$B$10)*'Part 1-3'!$B$5*'Part 1-3'!$B$4+(('Part 1-3'!$B$1*K12*'Part 1-3'!$B$3)/'Part 1-3'!$B$10)*'Part 1-3'!$B$5*'Part 1-3'!$B$4-(('Part 1-3'!$B$6*0.5*('Part 1-3'!$B$18^2)*'Part 1-3'!$B$7*'Part 1-3'!$B$9)/2) -> 1597.2002 | N12: ='Part 1-3'!$B$15+(('Part 1-3'!$B$1*L12*'Part 1-3'!$B$3)/'Part 1-3'!$B$10)*0.49*'Part 1-3'!$B$4+(('Part 1-3'!$B$1*K12*'Part 1-3'!$B$3)/'Part 1-3'!$B$10)*0.49*'Part 1-3'!$B$4-(('Part 1-3'!$B$6*0.5*('Part 1-3'!$B$18^2)*'Part 1-3'!$B$7*'Part 1-3'!$B$9)/2) -> 1537.3221 | O12: ='Part 1-3'!$D$14+(('Part 1-3'!$B$1*L12*'Part 1-3'!$B$3)/'Part 1-3'!$B$10)*'Part 1-3'!$B$5*0.53+(('Part 1-3'!$B$1*K12*'Part 1-3'!$B$3)/'Part 1-3'!$B$10)*'Part 1-3'!$B$5*0.53-(('Part 1-3'!$B$6*0.5*('Part 1-3'!$B$18^2)*'Part 1-3'!$B$7*'Part 1-3'!$B$9)/2) -> 1792.1226 | P12: ='Part 1-3'!$D$15+(('Part 1-3'!$B$1*L12*'Part 1-3'!$B$3)/'Part 1-3'!$B$10)*0.49*0.53+(('Part 1-3'!$B$1*K12*'Part 1-3'!$B$3)/'Part 1-3'!$B$10)*0.49*0.53-(('Part 1-3'!$B$6*0.5*('Part 1-3'!$B$18^2)*'Part 1-3'!$B$7*'Part 1-3'!$B$9)/2) -> 1724.6005
J13: 50 | K13: 1.15 | L13: =1.5-K13 -> 0.35 | M13: ='Part 1-3'!$B$14+(('Part 1-3'!$B$1*L13*'Part 1-3'!$B$3)/'Part 1-3'!$B$10)*'Part 1-3'!$B$5*'Part 1-3'!$B$4+(('Part 1-3'!$B$1*K13*'Part 1-3'!$B$3)/'Part 1-3'!$B$10)*'Part 1-3'!$B$5*'Part 1-3'!$B$4-(('Part 1-3'!$B$6*0.5*('Part 1-3'!$B$18^2)*'Part 1-3'!$B$7*'Part 1-3'!$B$9)/2) -> 1597.2002 | N13: ='Part 1-3'!$B$15+(('Part 1-3'!$B$1*L13*'Part 1-3'!$B$3)/'Part 1-3'!$B$10)*0.49*'Part 1-3'!$B$4+(('Part 1-3'!$B$1*K13*'Part 1-3'!$B$3)/'Part 1-3'!$B$10)*0.49*'Part 1-3'!$B$4-(('Part 1-3'!$B$6*0.5*('Part 1-3'!$B$18^2)*'Part 1-3'!$B$7*'Part 1-3'!$B$9)/2) -> 1537.3221 | O13: ='Part 1-3'!$D$14+(('Part 1-3'!$B$1*L13*'Part 1-3'!$B$3)/'Part 1-3'!$B$10)*'Part 1-3'!$B$5*0.53+(('Part 1-3'!$B$1*K13*'Part 1-3'!$B$3)/'Part 1-3'!$B$10)*'Part 1-3'!$B$5*0.53-(('Part 1-3'!$B$6*0.5*('Part 1-3'!$B$18^2)*'Part 1-3'!$B$7*'Part 1-3'!$B$9)/2) -> 1792.1226 | P13: ='Part 1-3'!$D$15+(('Part 1-3'!$B$1*L13*'Part 1-3'!$B$3)/'Part 1-3'!$B$10)*0.49*0.53+(('Part 1-3'!$B$1*K13*'Part 1-3'!$B$3)/'Part 1-3'!$B$10)*0.49*0.53-(('Part 1-3'!$B$6*0.5*('Part 1-3'!$B$18^2)*'Part 1-3'!$B$7*'Part 1-3'!$B$9)/2) -> 1724.6005
D14: Max Braking | J14: 55 | K14: 1.22 | L14: =1.5-K14 -> 0.28 | M14: ='Part 1-3'!$B$14+(('Part 1-3'!$B$1*L14*'Part 1-3'!$B$3)/'Part 1-3'!$B$10)*'Part 1-3'!$B$5*'Part 1-3'!$B$4+(('Part 1-3'!$B$1*K14*'Part 1-3'!$B$3)/'Part 1-3'!$B$10)*'Part 1-3'!$B$5*'Part 1-3'!$B$4-(('Part 1-3'!$B$6*0.5*('Part 1-3'!$B$18^2)*'Part 1-3'!$B$7*'Part 1-3'!$B$9)/2) -> 1597.2002 | N14: ='Part 1-3'!$B$15+(('Part 1-3'!$B$1*L14*'Part 1-3'!$B$3)/'Part 1-3'!$B$10)*0.49*'Part 1-3'!$B$4+(('Part 1-3'!$B$1*K14*'Part 1-3'!$B$3)/'Part 1-3'!$B$10)*0.49*'Part 1-3'!$B$4-(('Part 1-3'!$B$6*0.5*('Part 1-3'!$B$18^2)*'Part 1-3'!$B$7*'Part 1-3'!$B$9)/2) -> 1537.3221 | O14: ='Part 1-3'!$D$14+(('Part 1-3'!$B$1*L14*'Part 1-3'!$B$3)/'Part 1-3'!$B$10)*'Part 1-3'!$B$5*0.53+(('Part 1-3'!$B$1*K14*'Part 1-3'!$B$3)/'Part 1-3'!$B$10)*'Part 1-3'!$B$5*0.53-(('Part 1-3'!$B$6*0.5*('Part 1-3'!$B$18^2)*'Part 1-3'!$B$7*'Part 1-3'!$B$9)/2) -> 1792.1226 | P14: ='Part 1-3'!$D$15+(('Part 1-3'!$B$1*L14*'Part 1-3'!$B$3)/'Part 1-3'!$B$10)*0.49*0.53+(('Part 1-3'!$B$1*K14*'Part 1-3'!$B$3)/'Part 1-3'!$B$10)*0.49*0.53-(('Part 1-3'!$B$6*0.5*('Part 1-3'!$B$18^2)*'Part 1-3'!$B$7*'Part 1-3'!$B$9)/2) -> 1724.6005
B15: Max Accel | D15: 1.5G | H15: B | J15: 60 | K15: 1.3 | L15: =1.5-K15 -> 0.2 | M15: ='Part 1-3'!$B$14+(('Part 1-3'!$B$1*L15*'Part 1-3'!$B$3)/'Part 1-3'!$B$10)*'Part 1-3'!$B$5*'Part 1-3'!$B$4+(('Part 1-3'!$B$1*K15*'Part 1-3'!$B$3)/'Part 1-3'!$B$10)*'Part 1-3'!$B$5*'Part 1-3'!$B$4-(('Part 1-3'!$B$6*0.5*('Part 1-3'!$B$18^2)*'Part 1-3'!$B$7*'Part 1-3'!$B$9)/2) -> 1597.2002 | N15: ='Part 1-3'!$B$15+(('Part 1-3'!$B$1*L15*'Part 1-3'!$B$3)/'Part 1-3'!$B$10)*0.49*'Part 1-3'!$B$4+(('Part 1-3'!$B$1*K15*'Part 1-3'!$B$3)/'Part 1-3'!$B$10)*0.49*'Part 1-3'!$B$4-(('Part 1-3'!$B$6*0.5*('Part 1-3'!$B$18^2)*'Part 1-3'!$B$7*'Part 1-3'!$B$9)/2) -> 1537.3221 | O15: ='Part 1-3'!$D$14+(('Part 1-3'!$B$1*L15*'Part 1-3'!$B$3)/'Part 1-3'!$B$10)*'Part 1-3'!$B$5*0.53+(('Part 1-3'!$B$1*K15*'Part 1-3'!$B$3)/'Part 1-3'!$B$10)*'Part 1-3'!$B$5*0.53-(('Part 1-3'!$B$6*0.5*('Part 1-3'!$B$18^2)*'Part 1-3'!$B$7*'Part 1-3'!$B$9)/2) -> 1792.1226 | P15: ='Part 1-3'!$D$15+(('Part 1-3'!$B$1*L15*'Part 1-3'!$B$3)/'Part 1-3'!$B$10)*0.49*0.53+(('Part 1-3'!$B$1*K15*'Part 1-3'!$B$3)/'Part 1-3'!$B$10)*0.49*0.53-(('Part 1-3'!$B$6*0.5*('Part 1-3'!$B$18^2)*'Part 1-3'!$B$7*'Part 1-3'!$B$9)/2) -> 1724.6005
I16: A=45° | J16: 65 | K16: 1.36 | L16: =1.5-K16 -> 0.14 | M16: ='Part 1-3'!$B$14+(('Part 1-3'!$B$1*L16*'Part 1-3'!$B$3)/'Part 1-3'!$B$10)*'Part 1-3'!$B$5*'Part 1-3'!$B$4+(('Part 1-3'!$B$1*K16*'Part 1-3'!$B$3)/'Part 1-3'!$B$10)*'Part 1-3'!$B$5*'Part 1-3'!$B$4-(('Part 1-3'!$B$6*0.5*('Part 1-3'!$B$18^2)*'Part 1-3'!$B$7*'Part 1-3'!$B$9)/2) -> 1597.2002 | N16: ='Part 1-3'!$B$15+(('Part 1-3'!$B$1*L16*'Part 1-3'!$B$3)/'Part 1-3'!$B$10)*0.49*'Part 1-3'!$B$4+(('Part 1-3'!$B$1*K16*'Part 1-3'!$B$3)/'Part 1-3'!$B$10)*0.49*'Part 1-3'!$B$4-(('Part 1-3'!$B$6*0.5*('Part 1-3'!$B$18^2)*'Part 1-3'!$B$7*'Part 1-3'!$B$9)/2) -> 1537.3221 | O16: ='Part 1-3'!$D$14+(('Part 1-3'!$B$1*L16*'Part 1-3'!$B$3)/'Part 1-3'!$B$10)*'Part 1-3'!$B$5*0.53+(('Part 1-3'!$B$1*K16*'Part 1-3'!$B$3)/'Part 1-3'!$B$10)*'Part 1-3'!$B$5*0.53-(('Part 1-3'!$B$6*0.5*('Part 1-3'!$B$18^2)*'Part 1-3'!$B$7*'Part 1-3'!$B$9)/2) -> 1792.1226 | P16: ='Part 1-3'!$D$15+(('Part 1-3'!$B$1*L16*'Part 1-3'!$B$3)/'Part 1-3'!$B$10)*0.49*0.53+(('Part 1-3'!$B$1*K16*'Part 1-3'!$B$3)/'Part 1-3'!$B$10)*0.49*0.53-(('Part 1-3'!$B$6*0.5*('Part 1-3'!$B$18^2)*'Part 1-3'!$B$7*'Part 1-3'!$B$9)/2) -> 1724.6005
I17: c=1.5 | J17: 70 | K17: 1.41 | L17: =1.5-K17 -> 0.09 | M17: ='Part 1-3'!$B$14+(('Part 1-3'!$B$1*L17*'Part 1-3'!$B$3)/'Part 1-3'!$B$10)*'Part 1-3'!$B$5*'Part 1-3'!$B$4+(('Part 1-3'!$B$1*K17*'Part 1-3'!$B$3)/'Part 1-3'!$B$10)*'Part 1-3'!$B$5*'Part 1-3'!$B$4-(('Part 1-3'!$B$6*0.5*('Part 1-3'!$B$18^2)*'Part 1-3'!$B$7*'Part 1-3'!$B$9)/2) -> 1597.2002 | N17: ='Part 1-3'!$B$15+(('Part 1-3'!$B$1*L17*'Part 1-3'!$B$3)/'Part 1-3'!$B$10)*0.49*'Part 1-3'!$B$4+(('Part 1-3'!$B$1*K17*'Part 1-3'!$B$3)/'Part 1-3'!$B$10)*0.49*'Part 1-3'!$B$4-(('Part 1-3'!$B$6*0.5*('Part 1-3'!$B$18^2)*'Part 1-3'!$B$7*'Part 1-3'!$B$9)/2) -> 1537.3221 | O17: ='Part 1-3'!$D$14+(('Part 1-3'!$B$1*L17*'Part 1-3'!$B$3)/'Part 1-3'!$B$10)*'Part 1-3'!$B$5*0.53+(('Part 1-3'!$B$1*K17*'Part 1-3'!$B$3)/'Part 1-3'!$B$10)*'Part 1-3'!$B$5*0.53-(('Part 1-3'!$B$6*0.5*('Part 1-3'!$B$18^2)*'Part 1-3'!$B$7*'Part 1-3'!$B$9)/2) -> 1792.1226 | P17: ='Part 1-3'!$D$15+(('Part 1-3'!$B$1*L17*'Part 1-3'!$B$3)/'Part 1-3'!$B$10)*0.49*0.53+(('Part 1-3'!$B$1*K17*'Part 1-3'!$B$3)/'Part 1-3'!$B$10)*0.49*0.53-(('Part 1-3'!$B$6*0.5*('Part 1-3'!$B$18^2)*'Part 1-3'!$B$7*'Part 1-3'!$B$9)/2) -> 1724.6005
G18: 1.5 | H18: a | J18: 75 | K18: 1.45 | L18: =1.5-K18 -> 0.05 | M18: ='Part 1-3'!$B$14+(('Part 1-3'!$B$1*L18*'Part 1-3'!$B$3)/'Part 1-3'!$B$10)*'Part 1-3'!$B$5*'Part 1-3'!$B$4+(('Part 1-3'!$B$1*K18*'Part 1-3'!$B$3)/'Part 1-3'!$B$10)*'Part 1-3'!$B$5*'Part 1-3'!$B$4-(('Part 1-3'!$B$6*0.5*('Part 1-3'!$B$18^2)*'Part 1-3'!$B$7*'Part 1-3'!$B$9)/2) -> 1597.2002 | N18: ='Part 1-3'!$B$15+(('Part 1-3'!$B$1*L18*'Part 1-3'!$B$3)/'Part 1-3'!$B$10)*0.49*'Part 1-3'!$B$4+(('Part 1-3'!$B$1*K18*'Part 1-3'!$B$3)/'Part 1-3'!$B$10)*0.49*'Part 1-3'!$B$4-(('Part 1-3'!$B$6*0.5*('Part 1-3'!$B$18^2)*'Part 1-3'!$B$7*'Part 1-3'!$B$9)/2) -> 1537.3221 | O18: ='Part 1-3'!$D$14+(('Part 1-3'!$B$1*L18*'Part 1-3'!$B$3)/'Part 1-3'!$B$10)*'Part 1-3'!$B$5*0.53+(('Part 1-3'!$B$1*K18*'Part 1-3'!$B$3)/'Part 1-3'!$B$10)*'Part 1-3'!$B$5*0.53-(('Part 1-3'!$B$6*0.5*('Part 1-3'!$B$18^2)*'Part 1-3'!$B$7*'Part 1-3'!$B$9)/2) -> 1792.1226 | P18: ='Part 1-3'!$D$15+(('Part 1-3'!$B$1*L18*'Part 1-3'!$B$3)/'Part 1-3'!$B$10)*0.49*0.53+(('Part 1-3'!$B$1*K18*'Part 1-3'!$B$3)/'Part 1-3'!$B$10)*0.49*0.53-(('Part 1-3'!$B$6*0.5*('Part 1-3'!$B$18^2)*'Part 1-3'!$B$7*'Part 1-3'!$B$9)/2) -> 1724.6005
I19: Sin(A)=a/1.5 | J19: 80 | K19: 1.48 | L19: =1.5-K19 -> 0.02 | M19: ='Part 1-3'!$B$14+(('Part 1-3'!$B$1*L19*'Part 1-3'!$B$3)/'Part 1-3'!$B$10)*'Part 1-3'!$B$5*'Part 1-3'!$B$4+(('Part 1-3'!$B$1*K19*'Part 1-3'!$B$3)/'Part 1-3'!$B$10)*'Part 1-3'!$B$5*'Part 1-3'!$B$4-(('Part 1-3'!$B$6*0.5*('Part 1-3'!$B$18^2)*'Part 1-3'!$B$7*'Part 1-3'!$B$9)/2) -> 1597.2002 | N19: ='Part 1-3'!$B$15+(('Part 1-3'!$B$1*L19*'Part 1-3'!$B$3)/'Part 1-3'!$B$10)*0.49*'Part 1-3'!$B$4+(('Part 1-3'!$B$1*K19*'Part 1-3'!$B$3)/'Part 1-3'!$B$10)*0.49*'Part 1-3'!$B$4-(('Part 1-3'!$B$6*0.5*('Part 1-3'!$B$18^2)*'Part 1-3'!$B$7*'Part 1-3'!$B$9)/2) -> 1537.3221 | O19: ='Part 1-3'!$D$14+(('Part 1-3'!$B$1*L19*'Part 1-3'!$B$3)/'Part 1-3'!$B$10)*'Part 1-3'!$B$5*0.53+(('Part 1-3'!$B$1*K19*'Part 1-3'!$B$3)/'Part 1-3'!$B$10)*'Part 1-3'!$B$5*0.53-(('Part 1-3'!$B$6*0.5*('Part 1-3'!$B$18^2)*'Part 1-3'!$B$7*'Part 1-3'!$B$9)/2) -> 1792.1226 | P19: ='Part 1-3'!$D$15+(('Part 1-3'!$B$1*L19*'Part 1-3'!$B$3)/'Part 1-3'!$B$10)*0.49*0.53+(('Part 1-3'!$B$1*K19*'Part 1-3'!$B$3)/'Part 1-3'!$B$10)*0.49*0.53-(('Part 1-3'!$B$6*0.5*('Part 1-3'!$B$18^2)*'Part 1-3'!$B$7*'Part 1-3'!$B$9)/2) -> 1724.6005
I20: a=1.5Sin(45) | J20: 85 | K20: 1.49 | L20: =1.5-K20 -> 0.01 | M20: ='Part 1-3'!$B$14+(('Part 1-3'!$B$1*L20*'Part 1-3'!$B$3)/'Part 1-3'!$B$10)*'Part 1-3'!$B$5*'Part 1-3'!$B$4+(('Part 1-3'!$B$1*K20*'Part 1-3'!$B$3)/'Part 1-3'!$B$10)*'Part 1-3'!$B$5*'Part 1-3'!$B$4-(('Part 1-3'!$B$6*0.5*('Part 1-3'!$B$18^2)*'Part 1-3'!$B$7*'Part 1-3'!$B$9)/2) -> 1597.2002 | N20: ='Part 1-3'!$B$15+(('Part 1-3'!$B$1*L20*'Part 1-3'!$B$3)/'Part 1-3'!$B$10)*0.49*'Part 1-3'!$B$4+(('Part 1-3'!$B$1*K20*'Part 1-3'!$B$3)/'Part 1-3'!$B$10)*0.49*'Part 1-3'!$B$4-(('Part 1-3'!$B$6*0.5*('Part 1-3'!$B$18^2)*'Part 1-3'!$B$7*'Part 1-3'!$B$9)/2) -> 1537.3221 | O20: ='Part 1-3'!$D$14+(('Part 1-3'!$B$1*L20*'Part 1-3'!$B$3)/'Part 1-3'!$B$10)*'Part 1-3'!$B$5*0.53+(('Part 1-3'!$B$1*K20*'Part 1-3'!$B$3)/'Part 1-3'!$B$10)*'Part 1-3'!$B$5*0.53-(('Part 1-3'!$B$6*0.5*('Part 1-3'!$B$18^2)*'Part 1-3'!$B$7*'Part 1-3'!$B$9)/2) -> 1792.1226 | P20: ='Part 1-3'!$D$15+(('Part 1-3'!$B$1*L20*'Part 1-3'!$B$3)/'Part 1-3'!$B$10)*0.49*0.53+(('Part 1-3'!$B$1*K20*'Part 1-3'!$B$3)/'Part 1-3'!$B$10)*0.49*0.53-(('Part 1-3'!$B$6*0.5*('Part 1-3'!$B$18^2)*'Part 1-3'!$B$7*'Part 1-3'!$B$9)/2) -> 1724.6005
D21: Right Turn | F21: A | G21: b | H21: C | J21: 90 | K21: 1.5 | L21: =1.5-K21 -> 0 | M21: ='Part 1-3'!$B$14+(('Part 1-3'!$B$1*L21*'Part 1-3'!$B$3)/'Part 1-3'!$B$10)*'Part 1-3'!$B$5*'Part 1-3'!$B$4+(('Part 1-3'!$B$1*K21*'Part 1-3'!$B$3)/'Part 1-3'!$B$10)*'Part 1-3'!$B$5*'Part 1-3'!$B$4-(('Part 1-3'!$B$6*0.5*('Part 1-3'!$B$18^2)*'Part 1-3'!$B$7*'Part 1-3'!$B$9)/2) -> 1597.2002 | N21: ='Part 1-3'!$B$15+(('Part 1-3'!$B$1*L21*'Part 1-3'!$B$3)/'Part 1-3'!$B$10)*0.49*'Part 1-3'!$B$4+(('Part 1-3'!$B$1*K21*'Part 1-3'!$B$3)/'Part 1-3'!$B$10)*0.49*'Part 1-3'!$B$4-(('Part 1-3'!$B$6*0.5*('Part 1-3'!$B$18^2)*'Part 1-3'!$B$7*'Part 1-3'!$B$9)/2) -> 1537.3221 | O21: ='Part 1-3'!$D$14+(('Part 1-3'!$B$1*L21*'Part 1-3'!$B$3)/'Part 1-3'!$B$10)*'Part 1-3'!$B$5*0.53+(('Part 1-3'!$B$1*K21*'Part 1-3'!$B$3)/'Part 1-3'!$B$10)*'Part 1-3'!$B$5*0.53-(('Part 1-3'!$B$6*0.5*('Part 1-3'!$B$18^2)*'Part 1-3'!$B$7*'Part 1-3'!$B$9)/2) -> 1792.1226 | P21: ='Part 1-3'!$D$15+(('Part 1-3'!$B$1*L21*'Part 1-3'!$B$3)/'Part 1-3'!$B$10)*0.49*0.53+(('Part 1-3'!$B$1*K21*'Part 1-3'!$B$3)/'Part 1-3'!$B$10)*0.49*0.53-(('Part 1-3'!$B$6*0.5*('Part 1-3'!$B$18^2)*'Part 1-3'!$B$7*'Part 1-3'!$B$9)/2) -> 1724.6005
K22: Lateral and Longitudinal acceleration is proportion to each other and add togeth to make 1.5 combined acceleration
