Workbook

Sheet Part 1-3
A1: Mass | B1: 628 | C1: kg
A2: Wheelbase | B2: 2.8 | C2: m
A3: CoG Height | B3: 0.36 | C3: m
A4: SWD (Front) | B4: 0.47 | C4: %
A5: SWD (Left) | B5: 0.51 | C5: %
A6: Cl | B6: -0.62
A7: A | B7: 1.2 | C7: m2
A8: Air Density | B8: 1.223 | C8: kg/m3
A9: CoP | B9: 0.42 | C9: %
A10: Average Track | B10: 1.62 | C10: m
A11: Maximum G | B11: 1.5 | C11: G
A13: Front static verticle | B13: =B4*B1*9.81 -> 2895.5196 | C13: rear static verticle | D13: =0.53*B1*9.81 -> 3265.1604
A14: front left | B14: =B13*0.51 -> 1476.715 | C14: rear left | D14: =D13*0.51 -> 1665.2318
A15: front right | B15: =B13*0.49 -> 1418.8046 | C15: rear right | D15: =D13*0.49 -> 1599.9286
A17: Aero Load | B17: =B6*0.5*(B8*B18^2)*B7 -> -409.4604
A18: Volcity | B18: 30 | C18: m/s | G18: Long G-Force | H18: Lat Accel | I18: Corner Weight | M18: Long G-Froce | N18: Lat Accel | O18: Corner Weight | Q18: Front Load Transfer
F19: Front Left | G19: 0 | H19: 0 | I19: =$B$14+(($B$1*G19*$B$3)/$B$10)*$B$5*$B$4-(($B$6*0.5*($B$18^2)*$B$7*$B$9)/2) -> 1547.023 | L19: Front Right | M19: 0 | N19: 0 | O19: =$B$15-(($B$1*M19*$B$3)/$B$10)*0.49*$B$4-(($B$6*0.5*($B$18^2)*$B$7*$B$9)/2) -> 1489.1126 | Q19: =I19-O19 -> 57.910392
G20: 0.1 | H20: 0 | I20: =$B$14+(($B$1*G20*$B$3)/$B$10)*$B$5*$B$4-(($B$6*0.5*($B$18^2)*$B$7*$B$9)/2) -> 1550.3681 | M20: 0.1 | N20: 0 | O20: =$B$15-(($B$1*M20*$B$3)/$B$10)*0.49*$B$4-(($B$6*0.5*($B$18^2)*$B$7*$B$9)/2) -> 1485.8986 | Q20: =I20-O20 -> 64.469503
G21: 0.2 | H21: 0 | I21: =$B$14+(($B$1*G21*$B$3)/$B$10)*$B$5*$B$4-(($B$6*0.5*($B$18^2)*$B$7*$B$9)/2) -> 1553.7133 | M21: 0.2 | N21: 0 | O21: =$B$15-(($B$1*M21*$B$3)/$B$10)*0.49*$B$4-(($B$6*0.5*($B$18^2)*$B$7*$B$9)/2) -> 1482.6847 | Q21: =I21-O21 -> 71.028614
G22: 0.3 | H22: 0 | I22: =$B$14+(($B$1*G22*$B$3)/$B$10)*$B$5*$B$4-(($B$6*0.5*($B$18^2)*$B$7*$B$9)/2) -> 1557.0584 | M22: 0.3 | N22: 0 | O22: =$B$15-(($B$1*M22*$B$3)/$B$10)*0.49*$B$4-(($B$6*0.5*($B$18^2)*$B$7*$B$9)/2) -> 1479.4707 | Q22: =I22-O22 -> 77.587725
G23: 0.4 | H23: 0 | I23: =$B$14+(($B$1*G23*$B$3)/$B$10)*$B$5*$B$4-(($B$6*0.5*($B$18^2)*$B$7*$B$9)/2) -> 1560.4036 | M23: 0.4 | N23: 0 | O23: =$B$15-(($B$1*M23*$B$3)/$B$10)*0.49*$B$4-(($B$6*0.5*($B$18^2)*$B$7*$B$9)/2) -> 1476.2567 | Q23: =I23-O23 -> 84.146836
G24: 0.5 | H24: 0 | I24: =$B$14+(($B$1*G24*$B$3)/$B$10)*$B$5*$B$4-(($B$6*0.5*($B$18^2)*$B$7*$B$9)/2) -> 1563.7487 | M24: 0.5 | N24: 0 | O24: =$B$15-(($B$1*M24*$B$3)/$B$10)*0.49*$B$4-(($B$6*0.5*($B$18^2)*$B$7*$B$9)/2) -> 1473.0428 | Q24: =I24-O24 -> 90.705948
G25: 0.6 | H25: 0 | I25: =$B$14+(($B$1*G25*$B$3)/$B$10)*$B$5*$B$4-(($B$6*0.5*($B$18^2)*$B$7*$B$9)/2) -> 1567.0939 | M25: 0.6 | N25: 0 | O25: =$B$15-(($B$1*M25*$B$3)/$B$10)*0.49*$B$4-(($B$6*0.5*($B$18^2)*$B$7*$B$9)/2) -> 1469.8288 | Q25: =I25-O25 -> 97.265059
G26: 0.7 | H26: 0 | I26: =$B$14+(($B$1*G26*$B$3)/$B$10)*$B$5*$B$4-(($B$6*0.5*($B$18^2)*$B$7*$B$9)/2) -> 1570.439 | M26: 0.7 | N26: 0 | O26: =$B$15-(($B$1*M26*$B$3)/$B$10)*0.49*$B$4-(($B$6*0.5*($B$18^2)*$B$7*$B$9)/2) -> 1466.6149 | Q26: =I26-O26 -> 103.82417
G27: 0.8 | H27: 0 | I27: =$B$14+(($B$1*G27*$B$3)/$B$10)*$B$5*$B$4-(($B$6*0.5*($B$18^2)*$B$7*$B$9)/2) -> 1573.7842 | M27: 0.8 | N27: 0 | O27: =$B$15-(($B$1*M27*$B$3)/$B$10)*0.49*$B$4-(($B$6*0.5*($B$18^2)*$B$7*$B$9)/2) -> 1463.4009 | Q27: =I27-O27 -> 110.38328
G28: 0.9 | H28: 0 | I28: =$B$14+(($B$1*G28*$B$3)/$B$10)*$B$5*$B$4-(($B$6*0.5*($B$18^2)*$B$7*$B$9)/2) -> 1577.1293 | M28: 0.9 | N28: 0 | O28: =$B$15-(($B$1*M28*$B$3)/$B$10)*0.49*$B$4-(($B$6*0.5*($B$18^2)*$B$7*$B$9)/2) -> 1460.1869 | Q28: =I28-O28 -> 116.94239
G29: 1 | H29: 0 | I29: =$B$14+(($B$1*G29*$B$3)/$B$10)*$B$5*$B$4-(($B$6*0.5*($B$18^2)*$B$7*$B$9)/2) -> 1580.4745 | M29: 1 | N29: 0 | O29: =$B$15-(($B$1*M29*$B$3)/$B$10)*0.49*$B$4-(($B$6*0.5*($B$18^2)*$B$7*$B$9)/2) -> 1456.973 | Q29: =I29-O29 -> 123.5015
G30: 1.1 | H30: 0 | I30: =$B$14+(($B$1*G30*$B$3)/$B$10)*$B$5*$B$4-(($B$6*0.5*($B$18^2)*$B$7*$B$9)/2) -> 1583.8196 | M30: 1.1 | N30: 0 | O30: =$B$15-(($B$1*M30*$B$3)/$B$10)*0.49*$B$4-(($B$6*0.5*($B$18^2)*$B$7*$B$9)/2) -> 1453.759 | Q30: =I30-O30 -> 130.06061
G31: 1.2 | H31: 0 | I31: =$B$14+(($B$1*G31*$B$3)/$B$10)*$B$5*$B$4-(($B$6*0.5*($B$18^2)*$B$7*$B$9)/2) -> 1587.1648 | M31: 1.2 | N31: 0 | O31: =$B$15-(($B$1*M31*$B$3)/$B$10)*0.49*$B$4-(($B$6*0.5*($B$18^2)*$B$7*$B$9)/2) -> 1450.545 | Q31: =I31-O31 -> 136.61973
... G34: 1.5 | H34: 0 | I34: =$B$14+(($B$1*G34*$B$3)/$B$10)*$B$5*$B$4-(($B$6*0.5*($B$18^2)*$B$7*$B$9)/2) -> 1597.2002 | M34: 1.5 | N34: 0 | O34: =$B$15-(($B$1*M34*$B$3)/$B$10)*0.49*$B$4-(($B$6*0.5*($B$18^2)*$B$7*$B$9)/2) -> 1440.9031 | Q34: =I34-O34 -> 156.29706
G35: Long G-Fore | H35: Lat Accel | I35: Corner Weight | M35: Long G-Fore | N35: Lat Accel | O35: Corner Weight | Q35: Rear Load Transfer
F36: Rear Left | G36: 0 | H36: 0 | I36: =$D$14+(($B$1*G36*$B$3)/$B$10)*$B$5*0.53-(($B$6*0.5*($B$18^2)*$B$7*$B$9)/2) -> 1735.5398 | L36: Rear Right | M36: 0 | N36: 0 | O36: =$D$15+-(($B$1*M36*$B$3)/$B$10)*0.49*0.53-(($B$6*0.5*($B$18^2)*$B$7*$B$9)/2) -> 1670.2366 | Q36: =I36-O36 -> 65.303208
G37: 0.1 | H37: 0 | I37: =$D$14+(($B$1*G37*$B$3)/$B$10)*$B$5*0.53-(($B$6*0.5*($B$18^2)*$B$7*$B$9)/2) -> 1739.312 | M37: 0.1 | N37: 0 | O37: =$D$15+-(($B$1*M37*$B$3)/$B$10)*0.49*0.53-(($B$6*0.5*($B$18^2)*$B$7*$B$9)/2) -> 1666.6123 | Q37: =I37-O37 -> 72.699652
G38: 0.2 | H38: 0 | I38: =$D$14+(($B$1*G38*$B$3)/$B$10)*$B$5*0.53-(($B$6*0.5*($B$18^2)*$B$7*$B$9)/2) -> 1743.0842 | M38: 0.2 | N38: 0 | O38: =$D$15+-(($B$1*M38*$B$3)/$B$10)*0.49*0.53-(($B$6*0.5*($B$18^2)*$B$7*$B$9)/2) -> 1662.9881 | Q38: =I38-O38 -> 80.096097
G39: 0.3 | H39: 0 | I39: =$D$14+(($B$1*G39*$B$3)/$B$10)*$B$5*0.53-(($B$6*0.5*($B$18^2)*$B$7*$B$9)/2) -> 1746.8564 | M39: 0.3 | N39: 0 | O39: =$D$15+-(($B$1*M39*$B$3)/$B$10)*0.49*0.53-(($B$6*0.5*($B$18^2)*$B$7*$B$9)/2) -> 1659.3638 | Q39: =I39-O39 -> 87.492541
G40: 0.4 | H40: 0 | I40: =$D$14+(($B$1*G40*$B$3)/$B$10)*$B$5*0.53-(($B$6*0.5*($B$18^2)*$B$7*$B$9)/2) -> 1750.6286 | M40: 0.4 | N40: 0 | O40: =$D$15+-(($B$1*M40*$B$3)/$B$10)*0.49*0.53-(($B$6*0.5*($B$18^2)*$B$7*$B$9)/2) -> 1655.7396 | Q40: =I40-O40 -> 94.888986
G41: 0.5 | H41: 0 | I41: =$D$14+(($B$1*G41*$B$3)/$B$10)*$B$5*0.53-(($B$6*0.5*($B$18^2)*$B$7*$B$9)/2) -> 1754.4007 | M41: 0.5 | N41: 0 | O41: =$D$15+-(($B$1*M41*$B$3)/$B$10)*0.49*0.53-(($B$6*0.5*($B$18^2)*$B$7*$B$9)/2) -> 1652.1153 | Q41: =I41-O41 -> 102.28543
G42: 0.6 | H42: 0 | I42: =$D$14+(($B$1*G42*$B$3)/$B$10)*$B$5*0.53-(($B$6*0.5*($B$18^2)*$B$7*$B$9)/2) -> 1758.1729 | M42: 0.6 | N42: 0 | O42: =$D$15+-(($B$1*M42*$B$3)/$B$10)*0.49*0.53-(($B$6*0.5*($B$18^2)*$B$7*$B$9)/2) -> 1648.491 | Q42: =I42-O42 -> 109.68187
G43: 0.7 | H43: 0 | I43: =$D$14+(($B$1*G43*$B$3)/$B$10)*$B$5*0.53-(($B$6*0.5*($B$18^2)*$B$7*$B$9)/2) -> 1761.9451 | M43: 0.7 | N43: 0 | O43: =$D$15+-(($B$1*M43*$B$3)/$B$10)*0.49*0.53-(($B$6*0.5*($B$18^2)*$B$7*$B$9)/2) -> 1644.8668 | Q43: =I43-O43 -> 117.07832
G44: 0.8 | H44: 0 | I44: =$D$14+(($B$1*G44*$B$3)/$B$10)*$B$5*0.53-(($B$6*0.5*($B$18^2)*$B$7*$B$9)/2) -> 1765.7173 | M44: 0.8 | N44: 0 | O44: =$D$15+-(($B$1*M44*$B$3)/$B$10)*0.49*0.53-(($B$6*0.5*($B$18^2)*$B$7*$B$9)/2) -> 1641.2425 | Q44: =I44-O44 -> 124.47476
G45: 0.9 | H45: 0 | I45: =$D$14+(($B$1*G45*$B$3)/$B$10)*$B$5*0.53-(($B$6*0.5*($B$18^2)*$B$7*$B$9)/2) -> 1769.4895 | M45: 0.9 | N45: 0 | O45: =$D$15+-(($B$1*M45*$B$3)/$B$10)*0.49*0.53-(($B$6*0.5*($B$18^2)*$B$7*$B$9)/2) -> 1637.6183 | Q45: =I45-O45 -> 131.87121
G46: 1 | H46: 0 | I46: =$D$14+(($B$1*G46*$B$3)/$B$10)*$B$5*0.53-(($B$6*0.5*($B$18^2)*$B$7*$B$9)/2) -> 1773.2617 | M46: 1 | N46: 0 | O46: =$D$15+-(($B$1*M46*$B$3)/$B$10)*0.49*0.53-(($B$6*0.5*($B$18^2)*$B$7*$B$9)/2) -> 1633.994 | Q46: =I46-O46 -> 139.26765
G47: 1.1 | H47: 0 | I47: =$D$14+(($B$1*G47*$B$3)/$B$10)*$B$5*0.53-(($B$6*0.5*($B$18^2)*$B$7*$B$9)/2) -> 1777.0339 | M47: 1.1 | N47: 0 | O47: =$D$15+-(($B$1*M47*$B$3)/$B$10)*0.49*0.53-(($B$6*0.5*($B$18^2)*$B$7*$B$9)/2) -> 1630.3698 | Q47: =I47-O47 -> 146.6641
G48: 1.2 | H48: 0 | I48: =$D$14+(($B$1*G48*$B$3)/$B$10)*$B$5*0.53-(($B$6*0.5*($B$18^2)*$B$7*$B$9)/2) -> 1780.806 | M48: 1.2 | N48: 0 | O48: =$D$15+-(($B$1*M48*$B$3)/$B$10)*0.49*0.53-(($B$6*0.5*($B$18^2)*$B$7*$B$9)/2) -> 1626.7455 | Q48: =I48-O48 -> 154.06054
... G51: 1.5 | H51: 0 | I51: =$D$14+(($B$1*G51*$B$3)/$B$10)*$B$5*0.53-(($B$6*0.5*($B$18^2)*$B$7*$B$9)/2) -> 1792.1226 | M51: 1.5 | N51: 0 | O51: =$D$15+-(($B$1*M51*$B$3)/$B$10)*0.49*0.53-(($B$6*0.5*($B$18^2)*$B$7*$B$9)/2) -> 1615.8727 | Q51: =I51-O51 -> 176.24987
G53: Long G-Force | H53: Lat Accel | I53: Corner Weight | M53: Long G-Froce | N53: Lat G-Force | O53: Corner Weight | Q53: Front Load Transfer
F54: Front Left | G54: 0 | H54: 0 | I54: =$B$14+(($B$1*H54*$B$3)/$B$10)*$B$5*$B$4-(($B$6*0.5*($B$18^2)*$B$7*$B$9)/2) -> 1547.023 | L54: Front Right | M54: 0 | N54: 0 | O54: =$B$15-(($B$1*N54*$B$3)/$B$10)*0.49*$B$4-(($B$6*0.5*($B$18^2)*$B$7*$B$9)/2) -> 1489.1126 | Q54: =I54-O54 -> 57.910392
G55: 0 | H55: 0.1 | I55: =$B$14+(($B$1*H55*$B$3)/$B$10)*$B$5*$B$4-(($B$6*0.5*($B$18^2)*$B$7*$B$9)/2) -> 1550.3681 | M55: 0 | N55: 0.1 | O55: =$B$15-(($B$1*N55*$B$3)/$B$10)*0.49*$B$4-(($B$6*0.5*($B$18^2)*$B$7*$B$9)/2) -> 1485.8986 | Q55: =I55-O55 -> 64.469503
G56: 0 | H56: 0.2 | I56: =$B$14+(($B$1*H56*$B$3)/$B$10)*$B$5*$B$4-(($B$6*0.5*($B$18^2)*$B$7*$B$9)/2) -> 1553.7133 | M56: 0 | N56: 0.2 | O56: =$B$15-(($B$1*N56*$B$3)/$B$10)*0.49*$B$4-(($B$6*0.5*($B$18^2)*$B$7*$B$9)/2) -> 1482.6847 | Q56: =I56-O56 -> 71.028614
G57: 0 | H57: 0.3 | I57: =$B$14+(($B$1*H57*$B$3)/$B$10)*$B$5*$B$4-(($B$6*0.5*($B$18^2)*$B$7*$B$9)/2) -> 1557.0584 | M57: 0 | N57: 0.3 | O57: =$B$15-(($B$1*N57*$B$3)/$B$10)*0.49*$B$4-(($B$6*0.5*($B$18^2)*$B$7*$B$9)/2) -> 1479.4707 | Q57: =I57-O57 -> 77.587725
G58: 0 | H58: 0.4 | I58: =$B$14+(($B$1*H58*$B$3)/$B$10)*$B$5*$B$4-(($B$6*0.5*($B$18^2)*$B$7*$B$9)/2) -> 1560.4036 | M58: 0 | N58: 0.4 | O58: =$B$15-(($B$1*N58*$B$3)/$B$10)*0.49*$B$4-(($B$6*0.5*($B$18^2)*$B$7*$B$9)/2) -> 1476.2567 | Q58: =I58-O58 -> 84.146836
G59: 0 | H59: 0.5 | I59: =$B$14+(($B$1*H59*$B$3)/$B$10)*$B$5*$B$4-(($B$6*0.5*($B$18^2)*$B$7*$B$9)/2) -> 1563.7487 | M59: 0 | N59: 0.5 | O59: =$B$15-(($B$1*N59*$B$3)/$B$10)*0.49*$B$4-(($B$6*0.5*($B$18^2)*$B$7*$B$9)/2) -> 1473.0428 | Q59: =I59-O59 -> 90.705948
G60: 0 | H60: 0.6 | I60: =$B$14+(($B$1*H60*$B$3)/$B$10)*$B$5*$B$4-(($B$6*0.5*($B$18^2)*$B$7*$B$9)/2) -> 1567.0939 | M60: 0 | N60: 0.6 | O60: =$B$15-(($B$1*N60*$B$3)/$B$10)*0.49*$B$4-(($B$6*0.5*($B$18^2)*$B$7*$B$9)/2) -> 1469.8288 | Q60: =I60-O60 -> 97.265059
G61: 0 | H61: 0.7 | I61: =$B$14+(($B$1*H61*$B$3)/$B$10)*$B$5*$B$4-(($B$6*0.5*($B$18^2)*$B$7*$B$9)/2) -> 1570.439 | M61: 0 | N61: 0.7 | O61: =$B$15-(($B$1*N61*$B$3)/$B$10)*0.49*$B$4-(($B$6*0.5*($B$18^2)*$B$7*$B$9)/2) -> 1466.6149 | Q61: =I61-O61 -> 103.82417
G62: 0 | H62: 0.8 | I62: =$B$14+(($B$1*H62*$B$3)/$B$10)*$B$5*$B$4-(($B$6*0.5*($B$18^2)*$B$7*$B$9)/2) -> 1573.7842 | M62: 0 | N62: 0.8 | O62: =$B$15-(($B$1*N62*$B$3)/$B$10)*0.49*$B$4-(($B$6*0.5*($B$18^2)*$B$7*$B$9)/2) -> 1463.4009 | Q62: =I62-O62 -> 110.38328
G63: 0 | H63: 0.9 | I63: =$B$14+(($B$1*H63*$B$3)/$B$10)*$B$5*$B$4-(($B$6*0.5*($B$18^2)*$B$7*$B$9)/2) -> 1577.1293 | M63: 0 | N63: 0.9 | O63: =$B$15-(($B$1*N63*$B$3)/$B$10)*0.49*$B$4-(($B$6*0.5*($B$18^2)*$B$7*$B$9)/2) -> 1460.1869 | Q63: =I63-O63 -> 116.94239
G64: 0 | H64: 1 | I64: =$B$14+(($B$1*H64*$B$3)/$B$10)*$B$5*$B$4-(($B$6*0.5*($B$18^2)*$B$7*$B$9)/2) -> 1580.4745 | M64: 0 | N64: 1 | O64: =$B$15-(($B$1*N64*$B$3)/$B$10)*0.49*$B$4-(($B$6*0.5*($B$18^2)*$B$7*$B$9)/2) -> 1456.973 | Q64: =I64-O64 -> 123.5015
G65: 0 | H65: 1.1 | I65: =$B$14+(($B$1*H65*$B$3)/$B$10)*$B$5*$B$4-(($B$6*0.5*($B$18^2)*$B$7*$B$9)/2) -> 1583.8196 | M65: 0 | N65: 1.1 | O65: =$B$15-(($B$1*N65*$B$3)/$B$10)*0.49*$B$4-(($B$6*0.5*($B$18^2)*$B$7*$B$9)/2) -> 1453.759 | Q65: =I65-O65 -> 130.06061
G66: 0 | H66: 1.2 | I66: =$B$14+(($B$1*H66*$B$3)/$B$10)*$B$5*$B$4-(($B$6*0.5*($B$18^2)*$B$7*$B$9)/2) -> 1587.1648 | M66: 0 | N66: 1.2 | O66: =$B$15-(($B$1*N66*$B$3)/$B$10)*0.49*$B$4-(($B$6*0.5*($B$18^2)*$B$7*$B$9)/2) -> 1450.545 | Q66: =I66-O66 -> 136.61973
... G69: 0 | H69: 1.5 | I69: =$B$14+(($B$1*H69*$B$3)/$B$10)*$B$5*$B$4-(($B$6*0.5*($B$18^2)*$B$7*$B$9)/2) -> 1597.2002 | M69: 0 | N69: 1.5 | O69: =$B$15-(($B$1*N69*$B$3)/$B$10)*0.49*$B$4-(($B$6*0.5*($B$18^2)*$B$7*$B$9)/2) -> 1440.9031 | Q69: =I69-O69 -> 156.29706
G70: Long G-Fore | H70: Lat G-Force | I70: Corner Weight | M70: Long G-Fore | N70: Lat G-Force | O70: Corner Weight | Q70: Rear Load Transfer
F71: Rear Left | G71: 0 | H71: 0 | I71: =$D$14+(($B$1*H71*$B$3)/$B$10)*$B$5*0.53-(($B$6*0.5*($B$18^2)*$B$7*$B$9)/2) -> 1735.5398 | L71: Rear Right | M71: 0 | N71: 0 | O71: =$D$15-(($B$1*N71*$B$3)/$B$10)*0.49*0.53-(($B$6*0.5*($B$18^2)*$B$7*$B$9)/2) -> 1670.2366 | Q71: =I71-O71 -> 65.303208
G72: 0 | H72: 0.1 | I72: =$D$14+(($B$1*H72*$B$3)/$B$10)*$B$5*0.53-(($B$6*0.5*($B$18^2)*$B$7*$B$9)/2) -> 1739.312 | M72: 0 | N72: 0.1 | O72: =$D$15-(($B$1*N72*$B$3)/$B$10)*0.49*0.53-(($B$6*0.5*($B$18^2)*$B$7*$B$9)/2) -> 1666.6123 | Q72: =I72-O72 -> 72.699652
G73: 0 | H73: 0.2 | I73: =$D$14+(($B$1*H73*$B$3)/$B$10)*$B$5*0.53-(($B$6*0.5*($B$18^2)*$B$7*$B$9)/2) -> 1743.0842 | M73: 0 | N73: 0.2 | O73: =$D$15-(($B$1*N73*$B$3)/$B$10)*0.49*0.53-(($B$6*0.5*($B$18^2)*$B$7*$B$9)/2) -> 1662.9881 | Q73: =I73-O73 -> 80.096097
G74: 0 | H74: 0.3 | I74: =$D$14+(($B$1*H74*$B$3)/$B$10)*$B$5*0.53-(($B$6*0.5*($B$18^2)*$B$7*$B$9)/2) -> 1746.8564 | M74: 0 | N74: 0.3 | O74: =$D$15-(($B$1*N74*$B$3)/$B$10)*0.49*0.53-(($B$6*0.5*($B$18^2)*$B$7*$B$9)/2) -> 1659.3638 | Q74: =I74-O74 -> 87.492541
G75: 0 | H75: 0.4 | I75: =$D$14+(($B$1*H75*$B$3)/$B$10)*$B$5*0.53-(($B$6*0.5*($B$18^2)*$B$7*$B$9)/2) -> 1750.6286 | M75: 0 | N75: 0.4 | O75: =$D$15-(($B$1*N75*$B$3)/$B$10)*0.49*0.53-(($B$6*0.5*($B$18^2)*$B$7*$B$9)/2) -> 1655.7396 | Q75: =I75-O75 -> 94.888986
G76: 0 | H76: 0.5 | I76: =$D$14+(($B$1*H76*$B$3)/$B$10)*$B$5*0.53-(($B$6*0.5*($B$18^2)*$B$7*$B$9)/2) -> 1754.4007 | M76: 0 | N76: 0.5 | O76: =$D$15-(($B$1*N76*$B$3)/$B$10)*0.49*0.53-(($B$6*0.5*($B$18^2)*$B$7*$B$9)/2) -> 1652.1153 | Q76: =I76-O76 -> 102.28543
G77: 0 | H77: 0.6 | I77: =$D$14+(($B$1*H77*$B$3)/$B$10)*$B$5*0.53-(($B$6*0.5*($B$18^2)*$B$7*$B$9)/2) -> 1758.1729 | M77: 0 | N77: 0.6 | O77: =$D$15-(($B$1*N77*$B$3)/$B$10)*0.49*0.53-(($B$6*0.5*($B$18^2)*$B$7*$B$9)/2) -> 1648.491 | Q77: =I77-O77 -> 109.68187
G78: 0 | H78: 0.7 | I78: =$D$14+(($B$1*H78*$B$3)/$B$10)*$B$5*0.53-(($B$6*0.5*($B$18^2)*$B$7*$B$9)/2) -> 1761.9451 | M78: 0 | N78: 0.7 | O78: =$D$15-(($B$1*N78*$B$3)/$B$10)*0.49*0.53-(($B$6*0.5*($B$18^2)*$B$7*$B$9)/2) -> 1644.8668 | Q78: =I78-O78 -> 117.07832
G79: 0 | H79: 0.8 | I79: =$D$14+(($B$1*H79*$B$3)/$B$10)*$B$5*0.53-(($B$6*0.5*($B$18^2)*$B$7*$B$9)/2) -> 1765.7173 | M79: 0 | N79: 0.8 | O79: =$D$15-(($B$1*N79*$B$3)/$B$10)*0.49*0.53-(($B$6*0.5*($B$18^2)*$B$7*$B$9)/2) -> 1641.2425 | Q79: =I79-O79 -> 124.47476
G80: 0 | H80: 0.9 | I80: =$D$14+(($B$1*H80*$B$3)/$B$10)*$B$5*0.53-(($B$6*0.5*($B$18^2)*$B$7*$B$9)/2) -> 1769.4895 | M80: 0 | N80: 0.9 | O80: =$D$15-(($B$1*N80*$B$3)/$B$10)*0.49*0.53-(($B$6*0.5*($B$18^2)*$B$7*$B$9)/2) -> 1637.6183 | Q80: =I80-O80 -> 131.87121
G81: 0 | H81: 1 | I81: =$D$14+(($B$1*H81*$B$3)/$B$10)*$B$5*0.53-(($B$6*0.5*($B$18^2)*$B$7*$B$9)/2) -> 1773.2617 | M81: 0 | N81: 1 | O81: =$D$15-(($B$1*N81*$B$3)/$B$10)*0.49*0.53-(($B$6*0.5*($B$18^2)*$B$7*$B$9)/2) -> 1633.994 | Q81: =I81-O81 -> 139.26765
G82: 0 | H82: 1.1 | I82: =$D$14+(($B$1*H82*$B$3)/$B$10)*$B$5*0.53-(($B$6*0.5*($B$18^2)*$B$7*$B$9)/2) -> 1777.0339 | M82: 0 | N82: 1.1 | O82: =$D$15-(($B$1*N82*$B$3)/$B$10)*0.49*0.53-(($B$6*0.5*($B$18^2)*$B$7*$B$9)/2) -> 1630.3698 | Q82: =I82-O82 -> 146.6641
G83: 0 | H83: 1.2 | I83: =$D$14+(($B$1*H83*$B$3)/$B$10)*$B$5*0.53-(($B$6*0.5*($B$18^2)*$B$7*$B$9)/2) -> 1780.806 | M83: 0 | N83: 1.2 | O83: =$D$15-(($B$1*N83*$B$3)/$B$10)*0.49*0.53-(($B$6*0.5*($B$18^2)*$B$7*$B$9)/2) -> 1626.7455 | Q83: =I83-O83 -> 154.06054
... G86: 0 | H86: 1.5 | I86: =$D$14+(($B$1*H86*$B$3)/$B$10)*$B$5*0.53-(($B$6*0.5*($B$18^2)*$B$7*$B$9)/2) -> 1792.1226 | M86: 0 | N86: 1.5 | O86: =$D$15-(($B$1*N86*$B$3)/$B$10)*0.49*0.53-(($B$6*0.5*($B$18^2)*$B$7*$B$9)/2) -> 1615.8727 | Q86: =I86-O86 -> 176.24987
E88: Velocity | G88: Long G-Force | H88: Lat G-Force | I88: Corner Weight | K88: Velocity | M88: Long G-Froce | N88: Lat G-Force | O88: Corner Weight | Q88: Front Load Transfer
E89: 0 | F89: Front Left | G89: 0 | H89: 0 | I89: =$B$14-(($B$6*0.5*(E89^2)*$B$7*$B$9)/2) -> 1476.715 | K89: 0 | L89: Front Right | M89: 0 | N89: 0 | O89: =$B$15-(($B$6*0.5*(K89^2)*$B$7*$B$9)/2) -> 1418.8046 | Q89: =I89-O89 -> 57.910392
E90: 1 | G90: 0 | H90: 0 | I90: =$B$14-(($B$6*0.5*(E90^2)*$B$7*$B$9)/2) -> 1476.7931 | K90: 1 | M90: 0 | N90: 0 | O90: =$B$15-(($B$6*0.5*(K90^2)*$B$7*$B$9)/2) -> 1418.8827 | Q90: =I90-O90 -> 57.910392
E91: 2 | G91: 0 | H91: 0 | I91: =$B$14-(($B$6*0.5*(E91^2)*$B$7*$B$9)/2) -> 1477.0275 | K91: 2 | M91: 0 | N91: 0 | O91: =$B$15-(($B$6*0.5*(K91^2)*$B$7*$B$9)/2) -> 1419.1171 | Q91: =I91-O91 -> 57.910392
E92: 3 | G92: 0 | H92: 0 | I92: =$B$14-(($B$6*0.5*(E92^2)*$B$7*$B$9)/2) -> 1477.4181 | K92: 3 | M92: 0 | N92: 0 | O92: =$B$15-(($B$6*0.5*(K92^2)*$B$7*$B$9)/2) -> 1419.5077 | Q92: =I92-O92 -> 57.910392
E93: 4 | G93: 0 | H93: 0 | I93: =$B$14-(($B$6*0.5*(E93^2)*$B$7*$B$9)/2) -> 1477.9649 | K93: 4 | M93: 0 | N93: 0 | O93: =$B$15-(($B$6*0.5*(K93^2)*$B$7*$B$9)/2) -> 1420.0545 | Q93: =I93-O93 -> 57.910392
E94: 5 | G94: 0 | H94: 0 | I94: =$B$14-(($B$6*0.5*(E94^2)*$B$7*$B$9)/2) -> 1478.668 | K94: 5 | M94: 0 | N94: 0 | O94: =$B$15-(($B$6*0.5*(K94^2)*$B$7*$B$9)/2) -> 1420.7576 | Q94: =I94-O94 -> 57.910392
E95: 6 | G95: 0 | H95: 0 | I95: =$B$14-(($B$6*0.5*(E95^2)*$B$7*$B$9)/2) -> 1479.5273 | K95: 6 | M95: 0 | N95: 0 | O95: =$B$15-(($B$6*0.5*(K95^2)*$B$7*$B$9)/2) -> 1421.6169 | Q95: =I95-O95 -> 57.910392
E96: 7 | G96: 0 | H96: 0 | I96: =$B$14-(($B$6*0.5*(E96^2)*$B$7*$B$9)/2) -> 1480.5429 | K96: 7 | M96: 0 | N96: 0 | O96: =$B$15-(($B$6*0.5*(K96^2)*$B$7*$B$9)/2) -> 1422.6325 | Q96: =I96-O96 -> 57.910392
E97: 8 | G97: 0 | H97: 0 | I97: =$B$14-(($B$6*0.5*(E97^2)*$B$7*$B$9)/2) -> 1481.7147 | K97: 8 | M97: 0 | N97: 0 | O97: =$B$15-(($B$6*0.5*(K97^2)*$B$7*$B$9)/2) -> 1423.8043 | Q97: =I97-O97 -> 57.910392
E98: 9 | G98: 0 | H98: 0 | I98: =$B$14-(($B$6*0.5*(E98^2)*$B$7*$B$9)/2) -> 1483.0427 | K98: 9 | M98: 0 | N98: 0 | O98: =$B$15-(($B$6*0.5*(K98^2)*$B$7*$B$9)/2) -> 1425.1323 | Q98: =I98-O98 -> 57.910392
E99: 10 | G99: 0 | H99: 0 | I99: =$B$14-(($B$6*0.5*(E99^2)*$B$7*$B$9)/2) -> 1484.527 | K99: 10 | M99: 0 | N99: 0 | O99: =$B$15-(($B$6*0.5*(K99^2)*$B$7*$B$9)/2) -> 1426.6166 | Q99: =I99-O99 -> 57.910392
E100: 11 | G100: 0 | H100: 0 | I100: =$B$14-(($B$6*0.5*(E100^2)*$B$7*$B$9)/2) -> 1486.1675 | K100: 11 | M100: 0 | N100: 0 | O100: =$B$15-(($B$6*0.5*(K100^2)*$B$7*$B$9)/2) -> 1428.2571 | Q100: =I100-O100 -> 57.910392
E101: 12 | G101: 0 | H101: 0 | I101: =$B$14-(($B$6*0.5*(E101^2)*$B$7*$B$9)/2) -> 1487.9643 | K101: 12 | M101: 0 | N101: 0 | O101: =$B$15-(($B$6*0.5*(K101^2)*$B$7*$B$9)/2) -> 1430.0539 | Q101: =I101-O101 -> 57.910392
... E119: 30 | G119: 0 | H119: 0 | I119: =$B$14-(($B$6*0.5*(E119^2)*$B$7*$B$9)/2) -> 1547.023 | K119: 30 | M119: 0 | N119: 0 | O119: =$B$15-(($B$6*0.5*(K119^2)*$B$7*$B$9)/2) -> 1489.1126 | Q119: =I119-O119 -> 57.910392
E121: Velocity | G121: Long G-Fore | H121: Lat G-Force | I121: Corner Weight | K121: Velocity | M121: Long G-Fore | N121: Lat G-Force | O121: Corner Weight | Q121: Rear Load Transfer
E122: 0 | F122: Rear Left | G122: 0 | H122: 0 | I122: =$D$14+(($B$1*H122*$B$3)/$B$10)*$B$5*0.53-(($B$6*0.5*(E122^2)*$B$7*$B$9)/2) -> 1665.2318 | K122: 0 | L122: Rear Right | M122: 0 | N122: 0 | O122: =$D$15-(($B$1*N122*$B$3)/$B$10)*0.49*0.53-(($B$6*0.5*(K122^2)*$B$7*$B$9)/2) -> 1599.9286 | Q122: =I122-O122 -> 65.303208
E123: 1 | G123: 0 | H123: 0 | I123: =$D$14+(($B$1*H123*$B$3)/$B$10)*$B$5*0.53-(($B$6*0.5*(E123^2)*$B$7*$B$9)/2) -> 1665.3099 | K123: 1 | M123: 0 | N123: 0 | O123: =$D$15-(($B$1*N123*$B$3)/$B$10)*0.49*0.53-(($B$6*0.5*(K123^2)*$B$7*$B$9)/2) -> 1600.0067 | Q123: =I123-O123 -> 65.303208
E124: 2 | G124: 0 | H124: 0 | I124: =$D$14+(($B$1*H124*$B$3)/$B$10)*$B$5*0.53-(($B$6*0.5*(E124^2)*$B$7*$B$9)/2) -> 1665.5443 | K124: 2 | M124: 0 | N124: 0 | O124: =$D$15-(($B$1*N124*$B$3)/$B$10)*0.49*0.53-(($B$6*0.5*(K124^2)*$B$7*$B$9)/2) -> 1600.2411 | Q124: =I124-O124 -> 65.303208
E125: 3 | G125: 0 | H125: 0 | I125: =$D$14+(($B$1*H125*$B$3)/$B$10)*$B$5*0.53-(($B$6*0.5*(E125^2)*$B$7*$B$9)/2) -> 1665.9349 | K125: 3 | M125: 0 | N125: 0 | O125: =$D$15-(($B$1*N125*$B$3)/$B$10)*0.49*0.53-(($B$6*0.5*(K125^2)*$B$7*$B$9)/2) -> 1600.6317 | Q125: =I125-O125 -> 65.303208
E126: 4 | G126: 0 | H126: 0 | I126: =$D$14+(($B$1*H126*$B$3)/$B$10)*$B$5*0.53-(($B$6*0.5*(E126^2)*$B$7*$B$9)/2) -> 1666.4817 | K126: 4 | M126: 0 | N126: 0 | O126: =$D$15-(($B$1*N126*$B$3)/$B$10)*0.49*0.53-(($B$6*0.5*(K126^2)*$B$7*$B$9)/2) -> 1601.1785 | Q126: =I126-O126 -> 65.303208
E127: 5 | G127: 0 | H127: 0 | I127: =$D$14+(($B$1*H127*$B$3)/$B$10)*$B$5*0.53-(($B$6*0.5*(E127^2)*$B$7*$B$9)/2) -> 1667.1848 | K127: 5 | M127: 0 | N127: 0 | O127: =$D$15-(($B$1*N127*$B$3)/$B$10)*0.49*0.53-(($B$6*0.5*(K127^2)*$B$7*$B$9)/2) -> 1601.8816 | Q127: =I127-O127 -> 65.303208
E128: 6 | G128: 0 | H128: 0 | I128: =$D$14+(($B$1*H128*$B$3)/$B$10)*$B$5*0.53-(($B$6*0.5*(E128^2)*$B$7*$B$9)/2) -> 1668.0441 | K128: 6 | M128: 0 | N128: 0 | O128: =$D$15-(($B$1*N128*$B$3)/$B$10)*0.49*0.53-(($B$6*0.5*(K128^2)*$B$7*$B$9)/2) -> 1602.7409 | Q128: =I128-O128 -> 65.303208
E129: 7 | G129: 0 | H129: 0 | I129: =$D$14+(($B$1*H129*$B$3)/$B$10)*$B$5*0.53-(($B$6*0.5*(E129^2)*$B$7*$B$9)/2) -> 1669.0597 | K129: 7 | M129: 0 | N129: 0 | O129: =$D$15-(($B$1*N129*$B$3)/$B$10)*0.49*0.53-(($B$6*0.5*(K129^2)*$B$7*$B$9)/2) -> 1603.7565 | Q129: =I129-O129 -> 65.303208
E130: 8 | G130: 0 | H130: 0 | I130: =$D$14+(($B$1*H130*$B$3)/$B$10)*$B$5*0.53-(($B$6*0.5*(E130^2)*$B$7*$B$9)/2) -> 1670.2315 | K130: 8 | M130: 0 | N130: 0 | O130: =$D$15-(($B$1*N130*$B$3)/$B$10)*0.49*0.53-(($B$6*0.5*(K130^2)*$B$7*$B$9)/2) -> 1604.9283 | Q130: =I130-O130 -> 65.303208
...

Sheet Part 4
J1: Angle A | K1: Lateral Acceleration | L1: Longitudinal acceleration | M1: Front Left | N1: Front Right | O1: Rear Left | P1: Rear Right
D2: Max Acceleration
J3: 0 | K3: 0 | L3: 1.5 | M3: ='Part 1-3'!$B$14+(('Part 1-3'!$B$1*L3*'Part 1-3'!$B$3)/'Part 1-3'!$B$10)*'Part 1-3'!$B$5*'Part 1-3'!$B$4+(('Part 1-3'!$B$1*K3*'Part 1-3'!$B$3)/'Part 1-3'!$B$10)*'Part 1-3'!$B$5*'Part 1-3'!$B$4-(('Part 1-3'!$B$6*0.5*('Part 1-3'!$B$18^2)*'Part 1-3'!$B$7*'Part 1-3'!$B$9)/2) -> 1597.2002 | N3: ='Part 1-3'!$B$15+(('Part 1-3'!$B$1*L3*'Part 1-3'!$B$3)/'Part 1-3'!$B$10)*0.49*'Part 1-3'!$B$4+(('Part 1-3'!$B$1*K3*'Part 1-3'!$B$3)/'Part 1-3'!$B$10)*0.49*'Part 1-3'!$B$4-(('Part 1-3'!$B$6*0.5*('Part 1-3'!$B$18^2)*'Part 1-3'!$B$7*'Part 1-3'!$B$9)/2) -> 1537.3221 | O3: ='Part 1-3'!$D$14+(('Part 1-3'!$B$1*L3*'Part 1-3'!$B$3)/'Part 1-3'!$B$10)*'Part 1-3'!$B$5*0.53+(('Part 1-3'!$B$1*K3*'Part 1-3'!$B$3)/'Part 1-3'!$B$10)*'Part 1-3'!$B$5*0.53-(('Part 1-3'!$B$6*0.5*('Part 1-3'!$B$18^2)*'Part 1-3'!$B$7*'Part 1-3'!$B$9)/2) -> 1792.1226 | P3: ='Part 1-3'!$D$15+(('Part 1-3'!$B$1*L3*'Part 1-3'!$B$3)/'Part 1-3'!$B$10)*0.49*0.53+(('Part 1-3'!$B$1*K3*'Part 1-3'!$B$3)/'Part 1-3'!$B$10)*0.49*0.53-(('Part 1-3'!$B$6*0.5*('Part 1-3'!$B$18^2)*'Part 1-3'!$B$7*'Part 1-3'!$B$9)/2) -> 1724.6005
J4: 5 | K4: 0.13 | L4: =1.5-K4 -> 1.37 | M4: ='Part 1-3'!$B$14+(('Part 1-3'!$B$1*L4*'Part 1-3'!$B$3)/'Part 1-3'!$B$10)*'Part 1-3'!$B$5*'Part 1-3'!$B$4+(('Part 1-3'!$B$1*K4*'Part 1-3'!$B$3)/'Part 1-3'!$B$10)*'Part 1-3'!$B$5*'Part 1-3'!$B$4-(('Part 1-3'!$B$6*0.5*('Part 1-3'!$B$18^2)*'Part 1-3'!$B$7*'Part 1-3'!$B$9)/2) -> 1597.2002 | N4: ='Part 1-3'!$B$15+(('Part 1-3'!$B$1*L4*'Part 1-3'!$B$3)/'Part 1-3'!$B$10)*0.49*'Part 1-3'!$B$4+(('Part 1-3'!$B$1*K4*'Part 1-3'!$B$3)/'Part 1-3'!$B$10)*0.49*'Part 1-3'!$B$4-(('Part 1-3'!$B$6*0.5*('Part 1-3'!$B$18^2)*'Part 1-3'!$B$7*'Part 1-3'!$B$9)/2) -> 1537.3221 | O4: ='Part 1-3'!$D$14+(('Part 1-3'!$B$1*L4*'Part 1-3'!$B$3)/'Part 1-3'!$B$10)*'Part 1-3'!$B$5*0.53+(('Part 1-3'!$B$1*K4*'Part 1-3'!$B$3)/'Part 1-3'!$B$10)*'Part 1-3'!$B$5*0.53-(('Part 1-3'!$B$6*0.5*('Part 1-3'!$B$18^2)*'Part 1-3'!$B$7*'Part 1-3'!$B$9)/2) -> 1792.1226 | P4: ='Part 1-3'!$D$15+(('Part 1-3'!$B$1*L4*'Part 1-3'!$B$3)/'Part 1-3'!$B$10)*0.49*0.53+(('Part 1-3'!$B$1*K4*'Part 1-3'!$B$3)/'Part 1-3'!$B$10)*0.49*0.53-(('Part 1-3'!$B$6*0.5*('Part 1-3'!$B$18^2)*'Part 1-3'!$B$7*'Part 1-3'!$B$9)/2) -> 1724.6005
J5: 10 | K5: 0.26 | L5: =1.5-K5 -> 1.24 | M5: ='Part 1-3'!$B$14+(('Part 1-3'!$B$1*L5*'Part 1-3'!$B$3)/'Part 1-3'!$B$10)*'Part 1-3'!$B$5*'Part 1-3'!$B$4+(('Part 1-3'!$B$1*K5*'Part 1-3'!$B$3)/'Part 1-3'!$B$10)*'Part 1-3'!$B$5*'Part 1-3'!$B$4-(('Part 1-3'!$B$6*0.5*('Part 1-3'!$B$18^2)*'Part 1-3'!$B$7*'Part 1-3'!$B$9)/2) -> 1597.2002 | N5: ='Part 1-3'!$B$15+(('Part 1-3'!$B$1*L5*'Part 1-3'!$B$3)/'Part 1-3'!$B$10)*0.49*'Part 1-3'!$B$4+(('Part 1-3'!$B$1*K5*'Part 1-3'!$B$3)/'Part 1-3'!$B$10)*0.49*'Part 1-3'!$B$4-(('Part 1-3'!$B$6*0.5*('Part 1-3'!$B$18^2)*'Part 1-3'!$B$7*'Part 1-3'!$B$9)/2) -> 1537.3221 | O5: ='Part 1-3'!$D$14+(('Part 1-3'!$B$1*L5*'Part 1-3'!$B$3)/'Part 1-3'!$B$10)*'Part 1-3'!$B$5*0.53+(('Part 1-3'!$B$1*K5*'Part 1-3'!$B$3)/'Part 1-3'!$B$10)*'Part 1-3'!$B$5*0.53-(('Part 1-3'!$B$6*0.5*('Part 1-3'!$B$18^2)*'Part 1-3'!$B$7*'Part 1-3'!$B$9)/2) -> 1792.1226 | P5: ='Part 1-3'!$D$15+(('Part 1-3'!$B$1*L5*'Part 1-3'!$B$3)/'Part 1-3'!$B$10)*0.49*0.53+(('Part 1-3'!$B$1*K5*'Part 1-3'!$B$3)/'Part 1-3'!$B$10)*0.49*0.53-(('Part 1-3'!$B$6*0.5*('Part 1-3'!$B$18^2)*'Part 1-3'!$B$7*'Part 1-3'!$B$9)/2) -> 1724.6005
J6: 15 | K6: 0.39 | L6: =1.5-K6 -> 1.11 | M6: ='Part 1-3'!$B$14+(('Part 1-3'!$B$1*L6*'Part 1-3'!$B$3)/'Part 1-3'!$B$10)*'Part 1-3'!$B$5*'Part 1-3'!$B$4+(('Part 1-3'!$B$1*K6*'Part 1-3'!$B$3)/'Part 1-3'!$B$10)*'Part 1-3'!$B$5*'Part 1-3'!$B$4-(('Part 1-3'!$B$6*0.5*('Part 1-3'!$B$18^2)*'Part 1-3'!$B$7*'Part 1-3'!$B$9)/2) -> 1597.2002 | N6: ='Part 1-3'!$B$15+(('Part 1-3'!$B$1*L6*'Part 1-3'!$B$3)/'Part 1-3'!$B$10)*0.49*'Part 1-3'!$B$4+(('Part 1-3'!$B$1*K6*'Part 1-3'!$B$3)/'Part 1-3'!$B$10)*0.49*'Part 1-3'!$B$4-(('Part 1-3'!$B$6*0.5*('Part 1-3'!$B$18^2)*'Part 1-3'!$B$7*'Part 1-3'!$B$9)/2) -> 1537.3221 | O6: ='Part 1-3'!$D$14+(('Part 1-3'!$B$1*L6*'Part 1-3'!$B$3)/'Part 1-3'!$B$10)*'Part 1-3'!$B$5*0.53+(('Part 1-3'!$B$1*K6*'Part 1-3'!$B$3)/'Part 1-3'!$B$10)*'Part 1-3'!$B$5*0.53-(('Part 1-3'!$B$6*0.5*('Part 1-3'!$B$18^2)*'Part 1-3'!$B$7*'Part 1-3'!$B$9)/2) -> 1792.1226 | P6: ='Part 1-3'!$D$15+(('Part 1-3'!$B$1*L6*'Part 1-3'!$B$3)/'Part 1-3'!$B$10)*0.49*0.53+(('Part 1-3'!$B$1*K6*'Part 1-3'!$B$3)/'Part 1-3'!$B$10)*0.49*0.53-(('Part 1-3'!$B$6*0.5*('Part 1-3'!$B$18^2)*'Part 1-3'!$B$7*'Part 1-3'!$B$9)/2) -> 1724.6005
J7: 20 | K7: 0.51 | L7: =1.5-K7 -> 0.99 | M7: ='Part 1-3'!$B$14+(('Part 1-3'!$B$1*L7*'Part 1-3'!$B$3)/'Part 1-3'!$B$10)*'Part 1-3'!$B$5*'Part 1-3'!$B$4+(('Part 1-3'!$B$1*K7*'Part 1-3'!$B$3)/'Part 1-3'!$B$10)*'Part 1-3'!$B$5*'Part 1-3'!$B$4-(('Part 1-3'!$B$6*0.5*('Part 1-3'!$B$18^2)*'Part 1-3'!$B$7*'Part 1-3'!$B$9)/2) -> 1597.2002 | N7: ='Part 1-3'!$B$15+(('Part 1-3'!$B$1*L7*'Part 1-3'!$B$3)/'Part 1-3'!$B$10)*0.49*'Part 1-3'!$B$4+(('Part 1-3'!$B$1*K7*'Part 1-3'!$B$3)/'Part 1-3'!$B$10)*0.49*'Part 1-3'!$B$4-(('Part 1-3'!$B$6*0.5*('Part 1-3'!$B$18^2)*'Part 1-3'!$B$7*'Part 1-3'!$B$9)/2) -> 1537.3221 | O7: ='Part 1-3'!$D$14+(('Part 1-3'!$B$1*L7*'Part 1-3'!$B$3)/'Part 1-3'!$B$10)*'Part 1-3'!$B$5*0.53+(('Part 1-3'!$B$1*K7*'Part 1-3'!$B$3)/'Part 1-3'!$B$10)*'Part 1-3'!$B$5*0.53-(('Part 1-3'!$B$6*0.5*('Part 1-3'!$B$18^2)*'Part 1-3'!$B$7*'Part 1-3'!$B$9)/2) -> 1792.1226 | P7: ='Part 1-3'!$D$15+(('Part 1-3'!$B$1*L7*'Part 1-3'!$B$3)/'Part 1-3'!$B$10)*0.49*0.53+(('Part 1-3'!$B$1*K7*'Part 1-3'!$B$3)/'Part 1-3'!$B$10)*0.49*0.53-(('Part 1-3'!$B$6*0.5*('Part 1-3'!$B$18^2)*'Part 1-3'!$B$7*'Part 1-3'!$B$9)/2) -> 1724.6005
C8: Left Turn | G8: Right Turn | J8: 25 | K8: 0.63 | L8: =1.5-K8 -> 0.87 | M8: ='Part 1-3'!$B$14+(('Part 1-3'!$B$1*L8*'Part 1-3'!$B$3)/'Part 1-3'!$B$10)*'Part 1-3'!$B$5*'Part 1-3'!$B$4+(('Part 1-3'!$B$1*K8*'Part 1-3'!$B$3)/'Part 1-3'!$B$10)*'Part 1-3'!$B$5*'Part 1-3'!$B$4-(('Part 1-3'!$B$6*0.5*('Part 1-3'!$B$18^2)*'Part 1-3'!$B$7*'Part 1-3'!$B$9)/2) -> 1597.2002 | N8: ='Part 1-3'!$B$15+(('Part 1-3'!$B$1*L8*'Part 1-3'!$B$3)/'Part 1-3'!$B$10)*0.49*'Part 1-3'!$B$4+(('Part 1-3'!$B$1*K8*'Part 1-3'!$B$3)/'Part 1-3'!$B$10)*0.49*'Part 1-3'!$B$4-(('Part 1-3'!$B$6*0.5*('Part 1-3'!$B$18^2)*'Part 1-3'!$B$7*'Part 1-3'!$B$9)/2) -> 1537.3221 | O8: ='Part 1-3'!$D$14+(('Part 1-3'!$B$1*L8*'Part 1-3'!$B$3)/'Part 1-3'!$B$10)*'Part 1-3'!$B$5*0.53+(('Part 1-3'!$B$1*K8*'Part 1-3'!$B$3)/'Part 1-3'!$B$10)*'Part 1-3'!$B$5*0.53-(('Part 1-3'!$B$6*0.5*('Part 1-3'!$B$18^2)*'Part 1-3'!$B$7*'Part 1-3'!$B$9)/2) -> 1792.1226 | P8: ='Part 1-3'!$D$15+(('Part 1-3'!$B$1*L8*'Part 1-3'!$B$3)/'Part 1-3'!$B$10)*0.49*0.53+(('Part 1-3'!$B$1*K8*'Part 1-3'!$B$3)/'Part 1-3'!$B$10)*0.49*0.53-(('Part 1-3'!$B$6*0.5*('Part 1-3'!$B$18^2)*'Part 1-3'!$B$7*'Part 1-3'!$B$9)/2) -> 1724.6005
J9: 30 | K9: 0.75 | L9: =1.5-K9 -> 0.75 | M9: ='Part 1-3'!$B$14+(('Part 1-3'!$B$1*L9*'Part 1-3'!$B$3)/'Part 1-3'!$B$10)*'Part 1-3'!$B$5*'Part 1-3'!$B$4+(('Part 1-3'!$B$1*K9*'Part 1-3'!$B$3)/'Part 1-3'!$B$10)*'Part 1-3'!$B$5*'Part 1-3'!$B$4-(('Part 1-3'!$B$6*0.5*('Part 1-3'!$B$18^2)*'Part 1-3'!$B$7*'Part 1-3'!$B$9)/2) -> 1597.2002 | N9: ='Part 1-3'!$B$15+(('Part 1-3'!$B$1*L9*'Part 1-3'!$B$3)/'Part 1-3'!$B$10)*0.49*'Part 1-3'!$B$4+(('Part 1-3'!$B$1*K9*'Part 1-3'!$B$3)/'Part 1-3'!$B$10)*0.49*'Part 1-3'!$B$4-(('Part 1-3'!$B$6*0.5*('Part 1-3'!$B$18^2)*'Part 1-3'!$B$7*'Part 1-3'!$B$9)/2) -> 1537.3221 | O9: ='Part 1-3'!$D$14+(('Part 1-3'!$B$1*L9*'Part 1-3'!$B$3)/'Part 1-3'!$B$10)*'Part 1-3'!$B$5*0.53+(('Part 1-3'!$B$1*K9*'Part 1-3'!$B$3)/'Part 1-3'!$B$10)*'Part 1-3'!$B$5*0.53-(('Part 1-3'!$B$6*0.5*('Part 1-3'!$B$18^2)*'Part 1-3'!$B$7*'Part 1-3'!$B$9)/2) -> 1792.1226 | P9: ='Part 1-3'!$D$15+(('Part 1-3'!$B$1*L9*'Part 1-3'!$B$3)/'Part 1-3'!$B$10)*0.49*0.53+(('Part 1-3'!$B$1*K9*'Part 1-3'!$B$3)/'Part 1-3'!$B$10)*0.49*0.53-(('Part 1-3'!$B$6*0.5*('Part 1-3'!$B$18^2)*'Part 1-3'!$B$7*'Part 1-3'!$B$9)/2) -> 1724.6005
J10: 35 | K10: 0.86 | L10: =1.5-K10 -> 0.64 | M10: ='Part 1-3'!$B$14+(('Part 1-3'!$B$1*L10*'Part 1-3'!$B$3)/'Part 1-3'!$B$10)*'Part 1-3'!$B$5*'Part 1-3'!$B$4+(('Part 1-3'!$B$1*K10*'Part 1-3'!$B$3)/'Part 1-3'!$B$10)*'Part 1-3'!$B$5*'Part 1-3'!$B$4-(('Part 1-3'!$B$6*0.5*('Part 1-3'!$B$18^2)*'Part 1-3'!$B$7*'Part 1-3'!$B$9)/2) -> 1597.2002 | N10: ='Part 1-3'!$B$15+(('Part 1-3'!$B$1*L10*'Part 1-3'!$B$3)/'Part 1-3'!$B$10)*0.49*'Part 1-3'!$B$4+(('Part 1-3'!$B$1*K10*'Part 1-3'!$B$3)/'Part 1-3'!$B$10)*0.49*'Part 1-3'!$B$4-(('Part 1-3'!$B$6*0.5*('Part 1-3'!$B$18^2)*'Part 1-3'!$B$7*'Part 1-3'!$B$9)/2) -> 1537.3221 | O10: ='Part 1-3'!$D$14+(('Part 1-3'!$B$1*L10*'Part 1-3'!$B$3)/'Part 1-3'!$B$10)*'Part 1-3'!$B$5*0.53+(('Part 1-3'!$B$1*K10*'Part 1-3'!$B$3)/'Part 1-3'!$B$10)*'Part 1-3'!$B$5*0.53-(('Part 1-3'!$B$6*0.5*('Part 1-3'!$B$18^2)*'Part 1-3'!$B$7*'Part 1-3'!$B$9)/2) -> 1792.1226 | P10: ='Part 1-3'!$D$15+(('Part 1-3'!$B$1*L10*'Part 1-3'!$B$3)/'Part 1-3'!$B$10)*0.49*0.53+(('Part 1-3'!$B$1*K10*'Part 1-3'!$B$3)/'Part 1-3'!$B$10)*0.49*0.53-(('Part 1-3'!$B$6*0.5*('Part 1-3'!$B$18^2)*'Part 1-3'!$B$7*'Part 1-3'!$B$9)/2) -> 1724.6005
J11: 40 | K11: 0.96 | L11: =1.5-K11 -> 0.54 | M11: ='Part 1-3'!$B$14+(('Part 1-3'!$B$1*L11*'Part 1-3'!$B$3)/'Part 1-3'!$B$10)*'Part 1-3'!$B$5*'Part 1-3'!$B$4+(('Part 1-3'!$B$1*K11*'Part 1-3'!$B$3)/'Part 1-3'!$B$10)*'Part 1-3'!$B$5*'Part 1-3'!$B$4-(('Part 1-3'!$B$6*0.5*('Part 1-3'!$B$18^2)*'Part 1-3'!$B$7*'Part 1-3'!$B$9)/2) -> 1597.2002 | N11: ='Part 1-3'!$B$15+(('Part 1-3'!$B$1*L11*'Part 1-3'!$B$3)/'Part 1-3'!$B$10)*0.49*'Part 1-3'!$B$4+(('Part 1-3'!$B$1*K11*'Part 1-3'!$B$3)/'Part 1-3'!$B$10)*0.49*'Part 1-3'!$B$4-(('Part 1-3'!$B$6*0.5*('Part 1-3'!$B$18^2)*'Part 1-3'!$B$7*'Part 1-3'!$B$9)/2) -> 1537.3221 | O11: ='Part 1-3'!$D$14+(('Part 1-3'!$B$1*L11*'Part 1-3'!$B$3)/'Part 1-3'!$B$10)*'Part 1-3'!$B$5*0.53+(('Part 1-3'!$B$1*K11*'Part 1-3'!$B$3)/'Part 1-3'!$B$10)*'Part 1-3'!$B$5*0.53-(('Part 1-3'!$B$6*0.5*('Part 1-3'!$B$18^2)*'Part 1-3'!$B$7*'Part 1-3'!$B$9)/2) -> 1792.1226 | P11: ='Part 1-3'!$D$15+(('Part 1-3'!$B$1*L11*'Part 1-3'!$B$3)/'Part 1-3'!$B$10)*0.49*0.53+(('Part 1-3'!$B$1*K11*'Part 1-3'!$B$3)/'Part 1-3'!$B$10)*0.49*0.53-(('Part 1-3'!$B$6*0.5*('Part 1-3'!$B$18^2)*'Part 1-3'!$B$7*'Part 1-3'!$B$9)/2) -> 1724.6005
J12: 45 | K12: 1.06 | L12: =1.5-K12 -> 0.44 | M12: ='Part 1-3'!$B$14+(('Part 1-3'!$B$1*L12*'Part 1-3'!$B$3)/'Part 1-3'!$B$10)*'Part 1-3'!$B$5*'Part 1-3'!$B$4+(('Part 1-3'!$B$1*K12*'Part 1-3'!$B$3)/'Part 1-3'!$B$10)*'Part 1-3'!$B$5*'Part 1-3'!$B$4-(('Part 1-3'!$B$6*0.5*('Part 1-3'!$B$18^2)*'Part 1-3'!$B$7*'Part 1-3'!$B$9)/2) -> 1597.2002 | N12: ='Part 1-3'!$B$15+(('Part 1-3'!$B$1*L12*'Part 1-3'!$B$3)/'Part 1-3'!$B$10)*0.49*'Part 1-3'!$B$4+(('Part 1-3'!$B$1*K12*'Part 1-3'!$B$3)/'Part 1-3'!$B$10)*0.49*'Part 1-3'!$B$4-(('Part 1-3'!$B$6*0.5*('Part 1-3'!$B$18^2)*'Part 1-3'!$B$7*'Part 1-3'!$B$9)/2) -> 1537.3221 | O12: ='Part 1-3'!$D$14+(('Part 1-3'!$B$1*L12*'Part 1-3'!$B$3)/'Part 1-3'!$B$10)*'Part 1-3'!$B$5*0.53+(('Part 1-3'!$B$1*K12*'Part 1-3'!$B$3)/'Part 1-3'!$B$10)*'Part 1-3'!$B$5*0.53-(('Part 1-3'!$B$6*0.5*('Part 1-3'!$B$18^2)*'Part 1-3'!$B$7*'Part 1-3'!$B$9)/2) -> 1792.1226 | P12: ='Part 1-3'!$D$15+(('Part 1-3'!$B$1*L12*'Part 1-3'!$B$3)/'Part 1-3'!$B$10)*0.49*0.53+(('Part 1-3'!$B$1*K12*'Part 1-3'!$B$3)/'Part 1-3'!$B$10)*0.49*0.53-(('Part 1-3'!$B$6*0.5*('Part 1-3'!$B$18^2)*'Part 1-3'!$B$7*'Part 1-3'!$B$9)/2) -> 1724.6005
J13: 50 | K13: 1.15 | L13: =1.5-K13 -> 0.35 | M13: ='Part 1-3'!$B$14+(('Part 1-3'!$B$1*L13*'Part 1-3'!$B$3)/'Part 1-3'!$B$10)*'Part 1-3'!$B$5*'Part 1-3'!$B$4+(('Part 1-3'!$B$1*K13*'Part 1-3'!$B$3)/'Part 1-3'!$B$10)*'Part 1-3'!$B$5*'Part 1-3'!$B$4-(('Part 1-3'!$B$6*0.5*('Part 1-3'!$B$18^2)*'Part 1-3'!$B$7*'Part 1-3'!$B$9)/2) -> 1597.2002 | N13: ='Part 1-3'!$B$15+(('Part 1-3'!$B$1*L13*'Part 1-3'!$B$3)/'Part 1-3'!$B$10)*0.49*'Part 1-3'!$B$4+(('Part 1-3'!$B$1*K13*'Part 1-3'!$B$3)/'Part 1-3'!$B$10)*0.49*'Part 1-3'!$B$4-(('Part 1-3'!$B$6*0.5*('Part 1-3'!$B$18^2)*'Part 1-3'!$B$7*'Part 1-3'!$B$9)/2) -> 1537.3221 | O13: ='Part 1-3'!$D$14+(('Part 1-3'!$B$1*L13*'Part 1-3'!$B$3)/'Part 1-3'!$B$10)*'Part 1-3'!$B$5*0.53+(('Part 1-3'!$B$1*K13*'Part 1-3'!$B$3)/'Part 1-3'!$B$10)*'Part 1-3'!$B$5*0.53-(('Part 1-3'!$B$6*0.5*('Part 1-3'!$B$18^2)*'Part 1-3'!$B$7*'Part 1-3'!$B$9)/2) -> 1792.1226 | P13: ='Part 1-3'!$D$15+(('Part 1-3'!$B$1*L13*'Part 1-3'!$B$3)/'Part 1-3'!$B$10)*0.49*0.53+(('Part 1-3'!$B$1*K13*'Part 1-3'!$B$3)/'Part 1-3'!$B$10)*0.49*0.53-(('Part 1-3'!$B$6*0.5*('Part 1-3'!$B$18^2)*'Part 1-3'!$B$7*'Part 1-3'!$B$9)/2) -> 1724.6005
D14: Max Braking | J14: 55 | K14: 1.22 | L14: =1.5-K14 -> 0.28 | M14: ='Part 1-3'!$B$14+(('Part 1-3'!$B$1*L14*'Part 1-3'!$B$3)/'Part 1-3'!$B$10)*'Part 1-3'!$B$5*'Part 1-3'!$B$4+(('Part 1-3'!$B$1*K14*'Part 1-3'!$B$3)/'Part 1-3'!$B$10)*'Part 1-3'!$B$5*'Part 1-3'!$B$4-(('Part 1-3'!$B$6*0.5*('Part 1-3'!$B$18^2)*'Part 1-3'!$B$7*'Part 1-3'!$B$9)/2) -> 1597.2002 | N14: ='Part 1-3'!$B$15+(('Part 1-3'!$B$1*L14*'Part 1-3'!$B$3)/'Part 1-3'!$B$10)*0.49*'Part 1-3'!$B$4+(('Part 1-3'!$B$1*K14*'Part 1-3'!$B$3)/'Part 1-3'!$B$10)*0.49*'Part 1-3'!$B$4-(('Part 1-3'!$B$6*0.5*('Part 1-3'!$B$18^2)*'Part 1-3'!$B$7*'Part 1-3'!$B$9)/2) -> 1537.3221 | O14: ='Part 1-3'!$D$14+(('Part 1-3'!$B$1*L14*'Part 1-3'!$B$3)/'Part 1-3'!$B$10)*'Part 1-3'!$B$5*0.53+(('Part 1-3'!$B$1*K14*'Part 1-3'!$B$3)/'Part 1-3'!$B$10)*'Part 1-3'!$B$5*0.53-(('Part 1-3'!$B$6*0.5*('Part 1-3'!$B$18^2)*'Part 1-3'!$B$7*'Part 1-3'!$B$9)/2) -> 1792.1226 | P14: ='Part 1-3'!$D$15+(('Part 1-3'!$B$1*L14*'Part 1-3'!$B$3)/'Part 1-3'!$B$10)*0.49*0.53+(('Part 1-3'!$B$1*K14*'Part 1-3'!$B$3)/'Part 1-3'!$B$10)*0.49*0.53-(('Part 1-3'!$B$6*0.5*('Part 1-3'!$B$18^2)*'Part 1-3'!$B$7*'Part 1-3'!$B$9)/2) -> 1724.6005
B15: Max Accel | D15: 1.5G | H15: B | J15: 60 | K15: 1.3 | L15: =1.5-K15 -> 0.2 | M15: ='Part 1-3'!$B$14+(('Part 1-3'!$B$1*L15*'Part 1-3'!$B$3)/'Part 1-3'!$B$10)*'Part 1-3'!$B$5*'Part 1-3'!$B$4+(('Part 1-3'!$B$1*K15*'Part 1-3'!$B$3)/'Part 1-3'!$B$10)*'Part 1-3'!$B$5*'Part 1-3'!$B$4-(('Part 1-3'!$B$6*0.5*('Part 1-3'!$B$18^2)*'Part 1-3'!$B$7*'Part 1-3'!$B$9)/2) -> 1597.2002 | N15: ='Part 1-3'!$B$15+(('Part 1-3'!$B$1*L15*'Part 1-3'!$B$3)/'Part 1-3'!$B$10)*0.49*'Part 1-3'!$B$4+(('Part 1-3'!$B$1*K15*'Part 1-3'!$B$3)/'Part 1-3'!$B$10)*0.49*'Part 1-3'!$B$4-(('Part 1-3'!$B$6*0.5*('Part 1-3'!$B$18^2)*'Part 1-3'!$B$7*'Part 1-3'!$B$9)/2) -> 1537.3221 | O15: ='Part 1-3'!$D$14+(('Part 1-3'!$B$1*L15*'Part 1-3'!$B$3)/'Part 1-3'!$B$10)*'Part 1-3'!$B$5*0.53+(('Part 1-3'!$B$1*K15*'Part 1-3'!$B$3)/'Part 1-3'!$B$10)*'Part 1-3'!$B$5*0.53-(('Part 1-3'!$B$6*0.5*('Part 1-3'!$B$18^2)*'Part 1-3'!$B$7*'Part 1-3'!$B$9)/2) -> 1792.1226 | P15: ='Part 1-3'!$D$15+(('Part 1-3'!$B$1*L15*'Part 1-3'!$B$3)/'Part 1-3'!$B$10)*0.49*0.53+(('Part 1-3'!$B$1*K15*'Part 1-3'!$B$3)/'Part 1-3'!$B$10)*0.49*0.53-(('Part 1-3'!$B$6*0.5*('Part 1-3'!$B$18^2)*'Part 1-3'!$B$7*'Part 1-3'!$B$9)/2) -> 1724.6005
I16: A=45° | J16: 65 | K16: 1.36 | L16: =1.5-K16 -> 0.14 | M16: ='Part 1-3'!$B$14+(('Part 1-3'!$B$1*L16*'Part 1-3'!$B$3)/'Part 1-3'!$B$10)*'Part 1-3'!$B$5*'Part 1-3'!$B$4+(('Part 1-3'!$B$1*K16*'Part 1-3'!$B$3)/'Part 1-3'!$B$10)*'Part 1-3'!$B$5*'Part 1-3'!$B$4-(('Part 1-3'!$B$6*0.5*('Part 1-3'!$B$18^2)*'Part 1-3'!$B$7*'Part 1-3'!$B$9)/2) -> 1597.2002 | N16: ='Part 1-3'!$B$15+(('Part 1-3'!$B$1*L16*'Part 1-3'!$B$3)/'Part 1-3'!$B$10)*0.49*'Part 1-3'!$B$4+(('Part 1-3'!$B$1*K16*'Part 1-3'!$B$3)/'Part 1-3'!$B$10)*0.49*'Part 1-3'!$B$4-(('Part 1-3'!$B$6*0.5*('Part 1-3'!$B$18^2)*'Part 1-3'!$B$7*'Part 1-3'!$B$9)/2) -> 1537.3221 | O16: ='Part 1-3'!$D$14+(('Part 1-3'!$B$1*L16*'Part 1-3'!$B$3)/'Part 1-3'!$B$10)*'Part 1-3'!$B$5*0.53+(('Part 1-3'!$B$1*K16*'Part 1-3'!$B$3)/'Part 1-3'!$B$10)*'Part 1-3'!$B$5*0.53-(('Part 1-3'!$B$6*0.5*('Part 1-3'!$B$18^2)*'Part 1-3'!$B$7*'Part 1-3'!$B$9)/2) -> 1792.1226 | P16: ='Part 1-3'!$D$15+(('Part 1-3'!$B$1*L16*'Part 1-3'!$B$3)/'Part 1-3'!$B$10)*0.49*0.53+(('Part 1-3'!$B$1*K16*'Part 1-3'!$B$3)/'Part 1-3'!$B$10)*0.49*0.53-(('Part 1-3'!$B$6*0.5*('Part 1-3'!$B$18^2)*'Part 1-3'!$B$7*'Part 1-3'!$B$9)/2) -> 1724.6005
I17: c=1.5 | J17: 70 | K17: 1.41 | L17: =1.5-K17 -> 0.09 | M17: ='Part 1-3'!$B$14+(('Part 1-3'!$B$1*L17*'Part 1-3'!$B$3)/'Part 1-3'!$B$10)*'Part 1-3'!$B$5*'Part 1-3'!$B$4+(('Part 1-3'!$B$1*K17*'Part 1-3'!$B$3)/'Part 1-3'!$B$10)*'Part 1-3'!$B$5*'Part 1-3'!$B$4-(('Part 1-3'!$B$6*0.5*('Part 1-3'!$B$18^2)*'Part 1-3'!$B$7*'Part 1-3'!$B$9)/2) -> 1597.2002 | N17: ='Part 1-3'!$B$15+(('Part 1-3'!$B$1*L17*'Part 1-3'!$B$3)/'Part 1-3'!$B$10)*0.49*'Part 1-3'!$B$4+(('Part 1-3'!$B$1*K17*'Part 1-3'!$B$3)/'Part 1-3'!$B$10)*0.49*'Part 1-3'!$B$4-(('Part 1-3'!$B$6*0.5*('Part 1-3'!$B$18^2)*'Part 1-3'!$B$7*'Part 1-3'!$B$9)/2) -> 1537.3221 | O17: ='Part 1-3'!$D$14+(('Part 1-3'!$B$1*L17*'Part 1-3'!$B$3)/'Part 1-3'!$B$10)*'Part 1-3'!$B$5*0.53+(('Part 1-3'!$B$1*K17*'Part 1-3'!$B$3)/'Part 1-3'!$B$10)*'Part 1-3'!$B$5*0.53-(('Part 1-3'!$B$6*0.5*('Part 1-3'!$B$18^2)*'Part 1-3'!$B$7*'Part 1-3'!$B$9)/2) -> 1792.1226 | P17: ='Part 1-3'!$D$15+(('Part 1-3'!$B$1*L17*'Part 1-3'!$B$3)/'Part 1-3'!$B$10)*0.49*0.53+(('Part 1-3'!$B$1*K17*'Part 1-3'!$B$3)/'Part 1-3'!$B$10)*0.49*0.53-(('Part 1-3'!$B$6*0.5*('Part 1-3'!$B$18^2)*'Part 1-3'!$B$7*'Part 1-3'!$B$9)/2) -> 1724.6005
G18: 1.5 | H18: a | J18: 75 | K18: 1.45 | L18: =1.5-K18 -> 0.05 | M18: ='Part 1-3'!$B$14+(('Part 1-3'!$B$1*L18*'Part 1-3'!$B$3)/'Part 1-3'!$B$10)*'Part 1-3'!$B$5*'Part 1-3'!$B$4+(('Part 1-3'!$B$1*K18*'Part 1-3'!$B$3)/'Part 1-3'!$B$10)*'Part 1-3'!$B$5*'Part 1-3'!$B$4-(('Part 1-3'!$B$6*0.5*('Part 1-3'!$B$18^2)*'Part 1-3'!$B$7*'Part 1-3'!$B$9)/2) -> 1597.2002 | N18: ='Part 1-3'!$B$15+(('Part 1-3'!$B$1*L18*'Part 1-3'!$B$3)/'Part 1-3'!$B$10)*0.49*'Part 1-3'!$B$4+(('Part 1-3'!$B$1*K18*'Part 1-3'!$B$3)/'Part 1-3'!$B$10)*0.49*'Part 1-3'!$B$4-(('Part 1-3'!$B$6*0.5*('Part 1-3'!$B$18^2)*'Part 1-3'!$B$7*'Part 1-3'!$B$9)/2) -> 1537.3221 | O18: ='Part 1-3'!$D$14+(('Part 1-3'!$B$1*L18*'Part 1-3'!$B$3)/'Part 1-3'!$B$10)*'Part 1-3'!$B$5*0.53+(('Part 1-3'!$B$1*K18*'Part 1-3'!$B$3)/'Part 1-3'!$B$10)*'Part 1-3'!$B$5*0.53-(('Part 1-3'!$B$6*0.5*('Part 1-3'!$B$18^2)*'Part 1-3'!$B$7*'Part 1-3'!$B$9)/2) -> 1792.1226 | P18: ='Part 1-3'!$D$15+(('Part 1-3'!$B$1*L18*'Part 1-3'!$B$3)/'Part 1-3'!$B$10)*0.49*0.53+(('Part 1-3'!$B$1*K18*'Part 1-3'!$B$3)/'Part 1-3'!$B$10)*0.49*0.53-(('Part 1-3'!$B$6*0.5*('Part 1-3'!$B$18^2)*'Part 1-3'!$B$7*'Part 1-3'!$B$9)/2) -> 1724.6005
I19: Sin(A)=a/1.5 | J19: 80 | K19: 1.48 | L19: =1.5-K19 -> 0.02 | M19: ='Part 1-3'!$B$14+(('Part 1-3'!$B$1*L19*'Part 1-3'!$B$3)/'Part 1-3'!$B$10)*'Part 1-3'!$B$5*'Part 1-3'!$B$4+(('Part 1-3'!$B$1*K19*'Part 1-3'!$B$3)/'Part 1-3'!$B$10)*'Part 1-3'!$B$5*'Part 1-3'!$B$4-(('Part 1-3'!$B$6*0.5*('Part 1-3'!$B$18^2)*'Part 1-3'!$B$7*'Part 1-3'!$B$9)/2) -> 1597.2002 | N19: ='Part 1-3'!$B$15+(('Part 1-3'!$B$1*L19*'Part 1-3'!$B$3)/'Part 1-3'!$B$10)*0.49*'Part 1-3'!$B$4+(('Part 1-3'!$B$1*K19*'Part 1-3'!$B$3)/'Part 1-3'!$B$10)*0.49*'Part 1-3'!$B$4-(('Part 1-3'!$B$6*0.5*('Part 1-3'!$B$18^2)*'Part 1-3'!$B$7*'Part 1-3'!$B$9)/2) -> 1537.3221 | O19: ='Part 1-3'!$D$14+(('Part 1-3'!$B$1*L19*'Part 1-3'!$B$3)/'Part 1-3'!$B$10)*'Part 1-3'!$B$5*0.53+(('Part 1-3'!$B$1*K19*'Part 1-3'!$B$3)/'Part 1-3'!$B$10)*'Part 1-3'!$B$5*0.53-(('Part 1-3'!$B$6*0.5*('Part 1-3'!$B$18^2)*'Part 1-3'!$B$7*'Part 1-3'!$B$9)/2) -> 1792.1226 | P19: ='Part 1-3'!$D$15+(('Part 1-3'!$B$1*L19*'Part 1-3'!$B$3)/'Part 1-3'!$B$10)*0.49*0.53+(('Part 1-3'!$B$1*K19*'Part 1-3'!$B$3)/'Part 1-3'!$B$10)*0.49*0.53-(('Part 1-3'!$B$6*0.5*('Part 1-3'!$B$18^2)*'Part 1-3'!$B$7*'Part 1-3'!$B$9)/2) -> 1724.6005
I20: a=1.5Sin(45) | J20: 85 | K20: 1.49 | L20: =1.5-K20 -> 0.01 | M20: ='Part 1-3'!$B$14+(('Part 1-3'!$B$1*L20*'Part 1-3'!$B$3)/'Part 1-3'!$B$10)*'Part 1-3'!$B$5*'Part 1-3'!$B$4+(('Part 1-3'!$B$1*K20*'Part 1-3'!$B$3)/'Part 1-3'!$B$10)*'Part 1-3'!$B$5*'Part 1-3'!$B$4-(('Part 1-3'!$B$6*0.5*('Part 1-3'!$B$18^2)*'Part 1-3'!$B$7*'Part 1-3'!$B$9)/2) -> 1597.2002 | N20: ='Part 1-3'!$B$15+(('Part 1-3'!$B$1*L20*'Part 1-3'!$B$3)/'Part 1-3'!$B$10)*0.49*'Part 1-3'!$B$4+(('Part 1-3'!$B$1*K20*'Part 1-3'!$B$3)/'Part 1-3'!$B$10)*0.49*'Part 1-3'!$B$4-(('Part 1-3'!$B$6*0.5*('Part 1-3'!$B$18^2)*'Part 1-3'!$B$7*'Part 1-3'!$B$9)/2) -> 1537.3221 | O20: ='Part 1-3'!$D$14+(('Part 1-3'!$B$1*L20*'Part 1-3'!$B$3)/'Part 1-3'!$B$10)*'Part 1-3'!$B$5*0.53+(('Part 1-3'!$B$1*K20*'Part 1-3'!$B$3)/'Part 1-3'!$B$10)*'Part 1-3'!$B$5*0.53-(('Part 1-3'!$B$6*0.5*('Part 1-3'!$B$18^2)*'Part 1-3'!$B$7*'Part 1-3'!$B$9)/2) -> 1792.1226 | P20: ='Part 1-3'!$D$15+(('Part 1-3'!$B$1*L20*'Part 1-3'!$B$3)/'Part 1-3'!$B$10)*0.49*0.53+(('Part 1-3'!$B$1*K20*'Part 1-3'!$B$3)/'Part 1-3'!$B$10)*0.49*0.53-(('Part 1-3'!$B$6*0.5*('Part 1-3'!$B$18^2)*'Part 1-3'!$B$7*'Part 1-3'!$B$9)/2) -> 1724.6005
D21: Right Turn | F21: A | G21: b | H21: C | J21: 90 | K21: 1.5 | L21: =1.5-K21 -> 0 | M21: ='Part 1-3'!$B$14+(('Part 1-3'!$B$1*L21*'Part 1-3'!$B$3)/'Part 1-3'!$B$10)*'Part 1-3'!$B$5*'Part 1-3'!$B$4+(('Part 1-3'!$B$1*K21*'Part 1-3'!$B$3)/'Part 1-3'!$B$10)*'Part 1-3'!$B$5*'Part 1-3'!$B$4-(('Part 1-3'!$B$6*0.5*('Part 1-3'!$B$18^2)*'Part 1-3'!$B$7*'Part 1-3'!$B$9)/2) -> 1597.2002 | N21: ='Part 1-3'!$B$15+(('Part 1-3'!$B$1*L21*'Part 1-3'!$B$3)/'Part 1-3'!$B$10)*0.49*'Part 1-3'!$B$4+(('Part 1-3'!$B$1*K21*'Part 1-3'!$B$3)/'Part 1-3'!$B$10)*0.49*'Part 1-3'!$B$4-(('Part 1-3'!$B$6*0.5*('Part 1-3'!$B$18^2)*'Part 1-3'!$B$7*'Part 1-3'!$B$9)/2) -> 1537.3221 | O21: ='Part 1-3'!$D$14+(('Part 1-3'!$B$1*L21*'Part 1-3'!$B$3)/'Part 1-3'!$B$10)*'Part 1-3'!$B$5*0.53+(('Part 1-3'!$B$1*K21*'Part 1-3'!$B$3)/'Part 1-3'!$B$10)*'Part 1-3'!$B$5*0.53-(('Part 1-3'!$B$6*0.5*('Part 1-3'!$B$18^2)*'Part 1-3'!$B$7*'Part 1-3'!$B$9)/2) -> 1792.1226 | P21: ='Part 1-3'!$D$15+(('Part 1-3'!$B$1*L21*'Part 1-3'!$B$3)/'Part 1-3'!$B$10)*0.49*0.53+(('Part 1-3'!$B$1*K21*'Part 1-3'!$B$3)/'Part 1-3'!$B$10)*0.49*0.53-(('Part 1-3'!$B$6*0.5*('Part 1-3'!$B$18^2)*'Part 1-3'!$B$7*'Part 1-3'!$B$9)/2) -> 1724.6005
K22: Lateral and Longitudinal acceleration is proportion to each other and add togeth to make 1.5 combined acceleration
