Workbook

Sheet Spreadsheet
B1: WLTP Class 3 | K1: Losses
B2: Phase | C2: Total Elapsed Time | D2: Phase Elapsed Time | E2: Vehicle Speed | F2: Vehicle Speed | G2: Acceleration | H2: Distance Travelled Each Second | J2: Acceleration Force | K2: Rolling Resistance | L2: Aero Force | M2: Total Resistive Forces (Tractive Effort) | N2: Power | O2: Tractive Power | P2: Tractive Energy | Q2: Braking Energy | R2: Cumulative Tractive Energy | S2: Cumulative Braking Energy | T2: Cumulative Tractive Energy | U2: Cumulative Braking Energy | V2: Cumulative Braking Energy (Inverted) | W2: KERS Input | X2: KERS Input | Y2: KERS Output (Efficiency (73%)) | Z2: KE Losses Due to Drag & Rolling Resistance | AA2: KERS Output to Wheels | AC2: Kinetic Energy Recovery Spikes | AD2: Sum of Individual KER Spikes | AE2: Average (Mean) KER Spike | AF2: Max KER Spike
B3: Phase | C3: s | D3: s | E3: km/h | F3: m/s | G3: m/s² | H3: m | J3: N | K3: N | L3: N | M3: N | N3: W | O3: W | P3: J | Q3: J | R3: J | S3: J | T3: kWh | U3: kWh | V3: kWh | W3: J | X3: kJ | Y3: kJ | Z3: kJ | AA3: kJ | AC3: J | AD3: J | AE3: J | AF3: J
B4: Low | C4: 0 | D4: 0 | E4: 0 | F4: =E4/3.6 -> 0 | G4: =($F5-0)/2 -> 0 | H4: =F4*C4 -> 0 | J4: {='Car Specs and Assumptions'!$C$5*G4:G1804} -> 0 | K4: ='Car Specs and Assumptions'!$C$5*9.81*'Car Specs and Assumptions'!$F$5 -> 145.0899 | L4: {=0.5*'Car Specs and Assumptions'!G5*'Car Specs and Assumptions'!E5*'Car Specs and Assumptions'!D5*(F4:F1804*F4:F1804)} -> 0 | M4: {=_xlfn.ANCHORARRAY(J4)-K4:K1804-_xlfn.ANCHORARRAY(L4)} -> -145.0899 | N4: {=_xlfn.ANCHORARRAY(M4)*F4:F1804} -> 0 | O4: =IF(N4>0,N4,0) -> 0 | P4: =IF(F4>0,(K4+L4)*F4,0) -> 0 | Q4: =IF(J4*-1>(K4+L4),(((J4*-1)-K4-L4))*F4,0) -> 0 | R4: =P4 -> 0 | S4: =Q4 -> 0 | T4: =R4*0.0000002778 -> 0 | U4: =S4*0.0000002778 -> 0 | V4: {=(U4:U1804)*-1} -> 0 | W4: =0.5*'Car Specs and Assumptions'!$C$5*(F4*F4) -> 0 | X4: =W4/1000 -> 0 | Y4: =0.73*X4 -> 0 | Z4: =(H4*(K4+L4))/1000 -> 0 | AA4: =Y4-Z4 -> 0 | AC4: =IF(Q4>10000,Q4,0) -> 0 | AE4: =(AD42+AD46+AD95+AD157+AD177+AD244+AD250+AD281+AD442+AD661+AD666+AD684+AD763+AD800+AD817+AD908+AD958+AD978+AD1059+AD1133+AD1363+AD1382+AD1407+AD1426+AD1437+AD1532+AD1738+AD1780)/116 -> 15387.6 | AF4: =MAX(AC4:AC1804) -> 28714.551
B5: Low | C5: 1 | D5: 1 | E5: 0 | F5: =E5/3.6 -> 0 | G5: =($F6-$F4)/2 -> 0 | H5: =F5*C5 -> 0 | J5: 0 | K5: ='Car Specs and Assumptions'!$C$5*9.81*'Car Specs and Assumptions'!$F$5 -> 145.0899 | L5: 0 | M5: -145.0899 | N5: 0 | O5: =IF(N5>0,N5,0) -> 0 | P5: =IF(F5>0,(K5+L5)*F5,0) -> 0 | Q5: =IF(J5*-1>(K5+L5),(((J5*-1)-K5-L5))*F5,0) -> 0 | R5: =R4+P5 -> 0 | S5: =S4+Q5 -> 0 | T5: =R5*0.0000002778 -> 0 | U5: =S5*0.0000002778 -> 0 | V5: 0 | W5: =0.5*'Car Specs and Assumptions'!$C$5*(F5*F5) -> 0 | X5: =W5/1000 -> 0 | Y5: =0.73*X5 -> 0 | Z5: =(H5*(K5+L5))/1000 -> 0 | AA5: =Y5-Z5 -> 0 | AC5: =IF(Q5>10000,Q5,0) -> 0 | AH5: Key
B6: Low | C6: 2 | D6: 2 | E6: 0 | F6: =E6/3.6 -> 0 | G6: =($F7-$F5)/2 -> 0 | H6: =F6*$C$5 -> 0 | J6: 0 | K6: ='Car Specs and Assumptions'!$C$5*9.81*'Car Specs and Assumptions'!$F$5 -> 145.0899 | L6: 0 | M6: -145.0899 | N6: 0 | O6: =IF(N6>0,N6,0) -> 0 | P6: =IF(F6>0,(K6+L6)*F6,0) -> 0 | Q6: =IF(J6*-1>(K6+L6),(((J6*-1)-K6-L6))*F6,0) -> 0 | R6: =R5+P6 -> 0 | S6: =S5+Q6 -> 0 | T6: =R6*0.0000002778 -> 0 | U6: =S6*0.0000002778 -> 0 | V6: 0 | W6: =0.5*'Car Specs and Assumptions'!$C$5*(F6*F6) -> 0 | X6: =W6/1000 -> 0 | Y6: =0.73*X6 -> 0 | Z6: =(H6*(K6+L6))/1000 -> 0 | AA6: =Y6-Z6 -> 0 | AC6: =IF(Q6>10000,Q6,0) -> 0 | AH6: Phase | AI6: KER
B7: Low | C7: 3 | D7: 3 | E7: 0 | F7: =E7/3.6 -> 0 | G7: =($F8-$F6)/2 -> 0 | H7: =F7*$C$5 -> 0 | J7: 0 | K7: ='Car Specs and Assumptions'!$C$5*9.81*'Car Specs and Assumptions'!$F$5 -> 145.0899 | L7: 0 | M7: -145.0899 | N7: 0 | O7: =IF(N7>0,N7,0) -> 0 | P7: =IF(F7>0,(K7+L7)*F7,0) -> 0 | Q7: =IF(J7*-1>(K7+L7),(((J7*-1)-K7-L7))*F7,0) -> 0 | R7: =R6+P7 -> 0 | S7: =S6+Q7 -> 0 | T7: =R7*0.0000002778 -> 0 | U7: =S7*0.0000002778 -> 0 | V7: 0 | W7: =0.5*'Car Specs and Assumptions'!$C$5*(F7*F7) -> 0 | X7: =W7/1000 -> 0 | Y7: =0.73*X7 -> 0 | Z7: =(H7*(K7+L7))/1000 -> 0 | AA7: =Y7-Z7 -> 0 | AC7: =IF(Q7>10000,Q7,0) -> 0 | AH7: Low | AI7: No KER Spike
B8: Low | C8: 4 | D8: 4 | E8: 0 | F8: =E8/3.6 -> 0 | G8: =($F9-$F7)/2 -> 0 | H8: =F8*$C$5 -> 0 | J8: 0 | K8: ='Car Specs and Assumptions'!$C$5*9.81*'Car Specs and Assumptions'!$F$5 -> 145.0899 | L8: 0 | M8: -145.0899 | N8: 0 | O8: =IF(N8>0,N8,0) -> 0 | P8: =IF(F8>0,(K8+L8)*F8,0) -> 0 | Q8: =IF(J8*-1>(K8+L8),(((J8*-1)-K8-L8))*F8,0) -> 0 | R8: =R7+P8 -> 0 | S8: =S7+Q8 -> 0 | T8: =R8*0.0000002778 -> 0 | U8: =S8*0.0000002778 -> 0 | V8: 0 | W8: =0.5*'Car Specs and Assumptions'!$C$5*(F8*F8) -> 0 | X8: =W8/1000 -> 0 | Y8: =0.73*X8 -> 0 | Z8: =(H8*(K8+L8))/1000 -> 0 | AA8: =Y8-Z8 -> 0 | AC8: =IF(Q8>10000,Q8,0) -> 0 | AH8: Middle | AI8: KER Spike
B9: Low | C9: 5 | D9: 5 | E9: 0 | F9: =E9/3.6 -> 0 | G9: =($F10-$F8)/2 -> 0 | H9: =F9*$C$5 -> 0 | J9: 0 | K9: ='Car Specs and Assumptions'!$C$5*9.81*'Car Specs and Assumptions'!$F$5 -> 145.0899 | L9: 0 | M9: -145.0899 | N9: 0 | O9: =IF(N9>0,N9,0) -> 0 | P9: =IF(F9>0,(K9+L9)*F9,0) -> 0 | Q9: =IF(J9*-1>(K9+L9),(((J9*-1)-K9-L9))*F9,0) -> 0 | R9: =R8+P9 -> 0 | S9: =S8+Q9 -> 0 | T9: =R9*0.0000002778 -> 0 | U9: =S9*0.0000002778 -> 0 | V9: 0 | W9: =0.5*'Car Specs and Assumptions'!$C$5*(F9*F9) -> 0 | X9: =W9/1000 -> 0 | Y9: =0.73*X9 -> 0 | Z9: =(H9*(K9+L9))/1000 -> 0 | AA9: =Y9-Z9 -> 0 | AC9: =IF(Q9>10000,Q9,0) -> 0 | AH9: High
B10: Low | C10: 6 | D10: 6 | E10: 0 | F10: =E10/3.6 -> 0 | G10: =($F11-$F9)/2 -> 0 | H10: =F10*$C$5 -> 0 | J10: 0 | K10: ='Car Specs and Assumptions'!$C$5*9.81*'Car Specs and Assumptions'!$F$5 -> 145.0899 | L10: 0 | M10: -145.0899 | N10: 0 | O10: =IF(N10>0,N10,0) -> 0 | P10: =IF(F10>0,(K10+L10)*F10,0) -> 0 | Q10: =IF(J10*-1>(K10+L10),(((J10*-1)-K10-L10))*F10,0) -> 0 | R10: =R9+P10 -> 0 | S10: =S9+Q10 -> 0 | T10: =R10*0.0000002778 -> 0 | U10: =S10*0.0000002778 -> 0 | V10: 0 | W10: =0.5*'Car Specs and Assumptions'!$C$5*(F10*F10) -> 0 | X10: =W10/1000 -> 0 | Y10: =0.73*X10 -> 0 | Z10: =(H10*(K10+L10))/1000 -> 0 | AA10: =Y10-Z10 -> 0 | AC10: =IF(Q10>10000,Q10,0) -> 0 | AH10: Extra-High
B11: Low | C11: 7 | D11: 7 | E11: 0 | F11: =E11/3.6 -> 0 | G11: =($F12-$F10)/2 -> 0 | H11: =F11*$C$5 -> 0 | J11: 0 | K11: ='Car Specs and Assumptions'!$C$5*9.81*'Car Specs and Assumptions'!$F$5 -> 145.0899 | L11: 0 | M11: -145.0899 | N11: 0 | O11: =IF(N11>0,N11,0) -> 0 | P11: =IF(F11>0,(K11+L11)*F11,0) -> 0 | Q11: =IF(J11*-1>(K11+L11),(((J11*-1)-K11-L11))*F11,0) -> 0 | R11: =R10+P11 -> 0 | S11: =S10+Q11 -> 0 | T11: =R11*0.0000002778 -> 0 | U11: =S11*0.0000002778 -> 0 | V11: 0 | W11: =0.5*'Car Specs and Assumptions'!$C$5*(F11*F11) -> 0 | X11: =W11/1000 -> 0 | Y11: =0.73*X11 -> 0 | Z11: =(H11*(K11+L11))/1000 -> 0 | AA11: =Y11-Z11 -> 0 | AC11: =IF(Q11>10000,Q11,0) -> 0
B12: Low | C12: 8 | D12: 8 | E12: 0 | F12: =E12/3.6 -> 0 | G12: =($F13-$F11)/2 -> 0 | H12: =F12*$C$5 -> 0 | J12: 0 | K12: ='Car Specs and Assumptions'!$C$5*9.81*'Car Specs and Assumptions'!$F$5 -> 145.0899 | L12: 0 | M12: -145.0899 | N12: 0 | O12: =IF(N12>0,N12,0) -> 0 | P12: =IF(F12>0,(K12+L12)*F12,0) -> 0 | Q12: =IF(J12*-1>(K12+L12),(((J12*-1)-K12-L12))*F12,0) -> 0 | R12: =R11+P12 -> 0 | S12: =S11+Q12 -> 0 | T12: =R12*0.0000002778 -> 0 | U12: =S12*0.0000002778 -> 0 | V12: 0 | W12: =0.5*'Car Specs and Assumptions'!$C$5*(F12*F12) -> 0 | X12: =W12/1000 -> 0 | Y12: =0.73*X12 -> 0 | Z12: =(H12*(K12+L12))/1000 -> 0 | AA12: =Y12-Z12 -> 0 | AC12: =IF(Q12>10000,Q12,0) -> 0
B13: Low | C13: 9 | D13: 9 | E13: 0 | F13: =E13/3.6 -> 0 | G13: =($F14-$F12)/2 -> 0 | H13: =F13*$C$5 -> 0 | J13: 0 | K13: ='Car Specs and Assumptions'!$C$5*9.81*'Car Specs and Assumptions'!$F$5 -> 145.0899 | L13: 0 | M13: -145.0899 | N13: 0 | O13: =IF(N13>0,N13,0) -> 0 | P13: =IF(F13>0,(K13+L13)*F13,0) -> 0 | Q13: =IF(J13*-1>(K13+L13),(((J13*-1)-K13-L13))*F13,0) -> 0 | R13: =R12+P13 -> 0 | S13: =S12+Q13 -> 0 | T13: =R13*0.0000002778 -> 0 | U13: =S13*0.0000002778 -> 0 | V13: 0 | W13: =0.5*'Car Specs and Assumptions'!$C$5*(F13*F13) -> 0 | X13: =W13/1000 -> 0 | Y13: =0.73*X13 -> 0 | Z13: =(H13*(K13+L13))/1000 -> 0 | AA13: =Y13-Z13 -> 0 | AC13: =IF(Q13>10000,Q13,0) -> 0
B14: Low | C14: 10 | D14: 10 | E14: 0 | F14: =E14/3.6 -> 0 | G14: =($F15-$F13)/2 -> 0 | H14: =F14*$C$5 -> 0 | J14: 0 | K14: ='Car Specs and Assumptions'!$C$5*9.81*'Car Specs and Assumptions'!$F$5 -> 145.0899 | L14: 0 | M14: -145.0899 | N14: 0 | O14: =IF(N14>0,N14,0) -> 0 | P14: =IF(F14>0,(K14+L14)*F14,0) -> 0 | Q14: =IF(J14*-1>(K14+L14),(((J14*-1)-K14-L14))*F14,0) -> 0 | R14: =R13+P14 -> 0 | S14: =S13+Q14 -> 0 | T14: =R14*0.0000002778 -> 0 | U14: =S14*0.0000002778 -> 0 | V14: 0 | W14: =0.5*'Car Specs and Assumptions'!$C$5*(F14*F14) -> 0 | X14: =W14/1000 -> 0 | Y14: =0.73*X14 -> 0 | Z14: =(H14*(K14+L14))/1000 -> 0 | AA14: =Y14-Z14 -> 0 | AC14: =IF(Q14>10000,Q14,0) -> 0
B15: Low | C15: 11 | D15: 11 | E15: 0 | F15: =E15/3.6 -> 0 | G15: =($F16-$F14)/2 -> 0.027777778 | H15: =F15*$C$5 -> 0 | J15: 41.083333 | K15: ='Car Specs and Assumptions'!$C$5*9.81*'Car Specs and Assumptions'!$F$5 -> 145.0899 | L15: 0 | M15: -104.00657 | N15: 0 | O15: =IF(N15>0,N15,0) -> 0 | P15: =IF(F15>0,(K15+L15)*F15,0) -> 0 | Q15: =IF(J15*-1>(K15+L15),(((J15*-1)-K15-L15))*F15,0) -> 0 | R15: =R14+P15 -> 0 | S15: =S14+Q15 -> 0 | T15: =R15*0.0000002778 -> 0 | U15: =S15*0.0000002778 -> 0 | V15: 0 | W15: =0.5*'Car Specs and Assumptions'!$C$5*(F15*F15) -> 0 | X15: =W15/1000 -> 0 | Y15: =0.73*X15 -> 0 | Z15: =(H15*(K15+L15))/1000 -> 0 | AA15: =Y15-Z15 -> 0 | AC15: =IF(Q15>10000,Q15,0) -> 0
B16: Low | C16: 12 | D16: 12 | E16: 0.2 | F16: =E16/3.6 -> 0.055555556 | G16: =($F17-$F15)/2 -> 0.23611111 | H16: =F16*$C$5 -> 0.055555556 | J16: 349.20833 | K16: ='Car Specs and Assumptions'!$C$5*9.81*'Car Specs and Assumptions'!$F$5 -> 145.0899 | L16: 0.0013146065 | M16: 204.11712 | N16: 11.33984 | O16: =IF(N16>0,N16,0) -> 11.33984 | P16: =IF(F16>0,(K16+L16)*F16,0) -> 8.060623 | Q16: =IF(J16*-1>(K16+L16),(((J16*-1)-K16-L16))*F16,0) -> 0 | R16: =R15+P16 -> 8.060623 | S16: =S15+Q16 -> 0 | T16: =R16*0.0000002778 -> 2.2392411e-06 | U16: =S16*0.0000002778 -> 0 | V16: 0 | W16: =0.5*'Car Specs and Assumptions'!$C$5*(F16*F16) -> 2.2824074 | X16: =W16/1000 -> 0.0022824074 | Y16: =0.73*X16 -> 0.0016661574 | Z16: =(H16*(K16+L16))/1000 -> 0.008060623 | AA16: =Y16-Z16 -> -0.0063944656 | AC16: =IF(Q16>10000,Q16,0) -> 0
B17: Low | C17: 13 | D17: 13 | E17: 1.7 | F17: =E17/3.6 -> 0.47222222 | G17: =($F18-$F16)/2 -> 0.72222222 | H17: =F17*$C$5 -> 0.47222222 | J17: 1068.1667 | K17: ='Car Specs and Assumptions'!$C$5*9.81*'Car Specs and Assumptions'!$F$5 -> 145.0899 | L17: 0.094980318 | M17: 922.98179 | N17: 435.85251 | O17: =IF(N17>0,N17,0) -> 435.85251 | P17: =IF(F17>0,(K17+L17)*F17,0) -> 68.559527 | Q17: =IF(J17*-1>(K17+L17),(((J17*-1)-K17-L17))*F17,0) -> 0 | R17: =R16+P17 -> 76.62015 | S17: =S16+Q17 -> 0 | T17: =R17*0.0000002778 -> 2.1285078e-05 | U17: =S17*0.0000002778 -> 0 | V17: 0 | W17: =0.5*'Car Specs and Assumptions'!$C$5*(F17*F17) -> 164.90394 | X17: =W17/1000 -> 0.16490394 | Y17: =0.73*X17 -> 0.12037987 | Z17: =(H17*(K17+L17))/1000 -> 0.068559527 | AA17: =Y17-Z17 -> 0.051820346 | AC17: =IF(Q17>10000,Q17,0) -> 0
B18: Low | C18: 14 | D18: 14 | E18: 5.4 | F18: =E18/3.6 -> 1.5 | G18: =($F19-$F17)/2 -> 1.1388889 | H18: =F18*$C$5 -> 1.5 | J18: 1684.4167 | K18: ='Car Specs and Assumptions'!$C$5*9.81*'Car Specs and Assumptions'!$F$5 -> 145.0899 | L18: 0.95834813 | M18: 1538.3684 | N18: 2307.5526 | O18: =IF(N18>0,N18,0) -> 2307.5526 | P18: =IF(F18>0,(K18+L18)*F18,0) -> 219.07237 | Q18: =IF(J18*-1>(K18+L18),(((J18*-1)-K18-L18))*F18,0) -> 0 | R18: =R17+P18 -> 295.69252 | S18: =S17+Q18 -> 0 | T18: =R18*0.0000002778 -> 8.2143383e-05 | U18: =S18*0.0000002778 -> 0 | V18: 0 | W18: =0.5*'Car Specs and Assumptions'!$C$5*(F18*F18) -> 1663.875 | X18: =W18/1000 -> 1.663875 | Y18: =0.73*X18 -> 1.2146287 | Z18: =(H18*(K18+L18))/1000 -> 0.21907237 | AA18: =Y18-Z18 -> 0.99555638 | AC18: =IF(Q18>10000,Q18,0) -> 0
B19: Low | C19: 15 | D19: 15 | E19: 9.9 | F19: =E19/3.6 -> 2.75 | G19: =($F20-$F18)/2 -> 1.0694444 | H19: =F19*$C$5 -> 2.75 | J19: 1581.7083 | K19: ='Car Specs and Assumptions'!$C$5*9.81*'Car Specs and Assumptions'!$F$5 -> 145.0899 | L19: 3.2211145 | M19: 1433.3973 | N19: 3941.8426 | O19: =IF(N19>0,N19,0) -> 3941.8426 | P19: =IF(F19>0,(K19+L19)*F19,0) -> 407.85529 | Q19: =IF(J19*-1>(K19+L19),(((J19*-1)-K19-L19))*F19,0) -> 0 | R19: =R18+P19 -> 703.54781 | S19: =S18+Q19 -> 0 | T19: =R19*0.0000002778 -> 0.00019544558 | U19: =S19*0.0000002778 -> 0 | V19: 0 | W19: =0.5*'Car Specs and Assumptions'!$C$5*(F19*F19) -> 5592.4688 | X19: =W19/1000 -> 5.5924688 | Y19: =0.73*X19 -> 4.0825022 | Z19: =(H19*(K19+L19))/1000 -> 0.40785529 | AA19: =Y19-Z19 -> 3.6746469 | AC19: =IF(Q19>10000,Q19,0) -> 0
B20: Low | C20: 16 | D20: 16 | E20: 13.1 | F20: =E20/3.6 -> 3.6388889 | G20: =($F21-$F19)/2 -> 0.97222222 | H20: =F20*$C$5 -> 3.6388889 | J20: 1437.9167 | K20: ='Car Specs and Assumptions'!$C$5*9.81*'Car Specs and Assumptions'!$F$5 -> 145.0899 | L20: 5.6399905 | M20: 1287.1868 | N20: 4683.9297 | O20: =IF(N20>0,N20,0) -> 4683.9297 | P20: =IF(F20>0,(K20+L20)*F20,0) -> 548.48932 | Q20: =IF(J20*-1>(K20+L20),(((J20*-1)-K20-L20))*F20,0) -> 0 | R20: =R19+P20 -> 1252.0371 | S20: =S19+Q20 -> 0 | T20: =R20*0.0000002778 -> 0.00034781592 | U20: =S20*0.0000002778 -> 0 | V20: 0 | W20: =0.5*'Car Specs and Assumptions'!$C$5*(F20*F20) -> 9792.0984 | X20: =W20/1000 -> 9.7920984 | Y20: =0.73*X20 -> 7.1482318 | Z20: =(H20*(K20+L20))/1000 -> 0.54848932 | AA20: =Y20-Z20 -> 6.5997425 | AC20: =IF(Q20>10000,Q20,0) -> 0
B21: Low | C21: 17 | D21: 17 | E21: 16.9 | F21: =E21/3.6 -> 4.6944444 | G21: =($F22-$F20)/2 -> 1.1944444 | H21: =F21*$C$5 -> 4.6944444 | J21: 1766.5833 | K21: ='Car Specs and Assumptions'!$C$5*9.81*'Car Specs and Assumptions'!$F$5 -> 145.0899 | L21: 9.3866189 | M21: 1612.1068 | N21: 7567.9459 | O21: =IF(N21>0,N21,0) -> 7567.9459 | P21: =IF(F21>0,(K21+L21)*F21,0) -> 725.18144 | Q21: =IF(J21*-1>(K21+L21),(((J21*-1)-K21-L21))*F21,0) -> 0 | R21: =R20+P21 -> 1977.2186 | S21: =S20+Q21 -> 0 | T21: =R21*0.0000002778 -> 0.00054927132 | U21: =S21*0.0000002778 -> 0 | V21: 0 | W21: =0.5*'Car Specs and Assumptions'!$C$5*(F21*F21) -> 16296.959 | X21: =W21/1000 -> 16.296959 | Y21: =0.73*X21 -> 11.89678 | Z21: =(H21*(K21+L21))/1000 -> 0.72518144 | AA21: =Y21-Z21 -> 11.171599 | AC21: =IF(Q21>10000,Q21,0) -> 0
B22: Low | C22: 18 | D22: 18 | E22: 21.7 | F22: =E22/3.6 -> 6.0277778 | G22: =($F23-$F21)/2 -> 1.2638889 | H22: =F22*$C$5 -> 6.0277778 | J22: 1869.2917 | K22: ='Car Specs and Assumptions'!$C$5*9.81*'Car Specs and Assumptions'!$F$5 -> 145.0899 | L22: 15.475876 | M22: 1708.7259 | N22: 10299.82 | O22: =IF(N22>0,N22,0) -> 10299.82 | P22: =IF(F22>0,(K22+L22)*F22,0) -> 967.85482 | Q22: =IF(J22*-1>(K22+L22),(((J22*-1)-K22-L22))*F22,0) -> 0 | R22: =R21+P22 -> 2945.0734 | S22: =S21+Q22 -> 0 | T22: =R22*0.0000002778 -> 0.00081814139 | U22: =S22*0.0000002778 -> 0 | V22: 0 | W22: =0.5*'Car Specs and Assumptions'!$C$5*(F22*F22) -> 26869.071 | X22: =W22/1000 -> 26.869071 | Y22: =0.73*X22 -> 19.614422 | Z22: =(H22*(K22+L22))/1000 -> 0.96785482 | AA22: =Y22-Z22 -> 18.646567 | AC22: =IF(Q22>10000,Q22,0) -> 0
... B41: Low | C41: 37 | D41: 37 | E41: 42.7 | F41: =E41/3.6 -> 11.861111 | G41: =($F42-$F40)/2 -> -0.59722222 | H41: =F41*$C$5 -> 11.861111 | J41: -883.29167 | K41: ='Car Specs and Assumptions'!$C$5*9.81*'Car Specs and Assumptions'!$F$5 -> 145.0899 | L41: 59.922721 | M41: -1088.3043 | N41: -12908.498 | O41: =IF(N41>0,N41,0) -> 0 | P41: =IF(F41>0,(K41+L41)*F41,0) -> 2431.6775 | Q41: =IF(J41*-1>(K41+L41),(((J41*-1)-K41-L41))*F41,0) -> 8045.1431 | R41: =R40+P41 -> 39718.33 | S41: =S40+Q41 -> 10015.154 | T41: =R41*0.0000002778 -> 0.011033752 | U41: =S41*0.0000002778 -> 0.0027822099 | V41: -0.0027822099 | W41: =0.5*'Car Specs and Assumptions'!$C$5*(F41*F41) -> 104037.27 | X41: =W41/1000 -> 104.03727 | Y41: =0.73*X41 -> 75.947203 | Z41: =(H41*(K41+L41))/1000 -> 2.4316775 | AA41: =Y41-Z41 -> 73.515526 | AC41: =IF(Q41>10000,Q41,0) -> 0
B42: Low | C42: 38 | D42: 38 | E42: 39.9 | F42: =E42/3.6 -> 11.083333 | G42: =($F43-$F41)/2 -> -0.79166667 | H42: =F42*$C$5 -> 11.083333 | J42: -1170.875 | K42: ='Car Specs and Assumptions'!$C$5*9.81*'Car Specs and Assumptions'!$F$5 -> 145.0899 | L42: 52.321667 | M42: -1368.2866 | N42: -15165.176 | O42: =IF(N42>0,N42,0) -> 0 | P42: =IF(F42>0,(K42+L42)*F42,0) -> 2187.9782 | Q42: =IF(J42*-1>(K42+L42),(((J42*-1)-K42-L42))*F42,0) -> 10789.22 | R42: =R41+P42 -> 41906.308 | S42: =S41+Q42 -> 20804.374 | T42: =R42*0.0000002778 -> 0.011641572 | U42: =S42*0.0000002778 -> 0.0057794551 | V42: -0.0057794551 | W42: =0.5*'Car Specs and Assumptions'!$C$5*(F42*F42) -> 90840.385 | X42: =W42/1000 -> 90.840385 | Y42: =0.73*X42 -> 66.313481 | Z42: =(H42*(K42+L42))/1000 -> 2.1879782 | AA42: =Y42-Z42 -> 64.125503 | AC42: =IF(Q42>10000,Q42,0) -> 10789.22 | AD42: =AC42 -> 10789.22
B43: Low | C43: 39 | D43: 39 | E43: 37 | F43: =E43/3.6 -> 10.277778 | G43: =($F44-$F42)/2 -> -0.73611111 | H43: =F43*$C$5 -> 10.277778 | J43: -1088.7083 | K43: ='Car Specs and Assumptions'!$C$5*9.81*'Car Specs and Assumptions'!$F$5 -> 145.0899 | L43: 44.992407 | M43: -1278.7906 | N43: -13143.126 | O43: =IF(N43>0,N43,0) -> 0 | P43: =IF(F43>0,(K43+L43)*F43,0) -> 1953.6237 | Q43: =IF(J43*-1>(K43+L43),(((J43*-1)-K43-L43))*F43,0) -> 9235.8786 | R43: =R42+P43 -> 43859.932 | S43: =S42+Q43 -> 30040.253 | T43: =R43*0.0000002778 -> 0.012184289 | U43: =S43*0.0000002778 -> 0.0083451822 | V43: -0.0083451822 | W43: =0.5*'Car Specs and Assumptions'!$C$5*(F43*F43) -> 78115.394 | X43: =W43/1000 -> 78.115394 | Y43: =0.73*X43 -> 57.024237 | Z43: =(H43*(K43+L43))/1000 -> 1.9536237 | AA43: =Y43-Z43 -> 55.070614 | AC43: =IF(Q43>10000,Q43,0) -> 0
B44: Low | C44: 40 | D44: 40 | E44: 34.6 | F44: =E44/3.6 -> 9.6111111 | G44: =($F45-$F43)/2 -> -0.65277778 | H44: =F44*$C$5 -> 9.6111111 | J44: -965.45833 | K44: ='Car Specs and Assumptions'!$C$5*9.81*'Car Specs and Assumptions'!$F$5 -> 145.0899 | L44: 39.344857 | M44: -1149.8931 | N44: -11051.75 | O44: =IF(N44>0,N44,0) -> 0 | P44: =IF(F44>0,(K44+L44)*F44,0) -> 1772.6229 | Q44: =IF(J44*-1>(K44+L44),(((J44*-1)-K44-L44))*F44,0) -> 7506.5044 | R44: =R43+P44 -> 45632.555 | S44: =S43+Q44 -> 37546.757 | T44: =R44*0.0000002778 -> 0.012676724 | U44: =S44*0.0000002778 -> 0.010430489 | V44: -0.010430489 | W44: =0.5*'Car Specs and Assumptions'!$C$5*(F44*F44) -> 68310.171 | X44: =W44/1000 -> 68.310171 | Y44: =0.73*X44 -> 49.866425 | Z44: =(H44*(K44+L44))/1000 -> 1.7726229 | AA44: =Y44-Z44 -> 48.093802 | AC44: =IF(Q44>10000,Q44,0) -> 0
B45: Low | C45: 41 | D45: 41 | E45: 32.3 | F45: =E45/3.6 -> 8.9722222 | G45: =($F46-$F44)/2 -> -0.77777778 | H45: =F45*$C$5 -> 8.9722222 | J45: -1150.3333 | K45: ='Car Specs and Assumptions'!$C$5*9.81*'Car Specs and Assumptions'!$F$5 -> 145.0899 | L45: 34.287895 | M45: -1329.7111 | N45: -11930.464 | O45: =IF(N45>0,N45,0) -> 0 | P45: =IF(F45>0,(K45+L45)*F45,0) -> 1609.4174 | Q45: =IF(J45*-1>(K45+L45),(((J45*-1)-K45-L45))*F45,0) -> 8711.6289 | R45: =R44+P45 -> 47241.973 | S45: =S44+Q45 -> 46258.386 | T45: =R45*0.0000002778 -> 0.01312382 | U45: =S45*0.0000002778 -> 0.01285058 | V45: -0.01285058 | W45: =0.5*'Car Specs and Assumptions'!$C$5*(F45*F45) -> 59530.321 | X45: =W45/1000 -> 59.530321 | Y45: =0.73*X45 -> 43.457134 | Z45: =(H45*(K45+L45))/1000 -> 1.6094174 | AA45: =Y45-Z45 -> 41.847717 | AC45: =IF(Q45>10000,Q45,0) -> 0
B46: Low | C46: 42 | D46: 42 | E46: 29 | F46: =E46/3.6 -> 8.0555556 | G46: =($F47-$F45)/2 -> -1 | H46: =F46*$C$5 -> 8.0555556 | J46: -1479 | K46: ='Car Specs and Assumptions'!$C$5*9.81*'Car Specs and Assumptions'!$F$5 -> 145.0899 | L46: 27.639601 | M46: -1651.7295 | N46: -13305.599 | O46: =IF(N46>0,N46,0) -> 0 | P46: =IF(F46>0,(K46+L46)*F46,0) -> 1391.4321 | Q46: =IF(J46*-1>(K46+L46),(((J46*-1)-K46-L46))*F46,0) -> 10522.735 | R46: =R45+P46 -> 48633.405 | S46: =S45+Q46 -> 56781.12 | T46: =R46*0.0000002778 -> 0.01351036 | U46: =S46*0.0000002778 -> 0.015773795 | V46: -0.015773795 | W46: =0.5*'Car Specs and Assumptions'!$C$5*(F46*F46) -> 47987.616 | X46: =W46/1000 -> 47.987616 | Y46: =0.73*X46 -> 35.030959 | Z46: =(H46*(K46+L46))/1000 -> 1.3914321 | AA46: =Y46-Z46 -> 33.639527 | AC46: =IF(Q46>10000,Q46,0) -> 10522.735 | AD46: =AC46 -> 10522.735
B47: Low | C47: 43 | D47: 43 | E47: 25.1 | F47: =E47/3.6 -> 6.9722222 | G47: =($F48-$F46)/2 -> -0.94444444 | H47: =F47*$C$5 -> 6.9722222 | J47: -1396.8333 | K47: ='Car Specs and Assumptions'!$C$5*9.81*'Car Specs and Assumptions'!$F$5 -> 145.0899 | L47: 20.705381 | M47: -1562.6286 | N47: -10894.994 | O47: =IF(N47>0,N47,0) -> 0 | P47: =IF(F47>0,(K47+L47)*F47,0) -> 1155.9615 | Q47: =IF(J47*-1>(K47+L47),(((J47*-1)-K47-L47))*F47,0) -> 8583.0709 | R47: =R46+P47 -> 49789.366 | S47: =S46+Q47 -> 65364.191 | T47: =R47*0.0000002778 -> 0.013831486 | U47: =S47*0.0000002778 -> 0.018158172 | V47: -0.018158172 | W47: =0.5*'Car Specs and Assumptions'!$C$5*(F47*F47) -> 35948.487 | X47: =W47/1000 -> 35.948487 | Y47: =0.73*X47 -> 26.242396 | Z47: =(H47*(K47+L47))/1000 -> 1.1559615 | AA47: =Y47-Z47 -> 25.086434 | AC47: =IF(Q47>10000,Q47,0) -> 0
B48: Low | C48: 44 | D48: 44 | E48: 22.2 | F48: =E48/3.6 -> 6.1666667 | G48: =($F49-$F47)/2 -> -0.58333333 | H48: =F48*$C$5 -> 6.1666667 | J48: -862.75 | K48: ='Car Specs and Assumptions'!$C$5*9.81*'Car Specs and Assumptions'!$F$5 -> 145.0899 | L48: 16.197266 | M48: -1024.0372 | N48: -6314.8959 | O48: =IF(N48>0,N48,0) -> 0 | P48: =IF(F48>0,(K48+L48)*F48,0) -> 994.60419 | Q48: =IF(J48*-1>(K48+L48),(((J48*-1)-K48-L48))*F48,0) -> 4325.6875 | R48: =R47+P48 -> 50783.97 | S48: =S47+Q48 -> 69689.879 | T48: =R48*0.0000002778 -> 0.014107787 | U48: =S48*0.0000002778 -> 0.019359848 | V48: -0.019359848 | W48: =0.5*'Car Specs and Assumptions'!$C$5*(F48*F48) -> 28121.542 | X48: =W48/1000 -> 28.121542 | Y48: =0.73*X48 -> 20.528725 | Z48: =(H48*(K48+L48))/1000 -> 0.99460419 | AA48: =Y48-Z48 -> 19.534121 | AC48: =IF(Q48>10000,Q48,0) -> 0
B49: Low | C49: 45 | D49: 45 | E49: 20.9 | F49: =E49/3.6 -> 5.8055556 | G49: =($F50-$F48)/2 -> -0.25 | H49: =F49*$C$5 -> 5.8055556 | J49: -369.75 | K49: ='Car Specs and Assumptions'!$C$5*9.81*'Car Specs and Assumptions'!$F$5 -> 145.0899 | L49: 14.355831 | M49: -529.19573 | N49: -3072.2752 | O49: =IF(N49>0,N49,0) -> 0 | P49: =IF(F49>0,(K49+L49)*F49,0) -> 925.67105 | Q49: =IF(J49*-1>(K49+L49),(((J49*-1)-K49-L49))*F49,0) -> 1220.9331 | R49: =R48+P49 -> 51709.641 | S49: =S48+Q49 -> 70910.812 | T49: =R49*0.0000002778 -> 0.014364938 | U49: =S49*0.0000002778 -> 0.019699024 | V49: -0.019699024 | W49: =0.5*'Car Specs and Assumptions'!$C$5*(F49*F49) -> 24924.459 | X49: =W49/1000 -> 24.924459 | Y49: =0.73*X49 -> 18.194855 | Z49: =(H49*(K49+L49))/1000 -> 0.92567105 | AA49: =Y49-Z49 -> 17.269184 | AC49: =IF(Q49>10000,Q49,0) -> 0
B50: Low | C50: 46 | D50: 46 | E50: 20.4 | F50: =E50/3.6 -> 5.6666667 | G50: =($F51-$F49)/2 -> -0.19444444 | H50: =F50*$C$5 -> 5.6666667 | J50: -287.58333 | K50: ='Car Specs and Assumptions'!$C$5*9.81*'Car Specs and Assumptions'!$F$5 -> 145.0899 | L50: 13.677166 | M50: -446.3504 | N50: -2529.3189 | O50: =IF(N50>0,N50,0) -> 0 | P50: =IF(F50>0,(K50+L50)*F50,0) -> 899.68004 | Q50: =IF(J50*-1>(K50+L50),(((J50*-1)-K50-L50))*F50,0) -> 729.95885 | R50: =R49+P50 -> 52609.321 | S50: =S49+Q50 -> 71640.771 | T50: =R50*0.0000002778 -> 0.014614869 | U50: =S50*0.0000002778 -> 0.019901806 | V50: -0.019901806 | W50: =0.5*'Car Specs and Assumptions'!$C$5*(F50*F50) -> 23746.167 | X50: =W50/1000 -> 23.746167 | Y50: =0.73*X50 -> 17.334702 | Z50: =(H50*(K50+L50))/1000 -> 0.89968004 | AA50: =Y50-Z50 -> 16.435022 | AC50: =IF(Q50>10000,Q50,0) -> 0
B51: Low | C51: 47 | D51: 47 | E51: 19.5 | F51: =E51/3.6 -> 5.4166667 | G51: =($F52-$F50)/2 -> -0.27777778 | H51: =F51*$C$5 -> 5.4166667 | J51: -410.83333 | K51: ='Car Specs and Assumptions'!$C$5*9.81*'Car Specs and Assumptions'!$F$5 -> 145.0899 | L51: 12.496978 | M51: -568.42021 | N51: -3078.9428 | O51: =IF(N51>0,N51,0) -> 0 | P51: =IF(F51>0,(K51+L51)*F51,0) -> 853.59559 | Q51: =IF(J51*-1>(K51+L51),(((J51*-1)-K51-L51))*F51,0) -> 1371.7516 | R51: =R50+P51 -> 53462.917 | S51: =S50+Q51 -> 73012.522 | T51: =R51*0.0000002778 -> 0.014851998 | U51: =S51*0.0000002778 -> 0.020282879 | V51: -0.020282879 | W51: =0.5*'Car Specs and Assumptions'!$C$5*(F51*F51) -> 21697.135 | X51: =W51/1000 -> 21.697135 | Y51: =0.73*X51 -> 15.838909 | Z51: =(H51*(K51+L51))/1000 -> 0.85359559 | AA51: =Y51-Z51 -> 14.985313 | AC51: =IF(Q51>10000,Q51,0) -> 0
B52: Low | C52: 48 | D52: 48 | E52: 18.4 | F52: =E52/3.6 -> 5.1111111 | G52: =($F53-$F51)/2 -> -0.23611111 | H52: =F52*$C$5 -> 5.1111111 | J52: -349.20833 | K52: ='Car Specs and Assumptions'!$C$5*9.81*'Car Specs and Assumptions'!$F$5 -> 145.0899 | L52: 11.126829 | M52: -505.42506 | N52: -2583.2837 | O52: =IF(N52>0,N52,0) -> 0 | P52: =IF(F52>0,(K52+L52)*F52,0) -> 798.44106 | Q52: =IF(J52*-1>(K52+L52),(((J52*-1)-K52-L52))*F52,0) -> 986.40153 | R52: =R51+P52 -> 54261.358 | S52: =S51+Q52 -> 73998.924 | T52: =R52*0.0000002778 -> 0.015073805 | U52: =S52*0.0000002778 -> 0.020556901 | V52: -0.020556901 | W52: =0.5*'Car Specs and Assumptions'!$C$5*(F52*F52) -> 19318.296 | X52: =W52/1000 -> 19.318296 | Y52: =0.73*X52 -> 14.102356 | Z52: =(H52*(K52+L52))/1000 -> 0.79844106 | AA52: =Y52-Z52 -> 13.303915 | AC52: =IF(Q52>10000,Q52,0) -> 0
B53: Low | C53: 49 | D53: 49 | E53: 17.8 | F53: =E53/3.6 -> 4.9444444 | G53: =($F54-$F52)/2 -> -0.083333333 | H53: =F53*$C$5 -> 4.9444444 | J53: -123.25 | K53: ='Car Specs and Assumptions'!$C$5*9.81*'Car Specs and Assumptions'!$F$5 -> 145.0899 | L53: 10.412998 | M53: -278.7529 | N53: -1378.2782 | O53: =IF(N53>0,N53,0) -> 0 | P53: =IF(F53>0,(K53+L53)*F53,0) -> 768.87544 | Q53: =IF(J53*-1>(K53+L53),(((J53*-1)-K53-L53))*F53,0) -> 0 | R53: =R52+P53 -> 55030.234 | S53: =S52+Q53 -> 73998.924 | T53: =R53*0.0000002778 -> 0.015287399 | U53: =S53*0.0000002778 -> 0.020556901 | V53: -0.020556901 | W53: =0.5*'Car Specs and Assumptions'!$C$5*(F53*F53) -> 18078.949 | X53: =W53/1000 -> 18.078949 | Y53: =0.73*X53 -> 13.197633 | Z53: =(H53*(K53+L53))/1000 -> 0.76887544 | AA53: =Y53-Z53 -> 12.428757 | AC53: =IF(Q53>10000,Q53,0) -> 0
B54: Low | C54: 50 | D54: 50 | E54: 17.8 | F54: =E54/3.6 -> 4.9444444 | G54: =($F55-$F53)/2 -> -0.055555556 | H54: =F54*$C$5 -> 4.9444444 | J54: -82.166667 | K54: ='Car Specs and Assumptions'!$C$5*9.81*'Car Specs and Assumptions'!$F$5 -> 145.0899 | L54: 10.412998 | M54: -237.66956 | N54: -1175.144 | O54: =IF(N54>0,N54,0) -> 0 | P54: =IF(F54>0,(K54+L54)*F54,0) -> 768.87544 | Q54: =IF(J54*-1>(K54+L54),(((J54*-1)-K54-L54))*F54,0) -> 0 | R54: =R53+P54 -> 55799.109 | S54: =S53+Q54 -> 73998.924 | T54: =R54*0.0000002778 -> 0.015500992 | U54: =S54*0.0000002778 -> 0.020556901 | V54: -0.020556901 | W54: =0.5*'Car Specs and Assumptions'!$C$5*(F54*F54) -> 18078.949 | X54: =W54/1000 -> 18.078949 | Y54: =0.73*X54 -> 13.197633 | Z54: =(H54*(K54+L54))/1000 -> 0.76887544 | AA54: =Y54-Z54 -> 12.428757 | AC54: =IF(Q54>10000,Q54,0) -> 0
B55: Low | C55: 51 | D55: 51 | E55: 17.4 | F55: =E55/3.6 -> 4.8333333 | G55: =($F56-$F54)/2 -> -0.29166667 | H55: =F55*$C$5 -> 4.8333333 | J55: -431.375 | K55: ='Car Specs and Assumptions'!$C$5*9.81*'Car Specs and Assumptions'!$F$5 -> 145.0899 | L55: 9.9502565 | M55: -586.41516 | N55: -2834.3399 | O55: =IF(N55>0,N55,0) -> 0 | P55: =IF(F55>0,(K55+L55)*F55,0) -> 749.36076 | Q55: =IF(J55*-1>(K55+L55),(((J55*-1)-K55-L55))*F55,0) -> 1335.6184 | R55: =R54+P55 -> 56548.47 | S55: =S54+Q55 -> 75334.542 | T55: =R55*0.0000002778 -> 0.015709165 | U55: =S55*0.0000002778 -> 0.020927936 | V55: -0.020927936 | W55: =0.5*'Car Specs and Assumptions'!$C$5*(F55*F55) -> 17275.542 | X55: =W55/1000 -> 17.275542 | Y55: =0.73*X55 -> 12.611145 | Z55: =(H55*(K55+L55))/1000 -> 0.74936076 | AA55: =Y55-Z55 -> 11.861785 | AC55: =IF(Q55>10000,Q55,0) -> 0
B56: Low | C56: 52 | D56: 52 | E56: 15.7 | F56: =E56/3.6 -> 4.3611111 | G56: =($F57-$F55)/2 -> -0.59722222 | H56: =F56*$C$5 -> 4.3611111 | J56: -883.29167 | K56: ='Car Specs and Assumptions'!$C$5*9.81*'Car Specs and Assumptions'!$F$5 -> 145.0899 | L56: 8.1009338 | M56: -1036.4825 | N56: -4520.2153 | O56: =IF(N56>0,N56,0) -> 0 | P56: =IF(F56>0,(K56+L56)*F56,0) -> 668.08225 | Q56: =IF(J56*-1>(K56+L56),(((J56*-1)-K56-L56))*F56,0) -> 3184.0509 | R56: =R55+P56 -> 57216.552 | S56: =S55+Q56 -> 78518.593 | T56: =R56*0.0000002778 -> 0.015894758 | U56: =S56*0.0000002778 -> 0.021812465 | V56: -0.021812465 | W56: =0.5*'Car Specs and Assumptions'!$C$5*(F56*F56) -> 14064.765 | X56: =W56/1000 -> 14.064765 | Y56: =0.73*X56 -> 10.267278 | Z56: =(H56*(K56+L56))/1000 -> 0.66808225 | AA56: =Y56-Z56 -> 9.5991962 | AC56: =IF(Q56>10000,Q56,0) -> 0
B57: Low | C57: 53 | D57: 53 | E57: 13.1 | F57: =E57/3.6 -> 3.6388889 | G57: =($F58-$F56)/2 -> -0.5 | H57: =F57*$C$5 -> 3.6388889 | J57: -739.5 | K57: ='Car Specs and Assumptions'!$C$5*9.81*'Car Specs and Assumptions'!$F$5 -> 145.0899 | L57: 5.6399905 | M57: -890.22989 | N57: -3239.4477 | O57: =IF(N57>0,N57,0) -> 0 | P57: =IF(F57>0,(K57+L57)*F57,0) -> 548.48932 | Q57: =IF(J57*-1>(K57+L57),(((J57*-1)-K57-L57))*F57,0) -> 2142.469 | R57: =R56+P57 -> 57765.041 | S57: =S56+Q57 -> 80661.062 | T57: =R57*0.0000002778 -> 0.016047128 | U57: =S57*0.0000002778 -> 0.022407643 | V57: -0.022407643 | W57: =0.5*'Car Specs and Assumptions'!$C$5*(F57*F57) -> 9792.0984 | X57: =W57/1000 -> 9.7920984 | Y57: =0.73*X57 -> 7.1482318 | Z57: =(H57*(K57+L57))/1000 -> 0.54848932 | AA57: =Y57-Z57 -> 6.5997425 | AC57: =IF(Q57>10000,Q57,0) -> 0
B58: Low | C58: 54 | D58: 54 | E58: 12.1 | F58: =E58/3.6 -> 3.3611111 | G58: =($F59-$F57)/2 -> -0.15277778 | H58: =F58*$C$5 -> 3.3611111 | J58: -225.95833 | K58: ='Car Specs and Assumptions'!$C$5*9.81*'Car Specs and Assumptions'!$F$5 -> 145.0899 | L58: 4.8117884 | M58: -375.86002 | N58: -1263.3073 | O58: =IF(N58>0,N58,0) -> 0 | P58: =IF(F58>0,(K58+L58)*F58,0) -> 503.83623 | Q58: =IF(J58*-1>(K58+L58),(((J58*-1)-K58-L58))*F58,0) -> 255.63483 | R58: =R57+P58 -> 58268.878 | S58: =S57+Q58 -> 80916.697 | T58: =R58*0.0000002778 -> 0.016187094 | U58: =S58*0.0000002778 -> 0.022478658 | V58: -0.022478658 | W58: =0.5*'Car Specs and Assumptions'!$C$5*(F58*F58) -> 8354.1817 | X58: =W58/1000 -> 8.3541817 | Y58: =0.73*X58 -> 6.0985527 | Z58: =(H58*(K58+L58))/1000 -> 0.50383623 | AA58: =Y58-Z58 -> 5.5947164 | AC58: =IF(Q58>10000,Q58,0) -> 0
...

Sheet Car Specs and Assumptions
B2: Toyota Celica Supra 2.8i 1982 - 1986
B3: Curb Mass | C3: Test Mass | D3: Coefficient of Drag (Cd) | E3: Frontal area | F3: Coefficient of Rolling Resistance | G3: Air Density | H3: Power/Mass Ratio
B4: Kg | C4: Kg | E4: m^2 | G4: Kg/m^3
B5: 1379 | C5: =B5+100 -> 1479 | D5: 0.38 | E5: 1.83 | F5: 0.01 | G5: 1.225 | H5: =125000/B5 -> 90.645395

Sheet Ultracapacitor KERS Info.
B2: Maximum Voltage | C2: Capacitance | D2: Maximum Current | E2: Maximum Resistance | F2: Maximum Stored Energy | G2: Maximum KERS Output to Wheels | H2: Energy Storage Depth of Discharge | I2: MGU & Drivetrain Efficiency | J2: Inverter Efficiency | K2: Ultracapacitor Efficiency | L2: Charger Efficiency | M2: Total Efficiency | O2: Max Length | P2: Max Width | Q2: Max Height
B3: V | C3: F | D3: A | E3: milli Ohms | F3: kJ | G3: kJ | H3: kJ | I3: % | J3: % | K3: % | L3: % | M3: % | O3: mm | P3: mm | Q3: mm
B4: 90 | C4: 172 | D4: 900 | E4: =(B4/D4)*1000 -> 100 | F4: =(0.5*C4*(B4*B4))/1000 -> 696.6 | G4: =MAX(Spreadsheet!AA4:AA1804) -> 692.14456 | H4: =F4-G4 -> 4.4554427 | I4: 0.9 | J4: 0.95 | K4: 0.9 | L4: 0.95 | M4: =I4*J4*K4*L4 -> 0.731025 | O4: 418 | P4: 194 | Q4: 179

Sheet Graphs
