Workbook

Sheet Spreadsheet
B1: WLTP Class 3 | K1: Losses
B2: Phase | C2: Total Elapsed Time | D2: Phase Elapsed Time | E2: Vehicle Speed | F2: Vehicle Speed | G2: Acceleration | H2: Distance Travelled Each Second | J2: Acceleration Force | K2: Rolling Resistance | L2: Aero Force | M2: Total Resistive Forces (Tractive Effort) | N2: Power | O2: Tractive Power | P2: Tractive Energy | Q2: Braking Energy | R2: Cumulative Tractive Energy | S2: Cumulative Braking Energy | T2: Cumulative Tractive Energy | U2: Cumulative Braking Energy | V2: Cumulative Braking Energy (Inverted) | W2: KERS Input | X2: KERS Input | Y2: KERS Output (Efficiency (73%)) | Z2: KE Losses Due to Drag & Rolling Resistance | AA2: KERS Output to Wheels | AC2: Kinetic Energy Recovery Spikes | AD2: Sum of Individual KER Spikes | AE2: Average (Mean) KER Spike | AF2: Max KER Spike
B3: Phase | C3: s | D3: s | E3: km/h | F3: m/s | G3: m/s² | H3: m | J3: N | K3: N | L3: N | M3: N | N3: W | O3: W | P3: J | Q3: J | R3: J | S3: J | T3: kWh | U3: kWh | V3: kWh | W3: J | X3: kJ | Y3: kJ | Z3: kJ | AA3: kJ | AC3: J | AD3: J | AE3: J | AF3: J
B4: Low | C4: 0 | D4: 0 | E4: 0 | F4: =E4/3.6 -> 0 | G4: =($F5-0)/2 -> 0 | H4: =F4*C4 -> 0 | J4: {='Car Specs and Assumptions'!$C$5*G4:G1804} -> 0 | K4: ='Car Specs and Assumptions'!$C$5*9.81*'Car Specs and Assumptions'!$F$5 -> 145.0899 | L4: {=0.5*'Car Specs and Assumptions'!G5*'Car Specs and Assumptions'!E5*'Car Specs and Assumptions'!D5*(F4:F1804*F4:F1804)} -> 0 | M4: {=_xlfn.ANCHORARRAY(J4)-K4:K1804-_xlfn.ANCHORARRAY(L4)} -> -145.0899 | N4: {=_xlfn.ANCHORARRAY(M4)*F4:F1804} -> 0 | O4: =IF(N4>0,N4,0) -> 0 | P4: =IF(F4>0,(K4+L4)*F4,0) -> 0 | Q4: =IF(J4*-1>(K4+L4),(((J4*-1)-K4-L4))*F4,0) -> 0 | R4: =P4 -> 0 | S4: =Q4 -> 0 | T4: =R4*0.0000002778 -> 0 | U4: =S4*0.0000002778 -> 0 | V4: {=(U4:U1804)*-1} -> 0 | W4: =0.5*'Car Specs and Assumptions'!$C$5*(F4*F4) -> 0 | X4: =W4/1000 -> 0 | Y4: =0.73*X4 -> 0 | Z4: =(H4*(K4+L4))/1000 -> 0 | AA4: =Y4-Z4 -> 0 | AC4: =IF(Q4>10000,Q4,0) -> 0 | AE4: =(AD42+AD46+AD95+AD157+AD177+AD244+AD250+AD281+AD442+AD661+AD666+AD684+AD763+AD800+AD817+AD908+AD958+AD978+AD1059+AD1133+AD1363+AD1382+AD1407+AD1426+AD1437+AD1532+AD1738+AD1780)/116 -> 15387.6 | AF4: =MAX(AC4:AC1804) -> 28714.551
B5: Low | C5: 1 | D5: 1 | E5: 0 | F5: =E5/3.6 -> 0 | G5: =($F6-$F4)/2 -> 0 | H5: =F5*C5 -> 0 | J5: 0 | K5: ='Car Specs and Assumptions'!$C$5*9.81*'Car Specs and Assumptions'!$F$5 -> 145.0899 | L5: 0 | M5: -145.0899 | N5: 0 | O5: =IF(N5>0,N5,0) -> 0 | P5: =IF(F5>0,(K5+L5)*F5,0) -> 0 | Q5: =IF(J5*-1>(K5+L5),(((J5*-1)-K5-L5))*F5,0) -> 0 | R5: =R4+P5 -> 0 | S5: =S4+Q5 -> 0 | T5: =R5*0.0000002778 -> 0 | U5: =S5*0.0000002778 -> 0 | V5: 0 | W5: =0.5*'Car Specs and Assumptions'!$C$5*(F5*F5) -> 0 | X5: =W5/1000 -> 0 | Y5: =0.73*X5 -> 0 | Z5: =(H5*(K5+L5))/1000 -> 0 | AA5: =Y5-Z5 -> 0 | AC5: =IF(Q5>10000,Q5,0) -> 0 | AH5: Key
B6: Low | C6: 2 | D6: 2 | E6: 0 | F6: =E6/3.6 -> 0 | G6: =($F7-$F5)/2 -> 0 | H6: =F6*$C$5 -> 0 | J6: 0 | K6: ='Car Specs and Assumptions'!$C$5*9.81*'Car Specs and Assumptions'!$F$5 -> 145.0899 | L6: 0 | M6: -145.0899 | N6: 0 | O6: =IF(N6>0,N6,0) -> 0 | P6: =IF(F6>0,(K6+L6)*F6,0) -> 0 | Q6: =IF(J6*-1>(K6+L6),(((J6*-1)-K6-L6))*F6,0) -> 0 | R6: =R5+P6 -> 0 | S6: =S5+Q6 -> 0 | T6: =R6*0.0000002778 -> 0 | U6: =S6*0.0000002778 -> 0 | V6: 0 | W6: =0.5*'Car Specs and Assumptions'!$C$5*(F6*F6) -> 0 | X6: =W6/1000 -> 0 | Y6: =0.73*X6 -> 0 | Z6: =(H6*(K6+L6))/1000 -> 0 | AA6: =Y6-Z6 -> 0 | AC6: =IF(Q6>10000,Q6,0) -> 0 | AH6: Phase | AI6: KER
B7: Low | C7: 3 | D7: 3 | E7: 0 | F7: =E7/3.6 -> 0 | G7: =($F8-$F6)/2 -> 0 | H7: =F7*$C$5 -> 0 | J7: 0 | K7: ='Car Specs and Assumptions'!$C$5*9.81*'Car Specs and Assumptions'!$F$5 -> 145.0899 | L7: 0 | M7: -145.0899 | N7: 0 | O7: =IF(N7>0,N7,0) -> 0 | P7: =IF(F7>0,(K7+L7)*F7,0) -> 0 | Q7: =IF(J7*-1>(K7+L7),(((J7*-1)-K7-L7))*F7,0) -> 0 | R7: =R6+P7 -> 0 | S7: =S6+Q7 -> 0 | T7: =R7*0.0000002778 -> 0 | U7: =S7*0.0000002778 -> 0 | V7: 0 | W7: =0.5*'Car Specs and Assumptions'!$C$5*(F7*F7) -> 0 | X7: =W7/1000 -> 0 | Y7: =0.73*X7 -> 0 | Z7: =(H7*(K7+L7))/1000 -> 0 | AA7: =Y7-Z7 -> 0 | AC7: =IF(Q7>10000,Q7,0) -> 0 | AH7: Low | AI7: No KER Spike
B8: Low | C8: 4 | D8: 4 | E8: 0 | F8: =E8/3.6 -> 0 | G8: =($F9-$F7)/2 -> 0 | H8: =F8*$C$5 -> 0 | J8: 0 | K8: ='Car Specs and Assumptions'!$C$5*9.81*'Car Specs and Assumptions'!$F$5 -> 145.0899 | L8: 0 | M8: -145.0899 | N8: 0 | O8: =IF(N8>0,N8,0) -> 0 | P8: =IF(F8>0,(K8+L8)*F8,0) -> 0 | Q8: =IF(J8*-1>(K8+L8),(((J8*-1)-K8-L8))*F8,0) -> 0 | R8: =R7+P8 -> 0 | S8: =S7+Q8 -> 0 | T8: =R8*0.0000002778 -> 0 | U8: =S8*0.0000002778 -> 0 | V8: 0 | W8: =0.5*'Car Specs and Assumptions'!$C$5*(F8*F8) -> 0 | X8: =W8/1000 -> 0 | Y8: =0.73*X8 -> 0 | Z8: =(H8*(K8+L8))/1000 -> 0 | AA8: =Y8-Z8 -> 0 | AC8: =IF(Q8>10000,Q8,0) -> 0 | AH8: Middle | AI8: KER Spike
B9: Low | C9: 5 | D9: 5 | E9: 0 | F9: =E9/3.6 -> 0 | G9: =($F10-$F8)/2 -> 0 | H9: =F9*$C$5 -> 0 | J9: 0 | K9: ='Car Specs and Assumptions'!$C$5*9.81*'Car Specs and Assumptions'!$F$5 -> 145.0899 | L9: 0 | M9: -145.0899 | N9: 0 | O9: =IF(N9>0,N9,0) -> 0 | P9: =IF(F9>0,(K9+L9)*F9,0) -> 0 | Q9: =IF(J9*-1>(K9+L9),(((J9*-1)-K9-L9))*F9,0) -> 0 | R9: =R8+P9 -> 0 | S9: =S8+Q9 -> 0 | T9: =R9*0.0000002778 -> 0 | U9: =S9*0.0000002778 -> 0 | V9: 0 | W9: =0.5*'Car Specs and Assumptions'!$C$5*(F9*F9) -> 0 | X9: =W9/1000 -> 0 | Y9: =0.73*X9 -> 0 | Z9: =(H9*(K9+L9))/1000 -> 0 | AA9: =Y9-Z9 -> 0 | AC9: =IF(Q9>10000,Q9,0) -> 0 | AH9: High
B10: Low | C10: 6 | D10: 6 | E10: 0 | F10: =E10/3.6 -> 0 | G10: =($F11-$F9)/2 -> 0 | H10: =F10*$C$5 -> 0 | J10: 0 | K10: ='Car Specs and Assumptions'!$C$5*9.81*'Car Specs and Assumptions'!$F$5 -> 145.0899 | L10: 0 | M10: -145.0899 | N10: 0 | O10: =IF(N10>0,N10,0) -> 0 | P10: =IF(F10>0,(K10+L10)*F10,0) -> 0 | Q10: =IF(J10*-1>(K10+L10),(((J10*-1)-K10-L10))*F10,0) -> 0 | R10: =R9+P10 -> 0 | S10: =S9+Q10 -> 0 | T10: =R10*0.0000002778 -> 0 | U10: =S10*0.0000002778 -> 0 | V10: 0 | W10: =0.5*'Car Specs and Assumptions'!$C$5*(F10*F10) -> 0 | X10: =W10/1000 -> 0 | Y10: =0.73*X10 -> 0 | Z10: =(H10*(K10+L10))/1000 -> 0 | AA10: =Y10-Z10 -> 0 | AC10: =IF(Q10>10000,Q10,0) -> 0 | AH10: Extra-High
B11: Low | C11: 7 | D11: 7 | E11: 0 | F11: =E11/3.6 -> 0 | G11: =($F12-$F10)/2 -> 0 | H11: =F11*$C$5 -> 0 | J11: 0 | K11: ='Car Specs and Assumptions'!$C$5*9.81*'Car Specs and Assumptions'!$F$5 -> 145.0899 | L11: 0 | M11: -145.0899 | N11: 0 | O11: =IF(N11>0,N11,0) -> 0 | P11: =IF(F11>0,(K11+L11)*F11,0) -> 0 | Q11: =IF(J11*-1>(K11+L11),(((J11*-1)-K11-L11))*F11,0) -> 0 | R11: =R10+P11 -> 0 | S11: =S10+Q11 -> 0 | T11: =R11*0.0000002778 -> 0 | U11: =S11*0.0000002778 -> 0 | V11: 0 | W11: =0.5*'Car Specs and Assumptions'!$C$5*(F11*F11) -> 0 | X11: =W11/1000 -> 0 | Y11: =0.73*X11 -> 0 | Z11: =(H11*(K11+L11))/1000 -> 0 | AA11: =Y11-Z11 -> 0 | AC11: =IF(Q11>10000,Q11,0) -> 0
B12: Low | C12: 8 | D12: 8 | E12: 0 | F12: =E12/3.6 -> 0 | G12: =($F13-$F11)/2 -> 0 | H12: =F12*$C$5 -> 0 | J12: 0 | K12: ='Car Specs and Assumptions'!$C$5*9.81*'Car Specs and Assumptions'!$F$5 -> 145.0899 | L12: 0 | M12: -145.0899 | N12: 0 | O12: =IF(N12>0,N12,0) -> 0 | P12: =IF(F12>0,(K12+L12)*F12,0) -> 0 | Q12: =IF(J12*-1>(K12+L12),(((J12*-1)-K12-L12))*F12,0) -> 0 | R12: =R11+P12 -> 0 | S12: =S11+Q12 -> 0 | T12: =R12*0.0000002778 -> 0 | U12: =S12*0.0000002778 -> 0 | V12: 0 | W12: =0.5*'Car Specs and Assumptions'!$C$5*(F12*F12) -> 0 | X12: =W12/1000 -> 0 | Y12: =0.73*X12 -> 0 | Z12: =(H12*(K12+L12))/1000 -> 0 | AA12: =Y12-Z12 -> 0 | AC12: =IF(Q12>10000,Q12,0) -> 0
B13: Low | C13: 9 | D13: 9 | E13: 0 | F13: =E13/3.6 -> 0 | G13: =($F14-$F12)/2 -> 0 | H13: =F13*$C$5 -> 0 | J13: 0 | K13: ='Car Specs and Assumptions'!$C$5*9.81*'Car Specs and Assumptions'!$F$5 -> 145.0899 | L13: 0 | M13: -145.0899 | N13: 0 | O13: =IF(N13>0,N13,0) -> 0 | P13: =IF(F13>0,(K13+L13)*F13,0) -> 0 | Q13: =IF(J13*-1>(K13+L13),(((J13*-1)-K13-L13))*F13,0) -> 0 | R13: =R12+P13 -> 0 | S13: =S12+Q13 -> 0 | T13: =R13*0.0000002778 -> 0 | U13: =S13*0.0000002778 -> 0 | V13: 0 | W13: =0.5*'Car Specs and Assumptions'!$C$5*(F13*F13) -> 0 | X13: =W13/1000 -> 0 | Y13: =0.73*X13 -> 0 | Z13: =(H13*(K13+L13))/1000 -> 0 | AA13: =Y13-Z13 -> 0 | AC13: =IF(Q13>10000,Q13,0) -> 0
B14: Low | C14: 10 | D14: 10 | E14: 0 | F14: =E14/3.6 -> 0 | G14: =($F15-$F13)/2 -> 0 | H14: =F14*$C$5 -> 0 | J14: 0 | K14: ='Car Specs and Assumptions'!$C$5*9.81*'Car Specs and Assumptions'!$F$5 -> 145.0899 | L14: 0 | M14: -145.0899 | N14: 0 | O14: =IF(N14>0,N14,0) -> 0 | P14: =IF(F14>0,(K14+L14)*F14,0) -> 0 | Q14: =IF(J14*-1>(K14+L14),(((J14*-1)-K14-L14))*F14,0) -> 0 | R14: =R13+P14 -> 0 | S14: =S13+Q14 -> 0 | T14: =R14*0.0000002778 -> 0 | U14: =S14*0.0000002778 -> 0 | V14: 0 | W14: =0.5*'Car Specs and Assumptions'!$C$5*(F14*F14) -> 0 | X14: =W14/1000 -> 0 | Y14: =0.73*X14 -> 0 | Z14: =(H14*(K14+L14))/1000 -> 0 | AA14: =Y14-Z14 -> 0 | AC14: =IF(Q14>10000,Q14,0) -> 0
B15: Low | C15: 11 | D15: 11 | E15: 0 | F15: =E15/3.6 -> 0 | G15: =($F16-$F14)/2 -> 0.027777778 | H15: =F15*$C$5 -> 0 | J15: 41.083333 | K15: ='Car Specs and Assumptions'!$C$5*9.81*'Car Specs and Assumptions'!$F$5 -> 145.0899 | L15: 0 | M15: -104.00657 | N15: 0 | O15: =IF(N15>0,N15,0) -> 0 | P15: =IF(F15>0,(K15+L15)*F15,0) -> 0 | Q15: =IF(J15*-1>(K15+L15),(((J15*-1)-K15-L15))*F15,0) -> 0 | R15: =R14+P15 -> 0 | S15: =S14+Q15 -> 0 | T15: =R15*0.0000002778 -> 0 | U15: =S15*0.0000002778 -> 0 | V15: 0 | W15: =0.5*'Car Specs and Assumptions'!$C$5*(F15*F15) -> 0 | X15: =W15/1000 -> 0 | Y15: =0.73*X15 -> 0 | Z15: =(H15*(K15+L15))/1000 -> 0 | AA15: =Y15-Z15 -> 0 | AC15: =IF(Q15>10000,Q15,0) -> 0
B16: Low | C16: 12 | D16: 12 | E16: 0.2 | F16: =E16/3.6 -> 0.055555556 | G16: =($F17-$F15)/2 -> 0.23611111 | H16: =F16*$C$5 -> 0.055555556 | J16: 349.20833 | K16: ='Car Specs and Assumptions'!$C$5*9.81*'Car Specs and Assumptions'!$F$5 -> 145.0899 | L16: 0.0013146065 | M16: 204.11712 | N16: 11.33984 | O16: =IF(N16>0,N16,0) -> 11.33984 | P16: =IF(F16>0,(K16+L16)*F16,0) -> 8.060623 | Q16: =IF(J16*-1>(K16+L16),(((J16*-1)-K16-L16))*F16,0) -> 0 | R16: =R15+P16 -> 8.060623 | S16: =S15+Q16 -> 0 | T16: =R16*0.0000002778 -> 2.2392411e-06 | U16: =S16*0.0000002778 -> 0 | V16: 0 | W16: =0.5*'Car Specs and Assumptions'!$C$5*(F16*F16) -> 2.2824074 | X16: =W16/1000 -> 0.0022824074 | Y16: =0.73*X16 -> 0.0016661574 | Z16: =(H16*(K16+L16))/1000 -> 0.008060623 | AA16: =Y16-Z16 -> -0.0063944656 | AC16: =IF(Q16>10000,Q16,0) -> 0
B17: Low | C17: 13 | D17: 13 | E17: 1.7 | F17: =E17/3.6 -> 0.47222222 | G17: =($F18-$F16)/2 -> 0.72222222 | H17: =F17*$C$5 -> 0.47222222 | J17: 1068.1667 | K17: ='Car Specs and Assumptions'!$C$5*9.81*'Car Specs and Assumptions'!$F$5 -> 145.0899 | L17: 0.094980318 | M17: 922.98179 | N17: 435.85251 | O17: =IF(N17>0,N17,0) -> 435.85251 | P17: =IF(F17>0,(K17+L17)*F17,0) -> 68.559527 | Q17: =IF(J17*-1>(K17+L17),(((J17*-1)-K17-L17))*F17,0) -> 0 | R17: =R16+P17 -> 76.62015 | S17: =S16+Q17 -> 0 | T17: =R17*0.0000002778 -> 2.1285078e-05 | U17: =S17*0.0000002778 -> 0 | V17: 0 | W17: =0.5*'Car Specs and Assumptions'!$C$5*(F17*F17) -> 164.90394 | X17: =W17/1000 -> 0.16490394 | Y17: =0.73*X17 -> 0.12037987 | Z17: =(H17*(K17+L17))/1000 -> 0.068559527 | AA17: =Y17-Z17 -> 0.051820346 | AC17: =IF(Q17>10000,Q17,0) -> 0
B18: Low | C18: 14 | D18: 14 | E18: 5.4 | F18: =E18/3.6 -> 1.5 | G18: =($F19-$F17)/2 -> 1.1388889 | H18: =F18*$C$5 -> 1.5 | J18: 1684.4167 | K18: ='Car Specs and Assumptions'!$C$5*9.81*'Car Specs and Assumptions'!$F$5 -> 145.0899 | L18: 0.95834813 | M18: 1538.3684 | N18: 2307.5526 | O18: =IF(N18>0,N18,0) -> 2307.5526 | P18: =IF(F18>0,(K18+L18)*F18,0) -> 219.07237 | Q18: =IF(J18*-1>(K18+L18),(((J18*-1)-K18-L18))*F18,0) -> 0 | R18: =R17+P18 -> 295.69252 | S18: =S17+Q18 -> 0 | T18: =R18*0.0000002778 -> 8.2143383e-05 | U18: =S18*0.0000002778 -> 0 | V18: 0 | W18: =0.5*'Car Specs and Assumptions'!$C$5*(F18*F18) -> 1663.875 | X18: =W18/1000 -> 1.663875 | Y18: =0.73*X18 -> 1.2146287 | Z18: =(H18*(K18+L18))/1000 -> 0.21907237 | AA18: =Y18-Z18 -> 0.99555638 | AC18: =IF(Q18>10000,Q18,0) -> 0
B19: Low | C19: 15 | D19: 15 | E19: 9.9 | F19: =E19/3.6 -> 2.75 | G19: =($F20-$F18)/2 -> 1.0694444 | H19: =F19*$C$5 -> 2.75 | J19: 1581.7083 | K19: ='Car Specs and Assumptions'!$C$5*9.81*'Car Specs and Assumptions'!$F$5 -> 145.0899 | L19: 3.2211145 | M19: 1433.3973 | N19: 3941.8426 | O19: =IF(N19>0,N19,0) -> 3941.8426 | P19: =IF(F19>0,(K19+L19)*F19,0) -> 407.85529 | Q19: =IF(J19*-1>(K19+L19),(((J19*-1)-K19-L19))*F19,0) -> 0 | R19: =R18+P19 -> 703.54781 | S19: =S18+Q19 -> 0 | T19: =R19*0.0000002778 -> 0.00019544558 | U19: =S19*0.0000002778 -> 0 | V19: 0 | W19: =0.5*'Car Specs and Assumptions'!$C$5*(F19*F19) -> 5592.4688 | X19: =W19/1000 -> 5.5924688 | Y19: =0.73*X19 -> 4.0825022 | Z19: =(H19*(K19+L19))/1000 -> 0.40785529 | AA19: =Y19-Z19 -> 3.6746469 | AC19: =IF(Q19>10000,Q19,0) -> 0
B20: Low | C20: 16 | D20: 16 | E20: 13.1 | F20: =E20/3.6 -> 3.6388889 | G20: =($F21-$F19)/2 -> 0.97222222 | H20: =F20*$C$5 -> 3.6388889 | J20: 1437.9167 | K20: ='Car Specs and Assumptions'!$C$5*9.81*'Car Specs and Assumptions'!$F$5 -> 145.0899 | L20: 5.6399905 | M20: 1287.1868 | N20: 4683.9297 | O20: =IF(N20>0,N20,0) -> 4683.9297 | P20: =IF(F20>0,(K20+L20)*F20,0) -> 548.48932 | Q20: =IF(J20*-1>(K20+L20),(((J20*-1)-K20-L20))*F20,0) -> 0 | R20: =R19+P20 -> 1252.0371 | S20: =S19+Q20 -> 0 | T20: =R20*0.0000002778 -> 0.00034781592 | U20: =S20*0.0000002778 -> 0 | V20: 0 | W20: =0.5*'Car Specs and Assumptions'!$C$5*(F20*F20) -> 9792.0984 | X20: =W20/1000 -> 9.7920984 | Y20: =0.73*X20 -> 7.1482318 | Z20: =(H20*(K20+L20))/1000 -> 0.54848932 | AA20: =Y20-Z20 -> 6.5997425 | AC20: =IF(Q20>10000,Q20,0) -> 0
B21: Low | C21: 17 | D21: 17 | E21: 16.9 | F21: =E21/3.6 -> 4.6944444 | G21: =($F22-$F20)/2 -> 1.1944444 | H21: =F21*$C$5 -> 4.6944444 | J21: 1766.5833 | K21: ='Car Specs and Assumptions'!$C$5*9.81*'Car Specs and Assumptions'!$F$5 -> 145.0899 | L21: 9.3866189 | M21: 1612.1068 | N21: 7567.9459 | O21: =IF(N21>0,N21,0) -> 7567.9459 | P21: =IF(F21>0,(K21+L21)*F21,0) -> 725.18144 | Q21: =IF(J21*-1>(K21+L21),(((J21*-1)-K21-L21))*F21,0) -> 0 | R21: =R20+P21 -> 1977.2186 | S21: =S20+Q21 -> 0 | T21: =R21*0.0000002778 -> 0.00054927132 | U21: =S21*0.0000002778 -> 0 | V21: 0 | W21: =0.5*'Car Specs and Assumptions'!$C$5*(F21*F21) -> 16296.959 | X21: =W21/1000 -> 16.296959 | Y21: =0.73*X21 -> 11.89678 | Z21: =(H21*(K21+L21))/1000 -> 0.72518144 | AA21: =Y21-Z21 -> 11.171599 | AC21: =IF(Q21>10000,Q21,0) -> 0
B22: Low | C22: 18 | D22: 18 | E22: 21.7 | F22: =E22/3.6 -> 6.0277778 | G22: =($F23-$F21)/2 -> 1.2638889 | H22: =F22*$C$5 -> 6.0277778 | J22: 1869.2917 | K22: ='Car Specs and Assumptions'!$C$5*9.81*'Car Specs and Assumptions'!$F$5 -> 145.0899 | L22: 15.475876 | M22: 1708.7259 | N22: 10299.82 | O22: =IF(N22>0,N22,0) -> 10299.82 | P22: =IF(F22>0,(K22+L22)*F22,0) -> 967.85482 | Q22: =IF(J22*-1>(K22+L22),(((J22*-1)-K22-L22))*F22,0) -> 0 | R22: =R21+P22 -> 2945.0734 | S22: =S21+Q22 -> 0 | T22: =R22*0.0000002778 -> 0.00081814139 | U22: =S22*0.0000002778 -> 0 | V22: 0 | W22: =0.5*'Car Specs and Assumptions'!$C$5*(F22*F22) -> 26869.071 | X22: =W22/1000 -> 26.869071 | Y22: =0.73*X22 -> 19.614422 | Z22: =(H22*(K22+L22))/1000 -> 0.96785482 | AA22: =Y22-Z22 -> 18.646567 | AC22: =IF(Q22>10000,Q22,0) -> 0
... B41: Low | C41: 37 | D41: 37 | E41: 42.7 | F41: =E41/3.6 -> 11.861111 | G41: =($F42-$F40)/2 -> -0.59722222 | H41: =F41*$C$5 -> 11.861111 | J41: -883.29167 | K41: ='Car Specs and Assumptions'!$C$5*9.81*'Car Specs and Assumptions'!$F$5 -> 145.0899 | L41: 59.922721 | M41: -1088.3043 | N41: -12908.498 | O41: =IF(N41>0,N41,0) -> 0 | P41: =IF(F41>0,(K41+L41)*F41,0) -> 2431.6775 | Q41: =IF(J41*-1>(K41+L41),(((J41*-1)-K41-L41))*F41,0) -> 8045.1431 | R41: =R40+P41 -> 39718.33 | S41: =S40+Q41 -> 10015.154 | T41: =R41*0.0000002778 -> 0.011033752 | U41: =S41*0.0000002778 -> 0.0027822099 | V41: -0.0027822099 | W41: =0.5*'Car Specs and Assumptions'!$C$5*(F41*F41) -> 104037.27 | X41: =W41/1000 -> 104.03727 | Y41: =0.73*X41 -> 75.947203 | Z41: =(H41*(K41+L41))/1000 -> 2.4316775 | AA41: =Y41-Z41 -> 73.515526 | AC41: =IF(Q41>10000,Q41,0) -> 0
B42: Low | C42: 38 | D42: 38 | E42: 39.9 | F42: =E42/3.6 -> 11.083333 | G42: =($F43-$F41)/2 -> -0.79166667 | H42: =F42*$C$5 -> 11.083333 | J42: -1170.875 | K42: ='Car Specs and Assumptions'!$C$5*9.81*'Car Specs and Assumptions'!$F$5 -> 145.0899 | L42: 52.321667 | M42: -1368.2866 | N42: -15165.176 | O42: =IF(N42>0,N42,0) -> 0 | P42: =IF(F42>0,(K42+L42)*F42,0) -> 2187.9782 | Q42: =IF(J42*-1>(K42+L42),(((J42*-1)-K42-L42))*F42,0) -> 10789.22 | R42: =R41+P42 -> 41906.308 | S42: =S41+Q42 -> 20804.374 | T42: =R42*0.0000002778 -> 0.011641572 | U42: =S42*0.0000002778 -> 0.0057794551 | V42: -0.0057794551 | W42: =0.5*'Car Specs and Assumptions'!$C$5*(F42*F42) -> 90840.385 | X42: =W42/1000 -> 90.840385 | Y42: =0.73*X42 -> 66.313481 | Z42: =(H42*(K42+L42))/1000 -> 2.1879782 | AA42: =Y42-Z42 -> 64.125503 | AC42: =IF(Q42>10000,Q42,0) -> 10789.22 | AD42: =AC42 -> 10789.22
B43: Low | C43: 39 | D43: 39 | E43: 37 | F43: =E43/3.6 -> 10.277778 | G43: =($F44-$F42)/2 -> -0.73611111 | H43: =F43*$C$5 -> 10.277778 | J43: -1088.7083 | K43: ='Car Specs and Assumptions'!$C$5*9.81*'Car Specs and Assumptions'!$F$5 -> 145.0899 | L43: 44.992407 | M43: -1278.7906 | N43: -13143.126 | O43: =IF(N43>0,N43,0) -> 0 | P43: =IF(F43>0,(K43+L43)*F43,0) -> 1953.6237 | Q43: =IF(J43*-1>(K43+L43),(((J43*-1)-K43-L43))*F43,0) -> 9235.8786 | R43: =R42+P43 -> 43859.932 | S43: =S42+Q43 -> 30040.253 | T43: =R43*0.0000002778 -> 0.012184289 | U43: =S43*0.0000002778 -> 0.0083451822 | V43: -0.0083451822 | W43: =0.5*'Car Specs and Assumptions'!$C$5*(F43*F43) -> 78115.394 | X43: =W43/1000 -> 78.115394 | Y43: =0.73*X43 -> 57.024237 | Z43: =(H43*(K43+L43))/1000 -> 1.9536237 | AA43: =Y43-Z43 -> 55.070614 | AC43: =IF(Q43>10000,Q43,0) -> 0
B44: Low | C44: 40 | D44: 40 | E44: 34.6 | F44: =E44/3.6 -> 9.6111111 | G44: =($F45-$F43)/2 -> -0.65277778 | H44: =F44*$C$5 -> 9.6111111 | J44: -965.45833 | K44: ='Car Specs and Assumptions'!$C$5*9.81*'Car Specs and Assumptions'!$F$5 -> 145.0899 | L44: 39.344857 | M44: -1149.8931 | N44: -11051.75 | O44: =IF(N44>0,N44,0) -> 0 | P44: =IF(F44>0,(K44+L44)*F44,0) -> 1772.6229 | Q44: =IF(J44*-1>(K44+L44),(((J44*-1)-K44-L44))*F44,0) -> 7506.5044 | R44: =R43+P44 -> 45632.555 | S44: =S43+Q44 -> 37546.757 | T44: =R44*0.0000002778 -> 0.012676724 | U44: =S44*0.0000002778 -> 0.010430489 | V44: -0.010430489 | W44: =0.5*'Car Specs and Assumptions'!$C$5*(F44*F44) -> 68310.171 | X44: =W44/1000 -> 68.310171 | Y44: =0.73*X44 -> 49.866425 | Z44: =(H44*(K44+L44))/1000 -> 1.7726229 | AA44: =Y44-Z44 -> 48.093802 | AC44: =IF(Q44>10000,Q44,0) -> 0
B45: Low | C45: 41 | D45: 41 | E45: 32.3 | F45: =E45/3.6 -> 8.9722222 | G45: =($F46-$F44)/2 -> -0.77777778 | H45: =F45*$C$5 -> 8.9722222 | J45: -1150.3333 | K45: ='Car Specs and Assumptions'!$C$5*9.81*'Car Specs and Assumptions'!$F$5 -> 145.0899 | L45: 34.287895 | M45: -1329.7111 | N45: -11930.464 | O45: =IF(N45>0,N45,0) -> 0 | P45: =IF(F45>0,(K45+L45)*F45,0) -> 1609.4174 | Q45: =IF(J45*-1>(K45+L45),(((J45*-1)-K45-L45))*F45,0) -> 8711.6289 | R45: =R44+P45 -> 47241.973 | S45: =S44+Q45 -> 46258.386 | T45: =R45*0.0000002778 -> 0.01312382 | U45: =S45*0.0000002778 -> 0.01285058 | V45: -0.01285058 | W45: =0.5*'Car Specs and Assumptions'!$C$5*(F45*F45) -> 59530.321 | X45: =W45/1000 -> 59.530321 | Y45: =0.73*X45 -> 43.457134 | Z45: =(H45*(K45+L45))/1000 -> 1.6094174 | AA45: =Y45-Z45 -> 41.847717 | AC45: =IF(Q45>10000,Q45,0) -> 0
B46: Low | C46: 42 | D46: 42 | E46: 29 | F46: =E46/3.6 -> 8.0555556 | G46: =($F47-$F45)/2 -> -1 | H46: =F46*$C$5 -> 8.0555556 | J46: -1479 | K46: ='Car Specs and Assumptions'!$C$5*9.81*'Car Specs and Assumptions'!$F$5 -> 145.0899 | L46: 27.639601 | M46: -1651.7295 | N46: -13305.599 | O46: =IF(N46>0,N46,0) -> 0 | P46: =IF(F46>0,(K46+L46)*F46,0) -> 1391.4321 | Q46: =IF(J46*-1>(K46+L46),(((J46*-1)-K46-L46))*F46,0) -> 10522.735 | R46: =R45+P46 -> 48633.405 | S46: =S45+Q46 -> 56781.12 | T46: =R46*0.0000002778 -> 0.01351036 | U46: =S46*0.0000002778 -> 0.015773795 | V46: -0.015773795 | W46: =0.5*'Car Specs and Assumptions'!$C$5*(F46*F46) -> 47987.616 | X46: =W46/1000 -> 47.987616 | Y46: =0.73*X46 -> 35.030959 | Z46: =(H46*(K46+L46))/1000 -> 1.3914321 | AA46: =Y46-Z46 -> 33.639527 | AC46: =IF(Q46>10000,Q46,0) -> 10522.735 | AD46: =AC46 -> 10522.735
B47: Low | C47: 43 | D47: 43 | E47: 25.1 | F47: =E47/3.6 -> 6.9722222 | G47: =($F48-$F46)/2 -> -0.94444444 | H47: =F47*$C$5 -> 6.9722222 | J47: -1396.8333 | K47: ='Car Specs and Assumptions'!$C$5*9.81*'Car Specs and Assumptions'!$F$5 -> 145.0899 | L47: 20.705381 | M47: -1562.6286 | N47: -10894.994 | O47: =IF(N47>0,N47,0) -> 0 | P47: =IF(F47>0,(K47+L47)*F47,0) -> 1155.9615 | Q47: =IF(J47*-1>(K47+L47),(((J47*-1)-K47-L47))*F47,0) -> 8583.0709 | R47: =R46+P47 -> 49789.366 | S47: =S46+Q47 -> 65364.191 | T47: =R47*0.0000002778 -> 0.013831486 | U47: =S47*0.0000002778 -> 0.018158172 | V47: -0.018158172 | W47: =0.5*'Car Specs and Assumptions'!$C$5*(F47*F47) -> 35948.487 | X47: =W47/1000 -> 35.948487 | Y47: =0.73*X47 -> 26.242396 | Z47: =(H47*(K47+L47))/1000 -> 1.1559615 | AA47: =Y47-Z47 -> 25.086434 | AC47: =IF(Q47>10000,Q47,0) -> 0
B48: Low | C48: 44 | D48: 44 | E48: 22.2 | F48: =E48/3.6 -> 6.1666667 | G48: =($F49-$F47)/2 -> -0.58333333 | H48: =F48*$C$5 -> 6.1666667 | J48: -862.75 | K48: ='Car Specs and Assumptions'!$C$5*9.81*'Car Specs and Assumptions'!$F$5 -> 145.0899 | L48: 16.197266 | M48: -1024.0372 | N48: -6314.8959 | O48: =IF(N48>0,N48,0) -> 0 | P48: =IF(F48>0,(K48+L48)*F48,0) -> 994.60419 | Q48: =IF(J48*-1>(K48+L48),(((J48*-1)-K48-L48))*F48,0) -> 4325.6875 | R48: =R47+P48 -> 50783.97 | S48: =S47+Q48 -> 69689.879 | T48: =R48*0.0000002778 -> 0.014107787 | U48: =S48*0.0000002778 -> 0.019359848 | V48: -0.019359848 | W48: =0.5*'Car Specs and Assumptions'!$C$5*(F48*F48) -> 28121.542 | X48: =W48/1000 -> 28.121542 | Y48: =0.73*X48 -> 20.528725 | Z48: =(H48*(K48+L48))/1000 -> 0.99460419 | AA48: =Y48-Z48 -> 19.534121 | AC48: =IF(Q48>10000,Q48,0) -> 0
B49: Low | C49: 45 | D49: 45 | E49: 20.9 | F49: =E49/3.6 -> 5.8055556 | G49: =($F50-$F48)/2 -> -0.25 | H49: =F49*$C$5 -> 5.8055556 | J49: -369.75 | K49: ='Car Specs and Assumptions'!$C$5*9.81*'Car Specs and Assumptions'!$F$5 -> 145.0899 | L49: 14.355831 | M49: -529.19573 | N49: -3072.2752 | O49: =IF(N49>0,N49,0) -> 0 | P49: =IF(F49>0,(K49+L49)*F49,0) -> 925.67105 | Q49: =IF(J49*-1>(K49+L49),(((J49*-1)-K49-L49))*F49,0) -> 1220.9331 | R49: =R48+P49 -> 51709.641 | S49: =S48+Q49 -> 70910.812 | T49: =R49*0.0000002778 -> 0.014364938 | U49: =S49*0.0000002778 -> 0.019699024 | V49: -0.019699024 | W49: =0.5*'Car Specs and Assumptions'!$C$5*(F49*F49) -> 24924.459 | X49: =W49/1000 -> 24.924459 | Y49: =0.73*X49 -> 18.194855 | Z49: =(H49*(K49+L49))/1000 -> 0.92567105 | AA49: =Y49-Z49 -> 17.269184 | AC49: =IF(Q49>10000,Q49,0) -> 0
B50: Low | C50: 46 | D50: 46 | E50: 20.4 | F50: =E50/3.6 -> 5.6666667 | G50: =($F51-$F49)/2 -> -0.19444444 | H50: =F50*$C$5 -> 5.6666667 | J50: -287.58333 | K50: ='Car Specs and Assumptions'!$C$5*9.81*'Car Specs and Assumptions'!$F$5 -> 145.0899 | L50: 13.677166 | M50: -446.3504 | N50: -2529.3189 | O50: =IF(N50>0,N50,0) -> 0 | P50: =IF(F50>0,(K50+L50)*F50,0) -> 899.68004 | Q50: =IF(J50*-1>(K50+L50),(((J50*-1)-K50-L50))*F50,0) -> 729.95885 | R50: =R49+P50 -> 52609.321 | S50: =S49+Q50 -> 71640.771 | T50: =R50*0.0000002778 -> 0.014614869 | U50: =S50*0.0000002778 -> 0.019901806 | V50: -0.019901806 | W50: =0.5*'Car Specs and Assumptions'!$C$5*(F50*F50) -> 23746.167 | X50: =W50/1000 -> 23.746167 | Y50: =0.73*X50 -> 17.334702 | Z50: =(H50*(K50+L50))/1000 -> 0.89968004 | AA50: =Y50-Z50 -> 16.435022 | AC50: =IF(Q50>10000,Q50,0) -> 0
B51: Low | C51: 47 | D51: 47 | E51: 19.5 | F51: =E51/3.6 -> 5.4166667 | G51: =($F52-$F50)/2 -> -0.27777778 | H51: =F51*$C$5 -> 5.4166667 | J51: -410.83333 | K51: ='Car Specs and Assumptions'!$C$5*9.81*'Car Specs and Assumptions'!$F$5 -> 145.0899 | L51: 12.496978 | M51: -568.42021 | N51: -3078.9428 | O51: =IF(N51>0,N51,0) -> 0 | P51: =IF(F51>0,(K51+L51)*F51,0) -> 853.59559 | Q51: =IF(J51*-1>(K51+L51),(((J51*-1)-K51-L51))*F51,0) -> 1371.7516 | R51: =R50+P51 -> 53462.917 | S51: =S50+Q51 -> 73012.522 | T51: =R51*0.0000002778 -> 0.014851998 | U51: =S51*0.0000002778 -> 0.020282879 | V51: -0.020282879 | W51: =0.5*'Car Specs and Assumptions'!$C$5*(F51*F51) -> 21697.135 | X51: =W51/1000 -> 21.697135 | Y51: =0.73*X51 -> 15.838909 | Z51: =(H51*(K51+L51))/1000 -> 0.85359559 | AA51: =Y51-Z51 -> 14.985313 | AC51: =IF(Q51>10000,Q51,0) -> 0
B52: Low | C52: 48 | D52: 48 | E52: 18.4 | F52: =E52/3.6 -> 5.1111111 | G52: =($F53-$F51)/2 -> -0.23611111 | H52: =F52*$C$5 -> 5.1111111 | J52: -349.20833 | K52: ='Car Specs and Assumptions'!$C$5*9.81*'Car Specs and Assumptions'!$F$5 -> 145.0899 | L52: 11.126829 | M52: -505.42506 | N52: -2583.2837 | O52: =IF(N52>0,N52,0) -> 0 | P52: =IF(F52>0,(K52+L52)*F52,0) -> 798.44106 | Q52: =IF(J52*-1>(K52+L52),(((J52*-1)-K52-L52))*F52,0) -> 986.40153 | R52: =R51+P52 -> 54261.358 | S52: =S51+Q52 -> 73998.924 | T52: =R52*0.0000002778 -> 0.015073805 | U52: =S52*0.0000002778 -> 0.020556901 | V52: -0.020556901 | W52: =0.5*'Car Specs and Assumptions'!$C$5*(F52*F52) -> 19318.296 | X52: =W52/1000 -> 19.318296 | Y52: =0.73*X52 -> 14.102356 | Z52: =(H52*(K52+L52))/1000 -> 0.79844106 | AA52: =Y52-Z52 -> 13.303915 | AC52: =IF(Q52>10000,Q52,0) -> 0
B53: Low | C53: 49 | D53: 49 | E53: 17.8 | F53: =E53/3.6 -> 4.9444444 | G53: =($F54-$F52)/2 -> -0.083333333 | H53: =F53*$C$5 -> 4.9444444 | J53: -123.25 | K53: ='Car Specs and Assumptions'!$C$5*9.81*'Car Specs and Assumptions'!$F$5 -> 145.0899 | L53: 10.412998 | M53: -278.7529 | N53: -1378.2782 | O53: =IF(N53>0,N53,0) -> 0 | P53: =IF(F53>0,(K53+L53)*F53,0) -> 768.87544 | Q53: =IF(J53*-1>(K53+L53),(((J53*-1)-K53-L53))*F53,0) -> 0 | R53: =R52+P53 -> 55030.234 | S53: =S52+Q53 -> 73998.924 | T53: =R53*0.0000002778 -> 0.015287399 | U53: =S53*0.0000002778 -> 0.020556901 | V53: -0.020556901 | W53: =0.5*'Car Specs and Assumptions'!$C$5*(F53*F53) -> 18078.949 | X53: =W53/1000 -> 18.078949 | Y53: =0.73*X53 -> 13.197633 | Z53: =(H53*(K53+L53))/1000 -> 0.76887544 | AA53: =Y53-Z53 -> 12.428757 | AC53: =IF(Q53>10000,Q53,0) -> 0
B54: Low | C54: 50 | D54: 50 | E54: 17.8 | F54: =E54/3.6 -> 4.9444444 | G54: =($F55-$F53)/2 -> -0.055555556 | H54: =F54*$C$5 -> 4.9444444 | J54: -82.166667 | K54: ='Car Specs and Assumptions'!$C$5*9.81*'Car Specs and Assumptions'!$F$5 -> 145.0899 | L54: 10.412998 | M54: -237.66956 | N54: -1175.144 | O54: =IF(N54>0,N54,0) -> 0 | P54: =IF(F54>0,(K54+L54)*F54,0) -> 768.87544 | Q54: =IF(J54*-1>(K54+L54),(((J54*-1)-K54-L54))*F54,0) -> 0 | R54: =R53+P54 -> 55799.109 | S54: =S53+Q54 -> 73998.924 | T54: =R54*0.0000002778 -> 0.015500992 | U54: =S54*0.0000002778 -> 0.020556901 | V54: -0.020556901 | W54: =0.5*'Car Specs and Assumptions'!$C$5*(F54*F54) -> 18078.949 | X54: =W54/1000 -> 18.078949 | Y54: =0.73*X54 -> 13.197633 | Z54: =(H54*(K54+L54))/1000 -> 0.76887544 | AA54: =Y54-Z54 -> 12.428757 | AC54: =IF(Q54>10000,Q54,0) -> 0
B55: Low | C55: 51 | D55: 51 | E55: 17.4 | F55: =E55/3.6 -> 4.8333333 | G55: =($F56-$F54)/2 -> -0.29166667 | H55: =F55*$C$5 -> 4.8333333 | J55: -431.375 | K55: ='Car Specs and Assumptions'!$C$5*9.81*'Car Specs and Assumptions'!$F$5 -> 145.0899 | L55: 9.9502565 | M55: -586.41516 | N55: -2834.3399 | O55: =IF(N55>0,N55,0) -> 0 | P55: =IF(F55>0,(K55+L55)*F55,0) -> 749.36076 | Q55: =IF(J55*-1>(K55+L55),(((J55*-1)-K55-L55))*F55,0) -> 1335.6184 | R55: =R54+P55 -> 56548.47 | S55: =S54+Q55 -> 75334.542 | T55: =R55*0.0000002778 -> 0.015709165 | U55: =S55*0.0000002778 -> 0.020927936 | V55: -0.020927936 | W55: =0.5*'Car Specs and Assumptions'!$C$5*(F55*F55) -> 17275.542 | X55: =W55/1000 -> 17.275542 | Y55: =0.73*X55 -> 12.611145 | Z55: =(H55*(K55+L55))/1000 -> 0.74936076 | AA55: =Y55-Z55 -> 11.861785 | AC55: =IF(Q55>10000,Q55,0) -> 0
B56: Low | C56: 52 | D56: 52 | E56: 15.7 | F56: =E56/3.6 -> 4.3611111 | G56: =($F57-$F55)/2 -> -0.59722222 | H56: =F56*$C$5 -> 4.3611111 | J56: -883.29167 | K56: ='Car Specs and Assumptions'!$C$5*9.81*'Car Specs and Assumptions'!$F$5 -> 145.0899 | L56: 8.1009338 | M56: -1036.4825 | N56: -4520.2153 | O56: =IF(N56>0,N56,0) -> 0 | P56: =IF(F56>0,(K56+L56)*F56,0) -> 668.08225 | Q56: =IF(J56*-1>(K56+L56),(((J56*-1)-K56-L56))*F56,0) -> 3184.0509 | R56: =R55+P56 -> 57216.552 | S56: =S55+Q56 -> 78518.593 | T56: =R56*0.0000002778 -> 0.015894758 | U56: =S56*0.0000002778 -> 0.021812465 | V56: -0.021812465 | W56: =0.5*'Car Specs and Assumptions'!$C$5*(F56*F56) -> 14064.765 | X56: =W56/1000 -> 14.064765 | Y56: =0.73*X56 -> 10.267278 | Z56: =(H56*(K56+L56))/1000 -> 0.66808225 | AA56: =Y56-Z56 -> 9.5991962 | AC56: =IF(Q56>10000,Q56,0) -> 0
B57: Low | C57: 53 | D57: 53 | E57: 13.1 | F57: =E57/3.6 -> 3.6388889 | G57: =($F58-$F56)/2 -> -0.5 | H57: =F57*$C$5 -> 3.6388889 | J57: -739.5 | K57: ='Car Specs and Assumptions'!$C$5*9.81*'Car Specs and Assumptions'!$F$5 -> 145.0899 | L57: 5.6399905 | M57: -890.22989 | N57: -3239.4477 | O57: =IF(N57>0,N57,0) -> 0 | P57: =IF(F57>0,(K57+L57)*F57,0) -> 548.48932 | Q57: =IF(J57*-1>(K57+L57),(((J57*-1)-K57-L57))*F57,0) -> 2142.469 | R57: =R56+P57 -> 57765.041 | S57: =S56+Q57 -> 80661.062 | T57: =R57*0.0000002778 -> 0.016047128 | U57: =S57*0.0000002778 -> 0.022407643 | V57: -0.022407643 | W57: =0.5*'Car Specs and Assumptions'!$C$5*(F57*F57) -> 9792.0984 | X57: =W57/1000 -> 9.7920984 | Y57: =0.73*X57 -> 7.1482318 | Z57: =(H57*(K57+L57))/1000 -> 0.54848932 | AA57: =Y57-Z57 -> 6.5997425 | AC57: =IF(Q57>10000,Q57,0) -> 0
B58: Low | C58: 54 | D58: 54 | E58: 12.1 | F58: =E58/3.6 -> 3.3611111 | G58: =($F59-$F57)/2 -> -0.15277778 | H58: =F58*$C$5 -> 3.3611111 | J58: -225.95833 | K58: ='Car Specs and Assumptions'!$C$5*9.81*'Car Specs and Assumptions'!$F$5 -> 145.0899 | L58: 4.8117884 | M58: -375.86002 | N58: -1263.3073 | O58: =IF(N58>0,N58,0) -> 0 | P58: =IF(F58>0,(K58+L58)*F58,0) -> 503.83623 | Q58: =IF(J58*-1>(K58+L58),(((J58*-1)-K58-L58))*F58,0) -> 255.63483 | R58: =R57+P58 -> 58268.878 | S58: =S57+Q58 -> 80916.697 | T58: =R58*0.0000002778 -> 0.016187094 | U58: =S58*0.0000002778 -> 0.022478658 | V58: -0.022478658 | W58: =0.5*'Car Specs and Assumptions'!$C$5*(F58*F58) -> 8354.1817 | X58: =W58/1000 -> 8.3541817 | Y58: =0.73*X58 -> 6.0985527 | Z58: =(H58*(K58+L58))/1000 -> 0.50383623 | AA58: =Y58-Z58 -> 5.5947164 | AC58: =IF(Q58>10000,Q58,0) -> 0
... B94: Low | C94: 90 | D94: 90 | E94: 27.3 | F94: =E94/3.6 -> 7.5833333 | G94: =($F95-$F93)/2 -> -1.375 | H94: =F94*$C$5 -> 7.5833333 | J94: -2033.625 | K94: ='Car Specs and Assumptions'!$C$5*9.81*'Car Specs and Assumptions'!$F$5 -> 145.0899 | L94: 24.494077 | M94: -2203.209 | N94: -16707.668 | O94: =IF(N94>0,N94,0) -> 0 | P94: =IF(F94>0,(K94+L94)*F94,0) -> 1286.0118 | Q94: =IF(J94*-1>(K94+L94),(((J94*-1)-K94-L94))*F94,0) -> 14135.644 | R94: =R93+P94 -> 106765.28 | S94: =S93+Q94 -> 115109.73 | T94: =R94*0.0000002778 -> 0.029659395 | U94: =S94*0.0000002778 -> 0.031977483 | V94: -0.031977483 | W94: =0.5*'Car Specs and Assumptions'!$C$5*(F94*F94) -> 42526.385 | X94: =W94/1000 -> 42.526385 | Y94: =0.73*X94 -> 31.044261 | Z94: =(H94*(K94+L94))/1000 -> 1.2860118 | AA94: =Y94-Z94 -> 29.75825 | AC94: =IF(Q94>10000,Q94,0) -> 14135.644
B95: Low | C95: 91 | D95: 91 | E95: 22 | F95: =E95/3.6 -> 6.1111111 | G95: =($F96-$F94)/2 -> -1.4305556 | H95: =F95*$C$5 -> 6.1111111 | J95: -2115.7917 | K95: ='Car Specs and Assumptions'!$C$5*9.81*'Car Specs and Assumptions'!$F$5 -> 145.0899 | L95: 15.906738 | M95: -2276.7883 | N95: -13913.706 | O95: =IF(N95>0,N95,0) -> 0 | P95: =IF(F95>0,(K95+L95)*F95,0) -> 983.86835 | Q95: =IF(J95*-1>(K95+L95),(((J95*-1)-K95-L95))*F95,0) -> 11945.97 | R95: =R94+P95 -> 107749.15 | S95: =S94+Q95 -> 127055.7 | T95: =R95*0.0000002778 -> 0.029932714 | U95: =S95*0.0000002778 -> 0.035296074 | V95: -0.035296074 | W95: =0.5*'Car Specs and Assumptions'!$C$5*(F95*F95) -> 27617.13 | X95: =W95/1000 -> 27.61713 | Y95: =0.73*X95 -> 20.160505 | Z95: =(H95*(K95+L95))/1000 -> 0.98386835 | AA95: =Y95-Z95 -> 19.176636 | AC95: =IF(Q95>10000,Q95,0) -> 11945.97 | AD95: =SUM(AC93:AC95) -> 37059.123
B96: Low | C96: 92 | D96: 92 | E96: 17 | F96: =E96/3.6 -> 4.7222222 | G96: =($F97-$F95)/2 -> -1.0833333 | H96: =F96*$C$5 -> 4.7222222 | J96: -1602.25 | K96: ='Car Specs and Assumptions'!$C$5*9.81*'Car Specs and Assumptions'!$F$5 -> 145.0899 | L96: 9.4980318 | M96: -1756.8379 | N96: -8296.1791 | O96: =IF(N96>0,N96,0) -> 0 | P96: =IF(F96>0,(K96+L96)*F96,0) -> 729.99857 | Q96: =IF(J96*-1>(K96+L96),(((J96*-1)-K96-L96))*F96,0) -> 6836.182 | R96: =R95+P96 -> 108479.15 | S96: =S95+Q96 -> 133891.88 | T96: =R96*0.0000002778 -> 0.030135507 | U96: =S96*0.0000002778 -> 0.037195165 | V96: -0.037195165 | W96: =0.5*'Car Specs and Assumptions'!$C$5*(F96*F96) -> 16490.394 | X96: =W96/1000 -> 16.490394 | Y96: =0.73*X96 -> 12.037987 | Z96: =(H96*(K96+L96))/1000 -> 0.72999857 | AA96: =Y96-Z96 -> 11.307989 | AC96: =IF(Q96>10000,Q96,0) -> 0
B97: Low | C97: 93 | D97: 93 | E97: 14.2 | F97: =E97/3.6 -> 3.9444444 | G97: =($F98-$F96)/2 -> -0.69444444 | H97: =F97*$C$5 -> 3.9444444 | J97: -1027.0833 | K97: ='Car Specs and Assumptions'!$C$5*9.81*'Car Specs and Assumptions'!$F$5 -> 145.0899 | L97: 6.6269313 | M97: -1178.8002 | N97: -4649.7118 | O97: =IF(N97>0,N97,0) -> 0 | P97: =IF(F97>0,(K97+L97)*F97,0) -> 598.43861 | Q97: =IF(J97*-1>(K97+L97),(((J97*-1)-K97-L97))*F97,0) -> 3452.8345 | R97: =R96+P97 -> 109077.59 | S97: =S96+Q97 -> 137344.72 | T97: =R97*0.0000002778 -> 0.030301754 | U97: =S97*0.0000002778 -> 0.038154362 | V97: -0.038154362 | W97: =0.5*'Car Specs and Assumptions'!$C$5*(F97*F97) -> 11505.616 | X97: =W97/1000 -> 11.505616 | Y97: =0.73*X97 -> 8.3990995 | Z97: =(H97*(K97+L97))/1000 -> 0.59843861 | AA97: =Y97-Z97 -> 7.8006609 | AC97: =IF(Q97>10000,Q97,0) -> 0
B98: Low | C98: 94 | D98: 94 | E98: 12 | F98: =E98/3.6 -> 3.3333333 | G98: =($F99-$F97)/2 -> -0.70833333 | H98: =F98*$C$5 -> 3.3333333 | J98: -1047.625 | K98: ='Car Specs and Assumptions'!$C$5*9.81*'Car Specs and Assumptions'!$F$5 -> 145.0899 | L98: 4.7325833 | M98: -1197.4475 | N98: -3991.4916 | O98: =IF(N98>0,N98,0) -> 0 | P98: =IF(F98>0,(K98+L98)*F98,0) -> 499.40828 | Q98: =IF(J98*-1>(K98+L98),(((J98*-1)-K98-L98))*F98,0) -> 2992.6751 | R98: =R97+P98 -> 109576.99 | S98: =S97+Q98 -> 140337.39 | T98: =R98*0.0000002778 -> 0.030440489 | U98: =S98*0.0000002778 -> 0.038985728 | V98: -0.038985728 | W98: =0.5*'Car Specs and Assumptions'!$C$5*(F98*F98) -> 8216.6667 | X98: =W98/1000 -> 8.2166667 | Y98: =0.73*X98 -> 5.9981667 | Z98: =(H98*(K98+L98))/1000 -> 0.49940828 | AA98: =Y98-Z98 -> 5.4987584 | AC98: =IF(Q98>10000,Q98,0) -> 0
B99: Low | C99: 95 | D99: 95 | E99: 9.1 | F99: =E99/3.6 -> 2.5277778 | G99: =($F100-$F98)/2 -> -0.86111111 | H99: =F99*$C$5 -> 2.5277778 | J99: -1273.5833 | K99: ='Car Specs and Assumptions'!$C$5*9.81*'Car Specs and Assumptions'!$F$5 -> 145.0899 | L99: 2.7215641 | M99: -1421.3948 | N99: -3592.9702 | O99: =IF(N99>0,N99,0) -> 0 | P99: =IF(F99>0,(K99+L99)*F99,0) -> 373.63453 | Q99: =IF(J99*-1>(K99+L99),(((J99*-1)-K99-L99))*F99,0) -> 2845.7011 | R99: =R98+P99 -> 109950.63 | S99: =S98+Q99 -> 143183.09 | T99: =R99*0.0000002778 -> 0.030544285 | U99: =S99*0.0000002778 -> 0.039776263 | V99: -0.039776263 | W99: =0.5*'Car Specs and Assumptions'!$C$5*(F99*F99) -> 4725.1539 | X99: =W99/1000 -> 4.7251539 | Y99: =0.73*X99 -> 3.4493624 | Z99: =(H99*(K99+L99))/1000 -> 0.37363453 | AA99: =Y99-Z99 -> 3.0757278 | AC99: =IF(Q99>10000,Q99,0) -> 0
B100: Low | C100: 96 | D100: 96 | E100: 5.8 | F100: =E100/3.6 -> 1.6111111 | G100: =($F101-$F99)/2 -> -0.76388889 | H100: =F100*$C$5 -> 1.6111111 | J100: -1129.7917 | K100: ='Car Specs and Assumptions'!$C$5*9.81*'Car Specs and Assumptions'!$F$5 -> 145.0899 | L100: 1.1055841 | M100: -1275.9872 | N100: -2055.7571 | O100: =IF(N100>0,N100,0) -> 0 | P100: =IF(F100>0,(K100+L100)*F100,0) -> 235.53717 | Q100: =IF(J100*-1>(K100+L100),(((J100*-1)-K100-L100))*F100,0) -> 1584.6827 | R100: =R99+P100 -> 110186.17 | S100: =S99+Q100 -> 144767.78 | T100: =R100*0.0000002778 -> 0.030609717 | U100: =S100*0.0000002778 -> 0.040216488 | V100: -0.040216488 | W100: =0.5*'Car Specs and Assumptions'!$C$5*(F100*F100) -> 1919.5046 | X100: =W100/1000 -> 1.9195046 | Y100: =0.73*X100 -> 1.4012384 | Z100: =(H100*(K100+L100))/1000 -> 0.23553717 | AA100: =Y100-Z100 -> 1.1657012 | AC100: =IF(Q100>10000,Q100,0) -> 0
B101: Low | C101: 97 | D101: 97 | E101: 3.6 | F101: =E101/3.6 -> 1 | G101: =($F102-$F100)/2 -> -0.5 | H101: =F101*$C$5 -> 1 | J101: -739.5 | K101: ='Car Specs and Assumptions'!$C$5*9.81*'Car Specs and Assumptions'!$F$5 -> 145.0899 | L101: 0.4259325 | M101: -885.01583 | N101: -885.01583 | O101: =IF(N101>0,N101,0) -> 0 | P101: =IF(F101>0,(K101+L101)*F101,0) -> 145.51583 | Q101: =IF(J101*-1>(K101+L101),(((J101*-1)-K101-L101))*F101,0) -> 593.98417 | R101: =R100+P101 -> 110331.68 | S101: =S100+Q101 -> 145361.76 | T101: =R101*0.0000002778 -> 0.030650141 | U101: =S101*0.0000002778 -> 0.040381497 | V101: -0.040381497 | W101: =0.5*'Car Specs and Assumptions'!$C$5*(F101*F101) -> 739.5 | X101: =W101/1000 -> 0.7395 | Y101: =0.73*X101 -> 0.539835 | Z101: =(H101*(K101+L101))/1000 -> 0.14551583 | AA101: =Y101-Z101 -> 0.39431917 | AC101: =IF(Q101>10000,Q101,0) -> 0
B102: Low | C102: 98 | D102: 98 | E102: 2.2 | F102: =E102/3.6 -> 0.61111111 | G102: =($F103-$F101)/2 -> -0.5 | H102: =F102*$C$5 -> 0.61111111 | J102: -739.5 | K102: ='Car Specs and Assumptions'!$C$5*9.81*'Car Specs and Assumptions'!$F$5 -> 145.0899 | L102: 0.15906738 | M102: -884.74897 | N102: -540.67992 | O102: =IF(N102>0,N102,0) -> 0 | P102: =IF(F102>0,(K102+L102)*F102,0) -> 88.763258 | Q102: =IF(J102*-1>(K102+L102),(((J102*-1)-K102-L102))*F102,0) -> 363.15341 | R102: =R101+P102 -> 110420.45 | S102: =S101+Q102 -> 145724.91 | T102: =R102*0.0000002778 -> 0.0306748 | U102: =S102*0.0000002778 -> 0.040482381 | V102: -0.040482381 | W102: =0.5*'Car Specs and Assumptions'!$C$5*(F102*F102) -> 276.1713 | X102: =W102/1000 -> 0.2761713 | Y102: =0.73*X102 -> 0.20160505 | Z102: =(H102*(K102+L102))/1000 -> 0.088763258 | AA102: =Y102-Z102 -> 0.11284179 | AC102: =IF(Q102>10000,Q102,0) -> 0
B103: Low | C103: 99 | D103: 99 | E103: 0 | F103: =E103/3.6 -> 0 | G103: =($F104-$F102)/2 -> -0.30555556 | H103: =F103*$C$5 -> 0 | J103: -451.91667 | K103: ='Car Specs and Assumptions'!$C$5*9.81*'Car Specs and Assumptions'!$F$5 -> 145.0899 | L103: 0 | M103: -597.00657 | N103: 0 | O103: =IF(N103>0,N103,0) -> 0 | P103: =IF(F103>0,(K103+L103)*F103,0) -> 0 | Q103: =IF(J103*-1>(K103+L103),(((J103*-1)-K103-L103))*F103,0) -> 0 | R103: =R102+P103 -> 110420.45 | S103: =S102+Q103 -> 145724.91 | T103: =R103*0.0000002778 -> 0.0306748 | U103: =S103*0.0000002778 -> 0.040482381 | V103: -0.040482381 | W103: =0.5*'Car Specs and Assumptions'!$C$5*(F103*F103) -> 0 | X103: =W103/1000 -> 0 | Y103: =0.73*X103 -> 0 | Z103: =(H103*(K103+L103))/1000 -> 0 | AA103: =Y103-Z103 -> 0 | AC103: =IF(Q103>10000,Q103,0) -> 0
B104: Low | C104: 100 | D104: 100 | E104: 0 | F104: =E104/3.6 -> 0 | G104: =($F105-$F103)/2 -> 0 | H104: =F104*$C$5 -> 0 | J104: 0 | K104: ='Car Specs and Assumptions'!$C$5*9.81*'Car Specs and Assumptions'!$F$5 -> 145.0899 | L104: 0 | M104: -145.0899 | N104: 0 | O104: =IF(N104>0,N104,0) -> 0 | P104: =IF(F104>0,(K104+L104)*F104,0) -> 0 | Q104: =IF(J104*-1>(K104+L104),(((J104*-1)-K104-L104))*F104,0) -> 0 | R104: =R103+P104 -> 110420.45 | S104: =S103+Q104 -> 145724.91 | T104: =R104*0.0000002778 -> 0.0306748 | U104: =S104*0.0000002778 -> 0.040482381 | V104: -0.040482381 | W104: =0.5*'Car Specs and Assumptions'!$C$5*(F104*F104) -> 0 | X104: =W104/1000 -> 0 | Y104: =0.73*X104 -> 0 | Z104: =(H104*(K104+L104))/1000 -> 0 | AA104: =Y104-Z104 -> 0 | AC104: =IF(Q104>10000,Q104,0) -> 0
B105: Low | C105: 101 | D105: 101 | E105: 0 | F105: =E105/3.6 -> 0 | G105: =($F106-$F104)/2 -> 0 | H105: =F105*$C$5 -> 0 | J105: 0 | K105: ='Car Specs and Assumptions'!$C$5*9.81*'Car Specs and Assumptions'!$F$5 -> 145.0899 | L105: 0 | M105: -145.0899 | N105: 0 | O105: =IF(N105>0,N105,0) -> 0 | P105: =IF(F105>0,(K105+L105)*F105,0) -> 0 | Q105: =IF(J105*-1>(K105+L105),(((J105*-1)-K105-L105))*F105,0) -> 0 | R105: =R104+P105 -> 110420.45 | S105: =S104+Q105 -> 145724.91 | T105: =R105*0.0000002778 -> 0.0306748 | U105: =S105*0.0000002778 -> 0.040482381 | V105: -0.040482381 | W105: =0.5*'Car Specs and Assumptions'!$C$5*(F105*F105) -> 0 | X105: =W105/1000 -> 0 | Y105: =0.73*X105 -> 0 | Z105: =(H105*(K105+L105))/1000 -> 0 | AA105: =Y105-Z105 -> 0 | AC105: =IF(Q105>10000,Q105,0) -> 0
B106: Low | C106: 102 | D106: 102 | E106: 0 | F106: =E106/3.6 -> 0 | G106: =($F107-$F105)/2 -> 0 | H106: =F106*$C$5 -> 0 | J106: 0 | K106: ='Car Specs and Assumptions'!$C$5*9.81*'Car Specs and Assumptions'!$F$5 -> 145.0899 | L106: 0 | M106: -145.0899 | N106: 0 | O106: =IF(N106>0,N106,0) -> 0 | P106: =IF(F106>0,(K106+L106)*F106,0) -> 0 | Q106: =IF(J106*-1>(K106+L106),(((J106*-1)-K106-L106))*F106,0) -> 0 | R106: =R105+P106 -> 110420.45 | S106: =S105+Q106 -> 145724.91 | T106: =R106*0.0000002778 -> 0.0306748 | U106: =S106*0.0000002778 -> 0.040482381 | V106: -0.040482381 | W106: =0.5*'Car Specs and Assumptions'!$C$5*(F106*F106) -> 0 | X106: =W106/1000 -> 0 | Y106: =0.73*X106 -> 0 | Z106: =(H106*(K106+L106))/1000 -> 0 | AA106: =Y106-Z106 -> 0 | AC106: =IF(Q106>10000,Q106,0) -> 0
B107: Low | C107: 103 | D107: 103 | E107: 0 | F107: =E107/3.6 -> 0 | G107: =($F108-$F106)/2 -> 0 | H107: =F107*$C$5 -> 0 | J107: 0 | K107: ='Car Specs and Assumptions'!$C$5*9.81*'Car Specs and Assumptions'!$F$5 -> 145.0899 | L107: 0 | M107: -145.0899 | N107: 0 | O107: =IF(N107>0,N107,0) -> 0 | P107: =IF(F107>0,(K107+L107)*F107,0) -> 0 | Q107: =IF(J107*-1>(K107+L107),(((J107*-1)-K107-L107))*F107,0) -> 0 | R107: =R106+P107 -> 110420.45 | S107: =S106+Q107 -> 145724.91 | T107: =R107*0.0000002778 -> 0.0306748 | U107: =S107*0.0000002778 -> 0.040482381 | V107: -0.040482381 | W107: =0.5*'Car Specs and Assumptions'!$C$5*(F107*F107) -> 0 | X107: =W107/1000 -> 0 | Y107: =0.73*X107 -> 0 | Z107: =(H107*(K107+L107))/1000 -> 0 | AA107: =Y107-Z107 -> 0 | AC107: =IF(Q107>10000,Q107,0) -> 0
... B156: Low | C156: 152 | D156: 152 | E156: 27.2 | F156: =E156/3.6 -> 7.5555556 | G156: =($F157-$F155)/2 -> -0.94444444 | H156: =F156*$C$5 -> 7.5555556 | J156: -1396.8333 | K156: ='Car Specs and Assumptions'!$C$5*9.81*'Car Specs and Assumptions'!$F$5 -> 145.0899 | L156: 24.314961 | M156: -1566.2382 | N156: -11833.8 | O156: =IF(N156>0,N156,0) -> 0 | P156: =IF(F156>0,(K156+L156)*F156,0) -> 1279.9478 | Q156: =IF(J156*-1>(K156+L156),(((J156*-1)-K156-L156))*F156,0) -> 9273.904 | R156: =R155+P156 -> 123612.64 | S156: =S155+Q156 -> 157943.6 | T156: =R156*0.0000002778 -> 0.03433959 | U156: =S156*0.0000002778 -> 0.043876733 | V156: -0.043876733 | W156: =0.5*'Car Specs and Assumptions'!$C$5*(F156*F156) -> 42215.407 | X156: =W156/1000 -> 42.215407 | Y156: =0.73*X156 -> 30.817247 | Z156: =(H156*(K156+L156))/1000 -> 1.2799478 | AA156: =Y156-Z156 -> 29.5373 | AC156: =IF(Q156>10000,Q156,0) -> 0
B157: Low | C157: 153 | D157: 153 | E157: 22.6 | F157: =E157/3.6 -> 6.2777778 | G157: =($F158-$F156)/2 -> -1.375 | H157: =F157*$C$5 -> 6.2777778 | J157: -2033.625 | K157: ='Car Specs and Assumptions'!$C$5*9.81*'Car Specs and Assumptions'!$F$5 -> 145.0899 | L157: 16.78621 | M157: -2195.5011 | N157: -13782.868 | O157: =IF(N157>0,N157,0) -> 0 | P157: =IF(F157>0,(K157+L157)*F157,0) -> 1016.2222 | Q157: =IF(J157*-1>(K157+L157),(((J157*-1)-K157-L157))*F157,0) -> 11750.424 | R157: =R156+P157 -> 124628.86 | S157: =S156+Q157 -> 169694.03 | T157: =R157*0.0000002778 -> 0.034621897 | U157: =S157*0.0000002778 -> 0.047141001 | V157: -0.047141001 | W157: =0.5*'Car Specs and Assumptions'!$C$5*(F157*F157) -> 29144.06 | X157: =W157/1000 -> 29.14406 | Y157: =0.73*X157 -> 21.275164 | Z157: =(H157*(K157+L157))/1000 -> 1.0162222 | AA157: =Y157-Z157 -> 20.258942 | AC157: =IF(Q157>10000,Q157,0) -> 11750.424 | AD157: =AC157 -> 11750.424
B158: Low | C158: 154 | D158: 154 | E158: 17.3 | F158: =E158/3.6 -> 4.8055556 | G158: =($F159-$F157)/2 -> -1.2916667 | H158: =F158*$C$5 -> 4.8055556 | J158: -1910.375 | K158: ='Car Specs and Assumptions'!$C$5*9.81*'Car Specs and Assumptions'!$F$5 -> 145.0899 | L158: 9.8362143 | M158: -2065.3011 | N158: -9924.9192 | O158: =IF(N158>0,N158,0) -> 0 | P158: =IF(F158>0,(K158+L158)*F158,0) -> 744.50605 | Q158: =IF(J158*-1>(K158+L158),(((J158*-1)-K158-L158))*F158,0) -> 8435.9071 | R158: =R157+P158 -> 125373.36 | S158: =S157+Q158 -> 178129.94 | T158: =R158*0.0000002778 -> 0.03482872 | U158: =S158*0.0000002778 -> 0.049484496 | V158: -0.049484496 | W158: =0.5*'Car Specs and Assumptions'!$C$5*(F158*F158) -> 17077.543 | X158: =W158/1000 -> 17.077543 | Y158: =0.73*X158 -> 12.466606 | Z158: =(H158*(K158+L158))/1000 -> 0.74450605 | AA158: =Y158-Z158 -> 11.7221 | AC158: =IF(Q158>10000,Q158,0) -> 0
B159: Low | C159: 155 | D159: 155 | E159: 13.3 | F159: =E159/3.6 -> 3.6944444 | G159: =($F160-$F158)/2 -> -0.73611111 | H159: =F159*$C$5 -> 3.6944444 | J159: -1088.7083 | K159: ='Car Specs and Assumptions'!$C$5*9.81*'Car Specs and Assumptions'!$F$5 -> 145.0899 | L159: 5.8135185 | M159: -1239.6118 | N159: -4579.6767 | O159: =IF(N159>0,N159,0) -> 0 | P159: =IF(F159>0,(K159+L159)*F159,0) -> 557.5043 | Q159: =IF(J159*-1>(K159+L159),(((J159*-1)-K159-L159))*F159,0) -> 3464.6682 | R159: =R158+P159 -> 125930.87 | S159: =S158+Q159 -> 181594.6 | T159: =R159*0.0000002778 -> 0.034983595 | U159: =S159*0.0000002778 -> 0.050446981 | V159: -0.050446981 | W159: =0.5*'Car Specs and Assumptions'!$C$5*(F159*F159) -> 10093.376 | X159: =W159/1000 -> 10.093376 | Y159: =0.73*X159 -> 7.3681646 | Z159: =(H159*(K159+L159))/1000 -> 0.5575043 | AA159: =Y159-Z159 -> 6.8106603 | AC159: =IF(Q159>10000,Q159,0) -> 0
B160: Low | C160: 156 | D160: 156 | E160: 12 | F160: =E160/3.6 -> 3.3333333 | G160: =($F161-$F159)/2 -> -0.097222222 | H160: =F160*$C$5 -> 3.3333333 | J160: -143.79167 | K160: ='Car Specs and Assumptions'!$C$5*9.81*'Car Specs and Assumptions'!$F$5 -> 145.0899 | L160: 4.7325833 | M160: -293.61415 | N160: -978.71383 | O160: =IF(N160>0,N160,0) -> 0 | P160: =IF(F160>0,(K160+L160)*F160,0) -> 499.40828 | Q160: =IF(J160*-1>(K160+L160),(((J160*-1)-K160-L160))*F160,0) -> 0 | R160: =R159+P160 -> 126430.28 | S160: =S159+Q160 -> 181594.6 | T160: =R160*0.0000002778 -> 0.035122331 | U160: =S160*0.0000002778 -> 0.050446981 | V160: -0.050446981 | W160: =0.5*'Car Specs and Assumptions'!$C$5*(F160*F160) -> 8216.6667 | X160: =W160/1000 -> 8.2166667 | Y160: =0.73*X160 -> 5.9981667 | Z160: =(H160*(K160+L160))/1000 -> 0.49940828 | AA160: =Y160-Z160 -> 5.4987584 | AC160: =IF(Q160>10000,Q160,0) -> 0
B161: Low | C161: 157 | D161: 157 | E161: 12.6 | F161: =E161/3.6 -> 3.5 | G161: =($F162-$F160)/2 -> 0.29166667 | H161: =F161*$C$5 -> 3.5 | J161: 431.375 | K161: ='Car Specs and Assumptions'!$C$5*9.81*'Car Specs and Assumptions'!$F$5 -> 145.0899 | L161: 5.2176731 | M161: 281.06743 | N161: 983.73599 | O161: =IF(N161>0,N161,0) -> 983.73599 | P161: =IF(F161>0,(K161+L161)*F161,0) -> 526.07651 | Q161: =IF(J161*-1>(K161+L161),(((J161*-1)-K161-L161))*F161,0) -> 0 | R161: =R160+P161 -> 126956.35 | S161: =S160+Q161 -> 181594.6 | T161: =R161*0.0000002778 -> 0.035268475 | U161: =S161*0.0000002778 -> 0.050446981 | V161: -0.050446981 | W161: =0.5*'Car Specs and Assumptions'!$C$5*(F161*F161) -> 9058.875 | X161: =W161/1000 -> 9.058875 | Y161: =0.73*X161 -> 6.6129787 | Z161: =(H161*(K161+L161))/1000 -> 0.52607651 | AA161: =Y161-Z161 -> 6.0869022 | AC161: =IF(Q161>10000,Q161,0) -> 0
B162: Low | C162: 158 | D162: 158 | E162: 14.1 | F162: =E162/3.6 -> 3.9166667 | G162: =($F163-$F161)/2 -> 0.63888889 | H162: =F162*$C$5 -> 3.9166667 | J162: 944.91667 | K162: ='Car Specs and Assumptions'!$C$5*9.81*'Car Specs and Assumptions'!$F$5 -> 145.0899 | L162: 6.5339229 | M162: 793.29284 | N162: 3107.0636 | O162: =IF(N162>0,N162,0) -> 3107.0636 | P162: =IF(F162>0,(K162+L162)*F162,0) -> 593.85997 | Q162: =IF(J162*-1>(K162+L162),(((J162*-1)-K162-L162))*F162,0) -> 0 | R162: =R161+P162 -> 127550.21 | S162: =S161+Q162 -> 181594.6 | T162: =R162*0.0000002778 -> 0.035433449 | U162: =S162*0.0000002778 -> 0.050446981 | V162: -0.050446981 | W162: =0.5*'Car Specs and Assumptions'!$C$5*(F162*F162) -> 11344.135 | X162: =W162/1000 -> 11.344135 | Y162: =0.73*X162 -> 8.2812189 | Z162: =(H162*(K162+L162))/1000 -> 0.59385997 | AA162: =Y162-Z162 -> 7.6873589 | AC162: =IF(Q162>10000,Q162,0) -> 0
B163: Low | C163: 159 | D163: 159 | E163: 17.2 | F163: =E163/3.6 -> 4.7777778 | G163: =($F164-$F162)/2 -> 0.83333333 | H163: =F163*$C$5 -> 4.7777778 | J163: 1232.5 | K163: ='Car Specs and Assumptions'!$C$5*9.81*'Car Specs and Assumptions'!$F$5 -> 145.0899 | L163: 9.7228295 | M163: 1077.6873 | N163: 5148.9503 | O163: =IF(N163>0,N163,0) -> 5148.9503 | P163: =IF(F163>0,(K163+L163)*F163,0) -> 739.66082 | Q163: =IF(J163*-1>(K163+L163),(((J163*-1)-K163-L163))*F163,0) -> 0 | R163: =R162+P163 -> 128289.87 | S163: =S162+Q163 -> 181594.6 | T163: =R163*0.0000002778 -> 0.035638927 | U163: =S163*0.0000002778 -> 0.050446981 | V163: -0.050446981 | W163: =0.5*'Car Specs and Assumptions'!$C$5*(F163*F163) -> 16880.685 | X163: =W163/1000 -> 16.880685 | Y163: =0.73*X163 -> 12.3229 | Z163: =(H163*(K163+L163))/1000 -> 0.73966082 | AA163: =Y163-Z163 -> 11.583239 | AC163: =IF(Q163>10000,Q163,0) -> 0
B164: Low | C164: 160 | D164: 160 | E164: 20.1 | F164: =E164/3.6 -> 5.5833333 | G164: =($F165-$F163)/2 -> 0.86111111 | H164: =F164*$C$5 -> 5.5833333 | J164: 1273.5833 | K164: ='Car Specs and Assumptions'!$C$5*9.81*'Car Specs and Assumptions'!$F$5 -> 145.0899 | L164: 13.277854 | M164: 1115.2156 | N164: 6226.6203 | O164: =IF(N164>0,N164,0) -> 6226.6203 | P164: =IF(F164>0,(K164+L164)*F164,0) -> 884.21996 | Q164: =IF(J164*-1>(K164+L164),(((J164*-1)-K164-L164))*F164,0) -> 0 | R164: =R163+P164 -> 129174.09 | S164: =S163+Q164 -> 181594.6 | T164: =R164*0.0000002778 -> 0.035884563 | U164: =S164*0.0000002778 -> 0.050446981 | V164: -0.050446981 | W164: =0.5*'Car Specs and Assumptions'!$C$5*(F164*F164) -> 23052.885 | X164: =W164/1000 -> 23.052885 | Y164: =0.73*X164 -> 16.828606 | Z164: =(H164*(K164+L164))/1000 -> 0.88421996 | AA164: =Y164-Z164 -> 15.944386 | AC164: =IF(Q164>10000,Q164,0) -> 0
B165: Low | C165: 161 | D165: 161 | E165: 23.4 | F165: =E165/3.6 -> 6.5 | G165: =($F166-$F164)/2 -> 0.75 | H165: =F165*$C$5 -> 6.5 | J165: 1109.25 | K165: ='Car Specs and Assumptions'!$C$5*9.81*'Car Specs and Assumptions'!$F$5 -> 145.0899 | L165: 17.995648 | M165: 946.16445 | N165: 6150.0689 | O165: =IF(N165>0,N165,0) -> 6150.0689 | P165: =IF(F165>0,(K165+L165)*F165,0) -> 1060.0561 | Q165: =IF(J165*-1>(K165+L165),(((J165*-1)-K165-L165))*F165,0) -> 0 | R165: =R164+P165 -> 130234.15 | S165: =S164+Q165 -> 181594.6 | T165: =R165*0.0000002778 -> 0.036179047 | U165: =S165*0.0000002778 -> 0.050446981 | V165: -0.050446981 | W165: =0.5*'Car Specs and Assumptions'!$C$5*(F165*F165) -> 31243.875 | X165: =W165/1000 -> 31.243875 | Y165: =0.73*X165 -> 22.808029 | Z165: =(H165*(K165+L165))/1000 -> 1.0600561 | AA165: =Y165-Z165 -> 21.747973 | AC165: =IF(Q165>10000,Q165,0) -> 0
B166: Low | C166: 162 | D166: 162 | E166: 25.5 | F166: =E166/3.6 -> 7.0833333 | G166: =($F167-$F165)/2 -> 0.58333333 | H166: =F166*$C$5 -> 7.0833333 | J166: 862.75 | K166: ='Car Specs and Assumptions'!$C$5*9.81*'Car Specs and Assumptions'!$F$5 -> 145.0899 | L166: 21.370572 | M166: 696.28953 | N166: 4932.0508 | O166: =IF(N166>0,N166,0) -> 4932.0508 | P166: =IF(F166>0,(K166+L166)*F166,0) -> 1179.095 | Q166: =IF(J166*-1>(K166+L166),(((J166*-1)-K166-L166))*F166,0) -> 0 | R166: =R165+P166 -> 131413.24 | S166: =S165+Q166 -> 181594.6 | T166: =R166*0.0000002778 -> 0.036506599 | U166: =S166*0.0000002778 -> 0.050446981 | V166: -0.050446981 | W166: =0.5*'Car Specs and Assumptions'!$C$5*(F166*F166) -> 37103.385 | X166: =W166/1000 -> 37.103385 | Y166: =0.73*X166 -> 27.085471 | Z166: =(H166*(K166+L166))/1000 -> 1.179095 | AA166: =Y166-Z166 -> 25.906376 | AC166: =IF(Q166>10000,Q166,0) -> 0
B167: Low | C167: 163 | D167: 163 | E167: 27.6 | F167: =E167/3.6 -> 7.6666667 | G167: =($F168-$F166)/2 -> 0.55555556 | H167: =F167*$C$5 -> 7.6666667 | J167: 821.66667 | K167: ='Car Specs and Assumptions'!$C$5*9.81*'Car Specs and Assumptions'!$F$5 -> 145.0899 | L167: 25.035366 | M167: 651.5414 | N167: 4995.1507 | O167: =IF(N167>0,N167,0) -> 4995.1507 | P167: =IF(F167>0,(K167+L167)*F167,0) -> 1304.2937 | Q167: =IF(J167*-1>(K167+L167),(((J167*-1)-K167-L167))*F167,0) -> 0 | R167: =R166+P167 -> 132717.54 | S167: =S166+Q167 -> 181594.6 | T167: =R167*0.0000002778 -> 0.036868932 | U167: =S167*0.0000002778 -> 0.050446981 | V167: -0.050446981 | W167: =0.5*'Car Specs and Assumptions'!$C$5*(F167*F167) -> 43466.167 | X167: =W167/1000 -> 43.466167 | Y167: =0.73*X167 -> 31.730302 | Z167: =(H167*(K167+L167))/1000 -> 1.3042937 | AA167: =Y167-Z167 -> 30.426008 | AC167: =IF(Q167>10000,Q167,0) -> 0
B168: Low | C168: 164 | D168: 164 | E168: 29.5 | F168: =E168/3.6 -> 8.1944444 | G168: =($F169-$F167)/2 -> 0.48611111 | H168: =F168*$C$5 -> 8.1944444 | J168: 718.95833 | K168: ='Car Specs and Assumptions'!$C$5*9.81*'Car Specs and Assumptions'!$F$5 -> 145.0899 | L168: 28.600907 | M168: 545.26753 | N168: 4468.1644 | O168: =IF(N168>0,N168,0) -> 4468.1644 | P168: =IF(F168>0,(K168+L168)*F168,0) -> 1423.2997 | Q168: =IF(J168*-1>(K168+L168),(((J168*-1)-K168-L168))*F168,0) -> 0 | R168: =R167+P168 -> 134140.84 | S168: =S167+Q168 -> 181594.6 | T168: =R168*0.0000002778 -> 0.037264325 | U168: =S168*0.0000002778 -> 0.050446981 | V168: -0.050446981 | W168: =0.5*'Car Specs and Assumptions'!$C$5*(F168*F168) -> 49656.626 | X168: =W168/1000 -> 49.656626 | Y168: =0.73*X168 -> 36.249337 | Z168: =(H168*(K168+L168))/1000 -> 1.4232997 | AA168: =Y168-Z168 -> 34.826037 | AC168: =IF(Q168>10000,Q168,0) -> 0
B169: Low | C169: 165 | D169: 165 | E169: 31.1 | F169: =E169/3.6 -> 8.6388889 | G169: =($F170-$F168)/2 -> 0.36111111 | H169: =F169*$C$5 -> 8.6388889 | J169: 534.08333 | K169: ='Car Specs and Assumptions'!$C$5*9.81*'Car Specs and Assumptions'!$F$5 -> 145.0899 | L169: 31.787513 | M169: 357.20592 | N169: 3085.8623 | O169: =IF(N169>0,N169,0) -> 3085.8623 | P169: =IF(F169>0,(K169+L169)*F169,0) -> 1528.0243 | Q169: =IF(J169*-1>(K169+L169),(((J169*-1)-K169-L169))*F169,0) -> 0 | R169: =R168+P169 -> 135668.86 | S169: =S168+Q169 -> 181594.6 | T169: =R169*0.0000002778 -> 0.03768881 | U169: =S169*0.0000002778 -> 0.050446981 | V169: -0.050446981 | W169: =0.5*'Car Specs and Assumptions'!$C$5*(F169*F169) -> 55189.182 | X169: =W169/1000 -> 55.189182 | Y169: =0.73*X169 -> 40.288103 | Z169: =(H169*(K169+L169))/1000 -> 1.5280243 | AA169: =Y169-Z169 -> 38.760078 | AC169: =IF(Q169>10000,Q169,0) -> 0
... B176: Low | C176: 172 | D176: 172 | E176: 35.1 | F176: =E176/3.6 -> 9.75 | G176: =($F177-$F175)/2 -> -0.88888889 | H176: =F176*$C$5 -> 9.75 | J176: -1314.6667 | K176: ='Car Specs and Assumptions'!$C$5*9.81*'Car Specs and Assumptions'!$F$5 -> 145.0899 | L176: 40.490208 | M176: -1500.2468 | N176: -14627.406 | O176: =IF(N176>0,N176,0) -> 0 | P176: =IF(F176>0,(K176+L176)*F176,0) -> 1809.4061 | Q176: =IF(J176*-1>(K176+L176),(((J176*-1)-K176-L176))*F176,0) -> 11008.594 | R176: =R175+P176 -> 148549.47 | S176: =S175+Q176 -> 196807.04 | T176: =R176*0.0000002778 -> 0.041267042 | U176: =S176*0.0000002778 -> 0.054672996 | V176: -0.054672996 | W176: =0.5*'Car Specs and Assumptions'!$C$5*(F176*F176) -> 70298.719 | X176: =W176/1000 -> 70.298719 | Y176: =0.73*X176 -> 51.318065 | Z176: =(H176*(K176+L176))/1000 -> 1.8094061 | AA176: =Y176-Z176 -> 49.508659 | AC176: =IF(Q176>10000,Q176,0) -> 11008.594
B177: Low | C177: 173 | D177: 173 | E177: 31 | F177: =E177/3.6 -> 8.6111111 | G177: =($F178-$F176)/2 -> -1.1111111 | H177: =F177*$C$5 -> 8.6111111 | J177: -1643.3333 | K177: ='Car Specs and Assumptions'!$C$5*9.81*'Car Specs and Assumptions'!$F$5 -> 145.0899 | L177: 31.583421 | M177: -1820.0067 | N177: -15672.28 | O177: =IF(N177>0,N177,0) -> 0 | P177: =IF(F177>0,(K177+L177)*F177,0) -> 1521.3536 | Q177: =IF(J177*-1>(K177+L177),(((J177*-1)-K177-L177))*F177,0) -> 12629.572 | R177: =R176+P177 -> 150070.82 | S177: =S176+Q177 -> 209436.61 | T177: =R177*0.0000002778 -> 0.041689674 | U177: =S177*0.0000002778 -> 0.058181491 | V177: -0.058181491 | W177: =0.5*'Car Specs and Assumptions'!$C$5*(F177*F177) -> 54834.838 | X177: =W177/1000 -> 54.834838 | Y177: =0.73*X177 -> 40.029432 | Z177: =(H177*(K177+L177))/1000 -> 1.5213536 | AA177: =Y177-Z177 -> 38.508078 | AC177: =IF(Q177>10000,Q177,0) -> 12629.572 | AD177: =SUM(AC176:AC177) -> 23638.166
B178: Low | C178: 174 | D178: 174 | E178: 27.1 | F178: =E178/3.6 -> 7.5277778 | G178: =($F179-$F177)/2 -> -0.79166667 | H178: =F178*$C$5 -> 7.5277778 | J178: -1170.875 | K178: ='Car Specs and Assumptions'!$C$5*9.81*'Car Specs and Assumptions'!$F$5 -> 145.0899 | L178: 24.136504 | M178: -1340.1014 | N178: -10087.986 | O178: =IF(N178>0,N178,0) -> 0 | P178: =IF(F178>0,(K178+L178)*F178,0) -> 1273.8988 | Q178: =IF(J178*-1>(K178+L178),(((J178*-1)-K178-L178))*F178,0) -> 7540.188 | R178: =R177+P178 -> 151344.72 | S178: =S177+Q178 -> 216976.8 | T178: =R178*0.0000002778 -> 0.042043563 | U178: =S178*0.0000002778 -> 0.060276155 | V178: -0.060276155 | W178: =0.5*'Car Specs and Assumptions'!$C$5*(F178*F178) -> 41905.571 | X178: =W178/1000 -> 41.905571 | Y178: =0.73*X178 -> 30.591067 | Z178: =(H178*(K178+L178))/1000 -> 1.2738988 | AA178: =Y178-Z178 -> 29.317168 | AC178: =IF(Q178>10000,Q178,0) -> 0
B179: Low | C179: 175 | D179: 175 | E179: 25.3 | F179: =E179/3.6 -> 7.0277778 | G179: =($F180-$F178)/2 -> -0.27777778 | H179: =F179*$C$5 -> 7.0277778 | J179: -410.83333 | K179: ='Car Specs and Assumptions'!$C$5*9.81*'Car Specs and Assumptions'!$F$5 -> 145.0899 | L179: 21.036662 | M179: -576.95989 | N179: -4054.7459 | O179: =IF(N179>0,N179,0) -> 0 | P179: =IF(F179>0,(K179+L179)*F179,0) -> 1167.5006 | Q179: =IF(J179*-1>(K179+L179),(((J179*-1)-K179-L179))*F179,0) -> 1719.7448 | R179: =R178+P179 -> 152512.22 | S179: =S178+Q179 -> 218696.55 | T179: =R179*0.0000002778 -> 0.042367894 | U179: =S179*0.0000002778 -> 0.0607539 | V179: -0.0607539 | W179: =0.5*'Car Specs and Assumptions'!$C$5*(F179*F179) -> 36523.654 | X179: =W179/1000 -> 36.523654 | Y179: =0.73*X179 -> 26.662267 | Z179: =(H179*(K179+L179))/1000 -> 1.1675006 | AA179: =Y179-Z179 -> 25.494767 | AC179: =IF(Q179>10000,Q179,0) -> 0
B180: Low | C180: 176 | D180: 176 | E180: 25.1 | F180: =E180/3.6 -> 6.9722222 | G180: =($F181-$F179)/2 -> 0.083333333 | H180: =F180*$C$5 -> 6.9722222 | J180: 123.25 | K180: ='Car Specs and Assumptions'!$C$5*9.81*'Car Specs and Assumptions'!$F$5 -> 145.0899 | L180: 20.705381 | M180: -42.545281 | N180: -296.63515 | O180: =IF(N180>0,N180,0) -> 0 | P180: =IF(F180>0,(K180+L180)*F180,0) -> 1155.9615 | Q180: =IF(J180*-1>(K180+L180),(((J180*-1)-K180-L180))*F180,0) -> 0 | R180: =R179+P180 -> 153668.18 | S180: =S179+Q180 -> 218696.55 | T180: =R180*0.0000002778 -> 0.042689021 | U180: =S180*0.0000002778 -> 0.0607539 | V180: -0.0607539 | W180: =0.5*'Car Specs and Assumptions'!$C$5*(F180*F180) -> 35948.487 | X180: =W180/1000 -> 35.948487 | Y180: =0.73*X180 -> 26.242396 | Z180: =(H180*(K180+L180))/1000 -> 1.1559615 | AA180: =Y180-Z180 -> 25.086434 | AC180: =IF(Q180>10000,Q180,0) -> 0
B181: Low | C181: 177 | D181: 177 | E181: 25.9 | F181: =E181/3.6 -> 7.1944444 | G181: =($F182-$F180)/2 -> 0.375 | H181: =F181*$C$5 -> 7.1944444 | J181: 554.625 | K181: ='Car Specs and Assumptions'!$C$5*9.81*'Car Specs and Assumptions'!$F$5 -> 145.0899 | L181: 22.046279 | M181: 387.48882 | N181: 2787.7668 | O181: =IF(N181>0,N181,0) -> 2787.7668 | P181: =IF(F181>0,(K181+L181)*F181,0) -> 1202.452 | Q181: =IF(J181*-1>(K181+L181),(((J181*-1)-K181-L181))*F181,0) -> 0 | R181: =R180+P181 -> 154870.63 | S181: =S180+Q181 -> 218696.55 | T181: =R181*0.0000002778 -> 0.043023062 | U181: =S181*0.0000002778 -> 0.0607539 | V181: -0.0607539 | W181: =0.5*'Car Specs and Assumptions'!$C$5*(F181*F181) -> 38276.543 | X181: =W181/1000 -> 38.276543 | Y181: =0.73*X181 -> 27.941876 | Z181: =(H181*(K181+L181))/1000 -> 1.202452 | AA181: =Y181-Z181 -> 26.739424 | AC181: =IF(Q181>10000,Q181,0) -> 0
B182: Low | C182: 178 | D182: 178 | E182: 27.8 | F182: =E182/3.6 -> 7.7222222 | G182: =($F183-$F181)/2 -> 0.45833333 | H182: =F182*$C$5 -> 7.7222222 | J182: 677.875 | K182: ='Car Specs and Assumptions'!$C$5*9.81*'Car Specs and Assumptions'!$F$5 -> 145.0899 | L182: 25.399512 | M182: 507.38559 | N182: 3918.1443 | O182: =IF(N182>0,N182,0) -> 3918.1443 | P182: =IF(F182>0,(K182+L182)*F182,0) -> 1316.5571 | Q182: =IF(J182*-1>(K182+L182),(((J182*-1)-K182-L182))*F182,0) -> 0 | R182: =R181+P182 -> 156187.19 | S182: =S181+Q182 -> 218696.55 | T182: =R182*0.0000002778 -> 0.043388801 | U182: =S182*0.0000002778 -> 0.0607539 | V182: -0.0607539 | W182: =0.5*'Car Specs and Assumptions'!$C$5*(F182*F182) -> 44098.394 | X182: =W182/1000 -> 44.098394 | Y182: =0.73*X182 -> 32.191827 | Z182: =(H182*(K182+L182))/1000 -> 1.3165571 | AA182: =Y182-Z182 -> 30.87527 | AC182: =IF(Q182>10000,Q182,0) -> 0
B183: Low | C183: 179 | D183: 179 | E183: 29.2 | F183: =E183/3.6 -> 8.1111111 | G183: =($F184-$F182)/2 -> 0.25 | H183: =F183*$C$5 -> 8.1111111 | J183: 369.75 | K183: ='Car Specs and Assumptions'!$C$5*9.81*'Car Specs and Assumptions'!$F$5 -> 145.0899 | L183: 28.022152 | M183: 196.63795 | N183: 1594.9522 | O183: =IF(N183>0,N183,0) -> 1594.9522 | P183: =IF(F183>0,(K183+L183)*F183,0) -> 1404.1311 | Q183: =IF(J183*-1>(K183+L183),(((J183*-1)-K183-L183))*F183,0) -> 0 | R183: =R182+P183 -> 157591.32 | S183: =S182+Q183 -> 218696.55 | T183: =R183*0.0000002778 -> 0.043778869 | U183: =S183*0.0000002778 -> 0.0607539 | V183: -0.0607539 | W183: =0.5*'Car Specs and Assumptions'!$C$5*(F183*F183) -> 48651.796 | X183: =W183/1000 -> 48.651796 | Y183: =0.73*X183 -> 35.515811 | Z183: =(H183*(K183+L183))/1000 -> 1.4041311 | AA183: =Y183-Z183 -> 34.11168 | AC183: =IF(Q183>10000,Q183,0) -> 0
B184: Low | C184: 180 | D184: 180 | E184: 29.6 | F184: =E184/3.6 -> 8.2222222 | G184: =($F185-$F183)/2 -> 0.041666667 | H184: =F184*$C$5 -> 8.2222222 | J184: 61.625 | K184: ='Car Specs and Assumptions'!$C$5*9.81*'Car Specs and Assumptions'!$F$5 -> 145.0899 | L184: 28.79514 | M184: -112.26004 | N184: -923.027 | O184: =IF(N184>0,N184,0) -> 0 | P184: =IF(F184>0,(K184+L184)*F184,0) -> 1429.7214 | Q184: =IF(J184*-1>(K184+L184),(((J184*-1)-K184-L184))*F184,0) -> 0 | R184: =R183+P184 -> 159021.04 | S184: =S183+Q184 -> 218696.55 | T184: =R184*0.0000002778 -> 0.044176046 | U184: =S184*0.0000002778 -> 0.0607539 | V184: -0.0607539 | W184: =0.5*'Car Specs and Assumptions'!$C$5*(F184*F184) -> 49993.852 | X184: =W184/1000 -> 49.993852 | Y184: =0.73*X184 -> 36.495512 | Z184: =(H184*(K184+L184))/1000 -> 1.4297214 | AA184: =Y184-Z184 -> 35.06579 | AC184: =IF(Q184>10000,Q184,0) -> 0
B185: Low | C185: 181 | D185: 181 | E185: 29.5 | F185: =E185/3.6 -> 8.1944444 | G185: =($F186-$F184)/2 -> -0.055555556 | H185: =F185*$C$5 -> 8.1944444 | J185: -82.166667 | K185: ='Car Specs and Assumptions'!$C$5*9.81*'Car Specs and Assumptions'!$F$5 -> 145.0899 | L185: 28.600907 | M185: -255.85747 | N185: -2096.6099 | O185: =IF(N185>0,N185,0) -> 0 | P185: =IF(F185>0,(K185+L185)*F185,0) -> 1423.2997 | Q185: =IF(J185*-1>(K185+L185),(((J185*-1)-K185-L185))*F185,0) -> 0 | R185: =R184+P185 -> 160444.34 | S185: =S184+Q185 -> 218696.55 | T185: =R185*0.0000002778 -> 0.044571438 | U185: =S185*0.0000002778 -> 0.0607539 | V185: -0.0607539 | W185: =0.5*'Car Specs and Assumptions'!$C$5*(F185*F185) -> 49656.626 | X185: =W185/1000 -> 49.656626 | Y185: =0.73*X185 -> 36.249337 | Z185: =(H185*(K185+L185))/1000 -> 1.4232997 | AA185: =Y185-Z185 -> 34.826037 | AC185: =IF(Q185>10000,Q185,0) -> 0
B186: Low | C186: 182 | D186: 182 | E186: 29.2 | F186: =E186/3.6 -> 8.1111111 | G186: =($F187-$F185)/2 -> -0.16666667 | H186: =F186*$C$5 -> 8.1111111 | J186: -246.5 | K186: ='Car Specs and Assumptions'!$C$5*9.81*'Car Specs and Assumptions'!$F$5 -> 145.0899 | L186: 28.022152 | M186: -419.61205 | N186: -3403.52 | O186: =IF(N186>0,N186,0) -> 0 | P186: =IF(F186>0,(K186+L186)*F186,0) -> 1404.1311 | Q186: =IF(J186*-1>(K186+L186),(((J186*-1)-K186-L186))*F186,0) -> 595.2578 | R186: =R185+P186 -> 161848.47 | S186: =S185+Q186 -> 219291.8 | T186: =R186*0.0000002778 -> 0.044961506 | U186: =S186*0.0000002778 -> 0.060919263 | V186: -0.060919263 | W186: =0.5*'Car Specs and Assumptions'!$C$5*(F186*F186) -> 48651.796 | X186: =W186/1000 -> 48.651796 | Y186: =0.73*X186 -> 35.515811 | Z186: =(H186*(K186+L186))/1000 -> 1.4041311 | AA186: =Y186-Z186 -> 34.11168 | AC186: =IF(Q186>10000,Q186,0) -> 0
B187: Low | C187: 183 | D187: 183 | E187: 28.3 | F187: =E187/3.6 -> 7.8611111 | G187: =($F188-$F186)/2 -> -0.43055556 | H187: =F187*$C$5 -> 7.8611111 | J187: -636.79167 | K187: ='Car Specs and Assumptions'!$C$5*9.81*'Car Specs and Assumptions'!$F$5 -> 145.0899 | L187: 26.32138 | M187: -808.20295 | N187: -6353.3732 | O187: =IF(N187>0,N187,0) -> 0 | P187: =IF(F187>0,(K187+L187)*F187,0) -> 1347.4831 | Q187: =IF(J187*-1>(K187+L187),(((J187*-1)-K187-L187))*F187,0) -> 3658.4069 | R187: =R186+P187 -> 163195.96 | S187: =S186+Q187 -> 222950.21 | T187: =R187*0.0000002778 -> 0.045335837 | U187: =S187*0.0000002778 -> 0.061935568 | V187: -0.061935568 | W187: =0.5*'Car Specs and Assumptions'!$C$5*(F187*F187) -> 45698.932 | X187: =W187/1000 -> 45.698932 | Y187: =0.73*X187 -> 33.36022 | Z187: =(H187*(K187+L187))/1000 -> 1.3474831 | AA187: =Y187-Z187 -> 32.012737 | AC187: =IF(Q187>10000,Q187,0) -> 0
B188: Low | C188: 184 | D188: 184 | E188: 26.1 | F188: =E188/3.6 -> 7.25 | G188: =($F189-$F187)/2 -> -0.65277778 | H188: =F188*$C$5 -> 7.25 | J188: -965.45833 | K188: ='Car Specs and Assumptions'!$C$5*9.81*'Car Specs and Assumptions'!$F$5 -> 145.0899 | L188: 22.388077 | M188: -1132.9363 | N188: -8213.7883 | O188: =IF(N188>0,N188,0) -> 0 | P188: =IF(F188>0,(K188+L188)*F188,0) -> 1214.2153 | Q188: =IF(J188*-1>(K188+L188),(((J188*-1)-K188-L188))*F188,0) -> 5785.3576 | R188: =R187+P188 -> 164410.17 | S188: =S187+Q188 -> 228735.57 | T188: =R188*0.0000002778 -> 0.045673146 | U188: =S188*0.0000002778 -> 0.063542741 | V188: -0.063542741 | W188: =0.5*'Car Specs and Assumptions'!$C$5*(F188*F188) -> 38869.969 | X188: =W188/1000 -> 38.869969 | Y188: =0.73*X188 -> 28.375077 | Z188: =(H188*(K188+L188))/1000 -> 1.2142153 | AA188: =Y188-Z188 -> 27.160862 | AC188: =IF(Q188>10000,Q188,0) -> 0
B189: Low | C189: 185 | D189: 185 | E189: 23.6 | F189: =E189/3.6 -> 6.5555556 | G189: =($F190-$F188)/2 -> -0.70833333 | H189: =F189*$C$5 -> 6.5555556 | J189: -1047.625 | K189: ='Car Specs and Assumptions'!$C$5*9.81*'Car Specs and Assumptions'!$F$5 -> 145.0899 | L189: 18.304581 | M189: -1211.0195 | N189: -7938.9055 | O189: =IF(N189>0,N189,0) -> 0 | P189: =IF(F189>0,(K189+L189)*F189,0) -> 1071.1416 | Q189: =IF(J189*-1>(K189+L189),(((J189*-1)-K189-L189))*F189,0) -> 5796.6223 | R189: =R188+P189 -> 165481.31 | S189: =S188+Q189 -> 234532.19 | T189: =R189*0.0000002778 -> 0.045970709 | U189: =S189*0.0000002778 -> 0.065153042 | V189: -0.065153042 | W189: =0.5*'Car Specs and Assumptions'!$C$5*(F189*F189) -> 31780.241 | X189: =W189/1000 -> 31.780241 | Y189: =0.73*X189 -> 23.199576 | Z189: =(H189*(K189+L189))/1000 -> 1.0711416 | AA189: =Y189-Z189 -> 22.128434 | AC189: =IF(Q189>10000,Q189,0) -> 0
... B243: Low | C243: 239 | D243: 239 | E243: 46.9 | F243: =E243/3.6 -> 13.027778 | G243: =($F244-$F242)/2 -> -0.56944444 | H243: =F243*$C$5 -> 13.027778 | J243: -842.20833 | K243: ='Car Specs and Assumptions'!$C$5*9.81*'Car Specs and Assumptions'!$F$5 -> 145.0899 | L243: 72.290539 | M243: -1059.5888 | N243: -13804.087 | O243: =IF(N243>0,N243,0) -> 0 | P243: =IF(F243>0,(K243+L243)*F243,0) -> 2831.9841 | Q243: =IF(J243*-1>(K243+L243),(((J243*-1)-K243-L243))*F243,0) -> 8140.119 | R243: =R242+P243 -> 278808.6 | S243: =S242+Q243 -> 284975.66 | T243: =R243*0.0000002778 -> 0.07745303 | U243: =S243*0.0000002778 -> 0.079166239 | V243: -0.079166239 | W243: =0.5*'Car Specs and Assumptions'!$C$5*(F243*F243) -> 125510.15 | X243: =W243/1000 -> 125.51015 | Y243: =0.73*X243 -> 91.622412 | Z243: =(H243*(K243+L243))/1000 -> 2.8319841 | AA243: =Y243-Z243 -> 88.790428 | AC243: =IF(Q243>10000,Q243,0) -> 0
B244: Low | C244: 240 | D244: 240 | E244: 44.3 | F244: =E244/3.6 -> 12.305556 | G244: =($F245-$F243)/2 -> -0.75 | H244: =F244*$C$5 -> 12.305556 | J244: -1109.25 | K244: ='Car Specs and Assumptions'!$C$5*9.81*'Car Specs and Assumptions'!$F$5 -> 145.0899 | L244: 64.497552 | M244: -1318.8375 | N244: -16229.028 | O244: =IF(N244>0,N244,0) -> 0 | P244: =IF(F244>0,(K244+L244)*F244,0) -> 2579.09 | Q244: =IF(J244*-1>(K244+L244),(((J244*-1)-K244-L244))*F244,0) -> 11070.847 | R244: =R243+P244 -> 281387.69 | S244: =S243+Q244 -> 296046.51 | T244: =R244*0.0000002778 -> 0.078169501 | U244: =S244*0.0000002778 -> 0.082241721 | V244: -0.082241721 | W244: =0.5*'Car Specs and Assumptions'!$C$5*(F244*F244) -> 111980.04 | X244: =W244/1000 -> 111.98004 | Y244: =0.73*X244 -> 81.745431 | Z244: =(H244*(K244+L244))/1000 -> 2.57909 | AA244: =Y244-Z244 -> 79.166341 | AC244: =IF(Q244>10000,Q244,0) -> 11070.847 | AD244: =AC244 -> 11070.847
B245: Low | C245: 241 | D245: 241 | E245: 41.5 | F245: =E245/3.6 -> 11.527778 | G245: =($F246-$F244)/2 -> -0.66666667 | H245: =F245*$C$5 -> 11.527778 | J245: -986 | K245: ='Car Specs and Assumptions'!$C$5*9.81*'Car Specs and Assumptions'!$F$5 -> 145.0899 | L245: 56.602025 | M245: -1187.6919 | N245: -13691.449 | O245: =IF(N245>0,N245,0) -> 0 | P245: =IF(F245>0,(K245+L245)*F245,0) -> 2325.0597 | Q245: =IF(J245*-1>(K245+L245),(((J245*-1)-K245-L245))*F245,0) -> 9041.3292 | R245: =R244+P245 -> 283712.75 | S245: =S244+Q245 -> 305087.84 | T245: =R245*0.0000002778 -> 0.078815402 | U245: =S245*0.0000002778 -> 0.084753402 | V245: -0.084753402 | W245: =0.5*'Car Specs and Assumptions'!$C$5*(F245*F245) -> 98271.904 | X245: =W245/1000 -> 98.271904 | Y245: =0.73*X245 -> 71.73849 | Z245: =(H245*(K245+L245))/1000 -> 2.3250597 | AA245: =Y245-Z245 -> 69.41343 | AC245: =IF(Q245>10000,Q245,0) -> 0
B246: Low | C246: 242 | D246: 242 | E246: 39.5 | F246: =E246/3.6 -> 10.972222 | G246: =($F247-$F245)/2 -> -0.625 | H246: =F246*$C$5 -> 10.972222 | J246: -924.375 | K246: ='Car Specs and Assumptions'!$C$5*9.81*'Car Specs and Assumptions'!$F$5 -> 145.0899 | L246: 51.277869 | M246: -1120.7428 | N246: -12297.039 | O246: =IF(N246>0,N246,0) -> 0 | P246: =IF(F246>0,(K246+L246)*F246,0) -> 2154.5908 | Q246: =IF(J246*-1>(K246+L246),(((J246*-1)-K246-L246))*F246,0) -> 7987.8571 | R246: =R245+P246 -> 285867.34 | S246: =S245+Q246 -> 313075.7 | T246: =R246*0.0000002778 -> 0.079413948 | U246: =S246*0.0000002778 -> 0.086972429 | V246: -0.086972429 | W246: =0.5*'Car Specs and Assumptions'!$C$5*(F246*F246) -> 89028.154 | X246: =W246/1000 -> 89.028154 | Y246: =0.73*X246 -> 64.990552 | Z246: =(H246*(K246+L246))/1000 -> 2.1545908 | AA246: =Y246-Z246 -> 62.835962 | AC246: =IF(Q246>10000,Q246,0) -> 0
B247: Low | C247: 243 | D247: 243 | E247: 37 | F247: =E247/3.6 -> 10.277778 | G247: =($F248-$F246)/2 -> -0.68055556 | H247: =F247*$C$5 -> 10.277778 | J247: -1006.5417 | K247: ='Car Specs and Assumptions'!$C$5*9.81*'Car Specs and Assumptions'!$F$5 -> 145.0899 | L247: 44.992407 | M247: -1196.624 | N247: -12298.635 | O247: =IF(N247>0,N247,0) -> 0 | P247: =IF(F247>0,(K247+L247)*F247,0) -> 1953.6237 | Q247: =IF(J247*-1>(K247+L247),(((J247*-1)-K247-L247))*F247,0) -> 8391.3879 | R247: =R246+P247 -> 287820.97 | S247: =S246+Q247 -> 321467.08 | T247: =R247*0.0000002778 -> 0.079956664 | U247: =S247*0.0000002778 -> 0.089303556 | V247: -0.089303556 | W247: =0.5*'Car Specs and Assumptions'!$C$5*(F247*F247) -> 78115.394 | X247: =W247/1000 -> 78.115394 | Y247: =0.73*X247 -> 57.024237 | Z247: =(H247*(K247+L247))/1000 -> 1.9536237 | AA247: =Y247-Z247 -> 55.070614 | AC247: =IF(Q247>10000,Q247,0) -> 0
B248: Low | C248: 244 | D248: 244 | E248: 34.6 | F248: =E248/3.6 -> 9.6111111 | G248: =($F249-$F247)/2 -> -0.65277778 | H248: =F248*$C$5 -> 9.6111111 | J248: -965.45833 | K248: ='Car Specs and Assumptions'!$C$5*9.81*'Car Specs and Assumptions'!$F$5 -> 145.0899 | L248: 39.344857 | M248: -1149.8931 | N248: -11051.75 | O248: =IF(N248>0,N248,0) -> 0 | P248: =IF(F248>0,(K248+L248)*F248,0) -> 1772.6229 | Q248: =IF(J248*-1>(K248+L248),(((J248*-1)-K248-L248))*F248,0) -> 7506.5044 | R248: =R247+P248 -> 289593.59 | S248: =S247+Q248 -> 328973.59 | T248: =R248*0.0000002778 -> 0.080449099 | U248: =S248*0.0000002778 -> 0.091388863 | V248: -0.091388863 | W248: =0.5*'Car Specs and Assumptions'!$C$5*(F248*F248) -> 68310.171 | X248: =W248/1000 -> 68.310171 | Y248: =0.73*X248 -> 49.866425 | Z248: =(H248*(K248+L248))/1000 -> 1.7726229 | AA248: =Y248-Z248 -> 48.093802 | AC248: =IF(Q248>10000,Q248,0) -> 0
B249: Low | C249: 245 | D249: 245 | E249: 32.3 | F249: =E249/3.6 -> 8.9722222 | G249: =($F250-$F248)/2 -> -0.77777778 | H249: =F249*$C$5 -> 8.9722222 | J249: -1150.3333 | K249: ='Car Specs and Assumptions'!$C$5*9.81*'Car Specs and Assumptions'!$F$5 -> 145.0899 | L249: 34.287895 | M249: -1329.7111 | N249: -11930.464 | O249: =IF(N249>0,N249,0) -> 0 | P249: =IF(F249>0,(K249+L249)*F249,0) -> 1609.4174 | Q249: =IF(J249*-1>(K249+L249),(((J249*-1)-K249-L249))*F249,0) -> 8711.6289 | R249: =R248+P249 -> 291203.01 | S249: =S248+Q249 -> 337685.22 | T249: =R249*0.0000002778 -> 0.080896195 | U249: =S249*0.0000002778 -> 0.093808954 | V249: -0.093808954 | W249: =0.5*'Car Specs and Assumptions'!$C$5*(F249*F249) -> 59530.321 | X249: =W249/1000 -> 59.530321 | Y249: =0.73*X249 -> 43.457134 | Z249: =(H249*(K249+L249))/1000 -> 1.6094174 | AA249: =Y249-Z249 -> 41.847717 | AC249: =IF(Q249>10000,Q249,0) -> 0
B250: Low | C250: 246 | D250: 246 | E250: 29 | F250: =E250/3.6 -> 8.0555556 | G250: =($F251-$F249)/2 -> -1 | H250: =F250*$C$5 -> 8.0555556 | J250: -1479 | K250: ='Car Specs and Assumptions'!$C$5*9.81*'Car Specs and Assumptions'!$F$5 -> 145.0899 | L250: 27.639601 | M250: -1651.7295 | N250: -13305.599 | O250: =IF(N250>0,N250,0) -> 0 | P250: =IF(F250>0,(K250+L250)*F250,0) -> 1391.4321 | Q250: =IF(J250*-1>(K250+L250),(((J250*-1)-K250-L250))*F250,0) -> 10522.735 | R250: =R249+P250 -> 292594.44 | S250: =S249+Q250 -> 348207.95 | T250: =R250*0.0000002778 -> 0.081282735 | U250: =S250*0.0000002778 -> 0.096732169 | V250: -0.096732169 | W250: =0.5*'Car Specs and Assumptions'!$C$5*(F250*F250) -> 47987.616 | X250: =W250/1000 -> 47.987616 | Y250: =0.73*X250 -> 35.030959 | Z250: =(H250*(K250+L250))/1000 -> 1.3914321 | AA250: =Y250-Z250 -> 33.639527 | AC250: =IF(Q250>10000,Q250,0) -> 10522.735 | AD250: =AC250 -> 10522.735
B251: Low | C251: 247 | D251: 247 | E251: 25.1 | F251: =E251/3.6 -> 6.9722222 | G251: =($F252-$F250)/2 -> -0.94444444 | H251: =F251*$C$5 -> 6.9722222 | J251: -1396.8333 | K251: ='Car Specs and Assumptions'!$C$5*9.81*'Car Specs and Assumptions'!$F$5 -> 145.0899 | L251: 20.705381 | M251: -1562.6286 | N251: -10894.994 | O251: =IF(N251>0,N251,0) -> 0 | P251: =IF(F251>0,(K251+L251)*F251,0) -> 1155.9615 | Q251: =IF(J251*-1>(K251+L251),(((J251*-1)-K251-L251))*F251,0) -> 8583.0709 | R251: =R250+P251 -> 293750.4 | S251: =S250+Q251 -> 356791.02 | T251: =R251*0.0000002778 -> 0.081603861 | U251: =S251*0.0000002778 -> 0.099116546 | V251: -0.099116546 | W251: =0.5*'Car Specs and Assumptions'!$C$5*(F251*F251) -> 35948.487 | X251: =W251/1000 -> 35.948487 | Y251: =0.73*X251 -> 26.242396 | Z251: =(H251*(K251+L251))/1000 -> 1.1559615 | AA251: =Y251-Z251 -> 25.086434 | AC251: =IF(Q251>10000,Q251,0) -> 0
B252: Low | C252: 248 | D252: 248 | E252: 22.2 | F252: =E252/3.6 -> 6.1666667 | G252: =($F253-$F251)/2 -> -0.58333333 | H252: =F252*$C$5 -> 6.1666667 | J252: -862.75 | K252: ='Car Specs and Assumptions'!$C$5*9.81*'Car Specs and Assumptions'!$F$5 -> 145.0899 | L252: 16.197266 | M252: -1024.0372 | N252: -6314.8959 | O252: =IF(N252>0,N252,0) -> 0 | P252: =IF(F252>0,(K252+L252)*F252,0) -> 994.60419 | Q252: =IF(J252*-1>(K252+L252),(((J252*-1)-K252-L252))*F252,0) -> 4325.6875 | R252: =R251+P252 -> 294745 | S252: =S251+Q252 -> 361116.71 | T252: =R252*0.0000002778 -> 0.081880162 | U252: =S252*0.0000002778 -> 0.10031822 | V252: -0.10031822 | W252: =0.5*'Car Specs and Assumptions'!$C$5*(F252*F252) -> 28121.542 | X252: =W252/1000 -> 28.121542 | Y252: =0.73*X252 -> 20.528725 | Z252: =(H252*(K252+L252))/1000 -> 0.99460419 | AA252: =Y252-Z252 -> 19.534121 | AC252: =IF(Q252>10000,Q252,0) -> 0
B253: Low | C253: 249 | D253: 249 | E253: 20.9 | F253: =E253/3.6 -> 5.8055556 | G253: =($F254-$F252)/2 -> -0.25 | H253: =F253*$C$5 -> 5.8055556 | J253: -369.75 | K253: ='Car Specs and Assumptions'!$C$5*9.81*'Car Specs and Assumptions'!$F$5 -> 145.0899 | L253: 14.355831 | M253: -529.19573 | N253: -3072.2752 | O253: =IF(N253>0,N253,0) -> 0 | P253: =IF(F253>0,(K253+L253)*F253,0) -> 925.67105 | Q253: =IF(J253*-1>(K253+L253),(((J253*-1)-K253-L253))*F253,0) -> 1220.9331 | R253: =R252+P253 -> 295670.68 | S253: =S252+Q253 -> 362337.64 | T253: =R253*0.0000002778 -> 0.082137314 | U253: =S253*0.0000002778 -> 0.1006574 | V253: -0.1006574 | W253: =0.5*'Car Specs and Assumptions'!$C$5*(F253*F253) -> 24924.459 | X253: =W253/1000 -> 24.924459 | Y253: =0.73*X253 -> 18.194855 | Z253: =(H253*(K253+L253))/1000 -> 0.92567105 | AA253: =Y253-Z253 -> 17.269184 | AC253: =IF(Q253>10000,Q253,0) -> 0
B254: Low | C254: 250 | D254: 250 | E254: 20.4 | F254: =E254/3.6 -> 5.6666667 | G254: =($F255-$F253)/2 -> -0.19444444 | H254: =F254*$C$5 -> 5.6666667 | J254: -287.58333 | K254: ='Car Specs and Assumptions'!$C$5*9.81*'Car Specs and Assumptions'!$F$5 -> 145.0899 | L254: 13.677166 | M254: -446.3504 | N254: -2529.3189 | O254: =IF(N254>0,N254,0) -> 0 | P254: =IF(F254>0,(K254+L254)*F254,0) -> 899.68004 | Q254: =IF(J254*-1>(K254+L254),(((J254*-1)-K254-L254))*F254,0) -> 729.95885 | R254: =R253+P254 -> 296570.36 | S254: =S253+Q254 -> 363067.6 | T254: =R254*0.0000002778 -> 0.082387245 | U254: =S254*0.0000002778 -> 0.10086018 | V254: -0.10086018 | W254: =0.5*'Car Specs and Assumptions'!$C$5*(F254*F254) -> 23746.167 | X254: =W254/1000 -> 23.746167 | Y254: =0.73*X254 -> 17.334702 | Z254: =(H254*(K254+L254))/1000 -> 0.89968004 | AA254: =Y254-Z254 -> 16.435022 | AC254: =IF(Q254>10000,Q254,0) -> 0
B255: Low | C255: 251 | D255: 251 | E255: 19.5 | F255: =E255/3.6 -> 5.4166667 | G255: =($F256-$F254)/2 -> -0.27777778 | H255: =F255*$C$5 -> 5.4166667 | J255: -410.83333 | K255: ='Car Specs and Assumptions'!$C$5*9.81*'Car Specs and Assumptions'!$F$5 -> 145.0899 | L255: 12.496978 | M255: -568.42021 | N255: -3078.9428 | O255: =IF(N255>0,N255,0) -> 0 | P255: =IF(F255>0,(K255+L255)*F255,0) -> 853.59559 | Q255: =IF(J255*-1>(K255+L255),(((J255*-1)-K255-L255))*F255,0) -> 1371.7516 | R255: =R254+P255 -> 297423.95 | S255: =S254+Q255 -> 364439.35 | T255: =R255*0.0000002778 -> 0.082624373 | U255: =S255*0.0000002778 -> 0.10124125 | V255: -0.10124125 | W255: =0.5*'Car Specs and Assumptions'!$C$5*(F255*F255) -> 21697.135 | X255: =W255/1000 -> 21.697135 | Y255: =0.73*X255 -> 15.838909 | Z255: =(H255*(K255+L255))/1000 -> 0.85359559 | AA255: =Y255-Z255 -> 14.985313 | AC255: =IF(Q255>10000,Q255,0) -> 0
B256: Low | C256: 252 | D256: 252 | E256: 18.4 | F256: =E256/3.6 -> 5.1111111 | G256: =($F257-$F255)/2 -> -0.23611111 | H256: =F256*$C$5 -> 5.1111111 | J256: -349.20833 | K256: ='Car Specs and Assumptions'!$C$5*9.81*'Car Specs and Assumptions'!$F$5 -> 145.0899 | L256: 11.126829 | M256: -505.42506 | N256: -2583.2837 | O256: =IF(N256>0,N256,0) -> 0 | P256: =IF(F256>0,(K256+L256)*F256,0) -> 798.44106 | Q256: =IF(J256*-1>(K256+L256),(((J256*-1)-K256-L256))*F256,0) -> 986.40153 | R256: =R255+P256 -> 298222.39 | S256: =S255+Q256 -> 365425.76 | T256: =R256*0.0000002778 -> 0.08284618 | U256: =S256*0.0000002778 -> 0.10151528 | V256: -0.10151528 | W256: =0.5*'Car Specs and Assumptions'!$C$5*(F256*F256) -> 19318.296 | X256: =W256/1000 -> 19.318296 | Y256: =0.73*X256 -> 14.102356 | Z256: =(H256*(K256+L256))/1000 -> 0.79844106 | AA256: =Y256-Z256 -> 13.303915 | AC256: =IF(Q256>10000,Q256,0) -> 0
B257: Low | C257: 253 | D257: 253 | E257: 17.8 | F257: =E257/3.6 -> 4.9444444 | G257: =($F258-$F256)/2 -> -0.083333333 | H257: =F257*$C$5 -> 4.9444444 | J257: -123.25 | K257: ='Car Specs and Assumptions'!$C$5*9.81*'Car Specs and Assumptions'!$F$5 -> 145.0899 | L257: 10.412998 | M257: -278.7529 | N257: -1378.2782 | O257: =IF(N257>0,N257,0) -> 0 | P257: =IF(F257>0,(K257+L257)*F257,0) -> 768.87544 | Q257: =IF(J257*-1>(K257+L257),(((J257*-1)-K257-L257))*F257,0) -> 0 | R257: =R256+P257 -> 298991.27 | S257: =S256+Q257 -> 365425.76 | T257: =R257*0.0000002778 -> 0.083059774 | U257: =S257*0.0000002778 -> 0.10151528 | V257: -0.10151528 | W257: =0.5*'Car Specs and Assumptions'!$C$5*(F257*F257) -> 18078.949 | X257: =W257/1000 -> 18.078949 | Y257: =0.73*X257 -> 13.197633 | Z257: =(H257*(K257+L257))/1000 -> 0.76887544 | AA257: =Y257-Z257 -> 12.428757 | AC257: =IF(Q257>10000,Q257,0) -> 0
B258: Low | C258: 254 | D258: 254 | E258: 17.8 | F258: =E258/3.6 -> 4.9444444 | G258: =($F259-$F257)/2 -> -0.055555556 | H258: =F258*$C$5 -> 4.9444444 | J258: -82.166667 | K258: ='Car Specs and Assumptions'!$C$5*9.81*'Car Specs and Assumptions'!$F$5 -> 145.0899 | L258: 10.412998 | M258: -237.66956 | N258: -1175.144 | O258: =IF(N258>0,N258,0) -> 0 | P258: =IF(F258>0,(K258+L258)*F258,0) -> 768.87544 | Q258: =IF(J258*-1>(K258+L258),(((J258*-1)-K258-L258))*F258,0) -> 0 | R258: =R257+P258 -> 299760.14 | S258: =S257+Q258 -> 365425.76 | T258: =R258*0.0000002778 -> 0.083273368 | U258: =S258*0.0000002778 -> 0.10151528 | V258: -0.10151528 | W258: =0.5*'Car Specs and Assumptions'!$C$5*(F258*F258) -> 18078.949 | X258: =W258/1000 -> 18.078949 | Y258: =0.73*X258 -> 13.197633 | Z258: =(H258*(K258+L258))/1000 -> 0.76887544 | AA258: =Y258-Z258 -> 12.428757 | AC258: =IF(Q258>10000,Q258,0) -> 0
B259: Low | C259: 255 | D259: 255 | E259: 17.4 | F259: =E259/3.6 -> 4.8333333 | G259: =($F260-$F258)/2 -> -0.29166667 | H259: =F259*$C$5 -> 4.8333333 | J259: -431.375 | K259: ='Car Specs and Assumptions'!$C$5*9.81*'Car Specs and Assumptions'!$F$5 -> 145.0899 | L259: 9.9502565 | M259: -586.41516 | N259: -2834.3399 | O259: =IF(N259>0,N259,0) -> 0 | P259: =IF(F259>0,(K259+L259)*F259,0) -> 749.36076 | Q259: =IF(J259*-1>(K259+L259),(((J259*-1)-K259-L259))*F259,0) -> 1335.6184 | R259: =R258+P259 -> 300509.5 | S259: =S258+Q259 -> 366761.37 | T259: =R259*0.0000002778 -> 0.08348154 | U259: =S259*0.0000002778 -> 0.10188631 | V259: -0.10188631 | W259: =0.5*'Car Specs and Assumptions'!$C$5*(F259*F259) -> 17275.542 | X259: =W259/1000 -> 17.275542 | Y259: =0.73*X259 -> 12.611145 | Z259: =(H259*(K259+L259))/1000 -> 0.74936076 | AA259: =Y259-Z259 -> 11.861785 | AC259: =IF(Q259>10000,Q259,0) -> 0
B260: Low | C260: 256 | D260: 256 | E260: 15.7 | F260: =E260/3.6 -> 4.3611111 | G260: =($F261-$F259)/2 -> -0.40277778 | H260: =F260*$C$5 -> 4.3611111 | J260: -595.70833 | K260: ='Car Specs and Assumptions'!$C$5*9.81*'Car Specs and Assumptions'!$F$5 -> 145.0899 | L260: 8.1009338 | M260: -748.89917 | N260: -3266.0325 | O260: =IF(N260>0,N260,0) -> 0 | P260: =IF(F260>0,(K260+L260)*F260,0) -> 668.08225 | Q260: =IF(J260*-1>(K260+L260),(((J260*-1)-K260-L260))*F260,0) -> 1929.868 | R260: =R259+P260 -> 301177.59 | S260: =S259+Q260 -> 368691.24 | T260: =R260*0.0000002778 -> 0.083667133 | U260: =S260*0.0000002778 -> 0.10242243 | V260: -0.10242243 | W260: =0.5*'Car Specs and Assumptions'!$C$5*(F260*F260) -> 14064.765 | X260: =W260/1000 -> 14.064765 | Y260: =0.73*X260 -> 10.267278 | Z260: =(H260*(K260+L260))/1000 -> 0.66808225 | AA260: =Y260-Z260 -> 9.5991962 | AC260: =IF(Q260>10000,Q260,0) -> 0
...

Sheet Car Specs and Assumptions
B2: Toyota Celica Supra 2.8i 1982 - 1986
B3: Curb Mass | C3: Test Mass | D3: Coefficient of Drag (Cd) | E3: Frontal area | F3: Coefficient of Rolling Resistance | G3: Air Density | H3: Power/Mass Ratio
B4: Kg | C4: Kg | E4: m^2 | G4: Kg/m^3
B5: 1379 | C5: =B5+100 -> 1479 | D5: 0.38 | E5: 1.83 | F5: 0.01 | G5: 1.225 | H5: =125000/B5 -> 90.645395

Sheet Ultracapacitor KERS Info.
B2: Maximum Voltage | C2: Capacitance | D2: Maximum Current | E2: Maximum Resistance | F2: Maximum Stored Energy | G2: Maximum KERS Output to Wheels | H2: Energy Storage Depth of Discharge | I2: MGU & Drivetrain Efficiency | J2: Inverter Efficiency | K2: Ultracapacitor Efficiency | L2: Charger Efficiency | M2: Total Efficiency | O2: Max Length | P2: Max Width | Q2: Max Height
B3: V | C3: F | D3: A | E3: milli Ohms | F3: kJ | G3: kJ | H3: kJ | I3: % | J3: % | K3: % | L3: % | M3: % | O3: mm | P3: mm | Q3: mm
B4: 90 | C4: 172 | D4: 900 | E4: =(B4/D4)*1000 -> 100 | F4: =(0.5*C4*(B4*B4))/1000 -> 696.6 | G4: =MAX(Spreadsheet!AA4:AA1804) -> 692.14456 | H4: =F4-G4 -> 4.4554427 | I4: 0.9 | J4: 0.95 | K4: 0.9 | L4: 0.95 | M4: =I4*J4*K4*L4 -> 0.731025 | O4: 418 | P4: 194 | Q4: 179

Sheet Graphs
