Workbook

Sheet Fuel Tables
C2: 100% Blends | D2: Chemical Compound | E2: Carbons | F2: Hydrogens | G2: Oxygens | H2: Enthalpy of formation (MJ) | I2: Fuel Weight 1kmol | J2: 1kmol of CO2 | K2: kg CO2/kg fuel | M2: Molecular Weight
C3: Methane | D3: CH4 | E3: 1 | F3: 4 | G3: 0 | H3: -74.4 | I3: =(E3*$N$4)+(F3*$N$5)+(G3*$N$6) -> 16.04288 | J3: =E3*($N$4+($N$6*2)) -> 44.0098 | K3: =J3/I3 -> 2.7432606 | M3: Air | N3: 28.97
C4: Acetylene | D4: C2H2 | E4: 2 | F4: 2 | G4: 0 | H4: 8.7 | I4: =(E4*$N$4)+(F4*$N$5)+(G4*$N$6) -> 26.03794 | J4: =E4*($N$4+($N$6*2)) -> 88.0196 | K4: =J4/I4 -> 3.3804364 | M4: Carbon | N4: 12.011
C5: Ethylene | D5: C2H4 | E5: 2 | F5: 4 | G5: 0 | H5: 52.4 | I5: =(E5*$N$4)+(F5*$N$5)+(G5*$N$6) -> 28.05388 | J5: =E5*($N$4+($N$6*2)) -> 88.0196 | K5: =J5/I5 -> 3.1375197 | M5: Hydrogen | N5: 1.00797
C6: Ethane | D6: C2H6 | E6: 2 | F6: 6 | G6: 0 | H6: -83.8 | I6: =(E6*$N$4)+(F6*$N$5)+(G6*$N$6) -> 30.06982 | J6: =E6*($N$4+($N$6*2)) -> 88.0196 | K6: =J6/I6 -> 2.9271742 | M6: Oxygen | N6: 15.9994
C7: Propane | D7: C3H8 | E7: 3 | F7: 8 | G7: 0 | H7: -104.7 | I7: =(E7*$N$4)+(F7*$N$5)+(G7*$N$6) -> 44.09676 | J7: =E7*($N$4+($N$6*2)) -> 132.0294 | K7: =J7/I7 -> 2.9940839 | M7: Nitrogen | N7: 14.0067
C8: n-Butane | D8: C4H10 | E8: 4 | F8: 10 | G8: 0 | H8: -146.6 | I8: =(E8*$N$4)+(F8*$N$5)+(G8*$N$6) -> 58.1237 | J8: =E8*($N$4+($N$6*2)) -> 176.0392 | K8: =J8/I8 -> 3.0286991
C9: iso-Butane | D9: C4H10 | E9: 4 | F9: 10 | G9: 0 | H9: -153.5 | I9: =(E9*$N$4)+(F9*$N$5)+(G9*$N$6) -> 58.1237 | J9: =E9*($N$4+($N$6*2)) -> 176.0392 | K9: =J9/I9 -> 3.0286991
C10: n-Pentane | D10: C5H12 | E10: 5 | F10: 12 | G10: 0 | H10: -173.5 | I10: =(E10*$N$4)+(F10*$N$5)+(G10*$N$6) -> 72.15064 | J10: =E10*($N$4+($N$6*2)) -> 220.049 | K10: =J10/I10 -> 3.0498551
C11: iso-Pentane | D11: C5H12 | E11: 5 | F11: 12 | G11: 0 | H11: -178.5 | I11: =(E11*$N$4)+(F11*$N$5)+(G11*$N$6) -> 72.15064 | J11: =E11*($N$4+($N$6*2)) -> 220.049 | K11: =J11/I11 -> 3.0498551
C12: n-Hexane | D12: C6H14 | E12: 6 | F12: 14 | G12: 0 | H12: -198.7 | I12: =(E12*$N$4)+(F12*$N$5)+(G12*$N$6) -> 86.17758 | J12: =E12*($N$4+($N$6*2)) -> 264.0588 | K12: =J12/I12 -> 3.0641241
C13: iso-Hexane | D13: C6H14 | E13: 6 | F13: 14 | G13: 0 | H13: -207.4 | I13: =(E13*$N$4)+(F13*$N$5)+(G13*$N$6) -> 86.17758 | J13: =E13*($N$4+($N$6*2)) -> 264.0588 | K13: =J13/I13 -> 3.0641241
C14: n-Heptane | D14: C7H16 | E14: 7 | F14: 16 | G14: 0 | H14: -224.2 | I14: =(E14*$N$4)+(F14*$N$5)+(G14*$N$6) -> 100.20452 | J14: =E14*($N$4+($N$6*2)) -> 308.0686 | K14: =J14/I14 -> 3.0743982
C15: n-Octane | D15: C8H18 | E15: 8 | F15: 18 | G15: 0 | H15: -250.1 | I15: =(E15*$N$4)+(F15*$N$5)+(G15*$N$6) -> 114.23146 | J15: =E15*($N$4+($N$6*2)) -> 352.0784 | K15: =J15/I15 -> 3.0821492
C16: iso-Octane | D16: C8H18 | E16: 8 | F16: 18 | G16: 0 | H16: -259.2 | I16: =(E16*$N$4)+(F16*$N$5)+(G16*$N$6) -> 114.23146 | J16: =E16*($N$4+($N$6*2)) -> 352.0784 | K16: =J16/I16 -> 3.0821492
C17: n-Noname | D17: C9H20 | E17: 9 | F17: 20 | G17: 0 | H17: -274.7 | I17: =(E17*$N$4)+(F17*$N$5)+(G17*$N$6) -> 128.2584 | J17: =E17*($N$4+($N$6*2)) -> 396.0882 | K17: =J17/I17 -> 3.0882047
C18: n-Decane | D18: C10H22 | E18: 10 | F18: 22 | G18: 0 | H18: -300.9 | I18: =(E18*$N$4)+(F18*$N$5)+(G18*$N$6) -> 142.28534 | J18: =E18*($N$4+($N$6*2)) -> 440.098 | K18: =J18/I18 -> 3.0930664
C19: iso-Decane | D19: C10H22 | E19: 10 | F19: 22 | G19: 0 | H19: N/A | I19: =(E19*$N$4)+(F19*$N$5)+(G19*$N$6) -> 142.28534 | J19: =E19*($N$4+($N$6*2)) -> 440.098 | K19: =J19/I19 -> 3.0930664
C20: n-Dodecane | D20: C12H26 | E20: 12 | F20: 26 | G20: 0 | H20: -350.9 | I20: =(E20*$N$4)+(F20*$N$5)+(G20*$N$6) -> 170.33922 | J20: =E20*($N$4+($N$6*2)) -> 528.1176 | K20: =J20/I20 -> 3.1003876
C21: Methanol | D21: CH4O | E21: 1 | F21: 4 | G21: 1 | H21: -201.5 | I21: =(E21*$N$4)+(F21*$N$5)+(G21*$N$6) -> 32.04228 | J21: =E21*($N$4+($N$6*2)) -> 44.0098 | K21: =J21/I21 -> 1.3734915
C22: Ethanol | D22: C2H6O | E22: 2 | F22: 6 | G22: 1 | H22: -235.1 | I22: =(E22*$N$4)+(F22*$N$5)+(G22*$N$6) -> 46.06922 | J22: =E22*($N$4+($N$6*2)) -> 88.0196 | K22: =J22/I22 -> 1.9105945
C23: Hydrogen | D23: H2 | E23: 0 | F23: 2 | G23: 0 | H23: 0 | I23: =(E23*$N$4)+(F23*$N$5)+(G23*$N$6) -> 2.01594 | J23: =E23*($N$4+($N$6*2)) -> 0 | K23: =J23/I23 -> 0
B24: 50/50 | C24: =C28&D28 -> Methanol iso-Octane | D24: =C29&D29 -> CH4OC8H18 | E24: =$C$31+$D$31 -> 9 | F24: =$C$33+$D$33 -> 22 | G24: =$C$35+$D$35 -> 1 | H24: =($C$37+$D$37) -> -451.6 | I24: =$C$39+$D$39 -> 146.27374 | J24: =$E$24*($N$4+($N$6*2)) -> 396.0882 | K24: =$J$24/$I$24 -> 2.7078558
C26: 50/50
C27: Fuel 1 | D27: Fuel 2
C28: Methanol | D28: iso-Octane
C29: =VLOOKUP(C28,C3:D23, 2,FALSE) -> CH4O | D29: =VLOOKUP(D28,C3:D23, 2,FALSE) -> C8H18
C30: Carbons | D30: Carbons
C31: =VLOOKUP(C29,D3:E23,2,FALSE) -> 1 | D31: =VLOOKUP(D29,D3:E23,2,FALSE) -> 8
C32: Hydrogens | D32: Hydrogens
C33: =VLOOKUP(C29,D5:F23,3,FALSE) -> 4 | D33: =VLOOKUP(D29,D3:F23,3,FALSE) -> 18
C34: Oxygens | D34: Oxygens
C35: =VLOOKUP(C29,D3:G23,4,FALSE) -> 1 | D35: =VLOOKUP(D29,D3:G23,4,FALSE) -> 0
C36: Enthalpy of formation | D36: Enthalpy of formation
C37: =VLOOKUP(C29,D9:H31,5,FALSE) -> -201.5 | D37: =VLOOKUP(D29,D3:H23,5,FALSE) -> -250.1
C38: Fuel Weight 1kmol | D38: Fuel Weight 1kmol
C39: =VLOOKUP(C29,D3:I23,6,FALSE) -> 32.04228 | D39: =VLOOKUP(D29,D3:I23,6,FALSE) -> 114.23146

Sheet Heats of Formation at 298k
B2: Heats of Formation at 298K
B3: Chemical | C3: Name | D3: State | E3: ΔHf° (kj/mol) | F3: ΔHf° (kj/g mol)
B4: C | C4: Carbon | D4: Vapor | E4: 716.67 | F4: 59.72
B5: N | C5: Nitrogen | D5: Gas | E5: 472.68 | F5: 33.76
B6: O | C6: Oxygen | D6: Gas | E6: 249.17 | F6: 15.57
B7: C2H2 | C7: Acetylene | D7: Gas | E7: 227.06 | F7: 8.79
B8: H | C8: Hydrogen | D8: Gas | E8: 218 | F8: 218
B9: O3 | C9: Ozone | D9: Gas | E9: 142.67 | F9: 2.97
B10: NO | C10: Nitric oxide | D10: Gas | E10: 90.29 | F10: 3.01
B11: C6H6 | C11: Benzene | D11: Gas | E11: 82.96 | F11: 1.06
B12: C6H6 | C12: Benzene | D12: Liquid | E12: 49.06 | F12: 0.63
B13: C2H4 | C13: Ethene | D13: Gas | E13: 52.38 | F13: 1.87
B14: N2H4 | C14: Hydrazine | D14: Liquid | E14: 50.63 | F14: 1.58
B15: OH | C15: Hydroxyl radical | D15: Gas | E15: 38.99 | F15: 2.29
... B34: SO3 | C34: Sulfurtri oxide | D34: Gas | E34: 395.77 | F34: 4.95

Sheet Simulation of Task1
B2: Stoichiometry | J2: Enthalpies of Combustion | U2: 1 molecule | Y2: >>>> | Z2: =C15 -> 13 | AA2: molecules of CO2
U3: 6x10^26 molecule | Y3: >>>> | Z3: =C15 -> 13 | AA3: * 6x10^26 molecule of CO2
B4: n-Pentane | C4: <<---Change | J4: =B4 -> n-Pentane | N4: CO2 | U4: 1kmol | Y4: >>>> | Z4: =C15 -> 13 | AA4: * kmol of CO2
B5: Carbon | C5: =VLOOKUP(B4,'Fuel Tables'!C3:E23,3,FALSE) -> 5 | J5: Δℎ"f | K5: =VLOOKUP(J4,'Fuel Tables'!C3:H23,6,FALSE) -> -173.5 | L5: kj/kmol | N5: Δℎ"f | O5: -393.5 | P5: kj/kmol
B6: Hydrogen | C6: =VLOOKUP(B4,'Fuel Tables'!C3:F23,4,FALSE) -> 12 | J6: =B8 -> iso-Octane | N6: H20 | U6: 1kmol | Y6: >>>> | Z6: =(C15*C25)+(C16*C26)+(C27*(C11+C7)) -> 186.3821 | AB6: kg
B7: Oxygen | C7: =VLOOKUP(B4,'Fuel Tables'!C3:G23,5,FALSE) -> 0 | J7: Δℎ"f | K7: =VLOOKUP(J6,'Fuel Tables'!C3:H23,6,FALSE) -> -259.2 | L7: kj/kmol | N7: Δℎ"f | O7: -241.8 | P7: kj/kmol | Q7: liquid | U7: 1kmol | Y7: >>>> | Z7: =(C15*(C25+(C27*2))) -> 572.1274 | AB7: kg
B8: iso-Octane | C8: <<---Change | O8: 285.8 | P8: kj/kmol | Q8: gas
B9: Carbon | C9: =VLOOKUP(B8,'Fuel Tables'!C3:E23,3,FALSE) -> 8 | U9: So, therefore 1kg, makes | Y9: >>>> | Z9: =Z7/Z6 -> 3.0696478
B10: Hydrogen | C10: =VLOOKUP(B8,'Fuel Tables'!C3:F23,4,FALSE) -> 18 | J10: C8H18 + CH3OH + x(O2 + 3.76N2) --> 9CO2 + 11H20 | Z10: kg of CO2
B11: Oxygen | C11: =VLOOKUP(B8,'Fuel Tables'!C3:G23,5,FALSE) -> 0 | J11: Enthalphy needed for products (MJ) | N11: Enthalphy released from products (MJ)
K12: =ABS(K5+K7) -> 432.7 | O12: =ABS((9*O5)+(11*O7)) -> 6201.3
B13: HC Fuel Balance: C8H18 + CH3OH + x(O2 + 3.76N2) --> n1CO2 + n2H2O + n3N2
L14: Net Enthalphy (MJ)
B15: Carbon | C15: =C5+C9 -> 13 | D15: (n1) | M15: =O12-K12 -> 5768.6
B16: Hydrogen | C16: =C6+C10 -> 30 | D16: 2(n2)
C17: =C16/2 -> 15 | D17: (n2) | J17: 1kg of iso-octane and methanol | M17: =$M$15/$G$27 -> 30.950397 | N17: MJ/kg | O17: (Lower)
B18: Oxygen | C18: 2n1 + n2 - O2
C19: =(C15*2)+C17-(C7+C11) -> 41 | D19: 2x | J19: Enthalphy needed for products (MJ) | N19: Enthalphy released from products (MJ)
C20: =C19/2 -> 20.5 | D20: x | K20: =ABS(K5+K7) -> 432.7 | O20: =ABS((9*O5))+(11*O8) -> 6685.3
B21: Nitrogen | C21: =3.76*C20 -> 77.08 | D21: (n3)
L22: Net Enthalphy (MJ)
M23: =O20-K20 -> 6252.6
C24: Weights
B25: Carbon | C25: 12.011 | D25: kg/mol | F25: =B8 -> iso-Octane | G25: =(C9*C25)+(C10*C26)+(C11*C27) -> 114.23146 | H25: kg/mol | J25: HHV | K25: =((M23/G27)*10^6) -> 33547213 | L25: J/kg | M25: =K25*10^-6 -> 33.547213 | N25: MJ/kg
B26: Hydrogen | C26: 1.00797 | D26: kg/mol | F26: =B4 -> n-Pentane | G26: =(C5*C25)+(C6*C26)+(C7*C27) -> 72.15064 | H26: kg/mol | J26: LHV | K26: =M17*10^6 -> 30950397 | L26: J/kg | M26: =$M$15/$G$27 -> 30.950397 | N26: MJ/kg
B27: Oxygen | C27: 15.9994 | D27: kg/mol | F27: Total | G27: =G25+G26 -> 186.3821 | H27: kg/mol
B28: Nitrogen | C28: 14.0067 | D28: kg/mol
B30: =F25 -> iso-Octane | C30: =G25/G27 -> 0.61288858 | D30: (mfuel)
B31: =F26 -> n-Pentane | C31: =G26/G27 -> 0.38711142 | D31: (mfuel)
B33: Air Mass | C33: x(O2 + 3.76N2)
C34: =C20*((C27*2)+3.76*(2*C28)) -> 2815.2483 | D34: kg/mol
B36: Air/Fuel Ratio | C36: =C34/G27 -> 15.104714

Sheet Task 1
B2: Stoichiometry | J2: Enthalpies of Combustion | U2: 1 molecule of Iso-Octane and Methanol | Y2: >>>> | Z2: 9 molecules of CO2
U3: 6x10^26 molecule of Iso-Octane and Methanol | Y3: >>>> | Z3: 9 * 6x10^26 molecule of CO2
B4: Iso-Octane | K4: Combustion Reaction | P4: Enthalpy of Combustion | U4: 1kmol of Iso-Octane and Methanol | Y4: >>>> | Z4: 9 * kmol of CO2
B5: Carbon | C5: 8 | J5: Methanol | K5: CH3OH (l) + 3/2 O2 (g) --> CO2 (g) + 2H2O (l) | P5: -726.1 | Q5: kj/kmol @25 degrees
B6: Hydrogen | C6: 18 | J6: Iso-Octane | K6: C8H18 (l) + 25/2 O2 (g) --> 8CO2 (g) + 9H2O (l) | P6: -5461 | Q6: kj/kmol @25 degrees | U6: 1kmol of Iso-Octane and Methanol | Y6: >>>> | Z6: (9*12)+(22*1)+(16*1)) kg --> 146kg
U7: 1kmol of CO2 | Y7: >>>> | Z7: (9*(12+32) kg --> 396kg
B8: Methanol | J8: Iso-Octane | N8: CO2
B9: Carbon | C9: 1 | J9: Δℎ"f | K9: -259.2 | L9: kj/kmol | N9: Δℎ"f | O9: -393.5 | P9: kj/kmol | U9: So, therefore 1kg of Iso-Octane and Methanol, makes | Y9: >>>> | Z9: =396/146 -> 2.7123288
B10: Hydrogen | C10: 4 | J10: Methanol | N10: H20 | Z10: kg of CO2
B11: Oxygen | C11: 1 | J11: Δℎ"f | K11: -201.5 | L11: kj/kmol | N11: Δℎ"f | O11: -241.8 | P11: kj/kmol | Q11: liquid
O12: 285.8 | P12: kj/kmol | Q12: gas
B13: HC Fuel Balance: C8H18 + CH3OH + x(O2 + 3.76N2) --> n1CO2 + n2H2O + n3N2
J14: C8H18 + CH3OH + x(O2 + 3.76N2) --> 9CO2 + 11H20
B15: Carbon | C15: =C5+C9 -> 9 | D15: (n1) | J15: Enthalphy needed for products (MJ) | N15: Enthalphy released from products (MJ)
B16: Hydrogen | C16: =C6+C10 -> 22 | D16: 2(n2) | K16: =ABS(K9+K11) -> 460.7 | O16: =ABS((9*O9)+(11*O11)) -> 6201.3
C17: =C16/2 -> 11 | D17: (n2)
B18: Oxygen | C18: 2n1 + n2 - 1 | L18: Net Enthalphy (MJ)
C19: =(C15*2)+C17-1 -> 28 | D19: 2x | M19: =O16-K16 -> 5740.6
C20: =C19/2 -> 14 | D20: x
B21: Nitrogen | C21: =3.76*C20 -> 52.64 | D21: (n3) | J21: 1kg of iso-octane and methanol | M21: =$M$19/$G$27 -> 39.245595 | N21: MJ/kg | O21: (Lower)
J23: Enthalphy needed for products (MJ) | N23: Enthalphy released from products (MJ)
C24: Weights | K24: =ABS(K9+K11) -> 460.7 | O24: =ABS((9*O9))+(11*O12) -> 6685.3
B25: Carbon | C25: 12.011 | D25: kg/mol | F25: Methanol | G25: =(C9*C25)+(C10*C26)+(C11*C27) -> 32.04228 | H25: kg/mol
B26: Hydrogen | C26: 1.00797 | D26: kg/mol | F26: Iso-Octane | G26: =(C5*C25)+(C6*C26) -> 114.23146 | H26: kg/mol | L26: Net Enthalphy (MJ)
B27: Oxygen | C27: 15.9994 | D27: kg/mol | F27: Total | G27: =G25+G26 -> 146.27374 | H27: kg/mol | M27: =O24-K24 -> 6224.6
B28: Nitrogen | C28: 14.0067 | D28: kg/mol
J29: HHV | K29: =((M27/G27)*10^6) -> 42554460 | L29: J/kg | M29: =K29*10^-6 -> 42.55446 | N29: MJ/kg
B30: Meth (mfuel) | C30: =G25/G27 -> 0.21905695 | J30: LHV | K30: =M21*10^6 -> 39245595 | L30: J/kg | M30: =$M$19/$G$27 -> 39.245595 | N30: MJ/kg
B31: Iso-Octane (mfuel) | C31: =G26/G27 -> 0.78094305
B33: Air Mass | C33: x(O2 + 3.76N2)
C34: =C20*((C27*2)+3.76*(2*C28)) -> 1922.6086 | D34: kg/mol
B36: Air/Fuel Ratio | C36: =C34/G27 -> 13.143908

Sheet Goal Seek 2nd order
C2: Goal Seek
B3: Temperature (K) | C3: 1705.3029 | D3: <-- To be Calculated
B4: Polynomial (MJ) | C4: =Q12*N20*(0.0000035719219468973*C3^2+0.046058346211035*C3-15.6735718562136)+Q13*N20*(0.0000046753533595565*C3^2+0.0319430102821999*C3-10.3342650859682)+Q11*(1-N20)*(0.0000017067648137467*C3^2+0.0310161671834927*C3-9.85669915518637)+Q14*(0.0000016769215315847*C3^2+0.0291628051342973*C3-9.16433772147539) -> 3039.246 | D4: <-- Set Required Enthalpy in Goal Seek
C7: ((8ϕ x h°co2) + (9ϕ x h°H2O) + (12.5(1-ϕ )x h°O2) + (47 x h°N2))
B10: Phi (ɸ) | C10: Net Enthalpy (MJ) | D10: CO2 | E10: H2O | F10: O2 | G10: N2 | H10: [O2] | I10: [N2] | J10: Alpha | K10: Initial Flame Temp (K)
B11: 1 | C11: =((D11*(ABS('CO2'!$D$3)))+(E11*(ABS(H2O!$D$3)))-(B11*(ABS('Task 1'!$K$9)))) -> 5065.41 | D11: 8 | E11: 9 | F11: 0 | G11: 47 | H11: =(F11*J11)/(40*10^-6) -> 0 | I11: =($Q$14*J11)/(40*10^-6) -> 0.31890758 | J11: =(($N$23)/(B11+(12.5*(1+3.76)))) -> 2.7141071e-07 | K11: 2396.2589 | P11: a | Q11: =(($Q$12*2)+$Q$13)/2 -> 12.5
B12: 0.99 | C12: =((D12*(ABS('CO2'!$D$3)))+(E12*(ABS(H2O!$D$3)))-(B12*(ABS('Task 1'!$K$9)))) -> 5014.7559 | D12: =D11*B12 -> 7.92 | E12: =$E$11*B12 -> 8.91 | F12: =F11+($Q$11/100) -> 0.125 | G12: 47 | H12: =(F12*J12)/(40*10^-6) -> 0.00084829867 | I12: =($Q$14*J12)/(40*10^-6) -> 0.3189603 | J12: =(($N$23)/(B12+(12.5*(1+3.76)))) -> 2.7145558e-07 | K12: 2380.7792 | M12: Carbon (x) | N12: 8 | P12: CO2 | Q12: =$N$12 -> 8
B13: 0.98 | C13: =((D13*(ABS('CO2'!$D$3)))+(E13*(ABS(H2O!$D$3)))-(B13*(ABS('Task 1'!$K$9)))) -> 4964.1018 | D13: =$D$11*B13 -> 7.84 | E13: =$E$11*B13 -> 8.82 | F13: =F12+($Q$11/100) -> 0.25 | G13: 47 | H13: =(F13*J13)/(40*10^-6) -> 0.0016968779 | I13: =($Q$14*J13)/(40*10^-6) -> 0.31901304 | J13: =(($N$23)/(B13+(12.5*(1+3.76)))) -> 2.7150046e-07 | K13: 2349.5691 | M13: Hydrogen (y) | N13: 18 | P13: H2O | Q13: =$N$13/2 -> 9
B14: 0.97 | C14: =((D14*(ABS('CO2'!$D$3)))+(E14*(ABS(H2O!$D$3)))-(B14*(ABS('Task 1'!$K$9)))) -> 4913.4477 | D14: =$D$11*B14 -> 7.76 | E14: =$E$11*B14 -> 8.73 | F14: =F13+($Q$11/100) -> 0.375 | G14: 47 | H14: =(F14*J14)/(40*10^-6) -> 0.0025457377 | I14: =($Q$14*J14)/(40*10^-6) -> 0.3190658 | J14: =(($N$23)/(B14+(12.5*(1+3.76)))) -> 2.7154536e-07 | K14: 2340.6895 | P14: N2 | Q14: =3.76*$Q$11 -> 47
B15: 0.96 | C15: =((D15*(ABS('CO2'!$D$3)))+(E15*(ABS(H2O!$D$3)))-(B15*(ABS('Task 1'!$K$9)))) -> 4862.7936 | D15: =$D$11*B15 -> 7.68 | E15: =$E$11*B15 -> 8.64 | F15: =F14+($Q$11/100) -> 0.5 | G15: 47 | H15: =(F15*J15)/(40*10^-6) -> 0.0033948784 | I15: =($Q$14*J15)/(40*10^-6) -> 0.31911857 | J15: =(($N$23)/(B15+(12.5*(1+3.76)))) -> 2.7159027e-07 | K15: 2333.8374 | M15: m(air) (kg/mol) | N15: =$Q$11*(($Q$20*2)+3.76*(2*$Q$21)) -> 1716.6148
B16: 0.95 | C16: =((D16*(ABS('CO2'!$D$3)))+(E16*(ABS(H2O!$D$3)))-(B16*(ABS('Task 1'!$K$9)))) -> 4812.1395 | D16: =$D$11*B16 -> 7.6 | E16: =$E$11*B16 -> 8.55 | F16: =F15+($Q$11/100) -> 0.625 | G16: 47 | H16: =(F16*J16)/(40*10^-6) -> 0.0042443 | I16: =($Q$14*J16)/(40*10^-6) -> 0.31917136 | J16: =(($N$23)/(B16+(12.5*(1+3.76)))) -> 2.716352e-07 | K16: 2318.0204 | M16: m(fuel) (kg/mol) | N16: =($Q$18*$N$12)+($Q$19*$N$13) -> 114.23146 | P16: Molecular Weight
B17: 0.9 | C17: =((D17*(ABS('CO2'!$D$3)))+(E17*(ABS(H2O!$D$3)))-(B17*(ABS('Task 1'!$K$9)))) -> 4558.869 | D17: =$D$11*B17 -> 7.2 | E17: =$E$11*B17 -> 8.1 | F17: =F16+(($Q$11/100)*5) -> 1.25 | G17: 47 | H17: =(F17*J17)/(40*10^-6) -> 0.0084956269 | I17: =($Q$14*J17)/(40*10^-6) -> 0.31943557 | J17: =(($N$23)/(B17+(12.5*(1+3.76)))) -> 2.7186006e-07 | K17: 2237.6327 | P17: Air | Q17: 28.97 | R17: kg/mol
B18: 0.85 | C18: =((D18*(ABS('CO2'!$D$3)))+(E18*(ABS(H2O!$D$3)))-(B18*(ABS('Task 1'!$K$9)))) -> 4305.5985 | D18: =$D$11*B18 -> 6.8 | E18: =$E$11*B18 -> 7.65 | F18: =F17+(($Q$11/100)*5) -> 1.875 | G18: 47 | H18: =(F18*J18)/(40*10^-6) -> 0.012753998 | I18: =($Q$14*J18)/(40*10^-6) -> 0.31970023 | J18: =(($N$23)/(B18+(12.5*(1+3.76)))) -> 2.720853e-07 | K18: 2155.0144 | M18: Stoich Ratio | N18: =$N$15/$N$16 -> 15.027513 | P18: Carbon | Q18: 12.011 | R18: kg/mol
B19: 0.8 | C19: =((D19*(ABS('CO2'!$D$3)))+(E19*(ABS(H2O!$D$3)))-(B19*(ABS('Task 1'!$K$9)))) -> 4052.328 | D19: =$D$11*B19 -> 6.4 | E19: =$E$11*B19 -> 7.2 | F19: =F18+(($Q$11/100)*5) -> 2.5 | G19: 47 | H19: =(F19*J19)/(40*10^-6) -> 0.017019432 | I19: =($Q$14*J19)/(40*10^-6) -> 0.31996532 | J19: =(($N$23)/(B19+(12.5*(1+3.76)))) -> 2.7231091e-07 | K19: 2070.0783 | P19: Hydrogen | Q19: 1.00797 | R19: kg/mol
B20: 0.75 | C20: =((D20*(ABS('CO2'!$D$3)))+(E20*(ABS(H2O!$D$3)))-(B20*(ABS('Task 1'!$K$9)))) -> 3799.0575 | D20: =$D$11*B20 -> 6 | E20: =$E$11*B20 -> 6.75 | F20: =F19+(($Q$11/100)*5) -> 3.125 | G20: 47 | H20: =(F20*J20)/(40*10^-6) -> 0.021291945 | I20: =($Q$14*J20)/(40*10^-6) -> 0.32023085 | J20: =(($N$23)/(B20+(12.5*(1+3.76)))) -> 2.7253689e-07 | K20: 1982.7355 | M20: Equ Ratio | N20: 0.6 | O20: <--change | P20: Oxygen | Q20: 15.9994 | R20: kg/mol
B21: 0.7 | C21: =((D21*(ABS('CO2'!$D$3)))+(E21*(ABS(H2O!$D$3)))-(B21*(ABS('Task 1'!$K$9)))) -> 3545.787 | D21: =$D$11*B21 -> 5.6 | E21: =$E$11*B21 -> 6.3 | F21: =F20+(($Q$11/100)*5) -> 3.75 | G21: 47 | H21: =(F21*J21)/(40*10^-6) -> 0.025571555 | I21: =($Q$14*J21)/(40*10^-6) -> 0.32049682 | J21: =(($N$23)/(B21+(12.5*(1+3.76)))) -> 2.7276325e-07 | K21: 1892.8911 | M21: Fuel Ratio | N21: 1 | P21: Nitrogen | Q21: 14.0067 | R21: kg/mol
B22: 0.65 | C22: =((D22*(ABS('CO2'!$D$3)))+(E22*(ABS(H2O!$D$3)))-(B22*(ABS('Task 1'!$K$9)))) -> 3292.5165 | D22: =$D$11*B22 -> 5.2 | E22: =$E$11*B22 -> 5.85 | F22: =F21+(($Q$11/100)*5) -> 4.375 | G22: 47 | H22: =(F22*J22)/(40*10^-6) -> 0.02985828 | I22: =($Q$14*J22)/(40*10^-6) -> 0.32076324 | J22: =(($N$23)/(B22+(12.5*(1+3.76)))) -> 2.7298999e-07 | K22: 1800.4479
B23: 0.6 | C23: =((D23*(ABS('CO2'!$D$3)))+(E23*(ABS(H2O!$D$3)))-(B23*(ABS('Task 1'!$K$9)))) -> 3039.246 | D23: =$D$11*B23 -> 4.8 | E23: =$E$11*B23 -> 5.4 | F23: =F22+(($Q$11/100)*5) -> 5 | G23: 47 | H23: =(F23*J23)/(40*10^-6) -> 0.034152138 | I23: =($Q$14*J23)/(40*10^-6) -> 0.32103009 | J23: =(($N$23)/(B23+(12.5*(1+3.76)))) -> 2.732171e-07 | K23: 1705.3029 | M23: n | N23: =(10^5*((400)*10^-6))/(8314*293) -> 1.6420348e-05
M24: λ | N24: 0.9
M25: 𝜑 | N25: =1/N24 -> 1.1111111
M26: polytropic index | N26: 1.17

Sheet Goal Seek 6th order
C2: Goal Seek
B3: Temperature (K) | C3: 2385.7567 | D3: <-- To be Calculated
B4: Polynomial (MJ) | C4: =S12*P20*((0*C3^6)+(-0.0000000000000001772*C3^5)+(0.0000000000026421182*C3^4)+(-0.0000000124627120457*C3^3)+(0.0000296635365075066*C3^2)+(0.022887287040501*C3)-9.16331627135478)+S13*P20*((-0.0000000000000000001*C3^6)+(0.0000000000000007567*C3^5)+(-0.0000000000037287389*C3^4)+(0.0000000082065984485*C3^3)+(-0.0000025862295728548*C3^2)+(0.0332742206220155*C3)-9.88071424688911)+S11*(1-P20)*((0*C3^6)+(0.0000000000000000151*C3^5)+(0.0000000000006480384*C3^4)-(0.0000000037470426353*C3^3)+(0.0000098189461073622*C3^2)+(0.0238524349087728*C3)-7.87103036786887)+S14*((-0.0000000000000000001*C3^6)+(0.0000000000000011254*C3^5)+(-0.0000000000045328333*C3^4)+(0.0000000082869697929*C3^3)+(-0.0000043902754023995*C3^2)+(0.0297231162501513*C3)-8.64611192150597) -> 5065.41
C7: ((8ϕ x h°co2) + (9ϕ x h°H2O) + (12.5(1-ϕ )x h°O2) + (47 x h°N2))
B10: Phi (ɸ) | C10: Net Enthalpy (MJ) | D10: CO2 | E10: CO | F10: H2O | G10: O2 | H10: N2 | I10: [O2] | J10: [N2] | K10: Alpha | L10: Initial Flame Temp (K) | M10: Total Exhaust kmols
B11: 1 | C11: =((D11*(ABS('CO2'!$D$3)))+(F11*(ABS(H2O!$D$3)))-(B11*(ABS('Fuel Tables'!$H$16)))) -> 5065.41 | D11: 8 | E11: 0 | F11: 9 | G11: =$S$11*(1-B11) -> 0 | H11: 47 | I11: =(G11*K11)/(40*10^-6) -> 0 | J11: =(H11*K11)/(40*10^-6) -> 0.12756303 | K11: =(($P$23)/(B11+(12.5*(1+3.76)))) -> 1.0856428e-07 | L11: 2385.7567 | M11: =K11*(D11+F11+G11+H11) -> 6.9481141e-06 | R11: a | S11: =(($S$12*2)+$S$13)/2 -> 12.5
B12: 0.99 | C12: =((D12*(ABS('CO2'!$D$3)))+(F12*(ABS(H2O!$D$3)))-(B12*(ABS('Fuel Tables'!$H$16)))) -> 5014.7559 | D12: =D11*B12 -> 7.92 | E12: 0 | F12: =$F$11*B12 -> 8.91 | G12: =$S$11*(1-B12) -> 0.125 | H12: 47 | I12: =(G12*K12)/(40*10^-6) -> 0.00033931947 | J12: =(H12*K12)/(40*10^-6) -> 0.12758412 | K12: =(($P$23)/(B12+(12.5*(1+3.76)))) -> 1.0858223e-07 | L12: 2369.8937 | M12: =K12*(D12+F12+G12+H12) -> 6.9443765e-06 | O12: Carbon (x) | P12: 8 | R12: CO2 | S12: =$P$12 -> 8
B13: 0.98 | C13: =((D13*(ABS('CO2'!$D$3)))+(F13*(ABS(H2O!$D$3)))-(B13*(ABS('Fuel Tables'!$H$16)))) -> 4964.1018 | D13: =$D$11*B13 -> 7.84 | E13: 0 | F13: =$F$11*B13 -> 8.82 | G13: =$S$11*(1-B13) -> 0.25 | H13: 47 | I13: =(G13*K13)/(40*10^-6) -> 0.00067875115 | J13: =(H13*K13)/(40*10^-6) -> 0.12760522 | K13: =(($P$23)/(B13+(12.5*(1+3.76)))) -> 1.0860018e-07 | L13: 2353.9765 | M13: =K13*(D13+F13+G13+H13) -> 6.9406377e-06 | O13: Hydrogen (y) | P13: 18 | R13: H2O | S13: =$P$13/2 -> 9
B14: 0.97 | C14: =((D14*(ABS('CO2'!$D$3)))+(F14*(ABS(H2O!$D$3)))-(B14*(ABS('Fuel Tables'!$H$16)))) -> 4913.4477 | D14: =$D$11*B14 -> 7.76 | E14: 0 | F14: =$F$11*B14 -> 8.73 | G14: =$S$11*(1-B14) -> 0.375 | H14: 47 | I14: =(G14*K14)/(40*10^-6) -> 0.0010182951 | J14: =(H14*K14)/(40*10^-6) -> 0.12762632 | K14: =(($P$23)/(B14+(12.5*(1+3.76)))) -> 1.0861814e-07 | L14: 2338.0392 | M14: =K14*(D14+F14+G14+H14) -> 6.9368977e-06 | R14: N2 | S14: =3.76*$S$11 -> 47
B15: 0.96 | C15: =((D15*(ABS('CO2'!$D$3)))+(F15*(ABS(H2O!$D$3)))-(B15*(ABS('Fuel Tables'!$H$16)))) -> 4862.7936 | D15: =$D$11*B15 -> 7.68 | E15: 0 | F15: =$F$11*B15 -> 8.64 | G15: =$S$11*(1-B15) -> 0.5 | H15: 47 | I15: =(G15*K15)/(40*10^-6) -> 0.0013579514 | J15: =(H15*K15)/(40*10^-6) -> 0.12764743 | K15: =(($P$23)/(B15+(12.5*(1+3.76)))) -> 1.0863611e-07 | L15: 2321.9746 | M15: =K15*(D15+F15+G15+H15) -> 6.9331564e-06 | O15: m(air) (kg/mol) | P15: =$S$11*(($S$20*2)+3.76*(2*$S$21)) -> 1716.6148
B16: 0.95 | C16: =((D16*(ABS('CO2'!$D$3)))+(F16*(ABS(H2O!$D$3)))-(B16*(ABS('Fuel Tables'!$H$16)))) -> 4812.1395 | D16: =$D$11*B16 -> 7.6 | E16: 0 | F16: =$F$11*B16 -> 8.55 | G16: =$S$11*(1-B16) -> 0.625 | H16: 47 | I16: =(G16*K16)/(40*10^-6) -> 0.00169772 | J16: =(H16*K16)/(40*10^-6) -> 0.12766854 | K16: =(($P$23)/(B16+(12.5*(1+3.76)))) -> 1.0865408e-07 | L16: 2305.8873 | M16: =K16*(D16+F16+G16+H16) -> 6.9294139e-06 | O16: m(fuel) (kg/mol) | P16: =($S$18*$P$12)+($S$19*$P$13) -> 114.23146 | R16: Molecular Weight
B17: 0.9 | C17: =((D17*(ABS('CO2'!$D$3)))+(F17*(ABS(H2O!$D$3)))-(B17*(ABS('Fuel Tables'!$H$16)))) -> 4558.869 | D17: =$D$11*B17 -> 7.2 | E17: 0 | F17: =$F$11*B17 -> 8.1 | G17: =$S$11*(1-B17) -> 1.25 | H17: 47 | I17: =(G17*K17)/(40*10^-6) -> 0.0033982508 | J17: =(H17*K17)/(40*10^-6) -> 0.12777423 | K17: =(($P$23)/(B17+(12.5*(1+3.76)))) -> 1.0874402e-07 | L17: 2224.5373 | M17: =K17*(D17+F17+G17+H17) -> 6.9106828e-06 | R17: Air | S17: 28.97 | T17: kg/mol
B18: 0.85 | C18: =((D18*(ABS('CO2'!$D$3)))+(F18*(ABS(H2O!$D$3)))-(B18*(ABS('Fuel Tables'!$H$16)))) -> 4305.5985 | D18: =$D$11*B18 -> 6.8 | E18: 0 | F18: =$F$11*B18 -> 7.65 | G18: =$S$11*(1-B18) -> 1.875 | H18: 47 | I18: =(G18*K18)/(40*10^-6) -> 0.0051015993 | J18: =(H18*K18)/(40*10^-6) -> 0.12788009 | K18: =(($P$23)/(B18+(12.5*(1+3.76)))) -> 1.0883412e-07 | L18: 2141.5579 | M18: =K18*(D18+F18+G18+H18) -> 6.8919206e-06 | O18: Stoich Ratio | P18: =$P$15/$P$16 -> 15.027513 | R18: Carbon | S18: 12.011 | T18: kg/mol
B19: 0.8 | C19: =((D19*(ABS('CO2'!$D$3)))+(F19*(ABS(H2O!$D$3)))-(B19*(ABS('Fuel Tables'!$H$16)))) -> 4052.328 | D19: =$D$11*B19 -> 6.4 | E19: 0 | F19: =$F$11*B19 -> 7.2 | G19: =$S$11*(1-B19) -> 2.5 | H19: 47 | I19: =(G19*K19)/(40*10^-6) -> 0.0068077727 | J19: =(H19*K19)/(40*10^-6) -> 0.12798613 | K19: =(($P$23)/(B19+(12.5*(1+3.76)))) -> 1.0892436e-07 | L19: 2056.8061 | M19: =K19*(D19+F19+G19+H19) -> 6.8731273e-06 | R19: Hydrogen | S19: 1.00797 | T19: kg/mol
B20: 0.75 | C20: =((D20*(ABS('CO2'!$D$3)))+(F20*(ABS(H2O!$D$3)))-(B20*(ABS('Fuel Tables'!$H$16)))) -> 3799.0575 | D20: =$D$11*B20 -> 6 | E20: 0 | F20: =$F$11*B20 -> 6.75 | G20: =$S$11*(1-B20) -> 3.125 | H20: 47 | I20: =(G20*K20)/(40*10^-6) -> 0.0085167779 | J20: =(H20*K20)/(40*10^-6) -> 0.12809234 | K20: =(($P$23)/(B20+(12.5*(1+3.76)))) -> 1.0901476e-07 | L20: 1970.1445 | M20: =K20*(D20+F20+G20+H20) -> 6.8543028e-06 | O20: Equ Ratio | P20: 1 | Q20: <--change | R20: Oxygen | S20: 15.9994 | T20: kg/mol
B21: 0.7 | C21: =((D21*(ABS('CO2'!$D$3)))+(F21*(ABS(H2O!$D$3)))-(B21*(ABS('Fuel Tables'!$H$16)))) -> 3545.787 | D21: =$D$11*B21 -> 5.6 | E21: 0 | F21: =$F$11*B21 -> 6.3 | G21: =$S$11*(1-B21) -> 3.75 | H21: 47 | I21: =(G21*K21)/(40*10^-6) -> 0.010228622 | J21: =(H21*K21)/(40*10^-6) -> 0.12819873 | K21: =(($P$23)/(B21+(12.5*(1+3.76)))) -> 1.091053e-07 | L21: 1881.4346 | M21: =K21*(D21+F21+G21+H21) -> 6.8354471e-06 | O21: Fuel Ratio | P21: 1 | R21: Nitrogen | S21: 14.0067 | T21: kg/mol
B22: 0.65 | C22: =((D22*(ABS('CO2'!$D$3)))+(F22*(ABS(H2O!$D$3)))-(B22*(ABS('Fuel Tables'!$H$16)))) -> 3292.5165 | D22: =$D$11*B22 -> 5.2 | E22: 0 | F22: =$F$11*B22 -> 5.85 | G22: =$S$11*(1-B22) -> 4.375 | H22: 47 | I22: =(G22*K22)/(40*10^-6) -> 0.011943312 | J22: =(H22*K22)/(40*10^-6) -> 0.12830529 | K22: =(($P$23)/(B22+(12.5*(1+3.76)))) -> 1.09196e-07 | L22: 1790.5347 | M22: =K22*(D22+F22+G22+H22) -> 6.81656e-06
B23: 0.6 | C23: =((D23*(ABS('CO2'!$D$3)))+(F23*(ABS(H2O!$D$3)))-(B23*(ABS('Fuel Tables'!$H$16)))) -> 3039.246 | D23: =$D$11*B23 -> 4.8 | E23: 0 | F23: =$F$11*B23 -> 5.4 | G23: =$S$11*(1-B23) -> 5 | H23: 47 | I23: =(G23*K23)/(40*10^-6) -> 0.013660855 | J23: =(H23*K23)/(40*10^-6) -> 0.12841204 | K23: =(($P$23)/(B23+(12.5*(1+3.76)))) -> 1.0928684e-07 | L23: 1687.113 | M23: =K23*(D23+F23+G23+H23) -> 6.7976415e-06 | O23: n | P23: =(10^5*((400*0.4)*10^-6))/(8314*293) -> 6.5681391e-06
O24: λ | P24: 0.9
O25: 𝜑 | P25: =1/P24 -> 1.1111111
O26: polytropic index | P26: 1.17
D27: 1 Phi (ɸ) | O27: RPM | P27: 1800
D28: Enthalpy (MJ) | E28: Initial Flame temp (K) | O28: Clearance Volume (cc) | P28: 40
B29: 2300K | C29: Lower Heated Value | D29: =(8*'CO2'!E134)+(9*H2O!E134)+(47*'N2'!E134) -> 4802.7595 | E29: 2288.9653
B30: 2400K | C30: Middle Heated Value | D30: =(8*'CO2'!E136)+(9*H2O!E136)+(47*'N2'!E136) -> 5075.6701 | E30: 2389.5233
B31: 2500K | C31: Higher Heated Value | D31: =(8*'CO2'!E138)+(9*H2O!E138)+(47*'N2'!E138) -> 5351.5701 | E31: 2490.4031

Sheet Nox
B2: 0% EGR
C4: Phi (ɸ) | D4: 1 | H4: 0.99 | L4: 0.98 | P4: 0.97 | T4: 0.96 | X4: 0.95 | AB4: 0.9 | AF4: 0.85 | AJ4: 0.8 | AN4: 0.75 | AR4: 0.7 | AV4: 0.65 | AZ4: 0.6
B5: θ° | C5: P (Bar) | D5: Temp (K) | E5: Nox (kmols/°) | F5: PPM | H5: Temp (K) | I5: Nox (kmols/°) | J5: PPM | L5: Temp (K) | M5: Nox (kmols/°) | N5: PPM | P5: Temp (K) | Q5: Nox (kmols/°) | R5: PPM | T5: Temp (K) | U5: Nox (kmols/°) | V5: PPM | X5: Temp (K) | Y5: Nox (kmols/°) | Z5: PPM | AB5: Temp (K) | AC5: Nox (kmols/°) | AD5: PPM | AF5: Temp (K) | AG5: Nox (kmols/°) | AH5: PPM | AJ5: Temp (K) | AK5: Nox (kmols/°) | AL5: PPM | AN5: Temp (K) | AO5: Nox (kmols/°) | AP5: PPM | AR5: Temp (K) | AS5: Nox (kmols/°) | AT5: PPM | AV5: Temp (K) | AW5: Nox (kmols/°) | AX5: PPM | AZ5: Temp (K) | BA5: Nox (kmols/°) | BB5: PPM
B6: 0 | C6: 10 | D6: ='Goal Seek 6th order'!L11 -> 2385.7567 | E6: =(((4.7*10^13)*'Goal Seek 6th order'!$J$11*('Goal Seek 6th order'!$I$11^0.5)*(EXP(-67837/D6))/('Goal Seek 6th order'!$P$27*6))*('Goal Seek 6th order'!$P$28*10^-6)) -> 0 | F6: =(SUM(E6:E21)/'Goal Seek 6th order'!M11)*10^6 -> 0 | H6: ='Goal Seek 6th order'!L12 -> 2369.8937 | I6: =(((4.7*10^13)*'Goal Seek 6th order'!$J$12*('Goal Seek 6th order'!$I$12^0.5)*(EXP(-67837/H6))/('Goal Seek 6th order'!$P$27*6))*('Goal Seek 6th order'!$P$28*10^-6)) -> 1.5148745e-10 | J6: =(SUM(I6:I21)/'Goal Seek 6th order'!M12)*10^6 -> 19993.74 | L6: ='Goal Seek 6th order'!L13 -> 2353.9765 | M6: =(((4.7*10^13)*'Goal Seek 6th order'!$J$13*('Goal Seek 6th order'!$I$13^0.5)*(EXP(-67837/L6))/('Goal Seek 6th order'!$P$27*6))*('Goal Seek 6th order'!$P$28*10^-6)) -> 1.7657945e-10 | N6: =(SUM(M6:M21)/'Goal Seek 6th order'!M13)*10^6 -> 24046.514 | P6: ='Goal Seek 6th order'!L14 -> 2338.0392 | Q6: =(((4.7*10^13)*'Goal Seek 6th order'!$J$14*('Goal Seek 6th order'!$I$14^0.5)*(EXP(-67837/P6))/('Goal Seek 6th order'!$P$27*6))*('Goal Seek 6th order'!$P$28*10^-6)) -> 1.7773835e-10 | R6: =(SUM(Q6:Q21)/'Goal Seek 6th order'!M14)*10^6 -> 24986.097 | T6: ='Goal Seek 6th order'!L15 -> 2321.9746 | U6: =(((4.7*10^13)*'Goal Seek 6th order'!$J$15*('Goal Seek 6th order'!$I$15^0.5)*(EXP(-67837/T6))/('Goal Seek 6th order'!$P$27*6))*('Goal Seek 6th order'!$P$28*10^-6)) -> 1.6794966e-10 | V6: =(SUM(U6:U21)/'Goal Seek 6th order'!M15)*10^6 -> 24389.928 | X6: ='Goal Seek 6th order'!L16 -> 2305.8873 | Y6: =(((4.7*10^13)*'Goal Seek 6th order'!$J$16*('Goal Seek 6th order'!$I$16^0.5)*(EXP(-67837/X6))/('Goal Seek 6th order'!$P$27*6))*('Goal Seek 6th order'!$P$28*10^-6)) -> 1.5318714e-10 | Z6: =(SUM(Y6:Y21)/'Goal Seek 6th order'!M16)*10^6 -> 22992.878 | AB6: ='Goal Seek 6th order'!L17 -> 2224.5373 | AC6: =(((4.7*10^13)*'Goal Seek 6th order'!$J$17*('Goal Seek 6th order'!$I$17^0.5)*(EXP(-67837/AB6))/('Goal Seek 6th order'!$P$27*6))*('Goal Seek 6th order'!$P$28*10^-6)) -> 7.3968484e-11 | AD6: =(SUM(AC6:AC21)/'Goal Seek 6th order'!M17)*10^6 -> 13220.22 | AF6: ='Goal Seek 6th order'!L18 -> 2141.5579 | AG6: =(((4.7*10^13)*'Goal Seek 6th order'!$J$18*('Goal Seek 6th order'!$I$18^0.5)*(EXP(-67837/AF6))/('Goal Seek 6th order'!$P$27*6))*('Goal Seek 6th order'!$P$28*10^-6)) -> 2.7827421e-11 | AH6: =(SUM(AG6:AG21)/'Goal Seek 6th order'!M18)*10^6 -> 6028.2484 | AJ6: ='Goal Seek 6th order'!L19 -> 2056.8061 | AK6: =(((4.7*10^13)*'Goal Seek 6th order'!$J$19*('Goal Seek 6th order'!$I$19^0.5)*(EXP(-67837/AJ6))/('Goal Seek 6th order'!$P$27*6))*('Goal Seek 6th order'!$P$28*10^-6)) -> 8.7220949e-12 | AL6: =(SUM(AK6:AK21)/'Goal Seek 6th order'!M19)*10^6 -> 2338.3243 | AN6: ='Goal Seek 6th order'!L20 -> 1970.1445 | AO6: =(((4.7*10^13)*'Goal Seek 6th order'!$J$20*('Goal Seek 6th order'!$I$20^0.5)*(EXP(-67837/AN6))/('Goal Seek 6th order'!$P$27*6))*('Goal Seek 6th order'!$P$28*10^-6)) -> 2.2884968e-12 | AP6: =(SUM(AO6:AO21)/'Goal Seek 6th order'!M20)*10^6 -> 778.17457 | AR6: ='Goal Seek 6th order'!L21 -> 1881.4346 | AS6: =(((4.7*10^13)*'Goal Seek 6th order'!$J$21*('Goal Seek 6th order'!$I$21^0.5)*(EXP(-67837/AR6))/('Goal Seek 6th order'!$P$27*6))*('Goal Seek 6th order'!$P$28*10^-6)) -> 4.9500055e-13 | AT6: =(SUM(AS6:AS21)/'Goal Seek 6th order'!M21)*10^6 -> 219.83366 | AV6: ='Goal Seek 6th order'!L22 -> 1790.5347 | AW6: =(((4.7*10^13)*'Goal Seek 6th order'!$J$22*('Goal Seek 6th order'!$I$22^0.5)*(EXP(-67837/AV6))/('Goal Seek 6th order'!$P$27*6))*('Goal Seek 6th order'!$P$28*10^-6)) -> 8.5835298e-14 | AX6: =(SUM(AW6:AW21)/'Goal Seek 6th order'!M22)*10^6 -> 51.572248 | AZ6: ='Goal Seek 6th order'!L23 -> 1687.113 | BA6: =(((4.7*10^13)*'Goal Seek 6th order'!$J$23*('Goal Seek 6th order'!$I$23^0.5)*(EXP(-67837/AZ6))/('Goal Seek 6th order'!$P$27*6))*('Goal Seek 6th order'!$P$28*10^-6)) -> 9.0066797e-15 | BB6: =(SUM(BA6:BA21)/'Goal Seek 6th order'!M23)*10^6 -> 7.9520033
B7: 1 | C7: 12 | D7: =D6*(C7/C6)^(('Goal Seek 6th order'!$P$26-1)/'Goal Seek 6th order'!$P$26) -> 2449.8027 | E7: =(((4.7*10^13)*'Goal Seek 6th order'!$J$11*('Goal Seek 6th order'!$I$11^0.5)*(EXP(-67837/D7))/('Goal Seek 6th order'!$P$27*6))*('Goal Seek 6th order'!$P$28*10^-6)) -> 0 | H7: =H6*(C7/C6)^(('Goal Seek 6th order'!$P$26-1)/'Goal Seek 6th order'!$P$26) -> 2433.5139 | I7: =(((4.7*10^13)*'Goal Seek 6th order'!$J$12*('Goal Seek 6th order'!$I$12^0.5)*(EXP(-67837/H7))/('Goal Seek 6th order'!$P$27*6))*('Goal Seek 6th order'!$P$28*10^-6)) -> 3.2016708e-10 | L7: =L6*(C7/C6)^(('Goal Seek 6th order'!$P$26-1)/'Goal Seek 6th order'!$P$26) -> 2417.1694 | M7: =(((4.7*10^13)*'Goal Seek 6th order'!$J$13*('Goal Seek 6th order'!$I$13^0.5)*(EXP(-67837/L7))/('Goal Seek 6th order'!$P$27*6))*('Goal Seek 6th order'!$P$28*10^-6)) -> 3.7509196e-10 | P7: =P6*(C7/C6)^(('Goal Seek 6th order'!$P$26-1)/'Goal Seek 6th order'!$P$26) -> 2400.8043 | Q7: =(((4.7*10^13)*'Goal Seek 6th order'!$J$14*('Goal Seek 6th order'!$I$14^0.5)*(EXP(-67837/P7))/('Goal Seek 6th order'!$P$27*6))*('Goal Seek 6th order'!$P$28*10^-6)) -> 3.7949766e-10 | T7: =T6*(C7/C6)^(('Goal Seek 6th order'!$P$26-1)/'Goal Seek 6th order'!$P$26) -> 2384.3084 | U7: =(((4.7*10^13)*'Goal Seek 6th order'!$J$15*('Goal Seek 6th order'!$I$15^0.5)*(EXP(-67837/T7))/('Goal Seek 6th order'!$P$27*6))*('Goal Seek 6th order'!$P$28*10^-6)) -> 3.6048421e-10 | X7: =X6*(C7/C6)^(('Goal Seek 6th order'!$P$26-1)/'Goal Seek 6th order'!$P$26) -> 2367.7892 | Y7: =(((4.7*10^13)*'Goal Seek 6th order'!$J$16*('Goal Seek 6th order'!$I$16^0.5)*(EXP(-67837/X7))/('Goal Seek 6th order'!$P$27*6))*('Goal Seek 6th order'!$P$28*10^-6)) -> 3.305549e-10 | AB7: =AB6*(C7/C6)^(('Goal Seek 6th order'!$P$26-1)/'Goal Seek 6th order'!$P$26) -> 2284.2554 | AC7: =(((4.7*10^13)*'Goal Seek 6th order'!$J$17*('Goal Seek 6th order'!$I$17^0.5)*(EXP(-67837/AB7))/('Goal Seek 6th order'!$P$27*6))*('Goal Seek 6th order'!$P$28*10^-6)) -> 1.6416591e-10 | AF7: =AF6*(C7/C6)^(('Goal Seek 6th order'!$P$26-1)/'Goal Seek 6th order'!$P$26) -> 2199.0484 | AG7: =(((4.7*10^13)*'Goal Seek 6th order'!$J$18*('Goal Seek 6th order'!$I$18^0.5)*(EXP(-67837/AF7))/('Goal Seek 6th order'!$P$27*6))*('Goal Seek 6th order'!$P$28*10^-6)) -> 6.369787e-11 | AJ7: =AJ6*(C7/C6)^(('Goal Seek 6th order'!$P$26-1)/'Goal Seek 6th order'!$P$26) -> 2112.0214 | AK7: =(((4.7*10^13)*'Goal Seek 6th order'!$J$19*('Goal Seek 6th order'!$I$19^0.5)*(EXP(-67837/AJ7))/('Goal Seek 6th order'!$P$27*6))*('Goal Seek 6th order'!$P$28*10^-6)) -> 2.0658197e-11 | AN7: =AN6*(C7/C6)^(('Goal Seek 6th order'!$P$26-1)/'Goal Seek 6th order'!$P$26) -> 2023.0334 | AO7: =(((4.7*10^13)*'Goal Seek 6th order'!$J$20*('Goal Seek 6th order'!$I$20^0.5)*(EXP(-67837/AN7))/('Goal Seek 6th order'!$P$27*6))*('Goal Seek 6th order'!$P$28*10^-6)) -> 5.6298127e-12 | AR7: =AR6*(C7/C6)^(('Goal Seek 6th order'!$P$26-1)/'Goal Seek 6th order'!$P$26) -> 1931.942 | AS7: =(((4.7*10^13)*'Goal Seek 6th order'!$J$21*('Goal Seek 6th order'!$I$21^0.5)*(EXP(-67837/AR7))/('Goal Seek 6th order'!$P$27*6))*('Goal Seek 6th order'!$P$28*10^-6)) -> 1.2705226e-12 | AV7: =AV6*(C7/C6)^(('Goal Seek 6th order'!$P$26-1)/'Goal Seek 6th order'!$P$26) -> 1838.6019 | AW7: =(((4.7*10^13)*'Goal Seek 6th order'!$J$22*('Goal Seek 6th order'!$I$22^0.5)*(EXP(-67837/AV7))/('Goal Seek 6th order'!$P$27*6))*('Goal Seek 6th order'!$P$28*10^-6)) -> 2.3111354e-13 | AZ7: =AZ6*(C7/C6)^(('Goal Seek 6th order'!$P$26-1)/'Goal Seek 6th order'!$P$26) -> 1732.4039 | BA7: =(((4.7*10^13)*'Goal Seek 6th order'!$J$23*('Goal Seek 6th order'!$I$23^0.5)*(EXP(-67837/AZ7))/('Goal Seek 6th order'!$P$27*6))*('Goal Seek 6th order'!$P$28*10^-6)) -> 2.5768753e-14
B8: 2 | C8: 14 | D8: =D7*(C8/C7)^(('Goal Seek 6th order'!$P$26-1)/'Goal Seek 6th order'!$P$26) -> 2505.2924 | E8: =(((4.7*10^13)*'Goal Seek 6th order'!$J$11*('Goal Seek 6th order'!$I$11^0.5)*(EXP(-67837/D8))/('Goal Seek 6th order'!$P$27*6))*('Goal Seek 6th order'!$P$28*10^-6)) -> 0 | H8: =H7*(C8/C7)^(('Goal Seek 6th order'!$P$26-1)/'Goal Seek 6th order'!$P$26) -> 2488.6346 | I8: =(((4.7*10^13)*'Goal Seek 6th order'!$J$12*('Goal Seek 6th order'!$I$12^0.5)*(EXP(-67837/H8))/('Goal Seek 6th order'!$P$27*6))*('Goal Seek 6th order'!$P$28*10^-6)) -> 5.9363911e-10 | L8: =L7*(C8/C7)^(('Goal Seek 6th order'!$P$26-1)/'Goal Seek 6th order'!$P$26) -> 2471.92 | M8: =(((4.7*10^13)*'Goal Seek 6th order'!$J$13*('Goal Seek 6th order'!$I$13^0.5)*(EXP(-67837/L8))/('Goal Seek 6th order'!$P$27*6))*('Goal Seek 6th order'!$P$28*10^-6)) -> 6.9838794e-10 | P8: =P7*(C8/C7)^(('Goal Seek 6th order'!$P$26-1)/'Goal Seek 6th order'!$P$26) -> 2455.1841 | Q8: =(((4.7*10^13)*'Goal Seek 6th order'!$J$14*('Goal Seek 6th order'!$I$14^0.5)*(EXP(-67837/P8))/('Goal Seek 6th order'!$P$27*6))*('Goal Seek 6th order'!$P$28*10^-6)) -> 7.0959127e-10 | T8: =T7*(C8/C7)^(('Goal Seek 6th order'!$P$26-1)/'Goal Seek 6th order'!$P$26) -> 2438.3146 | U8: =(((4.7*10^13)*'Goal Seek 6th order'!$J$15*('Goal Seek 6th order'!$I$15^0.5)*(EXP(-67837/T8))/('Goal Seek 6th order'!$P$27*6))*('Goal Seek 6th order'!$P$28*10^-6)) -> 6.7696444e-10 | X8: =X7*(C8/C7)^(('Goal Seek 6th order'!$P$26-1)/'Goal Seek 6th order'!$P$26) -> 2421.4212 | Y8: =(((4.7*10^13)*'Goal Seek 6th order'!$J$16*('Goal Seek 6th order'!$I$16^0.5)*(EXP(-67837/X8))/('Goal Seek 6th order'!$P$27*6))*('Goal Seek 6th order'!$P$28*10^-6)) -> 6.2349443e-10 | AB8: =AB7*(C8/C7)^(('Goal Seek 6th order'!$P$26-1)/'Goal Seek 6th order'!$P$26) -> 2335.9954 | AC8: =(((4.7*10^13)*'Goal Seek 6th order'!$J$17*('Goal Seek 6th order'!$I$17^0.5)*(EXP(-67837/AB8))/('Goal Seek 6th order'!$P$27*6))*('Goal Seek 6th order'!$P$28*10^-6)) -> 3.169203e-10 | AF8: =AF7*(C8/C7)^(('Goal Seek 6th order'!$P$26-1)/'Goal Seek 6th order'!$P$26) -> 2248.8583 | AG8: =(((4.7*10^13)*'Goal Seek 6th order'!$J$18*('Goal Seek 6th order'!$I$18^0.5)*(EXP(-67837/AF8))/('Goal Seek 6th order'!$P$27*6))*('Goal Seek 6th order'!$P$28*10^-6)) -> 1.2614232e-10 | AJ8: =AJ7*(C8/C7)^(('Goal Seek 6th order'!$P$26-1)/'Goal Seek 6th order'!$P$26) -> 2159.8601 | AK8: =(((4.7*10^13)*'Goal Seek 6th order'!$J$19*('Goal Seek 6th order'!$I$19^0.5)*(EXP(-67837/AJ8))/('Goal Seek 6th order'!$P$27*6))*('Goal Seek 6th order'!$P$28*10^-6)) -> 4.2078038e-11 | AN8: =AN7*(C8/C7)^(('Goal Seek 6th order'!$P$26-1)/'Goal Seek 6th order'!$P$26) -> 2068.8565 | AO8: =(((4.7*10^13)*'Goal Seek 6th order'!$J$20*('Goal Seek 6th order'!$I$20^0.5)*(EXP(-67837/AN8))/('Goal Seek 6th order'!$P$27*6))*('Goal Seek 6th order'!$P$28*10^-6)) -> 1.1831709e-11 | AR8: =AR7*(C8/C7)^(('Goal Seek 6th order'!$P$26-1)/'Goal Seek 6th order'!$P$26) -> 1975.7018 | AS8: =(((4.7*10^13)*'Goal Seek 6th order'!$J$21*('Goal Seek 6th order'!$I$21^0.5)*(EXP(-67837/AR8))/('Goal Seek 6th order'!$P$27*6))*('Goal Seek 6th order'!$P$28*10^-6)) -> 2.7653135e-12 | AV8: =AV7*(C8/C7)^(('Goal Seek 6th order'!$P$26-1)/'Goal Seek 6th order'!$P$26) -> 1880.2475 | AW8: =(((4.7*10^13)*'Goal Seek 6th order'!$J$22*('Goal Seek 6th order'!$I$22^0.5)*(EXP(-67837/AV8))/('Goal Seek 6th order'!$P$27*6))*('Goal Seek 6th order'!$P$28*10^-6)) -> 5.2328045e-13 | AZ8: =AZ7*(C8/C7)^(('Goal Seek 6th order'!$P$26-1)/'Goal Seek 6th order'!$P$26) -> 1771.644 | BA8: =(((4.7*10^13)*'Goal Seek 6th order'!$J$23*('Goal Seek 6th order'!$I$23^0.5)*(EXP(-67837/AZ8))/('Goal Seek 6th order'!$P$27*6))*('Goal Seek 6th order'!$P$28*10^-6)) -> 6.1342122e-14
B9: 3 | C9: 16 | D9: =D8*(C9/C8)^(('Goal Seek 6th order'!$P$26-1)/'Goal Seek 6th order'!$P$26) -> 2554.3747 | E9: =(((4.7*10^13)*'Goal Seek 6th order'!$J$11*('Goal Seek 6th order'!$I$11^0.5)*(EXP(-67837/D9))/('Goal Seek 6th order'!$P$27*6))*('Goal Seek 6th order'!$P$28*10^-6)) -> 0 | H9: =H8*(C9/C8)^(('Goal Seek 6th order'!$P$26-1)/'Goal Seek 6th order'!$P$26) -> 2537.3906 | I9: =(((4.7*10^13)*'Goal Seek 6th order'!$J$12*('Goal Seek 6th order'!$I$12^0.5)*(EXP(-67837/H9))/('Goal Seek 6th order'!$P$27*6))*('Goal Seek 6th order'!$P$28*10^-6)) -> 1.002295e-09 | L9: =L8*(C9/C8)^(('Goal Seek 6th order'!$P$26-1)/'Goal Seek 6th order'!$P$26) -> 2520.3484 | M9: =(((4.7*10^13)*'Goal Seek 6th order'!$J$13*('Goal Seek 6th order'!$I$13^0.5)*(EXP(-67837/L9))/('Goal Seek 6th order'!$P$27*6))*('Goal Seek 6th order'!$P$28*10^-6)) -> 1.1833356e-09 | P9: =P8*(C9/C8)^(('Goal Seek 6th order'!$P$26-1)/'Goal Seek 6th order'!$P$26) -> 2503.2847 | Q9: =(((4.7*10^13)*'Goal Seek 6th order'!$J$14*('Goal Seek 6th order'!$I$14^0.5)*(EXP(-67837/P9))/('Goal Seek 6th order'!$P$27*6))*('Goal Seek 6th order'!$P$28*10^-6)) -> 1.2066478e-09 | T9: =T8*(C9/C8)^(('Goal Seek 6th order'!$P$26-1)/'Goal Seek 6th order'!$P$26) -> 2486.0847 | U9: =(((4.7*10^13)*'Goal Seek 6th order'!$J$15*('Goal Seek 6th order'!$I$15^0.5)*(EXP(-67837/T9))/('Goal Seek 6th order'!$P$27*6))*('Goal Seek 6th order'!$P$28*10^-6)) -> 1.1554026e-09 | X9: =X8*(C9/C8)^(('Goal Seek 6th order'!$P$26-1)/'Goal Seek 6th order'!$P$26) -> 2468.8604 | Y9: =(((4.7*10^13)*'Goal Seek 6th order'!$J$16*('Goal Seek 6th order'!$I$16^0.5)*(EXP(-67837/X9))/('Goal Seek 6th order'!$P$27*6))*('Goal Seek 6th order'!$P$28*10^-6)) -> 1.0681194e-09 | AB9: =AB8*(C9/C8)^(('Goal Seek 6th order'!$P$26-1)/'Goal Seek 6th order'!$P$26) -> 2381.7609 | AC9: =(((4.7*10^13)*'Goal Seek 6th order'!$J$17*('Goal Seek 6th order'!$I$17^0.5)*(EXP(-67837/AB9))/('Goal Seek 6th order'!$P$27*6))*('Goal Seek 6th order'!$P$28*10^-6)) -> 5.5371556e-10 | AF9: =AF8*(C9/C8)^(('Goal Seek 6th order'!$P$26-1)/'Goal Seek 6th order'!$P$26) -> 2292.9167 | AG9: =(((4.7*10^13)*'Goal Seek 6th order'!$J$18*('Goal Seek 6th order'!$I$18^0.5)*(EXP(-67837/AF9))/('Goal Seek 6th order'!$P$27*6))*('Goal Seek 6th order'!$P$28*10^-6)) -> 2.2520983e-10 | AJ9: =AJ8*(C9/C8)^(('Goal Seek 6th order'!$P$26-1)/'Goal Seek 6th order'!$P$26) -> 2202.1749 | AK9: =(((4.7*10^13)*'Goal Seek 6th order'!$J$19*('Goal Seek 6th order'!$I$19^0.5)*(EXP(-67837/AJ9))/('Goal Seek 6th order'!$P$27*6))*('Goal Seek 6th order'!$P$28*10^-6)) -> 7.694042e-11 | AN9: =AN8*(C9/C8)^(('Goal Seek 6th order'!$P$26-1)/'Goal Seek 6th order'!$P$26) -> 2109.3883 | AO9: =(((4.7*10^13)*'Goal Seek 6th order'!$J$20*('Goal Seek 6th order'!$I$20^0.5)*(EXP(-67837/AN9))/('Goal Seek 6th order'!$P$27*6))*('Goal Seek 6th order'!$P$28*10^-6)) -> 2.2216499e-11 | AR9: =AR8*(C9/C8)^(('Goal Seek 6th order'!$P$26-1)/'Goal Seek 6th order'!$P$26) -> 2014.4087 | AS9: =(((4.7*10^13)*'Goal Seek 6th order'!$J$21*('Goal Seek 6th order'!$I$21^0.5)*(EXP(-67837/AR9))/('Goal Seek 6th order'!$P$27*6))*('Goal Seek 6th order'!$P$28*10^-6)) -> 5.3490187e-12 | AV9: =AV8*(C9/C8)^(('Goal Seek 6th order'!$P$26-1)/'Goal Seek 6th order'!$P$26) -> 1917.0843 | AW9: =(((4.7*10^13)*'Goal Seek 6th order'!$J$22*('Goal Seek 6th order'!$I$22^0.5)*(EXP(-67837/AV9))/('Goal Seek 6th order'!$P$27*6))*('Goal Seek 6th order'!$P$28*10^-6)) -> 1.0466717e-12 | AZ9: =AZ8*(C9/C8)^(('Goal Seek 6th order'!$P$26-1)/'Goal Seek 6th order'!$P$26) -> 1806.353 | BA9: =(((4.7*10^13)*'Goal Seek 6th order'!$J$23*('Goal Seek 6th order'!$I$23^0.5)*(EXP(-67837/AZ9))/('Goal Seek 6th order'!$P$27*6))*('Goal Seek 6th order'!$P$28*10^-6)) -> 1.2802389e-13
B10: 4 | C10: 18 | D10: =D9*(C10/C9)^(('Goal Seek 6th order'!$P$26-1)/'Goal Seek 6th order'!$P$26) -> 2598.4659 | E10: =(((4.7*10^13)*'Goal Seek 6th order'!$J$11*('Goal Seek 6th order'!$I$11^0.5)*(EXP(-67837/D10))/('Goal Seek 6th order'!$P$27*6))*('Goal Seek 6th order'!$P$28*10^-6)) -> 0 | H10: =H9*(C10/C9)^(('Goal Seek 6th order'!$P$26-1)/'Goal Seek 6th order'!$P$26) -> 2581.1886 | I10: =(((4.7*10^13)*'Goal Seek 6th order'!$J$12*('Goal Seek 6th order'!$I$12^0.5)*(EXP(-67837/H10))/('Goal Seek 6th order'!$P$27*6))*('Goal Seek 6th order'!$P$28*10^-6)) -> 1.5776484e-09 | L10: =L9*(C10/C9)^(('Goal Seek 6th order'!$P$26-1)/'Goal Seek 6th order'!$P$26) -> 2563.8523 | M10: =(((4.7*10^13)*'Goal Seek 6th order'!$J$13*('Goal Seek 6th order'!$I$13^0.5)*(EXP(-67837/L10))/('Goal Seek 6th order'!$P$27*6))*('Goal Seek 6th order'!$P$28*10^-6)) -> 1.868335e-09 | P10: =P9*(C10/C9)^(('Goal Seek 6th order'!$P$26-1)/'Goal Seek 6th order'!$P$26) -> 2546.4941 | Q10: =(((4.7*10^13)*'Goal Seek 6th order'!$J$14*('Goal Seek 6th order'!$I$14^0.5)*(EXP(-67837/P10))/('Goal Seek 6th order'!$P$27*6))*('Goal Seek 6th order'!$P$28*10^-6)) -> 1.9110822e-09 | T10: =T9*(C10/C9)^(('Goal Seek 6th order'!$P$26-1)/'Goal Seek 6th order'!$P$26) -> 2528.9971 | U10: =(((4.7*10^13)*'Goal Seek 6th order'!$J$15*('Goal Seek 6th order'!$I$15^0.5)*(EXP(-67837/T10))/('Goal Seek 6th order'!$P$27*6))*('Goal Seek 6th order'!$P$28*10^-6)) -> 1.8357511e-09 | X10: =X9*(C10/C9)^(('Goal Seek 6th order'!$P$26-1)/'Goal Seek 6th order'!$P$26) -> 2511.4755 | Y10: =(((4.7*10^13)*'Goal Seek 6th order'!$J$16*('Goal Seek 6th order'!$I$16^0.5)*(EXP(-67837/X10))/('Goal Seek 6th order'!$P$27*6))*('Goal Seek 6th order'!$P$28*10^-6)) -> 1.7025628e-09 | AB10: =AB9*(C10/C9)^(('Goal Seek 6th order'!$P$26-1)/'Goal Seek 6th order'!$P$26) -> 2422.8726 | AC10: =(((4.7*10^13)*'Goal Seek 6th order'!$J$17*('Goal Seek 6th order'!$I$17^0.5)*(EXP(-67837/AB10))/('Goal Seek 6th order'!$P$27*6))*('Goal Seek 6th order'!$P$28*10^-6)) -> 8.9779e-10 | AF10: =AF9*(C10/C9)^(('Goal Seek 6th order'!$P$26-1)/'Goal Seek 6th order'!$P$26) -> 2332.4949 | AG10: =(((4.7*10^13)*'Goal Seek 6th order'!$J$18*('Goal Seek 6th order'!$I$18^0.5)*(EXP(-67837/AF10))/('Goal Seek 6th order'!$P$27*6))*('Goal Seek 6th order'!$P$28*10^-6)) -> 3.720557e-10 | AJ10: =AJ9*(C10/C9)^(('Goal Seek 6th order'!$P$26-1)/'Goal Seek 6th order'!$P$26) -> 2240.1867 | AK10: =(((4.7*10^13)*'Goal Seek 6th order'!$J$19*('Goal Seek 6th order'!$I$19^0.5)*(EXP(-67837/AJ10))/('Goal Seek 6th order'!$P$27*6))*('Goal Seek 6th order'!$P$28*10^-6)) -> 1.2976538e-10 | AN10: =AN9*(C10/C9)^(('Goal Seek 6th order'!$P$26-1)/'Goal Seek 6th order'!$P$26) -> 2145.7986 | AO10: =(((4.7*10^13)*'Goal Seek 6th order'!$J$20*('Goal Seek 6th order'!$I$20^0.5)*(EXP(-67837/AN10))/('Goal Seek 6th order'!$P$27*6))*('Goal Seek 6th order'!$P$28*10^-6)) -> 3.8341159e-11 | AR10: =AR9*(C10/C9)^(('Goal Seek 6th order'!$P$26-1)/'Goal Seek 6th order'!$P$26) -> 2049.1795 | AS10: =(((4.7*10^13)*'Goal Seek 6th order'!$J$21*('Goal Seek 6th order'!$I$21^0.5)*(EXP(-67837/AR10))/('Goal Seek 6th order'!$P$27*6))*('Goal Seek 6th order'!$P$28*10^-6)) -> 9.4719156e-12 | AV10: =AV9*(C10/C9)^(('Goal Seek 6th order'!$P$26-1)/'Goal Seek 6th order'!$P$26) -> 1950.1752 | AW10: =(((4.7*10^13)*'Goal Seek 6th order'!$J$22*('Goal Seek 6th order'!$I$22^0.5)*(EXP(-67837/AV10))/('Goal Seek 6th order'!$P$27*6))*('Goal Seek 6th order'!$P$28*10^-6)) -> 1.9079749e-12 | AZ10: =AZ9*(C10/C9)^(('Goal Seek 6th order'!$P$26-1)/'Goal Seek 6th order'!$P$26) -> 1837.5326 | BA10: =(((4.7*10^13)*'Goal Seek 6th order'!$J$23*('Goal Seek 6th order'!$I$23^0.5)*(EXP(-67837/AZ10))/('Goal Seek 6th order'!$P$27*6))*('Goal Seek 6th order'!$P$28*10^-6)) -> 2.421242e-13
B11: 5 | C11: 20 | D11: =D10*(C11/C10)^(('Goal Seek 6th order'!$P$26-1)/'Goal Seek 6th order'!$P$26) -> 2638.5513 | E11: =(((4.7*10^13)*'Goal Seek 6th order'!$J$11*('Goal Seek 6th order'!$I$11^0.5)*(EXP(-67837/D11))/('Goal Seek 6th order'!$P$27*6))*('Goal Seek 6th order'!$P$28*10^-6)) -> 0 | H11: =H10*(C11/C10)^(('Goal Seek 6th order'!$P$26-1)/'Goal Seek 6th order'!$P$26) -> 2621.0075 | I11: =(((4.7*10^13)*'Goal Seek 6th order'!$J$12*('Goal Seek 6th order'!$I$12^0.5)*(EXP(-67837/H11))/('Goal Seek 6th order'!$P$27*6))*('Goal Seek 6th order'!$P$28*10^-6)) -> 2.3518598e-09 | L11: =L10*(C11/C10)^(('Goal Seek 6th order'!$P$26-1)/'Goal Seek 6th order'!$P$26) -> 2603.4038 | M11: =(((4.7*10^13)*'Goal Seek 6th order'!$J$13*('Goal Seek 6th order'!$I$13^0.5)*(EXP(-67837/L11))/('Goal Seek 6th order'!$P$27*6))*('Goal Seek 6th order'!$P$28*10^-6)) -> 2.7927269e-09 | P11: =P10*(C11/C10)^(('Goal Seek 6th order'!$P$26-1)/'Goal Seek 6th order'!$P$26) -> 2585.7777 | Q11: =(((4.7*10^13)*'Goal Seek 6th order'!$J$14*('Goal Seek 6th order'!$I$14^0.5)*(EXP(-67837/P11))/('Goal Seek 6th order'!$P$27*6))*('Goal Seek 6th order'!$P$28*10^-6)) -> 2.8644621e-09 | T11: =T10*(C11/C10)^(('Goal Seek 6th order'!$P$26-1)/'Goal Seek 6th order'!$P$26) -> 2568.0109 | U11: =(((4.7*10^13)*'Goal Seek 6th order'!$J$15*('Goal Seek 6th order'!$I$15^0.5)*(EXP(-67837/T11))/('Goal Seek 6th order'!$P$27*6))*('Goal Seek 6th order'!$P$28*10^-6)) -> 2.7592658e-09 | X11: =X10*(C11/C10)^(('Goal Seek 6th order'!$P$26-1)/'Goal Seek 6th order'!$P$26) -> 2550.219 | Y11: =(((4.7*10^13)*'Goal Seek 6th order'!$J$16*('Goal Seek 6th order'!$I$16^0.5)*(EXP(-67837/X11))/('Goal Seek 6th order'!$P$27*6))*('Goal Seek 6th order'!$P$28*10^-6)) -> 2.5663601e-09 | AB11: =AB10*(C11/C10)^(('Goal Seek 6th order'!$P$26-1)/'Goal Seek 6th order'!$P$26) -> 2460.2492 | AC11: =(((4.7*10^13)*'Goal Seek 6th order'!$J$17*('Goal Seek 6th order'!$I$17^0.5)*(EXP(-67837/AB11))/('Goal Seek 6th order'!$P$27*6))*('Goal Seek 6th order'!$P$28*10^-6)) -> 1.3737459e-09 | AF11: =AF10*(C11/C10)^(('Goal Seek 6th order'!$P$26-1)/'Goal Seek 6th order'!$P$26) -> 2368.4773 | AG11: =(((4.7*10^13)*'Goal Seek 6th order'!$J$18*('Goal Seek 6th order'!$I$18^0.5)*(EXP(-67837/AF11))/('Goal Seek 6th order'!$P$27*6))*('Goal Seek 6th order'!$P$28*10^-6)) -> 5.7875858e-10 | AJ11: =AJ10*(C11/C10)^(('Goal Seek 6th order'!$P$26-1)/'Goal Seek 6th order'!$P$26) -> 2274.7451 | AK11: =(((4.7*10^13)*'Goal Seek 6th order'!$J$19*('Goal Seek 6th order'!$I$19^0.5)*(EXP(-67837/AJ11))/('Goal Seek 6th order'!$P$27*6))*('Goal Seek 6th order'!$P$28*10^-6)) -> 2.0556787e-10 | AN11: =AN10*(C11/C10)^(('Goal Seek 6th order'!$P$26-1)/'Goal Seek 6th order'!$P$26) -> 2178.9009 | AO11: =(((4.7*10^13)*'Goal Seek 6th order'!$J$20*('Goal Seek 6th order'!$I$20^0.5)*(EXP(-67837/AN11))/('Goal Seek 6th order'!$P$27*6))*('Goal Seek 6th order'!$P$28*10^-6)) -> 6.1979798e-11 | AR11: =AR10*(C11/C10)^(('Goal Seek 6th order'!$P$26-1)/'Goal Seek 6th order'!$P$26) -> 2080.7913 | AS11: =(((4.7*10^13)*'Goal Seek 6th order'!$J$21*('Goal Seek 6th order'!$I$21^0.5)*(EXP(-67837/AR11))/('Goal Seek 6th order'!$P$27*6))*('Goal Seek 6th order'!$P$28*10^-6)) -> 1.5662373e-11 | AV11: =AV10*(C11/C10)^(('Goal Seek 6th order'!$P$26-1)/'Goal Seek 6th order'!$P$26) -> 1980.2597 | AW11: =(((4.7*10^13)*'Goal Seek 6th order'!$J$22*('Goal Seek 6th order'!$I$22^0.5)*(EXP(-67837/AV11))/('Goal Seek 6th order'!$P$27*6))*('Goal Seek 6th order'!$P$28*10^-6)) -> 3.2365393e-12 | AZ11: =AZ10*(C11/C10)^(('Goal Seek 6th order'!$P$26-1)/'Goal Seek 6th order'!$P$26) -> 1865.8794 | BA11: =(((4.7*10^13)*'Goal Seek 6th order'!$J$23*('Goal Seek 6th order'!$I$23^0.5)*(EXP(-67837/AZ11))/('Goal Seek 6th order'!$P$27*6))*('Goal Seek 6th order'!$P$28*10^-6)) -> 4.2424379e-13
B12: 6 | C12: 22 | D12: =D11*(C12/C11)^(('Goal Seek 6th order'!$P$26-1)/'Goal Seek 6th order'!$P$26) -> 2675.3455 | E12: =(((4.7*10^13)*'Goal Seek 6th order'!$J$11*('Goal Seek 6th order'!$I$11^0.5)*(EXP(-67837/D12))/('Goal Seek 6th order'!$P$27*6))*('Goal Seek 6th order'!$P$28*10^-6)) -> 0 | H12: =H11*(C12/C11)^(('Goal Seek 6th order'!$P$26-1)/'Goal Seek 6th order'!$P$26) -> 2657.557 | I12: =(((4.7*10^13)*'Goal Seek 6th order'!$J$12*('Goal Seek 6th order'!$I$12^0.5)*(EXP(-67837/H12))/('Goal Seek 6th order'!$P$27*6))*('Goal Seek 6th order'!$P$28*10^-6)) -> 3.357387e-09 | L12: =L11*(C12/C11)^(('Goal Seek 6th order'!$P$26-1)/'Goal Seek 6th order'!$P$26) -> 2639.7078 | M12: =(((4.7*10^13)*'Goal Seek 6th order'!$J$13*('Goal Seek 6th order'!$I$13^0.5)*(EXP(-67837/L12))/('Goal Seek 6th order'!$P$27*6))*('Goal Seek 6th order'!$P$28*10^-6)) -> 3.9963521e-09 | P12: =P11*(C12/C11)^(('Goal Seek 6th order'!$P$26-1)/'Goal Seek 6th order'!$P$26) -> 2621.836 | Q12: =(((4.7*10^13)*'Goal Seek 6th order'!$J$14*('Goal Seek 6th order'!$I$14^0.5)*(EXP(-67837/P12))/('Goal Seek 6th order'!$P$27*6))*('Goal Seek 6th order'!$P$28*10^-6)) -> 4.1090295e-09 | T12: =T11*(C12/C11)^(('Goal Seek 6th order'!$P$26-1)/'Goal Seek 6th order'!$P$26) -> 2603.8214 | U12: =(((4.7*10^13)*'Goal Seek 6th order'!$J$15*('Goal Seek 6th order'!$I$15^0.5)*(EXP(-67837/T12))/('Goal Seek 6th order'!$P$27*6))*('Goal Seek 6th order'!$P$28*10^-6)) -> 3.9680197e-09 | X12: =X11*(C12/C11)^(('Goal Seek 6th order'!$P$26-1)/'Goal Seek 6th order'!$P$26) -> 2585.7813 | Y12: =(((4.7*10^13)*'Goal Seek 6th order'!$J$16*('Goal Seek 6th order'!$I$16^0.5)*(EXP(-67837/X12))/('Goal Seek 6th order'!$P$27*6))*('Goal Seek 6th order'!$P$28*10^-6)) -> 3.6999738e-09 | AB12: =AB11*(C12/C11)^(('Goal Seek 6th order'!$P$26-1)/'Goal Seek 6th order'!$P$26) -> 2494.5569 | AC12: =(((4.7*10^13)*'Goal Seek 6th order'!$J$17*('Goal Seek 6th order'!$I$17^0.5)*(EXP(-67837/AB12))/('Goal Seek 6th order'!$P$27*6))*('Goal Seek 6th order'!$P$28*10^-6)) -> 2.0072324e-09 | AF12: =AF11*(C12/C11)^(('Goal Seek 6th order'!$P$26-1)/'Goal Seek 6th order'!$P$26) -> 2401.5053 | AG12: =(((4.7*10^13)*'Goal Seek 6th order'!$J$18*('Goal Seek 6th order'!$I$18^0.5)*(EXP(-67837/AF12))/('Goal Seek 6th order'!$P$27*6))*('Goal Seek 6th order'!$P$28*10^-6)) -> 8.5816345e-10 | AJ12: =AJ11*(C12/C11)^(('Goal Seek 6th order'!$P$26-1)/'Goal Seek 6th order'!$P$26) -> 2306.466 | AK12: =(((4.7*10^13)*'Goal Seek 6th order'!$J$19*('Goal Seek 6th order'!$I$19^0.5)*(EXP(-67837/AJ12))/('Goal Seek 6th order'!$P$27*6))*('Goal Seek 6th order'!$P$28*10^-6)) -> 3.0979681e-10 | AN12: =AN11*(C12/C11)^(('Goal Seek 6th order'!$P$26-1)/'Goal Seek 6th order'!$P$26) -> 2209.2853 | AO12: =(((4.7*10^13)*'Goal Seek 6th order'!$J$20*('Goal Seek 6th order'!$I$20^0.5)*(EXP(-67837/AN12))/('Goal Seek 6th order'!$P$27*6))*('Goal Seek 6th order'!$P$28*10^-6)) -> 9.5105795e-11 | AR12: =AR11*(C12/C11)^(('Goal Seek 6th order'!$P$26-1)/'Goal Seek 6th order'!$P$26) -> 2109.8076 | AS12: =(((4.7*10^13)*'Goal Seek 6th order'!$J$21*('Goal Seek 6th order'!$I$21^0.5)*(EXP(-67837/AR12))/('Goal Seek 6th order'!$P$27*6))*('Goal Seek 6th order'!$P$28*10^-6)) -> 2.452349e-11 | AV12: =AV11*(C12/C11)^(('Goal Seek 6th order'!$P$26-1)/'Goal Seek 6th order'!$P$26) -> 2007.8741 | AW12: =(((4.7*10^13)*'Goal Seek 6th order'!$J$22*('Goal Seek 6th order'!$I$22^0.5)*(EXP(-67837/AV12))/('Goal Seek 6th order'!$P$27*6))*('Goal Seek 6th order'!$P$28*10^-6)) -> 5.1843125e-12 | AZ12: =AZ11*(C12/C11)^(('Goal Seek 6th order'!$P$26-1)/'Goal Seek 6th order'!$P$26) -> 1891.8988 | BA12: =(((4.7*10^13)*'Goal Seek 6th order'!$J$23*('Goal Seek 6th order'!$I$23^0.5)*(EXP(-67837/AZ12))/('Goal Seek 6th order'!$P$27*6))*('Goal Seek 6th order'!$P$28*10^-6)) -> 6.9946919e-13
B13: 7 | C13: 24 | D13: =D12*(C13/C12)^(('Goal Seek 6th order'!$P$26-1)/'Goal Seek 6th order'!$P$26) -> 2709.3837 | E13: =(((4.7*10^13)*'Goal Seek 6th order'!$J$11*('Goal Seek 6th order'!$I$11^0.5)*(EXP(-67837/D13))/('Goal Seek 6th order'!$P$27*6))*('Goal Seek 6th order'!$P$28*10^-6)) -> 0 | H13: =H12*(C13/C12)^(('Goal Seek 6th order'!$P$26-1)/'Goal Seek 6th order'!$P$26) -> 2691.3689 | I13: =(((4.7*10^13)*'Goal Seek 6th order'!$J$12*('Goal Seek 6th order'!$I$12^0.5)*(EXP(-67837/H13))/('Goal Seek 6th order'!$P$27*6))*('Goal Seek 6th order'!$P$28*10^-6)) -> 4.6267261e-09 | L13: =L12*(C13/C12)^(('Goal Seek 6th order'!$P$26-1)/'Goal Seek 6th order'!$P$26) -> 2673.2926 | M13: =(((4.7*10^13)*'Goal Seek 6th order'!$J$13*('Goal Seek 6th order'!$I$13^0.5)*(EXP(-67837/L13))/('Goal Seek 6th order'!$P$27*6))*('Goal Seek 6th order'!$P$28*10^-6)) -> 5.5192222e-09 | P13: =P12*(C13/C12)^(('Goal Seek 6th order'!$P$26-1)/'Goal Seek 6th order'!$P$26) -> 2655.1934 | Q13: =(((4.7*10^13)*'Goal Seek 6th order'!$J$14*('Goal Seek 6th order'!$I$14^0.5)*(EXP(-67837/P13))/('Goal Seek 6th order'!$P$27*6))*('Goal Seek 6th order'!$P$28*10^-6)) -> 5.6873395e-09 | T13: =T12*(C13/C12)^(('Goal Seek 6th order'!$P$26-1)/'Goal Seek 6th order'!$P$26) -> 2636.9496 | U13: =(((4.7*10^13)*'Goal Seek 6th order'!$J$15*('Goal Seek 6th order'!$I$15^0.5)*(EXP(-67837/T13))/('Goal Seek 6th order'!$P$27*6))*('Goal Seek 6th order'!$P$28*10^-6)) -> 5.5045321e-09 | X13: =X12*(C13/C12)^(('Goal Seek 6th order'!$P$26-1)/'Goal Seek 6th order'!$P$26) -> 2618.68 | Y13: =(((4.7*10^13)*'Goal Seek 6th order'!$J$16*('Goal Seek 6th order'!$I$16^0.5)*(EXP(-67837/X13))/('Goal Seek 6th order'!$P$27*6))*('Goal Seek 6th order'!$P$28*10^-6)) -> 5.1444262e-09 | AB13: =AB12*(C13/C12)^(('Goal Seek 6th order'!$P$26-1)/'Goal Seek 6th order'!$P$26) -> 2526.295 | AC13: =(((4.7*10^13)*'Goal Seek 6th order'!$J$17*('Goal Seek 6th order'!$I$17^0.5)*(EXP(-67837/AB13))/('Goal Seek 6th order'!$P$27*6))*('Goal Seek 6th order'!$P$28*10^-6)) -> 2.8246876e-09 | AF13: =AF12*(C13/C12)^(('Goal Seek 6th order'!$P$26-1)/'Goal Seek 6th order'!$P$26) -> 2432.0595 | AG13: =(((4.7*10^13)*'Goal Seek 6th order'!$J$18*('Goal Seek 6th order'!$I$18^0.5)*(EXP(-67837/AF13))/('Goal Seek 6th order'!$P$27*6))*('Goal Seek 6th order'!$P$28*10^-6)) -> 1.2237475e-09 | AJ13: =AJ12*(C13/C12)^(('Goal Seek 6th order'!$P$26-1)/'Goal Seek 6th order'!$P$26) -> 2335.8111 | AK13: =(((4.7*10^13)*'Goal Seek 6th order'!$J$19*('Goal Seek 6th order'!$I$19^0.5)*(EXP(-67837/AJ13))/('Goal Seek 6th order'!$P$27*6))*('Goal Seek 6th order'!$P$28*10^-6)) -> 4.4828005e-10 | AN13: =AN12*(C13/C12)^(('Goal Seek 6th order'!$P$26-1)/'Goal Seek 6th order'!$P$26) -> 2237.3939 | AO13: =(((4.7*10^13)*'Goal Seek 6th order'!$J$20*('Goal Seek 6th order'!$I$20^0.5)*(EXP(-67837/AN13))/('Goal Seek 6th order'!$P$27*6))*('Goal Seek 6th order'!$P$28*10^-6)) -> 1.398744e-10 | AR13: =AR12*(C13/C12)^(('Goal Seek 6th order'!$P$26-1)/'Goal Seek 6th order'!$P$26) -> 2136.6505 | AS13: =(((4.7*10^13)*'Goal Seek 6th order'!$J$21*('Goal Seek 6th order'!$I$21^0.5)*(EXP(-67837/AR13))/('Goal Seek 6th order'!$P$27*6))*('Goal Seek 6th order'!$P$28*10^-6)) -> 3.6729299e-11 | AV13: =AV12*(C13/C12)^(('Goal Seek 6th order'!$P$26-1)/'Goal Seek 6th order'!$P$26) -> 2033.4201 | AW13: =(((4.7*10^13)*'Goal Seek 6th order'!$J$22*('Goal Seek 6th order'!$I$22^0.5)*(EXP(-67837/AV13))/('Goal Seek 6th order'!$P$27*6))*('Goal Seek 6th order'!$P$28*10^-6)) -> 7.9255167e-12 | AZ13: =AZ12*(C13/C12)^(('Goal Seek 6th order'!$P$26-1)/'Goal Seek 6th order'!$P$26) -> 1915.9693 | BA13: =(((4.7*10^13)*'Goal Seek 6th order'!$J$23*('Goal Seek 6th order'!$I$23^0.5)*(EXP(-67837/AZ13))/('Goal Seek 6th order'!$P$27*6))*('Goal Seek 6th order'!$P$28*10^-6)) -> 1.0975012e-12
