Workbook

Sheet Fuel Tables
C2: 100% Blends | D2: Chemical Compound | E2: Carbons | F2: Hydrogens | G2: Oxygens | H2: Enthalpy of formation (MJ) | I2: Fuel Weight 1kmol | J2: 1kmol of CO2 | K2: kg CO2/kg fuel | M2: Molecular Weight
C3: Methane | D3: CH4 | E3: 1 | F3: 4 | G3: 0 | H3: -74.4 | I3: =(E3*$N$4)+(F3*$N$5)+(G3*$N$6) -> 16.04288 | J3: =E3*($N$4+($N$6*2)) -> 44.0098 | K3: =J3/I3 -> 2.7432606 | M3: Air | N3: 28.97
C4: Acetylene | D4: C2H2 | E4: 2 | F4: 2 | G4: 0 | H4: 8.7 | I4: =(E4*$N$4)+(F4*$N$5)+(G4*$N$6) -> 26.03794 | J4: =E4*($N$4+($N$6*2)) -> 88.0196 | K4: =J4/I4 -> 3.3804364 | M4: Carbon | N4: 12.011
C5: Ethylene | D5: C2H4 | E5: 2 | F5: 4 | G5: 0 | H5: 52.4 | I5: =(E5*$N$4)+(F5*$N$5)+(G5*$N$6) -> 28.05388 | J5: =E5*($N$4+($N$6*2)) -> 88.0196 | K5: =J5/I5 -> 3.1375197 | M5: Hydrogen | N5: 1.00797
C6: Ethane | D6: C2H6 | E6: 2 | F6: 6 | G6: 0 | H6: -83.8 | I6: =(E6*$N$4)+(F6*$N$5)+(G6*$N$6) -> 30.06982 | J6: =E6*($N$4+($N$6*2)) -> 88.0196 | K6: =J6/I6 -> 2.9271742 | M6: Oxygen | N6: 15.9994
C7: Propane | D7: C3H8 | E7: 3 | F7: 8 | G7: 0 | H7: -104.7 | I7: =(E7*$N$4)+(F7*$N$5)+(G7*$N$6) -> 44.09676 | J7: =E7*($N$4+($N$6*2)) -> 132.0294 | K7: =J7/I7 -> 2.9940839 | M7: Nitrogen | N7: 14.0067
C8: n-Butane | D8: C4H10 | E8: 4 | F8: 10 | G8: 0 | H8: -146.6 | I8: =(E8*$N$4)+(F8*$N$5)+(G8*$N$6) -> 58.1237 | J8: =E8*($N$4+($N$6*2)) -> 176.0392 | K8: =J8/I8 -> 3.0286991
C9: iso-Butane | D9: C4H10 | E9: 4 | F9: 10 | G9: 0 | H9: -153.5 | I9: =(E9*$N$4)+(F9*$N$5)+(G9*$N$6) -> 58.1237 | J9: =E9*($N$4+($N$6*2)) -> 176.0392 | K9: =J9/I9 -> 3.0286991
C10: n-Pentane | D10: C5H12 | E10: 5 | F10: 12 | G10: 0 | H10: -173.5 | I10: =(E10*$N$4)+(F10*$N$5)+(G10*$N$6) -> 72.15064 | J10: =E10*($N$4+($N$6*2)) -> 220.049 | K10: =J10/I10 -> 3.0498551
C11: iso-Pentane | D11: C5H12 | E11: 5 | F11: 12 | G11: 0 | H11: -178.5 | I11: =(E11*$N$4)+(F11*$N$5)+(G11*$N$6) -> 72.15064 | J11: =E11*($N$4+($N$6*2)) -> 220.049 | K11: =J11/I11 -> 3.0498551
C12: n-Hexane | D12: C6H14 | E12: 6 | F12: 14 | G12: 0 | H12: -198.7 | I12: =(E12*$N$4)+(F12*$N$5)+(G12*$N$6) -> 86.17758 | J12: =E12*($N$4+($N$6*2)) -> 264.0588 | K12: =J12/I12 -> 3.0641241
C13: iso-Hexane | D13: C6H14 | E13: 6 | F13: 14 | G13: 0 | H13: -207.4 | I13: =(E13*$N$4)+(F13*$N$5)+(G13*$N$6) -> 86.17758 | J13: =E13*($N$4+($N$6*2)) -> 264.0588 | K13: =J13/I13 -> 3.0641241
C14: n-Heptane | D14: C7H16 | E14: 7 | F14: 16 | G14: 0 | H14: -224.2 | I14: =(E14*$N$4)+(F14*$N$5)+(G14*$N$6) -> 100.20452 | J14: =E14*($N$4+($N$6*2)) -> 308.0686 | K14: =J14/I14 -> 3.0743982
C15: n-Octane | D15: C8H18 | E15: 8 | F15: 18 | G15: 0 | H15: -250.1 | I15: =(E15*$N$4)+(F15*$N$5)+(G15*$N$6) -> 114.23146 | J15: =E15*($N$4+($N$6*2)) -> 352.0784 | K15: =J15/I15 -> 3.0821492
C16: iso-Octane | D16: C8H18 | E16: 8 | F16: 18 | G16: 0 | H16: -259.2 | I16: =(E16*$N$4)+(F16*$N$5)+(G16*$N$6) -> 114.23146 | J16: =E16*($N$4+($N$6*2)) -> 352.0784 | K16: =J16/I16 -> 3.0821492
C17: n-Noname | D17: C9H20 | E17: 9 | F17: 20 | G17: 0 | H17: -274.7 | I17: =(E17*$N$4)+(F17*$N$5)+(G17*$N$6) -> 128.2584 | J17: =E17*($N$4+($N$6*2)) -> 396.0882 | K17: =J17/I17 -> 3.0882047
C18: n-Decane | D18: C10H22 | E18: 10 | F18: 22 | G18: 0 | H18: -300.9 | I18: =(E18*$N$4)+(F18*$N$5)+(G18*$N$6) -> 142.28534 | J18: =E18*($N$4+($N$6*2)) -> 440.098 | K18: =J18/I18 -> 3.0930664
C19: iso-Decane | D19: C10H22 | E19: 10 | F19: 22 | G19: 0 | H19: N/A | I19: =(E19*$N$4)+(F19*$N$5)+(G19*$N$6) -> 142.28534 | J19: =E19*($N$4+($N$6*2)) -> 440.098 | K19: =J19/I19 -> 3.0930664
C20: n-Dodecane | D20: C12H26 | E20: 12 | F20: 26 | G20: 0 | H20: -350.9 | I20: =(E20*$N$4)+(F20*$N$5)+(G20*$N$6) -> 170.33922 | J20: =E20*($N$4+($N$6*2)) -> 528.1176 | K20: =J20/I20 -> 3.1003876
C21: Methanol | D21: CH4O | E21: 1 | F21: 4 | G21: 1 | H21: -201.5 | I21: =(E21*$N$4)+(F21*$N$5)+(G21*$N$6) -> 32.04228 | J21: =E21*($N$4+($N$6*2)) -> 44.0098 | K21: =J21/I21 -> 1.3734915
C22: Ethanol | D22: C2H6O | E22: 2 | F22: 6 | G22: 1 | H22: -235.1 | I22: =(E22*$N$4)+(F22*$N$5)+(G22*$N$6) -> 46.06922 | J22: =E22*($N$4+($N$6*2)) -> 88.0196 | K22: =J22/I22 -> 1.9105945
C23: Hydrogen | D23: H2 | E23: 0 | F23: 2 | G23: 0 | H23: 0 | I23: =(E23*$N$4)+(F23*$N$5)+(G23*$N$6) -> 2.01594 | J23: =E23*($N$4+($N$6*2)) -> 0 | K23: =J23/I23 -> 0
B24: 50/50 | C24: =C28&D28 -> Methanol iso-Octane | D24: =C29&D29 -> CH4OC8H18 | E24: =$C$31+$D$31 -> 9 | F24: =$C$33+$D$33 -> 22 | G24: =$C$35+$D$35 -> 1 | H24: =($C$37+$D$37) -> -451.6 | I24: =$C$39+$D$39 -> 146.27374 | J24: =$E$24*($N$4+($N$6*2)) -> 396.0882 | K24: =$J$24/$I$24 -> 2.7078558
C26: 50/50
C27: Fuel 1 | D27: Fuel 2
C28: Methanol | D28: iso-Octane
C29: =VLOOKUP(C28,C3:D23, 2,FALSE) -> CH4O | D29: =VLOOKUP(D28,C3:D23, 2,FALSE) -> C8H18
C30: Carbons | D30: Carbons
C31: =VLOOKUP(C29,D3:E23,2,FALSE) -> 1 | D31: =VLOOKUP(D29,D3:E23,2,FALSE) -> 8
C32: Hydrogens | D32: Hydrogens
C33: =VLOOKUP(C29,D5:F23,3,FALSE) -> 4 | D33: =VLOOKUP(D29,D3:F23,3,FALSE) -> 18
C34: Oxygens | D34: Oxygens
C35: =VLOOKUP(C29,D3:G23,4,FALSE) -> 1 | D35: =VLOOKUP(D29,D3:G23,4,FALSE) -> 0
C36: Enthalpy of formation | D36: Enthalpy of formation
C37: =VLOOKUP(C29,D9:H31,5,FALSE) -> -201.5 | D37: =VLOOKUP(D29,D3:H23,5,FALSE) -> -250.1
C38: Fuel Weight 1kmol | D38: Fuel Weight 1kmol
C39: =VLOOKUP(C29,D3:I23,6,FALSE) -> 32.04228 | D39: =VLOOKUP(D29,D3:I23,6,FALSE) -> 114.23146

Sheet Heats of Formation at 298k
B2: Heats of Formation at 298K
B3: Chemical | C3: Name | D3: State | E3: ΔHf° (kj/mol) | F3: ΔHf° (kj/g mol)
B4: C | C4: Carbon | D4: Vapor | E4: 716.67 | F4: 59.72
B5: N | C5: Nitrogen | D5: Gas | E5: 472.68 | F5: 33.76
B6: O | C6: Oxygen | D6: Gas | E6: 249.17 | F6: 15.57
B7: C2H2 | C7: Acetylene | D7: Gas | E7: 227.06 | F7: 8.79
B8: H | C8: Hydrogen | D8: Gas | E8: 218 | F8: 218
B9: O3 | C9: Ozone | D9: Gas | E9: 142.67 | F9: 2.97
B10: NO | C10: Nitric oxide | D10: Gas | E10: 90.29 | F10: 3.01
B11: C6H6 | C11: Benzene | D11: Gas | E11: 82.96 | F11: 1.06
B12: C6H6 | C12: Benzene | D12: Liquid | E12: 49.06 | F12: 0.63
B13: C2H4 | C13: Ethene | D13: Gas | E13: 52.38 | F13: 1.87
B14: N2H4 | C14: Hydrazine | D14: Liquid | E14: 50.63 | F14: 1.58
B15: OH | C15: Hydroxyl radical | D15: Gas | E15: 38.99 | F15: 2.29
... B34: SO3 | C34: Sulfurtri oxide | D34: Gas | E34: 395.77 | F34: 4.95

Sheet Simulation of Task1
B2: Stoichiometry | J2: Enthalpies of Combustion | U2: 1 molecule | Y2: >>>> | Z2: =C15 -> 13 | AA2: molecules of CO2
U3: 6x10^26 molecule | Y3: >>>> | Z3: =C15 -> 13 | AA3: * 6x10^26 molecule of CO2
B4: n-Pentane | C4: <<---Change | J4: =B4 -> n-Pentane | N4: CO2 | U4: 1kmol | Y4: >>>> | Z4: =C15 -> 13 | AA4: * kmol of CO2
B5: Carbon | C5: =VLOOKUP(B4,'Fuel Tables'!C3:E23,3,FALSE) -> 5 | J5: Δℎ"f | K5: =VLOOKUP(J4,'Fuel Tables'!C3:H23,6,FALSE) -> -173.5 | L5: kj/kmol | N5: Δℎ"f | O5: -393.5 | P5: kj/kmol
B6: Hydrogen | C6: =VLOOKUP(B4,'Fuel Tables'!C3:F23,4,FALSE) -> 12 | J6: =B8 -> iso-Octane | N6: H20 | U6: 1kmol | Y6: >>>> | Z6: =(C15*C25)+(C16*C26)+(C27*(C11+C7)) -> 186.3821 | AB6: kg
B7: Oxygen | C7: =VLOOKUP(B4,'Fuel Tables'!C3:G23,5,FALSE) -> 0 | J7: Δℎ"f | K7: =VLOOKUP(J6,'Fuel Tables'!C3:H23,6,FALSE) -> -259.2 | L7: kj/kmol | N7: Δℎ"f | O7: -241.8 | P7: kj/kmol | Q7: liquid | U7: 1kmol | Y7: >>>> | Z7: =(C15*(C25+(C27*2))) -> 572.1274 | AB7: kg
B8: iso-Octane | C8: <<---Change | O8: 285.8 | P8: kj/kmol | Q8: gas
B9: Carbon | C9: =VLOOKUP(B8,'Fuel Tables'!C3:E23,3,FALSE) -> 8 | U9: So, therefore 1kg, makes | Y9: >>>> | Z9: =Z7/Z6 -> 3.0696478
B10: Hydrogen | C10: =VLOOKUP(B8,'Fuel Tables'!C3:F23,4,FALSE) -> 18 | J10: C8H18 + CH3OH + x(O2 + 3.76N2) --> 9CO2 + 11H20 | Z10: kg of CO2
B11: Oxygen | C11: =VLOOKUP(B8,'Fuel Tables'!C3:G23,5,FALSE) -> 0 | J11: Enthalphy needed for products (MJ) | N11: Enthalphy released from products (MJ)
K12: =ABS(K5+K7) -> 432.7 | O12: =ABS((9*O5)+(11*O7)) -> 6201.3
B13: HC Fuel Balance: C8H18 + CH3OH + x(O2 + 3.76N2) --> n1CO2 + n2H2O + n3N2
L14: Net Enthalphy (MJ)
B15: Carbon | C15: =C5+C9 -> 13 | D15: (n1) | M15: =O12-K12 -> 5768.6
B16: Hydrogen | C16: =C6+C10 -> 30 | D16: 2(n2)
C17: =C16/2 -> 15 | D17: (n2) | J17: 1kg of iso-octane and methanol | M17: =$M$15/$G$27 -> 30.950397 | N17: MJ/kg | O17: (Lower)
B18: Oxygen | C18: 2n1 + n2 - O2
C19: =(C15*2)+C17-(C7+C11) -> 41 | D19: 2x | J19: Enthalphy needed for products (MJ) | N19: Enthalphy released from products (MJ)
C20: =C19/2 -> 20.5 | D20: x | K20: =ABS(K5+K7) -> 432.7 | O20: =ABS((9*O5))+(11*O8) -> 6685.3
B21: Nitrogen | C21: =3.76*C20 -> 77.08 | D21: (n3)
L22: Net Enthalphy (MJ)
M23: =O20-K20 -> 6252.6
C24: Weights
B25: Carbon | C25: 12.011 | D25: kg/mol | F25: =B8 -> iso-Octane | G25: =(C9*C25)+(C10*C26)+(C11*C27) -> 114.23146 | H25: kg/mol | J25: HHV | K25: =((M23/G27)*10^6) -> 33547213 | L25: J/kg | M25: =K25*10^-6 -> 33.547213 | N25: MJ/kg
B26: Hydrogen | C26: 1.00797 | D26: kg/mol | F26: =B4 -> n-Pentane | G26: =(C5*C25)+(C6*C26)+(C7*C27) -> 72.15064 | H26: kg/mol | J26: LHV | K26: =M17*10^6 -> 30950397 | L26: J/kg | M26: =$M$15/$G$27 -> 30.950397 | N26: MJ/kg
B27: Oxygen | C27: 15.9994 | D27: kg/mol | F27: Total | G27: =G25+G26 -> 186.3821 | H27: kg/mol
B28: Nitrogen | C28: 14.0067 | D28: kg/mol
B30: =F25 -> iso-Octane | C30: =G25/G27 -> 0.61288858 | D30: (mfuel)
B31: =F26 -> n-Pentane | C31: =G26/G27 -> 0.38711142 | D31: (mfuel)
B33: Air Mass | C33: x(O2 + 3.76N2)
C34: =C20*((C27*2)+3.76*(2*C28)) -> 2815.2483 | D34: kg/mol
B36: Air/Fuel Ratio | C36: =C34/G27 -> 15.104714

Sheet Task 1
B2: Stoichiometry | J2: Enthalpies of Combustion | U2: 1 molecule of Iso-Octane and Methanol | Y2: >>>> | Z2: 9 molecules of CO2
U3: 6x10^26 molecule of Iso-Octane and Methanol | Y3: >>>> | Z3: 9 * 6x10^26 molecule of CO2
B4: Iso-Octane | K4: Combustion Reaction | P4: Enthalpy of Combustion | U4: 1kmol of Iso-Octane and Methanol | Y4: >>>> | Z4: 9 * kmol of CO2
B5: Carbon | C5: 8 | J5: Methanol | K5: CH3OH (l) + 3/2 O2 (g) --> CO2 (g) + 2H2O (l) | P5: -726.1 | Q5: kj/kmol @25 degrees
B6: Hydrogen | C6: 18 | J6: Iso-Octane | K6: C8H18 (l) + 25/2 O2 (g) --> 8CO2 (g) + 9H2O (l) | P6: -5461 | Q6: kj/kmol @25 degrees | U6: 1kmol of Iso-Octane and Methanol | Y6: >>>> | Z6: (9*12)+(22*1)+(16*1)) kg --> 146kg
U7: 1kmol of CO2 | Y7: >>>> | Z7: (9*(12+32) kg --> 396kg
B8: Methanol | J8: Iso-Octane | N8: CO2
B9: Carbon | C9: 1 | J9: Δℎ"f | K9: -259.2 | L9: kj/kmol | N9: Δℎ"f | O9: -393.5 | P9: kj/kmol | U9: So, therefore 1kg of Iso-Octane and Methanol, makes | Y9: >>>> | Z9: =396/146 -> 2.7123288
B10: Hydrogen | C10: 4 | J10: Methanol | N10: H20 | Z10: kg of CO2
B11: Oxygen | C11: 1 | J11: Δℎ"f | K11: -201.5 | L11: kj/kmol | N11: Δℎ"f | O11: -241.8 | P11: kj/kmol | Q11: liquid
O12: 285.8 | P12: kj/kmol | Q12: gas
B13: HC Fuel Balance: C8H18 + CH3OH + x(O2 + 3.76N2) --> n1CO2 + n2H2O + n3N2
J14: C8H18 + CH3OH + x(O2 + 3.76N2) --> 9CO2 + 11H20
B15: Carbon | C15: =C5+C9 -> 9 | D15: (n1) | J15: Enthalphy needed for products (MJ) | N15: Enthalphy released from products (MJ)
B16: Hydrogen | C16: =C6+C10 -> 22 | D16: 2(n2) | K16: =ABS(K9+K11) -> 460.7 | O16: =ABS((9*O9)+(11*O11)) -> 6201.3
C17: =C16/2 -> 11 | D17: (n2)
B18: Oxygen | C18: 2n1 + n2 - 1 | L18: Net Enthalphy (MJ)
C19: =(C15*2)+C17-1 -> 28 | D19: 2x | M19: =O16-K16 -> 5740.6
C20: =C19/2 -> 14 | D20: x
B21: Nitrogen | C21: =3.76*C20 -> 52.64 | D21: (n3) | J21: 1kg of iso-octane and methanol | M21: =$M$19/$G$27 -> 39.245595 | N21: MJ/kg | O21: (Lower)
J23: Enthalphy needed for products (MJ) | N23: Enthalphy released from products (MJ)
C24: Weights | K24: =ABS(K9+K11) -> 460.7 | O24: =ABS((9*O9))+(11*O12) -> 6685.3
B25: Carbon | C25: 12.011 | D25: kg/mol | F25: Methanol | G25: =(C9*C25)+(C10*C26)+(C11*C27) -> 32.04228 | H25: kg/mol
B26: Hydrogen | C26: 1.00797 | D26: kg/mol | F26: Iso-Octane | G26: =(C5*C25)+(C6*C26) -> 114.23146 | H26: kg/mol | L26: Net Enthalphy (MJ)
B27: Oxygen | C27: 15.9994 | D27: kg/mol | F27: Total | G27: =G25+G26 -> 146.27374 | H27: kg/mol | M27: =O24-K24 -> 6224.6
B28: Nitrogen | C28: 14.0067 | D28: kg/mol
J29: HHV | K29: =((M27/G27)*10^6) -> 42554460 | L29: J/kg | M29: =K29*10^-6 -> 42.55446 | N29: MJ/kg
B30: Meth (mfuel) | C30: =G25/G27 -> 0.21905695 | J30: LHV | K30: =M21*10^6 -> 39245595 | L30: J/kg | M30: =$M$19/$G$27 -> 39.245595 | N30: MJ/kg
B31: Iso-Octane (mfuel) | C31: =G26/G27 -> 0.78094305
B33: Air Mass | C33: x(O2 + 3.76N2)
C34: =C20*((C27*2)+3.76*(2*C28)) -> 1922.6086 | D34: kg/mol
B36: Air/Fuel Ratio | C36: =C34/G27 -> 13.143908

Sheet Goal Seek 2nd order
C2: Goal Seek
B3: Temperature (K) | C3: 1705.3029 | D3: <-- To be Calculated
B4: Polynomial (MJ) | C4: =Q12*N20*(0.0000035719219468973*C3^2+0.046058346211035*C3-15.6735718562136)+Q13*N20*(0.0000046753533595565*C3^2+0.0319430102821999*C3-10.3342650859682)+Q11*(1-N20)*(0.0000017067648137467*C3^2+0.0310161671834927*C3-9.85669915518637)+Q14*(0.0000016769215315847*C3^2+0.0291628051342973*C3-9.16433772147539) -> 3039.246 | D4: <-- Set Required Enthalpy in Goal Seek
C7: ((8ϕ x h°co2) + (9ϕ x h°H2O) + (12.5(1-ϕ )x h°O2) + (47 x h°N2))
B10: Phi (ɸ) | C10: Net Enthalpy (MJ) | D10: CO2 | E10: H2O | F10: O2 | G10: N2 | H10: [O2] | I10: [N2] | J10: Alpha | K10: Initial Flame Temp (K)
B11: 1 | C11: =((D11*(ABS('CO2'!$D$3)))+(E11*(ABS(H2O!$D$3)))-(B11*(ABS('Task 1'!$K$9)))) -> 5065.41 | D11: 8 | E11: 9 | F11: 0 | G11: 47 | H11: =(F11*J11)/(40*10^-6) -> 0 | I11: =($Q$14*J11)/(40*10^-6) -> 0.31890758 | J11: =(($N$23)/(B11+(12.5*(1+3.76)))) -> 2.7141071e-07 | K11: 2396.2589 | P11: a | Q11: =(($Q$12*2)+$Q$13)/2 -> 12.5
B12: 0.99 | C12: =((D12*(ABS('CO2'!$D$3)))+(E12*(ABS(H2O!$D$3)))-(B12*(ABS('Task 1'!$K$9)))) -> 5014.7559 | D12: =D11*B12 -> 7.92 | E12: =$E$11*B12 -> 8.91 | F12: =F11+($Q$11/100) -> 0.125 | G12: 47 | H12: =(F12*J12)/(40*10^-6) -> 0.00084829867 | I12: =($Q$14*J12)/(40*10^-6) -> 0.3189603 | J12: =(($N$23)/(B12+(12.5*(1+3.76)))) -> 2.7145558e-07 | K12: 2380.7792 | M12: Carbon (x) | N12: 8 | P12: CO2 | Q12: =$N$12 -> 8
B13: 0.98 | C13: =((D13*(ABS('CO2'!$D$3)))+(E13*(ABS(H2O!$D$3)))-(B13*(ABS('Task 1'!$K$9)))) -> 4964.1018 | D13: =$D$11*B13 -> 7.84 | E13: =$E$11*B13 -> 8.82 | F13: =F12+($Q$11/100) -> 0.25 | G13: 47 | H13: =(F13*J13)/(40*10^-6) -> 0.0016968779 | I13: =($Q$14*J13)/(40*10^-6) -> 0.31901304 | J13: =(($N$23)/(B13+(12.5*(1+3.76)))) -> 2.7150046e-07 | K13: 2349.5691 | M13: Hydrogen (y) | N13: 18 | P13: H2O | Q13: =$N$13/2 -> 9
B14: 0.97 | C14: =((D14*(ABS('CO2'!$D$3)))+(E14*(ABS(H2O!$D$3)))-(B14*(ABS('Task 1'!$K$9)))) -> 4913.4477 | D14: =$D$11*B14 -> 7.76 | E14: =$E$11*B14 -> 8.73 | F14: =F13+($Q$11/100) -> 0.375 | G14: 47 | H14: =(F14*J14)/(40*10^-6) -> 0.0025457377 | I14: =($Q$14*J14)/(40*10^-6) -> 0.3190658 | J14: =(($N$23)/(B14+(12.5*(1+3.76)))) -> 2.7154536e-07 | K14: 2340.6895 | P14: N2 | Q14: =3.76*$Q$11 -> 47
B15: 0.96 | C15: =((D15*(ABS('CO2'!$D$3)))+(E15*(ABS(H2O!$D$3)))-(B15*(ABS('Task 1'!$K$9)))) -> 4862.7936 | D15: =$D$11*B15 -> 7.68 | E15: =$E$11*B15 -> 8.64 | F15: =F14+($Q$11/100) -> 0.5 | G15: 47 | H15: =(F15*J15)/(40*10^-6) -> 0.0033948784 | I15: =($Q$14*J15)/(40*10^-6) -> 0.31911857 | J15: =(($N$23)/(B15+(12.5*(1+3.76)))) -> 2.7159027e-07 | K15: 2333.8374 | M15: m(air) (kg/mol) | N15: =$Q$11*(($Q$20*2)+3.76*(2*$Q$21)) -> 1716.6148
B16: 0.95 | C16: =((D16*(ABS('CO2'!$D$3)))+(E16*(ABS(H2O!$D$3)))-(B16*(ABS('Task 1'!$K$9)))) -> 4812.1395 | D16: =$D$11*B16 -> 7.6 | E16: =$E$11*B16 -> 8.55 | F16: =F15+($Q$11/100) -> 0.625 | G16: 47 | H16: =(F16*J16)/(40*10^-6) -> 0.0042443 | I16: =($Q$14*J16)/(40*10^-6) -> 0.31917136 | J16: =(($N$23)/(B16+(12.5*(1+3.76)))) -> 2.716352e-07 | K16: 2318.0204 | M16: m(fuel) (kg/mol) | N16: =($Q$18*$N$12)+($Q$19*$N$13) -> 114.23146 | P16: Molecular Weight
B17: 0.9 | C17: =((D17*(ABS('CO2'!$D$3)))+(E17*(ABS(H2O!$D$3)))-(B17*(ABS('Task 1'!$K$9)))) -> 4558.869 | D17: =$D$11*B17 -> 7.2 | E17: =$E$11*B17 -> 8.1 | F17: =F16+(($Q$11/100)*5) -> 1.25 | G17: 47 | H17: =(F17*J17)/(40*10^-6) -> 0.0084956269 | I17: =($Q$14*J17)/(40*10^-6) -> 0.31943557 | J17: =(($N$23)/(B17+(12.5*(1+3.76)))) -> 2.7186006e-07 | K17: 2237.6327 | P17: Air | Q17: 28.97 | R17: kg/mol
B18: 0.85 | C18: =((D18*(ABS('CO2'!$D$3)))+(E18*(ABS(H2O!$D$3)))-(B18*(ABS('Task 1'!$K$9)))) -> 4305.5985 | D18: =$D$11*B18 -> 6.8 | E18: =$E$11*B18 -> 7.65 | F18: =F17+(($Q$11/100)*5) -> 1.875 | G18: 47 | H18: =(F18*J18)/(40*10^-6) -> 0.012753998 | I18: =($Q$14*J18)/(40*10^-6) -> 0.31970023 | J18: =(($N$23)/(B18+(12.5*(1+3.76)))) -> 2.720853e-07 | K18: 2155.0144 | M18: Stoich Ratio | N18: =$N$15/$N$16 -> 15.027513 | P18: Carbon | Q18: 12.011 | R18: kg/mol
B19: 0.8 | C19: =((D19*(ABS('CO2'!$D$3)))+(E19*(ABS(H2O!$D$3)))-(B19*(ABS('Task 1'!$K$9)))) -> 4052.328 | D19: =$D$11*B19 -> 6.4 | E19: =$E$11*B19 -> 7.2 | F19: =F18+(($Q$11/100)*5) -> 2.5 | G19: 47 | H19: =(F19*J19)/(40*10^-6) -> 0.017019432 | I19: =($Q$14*J19)/(40*10^-6) -> 0.31996532 | J19: =(($N$23)/(B19+(12.5*(1+3.76)))) -> 2.7231091e-07 | K19: 2070.0783 | P19: Hydrogen | Q19: 1.00797 | R19: kg/mol
B20: 0.75 | C20: =((D20*(ABS('CO2'!$D$3)))+(E20*(ABS(H2O!$D$3)))-(B20*(ABS('Task 1'!$K$9)))) -> 3799.0575 | D20: =$D$11*B20 -> 6 | E20: =$E$11*B20 -> 6.75 | F20: =F19+(($Q$11/100)*5) -> 3.125 | G20: 47 | H20: =(F20*J20)/(40*10^-6) -> 0.021291945 | I20: =($Q$14*J20)/(40*10^-6) -> 0.32023085 | J20: =(($N$23)/(B20+(12.5*(1+3.76)))) -> 2.7253689e-07 | K20: 1982.7355 | M20: Equ Ratio | N20: 0.6 | O20: <--change | P20: Oxygen | Q20: 15.9994 | R20: kg/mol
B21: 0.7 | C21: =((D21*(ABS('CO2'!$D$3)))+(E21*(ABS(H2O!$D$3)))-(B21*(ABS('Task 1'!$K$9)))) -> 3545.787 | D21: =$D$11*B21 -> 5.6 | E21: =$E$11*B21 -> 6.3 | F21: =F20+(($Q$11/100)*5) -> 3.75 | G21: 47 | H21: =(F21*J21)/(40*10^-6) -> 0.025571555 | I21: =($Q$14*J21)/(40*10^-6) -> 0.32049682 | J21: =(($N$23)/(B21+(12.5*(1+3.76)))) -> 2.7276325e-07 | K21: 1892.8911 | M21: Fuel Ratio | N21: 1 | P21: Nitrogen | Q21: 14.0067 | R21: kg/mol
B22: 0.65 | C22: =((D22*(ABS('CO2'!$D$3)))+(E22*(ABS(H2O!$D$3)))-(B22*(ABS('Task 1'!$K$9)))) -> 3292.5165 | D22: =$D$11*B22 -> 5.2 | E22: =$E$11*B22 -> 5.85 | F22: =F21+(($Q$11/100)*5) -> 4.375 | G22: 47 | H22: =(F22*J22)/(40*10^-6) -> 0.02985828 | I22: =($Q$14*J22)/(40*10^-6) -> 0.32076324 | J22: =(($N$23)/(B22+(12.5*(1+3.76)))) -> 2.7298999e-07 | K22: 1800.4479
B23: 0.6 | C23: =((D23*(ABS('CO2'!$D$3)))+(E23*(ABS(H2O!$D$3)))-(B23*(ABS('Task 1'!$K$9)))) -> 3039.246 | D23: =$D$11*B23 -> 4.8 | E23: =$E$11*B23 -> 5.4 | F23: =F22+(($Q$11/100)*5) -> 5 | G23: 47 | H23: =(F23*J23)/(40*10^-6) -> 0.034152138 | I23: =($Q$14*J23)/(40*10^-6) -> 0.32103009 | J23: =(($N$23)/(B23+(12.5*(1+3.76)))) -> 2.732171e-07 | K23: 1705.3029 | M23: n | N23: =(10^5*((400)*10^-6))/(8314*293) -> 1.6420348e-05
M24: λ | N24: 0.9
M25: 𝜑 | N25: =1/N24 -> 1.1111111
M26: polytropic index | N26: 1.17

Sheet Goal Seek 6th order
C2: Goal Seek
B3: Temperature (K) | C3: 2385.7567 | D3: <-- To be Calculated
B4: Polynomial (MJ) | C4: =S12*P20*((0*C3^6)+(-0.0000000000000001772*C3^5)+(0.0000000000026421182*C3^4)+(-0.0000000124627120457*C3^3)+(0.0000296635365075066*C3^2)+(0.022887287040501*C3)-9.16331627135478)+S13*P20*((-0.0000000000000000001*C3^6)+(0.0000000000000007567*C3^5)+(-0.0000000000037287389*C3^4)+(0.0000000082065984485*C3^3)+(-0.0000025862295728548*C3^2)+(0.0332742206220155*C3)-9.88071424688911)+S11*(1-P20)*((0*C3^6)+(0.0000000000000000151*C3^5)+(0.0000000000006480384*C3^4)-(0.0000000037470426353*C3^3)+(0.0000098189461073622*C3^2)+(0.0238524349087728*C3)-7.87103036786887)+S14*((-0.0000000000000000001*C3^6)+(0.0000000000000011254*C3^5)+(-0.0000000000045328333*C3^4)+(0.0000000082869697929*C3^3)+(-0.0000043902754023995*C3^2)+(0.0297231162501513*C3)-8.64611192150597) -> 5065.41
C7: ((8ϕ x h°co2) + (9ϕ x h°H2O) + (12.5(1-ϕ )x h°O2) + (47 x h°N2))
B10: Phi (ɸ) | C10: Net Enthalpy (MJ) | D10: CO2 | E10: CO | F10: H2O | G10: O2 | H10: N2 | I10: [O2] | J10: [N2] | K10: Alpha | L10: Initial Flame Temp (K) | M10: Total Exhaust kmols
B11: 1 | C11: =((D11*(ABS('CO2'!$D$3)))+(F11*(ABS(H2O!$D$3)))-(B11*(ABS('Fuel Tables'!$H$16)))) -> 5065.41 | D11: 8 | E11: 0 | F11: 9 | G11: =$S$11*(1-B11) -> 0 | H11: 47 | I11: =(G11*K11)/(40*10^-6) -> 0 | J11: =(H11*K11)/(40*10^-6) -> 0.12756303 | K11: =(($P$23)/(B11+(12.5*(1+3.76)))) -> 1.0856428e-07 | L11: 2385.7567 | M11: =K11*(D11+F11+G11+H11) -> 6.9481141e-06 | R11: a | S11: =(($S$12*2)+$S$13)/2 -> 12.5
B12: 0.99 | C12: =((D12*(ABS('CO2'!$D$3)))+(F12*(ABS(H2O!$D$3)))-(B12*(ABS('Fuel Tables'!$H$16)))) -> 5014.7559 | D12: =D11*B12 -> 7.92 | E12: 0 | F12: =$F$11*B12 -> 8.91 | G12: =$S$11*(1-B12) -> 0.125 | H12: 47 | I12: =(G12*K12)/(40*10^-6) -> 0.00033931947 | J12: =(H12*K12)/(40*10^-6) -> 0.12758412 | K12: =(($P$23)/(B12+(12.5*(1+3.76)))) -> 1.0858223e-07 | L12: 2369.8937 | M12: =K12*(D12+F12+G12+H12) -> 6.9443765e-06 | O12: Carbon (x) | P12: 8 | R12: CO2 | S12: =$P$12 -> 8
B13: 0.98 | C13: =((D13*(ABS('CO2'!$D$3)))+(F13*(ABS(H2O!$D$3)))-(B13*(ABS('Fuel Tables'!$H$16)))) -> 4964.1018 | D13: =$D$11*B13 -> 7.84 | E13: 0 | F13: =$F$11*B13 -> 8.82 | G13: =$S$11*(1-B13) -> 0.25 | H13: 47 | I13: =(G13*K13)/(40*10^-6) -> 0.00067875115 | J13: =(H13*K13)/(40*10^-6) -> 0.12760522 | K13: =(($P$23)/(B13+(12.5*(1+3.76)))) -> 1.0860018e-07 | L13: 2353.9765 | M13: =K13*(D13+F13+G13+H13) -> 6.9406377e-06 | O13: Hydrogen (y) | P13: 18 | R13: H2O | S13: =$P$13/2 -> 9
B14: 0.97 | C14: =((D14*(ABS('CO2'!$D$3)))+(F14*(ABS(H2O!$D$3)))-(B14*(ABS('Fuel Tables'!$H$16)))) -> 4913.4477 | D14: =$D$11*B14 -> 7.76 | E14: 0 | F14: =$F$11*B14 -> 8.73 | G14: =$S$11*(1-B14) -> 0.375 | H14: 47 | I14: =(G14*K14)/(40*10^-6) -> 0.0010182951 | J14: =(H14*K14)/(40*10^-6) -> 0.12762632 | K14: =(($P$23)/(B14+(12.5*(1+3.76)))) -> 1.0861814e-07 | L14: 2338.0392 | M14: =K14*(D14+F14+G14+H14) -> 6.9368977e-06 | R14: N2 | S14: =3.76*$S$11 -> 47
B15: 0.96 | C15: =((D15*(ABS('CO2'!$D$3)))+(F15*(ABS(H2O!$D$3)))-(B15*(ABS('Fuel Tables'!$H$16)))) -> 4862.7936 | D15: =$D$11*B15 -> 7.68 | E15: 0 | F15: =$F$11*B15 -> 8.64 | G15: =$S$11*(1-B15) -> 0.5 | H15: 47 | I15: =(G15*K15)/(40*10^-6) -> 0.0013579514 | J15: =(H15*K15)/(40*10^-6) -> 0.12764743 | K15: =(($P$23)/(B15+(12.5*(1+3.76)))) -> 1.0863611e-07 | L15: 2321.9746 | M15: =K15*(D15+F15+G15+H15) -> 6.9331564e-06 | O15: m(air) (kg/mol) | P15: =$S$11*(($S$20*2)+3.76*(2*$S$21)) -> 1716.6148
B16: 0.95 | C16: =((D16*(ABS('CO2'!$D$3)))+(F16*(ABS(H2O!$D$3)))-(B16*(ABS('Fuel Tables'!$H$16)))) -> 4812.1395 | D16: =$D$11*B16 -> 7.6 | E16: 0 | F16: =$F$11*B16 -> 8.55 | G16: =$S$11*(1-B16) -> 0.625 | H16: 47 | I16: =(G16*K16)/(40*10^-6) -> 0.00169772 | J16: =(H16*K16)/(40*10^-6) -> 0.12766854 | K16: =(($P$23)/(B16+(12.5*(1+3.76)))) -> 1.0865408e-07 | L16: 2305.8873 | M16: =K16*(D16+F16+G16+H16) -> 6.9294139e-06 | O16: m(fuel) (kg/mol) | P16: =($S$18*$P$12)+($S$19*$P$13) -> 114.23146 | R16: Molecular Weight
B17: 0.9 | C17: =((D17*(ABS('CO2'!$D$3)))+(F17*(ABS(H2O!$D$3)))-(B17*(ABS('Fuel Tables'!$H$16)))) -> 4558.869 | D17: =$D$11*B17 -> 7.2 | E17: 0 | F17: =$F$11*B17 -> 8.1 | G17: =$S$11*(1-B17) -> 1.25 | H17: 47 | I17: =(G17*K17)/(40*10^-6) -> 0.0033982508 | J17: =(H17*K17)/(40*10^-6) -> 0.12777423 | K17: =(($P$23)/(B17+(12.5*(1+3.76)))) -> 1.0874402e-07 | L17: 2224.5373 | M17: =K17*(D17+F17+G17+H17) -> 6.9106828e-06 | R17: Air | S17: 28.97 | T17: kg/mol
B18: 0.85 | C18: =((D18*(ABS('CO2'!$D$3)))+(F18*(ABS(H2O!$D$3)))-(B18*(ABS('Fuel Tables'!$H$16)))) -> 4305.5985 | D18: =$D$11*B18 -> 6.8 | E18: 0 | F18: =$F$11*B18 -> 7.65 | G18: =$S$11*(1-B18) -> 1.875 | H18: 47 | I18: =(G18*K18)/(40*10^-6) -> 0.0051015993 | J18: =(H18*K18)/(40*10^-6) -> 0.12788009 | K18: =(($P$23)/(B18+(12.5*(1+3.76)))) -> 1.0883412e-07 | L18: 2141.5579 | M18: =K18*(D18+F18+G18+H18) -> 6.8919206e-06 | O18: Stoich Ratio | P18: =$P$15/$P$16 -> 15.027513 | R18: Carbon | S18: 12.011 | T18: kg/mol
B19: 0.8 | C19: =((D19*(ABS('CO2'!$D$3)))+(F19*(ABS(H2O!$D$3)))-(B19*(ABS('Fuel Tables'!$H$16)))) -> 4052.328 | D19: =$D$11*B19 -> 6.4 | E19: 0 | F19: =$F$11*B19 -> 7.2 | G19: =$S$11*(1-B19) -> 2.5 | H19: 47 | I19: =(G19*K19)/(40*10^-6) -> 0.0068077727 | J19: =(H19*K19)/(40*10^-6) -> 0.12798613 | K19: =(($P$23)/(B19+(12.5*(1+3.76)))) -> 1.0892436e-07 | L19: 2056.8061 | M19: =K19*(D19+F19+G19+H19) -> 6.8731273e-06 | R19: Hydrogen | S19: 1.00797 | T19: kg/mol
B20: 0.75 | C20: =((D20*(ABS('CO2'!$D$3)))+(F20*(ABS(H2O!$D$3)))-(B20*(ABS('Fuel Tables'!$H$16)))) -> 3799.0575 | D20: =$D$11*B20 -> 6 | E20: 0 | F20: =$F$11*B20 -> 6.75 | G20: =$S$11*(1-B20) -> 3.125 | H20: 47 | I20: =(G20*K20)/(40*10^-6) -> 0.0085167779 | J20: =(H20*K20)/(40*10^-6) -> 0.12809234 | K20: =(($P$23)/(B20+(12.5*(1+3.76)))) -> 1.0901476e-07 | L20: 1970.1445 | M20: =K20*(D20+F20+G20+H20) -> 6.8543028e-06 | O20: Equ Ratio | P20: 1 | Q20: <--change | R20: Oxygen | S20: 15.9994 | T20: kg/mol
B21: 0.7 | C21: =((D21*(ABS('CO2'!$D$3)))+(F21*(ABS(H2O!$D$3)))-(B21*(ABS('Fuel Tables'!$H$16)))) -> 3545.787 | D21: =$D$11*B21 -> 5.6 | E21: 0 | F21: =$F$11*B21 -> 6.3 | G21: =$S$11*(1-B21) -> 3.75 | H21: 47 | I21: =(G21*K21)/(40*10^-6) -> 0.010228622 | J21: =(H21*K21)/(40*10^-6) -> 0.12819873 | K21: =(($P$23)/(B21+(12.5*(1+3.76)))) -> 1.091053e-07 | L21: 1881.4346 | M21: =K21*(D21+F21+G21+H21) -> 6.8354471e-06 | O21: Fuel Ratio | P21: 1 | R21: Nitrogen | S21: 14.0067 | T21: kg/mol
B22: 0.65 | C22: =((D22*(ABS('CO2'!$D$3)))+(F22*(ABS(H2O!$D$3)))-(B22*(ABS('Fuel Tables'!$H$16)))) -> 3292.5165 | D22: =$D$11*B22 -> 5.2 | E22: 0 | F22: =$F$11*B22 -> 5.85 | G22: =$S$11*(1-B22) -> 4.375 | H22: 47 | I22: =(G22*K22)/(40*10^-6) -> 0.011943312 | J22: =(H22*K22)/(40*10^-6) -> 0.12830529 | K22: =(($P$23)/(B22+(12.5*(1+3.76)))) -> 1.09196e-07 | L22: 1790.5347 | M22: =K22*(D22+F22+G22+H22) -> 6.81656e-06
B23: 0.6 | C23: =((D23*(ABS('CO2'!$D$3)))+(F23*(ABS(H2O!$D$3)))-(B23*(ABS('Fuel Tables'!$H$16)))) -> 3039.246 | D23: =$D$11*B23 -> 4.8 | E23: 0 | F23: =$F$11*B23 -> 5.4 | G23: =$S$11*(1-B23) -> 5 | H23: 47 | I23: =(G23*K23)/(40*10^-6) -> 0.013660855 | J23: =(H23*K23)/(40*10^-6) -> 0.12841204 | K23: =(($P$23)/(B23+(12.5*(1+3.76)))) -> 1.0928684e-07 | L23: 1687.113 | M23: =K23*(D23+F23+G23+H23) -> 6.7976415e-06 | O23: n | P23: =(10^5*((400*0.4)*10^-6))/(8314*293) -> 6.5681391e-06
O24: λ | P24: 0.9
O25: 𝜑 | P25: =1/P24 -> 1.1111111
O26: polytropic index | P26: 1.17
D27: 1 Phi (ɸ) | O27: RPM | P27: 1800
D28: Enthalpy (MJ) | E28: Initial Flame temp (K) | O28: Clearance Volume (cc) | P28: 40
B29: 2300K | C29: Lower Heated Value | D29: =(8*'CO2'!E134)+(9*H2O!E134)+(47*'N2'!E134) -> 4802.7595 | E29: 2288.9653
B30: 2400K | C30: Middle Heated Value | D30: =(8*'CO2'!E136)+(9*H2O!E136)+(47*'N2'!E136) -> 5075.6701 | E30: 2389.5233
B31: 2500K | C31: Higher Heated Value | D31: =(8*'CO2'!E138)+(9*H2O!E138)+(47*'N2'!E138) -> 5351.5701 | E31: 2490.4031

Sheet Nox
B2: 0% EGR
C4: Phi (ɸ) | D4: 1 | H4: 0.99 | L4: 0.98 | P4: 0.97 | T4: 0.96 | X4: 0.95 | AB4: 0.9 | AF4: 0.85 | AJ4: 0.8 | AN4: 0.75 | AR4: 0.7 | AV4: 0.65 | AZ4: 0.6
B5: θ° | C5: P (Bar) | D5: Temp (K) | E5: Nox (kmols/°) | F5: PPM | H5: Temp (K) | I5: Nox (kmols/°) | J5: PPM | L5: Temp (K) | M5: Nox (kmols/°) | N5: PPM | P5: Temp (K) | Q5: Nox (kmols/°) | R5: PPM | T5: Temp (K) | U5: Nox (kmols/°) | V5: PPM | X5: Temp (K) | Y5: Nox (kmols/°) | Z5: PPM | AB5: Temp (K) | AC5: Nox (kmols/°) | AD5: PPM | AF5: Temp (K) | AG5: Nox (kmols/°) | AH5: PPM | AJ5: Temp (K) | AK5: Nox (kmols/°) | AL5: PPM | AN5: Temp (K) | AO5: Nox (kmols/°) | AP5: PPM | AR5: Temp (K) | AS5: Nox (kmols/°) | AT5: PPM | AV5: Temp (K) | AW5: Nox (kmols/°) | AX5: PPM | AZ5: Temp (K) | BA5: Nox (kmols/°) | BB5: PPM
B6: 0 | C6: 10 | D6: ='Goal Seek 6th order'!L11 -> 2385.7567 | E6: =(((4.7*10^13)*'Goal Seek 6th order'!$J$11*('Goal Seek 6th order'!$I$11^0.5)*(EXP(-67837/D6))/('Goal Seek 6th order'!$P$27*6))*('Goal Seek 6th order'!$P$28*10^-6)) -> 0 | F6: =(SUM(E6:E21)/'Goal Seek 6th order'!M11)*10^6 -> 0 | H6: ='Goal Seek 6th order'!L12 -> 2369.8937 | I6: =(((4.7*10^13)*'Goal Seek 6th order'!$J$12*('Goal Seek 6th order'!$I$12^0.5)*(EXP(-67837/H6))/('Goal Seek 6th order'!$P$27*6))*('Goal Seek 6th order'!$P$28*10^-6)) -> 1.5148745e-10 | J6: =(SUM(I6:I21)/'Goal Seek 6th order'!M12)*10^6 -> 19993.74 | L6: ='Goal Seek 6th order'!L13 -> 2353.9765 | M6: =(((4.7*10^13)*'Goal Seek 6th order'!$J$13*('Goal Seek 6th order'!$I$13^0.5)*(EXP(-67837/L6))/('Goal Seek 6th order'!$P$27*6))*('Goal Seek 6th order'!$P$28*10^-6)) -> 1.7657945e-10 | N6: =(SUM(M6:M21)/'Goal Seek 6th order'!M13)*10^6 -> 24046.514 | P6: ='Goal Seek 6th order'!L14 -> 2338.0392 | Q6: =(((4.7*10^13)*'Goal Seek 6th order'!$J$14*('Goal Seek 6th order'!$I$14^0.5)*(EXP(-67837/P6))/('Goal Seek 6th order'!$P$27*6))*('Goal Seek 6th order'!$P$28*10^-6)) -> 1.7773835e-10 | R6: =(SUM(Q6:Q21)/'Goal Seek 6th order'!M14)*10^6 -> 24986.097 | T6: ='Goal Seek 6th order'!L15 -> 2321.9746 | U6: =(((4.7*10^13)*'Goal Seek 6th order'!$J$15*('Goal Seek 6th order'!$I$15^0.5)*(EXP(-67837/T6))/('Goal Seek 6th order'!$P$27*6))*('Goal Seek 6th order'!$P$28*10^-6)) -> 1.6794966e-10 | V6: =(SUM(U6:U21)/'Goal Seek 6th order'!M15)*10^6 -> 24389.928 | X6: ='Goal Seek 6th order'!L16 -> 2305.8873 | Y6: =(((4.7*10^13)*'Goal Seek 6th order'!$J$16*('Goal Seek 6th order'!$I$16^0.5)*(EXP(-67837/X6))/('Goal Seek 6th order'!$P$27*6))*('Goal Seek 6th order'!$P$28*10^-6)) -> 1.5318714e-10 | Z6: =(SUM(Y6:Y21)/'Goal Seek 6th order'!M16)*10^6 -> 22992.878 | AB6: ='Goal Seek 6th order'!L17 -> 2224.5373 | AC6: =(((4.7*10^13)*'Goal Seek 6th order'!$J$17*('Goal Seek 6th order'!$I$17^0.5)*(EXP(-67837/AB6))/('Goal Seek 6th order'!$P$27*6))*('Goal Seek 6th order'!$P$28*10^-6)) -> 7.3968484e-11 | AD6: =(SUM(AC6:AC21)/'Goal Seek 6th order'!M17)*10^6 -> 13220.22 | AF6: ='Goal Seek 6th order'!L18 -> 2141.5579 | AG6: =(((4.7*10^13)*'Goal Seek 6th order'!$J$18*('Goal Seek 6th order'!$I$18^0.5)*(EXP(-67837/AF6))/('Goal Seek 6th order'!$P$27*6))*('Goal Seek 6th order'!$P$28*10^-6)) -> 2.7827421e-11 | AH6: =(SUM(AG6:AG21)/'Goal Seek 6th order'!M18)*10^6 -> 6028.2484 | AJ6: ='Goal Seek 6th order'!L19 -> 2056.8061 | AK6: =(((4.7*10^13)*'Goal Seek 6th order'!$J$19*('Goal Seek 6th order'!$I$19^0.5)*(EXP(-67837/AJ6))/('Goal Seek 6th order'!$P$27*6))*('Goal Seek 6th order'!$P$28*10^-6)) -> 8.7220949e-12 | AL6: =(SUM(AK6:AK21)/'Goal Seek 6th order'!M19)*10^6 -> 2338.3243 | AN6: ='Goal Seek 6th order'!L20 -> 1970.1445 | AO6: =(((4.7*10^13)*'Goal Seek 6th order'!$J$20*('Goal Seek 6th order'!$I$20^0.5)*(EXP(-67837/AN6))/('Goal Seek 6th order'!$P$27*6))*('Goal Seek 6th order'!$P$28*10^-6)) -> 2.2884968e-12 | AP6: =(SUM(AO6:AO21)/'Goal Seek 6th order'!M20)*10^6 -> 778.17457 | AR6: ='Goal Seek 6th order'!L21 -> 1881.4346 | AS6: =(((4.7*10^13)*'Goal Seek 6th order'!$J$21*('Goal Seek 6th order'!$I$21^0.5)*(EXP(-67837/AR6))/('Goal Seek 6th order'!$P$27*6))*('Goal Seek 6th order'!$P$28*10^-6)) -> 4.9500055e-13 | AT6: =(SUM(AS6:AS21)/'Goal Seek 6th order'!M21)*10^6 -> 219.83366 | AV6: ='Goal Seek 6th order'!L22 -> 1790.5347 | AW6: =(((4.7*10^13)*'Goal Seek 6th order'!$J$22*('Goal Seek 6th order'!$I$22^0.5)*(EXP(-67837/AV6))/('Goal Seek 6th order'!$P$27*6))*('Goal Seek 6th order'!$P$28*10^-6)) -> 8.5835298e-14 | AX6: =(SUM(AW6:AW21)/'Goal Seek 6th order'!M22)*10^6 -> 51.572248 | AZ6: ='Goal Seek 6th order'!L23 -> 1687.113 | BA6: =(((4.7*10^13)*'Goal Seek 6th order'!$J$23*('Goal Seek 6th order'!$I$23^0.5)*(EXP(-67837/AZ6))/('Goal Seek 6th order'!$P$27*6))*('Goal Seek 6th order'!$P$28*10^-6)) -> 9.0066797e-15 | BB6: =(SUM(BA6:BA21)/'Goal Seek 6th order'!M23)*10^6 -> 7.9520033
B7: 1 | C7: 12 | D7: =D6*(C7/C6)^(('Goal Seek 6th order'!$P$26-1)/'Goal Seek 6th order'!$P$26) -> 2449.8027 | E7: =(((4.7*10^13)*'Goal Seek 6th order'!$J$11*('Goal Seek 6th order'!$I$11^0.5)*(EXP(-67837/D7))/('Goal Seek 6th order'!$P$27*6))*('Goal Seek 6th order'!$P$28*10^-6)) -> 0 | H7: =H6*(C7/C6)^(('Goal Seek 6th order'!$P$26-1)/'Goal Seek 6th order'!$P$26) -> 2433.5139 | I7: =(((4.7*10^13)*'Goal Seek 6th order'!$J$12*('Goal Seek 6th order'!$I$12^0.5)*(EXP(-67837/H7))/('Goal Seek 6th order'!$P$27*6))*('Goal Seek 6th order'!$P$28*10^-6)) -> 3.2016708e-10 | L7: =L6*(C7/C6)^(('Goal Seek 6th order'!$P$26-1)/'Goal Seek 6th order'!$P$26) -> 2417.1694 | M7: =(((4.7*10^13)*'Goal Seek 6th order'!$J$13*('Goal Seek 6th order'!$I$13^0.5)*(EXP(-67837/L7))/('Goal Seek 6th order'!$P$27*6))*('Goal Seek 6th order'!$P$28*10^-6)) -> 3.7509196e-10 | P7: =P6*(C7/C6)^(('Goal Seek 6th order'!$P$26-1)/'Goal Seek 6th order'!$P$26) -> 2400.8043 | Q7: =(((4.7*10^13)*'Goal Seek 6th order'!$J$14*('Goal Seek 6th order'!$I$14^0.5)*(EXP(-67837/P7))/('Goal Seek 6th order'!$P$27*6))*('Goal Seek 6th order'!$P$28*10^-6)) -> 3.7949766e-10 | T7: =T6*(C7/C6)^(('Goal Seek 6th order'!$P$26-1)/'Goal Seek 6th order'!$P$26) -> 2384.3084 | U7: =(((4.7*10^13)*'Goal Seek 6th order'!$J$15*('Goal Seek 6th order'!$I$15^0.5)*(EXP(-67837/T7))/('Goal Seek 6th order'!$P$27*6))*('Goal Seek 6th order'!$P$28*10^-6)) -> 3.6048421e-10 | X7: =X6*(C7/C6)^(('Goal Seek 6th order'!$P$26-1)/'Goal Seek 6th order'!$P$26) -> 2367.7892 | Y7: =(((4.7*10^13)*'Goal Seek 6th order'!$J$16*('Goal Seek 6th order'!$I$16^0.5)*(EXP(-67837/X7))/('Goal Seek 6th order'!$P$27*6))*('Goal Seek 6th order'!$P$28*10^-6)) -> 3.305549e-10 | AB7: =AB6*(C7/C6)^(('Goal Seek 6th order'!$P$26-1)/'Goal Seek 6th order'!$P$26) -> 2284.2554 | AC7: =(((4.7*10^13)*'Goal Seek 6th order'!$J$17*('Goal Seek 6th order'!$I$17^0.5)*(EXP(-67837/AB7))/('Goal Seek 6th order'!$P$27*6))*('Goal Seek 6th order'!$P$28*10^-6)) -> 1.6416591e-10 | AF7: =AF6*(C7/C6)^(('Goal Seek 6th order'!$P$26-1)/'Goal Seek 6th order'!$P$26) -> 2199.0484 | AG7: =(((4.7*10^13)*'Goal Seek 6th order'!$J$18*('Goal Seek 6th order'!$I$18^0.5)*(EXP(-67837/AF7))/('Goal Seek 6th order'!$P$27*6))*('Goal Seek 6th order'!$P$28*10^-6)) -> 6.369787e-11 | AJ7: =AJ6*(C7/C6)^(('Goal Seek 6th order'!$P$26-1)/'Goal Seek 6th order'!$P$26) -> 2112.0214 | AK7: =(((4.7*10^13)*'Goal Seek 6th order'!$J$19*('Goal Seek 6th order'!$I$19^0.5)*(EXP(-67837/AJ7))/('Goal Seek 6th order'!$P$27*6))*('Goal Seek 6th order'!$P$28*10^-6)) -> 2.0658197e-11 | AN7: =AN6*(C7/C6)^(('Goal Seek 6th order'!$P$26-1)/'Goal Seek 6th order'!$P$26) -> 2023.0334 | AO7: =(((4.7*10^13)*'Goal Seek 6th order'!$J$20*('Goal Seek 6th order'!$I$20^0.5)*(EXP(-67837/AN7))/('Goal Seek 6th order'!$P$27*6))*('Goal Seek 6th order'!$P$28*10^-6)) -> 5.6298127e-12 | AR7: =AR6*(C7/C6)^(('Goal Seek 6th order'!$P$26-1)/'Goal Seek 6th order'!$P$26) -> 1931.942 | AS7: =(((4.7*10^13)*'Goal Seek 6th order'!$J$21*('Goal Seek 6th order'!$I$21^0.5)*(EXP(-67837/AR7))/('Goal Seek 6th order'!$P$27*6))*('Goal Seek 6th order'!$P$28*10^-6)) -> 1.2705226e-12 | AV7: =AV6*(C7/C6)^(('Goal Seek 6th order'!$P$26-1)/'Goal Seek 6th order'!$P$26) -> 1838.6019 | AW7: =(((4.7*10^13)*'Goal Seek 6th order'!$J$22*('Goal Seek 6th order'!$I$22^0.5)*(EXP(-67837/AV7))/('Goal Seek 6th order'!$P$27*6))*('Goal Seek 6th order'!$P$28*10^-6)) -> 2.3111354e-13 | AZ7: =AZ6*(C7/C6)^(('Goal Seek 6th order'!$P$26-1)/'Goal Seek 6th order'!$P$26) -> 1732.4039 | BA7: =(((4.7*10^13)*'Goal Seek 6th order'!$J$23*('Goal Seek 6th order'!$I$23^0.5)*(EXP(-67837/AZ7))/('Goal Seek 6th order'!$P$27*6))*('Goal Seek 6th order'!$P$28*10^-6)) -> 2.5768753e-14
B8: 2 | C8: 14 | D8: =D7*(C8/C7)^(('Goal Seek 6th order'!$P$26-1)/'Goal Seek 6th order'!$P$26) -> 2505.2924 | E8: =(((4.7*10^13)*'Goal Seek 6th order'!$J$11*('Goal Seek 6th order'!$I$11^0.5)*(EXP(-67837/D8))/('Goal Seek 6th order'!$P$27*6))*('Goal Seek 6th order'!$P$28*10^-6)) -> 0 | H8: =H7*(C8/C7)^(('Goal Seek 6th order'!$P$26-1)/'Goal Seek 6th order'!$P$26) -> 2488.6346 | I8: =(((4.7*10^13)*'Goal Seek 6th order'!$J$12*('Goal Seek 6th order'!$I$12^0.5)*(EXP(-67837/H8))/('Goal Seek 6th order'!$P$27*6))*('Goal Seek 6th order'!$P$28*10^-6)) -> 5.9363911e-10 | L8: =L7*(C8/C7)^(('Goal Seek 6th order'!$P$26-1)/'Goal Seek 6th order'!$P$26) -> 2471.92 | M8: =(((4.7*10^13)*'Goal Seek 6th order'!$J$13*('Goal Seek 6th order'!$I$13^0.5)*(EXP(-67837/L8))/('Goal Seek 6th order'!$P$27*6))*('Goal Seek 6th order'!$P$28*10^-6)) -> 6.9838794e-10 | P8: =P7*(C8/C7)^(('Goal Seek 6th order'!$P$26-1)/'Goal Seek 6th order'!$P$26) -> 2455.1841 | Q8: =(((4.7*10^13)*'Goal Seek 6th order'!$J$14*('Goal Seek 6th order'!$I$14^0.5)*(EXP(-67837/P8))/('Goal Seek 6th order'!$P$27*6))*('Goal Seek 6th order'!$P$28*10^-6)) -> 7.0959127e-10 | T8: =T7*(C8/C7)^(('Goal Seek 6th order'!$P$26-1)/'Goal Seek 6th order'!$P$26) -> 2438.3146 | U8: =(((4.7*10^13)*'Goal Seek 6th order'!$J$15*('Goal Seek 6th order'!$I$15^0.5)*(EXP(-67837/T8))/('Goal Seek 6th order'!$P$27*6))*('Goal Seek 6th order'!$P$28*10^-6)) -> 6.7696444e-10 | X8: =X7*(C8/C7)^(('Goal Seek 6th order'!$P$26-1)/'Goal Seek 6th order'!$P$26) -> 2421.4212 | Y8: =(((4.7*10^13)*'Goal Seek 6th order'!$J$16*('Goal Seek 6th order'!$I$16^0.5)*(EXP(-67837/X8))/('Goal Seek 6th order'!$P$27*6))*('Goal Seek 6th order'!$P$28*10^-6)) -> 6.2349443e-10 | AB8: =AB7*(C8/C7)^(('Goal Seek 6th order'!$P$26-1)/'Goal Seek 6th order'!$P$26) -> 2335.9954 | AC8: =(((4.7*10^13)*'Goal Seek 6th order'!$J$17*('Goal Seek 6th order'!$I$17^0.5)*(EXP(-67837/AB8))/('Goal Seek 6th order'!$P$27*6))*('Goal Seek 6th order'!$P$28*10^-6)) -> 3.169203e-10 | AF8: =AF7*(C8/C7)^(('Goal Seek 6th order'!$P$26-1)/'Goal Seek 6th order'!$P$26) -> 2248.8583 | AG8: =(((4.7*10^13)*'Goal Seek 6th order'!$J$18*('Goal Seek 6th order'!$I$18^0.5)*(EXP(-67837/AF8))/('Goal Seek 6th order'!$P$27*6))*('Goal Seek 6th order'!$P$28*10^-6)) -> 1.2614232e-10 | AJ8: =AJ7*(C8/C7)^(('Goal Seek 6th order'!$P$26-1)/'Goal Seek 6th order'!$P$26) -> 2159.8601 | AK8: =(((4.7*10^13)*'Goal Seek 6th order'!$J$19*('Goal Seek 6th order'!$I$19^0.5)*(EXP(-67837/AJ8))/('Goal Seek 6th order'!$P$27*6))*('Goal Seek 6th order'!$P$28*10^-6)) -> 4.2078038e-11 | AN8: =AN7*(C8/C7)^(('Goal Seek 6th order'!$P$26-1)/'Goal Seek 6th order'!$P$26) -> 2068.8565 | AO8: =(((4.7*10^13)*'Goal Seek 6th order'!$J$20*('Goal Seek 6th order'!$I$20^0.5)*(EXP(-67837/AN8))/('Goal Seek 6th order'!$P$27*6))*('Goal Seek 6th order'!$P$28*10^-6)) -> 1.1831709e-11 | AR8: =AR7*(C8/C7)^(('Goal Seek 6th order'!$P$26-1)/'Goal Seek 6th order'!$P$26) -> 1975.7018 | AS8: =(((4.7*10^13)*'Goal Seek 6th order'!$J$21*('Goal Seek 6th order'!$I$21^0.5)*(EXP(-67837/AR8))/('Goal Seek 6th order'!$P$27*6))*('Goal Seek 6th order'!$P$28*10^-6)) -> 2.7653135e-12 | AV8: =AV7*(C8/C7)^(('Goal Seek 6th order'!$P$26-1)/'Goal Seek 6th order'!$P$26) -> 1880.2475 | AW8: =(((4.7*10^13)*'Goal Seek 6th order'!$J$22*('Goal Seek 6th order'!$I$22^0.5)*(EXP(-67837/AV8))/('Goal Seek 6th order'!$P$27*6))*('Goal Seek 6th order'!$P$28*10^-6)) -> 5.2328045e-13 | AZ8: =AZ7*(C8/C7)^(('Goal Seek 6th order'!$P$26-1)/'Goal Seek 6th order'!$P$26) -> 1771.644 | BA8: =(((4.7*10^13)*'Goal Seek 6th order'!$J$23*('Goal Seek 6th order'!$I$23^0.5)*(EXP(-67837/AZ8))/('Goal Seek 6th order'!$P$27*6))*('Goal Seek 6th order'!$P$28*10^-6)) -> 6.1342122e-14
B9: 3 | C9: 16 | D9: =D8*(C9/C8)^(('Goal Seek 6th order'!$P$26-1)/'Goal Seek 6th order'!$P$26) -> 2554.3747 | E9: =(((4.7*10^13)*'Goal Seek 6th order'!$J$11*('Goal Seek 6th order'!$I$11^0.5)*(EXP(-67837/D9))/('Goal Seek 6th order'!$P$27*6))*('Goal Seek 6th order'!$P$28*10^-6)) -> 0 | H9: =H8*(C9/C8)^(('Goal Seek 6th order'!$P$26-1)/'Goal Seek 6th order'!$P$26) -> 2537.3906 | I9: =(((4.7*10^13)*'Goal Seek 6th order'!$J$12*('Goal Seek 6th order'!$I$12^0.5)*(EXP(-67837/H9))/('Goal Seek 6th order'!$P$27*6))*('Goal Seek 6th order'!$P$28*10^-6)) -> 1.002295e-09 | L9: =L8*(C9/C8)^(('Goal Seek 6th order'!$P$26-1)/'Goal Seek 6th order'!$P$26) -> 2520.3484 | M9: =(((4.7*10^13)*'Goal Seek 6th order'!$J$13*('Goal Seek 6th order'!$I$13^0.5)*(EXP(-67837/L9))/('Goal Seek 6th order'!$P$27*6))*('Goal Seek 6th order'!$P$28*10^-6)) -> 1.1833356e-09 | P9: =P8*(C9/C8)^(('Goal Seek 6th order'!$P$26-1)/'Goal Seek 6th order'!$P$26) -> 2503.2847 | Q9: =(((4.7*10^13)*'Goal Seek 6th order'!$J$14*('Goal Seek 6th order'!$I$14^0.5)*(EXP(-67837/P9))/('Goal Seek 6th order'!$P$27*6))*('Goal Seek 6th order'!$P$28*10^-6)) -> 1.2066478e-09 | T9: =T8*(C9/C8)^(('Goal Seek 6th order'!$P$26-1)/'Goal Seek 6th order'!$P$26) -> 2486.0847 | U9: =(((4.7*10^13)*'Goal Seek 6th order'!$J$15*('Goal Seek 6th order'!$I$15^0.5)*(EXP(-67837/T9))/('Goal Seek 6th order'!$P$27*6))*('Goal Seek 6th order'!$P$28*10^-6)) -> 1.1554026e-09 | X9: =X8*(C9/C8)^(('Goal Seek 6th order'!$P$26-1)/'Goal Seek 6th order'!$P$26) -> 2468.8604 | Y9: =(((4.7*10^13)*'Goal Seek 6th order'!$J$16*('Goal Seek 6th order'!$I$16^0.5)*(EXP(-67837/X9))/('Goal Seek 6th order'!$P$27*6))*('Goal Seek 6th order'!$P$28*10^-6)) -> 1.0681194e-09 | AB9: =AB8*(C9/C8)^(('Goal Seek 6th order'!$P$26-1)/'Goal Seek 6th order'!$P$26) -> 2381.7609 | AC9: =(((4.7*10^13)*'Goal Seek 6th order'!$J$17*('Goal Seek 6th order'!$I$17^0.5)*(EXP(-67837/AB9))/('Goal Seek 6th order'!$P$27*6))*('Goal Seek 6th order'!$P$28*10^-6)) -> 5.5371556e-10 | AF9: =AF8*(C9/C8)^(('Goal Seek 6th order'!$P$26-1)/'Goal Seek 6th order'!$P$26) -> 2292.9167 | AG9: =(((4.7*10^13)*'Goal Seek 6th order'!$J$18*('Goal Seek 6th order'!$I$18^0.5)*(EXP(-67837/AF9))/('Goal Seek 6th order'!$P$27*6))*('Goal Seek 6th order'!$P$28*10^-6)) -> 2.2520983e-10 | AJ9: =AJ8*(C9/C8)^(('Goal Seek 6th order'!$P$26-1)/'Goal Seek 6th order'!$P$26) -> 2202.1749 | AK9: =(((4.7*10^13)*'Goal Seek 6th order'!$J$19*('Goal Seek 6th order'!$I$19^0.5)*(EXP(-67837/AJ9))/('Goal Seek 6th order'!$P$27*6))*('Goal Seek 6th order'!$P$28*10^-6)) -> 7.694042e-11 | AN9: =AN8*(C9/C8)^(('Goal Seek 6th order'!$P$26-1)/'Goal Seek 6th order'!$P$26) -> 2109.3883 | AO9: =(((4.7*10^13)*'Goal Seek 6th order'!$J$20*('Goal Seek 6th order'!$I$20^0.5)*(EXP(-67837/AN9))/('Goal Seek 6th order'!$P$27*6))*('Goal Seek 6th order'!$P$28*10^-6)) -> 2.2216499e-11 | AR9: =AR8*(C9/C8)^(('Goal Seek 6th order'!$P$26-1)/'Goal Seek 6th order'!$P$26) -> 2014.4087 | AS9: =(((4.7*10^13)*'Goal Seek 6th order'!$J$21*('Goal Seek 6th order'!$I$21^0.5)*(EXP(-67837/AR9))/('Goal Seek 6th order'!$P$27*6))*('Goal Seek 6th order'!$P$28*10^-6)) -> 5.3490187e-12 | AV9: =AV8*(C9/C8)^(('Goal Seek 6th order'!$P$26-1)/'Goal Seek 6th order'!$P$26) -> 1917.0843 | AW9: =(((4.7*10^13)*'Goal Seek 6th order'!$J$22*('Goal Seek 6th order'!$I$22^0.5)*(EXP(-67837/AV9))/('Goal Seek 6th order'!$P$27*6))*('Goal Seek 6th order'!$P$28*10^-6)) -> 1.0466717e-12 | AZ9: =AZ8*(C9/C8)^(('Goal Seek 6th order'!$P$26-1)/'Goal Seek 6th order'!$P$26) -> 1806.353 | BA9: =(((4.7*10^13)*'Goal Seek 6th order'!$J$23*('Goal Seek 6th order'!$I$23^0.5)*(EXP(-67837/AZ9))/('Goal Seek 6th order'!$P$27*6))*('Goal Seek 6th order'!$P$28*10^-6)) -> 1.2802389e-13
B10: 4 | C10: 18 | D10: =D9*(C10/C9)^(('Goal Seek 6th order'!$P$26-1)/'Goal Seek 6th order'!$P$26) -> 2598.4659 | E10: =(((4.7*10^13)*'Goal Seek 6th order'!$J$11*('Goal Seek 6th order'!$I$11^0.5)*(EXP(-67837/D10))/('Goal Seek 6th order'!$P$27*6))*('Goal Seek 6th order'!$P$28*10^-6)) -> 0 | H10: =H9*(C10/C9)^(('Goal Seek 6th order'!$P$26-1)/'Goal Seek 6th order'!$P$26) -> 2581.1886 | I10: =(((4.7*10^13)*'Goal Seek 6th order'!$J$12*('Goal Seek 6th order'!$I$12^0.5)*(EXP(-67837/H10))/('Goal Seek 6th order'!$P$27*6))*('Goal Seek 6th order'!$P$28*10^-6)) -> 1.5776484e-09 | L10: =L9*(C10/C9)^(('Goal Seek 6th order'!$P$26-1)/'Goal Seek 6th order'!$P$26) -> 2563.8523 | M10: =(((4.7*10^13)*'Goal Seek 6th order'!$J$13*('Goal Seek 6th order'!$I$13^0.5)*(EXP(-67837/L10))/('Goal Seek 6th order'!$P$27*6))*('Goal Seek 6th order'!$P$28*10^-6)) -> 1.868335e-09 | P10: =P9*(C10/C9)^(('Goal Seek 6th order'!$P$26-1)/'Goal Seek 6th order'!$P$26) -> 2546.4941 | Q10: =(((4.7*10^13)*'Goal Seek 6th order'!$J$14*('Goal Seek 6th order'!$I$14^0.5)*(EXP(-67837/P10))/('Goal Seek 6th order'!$P$27*6))*('Goal Seek 6th order'!$P$28*10^-6)) -> 1.9110822e-09 | T10: =T9*(C10/C9)^(('Goal Seek 6th order'!$P$26-1)/'Goal Seek 6th order'!$P$26) -> 2528.9971 | U10: =(((4.7*10^13)*'Goal Seek 6th order'!$J$15*('Goal Seek 6th order'!$I$15^0.5)*(EXP(-67837/T10))/('Goal Seek 6th order'!$P$27*6))*('Goal Seek 6th order'!$P$28*10^-6)) -> 1.8357511e-09 | X10: =X9*(C10/C9)^(('Goal Seek 6th order'!$P$26-1)/'Goal Seek 6th order'!$P$26) -> 2511.4755 | Y10: =(((4.7*10^13)*'Goal Seek 6th order'!$J$16*('Goal Seek 6th order'!$I$16^0.5)*(EXP(-67837/X10))/('Goal Seek 6th order'!$P$27*6))*('Goal Seek 6th order'!$P$28*10^-6)) -> 1.7025628e-09 | AB10: =AB9*(C10/C9)^(('Goal Seek 6th order'!$P$26-1)/'Goal Seek 6th order'!$P$26) -> 2422.8726 | AC10: =(((4.7*10^13)*'Goal Seek 6th order'!$J$17*('Goal Seek 6th order'!$I$17^0.5)*(EXP(-67837/AB10))/('Goal Seek 6th order'!$P$27*6))*('Goal Seek 6th order'!$P$28*10^-6)) -> 8.9779e-10 | AF10: =AF9*(C10/C9)^(('Goal Seek 6th order'!$P$26-1)/'Goal Seek 6th order'!$P$26) -> 2332.4949 | AG10: =(((4.7*10^13)*'Goal Seek 6th order'!$J$18*('Goal Seek 6th order'!$I$18^0.5)*(EXP(-67837/AF10))/('Goal Seek 6th order'!$P$27*6))*('Goal Seek 6th order'!$P$28*10^-6)) -> 3.720557e-10 | AJ10: =AJ9*(C10/C9)^(('Goal Seek 6th order'!$P$26-1)/'Goal Seek 6th order'!$P$26) -> 2240.1867 | AK10: =(((4.7*10^13)*'Goal Seek 6th order'!$J$19*('Goal Seek 6th order'!$I$19^0.5)*(EXP(-67837/AJ10))/('Goal Seek 6th order'!$P$27*6))*('Goal Seek 6th order'!$P$28*10^-6)) -> 1.2976538e-10 | AN10: =AN9*(C10/C9)^(('Goal Seek 6th order'!$P$26-1)/'Goal Seek 6th order'!$P$26) -> 2145.7986 | AO10: =(((4.7*10^13)*'Goal Seek 6th order'!$J$20*('Goal Seek 6th order'!$I$20^0.5)*(EXP(-67837/AN10))/('Goal Seek 6th order'!$P$27*6))*('Goal Seek 6th order'!$P$28*10^-6)) -> 3.8341159e-11 | AR10: =AR9*(C10/C9)^(('Goal Seek 6th order'!$P$26-1)/'Goal Seek 6th order'!$P$26) -> 2049.1795 | AS10: =(((4.7*10^13)*'Goal Seek 6th order'!$J$21*('Goal Seek 6th order'!$I$21^0.5)*(EXP(-67837/AR10))/('Goal Seek 6th order'!$P$27*6))*('Goal Seek 6th order'!$P$28*10^-6)) -> 9.4719156e-12 | AV10: =AV9*(C10/C9)^(('Goal Seek 6th order'!$P$26-1)/'Goal Seek 6th order'!$P$26) -> 1950.1752 | AW10: =(((4.7*10^13)*'Goal Seek 6th order'!$J$22*('Goal Seek 6th order'!$I$22^0.5)*(EXP(-67837/AV10))/('Goal Seek 6th order'!$P$27*6))*('Goal Seek 6th order'!$P$28*10^-6)) -> 1.9079749e-12 | AZ10: =AZ9*(C10/C9)^(('Goal Seek 6th order'!$P$26-1)/'Goal Seek 6th order'!$P$26) -> 1837.5326 | BA10: =(((4.7*10^13)*'Goal Seek 6th order'!$J$23*('Goal Seek 6th order'!$I$23^0.5)*(EXP(-67837/AZ10))/('Goal Seek 6th order'!$P$27*6))*('Goal Seek 6th order'!$P$28*10^-6)) -> 2.421242e-13
B11: 5 | C11: 20 | D11: =D10*(C11/C10)^(('Goal Seek 6th order'!$P$26-1)/'Goal Seek 6th order'!$P$26) -> 2638.5513 | E11: =(((4.7*10^13)*'Goal Seek 6th order'!$J$11*('Goal Seek 6th order'!$I$11^0.5)*(EXP(-67837/D11))/('Goal Seek 6th order'!$P$27*6))*('Goal Seek 6th order'!$P$28*10^-6)) -> 0 | H11: =H10*(C11/C10)^(('Goal Seek 6th order'!$P$26-1)/'Goal Seek 6th order'!$P$26) -> 2621.0075 | I11: =(((4.7*10^13)*'Goal Seek 6th order'!$J$12*('Goal Seek 6th order'!$I$12^0.5)*(EXP(-67837/H11))/('Goal Seek 6th order'!$P$27*6))*('Goal Seek 6th order'!$P$28*10^-6)) -> 2.3518598e-09 | L11: =L10*(C11/C10)^(('Goal Seek 6th order'!$P$26-1)/'Goal Seek 6th order'!$P$26) -> 2603.4038 | M11: =(((4.7*10^13)*'Goal Seek 6th order'!$J$13*('Goal Seek 6th order'!$I$13^0.5)*(EXP(-67837/L11))/('Goal Seek 6th order'!$P$27*6))*('Goal Seek 6th order'!$P$28*10^-6)) -> 2.7927269e-09 | P11: =P10*(C11/C10)^(('Goal Seek 6th order'!$P$26-1)/'Goal Seek 6th order'!$P$26) -> 2585.7777 | Q11: =(((4.7*10^13)*'Goal Seek 6th order'!$J$14*('Goal Seek 6th order'!$I$14^0.5)*(EXP(-67837/P11))/('Goal Seek 6th order'!$P$27*6))*('Goal Seek 6th order'!$P$28*10^-6)) -> 2.8644621e-09 | T11: =T10*(C11/C10)^(('Goal Seek 6th order'!$P$26-1)/'Goal Seek 6th order'!$P$26) -> 2568.0109 | U11: =(((4.7*10^13)*'Goal Seek 6th order'!$J$15*('Goal Seek 6th order'!$I$15^0.5)*(EXP(-67837/T11))/('Goal Seek 6th order'!$P$27*6))*('Goal Seek 6th order'!$P$28*10^-6)) -> 2.7592658e-09 | X11: =X10*(C11/C10)^(('Goal Seek 6th order'!$P$26-1)/'Goal Seek 6th order'!$P$26) -> 2550.219 | Y11: =(((4.7*10^13)*'Goal Seek 6th order'!$J$16*('Goal Seek 6th order'!$I$16^0.5)*(EXP(-67837/X11))/('Goal Seek 6th order'!$P$27*6))*('Goal Seek 6th order'!$P$28*10^-6)) -> 2.5663601e-09 | AB11: =AB10*(C11/C10)^(('Goal Seek 6th order'!$P$26-1)/'Goal Seek 6th order'!$P$26) -> 2460.2492 | AC11: =(((4.7*10^13)*'Goal Seek 6th order'!$J$17*('Goal Seek 6th order'!$I$17^0.5)*(EXP(-67837/AB11))/('Goal Seek 6th order'!$P$27*6))*('Goal Seek 6th order'!$P$28*10^-6)) -> 1.3737459e-09 | AF11: =AF10*(C11/C10)^(('Goal Seek 6th order'!$P$26-1)/'Goal Seek 6th order'!$P$26) -> 2368.4773 | AG11: =(((4.7*10^13)*'Goal Seek 6th order'!$J$18*('Goal Seek 6th order'!$I$18^0.5)*(EXP(-67837/AF11))/('Goal Seek 6th order'!$P$27*6))*('Goal Seek 6th order'!$P$28*10^-6)) -> 5.7875858e-10 | AJ11: =AJ10*(C11/C10)^(('Goal Seek 6th order'!$P$26-1)/'Goal Seek 6th order'!$P$26) -> 2274.7451 | AK11: =(((4.7*10^13)*'Goal Seek 6th order'!$J$19*('Goal Seek 6th order'!$I$19^0.5)*(EXP(-67837/AJ11))/('Goal Seek 6th order'!$P$27*6))*('Goal Seek 6th order'!$P$28*10^-6)) -> 2.0556787e-10 | AN11: =AN10*(C11/C10)^(('Goal Seek 6th order'!$P$26-1)/'Goal Seek 6th order'!$P$26) -> 2178.9009 | AO11: =(((4.7*10^13)*'Goal Seek 6th order'!$J$20*('Goal Seek 6th order'!$I$20^0.5)*(EXP(-67837/AN11))/('Goal Seek 6th order'!$P$27*6))*('Goal Seek 6th order'!$P$28*10^-6)) -> 6.1979798e-11 | AR11: =AR10*(C11/C10)^(('Goal Seek 6th order'!$P$26-1)/'Goal Seek 6th order'!$P$26) -> 2080.7913 | AS11: =(((4.7*10^13)*'Goal Seek 6th order'!$J$21*('Goal Seek 6th order'!$I$21^0.5)*(EXP(-67837/AR11))/('Goal Seek 6th order'!$P$27*6))*('Goal Seek 6th order'!$P$28*10^-6)) -> 1.5662373e-11 | AV11: =AV10*(C11/C10)^(('Goal Seek 6th order'!$P$26-1)/'Goal Seek 6th order'!$P$26) -> 1980.2597 | AW11: =(((4.7*10^13)*'Goal Seek 6th order'!$J$22*('Goal Seek 6th order'!$I$22^0.5)*(EXP(-67837/AV11))/('Goal Seek 6th order'!$P$27*6))*('Goal Seek 6th order'!$P$28*10^-6)) -> 3.2365393e-12 | AZ11: =AZ10*(C11/C10)^(('Goal Seek 6th order'!$P$26-1)/'Goal Seek 6th order'!$P$26) -> 1865.8794 | BA11: =(((4.7*10^13)*'Goal Seek 6th order'!$J$23*('Goal Seek 6th order'!$I$23^0.5)*(EXP(-67837/AZ11))/('Goal Seek 6th order'!$P$27*6))*('Goal Seek 6th order'!$P$28*10^-6)) -> 4.2424379e-13
B12: 6 | C12: 22 | D12: =D11*(C12/C11)^(('Goal Seek 6th order'!$P$26-1)/'Goal Seek 6th order'!$P$26) -> 2675.3455 | E12: =(((4.7*10^13)*'Goal Seek 6th order'!$J$11*('Goal Seek 6th order'!$I$11^0.5)*(EXP(-67837/D12))/('Goal Seek 6th order'!$P$27*6))*('Goal Seek 6th order'!$P$28*10^-6)) -> 0 | H12: =H11*(C12/C11)^(('Goal Seek 6th order'!$P$26-1)/'Goal Seek 6th order'!$P$26) -> 2657.557 | I12: =(((4.7*10^13)*'Goal Seek 6th order'!$J$12*('Goal Seek 6th order'!$I$12^0.5)*(EXP(-67837/H12))/('Goal Seek 6th order'!$P$27*6))*('Goal Seek 6th order'!$P$28*10^-6)) -> 3.357387e-09 | L12: =L11*(C12/C11)^(('Goal Seek 6th order'!$P$26-1)/'Goal Seek 6th order'!$P$26) -> 2639.7078 | M12: =(((4.7*10^13)*'Goal Seek 6th order'!$J$13*('Goal Seek 6th order'!$I$13^0.5)*(EXP(-67837/L12))/('Goal Seek 6th order'!$P$27*6))*('Goal Seek 6th order'!$P$28*10^-6)) -> 3.9963521e-09 | P12: =P11*(C12/C11)^(('Goal Seek 6th order'!$P$26-1)/'Goal Seek 6th order'!$P$26) -> 2621.836 | Q12: =(((4.7*10^13)*'Goal Seek 6th order'!$J$14*('Goal Seek 6th order'!$I$14^0.5)*(EXP(-67837/P12))/('Goal Seek 6th order'!$P$27*6))*('Goal Seek 6th order'!$P$28*10^-6)) -> 4.1090295e-09 | T12: =T11*(C12/C11)^(('Goal Seek 6th order'!$P$26-1)/'Goal Seek 6th order'!$P$26) -> 2603.8214 | U12: =(((4.7*10^13)*'Goal Seek 6th order'!$J$15*('Goal Seek 6th order'!$I$15^0.5)*(EXP(-67837/T12))/('Goal Seek 6th order'!$P$27*6))*('Goal Seek 6th order'!$P$28*10^-6)) -> 3.9680197e-09 | X12: =X11*(C12/C11)^(('Goal Seek 6th order'!$P$26-1)/'Goal Seek 6th order'!$P$26) -> 2585.7813 | Y12: =(((4.7*10^13)*'Goal Seek 6th order'!$J$16*('Goal Seek 6th order'!$I$16^0.5)*(EXP(-67837/X12))/('Goal Seek 6th order'!$P$27*6))*('Goal Seek 6th order'!$P$28*10^-6)) -> 3.6999738e-09 | AB12: =AB11*(C12/C11)^(('Goal Seek 6th order'!$P$26-1)/'Goal Seek 6th order'!$P$26) -> 2494.5569 | AC12: =(((4.7*10^13)*'Goal Seek 6th order'!$J$17*('Goal Seek 6th order'!$I$17^0.5)*(EXP(-67837/AB12))/('Goal Seek 6th order'!$P$27*6))*('Goal Seek 6th order'!$P$28*10^-6)) -> 2.0072324e-09 | AF12: =AF11*(C12/C11)^(('Goal Seek 6th order'!$P$26-1)/'Goal Seek 6th order'!$P$26) -> 2401.5053 | AG12: =(((4.7*10^13)*'Goal Seek 6th order'!$J$18*('Goal Seek 6th order'!$I$18^0.5)*(EXP(-67837/AF12))/('Goal Seek 6th order'!$P$27*6))*('Goal Seek 6th order'!$P$28*10^-6)) -> 8.5816345e-10 | AJ12: =AJ11*(C12/C11)^(('Goal Seek 6th order'!$P$26-1)/'Goal Seek 6th order'!$P$26) -> 2306.466 | AK12: =(((4.7*10^13)*'Goal Seek 6th order'!$J$19*('Goal Seek 6th order'!$I$19^0.5)*(EXP(-67837/AJ12))/('Goal Seek 6th order'!$P$27*6))*('Goal Seek 6th order'!$P$28*10^-6)) -> 3.0979681e-10 | AN12: =AN11*(C12/C11)^(('Goal Seek 6th order'!$P$26-1)/'Goal Seek 6th order'!$P$26) -> 2209.2853 | AO12: =(((4.7*10^13)*'Goal Seek 6th order'!$J$20*('Goal Seek 6th order'!$I$20^0.5)*(EXP(-67837/AN12))/('Goal Seek 6th order'!$P$27*6))*('Goal Seek 6th order'!$P$28*10^-6)) -> 9.5105795e-11 | AR12: =AR11*(C12/C11)^(('Goal Seek 6th order'!$P$26-1)/'Goal Seek 6th order'!$P$26) -> 2109.8076 | AS12: =(((4.7*10^13)*'Goal Seek 6th order'!$J$21*('Goal Seek 6th order'!$I$21^0.5)*(EXP(-67837/AR12))/('Goal Seek 6th order'!$P$27*6))*('Goal Seek 6th order'!$P$28*10^-6)) -> 2.452349e-11 | AV12: =AV11*(C12/C11)^(('Goal Seek 6th order'!$P$26-1)/'Goal Seek 6th order'!$P$26) -> 2007.8741 | AW12: =(((4.7*10^13)*'Goal Seek 6th order'!$J$22*('Goal Seek 6th order'!$I$22^0.5)*(EXP(-67837/AV12))/('Goal Seek 6th order'!$P$27*6))*('Goal Seek 6th order'!$P$28*10^-6)) -> 5.1843125e-12 | AZ12: =AZ11*(C12/C11)^(('Goal Seek 6th order'!$P$26-1)/'Goal Seek 6th order'!$P$26) -> 1891.8988 | BA12: =(((4.7*10^13)*'Goal Seek 6th order'!$J$23*('Goal Seek 6th order'!$I$23^0.5)*(EXP(-67837/AZ12))/('Goal Seek 6th order'!$P$27*6))*('Goal Seek 6th order'!$P$28*10^-6)) -> 6.9946919e-13
B13: 7 | C13: 24 | D13: =D12*(C13/C12)^(('Goal Seek 6th order'!$P$26-1)/'Goal Seek 6th order'!$P$26) -> 2709.3837 | E13: =(((4.7*10^13)*'Goal Seek 6th order'!$J$11*('Goal Seek 6th order'!$I$11^0.5)*(EXP(-67837/D13))/('Goal Seek 6th order'!$P$27*6))*('Goal Seek 6th order'!$P$28*10^-6)) -> 0 | H13: =H12*(C13/C12)^(('Goal Seek 6th order'!$P$26-1)/'Goal Seek 6th order'!$P$26) -> 2691.3689 | I13: =(((4.7*10^13)*'Goal Seek 6th order'!$J$12*('Goal Seek 6th order'!$I$12^0.5)*(EXP(-67837/H13))/('Goal Seek 6th order'!$P$27*6))*('Goal Seek 6th order'!$P$28*10^-6)) -> 4.6267261e-09 | L13: =L12*(C13/C12)^(('Goal Seek 6th order'!$P$26-1)/'Goal Seek 6th order'!$P$26) -> 2673.2926 | M13: =(((4.7*10^13)*'Goal Seek 6th order'!$J$13*('Goal Seek 6th order'!$I$13^0.5)*(EXP(-67837/L13))/('Goal Seek 6th order'!$P$27*6))*('Goal Seek 6th order'!$P$28*10^-6)) -> 5.5192222e-09 | P13: =P12*(C13/C12)^(('Goal Seek 6th order'!$P$26-1)/'Goal Seek 6th order'!$P$26) -> 2655.1934 | Q13: =(((4.7*10^13)*'Goal Seek 6th order'!$J$14*('Goal Seek 6th order'!$I$14^0.5)*(EXP(-67837/P13))/('Goal Seek 6th order'!$P$27*6))*('Goal Seek 6th order'!$P$28*10^-6)) -> 5.6873395e-09 | T13: =T12*(C13/C12)^(('Goal Seek 6th order'!$P$26-1)/'Goal Seek 6th order'!$P$26) -> 2636.9496 | U13: =(((4.7*10^13)*'Goal Seek 6th order'!$J$15*('Goal Seek 6th order'!$I$15^0.5)*(EXP(-67837/T13))/('Goal Seek 6th order'!$P$27*6))*('Goal Seek 6th order'!$P$28*10^-6)) -> 5.5045321e-09 | X13: =X12*(C13/C12)^(('Goal Seek 6th order'!$P$26-1)/'Goal Seek 6th order'!$P$26) -> 2618.68 | Y13: =(((4.7*10^13)*'Goal Seek 6th order'!$J$16*('Goal Seek 6th order'!$I$16^0.5)*(EXP(-67837/X13))/('Goal Seek 6th order'!$P$27*6))*('Goal Seek 6th order'!$P$28*10^-6)) -> 5.1444262e-09 | AB13: =AB12*(C13/C12)^(('Goal Seek 6th order'!$P$26-1)/'Goal Seek 6th order'!$P$26) -> 2526.295 | AC13: =(((4.7*10^13)*'Goal Seek 6th order'!$J$17*('Goal Seek 6th order'!$I$17^0.5)*(EXP(-67837/AB13))/('Goal Seek 6th order'!$P$27*6))*('Goal Seek 6th order'!$P$28*10^-6)) -> 2.8246876e-09 | AF13: =AF12*(C13/C12)^(('Goal Seek 6th order'!$P$26-1)/'Goal Seek 6th order'!$P$26) -> 2432.0595 | AG13: =(((4.7*10^13)*'Goal Seek 6th order'!$J$18*('Goal Seek 6th order'!$I$18^0.5)*(EXP(-67837/AF13))/('Goal Seek 6th order'!$P$27*6))*('Goal Seek 6th order'!$P$28*10^-6)) -> 1.2237475e-09 | AJ13: =AJ12*(C13/C12)^(('Goal Seek 6th order'!$P$26-1)/'Goal Seek 6th order'!$P$26) -> 2335.8111 | AK13: =(((4.7*10^13)*'Goal Seek 6th order'!$J$19*('Goal Seek 6th order'!$I$19^0.5)*(EXP(-67837/AJ13))/('Goal Seek 6th order'!$P$27*6))*('Goal Seek 6th order'!$P$28*10^-6)) -> 4.4828005e-10 | AN13: =AN12*(C13/C12)^(('Goal Seek 6th order'!$P$26-1)/'Goal Seek 6th order'!$P$26) -> 2237.3939 | AO13: =(((4.7*10^13)*'Goal Seek 6th order'!$J$20*('Goal Seek 6th order'!$I$20^0.5)*(EXP(-67837/AN13))/('Goal Seek 6th order'!$P$27*6))*('Goal Seek 6th order'!$P$28*10^-6)) -> 1.398744e-10 | AR13: =AR12*(C13/C12)^(('Goal Seek 6th order'!$P$26-1)/'Goal Seek 6th order'!$P$26) -> 2136.6505 | AS13: =(((4.7*10^13)*'Goal Seek 6th order'!$J$21*('Goal Seek 6th order'!$I$21^0.5)*(EXP(-67837/AR13))/('Goal Seek 6th order'!$P$27*6))*('Goal Seek 6th order'!$P$28*10^-6)) -> 3.6729299e-11 | AV13: =AV12*(C13/C12)^(('Goal Seek 6th order'!$P$26-1)/'Goal Seek 6th order'!$P$26) -> 2033.4201 | AW13: =(((4.7*10^13)*'Goal Seek 6th order'!$J$22*('Goal Seek 6th order'!$I$22^0.5)*(EXP(-67837/AV13))/('Goal Seek 6th order'!$P$27*6))*('Goal Seek 6th order'!$P$28*10^-6)) -> 7.9255167e-12 | AZ13: =AZ12*(C13/C12)^(('Goal Seek 6th order'!$P$26-1)/'Goal Seek 6th order'!$P$26) -> 1915.9693 | BA13: =(((4.7*10^13)*'Goal Seek 6th order'!$J$23*('Goal Seek 6th order'!$I$23^0.5)*(EXP(-67837/AZ13))/('Goal Seek 6th order'!$P$27*6))*('Goal Seek 6th order'!$P$28*10^-6)) -> 1.0975012e-12
B14: 8 | C14: 26 | D14: =D13*(C14/C13)^(('Goal Seek 6th order'!$P$26-1)/'Goal Seek 6th order'!$P$26) -> 2741.0782 | E14: =(((4.7*10^13)*'Goal Seek 6th order'!$J$11*('Goal Seek 6th order'!$I$11^0.5)*(EXP(-67837/D14))/('Goal Seek 6th order'!$P$27*6))*('Goal Seek 6th order'!$P$28*10^-6)) -> 0 | H14: =H13*(C14/C13)^(('Goal Seek 6th order'!$P$26-1)/'Goal Seek 6th order'!$P$26) -> 2722.8526 | I14: =(((4.7*10^13)*'Goal Seek 6th order'!$J$12*('Goal Seek 6th order'!$I$12^0.5)*(EXP(-67837/H14))/('Goal Seek 6th order'!$P$27*6))*('Goal Seek 6th order'!$P$28*10^-6)) -> 6.1922195e-09 | L14: =L13*(C14/C13)^(('Goal Seek 6th order'!$P$26-1)/'Goal Seek 6th order'!$P$26) -> 2704.5649 | M14: =(((4.7*10^13)*'Goal Seek 6th order'!$J$13*('Goal Seek 6th order'!$I$13^0.5)*(EXP(-67837/L14))/('Goal Seek 6th order'!$P$27*6))*('Goal Seek 6th order'!$P$28*10^-6)) -> 7.4012707e-09 | P14: =P13*(C14/C13)^(('Goal Seek 6th order'!$P$26-1)/'Goal Seek 6th order'!$P$26) -> 2686.2539 | Q14: =(((4.7*10^13)*'Goal Seek 6th order'!$J$14*('Goal Seek 6th order'!$I$14^0.5)*(EXP(-67837/P14))/('Goal Seek 6th order'!$P$27*6))*('Goal Seek 6th order'!$P$28*10^-6)) -> 7.6419851e-09 | T14: =T13*(C14/C13)^(('Goal Seek 6th order'!$P$26-1)/'Goal Seek 6th order'!$P$26) -> 2667.7967 | U14: =(((4.7*10^13)*'Goal Seek 6th order'!$J$15*('Goal Seek 6th order'!$I$15^0.5)*(EXP(-67837/T14))/('Goal Seek 6th order'!$P$27*6))*('Goal Seek 6th order'!$P$28*10^-6)) -> 7.4114821e-09 | X14: =X13*(C14/C13)^(('Goal Seek 6th order'!$P$26-1)/'Goal Seek 6th order'!$P$26) -> 2649.3134 | Y14: =(((4.7*10^13)*'Goal Seek 6th order'!$J$16*('Goal Seek 6th order'!$I$16^0.5)*(EXP(-67837/X14))/('Goal Seek 6th order'!$P$27*6))*('Goal Seek 6th order'!$P$28*10^-6)) -> 6.9410133e-09 | AB14: =AB13*(C14/C13)^(('Goal Seek 6th order'!$P$26-1)/'Goal Seek 6th order'!$P$26) -> 2555.8477 | AC14: =(((4.7*10^13)*'Goal Seek 6th order'!$J$17*('Goal Seek 6th order'!$I$17^0.5)*(EXP(-67837/AB14))/('Goal Seek 6th order'!$P$27*6))*('Goal Seek 6th order'!$P$28*10^-6)) -> 3.8531287e-09 | AF14: =AF13*(C14/C13)^(('Goal Seek 6th order'!$P$26-1)/'Goal Seek 6th order'!$P$26) -> 2460.5098 | AG14: =(((4.7*10^13)*'Goal Seek 6th order'!$J$18*('Goal Seek 6th order'!$I$18^0.5)*(EXP(-67837/AF14))/('Goal Seek 6th order'!$P$27*6))*('Goal Seek 6th order'!$P$28*10^-6)) -> 1.6895059e-09 | AJ14: =AJ13*(C14/C13)^(('Goal Seek 6th order'!$P$26-1)/'Goal Seek 6th order'!$P$26) -> 2363.1354 | AK14: =(((4.7*10^13)*'Goal Seek 6th order'!$J$19*('Goal Seek 6th order'!$I$19^0.5)*(EXP(-67837/AJ14))/('Goal Seek 6th order'!$P$27*6))*('Goal Seek 6th order'!$P$28*10^-6)) -> 6.271752e-10 | AN14: =AN13*(C14/C13)^(('Goal Seek 6th order'!$P$26-1)/'Goal Seek 6th order'!$P$26) -> 2263.567 | AO14: =(((4.7*10^13)*'Goal Seek 6th order'!$J$20*('Goal Seek 6th order'!$I$20^0.5)*(EXP(-67837/AN14))/('Goal Seek 6th order'!$P$27*6))*('Goal Seek 6th order'!$P$28*10^-6)) -> 1.9860619e-10 | AR14: =AR13*(C14/C13)^(('Goal Seek 6th order'!$P$26-1)/'Goal Seek 6th order'!$P$26) -> 2161.6451 | AS14: =(((4.7*10^13)*'Goal Seek 6th order'!$J$21*('Goal Seek 6th order'!$I$21^0.5)*(EXP(-67837/AR14))/('Goal Seek 6th order'!$P$27*6))*('Goal Seek 6th order'!$P$28*10^-6)) -> 5.302077e-11 | AV14: =AV13*(C14/C13)^(('Goal Seek 6th order'!$P$26-1)/'Goal Seek 6th order'!$P$26) -> 2057.2071 | AW14: =(((4.7*10^13)*'Goal Seek 6th order'!$J$22*('Goal Seek 6th order'!$I$22^0.5)*(EXP(-67837/AV14))/('Goal Seek 6th order'!$P$27*6))*('Goal Seek 6th order'!$P$28*10^-6)) -> 1.1656144e-11 | AZ14: =AZ13*(C14/C13)^(('Goal Seek 6th order'!$P$26-1)/'Goal Seek 6th order'!$P$26) -> 1938.3824 | BA14: =(((4.7*10^13)*'Goal Seek 6th order'!$J$23*('Goal Seek 6th order'!$I$23^0.5)*(EXP(-67837/AZ14))/('Goal Seek 6th order'!$P$27*6))*('Goal Seek 6th order'!$P$28*10^-6)) -> 1.6527301e-12
B15: 9 | C15: 28 | D15: =D14*(C15/C14)^(('Goal Seek 6th order'!$P$26-1)/'Goal Seek 6th order'!$P$26) -> 2770.7531 | E15: =(((4.7*10^13)*'Goal Seek 6th order'!$J$11*('Goal Seek 6th order'!$I$11^0.5)*(EXP(-67837/D15))/('Goal Seek 6th order'!$P$27*6))*('Goal Seek 6th order'!$P$28*10^-6)) -> 0 | H15: =H14*(C15/C14)^(('Goal Seek 6th order'!$P$26-1)/'Goal Seek 6th order'!$P$26) -> 2752.3302 | I15: =(((4.7*10^13)*'Goal Seek 6th order'!$J$12*('Goal Seek 6th order'!$I$12^0.5)*(EXP(-67837/H15))/('Goal Seek 6th order'!$P$27*6))*('Goal Seek 6th order'!$P$28*10^-6)) -> 8.0859131e-09 | L15: =L14*(C15/C14)^(('Goal Seek 6th order'!$P$26-1)/'Goal Seek 6th order'!$P$26) -> 2733.8445 | M15: =(((4.7*10^13)*'Goal Seek 6th order'!$J$13*('Goal Seek 6th order'!$I$13^0.5)*(EXP(-67837/L15))/('Goal Seek 6th order'!$P$27*6))*('Goal Seek 6th order'!$P$28*10^-6)) -> 9.6821674e-09 | P15: =P14*(C15/C14)^(('Goal Seek 6th order'!$P$26-1)/'Goal Seek 6th order'!$P$26) -> 2715.3353 | Q15: =(((4.7*10^13)*'Goal Seek 6th order'!$J$14*('Goal Seek 6th order'!$I$14^0.5)*(EXP(-67837/P15))/('Goal Seek 6th order'!$P$27*6))*('Goal Seek 6th order'!$P$28*10^-6)) -> 1.0015387e-08 | T15: =T14*(C15/C14)^(('Goal Seek 6th order'!$P$26-1)/'Goal Seek 6th order'!$P$26) -> 2696.6783 | U15: =(((4.7*10^13)*'Goal Seek 6th order'!$J$15*('Goal Seek 6th order'!$I$15^0.5)*(EXP(-67837/T15))/('Goal Seek 6th order'!$P$27*6))*('Goal Seek 6th order'!$P$28*10^-6)) -> 9.7314887e-09 | X15: =X14*(C15/C14)^(('Goal Seek 6th order'!$P$26-1)/'Goal Seek 6th order'!$P$26) -> 2677.9949 | Y15: =(((4.7*10^13)*'Goal Seek 6th order'!$J$16*('Goal Seek 6th order'!$I$16^0.5)*(EXP(-67837/X15))/('Goal Seek 6th order'!$P$27*6))*('Goal Seek 6th order'!$P$28*10^-6)) -> 9.1310822e-09 | AB15: =AB14*(C15/C14)^(('Goal Seek 6th order'!$P$26-1)/'Goal Seek 6th order'!$P$26) -> 2583.5173 | AC15: =(((4.7*10^13)*'Goal Seek 6th order'!$J$17*('Goal Seek 6th order'!$I$17^0.5)*(EXP(-67837/AB15))/('Goal Seek 6th order'!$P$27*6))*('Goal Seek 6th order'!$P$28*10^-6)) -> 5.1199801e-09 | AF15: =AF14*(C15/C14)^(('Goal Seek 6th order'!$P$26-1)/'Goal Seek 6th order'!$P$26) -> 2487.1473 | AG15: =(((4.7*10^13)*'Goal Seek 6th order'!$J$18*('Goal Seek 6th order'!$I$18^0.5)*(EXP(-67837/AF15))/('Goal Seek 6th order'!$P$27*6))*('Goal Seek 6th order'!$P$28*10^-6)) -> 2.2698544e-09 | AJ15: =AJ14*(C15/C14)^(('Goal Seek 6th order'!$P$26-1)/'Goal Seek 6th order'!$P$26) -> 2388.7188 | AK15: =(((4.7*10^13)*'Goal Seek 6th order'!$J$19*('Goal Seek 6th order'!$I$19^0.5)*(EXP(-67837/AJ15))/('Goal Seek 6th order'!$P$27*6))*('Goal Seek 6th order'!$P$28*10^-6)) -> 8.529259e-10 | AN15: =AN14*(C15/C14)^(('Goal Seek 6th order'!$P$26-1)/'Goal Seek 6th order'!$P$26) -> 2288.0724 | AO15: =(((4.7*10^13)*'Goal Seek 6th order'!$J$20*('Goal Seek 6th order'!$I$20^0.5)*(EXP(-67837/AN15))/('Goal Seek 6th order'!$P$27*6))*('Goal Seek 6th order'!$P$28*10^-6)) -> 2.7377168e-10 | AR15: =AR14*(C15/C14)^(('Goal Seek 6th order'!$P$26-1)/'Goal Seek 6th order'!$P$26) -> 2185.0471 | AS15: =(((4.7*10^13)*'Goal Seek 6th order'!$J$21*('Goal Seek 6th order'!$I$21^0.5)*(EXP(-67837/AR15))/('Goal Seek 6th order'!$P$27*6))*('Goal Seek 6th order'!$P$28*10^-6)) -> 7.4201774e-11 | AV15: =AV14*(C15/C14)^(('Goal Seek 6th order'!$P$26-1)/'Goal Seek 6th order'!$P$26) -> 2079.4785 | AW15: =(((4.7*10^13)*'Goal Seek 6th order'!$J$22*('Goal Seek 6th order'!$I$22^0.5)*(EXP(-67837/AV15))/('Goal Seek 6th order'!$P$27*6))*('Goal Seek 6th order'!$P$28*10^-6)) -> 1.6593329e-11 | AZ15: =AZ14*(C15/C14)^(('Goal Seek 6th order'!$P$26-1)/'Goal Seek 6th order'!$P$26) -> 1959.3673 | BA15: =(((4.7*10^13)*'Goal Seek 6th order'!$J$23*('Goal Seek 6th order'!$I$23^0.5)*(EXP(-67837/AZ15))/('Goal Seek 6th order'!$P$27*6))*('Goal Seek 6th order'!$P$28*10^-6)) -> 2.4042676e-12
B16: 10 | C16: 30 | D16: =D15*(C16/C15)^(('Goal Seek 6th order'!$P$26-1)/'Goal Seek 6th order'!$P$26) -> 2798.6685 | E16: =(((4.7*10^13)*'Goal Seek 6th order'!$J$11*('Goal Seek 6th order'!$I$11^0.5)*(EXP(-67837/D16))/('Goal Seek 6th order'!$P$27*6))*('Goal Seek 6th order'!$P$28*10^-6)) -> 0 | H16: =H15*(C16/C15)^(('Goal Seek 6th order'!$P$26-1)/'Goal Seek 6th order'!$P$26) -> 2780.06 | I16: =(((4.7*10^13)*'Goal Seek 6th order'!$J$12*('Goal Seek 6th order'!$I$12^0.5)*(EXP(-67837/H16))/('Goal Seek 6th order'!$P$27*6))*('Goal Seek 6th order'!$P$28*10^-6)) -> 1.033945e-08 | L16: =L15*(C16/C15)^(('Goal Seek 6th order'!$P$26-1)/'Goal Seek 6th order'!$P$26) -> 2761.388 | M16: =(((4.7*10^13)*'Goal Seek 6th order'!$J$13*('Goal Seek 6th order'!$I$13^0.5)*(EXP(-67837/L16))/('Goal Seek 6th order'!$P$27*6))*('Goal Seek 6th order'!$P$28*10^-6)) -> 1.2401178e-08 | P16: =P15*(C16/C15)^(('Goal Seek 6th order'!$P$26-1)/'Goal Seek 6th order'!$P$26) -> 2742.6924 | Q16: =(((4.7*10^13)*'Goal Seek 6th order'!$J$14*('Goal Seek 6th order'!$I$14^0.5)*(EXP(-67837/P16))/('Goal Seek 6th order'!$P$27*6))*('Goal Seek 6th order'!$P$28*10^-6)) -> 1.2849635e-08 | T16: =T15*(C16/C15)^(('Goal Seek 6th order'!$P$26-1)/'Goal Seek 6th order'!$P$26) -> 2723.8474 | U16: =(((4.7*10^13)*'Goal Seek 6th order'!$J$15*('Goal Seek 6th order'!$I$15^0.5)*(EXP(-67837/T16))/('Goal Seek 6th order'!$P$27*6))*('Goal Seek 6th order'!$P$28*10^-6)) -> 1.250694e-08 | X16: =X15*(C16/C15)^(('Goal Seek 6th order'!$P$26-1)/'Goal Seek 6th order'!$P$26) -> 2704.9758 | Y16: =(((4.7*10^13)*'Goal Seek 6th order'!$J$16*('Goal Seek 6th order'!$I$16^0.5)*(EXP(-67837/X16))/('Goal Seek 6th order'!$P$27*6))*('Goal Seek 6th order'!$P$28*10^-6)) -> 1.1755857e-08 | AB16: =AB15*(C16/C15)^(('Goal Seek 6th order'!$P$26-1)/'Goal Seek 6th order'!$P$26) -> 2609.5463 | AC16: =(((4.7*10^13)*'Goal Seek 6th order'!$J$17*('Goal Seek 6th order'!$I$17^0.5)*(EXP(-67837/AB16))/('Goal Seek 6th order'!$P$27*6))*('Goal Seek 6th order'!$P$28*10^-6)) -> 6.6529331e-09 | AF16: =AF15*(C16/C15)^(('Goal Seek 6th order'!$P$26-1)/'Goal Seek 6th order'!$P$26) -> 2512.2053 | AG16: =(((4.7*10^13)*'Goal Seek 6th order'!$J$18*('Goal Seek 6th order'!$I$18^0.5)*(EXP(-67837/AF16))/('Goal Seek 6th order'!$P$27*6))*('Goal Seek 6th order'!$P$28*10^-6)) -> 2.9795466e-09 | AJ16: =AJ15*(C16/C15)^(('Goal Seek 6th order'!$P$26-1)/'Goal Seek 6th order'!$P$26) -> 2412.7852 | AK16: =(((4.7*10^13)*'Goal Seek 6th order'!$J$19*('Goal Seek 6th order'!$I$19^0.5)*(EXP(-67837/AJ16))/('Goal Seek 6th order'!$P$27*6))*('Goal Seek 6th order'!$P$28*10^-6)) -> 1.1322231e-09 | AN16: =AN15*(C16/C15)^(('Goal Seek 6th order'!$P$26-1)/'Goal Seek 6th order'!$P$26) -> 2311.1248 | AO16: =(((4.7*10^13)*'Goal Seek 6th order'!$J$20*('Goal Seek 6th order'!$I$20^0.5)*(EXP(-67837/AN16))/('Goal Seek 6th order'!$P$27*6))*('Goal Seek 6th order'!$P$28*10^-6)) -> 3.6797692e-10 | AR16: =AR15*(C16/C15)^(('Goal Seek 6th order'!$P$26-1)/'Goal Seek 6th order'!$P$26) -> 2207.0615 | AS16: =(((4.7*10^13)*'Goal Seek 6th order'!$J$21*('Goal Seek 6th order'!$I$21^0.5)*(EXP(-67837/AR16))/('Goal Seek 6th order'!$P$27*6))*('Goal Seek 6th order'!$P$28*10^-6)) -> 1.0113511e-10 | AV16: =AV15*(C16/C15)^(('Goal Seek 6th order'!$P$26-1)/'Goal Seek 6th order'!$P$26) -> 2100.4293 | AW16: =(((4.7*10^13)*'Goal Seek 6th order'!$J$22*('Goal Seek 6th order'!$I$22^0.5)*(EXP(-67837/AV16))/('Goal Seek 6th order'!$P$27*6))*('Goal Seek 6th order'!$P$28*10^-6)) -> 2.2974639e-11 | AZ16: =AZ15*(C16/C15)^(('Goal Seek 6th order'!$P$26-1)/'Goal Seek 6th order'!$P$26) -> 1979.108 | BA16: =(((4.7*10^13)*'Goal Seek 6th order'!$J$23*('Goal Seek 6th order'!$I$23^0.5)*(EXP(-67837/AZ16))/('Goal Seek 6th order'!$P$27*6))*('Goal Seek 6th order'!$P$28*10^-6)) -> 3.3959457e-12
B17: 11 | C17: 32 | D17: =D16*(C17/C16)^(('Goal Seek 6th order'!$P$26-1)/'Goal Seek 6th order'!$P$26) -> 2825.0361 | E17: =(((4.7*10^13)*'Goal Seek 6th order'!$J$11*('Goal Seek 6th order'!$I$11^0.5)*(EXP(-67837/D17))/('Goal Seek 6th order'!$P$27*6))*('Goal Seek 6th order'!$P$28*10^-6)) -> 0 | H17: =H16*(C17/C16)^(('Goal Seek 6th order'!$P$26-1)/'Goal Seek 6th order'!$P$26) -> 2806.2524 | I17: =(((4.7*10^13)*'Goal Seek 6th order'!$J$12*('Goal Seek 6th order'!$I$12^0.5)*(EXP(-67837/H17))/('Goal Seek 6th order'!$P$27*6))*('Goal Seek 6th order'!$P$28*10^-6)) -> 1.2983996e-08 | L17: =L16*(C17/C16)^(('Goal Seek 6th order'!$P$26-1)/'Goal Seek 6th order'!$P$26) -> 2787.4044 | M17: =(((4.7*10^13)*'Goal Seek 6th order'!$J$13*('Goal Seek 6th order'!$I$13^0.5)*(EXP(-67837/L17))/('Goal Seek 6th order'!$P$27*6))*('Goal Seek 6th order'!$P$28*10^-6)) -> 1.5597056e-08 | P17: =P16*(C17/C16)^(('Goal Seek 6th order'!$P$26-1)/'Goal Seek 6th order'!$P$26) -> 2768.5327 | Q17: =(((4.7*10^13)*'Goal Seek 6th order'!$J$14*('Goal Seek 6th order'!$I$14^0.5)*(EXP(-67837/P17))/('Goal Seek 6th order'!$P$27*6))*('Goal Seek 6th order'!$P$28*10^-6)) -> 1.6186364e-08 | T17: =T16*(C17/C16)^(('Goal Seek 6th order'!$P$26-1)/'Goal Seek 6th order'!$P$26) -> 2749.5101 | U17: =(((4.7*10^13)*'Goal Seek 6th order'!$J$15*('Goal Seek 6th order'!$I$15^0.5)*(EXP(-67837/T17))/('Goal Seek 6th order'!$P$27*6))*('Goal Seek 6th order'!$P$28*10^-6)) -> 1.5779863e-08 | X17: =X16*(C17/C16)^(('Goal Seek 6th order'!$P$26-1)/'Goal Seek 6th order'!$P$26) -> 2730.4607 | Y17: =(((4.7*10^13)*'Goal Seek 6th order'!$J$16*('Goal Seek 6th order'!$I$16^0.5)*(EXP(-67837/X17))/('Goal Seek 6th order'!$P$27*6))*('Goal Seek 6th order'!$P$28*10^-6)) -> 1.4856303e-08 | AB17: =AB16*(C17/C16)^(('Goal Seek 6th order'!$P$26-1)/'Goal Seek 6th order'!$P$26) -> 2634.1321 | AC17: =(((4.7*10^13)*'Goal Seek 6th order'!$J$17*('Goal Seek 6th order'!$I$17^0.5)*(EXP(-67837/AB17))/('Goal Seek 6th order'!$P$27*6))*('Goal Seek 6th order'!$P$28*10^-6)) -> 8.4798295e-09 | AF17: =AF16*(C17/C16)^(('Goal Seek 6th order'!$P$26-1)/'Goal Seek 6th order'!$P$26) -> 2535.8741 | AG17: =(((4.7*10^13)*'Goal Seek 6th order'!$J$18*('Goal Seek 6th order'!$I$18^0.5)*(EXP(-67837/AF17))/('Goal Seek 6th order'!$P$27*6))*('Goal Seek 6th order'!$P$28*10^-6)) -> 3.8336026e-09 | AJ17: =AJ16*(C17/C16)^(('Goal Seek 6th order'!$P$26-1)/'Goal Seek 6th order'!$P$26) -> 2435.5172 | AK17: =(((4.7*10^13)*'Goal Seek 6th order'!$J$19*('Goal Seek 6th order'!$I$19^0.5)*(EXP(-67837/AJ17))/('Goal Seek 6th order'!$P$27*6))*('Goal Seek 6th order'!$P$28*10^-6)) -> 1.4719707e-09 | AN17: =AN16*(C17/C16)^(('Goal Seek 6th order'!$P$26-1)/'Goal Seek 6th order'!$P$26) -> 2332.899 | AO17: =(((4.7*10^13)*'Goal Seek 6th order'!$J$20*('Goal Seek 6th order'!$I$20^0.5)*(EXP(-67837/AN17))/('Goal Seek 6th order'!$P$27*6))*('Goal Seek 6th order'!$P$28*10^-6)) -> 4.839504e-10 | AR17: =AR16*(C17/C16)^(('Goal Seek 6th order'!$P$26-1)/'Goal Seek 6th order'!$P$26) -> 2227.8553 | AS17: =(((4.7*10^13)*'Goal Seek 6th order'!$J$21*('Goal Seek 6th order'!$I$21^0.5)*(EXP(-67837/AR17))/('Goal Seek 6th order'!$P$27*6))*('Goal Seek 6th order'!$P$28*10^-6)) -> 1.3473864e-10 | AV17: =AV16*(C17/C16)^(('Goal Seek 6th order'!$P$26-1)/'Goal Seek 6th order'!$P$26) -> 2120.2184 | AW17: =(((4.7*10^13)*'Goal Seek 6th order'!$J$22*('Goal Seek 6th order'!$I$22^0.5)*(EXP(-67837/AV17))/('Goal Seek 6th order'!$P$27*6))*('Goal Seek 6th order'!$P$28*10^-6)) -> 3.1057319e-11 | AZ17: =AZ16*(C17/C16)^(('Goal Seek 6th order'!$P$26-1)/'Goal Seek 6th order'!$P$26) -> 1997.7541 | BA17: =(((4.7*10^13)*'Goal Seek 6th order'!$J$23*('Goal Seek 6th order'!$I$23^0.5)*(EXP(-67837/AZ17))/('Goal Seek 6th order'!$P$27*6))*('Goal Seek 6th order'!$P$28*10^-6)) -> 4.6762879e-12
B18: 12 | C18: 34 | D18: =D17*(C18/C17)^(('Goal Seek 6th order'!$P$26-1)/'Goal Seek 6th order'!$P$26) -> 2850.031 | E18: =(((4.7*10^13)*'Goal Seek 6th order'!$J$11*('Goal Seek 6th order'!$I$11^0.5)*(EXP(-67837/D18))/('Goal Seek 6th order'!$P$27*6))*('Goal Seek 6th order'!$P$28*10^-6)) -> 0 | H18: =H17*(C18/C17)^(('Goal Seek 6th order'!$P$26-1)/'Goal Seek 6th order'!$P$26) -> 2831.081 | I18: =(((4.7*10^13)*'Goal Seek 6th order'!$J$12*('Goal Seek 6th order'!$I$12^0.5)*(EXP(-67837/H18))/('Goal Seek 6th order'!$P$27*6))*('Goal Seek 6th order'!$P$28*10^-6)) -> 1.6050176e-08 | L18: =L17*(C18/C17)^(('Goal Seek 6th order'!$P$26-1)/'Goal Seek 6th order'!$P$26) -> 2812.0663 | M18: =(((4.7*10^13)*'Goal Seek 6th order'!$J$13*('Goal Seek 6th order'!$I$13^0.5)*(EXP(-67837/L18))/('Goal Seek 6th order'!$P$27*6))*('Goal Seek 6th order'!$P$28*10^-6)) -> 1.9307972e-08 | P18: =P17*(C18/C17)^(('Goal Seek 6th order'!$P$26-1)/'Goal Seek 6th order'!$P$26) -> 2793.0276 | Q18: =(((4.7*10^13)*'Goal Seek 6th order'!$J$14*('Goal Seek 6th order'!$I$14^0.5)*(EXP(-67837/P18))/('Goal Seek 6th order'!$P$27*6))*('Goal Seek 6th order'!$P$28*10^-6)) -> 2.0066663e-08 | T18: =T17*(C18/C17)^(('Goal Seek 6th order'!$P$26-1)/'Goal Seek 6th order'!$P$26) -> 2773.8367 | U18: =(((4.7*10^13)*'Goal Seek 6th order'!$J$15*('Goal Seek 6th order'!$I$15^0.5)*(EXP(-67837/T18))/('Goal Seek 6th order'!$P$27*6))*('Goal Seek 6th order'!$P$28*10^-6)) -> 1.9591819e-08 | X18: =X17*(C18/C17)^(('Goal Seek 6th order'!$P$26-1)/'Goal Seek 6th order'!$P$26) -> 2754.6188 | Y18: =(((4.7*10^13)*'Goal Seek 6th order'!$J$16*('Goal Seek 6th order'!$I$16^0.5)*(EXP(-67837/X18))/('Goal Seek 6th order'!$P$27*6))*('Goal Seek 6th order'!$P$28*10^-6)) -> 1.847302e-08 | AB18: =AB17*(C18/C17)^(('Goal Seek 6th order'!$P$26-1)/'Goal Seek 6th order'!$P$26) -> 2657.4379 | AC18: =(((4.7*10^13)*'Goal Seek 6th order'!$J$17*('Goal Seek 6th order'!$I$17^0.5)*(EXP(-67837/AB18))/('Goal Seek 6th order'!$P$27*6))*('Goal Seek 6th order'!$P$28*10^-6)) -> 1.0628567e-08 | AF18: =AF17*(C18/C17)^(('Goal Seek 6th order'!$P$26-1)/'Goal Seek 6th order'!$P$26) -> 2558.3105 | AG18: =(((4.7*10^13)*'Goal Seek 6th order'!$J$18*('Goal Seek 6th order'!$I$18^0.5)*(EXP(-67837/AF18))/('Goal Seek 6th order'!$P$27*6))*('Goal Seek 6th order'!$P$28*10^-6)) -> 4.8472488e-09 | AJ18: =AJ17*(C18/C17)^(('Goal Seek 6th order'!$P$26-1)/'Goal Seek 6th order'!$P$26) -> 2457.0657 | AK18: =(((4.7*10^13)*'Goal Seek 6th order'!$J$19*('Goal Seek 6th order'!$I$19^0.5)*(EXP(-67837/AJ18))/('Goal Seek 6th order'!$P$27*6))*('Goal Seek 6th order'!$P$28*10^-6)) -> 1.8792551e-09 | AN18: =AN17*(C18/C17)^(('Goal Seek 6th order'!$P$26-1)/'Goal Seek 6th order'!$P$26) -> 2353.5396 | AO18: =(((4.7*10^13)*'Goal Seek 6th order'!$J$20*('Goal Seek 6th order'!$I$20^0.5)*(EXP(-67837/AN18))/('Goal Seek 6th order'!$P$27*6))*('Goal Seek 6th order'!$P$28*10^-6)) -> 6.2453087e-10 | AR18: =AR17*(C18/C17)^(('Goal Seek 6th order'!$P$26-1)/'Goal Seek 6th order'!$P$26) -> 2247.5665 | AS18: =(((4.7*10^13)*'Goal Seek 6th order'!$J$21*('Goal Seek 6th order'!$I$21^0.5)*(EXP(-67837/AR18))/('Goal Seek 6th order'!$P$27*6))*('Goal Seek 6th order'!$P$28*10^-6)) -> 1.7598159e-10 | AV18: =AV17*(C18/C17)^(('Goal Seek 6th order'!$P$26-1)/'Goal Seek 6th order'!$P$26) -> 2138.9773 | AW18: =(((4.7*10^13)*'Goal Seek 6th order'!$J$22*('Goal Seek 6th order'!$I$22^0.5)*(EXP(-67837/AV18))/('Goal Seek 6th order'!$P$27*6))*('Goal Seek 6th order'!$P$28*10^-6)) -> 4.1117503e-11 | AZ18: =AZ17*(C18/C17)^(('Goal Seek 6th order'!$P$26-1)/'Goal Seek 6th order'!$P$26) -> 2015.4295 | BA18: =(((4.7*10^13)*'Goal Seek 6th order'!$J$23*('Goal Seek 6th order'!$I$23^0.5)*(EXP(-67837/AZ18))/('Goal Seek 6th order'!$P$27*6))*('Goal Seek 6th order'!$P$28*10^-6)) -> 6.2984592e-12
... B21: 15 | C21: 40 | D21: =D20*(C21/C20)^(('Goal Seek 6th order'!$P$26-1)/'Goal Seek 6th order'!$P$26) -> 2918.1321 | E21: =(((4.7*10^13)*'Goal Seek 6th order'!$J$11*('Goal Seek 6th order'!$I$11^0.5)*(EXP(-67837/D21))/('Goal Seek 6th order'!$P$27*6))*('Goal Seek 6th order'!$P$28*10^-6)) -> 0 | H21: =H20*(C21/C20)^(('Goal Seek 6th order'!$P$26-1)/'Goal Seek 6th order'!$P$26) -> 2898.7293 | I21: =(((4.7*10^13)*'Goal Seek 6th order'!$J$12*('Goal Seek 6th order'!$I$12^0.5)*(EXP(-67837/H21))/('Goal Seek 6th order'!$P$27*6))*('Goal Seek 6th order'!$P$28*10^-6)) -> 2.8076009e-08 | L21: =L20*(C21/C20)^(('Goal Seek 6th order'!$P$26-1)/'Goal Seek 6th order'!$P$26) -> 2879.2603 | M21: =(((4.7*10^13)*'Goal Seek 6th order'!$J$13*('Goal Seek 6th order'!$I$13^0.5)*(EXP(-67837/L21))/('Goal Seek 6th order'!$P$27*6))*('Goal Seek 6th order'!$P$28*10^-6)) -> 3.3902706e-08 | P21: =P20*(C21/C20)^(('Goal Seek 6th order'!$P$26-1)/'Goal Seek 6th order'!$P$26) -> 2859.7666 | Q21: =(((4.7*10^13)*'Goal Seek 6th order'!$J$14*('Goal Seek 6th order'!$I$14^0.5)*(EXP(-67837/P21))/('Goal Seek 6th order'!$P$27*6))*('Goal Seek 6th order'!$P$28*10^-6)) -> 3.5370362e-08 | T21: =T20*(C21/C20)^(('Goal Seek 6th order'!$P$26-1)/'Goal Seek 6th order'!$P$26) -> 2840.1172 | U21: =(((4.7*10^13)*'Goal Seek 6th order'!$J$15*('Goal Seek 6th order'!$I$15^0.5)*(EXP(-67837/T21))/('Goal Seek 6th order'!$P$27*6))*('Goal Seek 6th order'!$P$28*10^-6)) -> 3.466907e-08 | X21: =X20*(C21/C20)^(('Goal Seek 6th order'!$P$26-1)/'Goal Seek 6th order'!$P$26) -> 2820.44 | Y21: =(((4.7*10^13)*'Goal Seek 6th order'!$J$16*('Goal Seek 6th order'!$I$16^0.5)*(EXP(-67837/X21))/('Goal Seek 6th order'!$P$27*6))*('Goal Seek 6th order'!$P$28*10^-6)) -> 3.28197e-08 | AB21: =AB20*(C21/C20)^(('Goal Seek 6th order'!$P$26-1)/'Goal Seek 6th order'!$P$26) -> 2720.9371 | AC21: =(((4.7*10^13)*'Goal Seek 6th order'!$J$17*('Goal Seek 6th order'!$I$17^0.5)*(EXP(-67837/AB21))/('Goal Seek 6th order'!$P$27*6))*('Goal Seek 6th order'!$P$28*10^-6)) -> 1.9284085e-08 | AF21: =AF20*(C21/C20)^(('Goal Seek 6th order'!$P$26-1)/'Goal Seek 6th order'!$P$26) -> 2619.441 | AG21: =(((4.7*10^13)*'Goal Seek 6th order'!$J$18*('Goal Seek 6th order'!$I$18^0.5)*(EXP(-67837/AF21))/('Goal Seek 6th order'!$P$27*6))*('Goal Seek 6th order'!$P$28*10^-6)) -> 9.0000406e-09 | AJ21: =AJ20*(C21/C20)^(('Goal Seek 6th order'!$P$26-1)/'Goal Seek 6th order'!$P$26) -> 2515.777 | AK21: =(((4.7*10^13)*'Goal Seek 6th order'!$J$19*('Goal Seek 6th order'!$I$19^0.5)*(EXP(-67837/AJ21))/('Goal Seek 6th order'!$P$27*6))*('Goal Seek 6th order'!$P$28*10^-6)) -> 3.5793886e-09 | AN21: =AN20*(C21/C20)^(('Goal Seek 6th order'!$P$26-1)/'Goal Seek 6th order'!$P$26) -> 2409.7772 | AO21: =(((4.7*10^13)*'Goal Seek 6th order'!$J$20*('Goal Seek 6th order'!$I$20^0.5)*(EXP(-67837/AN21))/('Goal Seek 6th order'!$P$27*6))*('Goal Seek 6th order'!$P$28*10^-6)) -> 1.2237303e-09 | AR21: =AR20*(C21/C20)^(('Goal Seek 6th order'!$P$26-1)/'Goal Seek 6th order'!$P$26) -> 2301.2718 | AS21: =(((4.7*10^13)*'Goal Seek 6th order'!$J$21*('Goal Seek 6th order'!$I$21^0.5)*(EXP(-67837/AR21))/('Goal Seek 6th order'!$P$27*6))*('Goal Seek 6th order'!$P$28*10^-6)) -> 3.5593697e-10 | AV21: =AV20*(C21/C20)^(('Goal Seek 6th order'!$P$26-1)/'Goal Seek 6th order'!$P$26) -> 2190.0879 | AW21: =(((4.7*10^13)*'Goal Seek 6th order'!$J$22*('Goal Seek 6th order'!$I$22^0.5)*(EXP(-67837/AV21))/('Goal Seek 6th order'!$P$27*6))*('Goal Seek 6th order'!$P$28*10^-6)) -> 8.6191113e-11 | AZ21: =AZ20*(C21/C20)^(('Goal Seek 6th order'!$P$26-1)/'Goal Seek 6th order'!$P$26) -> 2063.5879 | BA21: =(((4.7*10^13)*'Goal Seek 6th order'!$J$23*('Goal Seek 6th order'!$I$23^0.5)*(EXP(-67837/AZ21))/('Goal Seek 6th order'!$P$27*6))*('Goal Seek 6th order'!$P$28*10^-6)) -> 1.3815748e-11
B24: 5% EGR
C26: Phi (ɸ) | D26: 1 | H26: 0.99 | L26: 0.98 | P26: 0.97 | T26: 0.96 | X26: 0.95 | AB26: 0.9 | AF26: 0.85 | AJ26: 0.8 | AN26: 0.75 | AR26: 0.7 | AV26: 0.65 | AZ26: 0.6
B27: θ° | C27: P (Bar) | D27: Temp (K) | E27: Nox (kmols/°) | F27: PPM | H27: Temp (K) | I27: Nox (kmols/°) | J27: PPM | L27: Temp (K) | M27: Nox (kmols/°) | N27: PPM | P27: Temp (K) | Q27: Nox (kmols/°) | R27: PPM | T27: Temp (K) | U27: Nox (kmols/°) | V27: PPM | X27: Temp (K) | Y27: Nox (kmols/°) | Z27: PPM | AB27: Temp (K) | AC27: Nox (kmols/°) | AD27: PPM | AF27: Temp (K) | AG27: Nox (kmols/°) | AH27: PPM | AJ27: Temp (K) | AK27: Nox (kmols/°) | AL27: PPM | AN27: Temp (K) | AO27: Nox (kmols/°) | AP27: PPM | AR27: Temp (K) | AS27: Nox (kmols/°) | AT27: PPM | AV27: Temp (K) | AW27: Nox (kmols/°) | AX27: PPM | AZ27: Temp (K) | BA27: Nox (kmols/°) | BB27: PPM
B28: 0 | C28: 10 | D28: =EGR!C$32 -> 2296.8931 | E28: =(((4.7*10^13)*'O2N2 @ EGR'!$H$4*('O2N2 @ EGR'!$G$4^0.5)*(EXP(-67837/D28))/('Goal Seek 6th order'!$P$27*6))*('Goal Seek 6th order'!$P$28*10^-6)) -> 0 | F28: =(SUM(E28:E43)/'O2N2 @ EGR'!$J4)*10^6 -> 0 | H28: =EGR!C$33 -> 2281.8724 | I28: =(((4.7*10^13)*'O2N2 @ EGR'!$H$5*('O2N2 @ EGR'!$G$5^0.5)*(EXP(-67837/H28))/('Goal Seek 6th order'!$P$27*6))*('Goal Seek 6th order'!$P$28*10^-6)) -> 5.4029071e-11 | J28: =(SUM(I28:I43)/'O2N2 @ EGR'!$J5)*10^6 -> 8096.9461 | L28: =EGR!C$34 -> 2266.7653 | M28: =(((4.7*10^13)*'O2N2 @ EGR'!$H$6*('O2N2 @ EGR'!$G$6^0.5)*(EXP(-67837/L28))/('Goal Seek 6th order'!$P$27*6))*('Goal Seek 6th order'!$P$28*10^-6)) -> 6.2690785e-11 | N28: =(SUM(M28:M43)/'O2N2 @ EGR'!$J6)*10^6 -> 9702.2223 | P28: =EGR!C$35 -> 2251.6608 | Q28: =(((4.7*10^13)*'O2N2 @ EGR'!$H$7*('O2N2 @ EGR'!$G$7^0.5)*(EXP(-67837/P28))/('Goal Seek 6th order'!$P$27*6))*('Goal Seek 6th order'!$P$28*10^-6)) -> 6.2830573e-11 | R28: =(SUM(Q28:Q43)/'O2N2 @ EGR'!$J7)*10^6 -> 10046.289 | T28: =EGR!C$36 -> 2236.4679 | U28: =(((4.7*10^13)*'O2N2 @ EGR'!$H$8*('O2N2 @ EGR'!$G$8^0.5)*(EXP(-67837/T28))/('Goal Seek 6th order'!$P$27*6))*('Goal Seek 6th order'!$P$28*10^-6)) -> 5.9137559e-11 | V28: =(SUM(U28:U43)/'O2N2 @ EGR'!$J8)*10^6 -> 9775.7102 | X28: =EGR!C$37 -> 2221.2154 | Y28: =(((4.7*10^13)*'O2N2 @ EGR'!$H$9*('O2N2 @ EGR'!$G$9^0.5)*(EXP(-67837/X28))/('Goal Seek 6th order'!$P$27*6))*('Goal Seek 6th order'!$P$28*10^-6)) -> 5.3699473e-11 | Z28: =(SUM(Y28:Y43)/'O2N2 @ EGR'!$J9)*10^6 -> 9182.6612 | AB28: =EGR!C$38 -> 2144.023 | AC28: =(((4.7*10^13)*'O2N2 @ EGR'!$H$10*('O2N2 @ EGR'!$G$10^0.5)*(EXP(-67837/AB28))/('Goal Seek 6th order'!$P$27*6))*('Goal Seek 6th order'!$P$28*10^-6)) -> 2.532148e-11 | AD28: =(SUM(AC28:AC43)/'O2N2 @ EGR'!$J10)*10^6 -> 5179.5691 | AF28: =EGR!C$39 -> 2065.1875 | AG28: =(((4.7*10^13)*'O2N2 @ EGR'!$H$11*('O2N2 @ EGR'!$G$11^0.5)*(EXP(-67837/AF28))/('Goal Seek 6th order'!$P$27*6))*('Goal Seek 6th order'!$P$28*10^-6)) -> 9.2795616e-12 | AH28: =(SUM(AG28:AG43)/'O2N2 @ EGR'!$J11)*10^6 -> 2312.3084 | AJ28: =EGR!C$40 -> 1984.5811 | AK28: =(((4.7*10^13)*'O2N2 @ EGR'!$H$12*('O2N2 @ EGR'!$G$12^0.5)*(EXP(-67837/AJ28))/('Goal Seek 6th order'!$P$27*6))*('Goal Seek 6th order'!$P$28*10^-6)) -> 2.8256532e-12 | AL28: =(SUM(AK28:AK43)/'O2N2 @ EGR'!$J12)*10^6 -> 876.21595 | AN28: =EGR!C$41 -> 1902.0774 | AO28: =(((4.7*10^13)*'O2N2 @ EGR'!$H$13*('O2N2 @ EGR'!$G$13^0.5)*(EXP(-67837/AN28))/('Goal Seek 6th order'!$P$27*6))*('Goal Seek 6th order'!$P$28*10^-6)) -> 7.1812662e-13 | AP28: =(SUM(AO28:AO43)/'O2N2 @ EGR'!$J13)*10^6 -> 284.17761 | AR28: =EGR!C$42 -> 1817.5446 | AS28: =(((4.7*10^13)*'O2N2 @ EGR'!$H$14*('O2N2 @ EGR'!$G$14^0.5)*(EXP(-67837/AR28))/('Goal Seek 6th order'!$P$27*6))*('Goal Seek 6th order'!$P$28*10^-6)) -> 1.4995146e-13 | AT28: =(SUM(AS28:AS43)/'O2N2 @ EGR'!$J14)*10^6 -> 78.024951 | AV28: =EGR!C$43 -> 1730.8451 | AW28: =(((4.7*10^13)*'O2N2 @ EGR'!$H$15*('O2N2 @ EGR'!$G$15^0.5)*(EXP(-67837/AV28))/('Goal Seek 6th order'!$P$27*6))*('Goal Seek 6th order'!$P$28*10^-6)) -> 2.5004844e-14 | AX28: =(SUM(AW28:AW43)/'O2N2 @ EGR'!$J15)*10^6 -> 17.734641 | AZ28: =EGR!C$44 -> 1641.8273 | BA28: =(((4.7*10^13)*'O2N2 @ EGR'!$H$16*('O2N2 @ EGR'!$G$16^0.5)*(EXP(-67837/AZ28))/('Goal Seek 6th order'!$P$27*6))*('Goal Seek 6th order'!$P$28*10^-6)) -> 3.1966014e-15 | BB28: =(SUM(BA28:BA43)/'O2N2 @ EGR'!$J16)*10^6 -> 3.2285158
B29: 1 | C29: 12 | D29: =D28*(C29/C28)^(('Goal Seek 6th order'!$P$26-1)/'Goal Seek 6th order'!$P$26) -> 2358.5536 | E29: =(((4.7*10^13)*'O2N2 @ EGR'!$H$4*('O2N2 @ EGR'!$G$4^0.5)*(EXP(-67837/D29))/('Goal Seek 6th order'!$P$27*6))*('Goal Seek 6th order'!$P$28*10^-6)) -> 0 | H29: =H28*(C29/C28)^(('Goal Seek 6th order'!$P$26-1)/'Goal Seek 6th order'!$P$26) -> 2343.1296 | I29: =(((4.7*10^13)*'O2N2 @ EGR'!$H$5*('O2N2 @ EGR'!$G$5^0.5)*(EXP(-67837/H29))/('Goal Seek 6th order'!$P$27*6))*('Goal Seek 6th order'!$P$28*10^-6)) -> 1.1753416e-10 | L29: =L28*(C29/C28)^(('Goal Seek 6th order'!$P$26-1)/'Goal Seek 6th order'!$P$26) -> 2327.617 | M29: =(((4.7*10^13)*'O2N2 @ EGR'!$H$6*('O2N2 @ EGR'!$G$6^0.5)*(EXP(-67837/L29))/('Goal Seek 6th order'!$P$27*6))*('Goal Seek 6th order'!$P$28*10^-6)) -> 1.3708498e-10 | P29: =P28*(C29/C28)^(('Goal Seek 6th order'!$P$26-1)/'Goal Seek 6th order'!$P$26) -> 2312.1071 | Q29: =(((4.7*10^13)*'O2N2 @ EGR'!$H$7*('O2N2 @ EGR'!$G$7^0.5)*(EXP(-67837/P29))/('Goal Seek 6th order'!$P$27*6))*('Goal Seek 6th order'!$P$28*10^-6)) -> 1.3811362e-10 | T29: =T28*(C29/C28)^(('Goal Seek 6th order'!$P$26-1)/'Goal Seek 6th order'!$P$26) -> 2296.5063 | U29: =(((4.7*10^13)*'O2N2 @ EGR'!$H$8*('O2N2 @ EGR'!$G$8^0.5)*(EXP(-67837/T29))/('Goal Seek 6th order'!$P$27*6))*('Goal Seek 6th order'!$P$28*10^-6)) -> 1.3069309e-10 | X29: =X28*(C29/C28)^(('Goal Seek 6th order'!$P$26-1)/'Goal Seek 6th order'!$P$26) -> 2280.8443 | Y29: =(((4.7*10^13)*'O2N2 @ EGR'!$H$9*('O2N2 @ EGR'!$G$9^0.5)*(EXP(-67837/X29))/('Goal Seek 6th order'!$P$27*6))*('Goal Seek 6th order'!$P$28*10^-6)) -> 1.1932298e-10 | AB29: =AB28*(C29/C28)^(('Goal Seek 6th order'!$P$26-1)/'Goal Seek 6th order'!$P$26) -> 2201.5797 | AC29: =(((4.7*10^13)*'O2N2 @ EGR'!$H$10*('O2N2 @ EGR'!$G$10^0.5)*(EXP(-67837/AB29))/('Goal Seek 6th order'!$P$27*6))*('Goal Seek 6th order'!$P$28*10^-6)) -> 5.7906526e-11 | AF29: =AF28*(C29/C28)^(('Goal Seek 6th order'!$P$26-1)/'Goal Seek 6th order'!$P$26) -> 2120.6278 | AG29: =(((4.7*10^13)*'O2N2 @ EGR'!$H$11*('O2N2 @ EGR'!$G$11^0.5)*(EXP(-67837/AF29))/('Goal Seek 6th order'!$P$27*6))*('Goal Seek 6th order'!$P$28*10^-6)) -> 2.1901775e-11 | AJ29: =AJ28*(C29/C28)^(('Goal Seek 6th order'!$P$26-1)/'Goal Seek 6th order'!$P$26) -> 2037.8575 | AK29: =(((4.7*10^13)*'O2N2 @ EGR'!$H$12*('O2N2 @ EGR'!$G$12^0.5)*(EXP(-67837/AJ29))/('Goal Seek 6th order'!$P$27*6))*('Goal Seek 6th order'!$P$28*10^-6)) -> 6.9058736e-12 | AN29: =AN28*(C29/C28)^(('Goal Seek 6th order'!$P$26-1)/'Goal Seek 6th order'!$P$26) -> 1953.139 | AO29: =(((4.7*10^13)*'O2N2 @ EGR'!$H$13*('O2N2 @ EGR'!$G$13^0.5)*(EXP(-67837/AN29))/('Goal Seek 6th order'!$P$27*6))*('Goal Seek 6th order'!$P$28*10^-6)) -> 1.8244621e-12 | AR29: =AR28*(C29/C28)^(('Goal Seek 6th order'!$P$26-1)/'Goal Seek 6th order'!$P$26) -> 1866.337 | AS29: =(((4.7*10^13)*'O2N2 @ EGR'!$H$14*('O2N2 @ EGR'!$G$14^0.5)*(EXP(-67837/AR29))/('Goal Seek 6th order'!$P$27*6))*('Goal Seek 6th order'!$P$28*10^-6)) -> 3.9784849e-13 | AV29: =AV28*(C29/C28)^(('Goal Seek 6th order'!$P$26-1)/'Goal Seek 6th order'!$P$26) -> 1777.3099 | AW29: =(((4.7*10^13)*'O2N2 @ EGR'!$H$15*('O2N2 @ EGR'!$G$15^0.5)*(EXP(-67837/AV29))/('Goal Seek 6th order'!$P$27*6))*('Goal Seek 6th order'!$P$28*10^-6)) -> 6.9665545e-14 | AZ29: =AZ28*(C29/C28)^(('Goal Seek 6th order'!$P$26-1)/'Goal Seek 6th order'!$P$26) -> 1685.9024 | BA29: =(((4.7*10^13)*'O2N2 @ EGR'!$H$16*('O2N2 @ EGR'!$G$16^0.5)*(EXP(-67837/AZ29))/('Goal Seek 6th order'!$P$27*6))*('Goal Seek 6th order'!$P$28*10^-6)) -> 9.4147628e-15
B30: 2 | C30: 14 | D30: =D29*(C30/C29)^(('Goal Seek 6th order'!$P$26-1)/'Goal Seek 6th order'!$P$26) -> 2411.9765 | E30: =(((4.7*10^13)*'O2N2 @ EGR'!$H$4*('O2N2 @ EGR'!$G$4^0.5)*(EXP(-67837/D30))/('Goal Seek 6th order'!$P$27*6))*('Goal Seek 6th order'!$P$28*10^-6)) -> 0 | H30: =H29*(C30/C29)^(('Goal Seek 6th order'!$P$26-1)/'Goal Seek 6th order'!$P$26) -> 2396.2031 | I30: =(((4.7*10^13)*'O2N2 @ EGR'!$H$5*('O2N2 @ EGR'!$G$5^0.5)*(EXP(-67837/H30))/('Goal Seek 6th order'!$P$27*6))*('Goal Seek 6th order'!$P$28*10^-6)) -> 2.2317906e-10 | L30: =L29*(C30/C29)^(('Goal Seek 6th order'!$P$26-1)/'Goal Seek 6th order'!$P$26) -> 2380.3391 | M30: =(((4.7*10^13)*'O2N2 @ EGR'!$H$6*('O2N2 @ EGR'!$G$6^0.5)*(EXP(-67837/L30))/('Goal Seek 6th order'!$P$27*6))*('Goal Seek 6th order'!$P$28*10^-6)) -> 2.6141784e-10 | P30: =P29*(C30/C29)^(('Goal Seek 6th order'!$P$26-1)/'Goal Seek 6th order'!$P$26) -> 2364.4779 | Q30: =(((4.7*10^13)*'O2N2 @ EGR'!$H$7*('O2N2 @ EGR'!$G$7^0.5)*(EXP(-67837/P30))/('Goal Seek 6th order'!$P$27*6))*('Goal Seek 6th order'!$P$28*10^-6)) -> 2.645224e-10 | T30: =T29*(C30/C29)^(('Goal Seek 6th order'!$P$26-1)/'Goal Seek 6th order'!$P$26) -> 2348.5237 | U30: =(((4.7*10^13)*'O2N2 @ EGR'!$H$8*('O2N2 @ EGR'!$G$8^0.5)*(EXP(-67837/T30))/('Goal Seek 6th order'!$P$27*6))*('Goal Seek 6th order'!$P$28*10^-6)) -> 2.5141768e-10 | X30: =X29*(C30/C29)^(('Goal Seek 6th order'!$P$26-1)/'Goal Seek 6th order'!$P$26) -> 2332.507 | Y30: =(((4.7*10^13)*'O2N2 @ EGR'!$H$9*('O2N2 @ EGR'!$G$9^0.5)*(EXP(-67837/X30))/('Goal Seek 6th order'!$P$27*6))*('Goal Seek 6th order'!$P$28*10^-6)) -> 2.3057829e-10 | AB30: =AB29*(C30/C29)^(('Goal Seek 6th order'!$P$26-1)/'Goal Seek 6th order'!$P$26) -> 2251.447 | AC30: =(((4.7*10^13)*'O2N2 @ EGR'!$H$10*('O2N2 @ EGR'!$G$10^0.5)*(EXP(-67837/AB30))/('Goal Seek 6th order'!$P$27*6))*('Goal Seek 6th order'!$P$28*10^-6)) -> 1.1458354e-10 | AF30: =AF29*(C30/C29)^(('Goal Seek 6th order'!$P$26-1)/'Goal Seek 6th order'!$P$26) -> 2168.6615 | AG30: =(((4.7*10^13)*'O2N2 @ EGR'!$H$11*('O2N2 @ EGR'!$G$11^0.5)*(EXP(-67837/AF30))/('Goal Seek 6th order'!$P$27*6))*('Goal Seek 6th order'!$P$28*10^-6)) -> 4.4482426e-11 | AJ30: =AJ29*(C30/C29)^(('Goal Seek 6th order'!$P$26-1)/'Goal Seek 6th order'!$P$26) -> 2084.0164 | AK30: =(((4.7*10^13)*'O2N2 @ EGR'!$H$12*('O2N2 @ EGR'!$G$12^0.5)*(EXP(-67837/AJ30))/('Goal Seek 6th order'!$P$27*6))*('Goal Seek 6th order'!$P$28*10^-6)) -> 1.4435299e-11 | AN30: =AN29*(C30/C29)^(('Goal Seek 6th order'!$P$26-1)/'Goal Seek 6th order'!$P$26) -> 1997.3789 | AO30: =(((4.7*10^13)*'O2N2 @ EGR'!$H$13*('O2N2 @ EGR'!$G$13^0.5)*(EXP(-67837/AN30))/('Goal Seek 6th order'!$P$27*6))*('Goal Seek 6th order'!$P$28*10^-6)) -> 3.9375963e-12 | AR30: =AR29*(C30/C29)^(('Goal Seek 6th order'!$P$26-1)/'Goal Seek 6th order'!$P$26) -> 1908.6108 | AS30: =(((4.7*10^13)*'O2N2 @ EGR'!$H$14*('O2N2 @ EGR'!$G$14^0.5)*(EXP(-67837/AR30))/('Goal Seek 6th order'!$P$27*6))*('Goal Seek 6th order'!$P$28*10^-6)) -> 8.8992345e-13 | AV30: =AV29*(C30/C29)^(('Goal Seek 6th order'!$P$26-1)/'Goal Seek 6th order'!$P$26) -> 1817.5672 | AW30: =(((4.7*10^13)*'O2N2 @ EGR'!$H$15*('O2N2 @ EGR'!$G$15^0.5)*(EXP(-67837/AV30))/('Goal Seek 6th order'!$P$27*6))*('Goal Seek 6th order'!$P$28*10^-6)) -> 1.622432e-13 | AZ30: =AZ29*(C30/C29)^(('Goal Seek 6th order'!$P$26-1)/'Goal Seek 6th order'!$P$26) -> 1724.0893 | BA30: =(((4.7*10^13)*'O2N2 @ EGR'!$H$16*('O2N2 @ EGR'!$G$16^0.5)*(EXP(-67837/AZ30))/('Goal Seek 6th order'!$P$27*6))*('Goal Seek 6th order'!$P$28*10^-6)) -> 2.2954306e-14
B31: 3 | C31: 16 | D31: =D30*(C31/C30)^(('Goal Seek 6th order'!$P$26-1)/'Goal Seek 6th order'!$P$26) -> 2459.2306 | E31: =(((4.7*10^13)*'O2N2 @ EGR'!$H$4*('O2N2 @ EGR'!$G$4^0.5)*(EXP(-67837/D31))/('Goal Seek 6th order'!$P$27*6))*('Goal Seek 6th order'!$P$28*10^-6)) -> 0 | H31: =H30*(C31/C30)^(('Goal Seek 6th order'!$P$26-1)/'Goal Seek 6th order'!$P$26) -> 2443.1482 | I31: =(((4.7*10^13)*'O2N2 @ EGR'!$H$5*('O2N2 @ EGR'!$G$5^0.5)*(EXP(-67837/H31))/('Goal Seek 6th order'!$P$27*6))*('Goal Seek 6th order'!$P$28*10^-6)) -> 3.845042e-10 | L31: =L30*(C31/C30)^(('Goal Seek 6th order'!$P$26-1)/'Goal Seek 6th order'!$P$26) -> 2426.9734 | M31: =(((4.7*10^13)*'O2N2 @ EGR'!$H$6*('O2N2 @ EGR'!$G$6^0.5)*(EXP(-67837/L31))/('Goal Seek 6th order'!$P$27*6))*('Goal Seek 6th order'!$P$28*10^-6)) -> 4.5201969e-10 | P31: =P30*(C31/C30)^(('Goal Seek 6th order'!$P$26-1)/'Goal Seek 6th order'!$P$26) -> 2410.8014 | Q31: =(((4.7*10^13)*'O2N2 @ EGR'!$H$7*('O2N2 @ EGR'!$G$7^0.5)*(EXP(-67837/P31))/('Goal Seek 6th order'!$P$27*6))*('Goal Seek 6th order'!$P$28*10^-6)) -> 4.5907109e-10 | T31: =T30*(C31/C30)^(('Goal Seek 6th order'!$P$26-1)/'Goal Seek 6th order'!$P$26) -> 2394.5346 | U31: =(((4.7*10^13)*'O2N2 @ EGR'!$H$8*('O2N2 @ EGR'!$G$8^0.5)*(EXP(-67837/T31))/('Goal Seek 6th order'!$P$27*6))*('Goal Seek 6th order'!$P$28*10^-6)) -> 4.3796532e-10 | X31: =X30*(C31/C30)^(('Goal Seek 6th order'!$P$26-1)/'Goal Seek 6th order'!$P$26) -> 2378.2042 | Y31: =(((4.7*10^13)*'O2N2 @ EGR'!$H$9*('O2N2 @ EGR'!$G$9^0.5)*(EXP(-67837/X31))/('Goal Seek 6th order'!$P$27*6))*('Goal Seek 6th order'!$P$28*10^-6)) -> 4.0319719e-10 | AB31: =AB30*(C31/C30)^(('Goal Seek 6th order'!$P$26-1)/'Goal Seek 6th order'!$P$26) -> 2295.5561 | AC31: =(((4.7*10^13)*'O2N2 @ EGR'!$H$10*('O2N2 @ EGR'!$G$10^0.5)*(EXP(-67837/AB31))/('Goal Seek 6th order'!$P$27*6))*('Goal Seek 6th order'!$P$28*10^-6)) -> 2.0443693e-10 | AF31: =AF30*(C31/C30)^(('Goal Seek 6th order'!$P$26-1)/'Goal Seek 6th order'!$P$26) -> 2211.1486 | AG31: =(((4.7*10^13)*'O2N2 @ EGR'!$H$11*('O2N2 @ EGR'!$G$11^0.5)*(EXP(-67837/AF31))/('Goal Seek 6th order'!$P$27*6))*('Goal Seek 6th order'!$P$28*10^-6)) -> 8.1137912e-11 | AJ31: =AJ30*(C31/C30)^(('Goal Seek 6th order'!$P$26-1)/'Goal Seek 6th order'!$P$26) -> 2124.8453 | AK31: =(((4.7*10^13)*'O2N2 @ EGR'!$H$12*('O2N2 @ EGR'!$G$12^0.5)*(EXP(-67837/AJ31))/('Goal Seek 6th order'!$P$27*6))*('Goal Seek 6th order'!$P$28*10^-6)) -> 2.6981336e-11 | AN31: =AN30*(C31/C30)^(('Goal Seek 6th order'!$P$26-1)/'Goal Seek 6th order'!$P$26) -> 2036.5105 | AO31: =(((4.7*10^13)*'O2N2 @ EGR'!$H$13*('O2N2 @ EGR'!$G$13^0.5)*(EXP(-67837/AN31))/('Goal Seek 6th order'!$P$27*6))*('Goal Seek 6th order'!$P$28*10^-6)) -> 7.5622544e-12 | AR31: =AR30*(C31/C30)^(('Goal Seek 6th order'!$P$26-1)/'Goal Seek 6th order'!$P$26) -> 1946.0032 | AS31: =(((4.7*10^13)*'O2N2 @ EGR'!$H$14*('O2N2 @ EGR'!$G$14^0.5)*(EXP(-67837/AR31))/('Goal Seek 6th order'!$P$27*6))*('Goal Seek 6th order'!$P$28*10^-6)) -> 1.7617911e-12 | AV31: =AV30*(C31/C30)^(('Goal Seek 6th order'!$P$26-1)/'Goal Seek 6th order'!$P$26) -> 1853.176 | AW31: =(((4.7*10^13)*'O2N2 @ EGR'!$H$15*('O2N2 @ EGR'!$G$15^0.5)*(EXP(-67837/AV31))/('Goal Seek 6th order'!$P$27*6))*('Goal Seek 6th order'!$P$28*10^-6)) -> 3.3237268e-13 | AZ31: =AZ30*(C31/C30)^(('Goal Seek 6th order'!$P$26-1)/'Goal Seek 6th order'!$P$26) -> 1757.8666 | BA31: =(((4.7*10^13)*'O2N2 @ EGR'!$H$16*('O2N2 @ EGR'!$G$16^0.5)*(EXP(-67837/AZ31))/('Goal Seek 6th order'!$P$27*6))*('Goal Seek 6th order'!$P$28*10^-6)) -> 4.8888857e-14
B32: 4 | C32: 18 | D32: =D31*(C32/C31)^(('Goal Seek 6th order'!$P$26-1)/'Goal Seek 6th order'!$P$26) -> 2501.6795 | E32: =(((4.7*10^13)*'O2N2 @ EGR'!$H$4*('O2N2 @ EGR'!$G$4^0.5)*(EXP(-67837/D32))/('Goal Seek 6th order'!$P$27*6))*('Goal Seek 6th order'!$P$28*10^-6)) -> 0 | H32: =H31*(C32/C31)^(('Goal Seek 6th order'!$P$26-1)/'Goal Seek 6th order'!$P$26) -> 2485.3195 | I32: =(((4.7*10^13)*'O2N2 @ EGR'!$H$5*('O2N2 @ EGR'!$G$5^0.5)*(EXP(-67837/H32))/('Goal Seek 6th order'!$P$27*6))*('Goal Seek 6th order'!$P$28*10^-6)) -> 6.1590738e-10 | L32: =L31*(C32/C31)^(('Goal Seek 6th order'!$P$26-1)/'Goal Seek 6th order'!$P$26) -> 2468.8655 | M32: =(((4.7*10^13)*'O2N2 @ EGR'!$H$6*('O2N2 @ EGR'!$G$6^0.5)*(EXP(-67837/L32))/('Goal Seek 6th order'!$P$27*6))*('Goal Seek 6th order'!$P$28*10^-6)) -> 7.2633228e-10 | P32: =P31*(C32/C31)^(('Goal Seek 6th order'!$P$26-1)/'Goal Seek 6th order'!$P$26) -> 2452.4143 | Q32: =(((4.7*10^13)*'O2N2 @ EGR'!$H$7*('O2N2 @ EGR'!$G$7^0.5)*(EXP(-67837/P32))/('Goal Seek 6th order'!$P$27*6))*('Goal Seek 6th order'!$P$28*10^-6)) -> 7.4001354e-10 | T32: =T31*(C32/C31)^(('Goal Seek 6th order'!$P$26-1)/'Goal Seek 6th order'!$P$26) -> 2435.8668 | U32: =(((4.7*10^13)*'O2N2 @ EGR'!$H$8*('O2N2 @ EGR'!$G$8^0.5)*(EXP(-67837/T32))/('Goal Seek 6th order'!$P$27*6))*('Goal Seek 6th order'!$P$28*10^-6)) -> 7.0828509e-10 | X32: =X31*(C32/C31)^(('Goal Seek 6th order'!$P$26-1)/'Goal Seek 6th order'!$P$26) -> 2419.2545 | Y32: =(((4.7*10^13)*'O2N2 @ EGR'!$H$9*('O2N2 @ EGR'!$G$9^0.5)*(EXP(-67837/X32))/('Goal Seek 6th order'!$P$27*6))*('Goal Seek 6th order'!$P$28*10^-6)) -> 6.5421339e-10 | AB32: =AB31*(C32/C31)^(('Goal Seek 6th order'!$P$26-1)/'Goal Seek 6th order'!$P$26) -> 2335.1798 | AC32: =(((4.7*10^13)*'O2N2 @ EGR'!$H$10*('O2N2 @ EGR'!$G$10^0.5)*(EXP(-67837/AB32))/('Goal Seek 6th order'!$P$27*6))*('Goal Seek 6th order'!$P$28*10^-6)) -> 3.3754314e-10 | AF32: =AF31*(C32/C31)^(('Goal Seek 6th order'!$P$26-1)/'Goal Seek 6th order'!$P$26) -> 2249.3154 | AG32: =(((4.7*10^13)*'O2N2 @ EGR'!$H$11*('O2N2 @ EGR'!$G$11^0.5)*(EXP(-67837/AF32))/('Goal Seek 6th order'!$P$27*6))*('Goal Seek 6th order'!$P$28*10^-6)) -> 1.3655475e-10 | AJ32: =AJ31*(C32/C31)^(('Goal Seek 6th order'!$P$26-1)/'Goal Seek 6th order'!$P$26) -> 2161.5223 | AK32: =(((4.7*10^13)*'O2N2 @ EGR'!$H$12*('O2N2 @ EGR'!$G$12^0.5)*(EXP(-67837/AJ32))/('Goal Seek 6th order'!$P$27*6))*('Goal Seek 6th order'!$P$28*10^-6)) -> 4.6379825e-11 | AN32: =AN31*(C32/C31)^(('Goal Seek 6th order'!$P$26-1)/'Goal Seek 6th order'!$P$26) -> 2071.6628 | AO32: =(((4.7*10^13)*'O2N2 @ EGR'!$H$13*('O2N2 @ EGR'!$G$13^0.5)*(EXP(-67837/AN32))/('Goal Seek 6th order'!$P$27*6))*('Goal Seek 6th order'!$P$28*10^-6)) -> 1.3308273e-11 | AR32: =AR31*(C32/C31)^(('Goal Seek 6th order'!$P$26-1)/'Goal Seek 6th order'!$P$26) -> 1979.5932 | AS32: =(((4.7*10^13)*'O2N2 @ EGR'!$H$14*('O2N2 @ EGR'!$G$14^0.5)*(EXP(-67837/AR32))/('Goal Seek 6th order'!$P$27*6))*('Goal Seek 6th order'!$P$28*10^-6)) -> 3.1830358e-12 | AV32: =AV31*(C32/C31)^(('Goal Seek 6th order'!$P$26-1)/'Goal Seek 6th order'!$P$26) -> 1885.1637 | AW32: =(((4.7*10^13)*'O2N2 @ EGR'!$H$15*('O2N2 @ EGR'!$G$15^0.5)*(EXP(-67837/AV32))/('Goal Seek 6th order'!$P$27*6))*('Goal Seek 6th order'!$P$28*10^-6)) -> 6.1855755e-13 | AZ32: =AZ31*(C32/C31)^(('Goal Seek 6th order'!$P$26-1)/'Goal Seek 6th order'!$P$26) -> 1788.2093 | BA32: =(((4.7*10^13)*'O2N2 @ EGR'!$H$16*('O2N2 @ EGR'!$G$16^0.5)*(EXP(-67837/AZ32))/('Goal Seek 6th order'!$P$27*6))*('Goal Seek 6th order'!$P$28*10^-6)) -> 9.4100178e-14
B33: 5 | C33: 20 | D33: =D32*(C33/C32)^(('Goal Seek 6th order'!$P$26-1)/'Goal Seek 6th order'!$P$26) -> 2540.2718 | E33: =(((4.7*10^13)*'O2N2 @ EGR'!$H$4*('O2N2 @ EGR'!$G$4^0.5)*(EXP(-67837/D33))/('Goal Seek 6th order'!$P$27*6))*('Goal Seek 6th order'!$P$28*10^-6)) -> 0 | H33: =H32*(C33/C32)^(('Goal Seek 6th order'!$P$26-1)/'Goal Seek 6th order'!$P$26) -> 2523.6594 | I33: =(((4.7*10^13)*'O2N2 @ EGR'!$H$5*('O2N2 @ EGR'!$G$5^0.5)*(EXP(-67837/H33))/('Goal Seek 6th order'!$P$27*6))*('Goal Seek 6th order'!$P$28*10^-6)) -> 9.3240679e-10 | L33: =L32*(C33/C32)^(('Goal Seek 6th order'!$P$26-1)/'Goal Seek 6th order'!$P$26) -> 2506.9516 | M33: =(((4.7*10^13)*'O2N2 @ EGR'!$H$6*('O2N2 @ EGR'!$G$6^0.5)*(EXP(-67837/L33))/('Goal Seek 6th order'!$P$27*6))*('Goal Seek 6th order'!$P$28*10^-6)) -> 1.1026193e-09 | P33: =P32*(C33/C32)^(('Goal Seek 6th order'!$P$26-1)/'Goal Seek 6th order'!$P$26) -> 2490.2467 | Q33: =(((4.7*10^13)*'O2N2 @ EGR'!$H$7*('O2N2 @ EGR'!$G$7^0.5)*(EXP(-67837/P33))/('Goal Seek 6th order'!$P$27*6))*('Goal Seek 6th order'!$P$28*10^-6)) -> 1.1265385e-09 | T33: =T32*(C33/C32)^(('Goal Seek 6th order'!$P$26-1)/'Goal Seek 6th order'!$P$26) -> 2473.4439 | U33: =(((4.7*10^13)*'O2N2 @ EGR'!$H$8*('O2N2 @ EGR'!$G$8^0.5)*(EXP(-67837/T33))/('Goal Seek 6th order'!$P$27*6))*('Goal Seek 6th order'!$P$28*10^-6)) -> 1.0813201e-09 | X33: =X32*(C33/C32)^(('Goal Seek 6th order'!$P$26-1)/'Goal Seek 6th order'!$P$26) -> 2456.5753 | Y33: =(((4.7*10^13)*'O2N2 @ EGR'!$H$9*('O2N2 @ EGR'!$G$9^0.5)*(EXP(-67837/X33))/('Goal Seek 6th order'!$P$27*6))*('Goal Seek 6th order'!$P$28*10^-6)) -> 1.0016762e-09 | AB33: =AB32*(C33/C32)^(('Goal Seek 6th order'!$P$26-1)/'Goal Seek 6th order'!$P$26) -> 2371.2036 | AC33: =(((4.7*10^13)*'O2N2 @ EGR'!$H$10*('O2N2 @ EGR'!$G$10^0.5)*(EXP(-67837/AB33))/('Goal Seek 6th order'!$P$27*6))*('Goal Seek 6th order'!$P$28*10^-6)) -> 5.2480521e-10 | AF33: =AF32*(C33/C32)^(('Goal Seek 6th order'!$P$26-1)/'Goal Seek 6th order'!$P$26) -> 2284.0146 | AG33: =(((4.7*10^13)*'O2N2 @ EGR'!$H$11*('O2N2 @ EGR'!$G$11^0.5)*(EXP(-67837/AF33))/('Goal Seek 6th order'!$P$27*6))*('Goal Seek 6th order'!$P$28*10^-6)) -> 2.1591975e-10 | AJ33: =AJ32*(C33/C32)^(('Goal Seek 6th order'!$P$26-1)/'Goal Seek 6th order'!$P$26) -> 2194.8672 | AK33: =(((4.7*10^13)*'O2N2 @ EGR'!$H$12*('O2N2 @ EGR'!$G$12^0.5)*(EXP(-67837/AJ33))/('Goal Seek 6th order'!$P$27*6))*('Goal Seek 6th order'!$P$28*10^-6)) -> 7.471309e-11 | AN33: =AN32*(C33/C32)^(('Goal Seek 6th order'!$P$26-1)/'Goal Seek 6th order'!$P$26) -> 2103.6214 | AO33: =(((4.7*10^13)*'O2N2 @ EGR'!$H$13*('O2N2 @ EGR'!$G$13^0.5)*(EXP(-67837/AN33))/('Goal Seek 6th order'!$P$27*6))*('Goal Seek 6th order'!$P$28*10^-6)) -> 2.1886232e-11 | AR33: =AR32*(C33/C32)^(('Goal Seek 6th order'!$P$26-1)/'Goal Seek 6th order'!$P$26) -> 2010.1316 | AS33: =(((4.7*10^13)*'O2N2 @ EGR'!$H$14*('O2N2 @ EGR'!$G$14^0.5)*(EXP(-67837/AR33))/('Goal Seek 6th order'!$P$27*6))*('Goal Seek 6th order'!$P$28*10^-6)) -> 5.3572152e-12 | AV33: =AV32*(C33/C32)^(('Goal Seek 6th order'!$P$26-1)/'Goal Seek 6th order'!$P$26) -> 1914.2453 | AW33: =(((4.7*10^13)*'O2N2 @ EGR'!$H$15*('O2N2 @ EGR'!$G$15^0.5)*(EXP(-67837/AV33))/('Goal Seek 6th order'!$P$27*6))*('Goal Seek 6th order'!$P$28*10^-6)) -> 1.0685703e-12 | AZ33: =AZ32*(C33/C32)^(('Goal Seek 6th order'!$P$26-1)/'Goal Seek 6th order'!$P$26) -> 1815.7952 | BA33: =(((4.7*10^13)*'O2N2 @ EGR'!$H$16*('O2N2 @ EGR'!$G$16^0.5)*(EXP(-67837/AZ33))/('Goal Seek 6th order'!$P$27*6))*('Goal Seek 6th order'!$P$28*10^-6)) -> 1.6745041e-13
B34: 6 | C34: 22 | D34: =D33*(C34/C33)^(('Goal Seek 6th order'!$P$26-1)/'Goal Seek 6th order'!$P$26) -> 2575.6954 | E34: =(((4.7*10^13)*'O2N2 @ EGR'!$H$4*('O2N2 @ EGR'!$G$4^0.5)*(EXP(-67837/D34))/('Goal Seek 6th order'!$P$27*6))*('Goal Seek 6th order'!$P$28*10^-6)) -> 0 | H34: =H33*(C34/C33)^(('Goal Seek 6th order'!$P$26-1)/'Goal Seek 6th order'!$P$26) -> 2558.8514 | I34: =(((4.7*10^13)*'O2N2 @ EGR'!$H$5*('O2N2 @ EGR'!$G$5^0.5)*(EXP(-67837/H34))/('Goal Seek 6th order'!$P$27*6))*('Goal Seek 6th order'!$P$28*10^-6)) -> 1.3494556e-09 | L34: =L33*(C34/C33)^(('Goal Seek 6th order'!$P$26-1)/'Goal Seek 6th order'!$P$26) -> 2541.9106 | M34: =(((4.7*10^13)*'O2N2 @ EGR'!$H$6*('O2N2 @ EGR'!$G$6^0.5)*(EXP(-67837/L34))/('Goal Seek 6th order'!$P$27*6))*('Goal Seek 6th order'!$P$28*10^-6)) -> 1.5997377e-09 | P34: =P33*(C34/C33)^(('Goal Seek 6th order'!$P$26-1)/'Goal Seek 6th order'!$P$26) -> 2524.9727 | Q34: =(((4.7*10^13)*'O2N2 @ EGR'!$H$7*('O2N2 @ EGR'!$G$7^0.5)*(EXP(-67837/P34))/('Goal Seek 6th order'!$P$27*6))*('Goal Seek 6th order'!$P$28*10^-6)) -> 1.6385263e-09 | T34: =T33*(C34/C33)^(('Goal Seek 6th order'!$P$26-1)/'Goal Seek 6th order'!$P$26) -> 2507.9356 | U34: =(((4.7*10^13)*'O2N2 @ EGR'!$H$8*('O2N2 @ EGR'!$G$8^0.5)*(EXP(-67837/T34))/('Goal Seek 6th order'!$P$27*6))*('Goal Seek 6th order'!$P$28*10^-6)) -> 1.576765e-09 | X34: =X33*(C34/C33)^(('Goal Seek 6th order'!$P$26-1)/'Goal Seek 6th order'!$P$26) -> 2490.8318 | Y34: =(((4.7*10^13)*'O2N2 @ EGR'!$H$9*('O2N2 @ EGR'!$G$9^0.5)*(EXP(-67837/X34))/('Goal Seek 6th order'!$P$27*6))*('Goal Seek 6th order'!$P$28*10^-6)) -> 1.4644174e-09 | AB34: =AB33*(C34/C33)^(('Goal Seek 6th order'!$P$26-1)/'Goal Seek 6th order'!$P$26) -> 2404.2696 | AC34: =(((4.7*10^13)*'O2N2 @ EGR'!$H$10*('O2N2 @ EGR'!$G$10^0.5)*(EXP(-67837/AB34))/('Goal Seek 6th order'!$P$27*6))*('Goal Seek 6th order'!$P$28*10^-6)) -> 7.7781088e-10 | AF34: =AF33*(C34/C33)^(('Goal Seek 6th order'!$P$26-1)/'Goal Seek 6th order'!$P$26) -> 2315.8648 | AG34: =(((4.7*10^13)*'O2N2 @ EGR'!$H$11*('O2N2 @ EGR'!$G$11^0.5)*(EXP(-67837/AF34))/('Goal Seek 6th order'!$P$27*6))*('Goal Seek 6th order'!$P$28*10^-6)) -> 3.2485621e-10 | AJ34: =AJ33*(C34/C33)^(('Goal Seek 6th order'!$P$26-1)/'Goal Seek 6th order'!$P$26) -> 2225.4743 | AK34: =(((4.7*10^13)*'O2N2 @ EGR'!$H$12*('O2N2 @ EGR'!$G$12^0.5)*(EXP(-67837/AJ34))/('Goal Seek 6th order'!$P$27*6))*('Goal Seek 6th order'!$P$28*10^-6)) -> 1.1428804e-10 | AN34: =AN33*(C34/C33)^(('Goal Seek 6th order'!$P$26-1)/'Goal Seek 6th order'!$P$26) -> 2132.9561 | AO34: =(((4.7*10^13)*'O2N2 @ EGR'!$H$13*('O2N2 @ EGR'!$G$13^0.5)*(EXP(-67837/AN34))/('Goal Seek 6th order'!$P$27*6))*('Goal Seek 6th order'!$P$28*10^-6)) -> 3.41022e-11 | AR34: =AR33*(C34/C33)^(('Goal Seek 6th order'!$P$26-1)/'Goal Seek 6th order'!$P$26) -> 2038.1625 | AS34: =(((4.7*10^13)*'O2N2 @ EGR'!$H$14*('O2N2 @ EGR'!$G$14^0.5)*(EXP(-67837/AR34))/('Goal Seek 6th order'!$P$27*6))*('Goal Seek 6th order'!$P$28*10^-6)) -> 8.5213564e-12 | AV34: =AV33*(C34/C33)^(('Goal Seek 6th order'!$P$26-1)/'Goal Seek 6th order'!$P$26) -> 1940.9391 | AW34: =(((4.7*10^13)*'O2N2 @ EGR'!$H$15*('O2N2 @ EGR'!$G$15^0.5)*(EXP(-67837/AV34))/('Goal Seek 6th order'!$P$27*6))*('Goal Seek 6th order'!$P$28*10^-6)) -> 1.7396808e-12 | AZ34: =AZ33*(C34/C33)^(('Goal Seek 6th order'!$P$26-1)/'Goal Seek 6th order'!$P$26) -> 1841.1162 | BA34: =(((4.7*10^13)*'O2N2 @ EGR'!$H$16*('O2N2 @ EGR'!$G$16^0.5)*(EXP(-67837/AZ34))/('Goal Seek 6th order'!$P$27*6))*('Goal Seek 6th order'!$P$28*10^-6)) -> 2.7991679e-13
B35: 7 | C35: 24 | D35: =D34*(C35/C34)^(('Goal Seek 6th order'!$P$26-1)/'Goal Seek 6th order'!$P$26) -> 2608.4659 | E35: =(((4.7*10^13)*'O2N2 @ EGR'!$H$4*('O2N2 @ EGR'!$G$4^0.5)*(EXP(-67837/D35))/('Goal Seek 6th order'!$P$27*6))*('Goal Seek 6th order'!$P$28*10^-6)) -> 0 | H35: =H34*(C35/C34)^(('Goal Seek 6th order'!$P$26-1)/'Goal Seek 6th order'!$P$26) -> 2591.4075 | I35: =(((4.7*10^13)*'O2N2 @ EGR'!$H$5*('O2N2 @ EGR'!$G$5^0.5)*(EXP(-67837/H35))/('Goal Seek 6th order'!$P$27*6))*('Goal Seek 6th order'!$P$28*10^-6)) -> 1.8827961e-09 | L35: =L34*(C35/C34)^(('Goal Seek 6th order'!$P$26-1)/'Goal Seek 6th order'!$P$26) -> 2574.2512 | M35: =(((4.7*10^13)*'O2N2 @ EGR'!$H$6*('O2N2 @ EGR'!$G$6^0.5)*(EXP(-67837/L35))/('Goal Seek 6th order'!$P$27*6))*('Goal Seek 6th order'!$P$28*10^-6)) -> 2.2369562e-09 | P35: =P34*(C35/C34)^(('Goal Seek 6th order'!$P$26-1)/'Goal Seek 6th order'!$P$26) -> 2557.0978 | Q35: =(((4.7*10^13)*'O2N2 @ EGR'!$H$7*('O2N2 @ EGR'!$G$7^0.5)*(EXP(-67837/P35))/('Goal Seek 6th order'!$P$27*6))*('Goal Seek 6th order'!$P$28*10^-6)) -> 2.2963542e-09 | T35: =T34*(C35/C34)^(('Goal Seek 6th order'!$P$26-1)/'Goal Seek 6th order'!$P$26) -> 2539.8439 | U35: =(((4.7*10^13)*'O2N2 @ EGR'!$H$8*('O2N2 @ EGR'!$G$8^0.5)*(EXP(-67837/T35))/('Goal Seek 6th order'!$P$27*6))*('Goal Seek 6th order'!$P$28*10^-6)) -> 2.21487e-09 | X35: =X34*(C35/C34)^(('Goal Seek 6th order'!$P$26-1)/'Goal Seek 6th order'!$P$26) -> 2522.5225 | Y35: =(((4.7*10^13)*'O2N2 @ EGR'!$H$9*('O2N2 @ EGR'!$G$9^0.5)*(EXP(-67837/X35))/('Goal Seek 6th order'!$P$27*6))*('Goal Seek 6th order'!$P$28*10^-6)) -> 2.0618618e-09 | AB35: =AB34*(C35/C34)^(('Goal Seek 6th order'!$P$26-1)/'Goal Seek 6th order'!$P$26) -> 2434.859 | AC35: =(((4.7*10^13)*'O2N2 @ EGR'!$H$10*('O2N2 @ EGR'!$G$10^0.5)*(EXP(-67837/AB35))/('Goal Seek 6th order'!$P$27*6))*('Goal Seek 6th order'!$P$28*10^-6)) -> 1.1087116e-09 | AF35: =AF34*(C35/C34)^(('Goal Seek 6th order'!$P$26-1)/'Goal Seek 6th order'!$P$26) -> 2345.3294 | AG35: =(((4.7*10^13)*'O2N2 @ EGR'!$H$11*('O2N2 @ EGR'!$G$11^0.5)*(EXP(-67837/AF35))/('Goal Seek 6th order'!$P$27*6))*('Goal Seek 6th order'!$P$28*10^-6)) -> 4.6936682e-10 | AJ35: =AJ34*(C35/C34)^(('Goal Seek 6th order'!$P$26-1)/'Goal Seek 6th order'!$P$26) -> 2253.7888 | AK35: =(((4.7*10^13)*'O2N2 @ EGR'!$H$12*('O2N2 @ EGR'!$G$12^0.5)*(EXP(-67837/AJ35))/('Goal Seek 6th order'!$P$27*6))*('Goal Seek 6th order'!$P$28*10^-6)) -> 1.6761518e-10 | AN35: =AN34*(C35/C34)^(('Goal Seek 6th order'!$P$26-1)/'Goal Seek 6th order'!$P$26) -> 2160.0935 | AO35: =(((4.7*10^13)*'O2N2 @ EGR'!$H$13*('O2N2 @ EGR'!$G$13^0.5)*(EXP(-67837/AN35))/('Goal Seek 6th order'!$P$27*6))*('Goal Seek 6th order'!$P$28*10^-6)) -> 5.0852096e-11 | AR35: =AR34*(C35/C34)^(('Goal Seek 6th order'!$P$26-1)/'Goal Seek 6th order'!$P$26) -> 2064.0939 | AS35: =(((4.7*10^13)*'O2N2 @ EGR'!$H$14*('O2N2 @ EGR'!$G$14^0.5)*(EXP(-67837/AR35))/('Goal Seek 6th order'!$P$27*6))*('Goal Seek 6th order'!$P$28*10^-6)) -> 1.2945111e-11 | AV35: =AV34*(C35/C34)^(('Goal Seek 6th order'!$P$26-1)/'Goal Seek 6th order'!$P$26) -> 1965.6336 | AW35: =(((4.7*10^13)*'O2N2 @ EGR'!$H$15*('O2N2 @ EGR'!$G$15^0.5)*(EXP(-67837/AV35))/('Goal Seek 6th order'!$P$27*6))*('Goal Seek 6th order'!$P$28*10^-6)) -> 2.698752e-12 | AZ35: =AZ34*(C35/C34)^(('Goal Seek 6th order'!$P$26-1)/'Goal Seek 6th order'!$P$26) -> 1864.5406 | BA35: =(((4.7*10^13)*'O2N2 @ EGR'!$H$16*('O2N2 @ EGR'!$G$16^0.5)*(EXP(-67837/AZ35))/('Goal Seek 6th order'!$P$27*6))*('Goal Seek 6th order'!$P$28*10^-6)) -> 4.4469426e-13
B36: 8 | C36: 26 | D36: =D35*(C36/C35)^(('Goal Seek 6th order'!$P$26-1)/'Goal Seek 6th order'!$P$26) -> 2638.9798 | E36: =(((4.7*10^13)*'O2N2 @ EGR'!$H$4*('O2N2 @ EGR'!$G$4^0.5)*(EXP(-67837/D36))/('Goal Seek 6th order'!$P$27*6))*('Goal Seek 6th order'!$P$28*10^-6)) -> 0 | H36: =H35*(C36/C35)^(('Goal Seek 6th order'!$P$26-1)/'Goal Seek 6th order'!$P$26) -> 2621.7219 | I36: =(((4.7*10^13)*'O2N2 @ EGR'!$H$5*('O2N2 @ EGR'!$G$5^0.5)*(EXP(-67837/H36))/('Goal Seek 6th order'!$P$27*6))*('Goal Seek 6th order'!$P$28*10^-6)) -> 2.5483453e-09 | L36: =L35*(C36/C35)^(('Goal Seek 6th order'!$P$26-1)/'Goal Seek 6th order'!$P$26) -> 2604.3649 | M36: =(((4.7*10^13)*'O2N2 @ EGR'!$H$6*('O2N2 @ EGR'!$G$6^0.5)*(EXP(-67837/L36))/('Goal Seek 6th order'!$P$27*6))*('Goal Seek 6th order'!$P$28*10^-6)) -> 3.0338112e-09 | P36: =P35*(C36/C35)^(('Goal Seek 6th order'!$P$26-1)/'Goal Seek 6th order'!$P$26) -> 2587.0108 | Q36: =(((4.7*10^13)*'O2N2 @ EGR'!$H$7*('O2N2 @ EGR'!$G$7^0.5)*(EXP(-67837/P36))/('Goal Seek 6th order'!$P$27*6))*('Goal Seek 6th order'!$P$28*10^-6)) -> 3.1207404e-09 | T36: =T35*(C36/C35)^(('Goal Seek 6th order'!$P$26-1)/'Goal Seek 6th order'!$P$26) -> 2569.5551 | U36: =(((4.7*10^13)*'O2N2 @ EGR'!$H$8*('O2N2 @ EGR'!$G$8^0.5)*(EXP(-67837/T36))/('Goal Seek 6th order'!$P$27*6))*('Goal Seek 6th order'!$P$28*10^-6)) -> 3.0162824e-09 | X36: =X35*(C36/C35)^(('Goal Seek 6th order'!$P$26-1)/'Goal Seek 6th order'!$P$26) -> 2552.031 | Y36: =(((4.7*10^13)*'O2N2 @ EGR'!$H$9*('O2N2 @ EGR'!$G$9^0.5)*(EXP(-67837/X36))/('Goal Seek 6th order'!$P$27*6))*('Goal Seek 6th order'!$P$28*10^-6)) -> 2.8138719e-09 | AB36: =AB35*(C36/C35)^(('Goal Seek 6th order'!$P$26-1)/'Goal Seek 6th order'!$P$26) -> 2463.342 | AC36: =(((4.7*10^13)*'O2N2 @ EGR'!$H$10*('O2N2 @ EGR'!$G$10^0.5)*(EXP(-67837/AB36))/('Goal Seek 6th order'!$P$27*6))*('Goal Seek 6th order'!$P$28*10^-6)) -> 1.5301199e-09 | AF36: =AF35*(C36/C35)^(('Goal Seek 6th order'!$P$26-1)/'Goal Seek 6th order'!$P$26) -> 2372.7651 | AG36: =(((4.7*10^13)*'O2N2 @ EGR'!$H$11*('O2N2 @ EGR'!$G$11^0.5)*(EXP(-67837/AF36))/('Goal Seek 6th order'!$P$27*6))*('Goal Seek 6th order'!$P$28*10^-6)) -> 6.5578272e-10 | AJ36: =AJ35*(C36/C35)^(('Goal Seek 6th order'!$P$26-1)/'Goal Seek 6th order'!$P$26) -> 2280.1537 | AK36: =(((4.7*10^13)*'O2N2 @ EGR'!$H$12*('O2N2 @ EGR'!$G$12^0.5)*(EXP(-67837/AJ36))/('Goal Seek 6th order'!$P$27*6))*('Goal Seek 6th order'!$P$28*10^-6)) -> 2.3738888e-10 | AN36: =AN35*(C36/C35)^(('Goal Seek 6th order'!$P$26-1)/'Goal Seek 6th order'!$P$26) -> 2185.3624 | AO36: =(((4.7*10^13)*'O2N2 @ EGR'!$H$13*('O2N2 @ EGR'!$G$13^0.5)*(EXP(-67837/AN36))/('Goal Seek 6th order'!$P$27*6))*('Goal Seek 6th order'!$P$28*10^-6)) -> 7.3115921e-11 | AR36: =AR35*(C36/C35)^(('Goal Seek 6th order'!$P$26-1)/'Goal Seek 6th order'!$P$26) -> 2088.2398 | AS36: =(((4.7*10^13)*'O2N2 @ EGR'!$H$14*('O2N2 @ EGR'!$G$14^0.5)*(EXP(-67837/AR36))/('Goal Seek 6th order'!$P$27*6))*('Goal Seek 6th order'!$P$28*10^-6)) -> 1.8929692e-11 | AV36: =AV35*(C36/C35)^(('Goal Seek 6th order'!$P$26-1)/'Goal Seek 6th order'!$P$26) -> 1988.6276 | AW36: =(((4.7*10^13)*'O2N2 @ EGR'!$H$15*('O2N2 @ EGR'!$G$15^0.5)*(EXP(-67837/AV36))/('Goal Seek 6th order'!$P$27*6))*('Goal Seek 6th order'!$P$28*10^-6)) -> 4.0222367e-12 | AZ36: =AZ35*(C36/C35)^(('Goal Seek 6th order'!$P$26-1)/'Goal Seek 6th order'!$P$26) -> 1886.352 | BA36: =(((4.7*10^13)*'O2N2 @ EGR'!$H$16*('O2N2 @ EGR'!$G$16^0.5)*(EXP(-67837/AZ36))/('Goal Seek 6th order'!$P$27*6))*('Goal Seek 6th order'!$P$28*10^-6)) -> 6.7727107e-13
B37: 9 | C37: 28 | D37: =D36*(C37/C36)^(('Goal Seek 6th order'!$P$26-1)/'Goal Seek 6th order'!$P$26) -> 2667.5494 | E37: =(((4.7*10^13)*'O2N2 @ EGR'!$H$4*('O2N2 @ EGR'!$G$4^0.5)*(EXP(-67837/D37))/('Goal Seek 6th order'!$P$27*6))*('Goal Seek 6th order'!$P$28*10^-6)) -> 0 | H37: =H36*(C37/C36)^(('Goal Seek 6th order'!$P$26-1)/'Goal Seek 6th order'!$P$26) -> 2650.1047 | I37: =(((4.7*10^13)*'O2N2 @ EGR'!$H$5*('O2N2 @ EGR'!$G$5^0.5)*(EXP(-67837/H37))/('Goal Seek 6th order'!$P$27*6))*('Goal Seek 6th order'!$P$28*10^-6)) -> 3.3621035e-09 | L37: =L36*(C37/C36)^(('Goal Seek 6th order'!$P$26-1)/'Goal Seek 6th order'!$P$26) -> 2632.5597 | M37: =(((4.7*10^13)*'O2N2 @ EGR'!$H$6*('O2N2 @ EGR'!$G$6^0.5)*(EXP(-67837/L37))/('Goal Seek 6th order'!$P$27*6))*('Goal Seek 6th order'!$P$28*10^-6)) -> 4.0099915e-09 | P37: =P36*(C37/C36)^(('Goal Seek 6th order'!$P$26-1)/'Goal Seek 6th order'!$P$26) -> 2615.0178 | Q37: =(((4.7*10^13)*'O2N2 @ EGR'!$H$7*('O2N2 @ EGR'!$G$7^0.5)*(EXP(-67837/P37))/('Goal Seek 6th order'!$P$27*6))*('Goal Seek 6th order'!$P$28*10^-6)) -> 4.1326182e-09 | T37: =T36*(C37/C36)^(('Goal Seek 6th order'!$P$26-1)/'Goal Seek 6th order'!$P$26) -> 2597.3731 | U37: =(((4.7*10^13)*'O2N2 @ EGR'!$H$8*('O2N2 @ EGR'!$G$8^0.5)*(EXP(-67837/T37))/('Goal Seek 6th order'!$P$27*6))*('Goal Seek 6th order'!$P$28*10^-6)) -> 4.0019181e-09 | X37: =X36*(C37/C36)^(('Goal Seek 6th order'!$P$26-1)/'Goal Seek 6th order'!$P$26) -> 2579.6593 | Y37: =(((4.7*10^13)*'O2N2 @ EGR'!$H$9*('O2N2 @ EGR'!$G$9^0.5)*(EXP(-67837/X37))/('Goal Seek 6th order'!$P$27*6))*('Goal Seek 6th order'!$P$28*10^-6)) -> 3.740621e-09 | AB37: =AB36*(C37/C36)^(('Goal Seek 6th order'!$P$26-1)/'Goal Seek 6th order'!$P$26) -> 2490.0102 | AC37: =(((4.7*10^13)*'O2N2 @ EGR'!$H$10*('O2N2 @ EGR'!$G$10^0.5)*(EXP(-67837/AB37))/('Goal Seek 6th order'!$P$27*6))*('Goal Seek 6th order'!$P$28*10^-6)) -> 2.0550212e-09 | AF37: =AF36*(C37/C36)^(('Goal Seek 6th order'!$P$26-1)/'Goal Seek 6th order'!$P$26) -> 2398.4527 | AG37: =(((4.7*10^13)*'O2N2 @ EGR'!$H$11*('O2N2 @ EGR'!$G$11^0.5)*(EXP(-67837/AF37))/('Goal Seek 6th order'!$P$27*6))*('Goal Seek 6th order'!$P$28*10^-6)) -> 8.9071857e-10 | AJ37: =AJ36*(C37/C36)^(('Goal Seek 6th order'!$P$26-1)/'Goal Seek 6th order'!$P$26) -> 2304.8387 | AK37: =(((4.7*10^13)*'O2N2 @ EGR'!$H$12*('O2N2 @ EGR'!$G$12^0.5)*(EXP(-67837/AJ37))/('Goal Seek 6th order'!$P$27*6))*('Goal Seek 6th order'!$P$28*10^-6)) -> 3.264691e-10 | AN37: =AN36*(C37/C36)^(('Goal Seek 6th order'!$P$26-1)/'Goal Seek 6th order'!$P$26) -> 2209.0211 | AO37: =(((4.7*10^13)*'O2N2 @ EGR'!$H$13*('O2N2 @ EGR'!$G$13^0.5)*(EXP(-67837/AN37))/('Goal Seek 6th order'!$P$27*6))*('Goal Seek 6th order'!$P$28*10^-6)) -> 1.0195207e-10 | AR37: =AR36*(C37/C36)^(('Goal Seek 6th order'!$P$26-1)/'Goal Seek 6th order'!$P$26) -> 2110.8471 | AS37: =(((4.7*10^13)*'O2N2 @ EGR'!$H$14*('O2N2 @ EGR'!$G$14^0.5)*(EXP(-67837/AR37))/('Goal Seek 6th order'!$P$27*6))*('Goal Seek 6th order'!$P$28*10^-6)) -> 2.6806669e-11 | AV37: =AV36*(C37/C36)^(('Goal Seek 6th order'!$P$26-1)/'Goal Seek 6th order'!$P$26) -> 2010.1565 | AW37: =(((4.7*10^13)*'O2N2 @ EGR'!$H$15*('O2N2 @ EGR'!$G$15^0.5)*(EXP(-67837/AV37))/('Goal Seek 6th order'!$P$27*6))*('Goal Seek 6th order'!$P$28*10^-6)) -> 5.7960967e-12 | AZ37: =AZ36*(C37/C36)^(('Goal Seek 6th order'!$P$26-1)/'Goal Seek 6th order'!$P$26) -> 1906.7737 | BA37: =(((4.7*10^13)*'O2N2 @ EGR'!$H$16*('O2N2 @ EGR'!$G$16^0.5)*(EXP(-67837/AZ37))/('Goal Seek 6th order'!$P$27*6))*('Goal Seek 6th order'!$P$28*10^-6)) -> 9.9548176e-13
B38: 10 | C38: 30 | D38: =D37*(C38/C37)^(('Goal Seek 6th order'!$P$26-1)/'Goal Seek 6th order'!$P$26) -> 2694.425 | E38: =(((4.7*10^13)*'O2N2 @ EGR'!$H$4*('O2N2 @ EGR'!$G$4^0.5)*(EXP(-67837/D38))/('Goal Seek 6th order'!$P$27*6))*('Goal Seek 6th order'!$P$28*10^-6)) -> 0 | H38: =H37*(C38/C37)^(('Goal Seek 6th order'!$P$26-1)/'Goal Seek 6th order'!$P$26) -> 2676.8045 | I38: =(((4.7*10^13)*'O2N2 @ EGR'!$H$5*('O2N2 @ EGR'!$G$5^0.5)*(EXP(-67837/H38))/('Goal Seek 6th order'!$P$27*6))*('Goal Seek 6th order'!$P$28*10^-6)) -> 4.3400823e-09 | L38: =L37*(C38/C37)^(('Goal Seek 6th order'!$P$26-1)/'Goal Seek 6th order'!$P$26) -> 2659.0828 | M38: =(((4.7*10^13)*'O2N2 @ EGR'!$H$6*('O2N2 @ EGR'!$G$6^0.5)*(EXP(-67837/L38))/('Goal Seek 6th order'!$P$27*6))*('Goal Seek 6th order'!$P$28*10^-6)) -> 5.185246e-09 | P38: =P37*(C38/C37)^(('Goal Seek 6th order'!$P$26-1)/'Goal Seek 6th order'!$P$26) -> 2641.3642 | Q38: =(((4.7*10^13)*'O2N2 @ EGR'!$H$7*('O2N2 @ EGR'!$G$7^0.5)*(EXP(-67837/P38))/('Goal Seek 6th order'!$P$27*6))*('Goal Seek 6th order'!$P$28*10^-6)) -> 5.3530338e-09 | T38: =T37*(C38/C37)^(('Goal Seek 6th order'!$P$26-1)/'Goal Seek 6th order'!$P$26) -> 2623.5417 | U38: =(((4.7*10^13)*'O2N2 @ EGR'!$H$8*('O2N2 @ EGR'!$G$8^0.5)*(EXP(-67837/T38))/('Goal Seek 6th order'!$P$27*6))*('Goal Seek 6th order'!$P$28*10^-6)) -> 5.1928562e-09 | X38: =X37*(C38/C37)^(('Goal Seek 6th order'!$P$26-1)/'Goal Seek 6th order'!$P$26) -> 2605.6494 | Y38: =(((4.7*10^13)*'O2N2 @ EGR'!$H$9*('O2N2 @ EGR'!$G$9^0.5)*(EXP(-67837/X38))/('Goal Seek 6th order'!$P$27*6))*('Goal Seek 6th order'!$P$28*10^-6)) -> 4.8624898e-09 | AB38: =AB37*(C38/C37)^(('Goal Seek 6th order'!$P$26-1)/'Goal Seek 6th order'!$P$26) -> 2515.0971 | AC38: =(((4.7*10^13)*'O2N2 @ EGR'!$H$10*('O2N2 @ EGR'!$G$10^0.5)*(EXP(-67837/AB38))/('Goal Seek 6th order'!$P$27*6))*('Goal Seek 6th order'!$P$28*10^-6)) -> 2.6967e-09 | AF38: =AF37*(C38/C37)^(('Goal Seek 6th order'!$P$26-1)/'Goal Seek 6th order'!$P$26) -> 2422.6172 | AG38: =(((4.7*10^13)*'O2N2 @ EGR'!$H$11*('O2N2 @ EGR'!$G$11^0.5)*(EXP(-67837/AF38))/('Goal Seek 6th order'!$P$27*6))*('Goal Seek 6th order'!$P$28*10^-6)) -> 1.1810327e-09 | AJ38: =AJ37*(C38/C37)^(('Goal Seek 6th order'!$P$26-1)/'Goal Seek 6th order'!$P$26) -> 2328.06 | AK38: =(((4.7*10^13)*'O2N2 @ EGR'!$H$12*('O2N2 @ EGR'!$G$12^0.5)*(EXP(-67837/AJ38))/('Goal Seek 6th order'!$P$27*6))*('Goal Seek 6th order'!$P$28*10^-6)) -> 4.3786464e-10 | AN38: =AN37*(C38/C37)^(('Goal Seek 6th order'!$P$26-1)/'Goal Seek 6th order'!$P$26) -> 2231.277 | AO38: =(((4.7*10^13)*'O2N2 @ EGR'!$H$13*('O2N2 @ EGR'!$G$13^0.5)*(EXP(-67837/AN38))/('Goal Seek 6th order'!$P$27*6))*('Goal Seek 6th order'!$P$28*10^-6)) -> 1.3849183e-10 | AR38: =AR37*(C38/C37)^(('Goal Seek 6th order'!$P$26-1)/'Goal Seek 6th order'!$P$26) -> 2132.1139 | AS38: =(((4.7*10^13)*'O2N2 @ EGR'!$H$14*('O2N2 @ EGR'!$G$14^0.5)*(EXP(-67837/AR38))/('Goal Seek 6th order'!$P$27*6))*('Goal Seek 6th order'!$P$28*10^-6)) -> 3.6936691e-11 | AV38: =AV37*(C38/C37)^(('Goal Seek 6th order'!$P$26-1)/'Goal Seek 6th order'!$P$26) -> 2030.4089 | AW38: =(((4.7*10^13)*'O2N2 @ EGR'!$H$15*('O2N2 @ EGR'!$G$15^0.5)*(EXP(-67837/AV38))/('Goal Seek 6th order'!$P$27*6))*('Goal Seek 6th order'!$P$28*10^-6)) -> 8.1156661e-12 | AZ38: =AZ37*(C38/C37)^(('Goal Seek 6th order'!$P$26-1)/'Goal Seek 6th order'!$P$26) -> 1925.9845 | BA38: =(((4.7*10^13)*'O2N2 @ EGR'!$H$16*('O2N2 @ EGR'!$G$16^0.5)*(EXP(-67837/AZ38))/('Goal Seek 6th order'!$P$27*6))*('Goal Seek 6th order'!$P$28*10^-6)) -> 1.4195412e-12
B39: 11 | C39: 32 | D39: =D38*(C39/C38)^(('Goal Seek 6th order'!$P$26-1)/'Goal Seek 6th order'!$P$26) -> 2719.8105 | E39: =(((4.7*10^13)*'O2N2 @ EGR'!$H$4*('O2N2 @ EGR'!$G$4^0.5)*(EXP(-67837/D39))/('Goal Seek 6th order'!$P$27*6))*('Goal Seek 6th order'!$P$28*10^-6)) -> 0 | H39: =H38*(C39/C38)^(('Goal Seek 6th order'!$P$26-1)/'Goal Seek 6th order'!$P$26) -> 2702.024 | I39: =(((4.7*10^13)*'O2N2 @ EGR'!$H$5*('O2N2 @ EGR'!$G$5^0.5)*(EXP(-67837/H39))/('Goal Seek 6th order'!$P$27*6))*('Goal Seek 6th order'!$P$28*10^-6)) -> 5.4982474e-09 | L39: =L38*(C39/C38)^(('Goal Seek 6th order'!$P$26-1)/'Goal Seek 6th order'!$P$26) -> 2684.1354 | M39: =(((4.7*10^13)*'O2N2 @ EGR'!$H$6*('O2N2 @ EGR'!$G$6^0.5)*(EXP(-67837/L39))/('Goal Seek 6th order'!$P$27*6))*('Goal Seek 6th order'!$P$28*10^-6)) -> 6.5793092e-09 | P39: =P38*(C39/C38)^(('Goal Seek 6th order'!$P$26-1)/'Goal Seek 6th order'!$P$26) -> 2666.2498 | Q39: =(((4.7*10^13)*'O2N2 @ EGR'!$H$7*('O2N2 @ EGR'!$G$7^0.5)*(EXP(-67837/P39))/('Goal Seek 6th order'!$P$27*6))*('Goal Seek 6th order'!$P$28*10^-6)) -> 6.803065e-09 | T39: =T38*(C39/C38)^(('Goal Seek 6th order'!$P$26-1)/'Goal Seek 6th order'!$P$26) -> 2648.2594 | U39: =(((4.7*10^13)*'O2N2 @ EGR'!$H$8*('O2N2 @ EGR'!$G$8^0.5)*(EXP(-67837/T39))/('Goal Seek 6th order'!$P$27*6))*('Goal Seek 6th order'!$P$28*10^-6)) -> 6.6102538e-09 | X39: =X38*(C39/C38)^(('Goal Seek 6th order'!$P$26-1)/'Goal Seek 6th order'!$P$26) -> 2630.1986 | Y39: =(((4.7*10^13)*'O2N2 @ EGR'!$H$9*('O2N2 @ EGR'!$G$9^0.5)*(EXP(-67837/X39))/('Goal Seek 6th order'!$P$27*6))*('Goal Seek 6th order'!$P$28*10^-6)) -> 6.1999796e-09 | AB39: =AB38*(C39/C38)^(('Goal Seek 6th order'!$P$26-1)/'Goal Seek 6th order'!$P$26) -> 2538.7931 | AC39: =(((4.7*10^13)*'O2N2 @ EGR'!$H$10*('O2N2 @ EGR'!$G$10^0.5)*(EXP(-67837/AB39))/('Goal Seek 6th order'!$P$27*6))*('Goal Seek 6th order'!$P$28*10^-6)) -> 3.4686757e-09 | AF39: =AF38*(C39/C38)^(('Goal Seek 6th order'!$P$26-1)/'Goal Seek 6th order'!$P$26) -> 2445.4419 | AG39: =(((4.7*10^13)*'O2N2 @ EGR'!$H$11*('O2N2 @ EGR'!$G$11^0.5)*(EXP(-67837/AF39))/('Goal Seek 6th order'!$P$27*6))*('Goal Seek 6th order'!$P$28*10^-6)) -> 1.5337923e-09 | AJ39: =AJ38*(C39/C38)^(('Goal Seek 6th order'!$P$26-1)/'Goal Seek 6th order'!$P$26) -> 2349.9938 | AK39: =(((4.7*10^13)*'O2N2 @ EGR'!$H$12*('O2N2 @ EGR'!$G$12^0.5)*(EXP(-67837/AJ39))/('Goal Seek 6th order'!$P$27*6))*('Goal Seek 6th order'!$P$28*10^-6)) -> 5.7471779e-10 | AN39: =AN38*(C39/C38)^(('Goal Seek 6th order'!$P$26-1)/'Goal Seek 6th order'!$P$26) -> 2252.299 | AO39: =(((4.7*10^13)*'O2N2 @ EGR'!$H$13*('O2N2 @ EGR'!$G$13^0.5)*(EXP(-67837/AN39))/('Goal Seek 6th order'!$P$27*6))*('Goal Seek 6th order'!$P$28*10^-6)) -> 1.8393408e-10 | AR39: =AR38*(C39/C38)^(('Goal Seek 6th order'!$P$26-1)/'Goal Seek 6th order'!$P$26) -> 2152.2016 | AS39: =(((4.7*10^13)*'O2N2 @ EGR'!$H$14*('O2N2 @ EGR'!$G$14^0.5)*(EXP(-67837/AR39))/('Goal Seek 6th order'!$P$27*6))*('Goal Seek 6th order'!$P$28*10^-6)) -> 4.9708169e-11 | AV39: =AV38*(C39/C38)^(('Goal Seek 6th order'!$P$26-1)/'Goal Seek 6th order'!$P$26) -> 2049.5384 | AW39: =(((4.7*10^13)*'O2N2 @ EGR'!$H$15*('O2N2 @ EGR'!$G$15^0.5)*(EXP(-67837/AV39))/('Goal Seek 6th order'!$P$27*6))*('Goal Seek 6th order'!$P$28*10^-6)) -> 1.1085471e-11 | AZ39: =AZ38*(C39/C38)^(('Goal Seek 6th order'!$P$26-1)/'Goal Seek 6th order'!$P$26) -> 1944.1301 | BA39: =(((4.7*10^13)*'O2N2 @ EGR'!$H$16*('O2N2 @ EGR'!$G$16^0.5)*(EXP(-67837/AZ39))/('Goal Seek 6th order'!$P$27*6))*('Goal Seek 6th order'!$P$28*10^-6)) -> 1.9720632e-12
B40: 12 | C40: 34 | D40: =D39*(C40/C39)^(('Goal Seek 6th order'!$P$26-1)/'Goal Seek 6th order'!$P$26) -> 2743.8743 | E40: =(((4.7*10^13)*'O2N2 @ EGR'!$H$4*('O2N2 @ EGR'!$G$4^0.5)*(EXP(-67837/D40))/('Goal Seek 6th order'!$P$27*6))*('Goal Seek 6th order'!$P$28*10^-6)) -> 0 | H40: =H39*(C40/C39)^(('Goal Seek 6th order'!$P$26-1)/'Goal Seek 6th order'!$P$26) -> 2725.9305 | I40: =(((4.7*10^13)*'O2N2 @ EGR'!$H$5*('O2N2 @ EGR'!$G$5^0.5)*(EXP(-67837/H40))/('Goal Seek 6th order'!$P$27*6))*('Goal Seek 6th order'!$P$28*10^-6)) -> 6.8524724e-09 | L40: =L39*(C40/C39)^(('Goal Seek 6th order'!$P$26-1)/'Goal Seek 6th order'!$P$26) -> 2707.8836 | M40: =(((4.7*10^13)*'O2N2 @ EGR'!$H$6*('O2N2 @ EGR'!$G$6^0.5)*(EXP(-67837/L40))/('Goal Seek 6th order'!$P$27*6))*('Goal Seek 6th order'!$P$28*10^-6)) -> 8.2118424e-09 | P40: =P39*(C40/C39)^(('Goal Seek 6th order'!$P$26-1)/'Goal Seek 6th order'!$P$26) -> 2689.8397 | Q40: =(((4.7*10^13)*'O2N2 @ EGR'!$H$7*('O2N2 @ EGR'!$G$7^0.5)*(EXP(-67837/P40))/('Goal Seek 6th order'!$P$27*6))*('Goal Seek 6th order'!$P$28*10^-6)) -> 8.5037534e-09 | T40: =T39*(C40/C39)^(('Goal Seek 6th order'!$P$26-1)/'Goal Seek 6th order'!$P$26) -> 2671.6902 | U40: =(((4.7*10^13)*'O2N2 @ EGR'!$H$8*('O2N2 @ EGR'!$G$8^0.5)*(EXP(-67837/T40))/('Goal Seek 6th order'!$P$27*6))*('Goal Seek 6th order'!$P$28*10^-6)) -> 8.2752759e-09 | X40: =X39*(C40/C39)^(('Goal Seek 6th order'!$P$26-1)/'Goal Seek 6th order'!$P$26) -> 2653.4696 | Y40: =(((4.7*10^13)*'O2N2 @ EGR'!$H$9*('O2N2 @ EGR'!$G$9^0.5)*(EXP(-67837/X40))/('Goal Seek 6th order'!$P$27*6))*('Goal Seek 6th order'!$P$28*10^-6)) -> 7.7736423e-09 | AB40: =AB39*(C40/C39)^(('Goal Seek 6th order'!$P$26-1)/'Goal Seek 6th order'!$P$26) -> 2561.2554 | AC40: =(((4.7*10^13)*'O2N2 @ EGR'!$H$10*('O2N2 @ EGR'!$G$10^0.5)*(EXP(-67837/AB40))/('Goal Seek 6th order'!$P$27*6))*('Goal Seek 6th order'!$P$28*10^-6)) -> 4.3846484e-09 | AF40: =AF39*(C40/C39)^(('Goal Seek 6th order'!$P$26-1)/'Goal Seek 6th order'!$P$26) -> 2467.0782 | AG40: =(((4.7*10^13)*'O2N2 @ EGR'!$H$11*('O2N2 @ EGR'!$G$11^0.5)*(EXP(-67837/AF40))/('Goal Seek 6th order'!$P$27*6))*('Goal Seek 6th order'!$P$28*10^-6)) -> 1.9562421e-09 | AJ40: =AJ39*(C40/C39)^(('Goal Seek 6th order'!$P$26-1)/'Goal Seek 6th order'!$P$26) -> 2370.7856 | AK40: =(((4.7*10^13)*'O2N2 @ EGR'!$H$12*('O2N2 @ EGR'!$G$12^0.5)*(EXP(-67837/AJ40))/('Goal Seek 6th order'!$P$27*6))*('Goal Seek 6th order'!$P$28*10^-6)) -> 7.4029026e-10 | AN40: =AN39*(C40/C39)^(('Goal Seek 6th order'!$P$26-1)/'Goal Seek 6th order'!$P$26) -> 2272.2265 | AO40: =(((4.7*10^13)*'O2N2 @ EGR'!$H$13*('O2N2 @ EGR'!$G$13^0.5)*(EXP(-67837/AN40))/('Goal Seek 6th order'!$P$27*6))*('Goal Seek 6th order'!$P$28*10^-6)) -> 2.3954032e-10 | AR40: =AR39*(C40/C39)^(('Goal Seek 6th order'!$P$26-1)/'Goal Seek 6th order'!$P$26) -> 2171.2434 | AS40: =(((4.7*10^13)*'O2N2 @ EGR'!$H$14*('O2N2 @ EGR'!$G$14^0.5)*(EXP(-67837/AR40))/('Goal Seek 6th order'!$P$27*6))*('Goal Seek 6th order'!$P$28*10^-6)) -> 6.5535946e-11 | AV40: =AV39*(C40/C39)^(('Goal Seek 6th order'!$P$26-1)/'Goal Seek 6th order'!$P$26) -> 2067.6719 | AW40: =(((4.7*10^13)*'O2N2 @ EGR'!$H$15*('O2N2 @ EGR'!$G$15^0.5)*(EXP(-67837/AV40))/('Goal Seek 6th order'!$P$27*6))*('Goal Seek 6th order'!$P$28*10^-6)) -> 1.4819019e-11 | AZ40: =AZ39*(C40/C39)^(('Goal Seek 6th order'!$P$26-1)/'Goal Seek 6th order'!$P$26) -> 1961.331 | BA40: =(((4.7*10^13)*'O2N2 @ EGR'!$H$16*('O2N2 @ EGR'!$G$16^0.5)*(EXP(-67837/AZ40))/('Goal Seek 6th order'!$P$27*6))*('Goal Seek 6th order'!$P$28*10^-6)) -> 2.6780659e-12
... B43: 15 | C43: 40 | D43: =D42*(C43/C42)^(('Goal Seek 6th order'!$P$26-1)/'Goal Seek 6th order'!$P$26) -> 2809.4389 | E43: =(((4.7*10^13)*'O2N2 @ EGR'!$H$4*('O2N2 @ EGR'!$G$4^0.5)*(EXP(-67837/D43))/('Goal Seek 6th order'!$P$27*6))*('Goal Seek 6th order'!$P$28*10^-6)) -> 0 | H43: =H42*(C43/C42)^(('Goal Seek 6th order'!$P$26-1)/'Goal Seek 6th order'!$P$26) -> 2791.0663 | I43: =(((4.7*10^13)*'O2N2 @ EGR'!$H$5*('O2N2 @ EGR'!$G$5^0.5)*(EXP(-67837/H43))/('Goal Seek 6th order'!$P$27*6))*('Goal Seek 6th order'!$P$28*10^-6)) -> 1.2248159e-08 | L43: =L42*(C43/C42)^(('Goal Seek 6th order'!$P$26-1)/'Goal Seek 6th order'!$P$26) -> 2772.5881 | M43: =(((4.7*10^13)*'O2N2 @ EGR'!$H$6*('O2N2 @ EGR'!$G$6^0.5)*(EXP(-67837/L43))/('Goal Seek 6th order'!$P$27*6))*('Goal Seek 6th order'!$P$28*10^-6)) -> 1.4734829e-08 | P43: =P42*(C43/C42)^(('Goal Seek 6th order'!$P$26-1)/'Goal Seek 6th order'!$P$26) -> 2754.1131 | Q43: =(((4.7*10^13)*'O2N2 @ EGR'!$H$7*('O2N2 @ EGR'!$G$7^0.5)*(EXP(-67837/P43))/('Goal Seek 6th order'!$P$27*6))*('Goal Seek 6th order'!$P$28*10^-6)) -> 1.5318575e-08 | T43: =T42*(C43/C42)^(('Goal Seek 6th order'!$P$26-1)/'Goal Seek 6th order'!$P$26) -> 2735.5299 | U43: =(((4.7*10^13)*'O2N2 @ EGR'!$H$8*('O2N2 @ EGR'!$G$8^0.5)*(EXP(-67837/T43))/('Goal Seek 6th order'!$P$27*6))*('Goal Seek 6th order'!$P$28*10^-6)) -> 1.4966719e-08 | X43: =X42*(C43/C42)^(('Goal Seek 6th order'!$P$26-1)/'Goal Seek 6th order'!$P$26) -> 2716.8739 | Y43: =(((4.7*10^13)*'O2N2 @ EGR'!$H$9*('O2N2 @ EGR'!$G$9^0.5)*(EXP(-67837/X43))/('Goal Seek 6th order'!$P$27*6))*('Goal Seek 6th order'!$P$28*10^-6)) -> 1.4116785e-08 | AB43: =AB42*(C43/C42)^(('Goal Seek 6th order'!$P$26-1)/'Goal Seek 6th order'!$P$26) -> 2622.4562 | AC43: =(((4.7*10^13)*'O2N2 @ EGR'!$H$10*('O2N2 @ EGR'!$G$10^0.5)*(EXP(-67837/AB43))/('Goal Seek 6th order'!$P$27*6))*('Goal Seek 6th order'!$P$28*10^-6)) -> 8.1353253e-09 | AF43: =AF42*(C43/C42)^(('Goal Seek 6th order'!$P$26-1)/'Goal Seek 6th order'!$P$26) -> 2526.0287 | AG43: =(((4.7*10^13)*'O2N2 @ EGR'!$H$11*('O2N2 @ EGR'!$G$11^0.5)*(EXP(-67837/AF43))/('Goal Seek 6th order'!$P$27*6))*('Goal Seek 6th order'!$P$28*10^-6)) -> 3.7162941e-09 | AJ43: =AJ42*(C43/C42)^(('Goal Seek 6th order'!$P$26-1)/'Goal Seek 6th order'!$P$26) -> 2427.4353 | AK43: =(((4.7*10^13)*'O2N2 @ EGR'!$H$12*('O2N2 @ EGR'!$G$12^0.5)*(EXP(-67837/AJ43))/('Goal Seek 6th order'!$P$27*6))*('Goal Seek 6th order'!$P$28*10^-6)) -> 1.4434733e-09 | AN43: =AN42*(C43/C42)^(('Goal Seek 6th order'!$P$26-1)/'Goal Seek 6th order'!$P$26) -> 2326.5211 | AO43: =(((4.7*10^13)*'O2N2 @ EGR'!$H$13*('O2N2 @ EGR'!$G$13^0.5)*(EXP(-67837/AN43))/('Goal Seek 6th order'!$P$27*6))*('Goal Seek 6th order'!$P$28*10^-6)) -> 4.8080012e-10 | AR43: =AR42*(C43/C42)^(('Goal Seek 6th order'!$P$26-1)/'Goal Seek 6th order'!$P$26) -> 2223.125 | AS43: =(((4.7*10^13)*'O2N2 @ EGR'!$H$14*('O2N2 @ EGR'!$G$14^0.5)*(EXP(-67837/AR43))/('Goal Seek 6th order'!$P$27*6))*('Goal Seek 6th order'!$P$28*10^-6)) -> 1.3587469e-10 | AV43: =AV42*(C43/C42)^(('Goal Seek 6th order'!$P$26-1)/'Goal Seek 6th order'!$P$26) -> 2117.0787 | AW43: =(((4.7*10^13)*'O2N2 @ EGR'!$H$15*('O2N2 @ EGR'!$G$15^0.5)*(EXP(-67837/AV43))/('Goal Seek 6th order'!$P$27*6))*('Goal Seek 6th order'!$P$28*10^-6)) -> 3.1866928e-11 | AZ43: =AZ42*(C43/C42)^(('Goal Seek 6th order'!$P$26-1)/'Goal Seek 6th order'!$P$26) -> 2008.1968 | BA43: =(((4.7*10^13)*'O2N2 @ EGR'!$H$16*('O2N2 @ EGR'!$G$16^0.5)*(EXP(-67837/AZ43))/('Goal Seek 6th order'!$P$27*6))*('Goal Seek 6th order'!$P$28*10^-6)) -> 6.0030346e-12
B45: 10% EGR
C47: Phi (ɸ) | D47: 1 | H47: 0.99 | L47: 0.98 | P47: 0.97 | T47: 0.96 | X47: 0.95 | AB47: 0.9 | AF47: 0.85 | AJ47: 0.8 | AN47: 0.75 | AR47: 0.7 | AV47: 0.65 | AZ47: 0.6
B48: θ° | C48: P (Bar) | D48: Temp (K) | E48: Nox (kmols/°) | F48: PPM | H48: Temp (K) | I48: Nox (kmols/°) | J48: PPM | L48: Temp (K) | M48: Nox (kmols/°) | N48: PPM | P48: Temp (K) | Q48: Nox (kmols/°) | R48: PPM | T48: Temp (K) | U48: Nox (kmols/°) | V48: PPM | X48: Temp (K) | Y48: Nox (kmols/°) | Z48: PPM | AB48: Temp (K) | AC48: Nox (kmols/°) | AD48: PPM | AF48: Temp (K) | AG48: Nox (kmols/°) | AH48: PPM | AJ48: Temp (K) | AK48: Nox (kmols/°) | AL48: PPM | AN48: Temp (K) | AO48: Nox (kmols/°) | AP48: PPM | AR48: Temp (K) | AS48: Nox (kmols/°) | AT48: PPM | AV48: Temp (K) | AW48: Nox (kmols/°) | AX48: PPM | AZ48: Temp (K) | BA48: Nox (kmols/°) | BB48: PPM
B49: 0 | C49: 10 | D49: =EGR!D$32 -> 2215.59 | E49: =(((4.7*10^13)*'O2N2 @ EGR'!$R$4*('O2N2 @ EGR'!$Q$4^0.5)*(EXP(-67837/D49))/('Goal Seek 6th order'!$P$27*6))*('Goal Seek 6th order'!$P$28*10^-6)) -> 0 | F49: =(SUM(E49:E64)/'O2N2 @ EGR'!$T4)*10^6 -> 0 | H49: =EGR!D$33 -> 2201.3235 | I49: =(((4.7*10^13)*'O2N2 @ EGR'!$R$5*('O2N2 @ EGR'!$Q$5^0.5)*(EXP(-67837/H49))/('Goal Seek 6th order'!$P$27*6))*('Goal Seek 6th order'!$P$28*10^-6)) -> 1.9521143e-11 | J49: =(SUM(I49:I64)/'O2N2 @ EGR'!$T5)*10^6 -> 3363.5095 | L49: =EGR!D$34 -> 2186.9996 | M49: =(((4.7*10^13)*'O2N2 @ EGR'!$R$6*('O2N2 @ EGR'!$Q$6^0.5)*(EXP(-67837/L49))/('Goal Seek 6th order'!$P$27*6))*('Goal Seek 6th order'!$P$28*10^-6)) -> 2.2566909e-11 | N49: =(SUM(M49:M64)/'O2N2 @ EGR'!$T6)*10^6 -> 4017.9175 | P49: =EGR!D$35 -> 2172.6173 | Q49: =(((4.7*10^13)*'O2N2 @ EGR'!$R$7*('O2N2 @ EGR'!$Q$7^0.5)*(EXP(-67837/P49))/('Goal Seek 6th order'!$P$27*6))*('Goal Seek 6th order'!$P$28*10^-6)) -> 2.251384e-11 | R49: =(SUM(Q49:Q64)/'O2N2 @ EGR'!$T7)*10^6 -> 4144.5274 | T49: =EGR!D$36 -> 2158.1757 | U49: =(((4.7*10^13)*'O2N2 @ EGR'!$R$8*('O2N2 @ EGR'!$Q$8^0.5)*(EXP(-67837/T49))/('Goal Seek 6th order'!$P$27*6))*('Goal Seek 6th order'!$P$28*10^-6)) -> 2.1100237e-11 | V49: =(SUM(U49:U64)/'O2N2 @ EGR'!$T8)*10^6 -> 4018.5717 | X49: =EGR!D$37 -> 2143.6739 | Y49: =(((4.7*10^13)*'O2N2 @ EGR'!$R$9*('O2N2 @ EGR'!$Q$9^0.5)*(EXP(-67837/X49))/('Goal Seek 6th order'!$P$27*6))*('Goal Seek 6th order'!$P$28*10^-6)) -> 1.9076653e-11 | Z49: =(SUM(Y49:Y64)/'O2N2 @ EGR'!$T9)*10^6 -> 3761.1068 | AB49: =EGR!D$38 -> 2070.2293 | AC49: =(((4.7*10^13)*'O2N2 @ EGR'!$R$10*('O2N2 @ EGR'!$Q$10^0.5)*(EXP(-67837/AB49))/('Goal Seek 6th order'!$P$27*6))*('Goal Seek 6th order'!$P$28*10^-6)) -> 8.790021e-12 | AD49: =(SUM(AC49:AC64)/'O2N2 @ EGR'!$T10)*10^6 -> 2081.0996 | AF49: =EGR!D$39 -> 1995.1401 | AG49: =(((4.7*10^13)*'O2N2 @ EGR'!$R$11*('O2N2 @ EGR'!$Q$11^0.5)*(EXP(-67837/AF49))/('Goal Seek 6th order'!$P$27*6))*('Goal Seek 6th order'!$P$28*10^-6)) -> 3.140366e-12 | AH49: =(SUM(AG49:AG64)/'O2N2 @ EGR'!$T11)*10^6 -> 909.64058 | AJ49: =EGR!D$40 -> 1918.2899 | AK49: =(((4.7*10^13)*'O2N2 @ EGR'!$R$12*('O2N2 @ EGR'!$Q$12^0.5)*(EXP(-67837/AJ49))/('Goal Seek 6th order'!$P$27*6))*('Goal Seek 6th order'!$P$28*10^-6)) -> 9.2985752e-13 | AL49: =(SUM(AK49:AK64)/'O2N2 @ EGR'!$T12)*10^6 -> 336.79135 | AN49: =EGR!D$41 -> 1839.5588 | AO49: =(((4.7*10^13)*'O2N2 @ EGR'!$R$13*('O2N2 @ EGR'!$Q$13^0.5)*(EXP(-67837/AN49))/('Goal Seek 6th order'!$P$27*6))*('Goal Seek 6th order'!$P$28*10^-6)) -> 2.2914134e-13 | AP49: =(SUM(AO49:AO64)/'O2N2 @ EGR'!$T13)*10^6 -> 106.47795 | AR49: =EGR!D$42 -> 1758.8199 | AS49: =(((4.7*10^13)*'O2N2 @ EGR'!$R$14*('O2N2 @ EGR'!$Q$14^0.5)*(EXP(-67837/AR49))/('Goal Seek 6th order'!$P$27*6))*('Goal Seek 6th order'!$P$28*10^-6)) -> 4.6243035e-14 | AT49: =(SUM(AS49:AS64)/'O2N2 @ EGR'!$T14)*10^6 -> 28.423618 | AV49: =EGR!D$43 -> 1675.9382 | AW49: =(((4.7*10^13)*'O2N2 @ EGR'!$R$15*('O2N2 @ EGR'!$Q$15^0.5)*(EXP(-67837/AV49))/('Goal Seek 6th order'!$P$27*6))*('Goal Seek 6th order'!$P$28*10^-6)) -> 7.4247047e-15 | AX49: =(SUM(AW49:AW64)/'O2N2 @ EGR'!$T15)*10^6 -> 6.2621116 | AZ49: =EGR!D$44 -> 1590.7636 | BA49: =(((4.7*10^13)*'O2N2 @ EGR'!$R$16*('O2N2 @ EGR'!$Q$16^0.5)*(EXP(-67837/AZ49))/('Goal Seek 6th order'!$P$27*6))*('Goal Seek 6th order'!$P$28*10^-6)) -> 9.0988002e-16 | BB49: =(SUM(BA49:BA64)/'O2N2 @ EGR'!$T16)*10^6 -> 1.101032
B50: 1 | C50: 12 | D50: =D49*(C50/C49)^(('Goal Seek 6th order'!$P$26-1)/'Goal Seek 6th order'!$P$26) -> 2275.068 | E50: =(((4.7*10^13)*'O2N2 @ EGR'!$R$4*('O2N2 @ EGR'!$Q$4^0.5)*(EXP(-67837/D50))/('Goal Seek 6th order'!$P$27*6))*('Goal Seek 6th order'!$P$28*10^-6)) -> 0 | H50: =H49*(C50/C49)^(('Goal Seek 6th order'!$P$26-1)/'Goal Seek 6th order'!$P$26) -> 2260.4184 | I50: =(((4.7*10^13)*'O2N2 @ EGR'!$R$5*('O2N2 @ EGR'!$Q$5^0.5)*(EXP(-67837/H50))/('Goal Seek 6th order'!$P$27*6))*('Goal Seek 6th order'!$P$28*10^-6)) -> 4.3691071e-11 | L50: =L49*(C50/C49)^(('Goal Seek 6th order'!$P$26-1)/'Goal Seek 6th order'!$P$26) -> 2245.71 | M50: =(((4.7*10^13)*'O2N2 @ EGR'!$R$6*('O2N2 @ EGR'!$Q$6^0.5)*(EXP(-67837/L50))/('Goal Seek 6th order'!$P$27*6))*('Goal Seek 6th order'!$P$28*10^-6)) -> 5.0775142e-11 | P50: =P49*(C50/C49)^(('Goal Seek 6th order'!$P$26-1)/'Goal Seek 6th order'!$P$26) -> 2230.9416 | Q50: =(((4.7*10^13)*'O2N2 @ EGR'!$R$7*('O2N2 @ EGR'!$Q$7^0.5)*(EXP(-67837/P50))/('Goal Seek 6th order'!$P$27*6))*('Goal Seek 6th order'!$P$28*10^-6)) -> 5.0928396e-11 | T50: =T49*(C50/C49)^(('Goal Seek 6th order'!$P$26-1)/'Goal Seek 6th order'!$P$26) -> 2216.1123 | U50: =(((4.7*10^13)*'O2N2 @ EGR'!$R$8*('O2N2 @ EGR'!$Q$8^0.5)*(EXP(-67837/T50))/('Goal Seek 6th order'!$P$27*6))*('Goal Seek 6th order'!$P$28*10^-6)) -> 4.7992127e-11 | X50: =X49*(C50/C49)^(('Goal Seek 6th order'!$P$26-1)/'Goal Seek 6th order'!$P$26) -> 2201.2212 | Y50: =(((4.7*10^13)*'O2N2 @ EGR'!$R$9*('O2N2 @ EGR'!$Q$9^0.5)*(EXP(-67837/X50))/('Goal Seek 6th order'!$P$27*6))*('Goal Seek 6th order'!$P$28*10^-6)) -> 4.3631397e-11 | AB50: =AB49*(C50/C49)^(('Goal Seek 6th order'!$P$26-1)/'Goal Seek 6th order'!$P$26) -> 2125.805 | AC50: =(((4.7*10^13)*'O2N2 @ EGR'!$R$10*('O2N2 @ EGR'!$Q$10^0.5)*(EXP(-67837/AB50))/('Goal Seek 6th order'!$P$27*6))*('Goal Seek 6th order'!$P$28*10^-6)) -> 2.0703009e-11 | AF50: =AF49*(C50/C49)^(('Goal Seek 6th order'!$P$26-1)/'Goal Seek 6th order'!$P$26) -> 2048.7 | AG50: =(((4.7*10^13)*'O2N2 @ EGR'!$R$11*('O2N2 @ EGR'!$Q$11^0.5)*(EXP(-67837/AF50))/('Goal Seek 6th order'!$P$27*6))*('Goal Seek 6th order'!$P$28*10^-6)) -> 7.6388163e-12 | AJ50: =AJ49*(C50/C49)^(('Goal Seek 6th order'!$P$26-1)/'Goal Seek 6th order'!$P$26) -> 1969.7867 | AK50: =(((4.7*10^13)*'O2N2 @ EGR'!$R$12*('O2N2 @ EGR'!$Q$12^0.5)*(EXP(-67837/AJ50))/('Goal Seek 6th order'!$P$27*6))*('Goal Seek 6th order'!$P$28*10^-6)) -> 2.3438397e-12 | AN50: =AN49*(C50/C49)^(('Goal Seek 6th order'!$P$26-1)/'Goal Seek 6th order'!$P$26) -> 1888.9421 | AO50: =(((4.7*10^13)*'O2N2 @ EGR'!$R$13*('O2N2 @ EGR'!$Q$13^0.5)*(EXP(-67837/AN50))/('Goal Seek 6th order'!$P$27*6))*('Goal Seek 6th order'!$P$28*10^-6)) -> 6.0089584e-13 | AR50: =AR49*(C50/C49)^(('Goal Seek 6th order'!$P$26-1)/'Goal Seek 6th order'!$P$26) -> 1806.0358 | AS50: =(((4.7*10^13)*'O2N2 @ EGR'!$R$14*('O2N2 @ EGR'!$Q$14^0.5)*(EXP(-67837/AR50))/('Goal Seek 6th order'!$P$27*6))*('Goal Seek 6th order'!$P$28*10^-6)) -> 1.2675421e-13 | AV50: =AV49*(C50/C49)^(('Goal Seek 6th order'!$P$26-1)/'Goal Seek 6th order'!$P$26) -> 1720.929 | AW50: =(((4.7*10^13)*'O2N2 @ EGR'!$R$15*('O2N2 @ EGR'!$Q$15^0.5)*(EXP(-67837/AV50))/('Goal Seek 6th order'!$P$27*6))*('Goal Seek 6th order'!$P$28*10^-6)) -> 2.1392026e-14 | AZ50: =AZ49*(C50/C49)^(('Goal Seek 6th order'!$P$26-1)/'Goal Seek 6th order'!$P$26) -> 1633.468 | BA50: =(((4.7*10^13)*'O2N2 @ EGR'!$R$16*('O2N2 @ EGR'!$Q$16^0.5)*(EXP(-67837/AZ50))/('Goal Seek 6th order'!$P$27*6))*('Goal Seek 6th order'!$P$28*10^-6)) -> 2.7743665e-15
B51: 2 | C51: 14 | D51: =D50*(C51/C50)^(('Goal Seek 6th order'!$P$26-1)/'Goal Seek 6th order'!$P$26) -> 2326.5998 | E51: =(((4.7*10^13)*'O2N2 @ EGR'!$R$4*('O2N2 @ EGR'!$Q$4^0.5)*(EXP(-67837/D51))/('Goal Seek 6th order'!$P$27*6))*('Goal Seek 6th order'!$P$28*10^-6)) -> 0 | H51: =H50*(C51/C50)^(('Goal Seek 6th order'!$P$26-1)/'Goal Seek 6th order'!$P$26) -> 2311.6185 | I51: =(((4.7*10^13)*'O2N2 @ EGR'!$R$5*('O2N2 @ EGR'!$Q$5^0.5)*(EXP(-67837/H51))/('Goal Seek 6th order'!$P$27*6))*('Goal Seek 6th order'!$P$28*10^-6)) -> 8.4932175e-11 | L51: =L50*(C51/C50)^(('Goal Seek 6th order'!$P$26-1)/'Goal Seek 6th order'!$P$26) -> 2296.5768 | M51: =(((4.7*10^13)*'O2N2 @ EGR'!$R$6*('O2N2 @ EGR'!$Q$6^0.5)*(EXP(-67837/L51))/('Goal Seek 6th order'!$P$27*6))*('Goal Seek 6th order'!$P$28*10^-6)) -> 9.9133728e-11 | P51: =P50*(C51/C50)^(('Goal Seek 6th order'!$P$26-1)/'Goal Seek 6th order'!$P$26) -> 2281.4739 | Q51: =(((4.7*10^13)*'O2N2 @ EGR'!$R$7*('O2N2 @ EGR'!$Q$7^0.5)*(EXP(-67837/P51))/('Goal Seek 6th order'!$P$27*6))*('Goal Seek 6th order'!$P$28*10^-6)) -> 9.9874314e-11 | T51: =T50*(C51/C50)^(('Goal Seek 6th order'!$P$26-1)/'Goal Seek 6th order'!$P$26) -> 2266.3088 | U51: =(((4.7*10^13)*'O2N2 @ EGR'!$R$8*('O2N2 @ EGR'!$Q$8^0.5)*(EXP(-67837/T51))/('Goal Seek 6th order'!$P$27*6))*('Goal Seek 6th order'!$P$28*10^-6)) -> 9.4541186e-11 | X51: =X50*(C51/C50)^(('Goal Seek 6th order'!$P$26-1)/'Goal Seek 6th order'!$P$26) -> 2251.0804 | Y51: =(((4.7*10^13)*'O2N2 @ EGR'!$R$9*('O2N2 @ EGR'!$Q$9^0.5)*(EXP(-67837/X51))/('Goal Seek 6th order'!$P$27*6))*('Goal Seek 6th order'!$P$28*10^-6)) -> 8.6345978e-11 | AB51: =AB50*(C51/C50)^(('Goal Seek 6th order'!$P$26-1)/'Goal Seek 6th order'!$P$26) -> 2173.9559 | AC51: =(((4.7*10^13)*'O2N2 @ EGR'!$R$10*('O2N2 @ EGR'!$Q$10^0.5)*(EXP(-67837/AB51))/('Goal Seek 6th order'!$P$27*6))*('Goal Seek 6th order'!$P$28*10^-6)) -> 4.1975245e-11 | AF51: =AF50*(C51/C50)^(('Goal Seek 6th order'!$P$26-1)/'Goal Seek 6th order'!$P$26) -> 2095.1045 | AG51: =(((4.7*10^13)*'O2N2 @ EGR'!$R$11*('O2N2 @ EGR'!$Q$11^0.5)*(EXP(-67837/AF51))/('Goal Seek 6th order'!$P$27*6))*('Goal Seek 6th order'!$P$28*10^-6)) -> 1.590518e-11 | AJ51: =AJ50*(C51/C50)^(('Goal Seek 6th order'!$P$26-1)/'Goal Seek 6th order'!$P$26) -> 2014.4037 | AK51: =(((4.7*10^13)*'O2N2 @ EGR'!$R$12*('O2N2 @ EGR'!$Q$12^0.5)*(EXP(-67837/AJ51))/('Goal Seek 6th order'!$P$27*6))*('Goal Seek 6th order'!$P$28*10^-6)) -> 5.0257471e-12 | AN51: =AN50*(C51/C50)^(('Goal Seek 6th order'!$P$26-1)/'Goal Seek 6th order'!$P$26) -> 1931.7279 | AO51: =(((4.7*10^13)*'O2N2 @ EGR'!$R$13*('O2N2 @ EGR'!$Q$13^0.5)*(EXP(-67837/AN51))/('Goal Seek 6th order'!$P$27*6))*('Goal Seek 6th order'!$P$28*10^-6)) -> 1.3312205e-12 | AR51: =AR50*(C51/C50)^(('Goal Seek 6th order'!$P$26-1)/'Goal Seek 6th order'!$P$26) -> 1846.9437 | AS51: =(((4.7*10^13)*'O2N2 @ EGR'!$R$14*('O2N2 @ EGR'!$Q$14^0.5)*(EXP(-67837/AR51))/('Goal Seek 6th order'!$P$27*6))*('Goal Seek 6th order'!$P$28*10^-6)) -> 2.9125351e-13 | AV51: =AV50*(C51/C50)^(('Goal Seek 6th order'!$P$26-1)/'Goal Seek 6th order'!$P$26) -> 1759.9092 | AW51: =(((4.7*10^13)*'O2N2 @ EGR'!$R$15*('O2N2 @ EGR'!$Q$15^0.5)*(EXP(-67837/AV51))/('Goal Seek 6th order'!$P$27*6))*('Goal Seek 6th order'!$P$28*10^-6)) -> 5.1218735e-14 | AZ51: =AZ50*(C51/C50)^(('Goal Seek 6th order'!$P$26-1)/'Goal Seek 6th order'!$P$26) -> 1670.4671 | BA51: =(((4.7*10^13)*'O2N2 @ EGR'!$R$16*('O2N2 @ EGR'!$Q$16^0.5)*(EXP(-67837/AZ51))/('Goal Seek 6th order'!$P$27*6))*('Goal Seek 6th order'!$P$28*10^-6)) -> 6.9605428e-15
B52: 3 | C52: 16 | D52: =D51*(C52/C51)^(('Goal Seek 6th order'!$P$26-1)/'Goal Seek 6th order'!$P$26) -> 2372.1812 | E52: =(((4.7*10^13)*'O2N2 @ EGR'!$R$4*('O2N2 @ EGR'!$Q$4^0.5)*(EXP(-67837/D52))/('Goal Seek 6th order'!$P$27*6))*('Goal Seek 6th order'!$P$28*10^-6)) -> 0 | H52: =H51*(C52/C51)^(('Goal Seek 6th order'!$P$26-1)/'Goal Seek 6th order'!$P$26) -> 2356.9064 | I52: =(((4.7*10^13)*'O2N2 @ EGR'!$R$5*('O2N2 @ EGR'!$Q$5^0.5)*(EXP(-67837/H52))/('Goal Seek 6th order'!$P$27*6))*('Goal Seek 6th order'!$P$28*10^-6)) -> 1.4926722e-10 | L52: =L51*(C52/C51)^(('Goal Seek 6th order'!$P$26-1)/'Goal Seek 6th order'!$P$26) -> 2341.5701 | M52: =(((4.7*10^13)*'O2N2 @ EGR'!$R$6*('O2N2 @ EGR'!$Q$6^0.5)*(EXP(-67837/L52))/('Goal Seek 6th order'!$P$27*6))*('Goal Seek 6th order'!$P$28*10^-6)) -> 1.7487091e-10 | P52: =P51*(C52/C51)^(('Goal Seek 6th order'!$P$26-1)/'Goal Seek 6th order'!$P$26) -> 2326.1713 | Q52: =(((4.7*10^13)*'O2N2 @ EGR'!$R$7*('O2N2 @ EGR'!$Q$7^0.5)*(EXP(-67837/P52))/('Goal Seek 6th order'!$P$27*6))*('Goal Seek 6th order'!$P$28*10^-6)) -> 1.7684049e-10 | T52: =T51*(C52/C51)^(('Goal Seek 6th order'!$P$26-1)/'Goal Seek 6th order'!$P$26) -> 2310.709 | U52: =(((4.7*10^13)*'O2N2 @ EGR'!$R$8*('O2N2 @ EGR'!$Q$8^0.5)*(EXP(-67837/T52))/('Goal Seek 6th order'!$P$27*6))*('Goal Seek 6th order'!$P$28*10^-6)) -> 1.680387e-10 | X52: =X51*(C52/C51)^(('Goal Seek 6th order'!$P$26-1)/'Goal Seek 6th order'!$P$26) -> 2295.1823 | Y52: =(((4.7*10^13)*'O2N2 @ EGR'!$R$9*('O2N2 @ EGR'!$Q$9^0.5)*(EXP(-67837/X52))/('Goal Seek 6th order'!$P$27*6))*('Goal Seek 6th order'!$P$28*10^-6)) -> 1.5407074e-10 | AB52: =AB51*(C52/C51)^(('Goal Seek 6th order'!$P$26-1)/'Goal Seek 6th order'!$P$26) -> 2216.5468 | AC52: =(((4.7*10^13)*'O2N2 @ EGR'!$R$10*('O2N2 @ EGR'!$Q$10^0.5)*(EXP(-67837/AB52))/('Goal Seek 6th order'!$P$27*6))*('Goal Seek 6th order'!$P$28*10^-6)) -> 7.6452708e-11 | AF52: =AF51*(C52/C51)^(('Goal Seek 6th order'!$P$26-1)/'Goal Seek 6th order'!$P$26) -> 2136.1506 | AG52: =(((4.7*10^13)*'O2N2 @ EGR'!$R$11*('O2N2 @ EGR'!$Q$11^0.5)*(EXP(-67837/AF52))/('Goal Seek 6th order'!$P$27*6))*('Goal Seek 6th order'!$P$28*10^-6)) -> 2.9630476e-11 | AJ52: =AJ51*(C52/C51)^(('Goal Seek 6th order'!$P$26-1)/'Goal Seek 6th order'!$P$26) -> 2053.8688 | AK52: =(((4.7*10^13)*'O2N2 @ EGR'!$R$12*('O2N2 @ EGR'!$Q$12^0.5)*(EXP(-67837/AJ52))/('Goal Seek 6th order'!$P$27*6))*('Goal Seek 6th order'!$P$28*10^-6)) -> 9.5989866e-12 | AN52: =AN51*(C52/C51)^(('Goal Seek 6th order'!$P$26-1)/'Goal Seek 6th order'!$P$26) -> 1969.5733 | AO52: =(((4.7*10^13)*'O2N2 @ EGR'!$R$13*('O2N2 @ EGR'!$Q$13^0.5)*(EXP(-67837/AN52))/('Goal Seek 6th order'!$P$27*6))*('Goal Seek 6th order'!$P$28*10^-6)) -> 2.6139803e-12 | AR52: =AR51*(C52/C51)^(('Goal Seek 6th order'!$P$26-1)/'Goal Seek 6th order'!$P$26) -> 1883.128 | AS52: =(((4.7*10^13)*'O2N2 @ EGR'!$R$14*('O2N2 @ EGR'!$Q$14^0.5)*(EXP(-67837/AR52))/('Goal Seek 6th order'!$P$27*6))*('Goal Seek 6th order'!$P$28*10^-6)) -> 5.8989686e-13 | AV52: =AV51*(C52/C51)^(('Goal Seek 6th order'!$P$26-1)/'Goal Seek 6th order'!$P$26) -> 1794.3884 | AW52: =(((4.7*10^13)*'O2N2 @ EGR'!$R$15*('O2N2 @ EGR'!$Q$15^0.5)*(EXP(-67837/AV52))/('Goal Seek 6th order'!$P$27*6))*('Goal Seek 6th order'!$P$28*10^-6)) -> 1.0742161e-13 | AZ52: =AZ51*(C52/C51)^(('Goal Seek 6th order'!$P$26-1)/'Goal Seek 6th order'!$P$26) -> 1703.194 | BA52: =(((4.7*10^13)*'O2N2 @ EGR'!$R$16*('O2N2 @ EGR'!$Q$16^0.5)*(EXP(-67837/AZ52))/('Goal Seek 6th order'!$P$27*6))*('Goal Seek 6th order'!$P$28*10^-6)) -> 1.5188985e-14
B53: 4 | C53: 18 | D53: =D52*(C53/C52)^(('Goal Seek 6th order'!$P$26-1)/'Goal Seek 6th order'!$P$26) -> 2413.1276 | E53: =(((4.7*10^13)*'O2N2 @ EGR'!$R$4*('O2N2 @ EGR'!$Q$4^0.5)*(EXP(-67837/D53))/('Goal Seek 6th order'!$P$27*6))*('Goal Seek 6th order'!$P$28*10^-6)) -> 0 | H53: =H52*(C53/C52)^(('Goal Seek 6th order'!$P$26-1)/'Goal Seek 6th order'!$P$26) -> 2397.5891 | I53: =(((4.7*10^13)*'O2N2 @ EGR'!$R$5*('O2N2 @ EGR'!$Q$5^0.5)*(EXP(-67837/H53))/('Goal Seek 6th order'!$P$27*6))*('Goal Seek 6th order'!$P$28*10^-6)) -> 2.4325727e-10 | L53: =L52*(C53/C52)^(('Goal Seek 6th order'!$P$26-1)/'Goal Seek 6th order'!$P$26) -> 2381.988 | M53: =(((4.7*10^13)*'O2N2 @ EGR'!$R$6*('O2N2 @ EGR'!$Q$6^0.5)*(EXP(-67837/L53))/('Goal Seek 6th order'!$P$27*6))*('Goal Seek 6th order'!$P$28*10^-6)) -> 2.8589604e-10 | P53: =P52*(C53/C52)^(('Goal Seek 6th order'!$P$26-1)/'Goal Seek 6th order'!$P$26) -> 2366.3234 | Q53: =(((4.7*10^13)*'O2N2 @ EGR'!$R$7*('O2N2 @ EGR'!$Q$7^0.5)*(EXP(-67837/P53))/('Goal Seek 6th order'!$P$27*6))*('Goal Seek 6th order'!$P$28*10^-6)) -> 2.9005846e-10 | T53: =T52*(C53/C52)^(('Goal Seek 6th order'!$P$26-1)/'Goal Seek 6th order'!$P$26) -> 2350.5943 | U53: =(((4.7*10^13)*'O2N2 @ EGR'!$R$8*('O2N2 @ EGR'!$Q$8^0.5)*(EXP(-67837/T53))/('Goal Seek 6th order'!$P$27*6))*('Goal Seek 6th order'!$P$28*10^-6)) -> 2.7653568e-10 | X53: =X52*(C53/C52)^(('Goal Seek 6th order'!$P$26-1)/'Goal Seek 6th order'!$P$26) -> 2334.7995 | Y53: =(((4.7*10^13)*'O2N2 @ EGR'!$R$9*('O2N2 @ EGR'!$Q$9^0.5)*(EXP(-67837/X53))/('Goal Seek 6th order'!$P$27*6))*('Goal Seek 6th order'!$P$28*10^-6)) -> 2.5440496e-10 | AB53: =AB52*(C53/C52)^(('Goal Seek 6th order'!$P$26-1)/'Goal Seek 6th order'!$P$26) -> 2254.8068 | AC53: =(((4.7*10^13)*'O2N2 @ EGR'!$R$10*('O2N2 @ EGR'!$Q$10^0.5)*(EXP(-67837/AB53))/('Goal Seek 6th order'!$P$27*6))*('Goal Seek 6th order'!$P$28*10^-6)) -> 1.2850655e-10 | AF53: =AF52*(C53/C52)^(('Goal Seek 6th order'!$P$26-1)/'Goal Seek 6th order'!$P$26) -> 2173.0228 | AG53: =(((4.7*10^13)*'O2N2 @ EGR'!$R$11*('O2N2 @ EGR'!$Q$11^0.5)*(EXP(-67837/AF53))/('Goal Seek 6th order'!$P$27*6))*('Goal Seek 6th order'!$P$28*10^-6)) -> 5.0787772e-11 | AJ53: =AJ52*(C53/C52)^(('Goal Seek 6th order'!$P$26-1)/'Goal Seek 6th order'!$P$26) -> 2089.3208 | AK53: =(((4.7*10^13)*'O2N2 @ EGR'!$R$12*('O2N2 @ EGR'!$Q$12^0.5)*(EXP(-67837/AJ53))/('Goal Seek 6th order'!$P$27*6))*('Goal Seek 6th order'!$P$28*10^-6)) -> 1.6812071e-11 | AN53: =AN52*(C53/C52)^(('Goal Seek 6th order'!$P$26-1)/'Goal Seek 6th order'!$P$26) -> 2003.5702 | AO53: =(((4.7*10^13)*'O2N2 @ EGR'!$R$13*('O2N2 @ EGR'!$Q$13^0.5)*(EXP(-67837/AN53))/('Goal Seek 6th order'!$P$27*6))*('Goal Seek 6th order'!$P$28*10^-6)) -> 4.6893778e-12 | AR53: =AR52*(C53/C52)^(('Goal Seek 6th order'!$P$26-1)/'Goal Seek 6th order'!$P$26) -> 1915.6328 | AS53: =(((4.7*10^13)*'O2N2 @ EGR'!$R$14*('O2N2 @ EGR'!$Q$14^0.5)*(EXP(-67837/AR53))/('Goal Seek 6th order'!$P$27*6))*('Goal Seek 6th order'!$P$28*10^-6)) -> 1.087027e-12 | AV53: =AV52*(C53/C52)^(('Goal Seek 6th order'!$P$26-1)/'Goal Seek 6th order'!$P$26) -> 1825.3614 | AW53: =(((4.7*10^13)*'O2N2 @ EGR'!$R$15*('O2N2 @ EGR'!$Q$15^0.5)*(EXP(-67837/AV53))/('Goal Seek 6th order'!$P$27*6))*('Goal Seek 6th order'!$P$28*10^-6)) -> 2.0402535e-13 | AZ53: =AZ52*(C53/C52)^(('Goal Seek 6th order'!$P$26-1)/'Goal Seek 6th order'!$P$26) -> 1732.5929 | BA53: =(((4.7*10^13)*'O2N2 @ EGR'!$R$16*('O2N2 @ EGR'!$Q$16^0.5)*(EXP(-67837/AZ53))/('Goal Seek 6th order'!$P$27*6))*('Goal Seek 6th order'!$P$28*10^-6)) -> 2.9856435e-14
B54: 5 | C54: 20 | D54: =D53*(C54/C53)^(('Goal Seek 6th order'!$P$26-1)/'Goal Seek 6th order'!$P$26) -> 2450.3539 | E54: =(((4.7*10^13)*'O2N2 @ EGR'!$R$4*('O2N2 @ EGR'!$Q$4^0.5)*(EXP(-67837/D54))/('Goal Seek 6th order'!$P$27*6))*('Goal Seek 6th order'!$P$28*10^-6)) -> 0 | H54: =H53*(C54/C53)^(('Goal Seek 6th order'!$P$26-1)/'Goal Seek 6th order'!$P$26) -> 2434.5757 | I54: =(((4.7*10^13)*'O2N2 @ EGR'!$R$5*('O2N2 @ EGR'!$Q$5^0.5)*(EXP(-67837/H54))/('Goal Seek 6th order'!$P$27*6))*('Goal Seek 6th order'!$P$28*10^-6)) -> 3.7389146e-10 | L54: =L53*(C54/C53)^(('Goal Seek 6th order'!$P$26-1)/'Goal Seek 6th order'!$P$26) -> 2418.7339 | M54: =(((4.7*10^13)*'O2N2 @ EGR'!$R$6*('O2N2 @ EGR'!$Q$6^0.5)*(EXP(-67837/L54))/('Goal Seek 6th order'!$P$27*6))*('Goal Seek 6th order'!$P$28*10^-6)) -> 4.40667e-10 | P54: =P53*(C54/C53)^(('Goal Seek 6th order'!$P$26-1)/'Goal Seek 6th order'!$P$26) -> 2402.8277 | Q54: =(((4.7*10^13)*'O2N2 @ EGR'!$R$7*('O2N2 @ EGR'!$Q$7^0.5)*(EXP(-67837/P54))/('Goal Seek 6th order'!$P$27*6))*('Goal Seek 6th order'!$P$28*10^-6)) -> 4.483651e-10 | T54: =T53*(C54/C53)^(('Goal Seek 6th order'!$P$26-1)/'Goal Seek 6th order'!$P$26) -> 2386.8559 | U54: =(((4.7*10^13)*'O2N2 @ EGR'!$R$8*('O2N2 @ EGR'!$Q$8^0.5)*(EXP(-67837/T54))/('Goal Seek 6th order'!$P$27*6))*('Goal Seek 6th order'!$P$28*10^-6)) -> 4.2870952e-10 | X54: =X53*(C54/C53)^(('Goal Seek 6th order'!$P$26-1)/'Goal Seek 6th order'!$P$26) -> 2370.8175 | Y54: =(((4.7*10^13)*'O2N2 @ EGR'!$R$9*('O2N2 @ EGR'!$Q$9^0.5)*(EXP(-67837/X54))/('Goal Seek 6th order'!$P$27*6))*('Goal Seek 6th order'!$P$28*10^-6)) -> 3.955721e-10 | AB54: =AB53*(C54/C53)^(('Goal Seek 6th order'!$P$26-1)/'Goal Seek 6th order'!$P$26) -> 2289.5907 | AC54: =(((4.7*10^13)*'O2N2 @ EGR'!$R$10*('O2N2 @ EGR'!$Q$10^0.5)*(EXP(-67837/AB54))/('Goal Seek 6th order'!$P$27*6))*('Goal Seek 6th order'!$P$28*10^-6)) -> 2.0296736e-10 | AF54: =AF53*(C54/C53)^(('Goal Seek 6th order'!$P$26-1)/'Goal Seek 6th order'!$P$26) -> 2206.5451 | AG54: =(((4.7*10^13)*'O2N2 @ EGR'!$R$11*('O2N2 @ EGR'!$Q$11^0.5)*(EXP(-67837/AF54))/('Goal Seek 6th order'!$P$27*6))*('Goal Seek 6th order'!$P$28*10^-6)) -> 8.1607652e-11 | AJ54: =AJ53*(C54/C53)^(('Goal Seek 6th order'!$P$26-1)/'Goal Seek 6th order'!$P$26) -> 2121.5518 | AK54: =(((4.7*10^13)*'O2N2 @ EGR'!$R$12*('O2N2 @ EGR'!$Q$12^0.5)*(EXP(-67837/AJ54))/('Goal Seek 6th order'!$P$27*6))*('Goal Seek 6th order'!$P$28*10^-6)) -> 2.753243e-11 | AN54: =AN53*(C54/C53)^(('Goal Seek 6th order'!$P$26-1)/'Goal Seek 6th order'!$P$26) -> 2034.4784 | AO54: =(((4.7*10^13)*'O2N2 @ EGR'!$R$13*('O2N2 @ EGR'!$Q$13^0.5)*(EXP(-67837/AN54))/('Goal Seek 6th order'!$P$27*6))*('Goal Seek 6th order'!$P$28*10^-6)) -> 7.8434487e-12 | AR54: =AR53*(C54/C53)^(('Goal Seek 6th order'!$P$26-1)/'Goal Seek 6th order'!$P$26) -> 1945.1844 | AS54: =(((4.7*10^13)*'O2N2 @ EGR'!$R$14*('O2N2 @ EGR'!$Q$14^0.5)*(EXP(-67837/AR54))/('Goal Seek 6th order'!$P$27*6))*('Goal Seek 6th order'!$P$28*10^-6)) -> 1.8616027e-12 | AV54: =AV53*(C54/C53)^(('Goal Seek 6th order'!$P$26-1)/'Goal Seek 6th order'!$P$26) -> 1853.5205 | AW54: =(((4.7*10^13)*'O2N2 @ EGR'!$R$15*('O2N2 @ EGR'!$Q$15^0.5)*(EXP(-67837/AV54))/('Goal Seek 6th order'!$P$27*6))*('Goal Seek 6th order'!$P$28*10^-6)) -> 3.5882737e-13 | AZ54: =AZ53*(C54/C53)^(('Goal Seek 6th order'!$P$26-1)/'Goal Seek 6th order'!$P$26) -> 1759.3209 | BA54: =(((4.7*10^13)*'O2N2 @ EGR'!$R$16*('O2N2 @ EGR'!$Q$16^0.5)*(EXP(-67837/AZ54))/('Goal Seek 6th order'!$P$27*6))*('Goal Seek 6th order'!$P$28*10^-6)) -> 5.4121304e-14
B55: 6 | C55: 22 | D55: =D54*(C55/C54)^(('Goal Seek 6th order'!$P$26-1)/'Goal Seek 6th order'!$P$26) -> 2484.5236 | E55: =(((4.7*10^13)*'O2N2 @ EGR'!$R$4*('O2N2 @ EGR'!$Q$4^0.5)*(EXP(-67837/D55))/('Goal Seek 6th order'!$P$27*6))*('Goal Seek 6th order'!$P$28*10^-6)) -> 0 | H55: =H54*(C55/C54)^(('Goal Seek 6th order'!$P$26-1)/'Goal Seek 6th order'!$P$26) -> 2468.5254 | I55: =(((4.7*10^13)*'O2N2 @ EGR'!$R$5*('O2N2 @ EGR'!$Q$5^0.5)*(EXP(-67837/H55))/('Goal Seek 6th order'!$P$27*6))*('Goal Seek 6th order'!$P$28*10^-6)) -> 5.4849607e-10 | L55: =L54*(C55/C54)^(('Goal Seek 6th order'!$P$26-1)/'Goal Seek 6th order'!$P$26) -> 2452.4628 | M55: =(((4.7*10^13)*'O2N2 @ EGR'!$R$6*('O2N2 @ EGR'!$Q$6^0.5)*(EXP(-67837/L55))/('Goal Seek 6th order'!$P$27*6))*('Goal Seek 6th order'!$P$28*10^-6)) -> 6.4807988e-10 | P55: =P54*(C55/C54)^(('Goal Seek 6th order'!$P$26-1)/'Goal Seek 6th order'!$P$26) -> 2436.3347 | Q55: =(((4.7*10^13)*'O2N2 @ EGR'!$R$7*('O2N2 @ EGR'!$Q$7^0.5)*(EXP(-67837/P55))/('Goal Seek 6th order'!$P$27*6))*('Goal Seek 6th order'!$P$28*10^-6)) -> 6.6108719e-10 | T55: =T54*(C55/C54)^(('Goal Seek 6th order'!$P$26-1)/'Goal Seek 6th order'!$P$26) -> 2420.1402 | U55: =(((4.7*10^13)*'O2N2 @ EGR'!$R$8*('O2N2 @ EGR'!$Q$8^0.5)*(EXP(-67837/T55))/('Goal Seek 6th order'!$P$27*6))*('Goal Seek 6th order'!$P$28*10^-6)) -> 6.337507e-10 | X55: =X54*(C55/C54)^(('Goal Seek 6th order'!$P$26-1)/'Goal Seek 6th order'!$P$26) -> 2403.8781 | Y55: =(((4.7*10^13)*'O2N2 @ EGR'!$R$9*('O2N2 @ EGR'!$Q$9^0.5)*(EXP(-67837/X55))/('Goal Seek 6th order'!$P$27*6))*('Goal Seek 6th order'!$P$28*10^-6)) -> 5.8631278e-10 | AB55: =AB54*(C55/C54)^(('Goal Seek 6th order'!$P$26-1)/'Goal Seek 6th order'!$P$26) -> 2321.5186 | AC55: =(((4.7*10^13)*'O2N2 @ EGR'!$R$10*('O2N2 @ EGR'!$Q$10^0.5)*(EXP(-67837/AB55))/('Goal Seek 6th order'!$P$27*6))*('Goal Seek 6th order'!$P$28*10^-6)) -> 3.0506542e-10 | AF55: =AF54*(C55/C54)^(('Goal Seek 6th order'!$P$26-1)/'Goal Seek 6th order'!$P$26) -> 2237.315 | AG55: =(((4.7*10^13)*'O2N2 @ EGR'!$R$11*('O2N2 @ EGR'!$Q$11^0.5)*(EXP(-67837/AF55))/('Goal Seek 6th order'!$P$27*6))*('Goal Seek 6th order'!$P$28*10^-6)) -> 1.2455409e-10 | AJ55: =AJ54*(C55/C54)^(('Goal Seek 6th order'!$P$26-1)/'Goal Seek 6th order'!$P$26) -> 2151.1365 | AK55: =(((4.7*10^13)*'O2N2 @ EGR'!$R$12*('O2N2 @ EGR'!$Q$12^0.5)*(EXP(-67837/AJ55))/('Goal Seek 6th order'!$P$27*6))*('Goal Seek 6th order'!$P$28*10^-6)) -> 4.2739367e-11 | AN55: =AN54*(C55/C54)^(('Goal Seek 6th order'!$P$26-1)/'Goal Seek 6th order'!$P$26) -> 2062.8488 | AO55: =(((4.7*10^13)*'O2N2 @ EGR'!$R$13*('O2N2 @ EGR'!$Q$13^0.5)*(EXP(-67837/AN55))/('Goal Seek 6th order'!$P$27*6))*('Goal Seek 6th order'!$P$28*10^-6)) -> 1.2406935e-11 | AR55: =AR54*(C55/C54)^(('Goal Seek 6th order'!$P$26-1)/'Goal Seek 6th order'!$P$26) -> 1972.3097 | AS55: =(((4.7*10^13)*'O2N2 @ EGR'!$R$14*('O2N2 @ EGR'!$Q$14^0.5)*(EXP(-67837/AR55))/('Goal Seek 6th order'!$P$27*6))*('Goal Seek 6th order'!$P$28*10^-6)) -> 3.0073694e-12 | AV55: =AV54*(C55/C54)^(('Goal Seek 6th order'!$P$26-1)/'Goal Seek 6th order'!$P$26) -> 1879.3675 | AW55: =(((4.7*10^13)*'O2N2 @ EGR'!$R$15*('O2N2 @ EGR'!$Q$15^0.5)*(EXP(-67837/AV55))/('Goal Seek 6th order'!$P$27*6))*('Goal Seek 6th order'!$P$28*10^-6)) -> 5.9359002e-13 | AZ55: =AZ54*(C55/C54)^(('Goal Seek 6th order'!$P$26-1)/'Goal Seek 6th order'!$P$26) -> 1783.8543 | BA55: =(((4.7*10^13)*'O2N2 @ EGR'!$R$16*('O2N2 @ EGR'!$Q$16^0.5)*(EXP(-67837/AZ55))/('Goal Seek 6th order'!$P$27*6))*('Goal Seek 6th order'!$P$28*10^-6)) -> 9.1975864e-14
B56: 7 | C56: 24 | D56: =D55*(C56/C55)^(('Goal Seek 6th order'!$P$26-1)/'Goal Seek 6th order'!$P$26) -> 2516.134 | E56: =(((4.7*10^13)*'O2N2 @ EGR'!$R$4*('O2N2 @ EGR'!$Q$4^0.5)*(EXP(-67837/D56))/('Goal Seek 6th order'!$P$27*6))*('Goal Seek 6th order'!$P$28*10^-6)) -> 0 | H56: =H55*(C56/C55)^(('Goal Seek 6th order'!$P$26-1)/'Goal Seek 6th order'!$P$26) -> 2499.9323 | I56: =(((4.7*10^13)*'O2N2 @ EGR'!$R$5*('O2N2 @ EGR'!$Q$5^0.5)*(EXP(-67837/H56))/('Goal Seek 6th order'!$P$27*6))*('Goal Seek 6th order'!$P$28*10^-6)) -> 7.7465965e-10 | L56: =L55*(C56/C55)^(('Goal Seek 6th order'!$P$26-1)/'Goal Seek 6th order'!$P$26) -> 2483.6653 | M56: =(((4.7*10^13)*'O2N2 @ EGR'!$R$6*('O2N2 @ EGR'!$Q$6^0.5)*(EXP(-67837/L56))/('Goal Seek 6th order'!$P$27*6))*('Goal Seek 6th order'!$P$28*10^-6)) -> 9.1737728e-10 | P56: =P55*(C56/C55)^(('Goal Seek 6th order'!$P$26-1)/'Goal Seek 6th order'!$P$26) -> 2467.332 | Q56: =(((4.7*10^13)*'O2N2 @ EGR'!$R$7*('O2N2 @ EGR'!$Q$7^0.5)*(EXP(-67837/P56))/('Goal Seek 6th order'!$P$27*6))*('Goal Seek 6th order'!$P$28*10^-6)) -> 9.3794472e-10 | T56: =T55*(C56/C55)^(('Goal Seek 6th order'!$P$26-1)/'Goal Seek 6th order'!$P$26) -> 2450.9315 | U56: =(((4.7*10^13)*'O2N2 @ EGR'!$R$8*('O2N2 @ EGR'!$Q$8^0.5)*(EXP(-67837/T56))/('Goal Seek 6th order'!$P$27*6))*('Goal Seek 6th order'!$P$28*10^-6)) -> 9.0126712e-10 | X56: =X55*(C56/C55)^(('Goal Seek 6th order'!$P$26-1)/'Goal Seek 6th order'!$P$26) -> 2434.4625 | Y56: =(((4.7*10^13)*'O2N2 @ EGR'!$R$9*('O2N2 @ EGR'!$Q$9^0.5)*(EXP(-67837/X56))/('Goal Seek 6th order'!$P$27*6))*('Goal Seek 6th order'!$P$28*10^-6)) -> 8.3579357e-10 | AB56: =AB55*(C56/C55)^(('Goal Seek 6th order'!$P$26-1)/'Goal Seek 6th order'!$P$26) -> 2351.0552 | AC56: =(((4.7*10^13)*'O2N2 @ EGR'!$R$10*('O2N2 @ EGR'!$Q$10^0.5)*(EXP(-67837/AB56))/('Goal Seek 6th order'!$P$27*6))*('Goal Seek 6th order'!$P$28*10^-6)) -> 4.4037733e-10 | AF56: =AF55*(C56/C55)^(('Goal Seek 6th order'!$P$26-1)/'Goal Seek 6th order'!$P$26) -> 2265.7802 | AG56: =(((4.7*10^13)*'O2N2 @ EGR'!$R$11*('O2N2 @ EGR'!$Q$11^0.5)*(EXP(-67837/AF56))/('Goal Seek 6th order'!$P$27*6))*('Goal Seek 6th order'!$P$28*10^-6)) -> 1.8230155e-10 | AJ56: =AJ55*(C56/C55)^(('Goal Seek 6th order'!$P$26-1)/'Goal Seek 6th order'!$P$26) -> 2178.5052 | AK56: =(((4.7*10^13)*'O2N2 @ EGR'!$R$12*('O2N2 @ EGR'!$Q$12^0.5)*(EXP(-67837/AJ56))/('Goal Seek 6th order'!$P$27*6))*('Goal Seek 6th order'!$P$28*10^-6)) -> 6.3516709e-11 | AN56: =AN55*(C56/C55)^(('Goal Seek 6th order'!$P$26-1)/'Goal Seek 6th order'!$P$26) -> 2089.0943 | AO56: =(((4.7*10^13)*'O2N2 @ EGR'!$R$13*('O2N2 @ EGR'!$Q$13^0.5)*(EXP(-67837/AN56))/('Goal Seek 6th order'!$P$27*6))*('Goal Seek 6th order'!$P$28*10^-6)) -> 1.875376e-11 | AR56: =AR55*(C56/C55)^(('Goal Seek 6th order'!$P$26-1)/'Goal Seek 6th order'!$P$26) -> 1997.4032 | AS56: =(((4.7*10^13)*'O2N2 @ EGR'!$R$14*('O2N2 @ EGR'!$Q$14^0.5)*(EXP(-67837/AR56))/('Goal Seek 6th order'!$P$27*6))*('Goal Seek 6th order'!$P$28*10^-6)) -> 4.6328381e-12 | AV56: =AV55*(C56/C55)^(('Goal Seek 6th order'!$P$26-1)/'Goal Seek 6th order'!$P$26) -> 1903.2786 | AW56: =(((4.7*10^13)*'O2N2 @ EGR'!$R$15*('O2N2 @ EGR'!$Q$15^0.5)*(EXP(-67837/AV56))/('Goal Seek 6th order'!$P$27*6))*('Goal Seek 6th order'!$P$28*10^-6)) -> 9.3417337e-13 | AZ56: =AZ55*(C56/C55)^(('Goal Seek 6th order'!$P$26-1)/'Goal Seek 6th order'!$P$26) -> 1806.5502 | BA56: =(((4.7*10^13)*'O2N2 @ EGR'!$R$16*('O2N2 @ EGR'!$Q$16^0.5)*(EXP(-67837/AZ56))/('Goal Seek 6th order'!$P$27*6))*('Goal Seek 6th order'!$P$28*10^-6)) -> 1.483063e-13
B57: 8 | C57: 26 | D57: =D56*(C57/C56)^(('Goal Seek 6th order'!$P$26-1)/'Goal Seek 6th order'!$P$26) -> 2545.5679 | E57: =(((4.7*10^13)*'O2N2 @ EGR'!$R$4*('O2N2 @ EGR'!$Q$4^0.5)*(EXP(-67837/D57))/('Goal Seek 6th order'!$P$27*6))*('Goal Seek 6th order'!$P$28*10^-6)) -> 0 | H57: =H56*(C57/C56)^(('Goal Seek 6th order'!$P$26-1)/'Goal Seek 6th order'!$P$26) -> 2529.1765 | I57: =(((4.7*10^13)*'O2N2 @ EGR'!$R$5*('O2N2 @ EGR'!$Q$5^0.5)*(EXP(-67837/H57))/('Goal Seek 6th order'!$P$27*6))*('Goal Seek 6th order'!$P$28*10^-6)) -> 1.0601712e-09 | L57: =L56*(C57/C56)^(('Goal Seek 6th order'!$P$26-1)/'Goal Seek 6th order'!$P$26) -> 2512.7193 | M57: =(((4.7*10^13)*'O2N2 @ EGR'!$R$6*('O2N2 @ EGR'!$Q$6^0.5)*(EXP(-67837/L57))/('Goal Seek 6th order'!$P$27*6))*('Goal Seek 6th order'!$P$28*10^-6)) -> 1.2580721e-09 | P57: =P56*(C57/C56)^(('Goal Seek 6th order'!$P$26-1)/'Goal Seek 6th order'!$P$26) -> 2496.195 | Q57: =(((4.7*10^13)*'O2N2 @ EGR'!$R$7*('O2N2 @ EGR'!$Q$7^0.5)*(EXP(-67837/P57))/('Goal Seek 6th order'!$P$27*6))*('Goal Seek 6th order'!$P$28*10^-6)) -> 1.2889698e-09 | T57: =T56*(C57/C56)^(('Goal Seek 6th order'!$P$26-1)/'Goal Seek 6th order'!$P$26) -> 2479.6025 | U57: =(((4.7*10^13)*'O2N2 @ EGR'!$R$8*('O2N2 @ EGR'!$Q$8^0.5)*(EXP(-67837/T57))/('Goal Seek 6th order'!$P$27*6))*('Goal Seek 6th order'!$P$28*10^-6)) -> 1.2412032e-09 | X57: =X56*(C57/C56)^(('Goal Seek 6th order'!$P$26-1)/'Goal Seek 6th order'!$P$26) -> 2462.9409 | Y57: =(((4.7*10^13)*'O2N2 @ EGR'!$R$9*('O2N2 @ EGR'!$Q$9^0.5)*(EXP(-67837/X57))/('Goal Seek 6th order'!$P$27*6))*('Goal Seek 6th order'!$P$28*10^-6)) -> 1.1535294e-09 | AB57: =AB56*(C57/C56)^(('Goal Seek 6th order'!$P$26-1)/'Goal Seek 6th order'!$P$26) -> 2378.5579 | AC57: =(((4.7*10^13)*'O2N2 @ EGR'!$R$10*('O2N2 @ EGR'!$Q$10^0.5)*(EXP(-67837/AB57))/('Goal Seek 6th order'!$P$27*6))*('Goal Seek 6th order'!$P$28*10^-6)) -> 6.147787e-10 | AF57: =AF56*(C57/C56)^(('Goal Seek 6th order'!$P$26-1)/'Goal Seek 6th order'!$P$26) -> 2292.2853 | AG57: =(((4.7*10^13)*'O2N2 @ EGR'!$R$11*('O2N2 @ EGR'!$Q$11^0.5)*(EXP(-67837/AF57))/('Goal Seek 6th order'!$P$27*6))*('Goal Seek 6th order'!$P$28*10^-6)) -> 2.5771366e-10 | AJ57: =AJ56*(C57/C56)^(('Goal Seek 6th order'!$P$26-1)/'Goal Seek 6th order'!$P$26) -> 2203.9895 | AK57: =(((4.7*10^13)*'O2N2 @ EGR'!$R$12*('O2N2 @ EGR'!$Q$12^0.5)*(EXP(-67837/AJ57))/('Goal Seek 6th order'!$P$27*6))*('Goal Seek 6th order'!$P$28*10^-6)) -> 9.104545e-11 | AN57: =AN56*(C57/C56)^(('Goal Seek 6th order'!$P$26-1)/'Goal Seek 6th order'!$P$26) -> 2113.5326 | AO57: =(((4.7*10^13)*'O2N2 @ EGR'!$R$13*('O2N2 @ EGR'!$Q$13^0.5)*(EXP(-67837/AN57))/('Goal Seek 6th order'!$P$27*6))*('Goal Seek 6th order'!$P$28*10^-6)) -> 2.7299274e-11 | AR57: =AR56*(C57/C56)^(('Goal Seek 6th order'!$P$26-1)/'Goal Seek 6th order'!$P$26) -> 2020.7689 | AS57: =(((4.7*10^13)*'O2N2 @ EGR'!$R$14*('O2N2 @ EGR'!$Q$14^0.5)*(EXP(-67837/AR57))/('Goal Seek 6th order'!$P$27*6))*('Goal Seek 6th order'!$P$28*10^-6)) -> 6.8611242e-12 | AV57: =AV56*(C57/C56)^(('Goal Seek 6th order'!$P$26-1)/'Goal Seek 6th order'!$P$26) -> 1925.5432 | AW57: =(((4.7*10^13)*'O2N2 @ EGR'!$R$15*('O2N2 @ EGR'!$Q$15^0.5)*(EXP(-67837/AV57))/('Goal Seek 6th order'!$P$27*6))*('Goal Seek 6th order'!$P$28*10^-6)) -> 1.4106196e-12 | AZ57: =AZ56*(C57/C56)^(('Goal Seek 6th order'!$P$26-1)/'Goal Seek 6th order'!$P$26) -> 1827.6832 | BA57: =(((4.7*10^13)*'O2N2 @ EGR'!$R$16*('O2N2 @ EGR'!$Q$16^0.5)*(EXP(-67837/AZ57))/('Goal Seek 6th order'!$P$27*6))*('Goal Seek 6th order'!$P$28*10^-6)) -> 2.2894192e-13
B58: 9 | C58: 28 | D58: =D57*(C58/C57)^(('Goal Seek 6th order'!$P$26-1)/'Goal Seek 6th order'!$P$26) -> 2573.1262 | E58: =(((4.7*10^13)*'O2N2 @ EGR'!$R$4*('O2N2 @ EGR'!$Q$4^0.5)*(EXP(-67837/D58))/('Goal Seek 6th order'!$P$27*6))*('Goal Seek 6th order'!$P$28*10^-6)) -> 0 | H58: =H57*(C58/C57)^(('Goal Seek 6th order'!$P$26-1)/'Goal Seek 6th order'!$P$26) -> 2556.5574 | I58: =(((4.7*10^13)*'O2N2 @ EGR'!$R$5*('O2N2 @ EGR'!$Q$5^0.5)*(EXP(-67837/H58))/('Goal Seek 6th order'!$P$27*6))*('Goal Seek 6th order'!$P$28*10^-6)) -> 1.412969e-09 | L58: =L57*(C58/C57)^(('Goal Seek 6th order'!$P$26-1)/'Goal Seek 6th order'!$P$26) -> 2539.922 | M58: =(((4.7*10^13)*'O2N2 @ EGR'!$R$6*('O2N2 @ EGR'!$Q$6^0.5)*(EXP(-67837/L58))/('Goal Seek 6th order'!$P$27*6))*('Goal Seek 6th order'!$P$28*10^-6)) -> 1.6798839e-09 | P58: =P57*(C58/C57)^(('Goal Seek 6th order'!$P$26-1)/'Goal Seek 6th order'!$P$26) -> 2523.2188 | Q58: =(((4.7*10^13)*'O2N2 @ EGR'!$R$7*('O2N2 @ EGR'!$Q$7^0.5)*(EXP(-67837/P58))/('Goal Seek 6th order'!$P$27*6))*('Goal Seek 6th order'!$P$28*10^-6)) -> 1.7244387e-09 | T58: =T57*(C58/C57)^(('Goal Seek 6th order'!$P$26-1)/'Goal Seek 6th order'!$P$26) -> 2506.4467 | U58: =(((4.7*10^13)*'O2N2 @ EGR'!$R$8*('O2N2 @ EGR'!$Q$8^0.5)*(EXP(-67837/T58))/('Goal Seek 6th order'!$P$27*6))*('Goal Seek 6th order'!$P$28*10^-6)) -> 1.6637718e-09 | X58: =X57*(C58/C57)^(('Goal Seek 6th order'!$P$26-1)/'Goal Seek 6th order'!$P$26) -> 2489.6047 | Y58: =(((4.7*10^13)*'O2N2 @ EGR'!$R$9*('O2N2 @ EGR'!$Q$9^0.5)*(EXP(-67837/X58))/('Goal Seek 6th order'!$P$27*6))*('Goal Seek 6th order'!$P$28*10^-6)) -> 1.5493173e-09 | AB58: =AB57*(C58/C57)^(('Goal Seek 6th order'!$P$26-1)/'Goal Seek 6th order'!$P$26) -> 2404.3082 | AC58: =(((4.7*10^13)*'O2N2 @ EGR'!$R$10*('O2N2 @ EGR'!$Q$10^0.5)*(EXP(-67837/AB58))/('Goal Seek 6th order'!$P$27*6))*('Goal Seek 6th order'!$P$28*10^-6)) -> 8.3440228e-10 | AF58: =AF57*(C58/C57)^(('Goal Seek 6th order'!$P$26-1)/'Goal Seek 6th order'!$P$26) -> 2317.1016 | AG58: =(((4.7*10^13)*'O2N2 @ EGR'!$R$11*('O2N2 @ EGR'!$Q$11^0.5)*(EXP(-67837/AF58))/('Goal Seek 6th order'!$P$27*6))*('Goal Seek 6th order'!$P$28*10^-6)) -> 3.5382359e-10 | AJ58: =AJ57*(C58/C57)^(('Goal Seek 6th order'!$P$26-1)/'Goal Seek 6th order'!$P$26) -> 2227.8499 | AK58: =(((4.7*10^13)*'O2N2 @ EGR'!$R$12*('O2N2 @ EGR'!$Q$12^0.5)*(EXP(-67837/AJ58))/('Goal Seek 6th order'!$P$27*6))*('Goal Seek 6th order'!$P$28*10^-6)) -> 1.2659661e-10 | AN58: =AN57*(C58/C57)^(('Goal Seek 6th order'!$P$26-1)/'Goal Seek 6th order'!$P$26) -> 2136.4137 | AO58: =(((4.7*10^13)*'O2N2 @ EGR'!$R$13*('O2N2 @ EGR'!$Q$13^0.5)*(EXP(-67837/AN58))/('Goal Seek 6th order'!$P$27*6))*('Goal Seek 6th order'!$P$28*10^-6)) -> 3.8498355e-11 | AR58: =AR57*(C58/C57)^(('Goal Seek 6th order'!$P$26-1)/'Goal Seek 6th order'!$P$26) -> 2042.6458 | AS58: =(((4.7*10^13)*'O2N2 @ EGR'!$R$14*('O2N2 @ EGR'!$Q$14^0.5)*(EXP(-67837/AR58))/('Goal Seek 6th order'!$P$27*6))*('Goal Seek 6th order'!$P$28*10^-6)) -> 9.8296848e-12 | AV58: =AV57*(C58/C57)^(('Goal Seek 6th order'!$P$26-1)/'Goal Seek 6th order'!$P$26) -> 1946.3891 | AW58: =(((4.7*10^13)*'O2N2 @ EGR'!$R$15*('O2N2 @ EGR'!$Q$15^0.5)*(EXP(-67837/AV58))/('Goal Seek 6th order'!$P$27*6))*('Goal Seek 6th order'!$P$28*10^-6)) -> 2.0571984e-12 | AZ58: =AZ57*(C58/C57)^(('Goal Seek 6th order'!$P$26-1)/'Goal Seek 6th order'!$P$26) -> 1847.4697 | BA58: =(((4.7*10^13)*'O2N2 @ EGR'!$R$16*('O2N2 @ EGR'!$Q$16^0.5)*(EXP(-67837/AZ58))/('Goal Seek 6th order'!$P$27*6))*('Goal Seek 6th order'!$P$28*10^-6)) -> 3.4069481e-13
B59: 10 | C59: 30 | D59: =D58*(C59/C58)^(('Goal Seek 6th order'!$P$26-1)/'Goal Seek 6th order'!$P$26) -> 2599.0505 | E59: =(((4.7*10^13)*'O2N2 @ EGR'!$R$4*('O2N2 @ EGR'!$Q$4^0.5)*(EXP(-67837/D59))/('Goal Seek 6th order'!$P$27*6))*('Goal Seek 6th order'!$P$28*10^-6)) -> 0 | H59: =H58*(C59/C58)^(('Goal Seek 6th order'!$P$26-1)/'Goal Seek 6th order'!$P$26) -> 2582.3148 | I59: =(((4.7*10^13)*'O2N2 @ EGR'!$R$5*('O2N2 @ EGR'!$Q$5^0.5)*(EXP(-67837/H59))/('Goal Seek 6th order'!$P$27*6))*('Goal Seek 6th order'!$P$28*10^-6)) -> 1.8410984e-09 | L59: =L58*(C59/C58)^(('Goal Seek 6th order'!$P$26-1)/'Goal Seek 6th order'!$P$26) -> 2565.5118 | M59: =(((4.7*10^13)*'O2N2 @ EGR'!$R$6*('O2N2 @ EGR'!$Q$6^0.5)*(EXP(-67837/L59))/('Goal Seek 6th order'!$P$27*6))*('Goal Seek 6th order'!$P$28*10^-6)) -> 2.1926862e-09 | P59: =P58*(C59/C58)^(('Goal Seek 6th order'!$P$26-1)/'Goal Seek 6th order'!$P$26) -> 2548.6403 | Q59: =(((4.7*10^13)*'O2N2 @ EGR'!$R$7*('O2N2 @ EGR'!$Q$7^0.5)*(EXP(-67837/P59))/('Goal Seek 6th order'!$P$27*6))*('Goal Seek 6th order'!$P$28*10^-6)) -> 2.2548147e-09 | T59: =T58*(C59/C58)^(('Goal Seek 6th order'!$P$26-1)/'Goal Seek 6th order'!$P$26) -> 2531.6992 | U59: =(((4.7*10^13)*'O2N2 @ EGR'!$R$8*('O2N2 @ EGR'!$Q$8^0.5)*(EXP(-67837/T59))/('Goal Seek 6th order'!$P$27*6))*('Goal Seek 6th order'!$P$28*10^-6)) -> 2.1793962e-09 | X59: =X58*(C59/C58)^(('Goal Seek 6th order'!$P$26-1)/'Goal Seek 6th order'!$P$26) -> 2514.6876 | Y59: =(((4.7*10^13)*'O2N2 @ EGR'!$R$9*('O2N2 @ EGR'!$Q$9^0.5)*(EXP(-67837/X59))/('Goal Seek 6th order'!$P$27*6))*('Goal Seek 6th order'!$P$28*10^-6)) -> 2.0331804e-09 | AB59: =AB58*(C59/C58)^(('Goal Seek 6th order'!$P$26-1)/'Goal Seek 6th order'!$P$26) -> 2428.5316 | AC59: =(((4.7*10^13)*'O2N2 @ EGR'!$R$10*('O2N2 @ EGR'!$Q$10^0.5)*(EXP(-67837/AB59))/('Goal Seek 6th order'!$P$27*6))*('Goal Seek 6th order'!$P$28*10^-6)) -> 1.1056013e-09 | AF59: =AF58*(C59/C58)^(('Goal Seek 6th order'!$P$26-1)/'Goal Seek 6th order'!$P$26) -> 2340.4465 | AG59: =(((4.7*10^13)*'O2N2 @ EGR'!$R$11*('O2N2 @ EGR'!$Q$11^0.5)*(EXP(-67837/AF59))/('Goal Seek 6th order'!$P$27*6))*('Goal Seek 6th order'!$P$28*10^-6)) -> 4.7381611e-10 | AJ59: =AJ58*(C59/C58)^(('Goal Seek 6th order'!$P$26-1)/'Goal Seek 6th order'!$P$26) -> 2250.2955 | AK59: =(((4.7*10^13)*'O2N2 @ EGR'!$R$12*('O2N2 @ EGR'!$Q$12^0.5)*(EXP(-67837/AJ59))/('Goal Seek 6th order'!$P$27*6))*('Goal Seek 6th order'!$P$28*10^-6)) -> 1.7152439e-10 | AN59: =AN58*(C59/C58)^(('Goal Seek 6th order'!$P$26-1)/'Goal Seek 6th order'!$P$26) -> 2157.9382 | AO59: =(((4.7*10^13)*'O2N2 @ EGR'!$R$13*('O2N2 @ EGR'!$Q$13^0.5)*(EXP(-67837/AN59))/('Goal Seek 6th order'!$P$27*6))*('Goal Seek 6th order'!$P$28*10^-6)) -> 5.2843468e-11 | AR59: =AR58*(C59/C58)^(('Goal Seek 6th order'!$P$26-1)/'Goal Seek 6th order'!$P$26) -> 2063.2255 | AS59: =(((4.7*10^13)*'O2N2 @ EGR'!$R$14*('O2N2 @ EGR'!$Q$14^0.5)*(EXP(-67837/AR59))/('Goal Seek 6th order'!$P$27*6))*('Goal Seek 6th order'!$P$28*10^-6)) -> 1.3689984e-11 | AV59: =AV58*(C59/C58)^(('Goal Seek 6th order'!$P$26-1)/'Goal Seek 6th order'!$P$26) -> 1965.999 | AW59: =(((4.7*10^13)*'O2N2 @ EGR'!$R$15*('O2N2 @ EGR'!$Q$15^0.5)*(EXP(-67837/AV59))/('Goal Seek 6th order'!$P$27*6))*('Goal Seek 6th order'!$P$28*10^-6)) -> 2.912421e-12 | AZ59: =AZ58*(C59/C58)^(('Goal Seek 6th order'!$P$26-1)/'Goal Seek 6th order'!$P$26) -> 1866.083 | BA59: =(((4.7*10^13)*'O2N2 @ EGR'!$R$16*('O2N2 @ EGR'!$Q$16^0.5)*(EXP(-67837/AZ59))/('Goal Seek 6th order'!$P$27*6))*('Goal Seek 6th order'!$P$28*10^-6)) -> 4.9139114e-13
B60: 11 | C60: 32 | D60: =D59*(C60/C59)^(('Goal Seek 6th order'!$P$26-1)/'Goal Seek 6th order'!$P$26) -> 2623.5374 | E60: =(((4.7*10^13)*'O2N2 @ EGR'!$R$4*('O2N2 @ EGR'!$Q$4^0.5)*(EXP(-67837/D60))/('Goal Seek 6th order'!$P$27*6))*('Goal Seek 6th order'!$P$28*10^-6)) -> 0 | H60: =H59*(C60/C59)^(('Goal Seek 6th order'!$P$26-1)/'Goal Seek 6th order'!$P$26) -> 2606.6441 | I60: =(((4.7*10^13)*'O2N2 @ EGR'!$R$5*('O2N2 @ EGR'!$Q$5^0.5)*(EXP(-67837/H60))/('Goal Seek 6th order'!$P$27*6))*('Goal Seek 6th order'!$P$28*10^-6)) -> 2.3526763e-09 | L60: =L59*(C60/C59)^(('Goal Seek 6th order'!$P$26-1)/'Goal Seek 6th order'!$P$26) -> 2589.6827 | M60: =(((4.7*10^13)*'O2N2 @ EGR'!$R$6*('O2N2 @ EGR'!$Q$6^0.5)*(EXP(-67837/L60))/('Goal Seek 6th order'!$P$27*6))*('Goal Seek 6th order'!$P$28*10^-6)) -> 2.8064615e-09 | P60: =P59*(C60/C59)^(('Goal Seek 6th order'!$P$26-1)/'Goal Seek 6th order'!$P$26) -> 2572.6523 | Q60: =(((4.7*10^13)*'O2N2 @ EGR'!$R$7*('O2N2 @ EGR'!$Q$7^0.5)*(EXP(-67837/P60))/('Goal Seek 6th order'!$P$27*6))*('Goal Seek 6th order'!$P$28*10^-6)) -> 2.8906998e-09 | T60: =T59*(C60/C59)^(('Goal Seek 6th order'!$P$26-1)/'Goal Seek 6th order'!$P$26) -> 2555.5516 | U60: =(((4.7*10^13)*'O2N2 @ EGR'!$R$8*('O2N2 @ EGR'!$Q$8^0.5)*(EXP(-67837/T60))/('Goal Seek 6th order'!$P$27*6))*('Goal Seek 6th order'!$P$28*10^-6)) -> 2.798661e-09 | X60: =X59*(C60/C59)^(('Goal Seek 6th order'!$P$26-1)/'Goal Seek 6th order'!$P$26) -> 2538.3797 | Y60: =(((4.7*10^13)*'O2N2 @ EGR'!$R$9*('O2N2 @ EGR'!$Q$9^0.5)*(EXP(-67837/X60))/('Goal Seek 6th order'!$P$27*6))*('Goal Seek 6th order'!$P$28*10^-6)) -> 2.6153197e-09 | AB60: =AB59*(C60/C59)^(('Goal Seek 6th order'!$P$26-1)/'Goal Seek 6th order'!$P$26) -> 2451.412 | AC60: =(((4.7*10^13)*'O2N2 @ EGR'!$R$10*('O2N2 @ EGR'!$Q$10^0.5)*(EXP(-67837/AB60))/('Goal Seek 6th order'!$P$27*6))*('Goal Seek 6th order'!$P$28*10^-6)) -> 1.4349168e-09 | AF60: =AF59*(C60/C59)^(('Goal Seek 6th order'!$P$26-1)/'Goal Seek 6th order'!$P$26) -> 2362.497 | AG60: =(((4.7*10^13)*'O2N2 @ EGR'!$R$11*('O2N2 @ EGR'!$Q$11^0.5)*(EXP(-67837/AF60))/('Goal Seek 6th order'!$P$27*6))*('Goal Seek 6th order'!$P$28*10^-6)) -> 6.2101125e-10 | AJ60: =AJ59*(C60/C59)^(('Goal Seek 6th order'!$P$26-1)/'Goal Seek 6th order'!$P$26) -> 2271.4967 | AK60: =(((4.7*10^13)*'O2N2 @ EGR'!$R$12*('O2N2 @ EGR'!$Q$12^0.5)*(EXP(-67837/AJ60))/('Goal Seek 6th order'!$P$27*6))*('Goal Seek 6th order'!$P$28*10^-6)) -> 2.2725967e-10 | AN60: =AN59*(C60/C59)^(('Goal Seek 6th order'!$P$26-1)/'Goal Seek 6th order'!$P$26) -> 2178.2692 | AO60: =(((4.7*10^13)*'O2N2 @ EGR'!$R$13*('O2N2 @ EGR'!$Q$13^0.5)*(EXP(-67837/AN60))/('Goal Seek 6th order'!$P$27*6))*('Goal Seek 6th order'!$P$28*10^-6)) -> 7.0862699e-11 | AR60: =AR59*(C60/C59)^(('Goal Seek 6th order'!$P$26-1)/'Goal Seek 6th order'!$P$26) -> 2082.6641 | AS60: =(((4.7*10^13)*'O2N2 @ EGR'!$R$14*('O2N2 @ EGR'!$Q$14^0.5)*(EXP(-67837/AR60))/('Goal Seek 6th order'!$P$27*6))*('Goal Seek 6th order'!$P$28*10^-6)) -> 1.8607107e-11 | AV60: =AV59*(C60/C59)^(('Goal Seek 6th order'!$P$26-1)/'Goal Seek 6th order'!$P$26) -> 1984.5217 | AW60: =(((4.7*10^13)*'O2N2 @ EGR'!$R$15*('O2N2 @ EGR'!$Q$15^0.5)*(EXP(-67837/AV60))/('Goal Seek 6th order'!$P$27*6))*('Goal Seek 6th order'!$P$28*10^-6)) -> 4.0190284e-12 | AZ60: =AZ59*(C60/C59)^(('Goal Seek 6th order'!$P$26-1)/'Goal Seek 6th order'!$P$26) -> 1883.6643 | BA60: =(((4.7*10^13)*'O2N2 @ EGR'!$R$16*('O2N2 @ EGR'!$Q$16^0.5)*(EXP(-67837/AZ60))/('Goal Seek 6th order'!$P$27*6))*('Goal Seek 6th order'!$P$28*10^-6)) -> 6.8989526e-13
B61: 12 | C61: 34 | D61: =D60*(C61/C60)^(('Goal Seek 6th order'!$P$26-1)/'Goal Seek 6th order'!$P$26) -> 2646.7495 | E61: =(((4.7*10^13)*'O2N2 @ EGR'!$R$4*('O2N2 @ EGR'!$Q$4^0.5)*(EXP(-67837/D61))/('Goal Seek 6th order'!$P$27*6))*('Goal Seek 6th order'!$P$28*10^-6)) -> 0 | H61: =H60*(C61/C60)^(('Goal Seek 6th order'!$P$26-1)/'Goal Seek 6th order'!$P$26) -> 2629.7067 | I61: =(((4.7*10^13)*'O2N2 @ EGR'!$R$5*('O2N2 @ EGR'!$Q$5^0.5)*(EXP(-67837/H61))/('Goal Seek 6th order'!$P$27*6))*('Goal Seek 6th order'!$P$28*10^-6)) -> 2.955862e-09 | L61: =L60*(C61/C60)^(('Goal Seek 6th order'!$P$26-1)/'Goal Seek 6th order'!$P$26) -> 2612.5952 | M61: =(((4.7*10^13)*'O2N2 @ EGR'!$R$6*('O2N2 @ EGR'!$Q$6^0.5)*(EXP(-67837/L61))/('Goal Seek 6th order'!$P$27*6))*('Goal Seek 6th order'!$P$28*10^-6)) -> 3.5312646e-09 | P61: =P60*(C61/C60)^(('Goal Seek 6th order'!$P$26-1)/'Goal Seek 6th order'!$P$26) -> 2595.4141 | Q61: =(((4.7*10^13)*'O2N2 @ EGR'!$R$7*('O2N2 @ EGR'!$Q$7^0.5)*(EXP(-67837/P61))/('Goal Seek 6th order'!$P$27*6))*('Goal Seek 6th order'!$P$28*10^-6)) -> 3.6427942e-09 | T61: =T60*(C61/C60)^(('Goal Seek 6th order'!$P$26-1)/'Goal Seek 6th order'!$P$26) -> 2578.1622 | U61: =(((4.7*10^13)*'O2N2 @ EGR'!$R$8*('O2N2 @ EGR'!$Q$8^0.5)*(EXP(-67837/T61))/('Goal Seek 6th order'!$P$27*6))*('Goal Seek 6th order'!$P$28*10^-6)) -> 3.5322707e-09 | X61: =X60*(C61/C60)^(('Goal Seek 6th order'!$P$26-1)/'Goal Seek 6th order'!$P$26) -> 2560.8383 | Y61: =(((4.7*10^13)*'O2N2 @ EGR'!$R$9*('O2N2 @ EGR'!$Q$9^0.5)*(EXP(-67837/X61))/('Goal Seek 6th order'!$P$27*6))*('Goal Seek 6th order'!$P$28*10^-6)) -> 3.306073e-09 | AB61: =AB60*(C61/C60)^(('Goal Seek 6th order'!$P$26-1)/'Goal Seek 6th order'!$P$26) -> 2473.1012 | AC61: =(((4.7*10^13)*'O2N2 @ EGR'!$R$10*('O2N2 @ EGR'!$Q$10^0.5)*(EXP(-67837/AB61))/('Goal Seek 6th order'!$P$27*6))*('Goal Seek 6th order'!$P$28*10^-6)) -> 1.8290494e-09 | AF61: =AF60*(C61/C60)^(('Goal Seek 6th order'!$P$26-1)/'Goal Seek 6th order'!$P$26) -> 2383.3995 | AG61: =(((4.7*10^13)*'O2N2 @ EGR'!$R$11*('O2N2 @ EGR'!$Q$11^0.5)*(EXP(-67837/AF61))/('Goal Seek 6th order'!$P$27*6))*('Goal Seek 6th order'!$P$28*10^-6)) -> 7.9884953e-10 | AJ61: =AJ60*(C61/C60)^(('Goal Seek 6th order'!$P$26-1)/'Goal Seek 6th order'!$P$26) -> 2291.594 | AK61: =(((4.7*10^13)*'O2N2 @ EGR'!$R$12*('O2N2 @ EGR'!$Q$12^0.5)*(EXP(-67837/AJ61))/('Goal Seek 6th order'!$P$27*6))*('Goal Seek 6th order'!$P$28*10^-6)) -> 2.9530397e-10 | AN61: =AN60*(C61/C60)^(('Goal Seek 6th order'!$P$26-1)/'Goal Seek 6th order'!$P$26) -> 2197.5417 | AO61: =(((4.7*10^13)*'O2N2 @ EGR'!$R$13*('O2N2 @ EGR'!$Q$13^0.5)*(EXP(-67837/AN61))/('Goal Seek 6th order'!$P$27*6))*('Goal Seek 6th order'!$P$28*10^-6)) -> 9.3117826e-11 | AR61: =AR60*(C61/C60)^(('Goal Seek 6th order'!$P$26-1)/'Goal Seek 6th order'!$P$26) -> 2101.0908 | AS61: =(((4.7*10^13)*'O2N2 @ EGR'!$R$14*('O2N2 @ EGR'!$Q$14^0.5)*(EXP(-67837/AR61))/('Goal Seek 6th order'!$P$27*6))*('Goal Seek 6th order'!$P$28*10^-6)) -> 2.4759338e-11 | AV61: =AV60*(C61/C60)^(('Goal Seek 6th order'!$P$26-1)/'Goal Seek 6th order'!$P$26) -> 2002.08 | AW61: =(((4.7*10^13)*'O2N2 @ EGR'!$R$15*('O2N2 @ EGR'!$Q$15^0.5)*(EXP(-67837/AV61))/('Goal Seek 6th order'!$P$27*6))*('Goal Seek 6th order'!$P$28*10^-6)) -> 5.4239606e-12 | AZ61: =AZ60*(C61/C60)^(('Goal Seek 6th order'!$P$26-1)/'Goal Seek 6th order'!$P$26) -> 1900.3303 | BA61: =(((4.7*10^13)*'O2N2 @ EGR'!$R$16*('O2N2 @ EGR'!$Q$16^0.5)*(EXP(-67837/AZ61))/('Goal Seek 6th order'!$P$27*6))*('Goal Seek 6th order'!$P$28*10^-6)) -> 9.4612756e-13
... B64: 15 | C64: 40 | D64: =D63*(C64/C63)^(('Goal Seek 6th order'!$P$26-1)/'Goal Seek 6th order'!$P$26) -> 2709.9932 | E64: =(((4.7*10^13)*'O2N2 @ EGR'!$R$4*('O2N2 @ EGR'!$Q$4^0.5)*(EXP(-67837/D64))/('Goal Seek 6th order'!$P$27*6))*('Goal Seek 6th order'!$P$28*10^-6)) -> 0 | H64: =H63*(C64/C63)^(('Goal Seek 6th order'!$P$26-1)/'Goal Seek 6th order'!$P$26) -> 2692.5432 | I64: =(((4.7*10^13)*'O2N2 @ EGR'!$R$5*('O2N2 @ EGR'!$Q$5^0.5)*(EXP(-67837/H64))/('Goal Seek 6th order'!$P$27*6))*('Goal Seek 6th order'!$P$28*10^-6)) -> 5.396806e-09 | L64: =L63*(C64/C63)^(('Goal Seek 6th order'!$P$26-1)/'Goal Seek 6th order'!$P$26) -> 2675.0229 | M64: =(((4.7*10^13)*'O2N2 @ EGR'!$R$6*('O2N2 @ EGR'!$Q$6^0.5)*(EXP(-67837/L64))/('Goal Seek 6th order'!$P$27*6))*('Goal Seek 6th order'!$P$28*10^-6)) -> 6.4728467e-09 | P64: =P63*(C64/C63)^(('Goal Seek 6th order'!$P$26-1)/'Goal Seek 6th order'!$P$26) -> 2657.4312 | Q64: =(((4.7*10^13)*'O2N2 @ EGR'!$R$7*('O2N2 @ EGR'!$Q$7^0.5)*(EXP(-67837/P64))/('Goal Seek 6th order'!$P$27*6))*('Goal Seek 6th order'!$P$28*10^-6)) -> 6.7041204e-09 | T64: =T63*(C64/C63)^(('Goal Seek 6th order'!$P$26-1)/'Goal Seek 6th order'!$P$26) -> 2639.767 | U64: =(((4.7*10^13)*'O2N2 @ EGR'!$R$8*('O2N2 @ EGR'!$Q$8^0.5)*(EXP(-67837/T64))/('Goal Seek 6th order'!$P$27*6))*('Goal Seek 6th order'!$P$28*10^-6)) -> 6.5273032e-09 | X64: =X63*(C64/C63)^(('Goal Seek 6th order'!$P$26-1)/'Goal Seek 6th order'!$P$26) -> 2622.0292 | Y64: =(((4.7*10^13)*'O2N2 @ EGR'!$R$9*('O2N2 @ EGR'!$Q$9^0.5)*(EXP(-67837/X64))/('Goal Seek 6th order'!$P$27*6))*('Goal Seek 6th order'!$P$28*10^-6)) -> 6.1347421e-09 | AB64: =AB63*(C64/C63)^(('Goal Seek 6th order'!$P$26-1)/'Goal Seek 6th order'!$P$26) -> 2532.1956 | AC64: =(((4.7*10^13)*'O2N2 @ EGR'!$R$10*('O2N2 @ EGR'!$Q$10^0.5)*(EXP(-67837/AB64))/('Goal Seek 6th order'!$P$27*6))*('Goal Seek 6th order'!$P$28*10^-6)) -> 3.4692389e-09 | AF64: =AF63*(C64/C63)^(('Goal Seek 6th order'!$P$26-1)/'Goal Seek 6th order'!$P$26) -> 2440.3505 | AG64: =(((4.7*10^13)*'O2N2 @ EGR'!$R$11*('O2N2 @ EGR'!$Q$11^0.5)*(EXP(-67837/AF64))/('Goal Seek 6th order'!$P$27*6))*('Goal Seek 6th order'!$P$28*10^-6)) -> 1.5521614e-09 | AJ64: =AJ63*(C64/C63)^(('Goal Seek 6th order'!$P$26-1)/'Goal Seek 6th order'!$P$26) -> 2346.3513 | AK64: =(((4.7*10^13)*'O2N2 @ EGR'!$R$12*('O2N2 @ EGR'!$Q$12^0.5)*(EXP(-67837/AJ64))/('Goal Seek 6th order'!$P$27*6))*('Goal Seek 6th order'!$P$28*10^-6)) -> 5.8924771e-10 | AN64: =AN63*(C64/C63)^(('Goal Seek 6th order'!$P$26-1)/'Goal Seek 6th order'!$P$26) -> 2250.0516 | AO64: =(((4.7*10^13)*'O2N2 @ EGR'!$R$13*('O2N2 @ EGR'!$Q$13^0.5)*(EXP(-67837/AN64))/('Goal Seek 6th order'!$P$27*6))*('Goal Seek 6th order'!$P$28*10^-6)) -> 1.9138255e-10 | AR64: =AR63*(C64/C63)^(('Goal Seek 6th order'!$P$26-1)/'Goal Seek 6th order'!$P$26) -> 2151.2961 | AS64: =(((4.7*10^13)*'O2N2 @ EGR'!$R$14*('O2N2 @ EGR'!$Q$14^0.5)*(EXP(-67837/AR64))/('Goal Seek 6th order'!$P$27*6))*('Goal Seek 6th order'!$P$28*10^-6)) -> 5.2598199e-11 | AV64: =AV63*(C64/C63)^(('Goal Seek 6th order'!$P$26-1)/'Goal Seek 6th order'!$P$26) -> 2049.9194 | AW64: =(((4.7*10^13)*'O2N2 @ EGR'!$R$15*('O2N2 @ EGR'!$Q$15^0.5)*(EXP(-67837/AV64))/('Goal Seek 6th order'!$P$27*6))*('Goal Seek 6th order'!$P$28*10^-6)) -> 1.1960002e-11 | AZ64: =AZ63*(C64/C63)^(('Goal Seek 6th order'!$P$26-1)/'Goal Seek 6th order'!$P$26) -> 1945.7384 | BA64: =(((4.7*10^13)*'O2N2 @ EGR'!$R$16*('O2N2 @ EGR'!$Q$16^0.5)*(EXP(-67837/AZ64))/('Goal Seek 6th order'!$P$27*6))*('Goal Seek 6th order'!$P$28*10^-6)) -> 2.1764663e-12
B66: 15% EGR
C68: Phi (ɸ) | D68: 1 | H68: 0.99 | L68: 0.98 | P68: 0.97 | T68: 0.96 | X68: 0.95 | AB68: 0.9 | AF68: 0.85 | AJ68: 0.8 | AN68: 0.75 | AR68: 0.7 | AV68: 0.65 | AZ68: 0.6
B69: θ° | C69: P (Bar) | D69: Temp (K) | E69: Nox (kmols/°) | F69: PPM | H69: Temp (K) | I69: Nox (kmols/°) | J69: PPM | L69: Temp (K) | M69: Nox (kmols/°) | N69: PPM | P69: Temp (K) | Q69: Nox (kmols/°) | R69: PPM | T69: Temp (K) | U69: Nox (kmols/°) | V69: PPM | X69: Temp (K) | Y69: Nox (kmols/°) | Z69: PPM | AB69: Temp (K) | AC69: Nox (kmols/°) | AD69: PPM | AF69: Temp (K) | AG69: Nox (kmols/°) | AH69: PPM | AJ69: Temp (K) | AK69: Nox (kmols/°) | AL69: PPM | AN69: Temp (K) | AO69: Nox (kmols/°) | AP69: PPM | AR69: Temp (K) | AS69: Nox (kmols/°) | AT69: PPM | AV69: Temp (K) | AW69: Nox (kmols/°) | AX69: PPM | AZ69: Temp (K) | BA69: Nox (kmols/°) | BB69: PPM
B70: 0 | C70: 10 | D70: =EGR!E$32 -> 2140.9279 | E70: =(((4.7*10^13)*'O2N2 @ EGR'!$H$20*('O2N2 @ EGR'!$G$20^0.5)*(EXP(-67837/D70))/('Goal Seek 6th order'!$P$27*6))*('Goal Seek 6th order'!$P$28*10^-6)) -> 0 | F70: =(SUM(E70:E85)/'O2N2 @ EGR'!$J20)*10^6 -> 0 | H70: =EGR!E$33 -> 2127.3411 | I70: =(((4.7*10^13)*'O2N2 @ EGR'!$H$21*('O2N2 @ EGR'!$G$21^0.5)*(EXP(-67837/H70))/('Goal Seek 6th order'!$P$27*6))*('Goal Seek 6th order'!$P$28*10^-6)) -> 7.145436e-12 | J70: =(SUM(I70:I85)/'O2N2 @ EGR'!$J21)*10^6 -> 1414.4929 | L70: =EGR!E$34 -> 2113.6965 | M70: =(((4.7*10^13)*'O2N2 @ EGR'!$H$22*('O2N2 @ EGR'!$G$22^0.5)*(EXP(-67837/L70))/('Goal Seek 6th order'!$P$27*6))*('Goal Seek 6th order'!$P$28*10^-6)) -> 8.2272023e-12 | N70: =(SUM(M70:M85)/'O2N2 @ EGR'!$J22)*10^6 -> 1684.0562 | P70: =EGR!E$35 -> 2099.9931 | Q70: =(((4.7*10^13)*'O2N2 @ EGR'!$H$23*('O2N2 @ EGR'!$G$23^0.5)*(EXP(-67837/P70))/('Goal Seek 6th order'!$P$27*6))*('Goal Seek 6th order'!$P$28*10^-6)) -> 8.1743379e-12 | R70: =(SUM(Q70:Q85)/'O2N2 @ EGR'!$J23)*10^6 -> 1731.2132 | T70: =EGR!E$36 -> 2086.2303 | U70: =(((4.7*10^13)*'O2N2 @ EGR'!$H$24*('O2N2 @ EGR'!$G$24^0.5)*(EXP(-67837/T70))/('Goal Seek 6th order'!$P$27*6))*('Goal Seek 6th order'!$P$28*10^-6)) -> 7.6292015e-12 | V70: =(SUM(U70:U85)/'O2N2 @ EGR'!$J24)*10^6 -> 1672.7822 | X70: =EGR!E$37 -> 2072.4071 | Y70: =(((4.7*10^13)*'O2N2 @ EGR'!$H$25*('O2N2 @ EGR'!$G$25^0.5)*(EXP(-67837/X70))/('Goal Seek 6th order'!$P$27*6))*('Goal Seek 6th order'!$P$28*10^-6)) -> 6.8682801e-12 | Z70: =(SUM(Y70:Y85)/'O2N2 @ EGR'!$J25)*10^6 -> 1560.0814 | AB70: =EGR!E$38 -> 2002.356 | AC70: =(((4.7*10^13)*'O2N2 @ EGR'!$H$26*('O2N2 @ EGR'!$G$26^0.5)*(EXP(-67837/AB70))/('Goal Seek 6th order'!$P$27*6))*('Goal Seek 6th order'!$P$28*10^-6)) -> 3.0943292e-12 | AD70: =(SUM(AC70:AC85)/'O2N2 @ EGR'!$J26)*10^6 -> 847.23707 | AF70: =EGR!E$39 -> 1930.6682 | AG70: =(((4.7*10^13)*'O2N2 @ EGR'!$H$27*('O2N2 @ EGR'!$G$27^0.5)*(EXP(-67837/AF70))/('Goal Seek 6th order'!$P$27*6))*('Goal Seek 6th order'!$P$28*10^-6)) -> 1.0785275e-12 | AH70: =(SUM(AG70:AG85)/'O2N2 @ EGR'!$J27)*10^6 -> 362.81498 | AJ70: =EGR!E$40 -> 1857.2328 | AK70: =(((4.7*10^13)*'O2N2 @ EGR'!$H$28*('O2N2 @ EGR'!$G$28^0.5)*(EXP(-67837/AJ70))/('Goal Seek 6th order'!$P$27*6))*('Goal Seek 6th order'!$P$28*10^-6)) -> 3.1079423e-13 | AL70: =(SUM(AK70:AK85)/'O2N2 @ EGR'!$J28)*10^6 -> 131.34455 | AN70: =EGR!E$41 -> 1781.9362 | AO70: =(((4.7*10^13)*'O2N2 @ EGR'!$H$29*('O2N2 @ EGR'!$G$29^0.5)*(EXP(-67837/AN70))/('Goal Seek 6th order'!$P$27*6))*('Goal Seek 6th order'!$P$28*10^-6)) -> 7.4331098e-14 | AP70: =(SUM(AO70:AO85)/'O2N2 @ EGR'!$J29)*10^6 -> 40.511439 | AR70: =EGR!E$42 -> 1704.6545 | AS70: =(((4.7*10^13)*'O2N2 @ EGR'!$H$30*('O2N2 @ EGR'!$G$30^0.5)*(EXP(-67837/AR70))/('Goal Seek 6th order'!$P$27*6))*('Goal Seek 6th order'!$P$28*10^-6)) -> 1.4512893e-14 | AT70: =(SUM(AS70:AS85)/'O2N2 @ EGR'!$J30)*10^6 -> 10.52335 | AV70: =EGR!E$43 -> 1625.2548 | AW70: =(((4.7*10^13)*'O2N2 @ EGR'!$H$31*('O2N2 @ EGR'!$G$31^0.5)*(EXP(-67837/AV70))/('Goal Seek 6th order'!$P$27*6))*('Goal Seek 6th order'!$P$28*10^-6)) -> 2.2461516e-15 | AX70: =(SUM(AW70:AW85)/'O2N2 @ EGR'!$J31)*10^6 -> 2.2493936 | AZ70: =EGR!E$44 -> 1543.5888 | BA70: =(((4.7*10^13)*'O2N2 @ EGR'!$H$32*('O2N2 @ EGR'!$G$32^0.5)*(EXP(-67837/AZ70))/('Goal Seek 6th order'!$P$27*6))*('Goal Seek 6th order'!$P$28*10^-6)) -> 2.6419974e-16 | BB70: =(SUM(BA70:BA85)/'O2N2 @ EGR'!$J32)*10^6 -> 0.38238877
B71: 1 | C71: 12 | D71: =D70*(C71/C70)^(('Goal Seek 6th order'!$P$26-1)/'Goal Seek 6th order'!$P$26) -> 2198.4015 | E71: =(((4.7*10^13)*'O2N2 @ EGR'!$H$20*('O2N2 @ EGR'!$G$20^0.5)*(EXP(-67837/D71))/('Goal Seek 6th order'!$P$27*6))*('Goal Seek 6th order'!$P$28*10^-6)) -> 0 | H71: =H70*(C71/C70)^(('Goal Seek 6th order'!$P$26-1)/'Goal Seek 6th order'!$P$26) -> 2184.45 | I71: =(((4.7*10^13)*'O2N2 @ EGR'!$H$21*('O2N2 @ EGR'!$G$21^0.5)*(EXP(-67837/H71))/('Goal Seek 6th order'!$P$27*6))*('Goal Seek 6th order'!$P$28*10^-6)) -> 1.6446905e-11 | L71: =L70*(C71/C70)^(('Goal Seek 6th order'!$P$26-1)/'Goal Seek 6th order'!$P$26) -> 2170.439 | M71: =(((4.7*10^13)*'O2N2 @ EGR'!$H$22*('O2N2 @ EGR'!$G$22^0.5)*(EXP(-67837/L71))/('Goal Seek 6th order'!$P$27*6))*('Goal Seek 6th order'!$P$28*10^-6)) -> 1.9039031e-11 | P71: =P70*(C71/C70)^(('Goal Seek 6th order'!$P$26-1)/'Goal Seek 6th order'!$P$26) -> 2156.3678 | Q71: =(((4.7*10^13)*'O2N2 @ EGR'!$H$23*('O2N2 @ EGR'!$G$23^0.5)*(EXP(-67837/P71))/('Goal Seek 6th order'!$P$27*6))*('Goal Seek 6th order'!$P$28*10^-6)) -> 1.9020549e-11 | T71: =T70*(C71/C70)^(('Goal Seek 6th order'!$P$26-1)/'Goal Seek 6th order'!$P$26) -> 2142.2355 | U71: =(((4.7*10^13)*'O2N2 @ EGR'!$H$24*('O2N2 @ EGR'!$G$24^0.5)*(EXP(-67837/T71))/('Goal Seek 6th order'!$P$27*6))*('Goal Seek 6th order'!$P$28*10^-6)) -> 1.7851271e-11 | X71: =X70*(C71/C70)^(('Goal Seek 6th order'!$P$26-1)/'Goal Seek 6th order'!$P$26) -> 2128.0412 | Y71: =(((4.7*10^13)*'O2N2 @ EGR'!$H$25*('O2N2 @ EGR'!$G$25^0.5)*(EXP(-67837/X71))/('Goal Seek 6th order'!$P$27*6))*('Goal Seek 6th order'!$P$28*10^-6)) -> 1.6162205e-11 | AB71: =AB70*(C71/C70)^(('Goal Seek 6th order'!$P$26-1)/'Goal Seek 6th order'!$P$26) -> 2056.1096 | AC71: =(((4.7*10^13)*'O2N2 @ EGR'!$H$26*('O2N2 @ EGR'!$G$26^0.5)*(EXP(-67837/AB71))/('Goal Seek 6th order'!$P$27*6))*('Goal Seek 6th order'!$P$28*10^-6)) -> 7.5027614e-12 | AF71: =AF70*(C71/C70)^(('Goal Seek 6th order'!$P$26-1)/'Goal Seek 6th order'!$P$26) -> 1982.4973 | AG71: =(((4.7*10^13)*'O2N2 @ EGR'!$H$27*('O2N2 @ EGR'!$G$27^0.5)*(EXP(-67837/AF71))/('Goal Seek 6th order'!$P$27*6))*('Goal Seek 6th order'!$P$28*10^-6)) -> 2.7025174e-12 | AJ71: =AJ70*(C71/C70)^(('Goal Seek 6th order'!$P$26-1)/'Goal Seek 6th order'!$P$26) -> 1907.0906 | AK71: =(((4.7*10^13)*'O2N2 @ EGR'!$H$28*('O2N2 @ EGR'!$G$28^0.5)*(EXP(-67837/AJ71))/('Goal Seek 6th order'!$P$27*6))*('Goal Seek 6th order'!$P$28*10^-6)) -> 8.075776e-13 | AN71: =AN70*(C71/C70)^(('Goal Seek 6th order'!$P$26-1)/'Goal Seek 6th order'!$P$26) -> 1829.7726 | AO71: =(((4.7*10^13)*'O2N2 @ EGR'!$H$29*('O2N2 @ EGR'!$G$29^0.5)*(EXP(-67837/AN71))/('Goal Seek 6th order'!$P$27*6))*('Goal Seek 6th order'!$P$28*10^-6)) -> 2.0109705e-13 | AR71: =AR70*(C71/C70)^(('Goal Seek 6th order'!$P$26-1)/'Goal Seek 6th order'!$P$26) -> 1750.4162 | AS71: =(((4.7*10^13)*'O2N2 @ EGR'!$H$30*('O2N2 @ EGR'!$G$30^0.5)*(EXP(-67837/AR71))/('Goal Seek 6th order'!$P$27*6))*('Goal Seek 6th order'!$P$28*10^-6)) -> 4.1075689e-14 | AV71: =AV70*(C71/C70)^(('Goal Seek 6th order'!$P$26-1)/'Goal Seek 6th order'!$P$26) -> 1668.885 | AW71: =(((4.7*10^13)*'O2N2 @ EGR'!$H$31*('O2N2 @ EGR'!$G$31^0.5)*(EXP(-67837/AV71))/('Goal Seek 6th order'!$P$27*6))*('Goal Seek 6th order'!$P$28*10^-6)) -> 6.6887277e-15 | AZ71: =AZ70*(C71/C70)^(('Goal Seek 6th order'!$P$26-1)/'Goal Seek 6th order'!$P$26) -> 1585.0268 | BA71: =(((4.7*10^13)*'O2N2 @ EGR'!$H$32*('O2N2 @ EGR'!$G$32^0.5)*(EXP(-67837/AZ71))/('Goal Seek 6th order'!$P$27*6))*('Goal Seek 6th order'!$P$28*10^-6)) -> 8.3350743e-16
B72: 2 | C72: 14 | D72: =D71*(C72/C71)^(('Goal Seek 6th order'!$P$26-1)/'Goal Seek 6th order'!$P$26) -> 2248.1968 | E72: =(((4.7*10^13)*'O2N2 @ EGR'!$H$20*('O2N2 @ EGR'!$G$20^0.5)*(EXP(-67837/D72))/('Goal Seek 6th order'!$P$27*6))*('Goal Seek 6th order'!$P$28*10^-6)) -> 0 | H72: =H71*(C72/C71)^(('Goal Seek 6th order'!$P$26-1)/'Goal Seek 6th order'!$P$26) -> 2233.9292 | I72: =(((4.7*10^13)*'O2N2 @ EGR'!$H$21*('O2N2 @ EGR'!$G$21^0.5)*(EXP(-67837/H72))/('Goal Seek 6th order'!$P$27*6))*('Goal Seek 6th order'!$P$28*10^-6)) -> 3.2719235e-11 | L72: =L71*(C72/C71)^(('Goal Seek 6th order'!$P$26-1)/'Goal Seek 6th order'!$P$26) -> 2219.6009 | M72: =(((4.7*10^13)*'O2N2 @ EGR'!$H$22*('O2N2 @ EGR'!$G$22^0.5)*(EXP(-67837/L72))/('Goal Seek 6th order'!$P$27*6))*('Goal Seek 6th order'!$P$28*10^-6)) -> 3.8044521e-11 | P72: =P71*(C72/C71)^(('Goal Seek 6th order'!$P$26-1)/'Goal Seek 6th order'!$P$26) -> 2205.211 | Q72: =(((4.7*10^13)*'O2N2 @ EGR'!$H$23*('O2N2 @ EGR'!$G$23^0.5)*(EXP(-67837/P72))/('Goal Seek 6th order'!$P$27*6))*('Goal Seek 6th order'!$P$28*10^-6)) -> 3.8179672e-11 | T72: =T71*(C72/C71)^(('Goal Seek 6th order'!$P$26-1)/'Goal Seek 6th order'!$P$26) -> 2190.7586 | U72: =(((4.7*10^13)*'O2N2 @ EGR'!$H$24*('O2N2 @ EGR'!$G$24^0.5)*(EXP(-67837/T72))/('Goal Seek 6th order'!$P$27*6))*('Goal Seek 6th order'!$P$28*10^-6)) -> 3.5997686e-11 | X72: =X71*(C72/C71)^(('Goal Seek 6th order'!$P$26-1)/'Goal Seek 6th order'!$P$26) -> 2176.2428 | Y72: =(((4.7*10^13)*'O2N2 @ EGR'!$H$25*('O2N2 @ EGR'!$G$25^0.5)*(EXP(-67837/X72))/('Goal Seek 6th order'!$P$27*6))*('Goal Seek 6th order'!$P$28*10^-6)) -> 3.2744457e-11 | AB72: =AB71*(C72/C71)^(('Goal Seek 6th order'!$P$26-1)/'Goal Seek 6th order'!$P$26) -> 2102.6819 | AC72: =(((4.7*10^13)*'O2N2 @ EGR'!$H$26*('O2N2 @ EGR'!$G$26^0.5)*(EXP(-67837/AB72))/('Goal Seek 6th order'!$P$27*6))*('Goal Seek 6th order'!$P$28*10^-6)) -> 1.5580659e-11 | AF72: =AF71*(C72/C71)^(('Goal Seek 6th order'!$P$26-1)/'Goal Seek 6th order'!$P$26) -> 2027.4022 | AG72: =(((4.7*10^13)*'O2N2 @ EGR'!$H$27*('O2N2 @ EGR'!$G$27^0.5)*(EXP(-67837/AF72))/('Goal Seek 6th order'!$P$27*6))*('Goal Seek 6th order'!$P$28*10^-6)) -> 5.7665665e-12 | AJ72: =AJ71*(C72/C71)^(('Goal Seek 6th order'!$P$26-1)/'Goal Seek 6th order'!$P$26) -> 1950.2875 | AK72: =(((4.7*10^13)*'O2N2 @ EGR'!$H$28*('O2N2 @ EGR'!$G$28^0.5)*(EXP(-67837/AJ72))/('Goal Seek 6th order'!$P$27*6))*('Goal Seek 6th order'!$P$28*10^-6)) -> 1.7756103e-12 | AN72: =AN71*(C72/C71)^(('Goal Seek 6th order'!$P$26-1)/'Goal Seek 6th order'!$P$26) -> 1871.2182 | AO72: =(((4.7*10^13)*'O2N2 @ EGR'!$H$29*('O2N2 @ EGR'!$G$29^0.5)*(EXP(-67837/AN72))/('Goal Seek 6th order'!$P$27*6))*('Goal Seek 6th order'!$P$28*10^-6)) -> 4.5711701e-13 | AR72: =AR71*(C72/C71)^(('Goal Seek 6th order'!$P$26-1)/'Goal Seek 6th order'!$P$26) -> 1790.0643 | AS72: =(((4.7*10^13)*'O2N2 @ EGR'!$H$30*('O2N2 @ EGR'!$G$30^0.5)*(EXP(-67837/AR72))/('Goal Seek 6th order'!$P$27*6))*('Goal Seek 6th order'!$P$28*10^-6)) -> 9.6911261e-14 | AV72: =AV71*(C72/C71)^(('Goal Seek 6th order'!$P$26-1)/'Goal Seek 6th order'!$P$26) -> 1706.6864 | AW72: =(((4.7*10^13)*'O2N2 @ EGR'!$H$31*('O2N2 @ EGR'!$G$31^0.5)*(EXP(-67837/AV72))/('Goal Seek 6th order'!$P$27*6))*('Goal Seek 6th order'!$P$28*10^-6)) -> 1.6456787e-14 | AZ72: =AZ71*(C72/C71)^(('Goal Seek 6th order'!$P$26-1)/'Goal Seek 6th order'!$P$26) -> 1620.9287 | BA72: =(((4.7*10^13)*'O2N2 @ EGR'!$H$32*('O2N2 @ EGR'!$G$32^0.5)*(EXP(-67837/AZ72))/('Goal Seek 6th order'!$P$27*6))*('Goal Seek 6th order'!$P$28*10^-6)) -> 2.1507877e-15
B73: 3 | C73: 16 | D73: =D72*(C73/C72)^(('Goal Seek 6th order'!$P$26-1)/'Goal Seek 6th order'!$P$26) -> 2292.2422 | E73: =(((4.7*10^13)*'O2N2 @ EGR'!$H$20*('O2N2 @ EGR'!$G$20^0.5)*(EXP(-67837/D73))/('Goal Seek 6th order'!$P$27*6))*('Goal Seek 6th order'!$P$28*10^-6)) -> 0 | H73: =H72*(C73/C72)^(('Goal Seek 6th order'!$P$26-1)/'Goal Seek 6th order'!$P$26) -> 2277.6951 | I73: =(((4.7*10^13)*'O2N2 @ EGR'!$H$21*('O2N2 @ EGR'!$G$21^0.5)*(EXP(-67837/H73))/('Goal Seek 6th order'!$P$27*6))*('Goal Seek 6th order'!$P$28*10^-6)) -> 5.8642428e-11 | L73: =L72*(C73/C72)^(('Goal Seek 6th order'!$P$26-1)/'Goal Seek 6th order'!$P$26) -> 2263.0861 | M73: =(((4.7*10^13)*'O2N2 @ EGR'!$H$22*('O2N2 @ EGR'!$G$22^0.5)*(EXP(-67837/L73))/('Goal Seek 6th order'!$P$27*6))*('Goal Seek 6th order'!$P$28*10^-6)) -> 6.8444217e-11 | P73: =P72*(C73/C72)^(('Goal Seek 6th order'!$P$26-1)/'Goal Seek 6th order'!$P$26) -> 2248.4143 | Q73: =(((4.7*10^13)*'O2N2 @ EGR'!$H$23*('O2N2 @ EGR'!$G$23^0.5)*(EXP(-67837/P73))/('Goal Seek 6th order'!$P$27*6))*('Goal Seek 6th order'!$P$28*10^-6)) -> 6.8951085e-11 | T73: =T72*(C73/C72)^(('Goal Seek 6th order'!$P$26-1)/'Goal Seek 6th order'!$P$26) -> 2233.6787 | U73: =(((4.7*10^13)*'O2N2 @ EGR'!$H$24*('O2N2 @ EGR'!$G$24^0.5)*(EXP(-67837/T73))/('Goal Seek 6th order'!$P$27*6))*('Goal Seek 6th order'!$P$28*10^-6)) -> 6.5264499e-11 | X73: =X72*(C73/C72)^(('Goal Seek 6th order'!$P$26-1)/'Goal Seek 6th order'!$P$26) -> 2218.8785 | Y73: =(((4.7*10^13)*'O2N2 @ EGR'!$H$25*('O2N2 @ EGR'!$G$25^0.5)*(EXP(-67837/X73))/('Goal Seek 6th order'!$P$27*6))*('Goal Seek 6th order'!$P$28*10^-6)) -> 5.9602407e-11 | AB73: =AB72*(C73/C72)^(('Goal Seek 6th order'!$P$26-1)/'Goal Seek 6th order'!$P$26) -> 2143.8764 | AC73: =(((4.7*10^13)*'O2N2 @ EGR'!$H$26*('O2N2 @ EGR'!$G$26^0.5)*(EXP(-67837/AB73))/('Goal Seek 6th order'!$P$27*6))*('Goal Seek 6th order'!$P$28*10^-6)) -> 2.8960908e-11 | AF73: =AF72*(C73/C72)^(('Goal Seek 6th order'!$P$26-1)/'Goal Seek 6th order'!$P$26) -> 2067.1219 | AG73: =(((4.7*10^13)*'O2N2 @ EGR'!$H$27*('O2N2 @ EGR'!$G$27^0.5)*(EXP(-67837/AF73))/('Goal Seek 6th order'!$P$27*6))*('Goal Seek 6th order'!$P$28*10^-6)) -> 1.0968325e-11 | AJ73: =AJ72*(C73/C72)^(('Goal Seek 6th order'!$P$26-1)/'Goal Seek 6th order'!$P$26) -> 1988.4964 | AK73: =(((4.7*10^13)*'O2N2 @ EGR'!$H$28*('O2N2 @ EGR'!$G$28^0.5)*(EXP(-67837/AJ73))/('Goal Seek 6th order'!$P$27*6))*('Goal Seek 6th order'!$P$28*10^-6)) -> 3.4642657e-12 | AN73: =AN72*(C73/C72)^(('Goal Seek 6th order'!$P$26-1)/'Goal Seek 6th order'!$P$26) -> 1907.8781 | AO73: =(((4.7*10^13)*'O2N2 @ EGR'!$H$29*('O2N2 @ EGR'!$G$29^0.5)*(EXP(-67837/AN73))/('Goal Seek 6th order'!$P$27*6))*('Goal Seek 6th order'!$P$28*10^-6)) -> 9.1739453e-13 | AR73: =AR72*(C73/C72)^(('Goal Seek 6th order'!$P$26-1)/'Goal Seek 6th order'!$P$26) -> 1825.1343 | AS73: =(((4.7*10^13)*'O2N2 @ EGR'!$H$30*('O2N2 @ EGR'!$G$30^0.5)*(EXP(-67837/AR73))/('Goal Seek 6th order'!$P$27*6))*('Goal Seek 6th order'!$P$28*10^-6)) -> 2.0073281e-13 | AV73: =AV72*(C73/C72)^(('Goal Seek 6th order'!$P$26-1)/'Goal Seek 6th order'!$P$26) -> 1740.1228 | AW73: =(((4.7*10^13)*'O2N2 @ EGR'!$H$31*('O2N2 @ EGR'!$G$31^0.5)*(EXP(-67837/AV73))/('Goal Seek 6th order'!$P$27*6))*('Goal Seek 6th order'!$P$28*10^-6)) -> 3.5321478e-14 | AZ73: =AZ72*(C73/C72)^(('Goal Seek 6th order'!$P$26-1)/'Goal Seek 6th order'!$P$26) -> 1652.685 | BA73: =(((4.7*10^13)*'O2N2 @ EGR'!$H$32*('O2N2 @ EGR'!$G$32^0.5)*(EXP(-67837/AZ73))/('Goal Seek 6th order'!$P$27*6))*('Goal Seek 6th order'!$P$28*10^-6)) -> 4.8066237e-15
B74: 4 | C74: 18 | D74: =D73*(C74/C73)^(('Goal Seek 6th order'!$P$26-1)/'Goal Seek 6th order'!$P$26) -> 2331.8087 | E74: =(((4.7*10^13)*'O2N2 @ EGR'!$H$20*('O2N2 @ EGR'!$G$20^0.5)*(EXP(-67837/D74))/('Goal Seek 6th order'!$P$27*6))*('Goal Seek 6th order'!$P$28*10^-6)) -> 0 | H74: =H73*(C74/C73)^(('Goal Seek 6th order'!$P$26-1)/'Goal Seek 6th order'!$P$26) -> 2317.0106 | I74: =(((4.7*10^13)*'O2N2 @ EGR'!$H$21*('O2N2 @ EGR'!$G$21^0.5)*(EXP(-67837/H74))/('Goal Seek 6th order'!$P$27*6))*('Goal Seek 6th order'!$P$28*10^-6)) -> 9.7205214e-11 | L74: =L73*(C74/C73)^(('Goal Seek 6th order'!$P$26-1)/'Goal Seek 6th order'!$P$26) -> 2302.1494 | M74: =(((4.7*10^13)*'O2N2 @ EGR'!$H$22*('O2N2 @ EGR'!$G$22^0.5)*(EXP(-67837/L74))/('Goal Seek 6th order'!$P$27*6))*('Goal Seek 6th order'!$P$28*10^-6)) -> 1.138233e-10 | P74: =P73*(C74/C73)^(('Goal Seek 6th order'!$P$26-1)/'Goal Seek 6th order'!$P$26) -> 2287.2243 | Q74: =(((4.7*10^13)*'O2N2 @ EGR'!$H$23*('O2N2 @ EGR'!$G$23^0.5)*(EXP(-67837/P74))/('Goal Seek 6th order'!$P$27*6))*('Goal Seek 6th order'!$P$28*10^-6)) -> 1.1504744e-10 | T74: =T73*(C74/C73)^(('Goal Seek 6th order'!$P$26-1)/'Goal Seek 6th order'!$P$26) -> 2272.2343 | U74: =(((4.7*10^13)*'O2N2 @ EGR'!$H$24*('O2N2 @ EGR'!$G$24^0.5)*(EXP(-67837/T74))/('Goal Seek 6th order'!$P$27*6))*('Goal Seek 6th order'!$P$28*10^-6)) -> 1.0926463e-10 | X74: =X73*(C74/C73)^(('Goal Seek 6th order'!$P$26-1)/'Goal Seek 6th order'!$P$26) -> 2257.1787 | Y74: =(((4.7*10^13)*'O2N2 @ EGR'!$H$25*('O2N2 @ EGR'!$G$25^0.5)*(EXP(-67837/X74))/('Goal Seek 6th order'!$P$27*6))*('Goal Seek 6th order'!$P$28*10^-6)) -> 1.0012884e-10 | AB74: =AB73*(C74/C73)^(('Goal Seek 6th order'!$P$26-1)/'Goal Seek 6th order'!$P$26) -> 2180.882 | AC74: =(((4.7*10^13)*'O2N2 @ EGR'!$H$26*('O2N2 @ EGR'!$G$26^0.5)*(EXP(-67837/AB74))/('Goal Seek 6th order'!$P$27*6))*('Goal Seek 6th order'!$P$28*10^-6)) -> 4.9543807e-11 | AF74: =AF73*(C74/C73)^(('Goal Seek 6th order'!$P$26-1)/'Goal Seek 6th order'!$P$26) -> 2102.8026 | AG74: =(((4.7*10^13)*'O2N2 @ EGR'!$H$27*('O2N2 @ EGR'!$G$27^0.5)*(EXP(-67837/AF74))/('Goal Seek 6th order'!$P$27*6))*('Goal Seek 6th order'!$P$28*10^-6)) -> 1.9141485e-11 | AJ74: =AJ73*(C74/C73)^(('Goal Seek 6th order'!$P$26-1)/'Goal Seek 6th order'!$P$26) -> 2022.8199 | AK74: =(((4.7*10^13)*'O2N2 @ EGR'!$H$28*('O2N2 @ EGR'!$G$28^0.5)*(EXP(-67837/AJ74))/('Goal Seek 6th order'!$P$27*6))*('Goal Seek 6th order'!$P$28*10^-6)) -> 6.1802884e-12 | AN74: =AN73*(C74/C73)^(('Goal Seek 6th order'!$P$26-1)/'Goal Seek 6th order'!$P$26) -> 1940.8101 | AO74: =(((4.7*10^13)*'O2N2 @ EGR'!$H$29*('O2N2 @ EGR'!$G$29^0.5)*(EXP(-67837/AN74))/('Goal Seek 6th order'!$P$27*6))*('Goal Seek 6th order'!$P$28*10^-6)) -> 1.6771682e-12 | AR74: =AR73*(C74/C73)^(('Goal Seek 6th order'!$P$26-1)/'Goal Seek 6th order'!$P$26) -> 1856.638 | AS74: =(((4.7*10^13)*'O2N2 @ EGR'!$H$30*('O2N2 @ EGR'!$G$30^0.5)*(EXP(-67837/AR74))/('Goal Seek 6th order'!$P$27*6))*('Goal Seek 6th order'!$P$28*10^-6)) -> 3.7715314e-13 | AV74: =AV73*(C74/C73)^(('Goal Seek 6th order'!$P$26-1)/'Goal Seek 6th order'!$P$26) -> 1770.1592 | AW74: =(((4.7*10^13)*'O2N2 @ EGR'!$H$31*('O2N2 @ EGR'!$G$31^0.5)*(EXP(-67837/AV74))/('Goal Seek 6th order'!$P$27*6))*('Goal Seek 6th order'!$P$28*10^-6)) -> 6.8441454e-14 | AZ74: =AZ73*(C74/C73)^(('Goal Seek 6th order'!$P$26-1)/'Goal Seek 6th order'!$P$26) -> 1681.2121 | BA74: =(((4.7*10^13)*'O2N2 @ EGR'!$H$32*('O2N2 @ EGR'!$G$32^0.5)*(EXP(-67837/AZ74))/('Goal Seek 6th order'!$P$27*6))*('Goal Seek 6th order'!$P$28*10^-6)) -> 9.6453832e-15
