Workbook

Sheet vehicle data
B2: Volkswagon Golf IV estate 1.9TDI
B3: power (W) | C3: kerb mass (kg) | D3: power to weight ratio | E3: rolling resistance coefficient | F3: aero drag coefficient | G3: frontal area (m^2)
B4: 96941 | C4: 1334 | D4: =B4/C4 -> 72.669415 | E4: 0.012 | F4: 0.31 | G4: 1.4
E6: rolling resistance force (N)
E7: =C4*9.81*E4 -> 157.03848

Sheet velocity vs time

Sheet WLTC_class_3
P4: *KERS presumed to be 70% efficient
B6: Phase | C6: Total elapsed time | D6: Phase elapsed time | E6: WLTC class 3, version 5, vehicle speed | F6: WLTC class 3, version 5, vehicle speed | G6: WLTC class 3, version 5, acceleration | H6: acceleration force | I6: Aero resistance | J6: Total force | K6: tractive force | L6: Braking force | M6: Power | N6: Tractive power | O6: Braking Power | P6: braking energy after losses | Q6: energy after losses during braking period | R6: kinetic energy | S6: braking energy | T6: tractive energy | U6: Cumulative tractive energy | V6: Cumulative braking energy | W6: braking energy returned to contact patch | AC6: maximum velocity | AD6: average velocity | AE6: maximum acceleration | AF6: average acceleration | AG6: maximum tractive force | AH6: avergage tractive force | AI6: maximum braking force | AJ6: average braking force | AK6: maximum tractive power | AL6: average tractive power | AM6: maximum braking power | AN6: average braking power | AO6: maximum power after losses | AP6: average power after losses | AQ6: maximum braking energy per period | AR6: average braking energy per period | AS6: maximum tractive enrgy | AT6: average tractive energy | AU6: maximum braking energy | AV6: average braking energy | AW6: maximum energy available for acceleration | AX6: average energy avaialable for acceleration | AZ6: maximum energy per braking period (low and middle phases) | BA6: average energy per braking period (low and middle phases) | BB6: maximum energy available for acceleration (low and middle phases) | BC6: average energy avaialable for acceleration (low and middle phases)
B7: Phase | C7: s | D7: s | E7: km/s | F7: m/s | G7: m/s² | H7: N | I7: N | J7: N | K7: N | L7: N | M7: kW | N7: kW | O7: kW | P7: kJ | Q7: kJ | R7: kJ | S7: kJ | T7: kJ | U7: kJ | V7: kJ | W7: kJ | AC7: m/s | AD7: m/s | AE7: m/s² | AF7: m/s² | AG7: N | AH7: N | AI7: N | AJ7: N | AK7: kW | AL7: kW | AM7: kW | AN7: kW | AO7: kW | AP7: kW | AQ7: kJ | AR7: kJ | AS7: kJ | AT7: kJ | AU7: kJ | AV7: kJ | AW7: kJ | AX7: kJ | AZ7: kJ | BA7: kJ | BB7: kJ | BC7: kJ
B8: Low | C8: 0 | D8: 0 | E8: 0 | F8: =E8/3.6 -> 0 | G8: =($E9-0)/2/3.6 -> 0 | H8: =('vehicle data'!$C$4)*(G8) -> 0 | I8: =0.5*1.225*F8^2*('vehicle data'!$F$4)*('vehicle data'!$G$4) -> 0 | J8: =IF(F8=0,0,H8+I8+'vehicle data'!$E$7) -> 0 | K8: =IF(J8<=0,0,J8) -> 0 | L8: =IF(J8<0,J8*-1,0) -> 0 | M8: =(J8*F8)/1000 -> 0 | N8: =IF(M8>0,M8,0) -> 0 | O8: =IF(M8<0,M8*-1,0) -> 0 | P8: =S8*0.7 -> 0 | Q8: =IF(G8<0,P8,"") | R8: =(0.5*'vehicle data'!$C$4*(WLTC_class_3!F8^2))/1000 -> 0 | S8: =IF(O8>0,R8,0) -> 0 | T8: =IF(N8>0,R8,0) -> 0 | U8: =T8 -> 0 | V8: =S8 -> 0 | W8: =T8*0.7 -> 0 | AC8: =MAX(F8:F1808) -> 36.472222 | AD8: =AVERAGE(F8:F1808) -> 12.916374 | AE8: =MAX(G8:G1808) -> 1.5833333 | AF8: =AVERAGEIF(G8:G1808,">0") -> 0.40910553 | AG8: =MAX(K8:K1808) -> 2273.5773 | AH8: =AVERAGE(K8:K1808) -> 370.40904 | AI8: =MAX(L8:L1808) -> 1812.9201 | AJ8: =AVERAGE(M8:M1808) -> 3.7888283 | AK8: =MAX(N8:N1022) -> 24.385757 | AL8: =AVERAGEIF(N8:N1808,">0") -> 8.6591641 | AM8: =MAX(O8:O1808) -> 25.915333 | AN8: =AVERAGE(O8:O1808) -> 1.5287928 | AO8: =MAX(P8:P1808) -> 636.37358 | AP8: =AVERAGE(P8:P1808) -> 21.358899 | AQ8: =MAX(Q8:Q1808) -> 636.37358 | AR8: =AVERAGEIF(Q8:Q1808,">0") -> 83.624734 | AS8: =MAX(T8:T1808) -> 887.25874 | AT8: =AVERAGE(T8:T1808) -> 149.5991 | AU8: =MAX(S8:S1808) -> 848.49811 | AV8: =AVERAGE(S8:S1808) -> 28.478532 | AW8: =MAX(W8:W1808) -> 621.08112 | AX8: =AVERAGEIF(W8:W1808,">0") -> 170.52404 | AZ8: =MAX(Q8:Q1022) -> 215.96595 | BA8: =AVERAGEIF(Q8:Q1022,">0") -> 45.349828 | BB8: =MAX(W8:W1022) -> 211.38609 | BC8: =AVERAGEIF(W8:W1022,">0") -> 60.509005
B9: Low | C9: 1 | D9: 1 | E9: 0 | F9: =E9/3.6 -> 0 | G9: =($E10-$E8)/2/3.6 -> 0 | H9: =('vehicle data'!$C$4)*(G9) -> 0 | I9: =0.5*1.225*F9^2*('vehicle data'!$F$4)*('vehicle data'!$G$4) -> 0 | J9: =IF(F9=0,0,H9+I9+'vehicle data'!$E$7) -> 0 | K9: =IF(J9<=0,0,J9) -> 0 | L9: =IF(J9<0,J9*-1,0) -> 0 | M9: =(J9*F9)/1000 -> 0 | N9: =IF(M9>0,M9,0) -> 0 | O9: =IF(M9<0,M9*-1,0) -> 0 | P9: =S9*0.75 -> 0 | Q9: =IF(G9<0,P9,"") | R9: =(0.5*'vehicle data'!$C$4*(WLTC_class_3!F9^2))/1000 -> 0 | S9: =IF(O9>0,R9,0) -> 0 | T9: =IF(N9>0,R9,0) -> 0 | U9: =U8+T9 -> 0 | V9: =V8+S9 -> 0 | W9: =T9*0.7 -> 0
B10: Low | C10: 2 | D10: 2 | E10: 0 | F10: =E10/3.6 -> 0 | G10: =($E11-$E9)/2/3.6 -> 0 | H10: =('vehicle data'!$C$4)*(G10) -> 0 | I10: =0.5*1.225*F10^2*('vehicle data'!$F$4)*('vehicle data'!$G$4) -> 0 | J10: =IF(F10=0,0,H10+I10+'vehicle data'!$E$7) -> 0 | K10: =IF(J10<=0,0,J10) -> 0 | L10: =IF(J10<0,J10*-1,0) -> 0 | M10: =(J10*F10)/1000 -> 0 | N10: =IF(M10>0,M10,0) -> 0 | O10: =IF(M10<0,M10*-1,0) -> 0 | P10: =S10*0.75 -> 0 | Q10: =IF(G10<0,P10,"") | R10: =(0.5*'vehicle data'!$C$4*(WLTC_class_3!F10^2))/1000 -> 0 | S10: =IF(O10>0,R10,0) -> 0 | T10: =IF(N10>0,R10,0) -> 0 | U10: =U9+T10 -> 0 | V10: =V9+S10 -> 0 | W10: =T10*0.7 -> 0
B11: Low | C11: 3 | D11: 3 | E11: 0 | F11: =E11/3.6 -> 0 | G11: =($E12-$E10)/2/3.6 -> 0 | H11: =('vehicle data'!$C$4)*(G11) -> 0 | I11: =0.5*1.225*F11^2*('vehicle data'!$F$4)*('vehicle data'!$G$4) -> 0 | J11: =IF(F11=0,0,H11+I11+'vehicle data'!$E$7) -> 0 | K11: =IF(J11<=0,0,J11) -> 0 | L11: =IF(J11<0,J11*-1,0) -> 0 | M11: =(J11*F11)/1000 -> 0 | N11: =IF(M11>0,M11,0) -> 0 | O11: =IF(M11<0,M11*-1,0) -> 0 | P11: =S11*0.75 -> 0 | Q11: =IF(G11<0,P11,"") | R11: =(0.5*'vehicle data'!$C$4*(WLTC_class_3!F11^2))/1000 -> 0 | S11: =IF(O11>0,R11,0) -> 0 | T11: =IF(N11>0,R11,0) -> 0 | U11: =U10+T11 -> 0 | V11: =V10+S11 -> 0 | W11: =T11*0.7 -> 0
B12: Low | C12: 4 | D12: 4 | E12: 0 | F12: =E12/3.6 -> 0 | G12: =($E13-$E11)/2/3.6 -> 0 | H12: =('vehicle data'!$C$4)*(G12) -> 0 | I12: =0.5*1.225*F12^2*('vehicle data'!$F$4)*('vehicle data'!$G$4) -> 0 | J12: =IF(F12=0,0,H12+I12+'vehicle data'!$E$7) -> 0 | K12: =IF(J12<=0,0,J12) -> 0 | L12: =IF(J12<0,J12*-1,0) -> 0 | M12: =(J12*F12)/1000 -> 0 | N12: =IF(M12>0,M12,0) -> 0 | O12: =IF(M12<0,M12*-1,0) -> 0 | P12: =S12*0.75 -> 0 | Q12: =IF(G12<0,P12,"") | R12: =(0.5*'vehicle data'!$C$4*(WLTC_class_3!F12^2))/1000 -> 0 | S12: =IF(O12>0,R12,0) -> 0 | T12: =IF(N12>0,R12,0) -> 0 | U12: =U11+T12 -> 0 | V12: =V11+S12 -> 0 | W12: =T12*0.7 -> 0
B13: Low | C13: 5 | D13: 5 | E13: 0 | F13: =E13/3.6 -> 0 | G13: =($E14-$E12)/2/3.6 -> 0 | H13: =('vehicle data'!$C$4)*(G13) -> 0 | I13: =0.5*1.225*F13^2*('vehicle data'!$F$4)*('vehicle data'!$G$4) -> 0 | J13: =IF(F13=0,0,H13+I13+'vehicle data'!$E$7) -> 0 | K13: =IF(J13<=0,0,J13) -> 0 | L13: =IF(J13<0,J13*-1,0) -> 0 | M13: =(J13*F13)/1000 -> 0 | N13: =IF(M13>0,M13,0) -> 0 | O13: =IF(M13<0,M13*-1,0) -> 0 | P13: =S13*0.75 -> 0 | Q13: =IF(G13<0,P13,"") | R13: =(0.5*'vehicle data'!$C$4*(WLTC_class_3!F13^2))/1000 -> 0 | S13: =IF(O13>0,R13,0) -> 0 | T13: =IF(N13>0,R13,0) -> 0 | U13: =U12+T13 -> 0 | V13: =V12+S13 -> 0 | W13: =T13*0.7 -> 0
B14: Low | C14: 6 | D14: 6 | E14: 0 | F14: =E14/3.6 -> 0 | G14: =($E15-$E13)/2/3.6 -> 0 | H14: =('vehicle data'!$C$4)*(G14) -> 0 | I14: =0.5*1.225*F14^2*('vehicle data'!$F$4)*('vehicle data'!$G$4) -> 0 | J14: =IF(F14=0,0,H14+I14+'vehicle data'!$E$7) -> 0 | K14: =IF(J14<=0,0,J14) -> 0 | L14: =IF(J14<0,J14*-1,0) -> 0 | M14: =(J14*F14)/1000 -> 0 | N14: =IF(M14>0,M14,0) -> 0 | O14: =IF(M14<0,M14*-1,0) -> 0 | P14: =S14*0.75 -> 0 | Q14: =IF(G14<0,P14,"") | R14: =(0.5*'vehicle data'!$C$4*(WLTC_class_3!F14^2))/1000 -> 0 | S14: =IF(O14>0,R14,0) -> 0 | T14: =IF(N14>0,R14,0) -> 0 | U14: =U13+T14 -> 0 | V14: =V13+S14 -> 0 | W14: =T14*0.7 -> 0
B15: Low | C15: 7 | D15: 7 | E15: 0 | F15: =E15/3.6 -> 0 | G15: =($E16-$E14)/2/3.6 -> 0 | H15: =('vehicle data'!$C$4)*(G15) -> 0 | I15: =0.5*1.225*F15^2*('vehicle data'!$F$4)*('vehicle data'!$G$4) -> 0 | J15: =IF(F15=0,0,H15+I15+'vehicle data'!$E$7) -> 0 | K15: =IF(J15<=0,0,J15) -> 0 | L15: =IF(J15<0,J15*-1,0) -> 0 | M15: =(J15*F15)/1000 -> 0 | N15: =IF(M15>0,M15,0) -> 0 | O15: =IF(M15<0,M15*-1,0) -> 0 | P15: =S15*0.75 -> 0 | Q15: =IF(G15<0,P15,"") | R15: =(0.5*'vehicle data'!$C$4*(WLTC_class_3!F15^2))/1000 -> 0 | S15: =IF(O15>0,R15,0) -> 0 | T15: =IF(N15>0,R15,0) -> 0 | U15: =U14+T15 -> 0 | V15: =V14+S15 -> 0 | W15: =T15*0.7 -> 0
B16: Low | C16: 8 | D16: 8 | E16: 0 | F16: =E16/3.6 -> 0 | G16: =($E17-$E15)/2/3.6 -> 0 | H16: =('vehicle data'!$C$4)*(G16) -> 0 | I16: =0.5*1.225*F16^2*('vehicle data'!$F$4)*('vehicle data'!$G$4) -> 0 | J16: =IF(F16=0,0,H16+I16+'vehicle data'!$E$7) -> 0 | K16: =IF(J16<=0,0,J16) -> 0 | L16: =IF(J16<0,J16*-1,0) -> 0 | M16: =(J16*F16)/1000 -> 0 | N16: =IF(M16>0,M16,0) -> 0 | O16: =IF(M16<0,M16*-1,0) -> 0 | P16: =S16*0.75 -> 0 | Q16: =IF(G16<0,P16,"") | R16: =(0.5*'vehicle data'!$C$4*(WLTC_class_3!F16^2))/1000 -> 0 | S16: =IF(O16>0,R16,0) -> 0 | T16: =IF(N16>0,R16,0) -> 0 | U16: =U15+T16 -> 0 | V16: =V15+S16 -> 0 | W16: =T16*0.7 -> 0
B17: Low | C17: 9 | D17: 9 | E17: 0 | F17: =E17/3.6 -> 0 | G17: =($E18-$E16)/2/3.6 -> 0 | H17: =('vehicle data'!$C$4)*(G17) -> 0 | I17: =0.5*1.225*F17^2*('vehicle data'!$F$4)*('vehicle data'!$G$4) -> 0 | J17: =IF(F17=0,0,H17+I17+'vehicle data'!$E$7) -> 0 | K17: =IF(J17<=0,0,J17) -> 0 | L17: =IF(J17<0,J17*-1,0) -> 0 | M17: =(J17*F17)/1000 -> 0 | N17: =IF(M17>0,M17,0) -> 0 | O17: =IF(M17<0,M17*-1,0) -> 0 | P17: =S17*0.75 -> 0 | Q17: =IF(G17<0,P17,"") | R17: =(0.5*'vehicle data'!$C$4*(WLTC_class_3!F17^2))/1000 -> 0 | S17: =IF(O17>0,R17,0) -> 0 | T17: =IF(N17>0,R17,0) -> 0 | U17: =U16+T17 -> 0 | V17: =V16+S17 -> 0 | W17: =T17*0.7 -> 0
B18: Low | C18: 10 | D18: 10 | E18: 0 | F18: =E18/3.6 -> 0 | G18: =($E19-$E17)/2/3.6 -> 0 | H18: =('vehicle data'!$C$4)*(G18) -> 0 | I18: =0.5*1.225*F18^2*('vehicle data'!$F$4)*('vehicle data'!$G$4) -> 0 | J18: =IF(F18=0,0,H18+I18+'vehicle data'!$E$7) -> 0 | K18: =IF(J18<=0,0,J18) -> 0 | L18: =IF(J18<0,J18*-1,0) -> 0 | M18: =(J18*F18)/1000 -> 0 | N18: =IF(M18>0,M18,0) -> 0 | O18: =IF(M18<0,M18*-1,0) -> 0 | P18: =S18*0.75 -> 0 | Q18: =IF(G18<0,P18,"") | R18: =(0.5*'vehicle data'!$C$4*(WLTC_class_3!F18^2))/1000 -> 0 | S18: =IF(O18>0,R18,0) -> 0 | T18: =IF(N18>0,R18,0) -> 0 | U18: =U17+T18 -> 0 | V18: =V17+S18 -> 0 | W18: =T18*0.7 -> 0
B19: Low | C19: 11 | D19: 11 | E19: 0 | F19: =E19/3.6 -> 0 | G19: =($E20-$E18)/2/3.6 -> 0.027777778 | H19: =('vehicle data'!$C$4)*(G19) -> 37.055556 | I19: =0.5*1.225*F19^2*('vehicle data'!$F$4)*('vehicle data'!$G$4) -> 0 | J19: =IF(F19=0,0,H19+I19+'vehicle data'!$E$7) -> 0 | K19: =IF(J19<=0,0,J19) -> 0 | L19: =IF(J19<0,J19*-1,0) -> 0 | M19: =(J19*F19)/1000 -> 0 | N19: =IF(M19>0,M19,0) -> 0 | O19: =IF(M19<0,M19*-1,0) -> 0 | P19: =S19*0.75 -> 0 | Q19: =IF(G19<0,P19,"") | R19: =(0.5*'vehicle data'!$C$4*(WLTC_class_3!F19^2))/1000 -> 0 | S19: =IF(O19>0,R19,0) -> 0 | T19: =IF(N19>0,R19,0) -> 0 | U19: =U18+T19 -> 0 | V19: =V18+S19 -> 0 | W19: =T19*0.7 -> 0
B20: Low | C20: 12 | D20: 12 | E20: 0.2 | F20: =E20/3.6 -> 0.055555556 | G20: =($E21-$E19)/2/3.6 -> 0.23611111 | H20: =('vehicle data'!$C$4)*(G20) -> 314.97222 | I20: =0.5*1.225*F20^2*('vehicle data'!$F$4)*('vehicle data'!$G$4) -> 0.00082044753 | J20: =IF(F20=0,0,H20+I20+'vehicle data'!$E$7) -> 472.01152 | K20: =IF(J20<=0,0,J20) -> 472.01152 | L20: =IF(J20<0,J20*-1,0) -> 0 | M20: =(J20*F20)/1000 -> 0.026222862 | N20: =IF(M20>0,M20,0) -> 0.026222862 | O20: =IF(M20<0,M20*-1,0) -> 0 | P20: =S20*0.75 -> 0 | Q20: =IF(G20<0,P20,"") | R20: =(0.5*'vehicle data'!$C$4*(WLTC_class_3!F20^2))/1000 -> 0.002058642 | S20: =IF(O20>0,R20,0) -> 0 | T20: =IF(N20>0,R20,0) -> 0.002058642 | U20: =U19+T20 -> 0.002058642 | V20: =V19+S20 -> 0 | W20: =T20*0.7 -> 0.0014410494
... B1808: Extra-high | C1808: 1800 | D1808: 323 | E1808: 0 | F1808: =E1808/3.6 -> 0 | G1808: =($E1809-$E1807)/2/3.6 -> 0 | H1808: =('vehicle data'!$C$4)*(G1808) -> 0 | I1808: =0.5*1.225*F1808^2*('vehicle data'!$F$4)*('vehicle data'!$G$4) -> 0 | J1808: =IF(F1808=0,0,H1808+I1808+'vehicle data'!$E$7) -> 0 | K1808: =IF(J1808<=0,0,J1808) -> 0 | L1808: =IF(J1808<0,J1808*-1,0) -> 0 | M1808: =(J1808*F1808)/1000 -> 0 | N1808: =IF(M1808>0,M1808,0) -> 0 | O1808: =IF(M1808<0,M1808*-1,0) -> 0 | P1808: =S1808*0.75 -> 0 | Q1808: =IF(G1808<0,P1808,"") | R1808: =(0.5*'vehicle data'!$C$4*(WLTC_class_3!F1808^2))/1000 -> 0 | S1808: =IF(O1808>0,R1808,0) -> 0 | T1808: =IF(N1808>0,R1808,0) -> 0 | U1808: =U1807+T1808 -> 269427.98 | V1808: =V1807+S1808 -> 51289.837 | W1808: =T1808*0.7 -> 0

Sheet tractive forces

Sheet tractive power

Sheet cumulative power

Sheet energ available for acceleratio
