Workbook

Sheet Ducati Panigale 1199 data
B5: Test Mass | C5: 188
B6: Rider Mass | C6: 80
B7: Luggage | C7: 10
B8: Kerb Mass | C8: =+SUM(C5:C7) -> 278
B10: Coe Rolling Resistance | C10: 0.02
B11: Coe Aero Resistance | C11: 0.7
B12: Frontal Area | C12: 0.33
B14: Density of Air | C14: 1.225
B15: Gravity | C15: 9.81

Sheet WLTP class 3 v5
B2: Class 3 vehicles: | C2: vehicles with a ratio of rated power in W / kerb mass in kg > 34
B4: For further requirements/recommendations see table "Explanations"
O5: BRAKING POWER | S5: TRACTIVE POWER | V5: LOSSES UP TO STORAGE | AJ5: Braking Energy | AM5: Tractive Energy
B8: Phase | C8: Total elapsed time | D8: Phase elapsed time | E8: WLTC class 3, version 5, vehicle speed | F8: WLTC class 3, version 5, vehicle speed | G8: WLTC class 3, version 5, acceleration | H8: WLTC class 3, version 5, acceleration
B9: Phase | C9: s | D9: s | E9: km/h | F9: m/s | G9: m/s² | H9: km/h/s
B10: Phase | C10: Total elapsed time (s) | D10: Phase elapsed time (s) | E10: WLTC class 3, version 5, vehicle speed (km/h) | F10: WLTC class 3, version 5, vehicle speed (m/s) | G10: WLTC class 3, version 5, acceleration (m/s²) | H10: WLTC class 3, version 5, acceleration (km/h/s) | I10: Acceleration Force (N) | J10: Rolling Resistance (N) | K10: Aero Resistance (N) | L10: Total Resistance (N) | M10: Power (W) | N10: Power (kW) | O10: Braking Power (kW) -ve | P10: Braking Power (kW) +ve | Q10: Cumulative Braking Power (kW) | R10: Cumulative Braking Power (kWh) | S10: Tractive Power (kW) | T10: Cumulative Tractive Power (kW) | U10: Cumulative Tractive Power (kWh) | V10: Gear ratio loss @ 95% efficiency (kJ) | W10: Motor loss @ 96% efficiency (kJ) | X10: Controller @ 96% efficiency (kJ) | Y10: Storage Device In/Out @ 99% efficiency (kJ) | Z10: Cum Braking Energy after losses (kWh) | AA10: Controller @ 96% efficiency | AB10: Motor loss @ 96% efficiency | AC10: Gear ratio loss @ 95% efficiency | AD10: Final Energy Out (kJ) | AE10: Final Energy Out (kWh) | AF10: Cumulative Tractive Energy - Final Energy Out (kJ) | AG10: Cumulative Tractive Energy - Final Energy Out (kWh) | AH10: Kinetic Energy (J) | AI10: Kinetic Energy (kJ) | AJ10: Braking Energy (kJ) | AK10: Cumulative Braking (kJ) | AL10: Cumulative Braking Energy (kWh) | AM10: Tractive Energy (kJ) | AN10: Cumulative Tractive Energy (kJ) | AO10: Cumulative Tractive Energy (kWh) | AP10: Gear ratio loss @ 95% efficiency | AQ10: Motor loss @ 96% efficiency | AR10: Controller @ 96% efficiency | AS10: Storage Device In/Out @ 99% efficiency | AT10: Controller @ 96% efficiency | AU10: Motor loss @ 96% efficiency | AV10: Gear ratio loss @ 95% efficiency | AW10: Final Energy Out (kJ) | AX10: Final Energy Out (kWh) | AY10: Cumulative Tractive Energy - Final Energy Out (kJ) | AZ10: Cumulative Tractive Energy - Final Energy Out (kWh) | BB10: Braking Energy (kJ) | BC10: Gear ratio loss @ 90% efficiency | BD10: Motor loss @ 95% efficiency | BE10: Controller @ 96% efficiency | BF10: Storage Device In/Out @ 94% efficiency | BG10: Final Energy Out
B11: Low | C11: 0 | D11: 0 | E11: 0 | F11: =(E11*1000)/3600 -> 0 | G11: =($E12-0)/2/3.6 -> 0 | H11: =($D12-0)/2 -> 0.5 | I11: ='Ducati Panigale 1199 data'!$C$8*G11 -> 0 | J11: ='Ducati Panigale 1199 data'!$C$8*'Ducati Panigale 1199 data'!$C$15*'Ducati Panigale 1199 data'!$C$10 -> 54.5436 | K11: =(0.5*'Ducati Panigale 1199 data'!$C$12)*'Ducati Panigale 1199 data'!$C$14*'Ducati Panigale 1199 data'!$C$11*F11^2 -> 0 | L11: =I11+J11+K11 -> 54.5436 | M11: =L11*F11 -> 0 | N11: =M11/1000 -> 0 | O11: =IF(N11<0,N11,) -> 0 | P11: =-O11 -> 0 | Q11: 0 | R11: =Q11/3600 -> 0 | S11: =IF(N11>0,N11,) -> 0 | T11: 0 | U11: =T11/3600 -> 0 | V11: =0.95*Q11 -> 0 | W11: =0.96*V11 -> 0 | X11: =0.96*W11 -> 0 | Y11: =0.99*X11 -> 0 | Z11: =Y11/3600 -> 0 | AA11: =0.96*Y11 -> 0 | AB11: =0.96*AA11 -> 0 | AC11: =0.95*AB11 -> 0 | AD11: =AC11 -> 0 | AE11: =AD11/3600 -> 0 | AF11: =T11-AD11 -> 0 | AG11: =AF11/3600 -> 0 | AH11: =0.5*'Ducati Panigale 1199 data'!$C$8*'WLTP class 3 v5'!F11^2 -> 0 | AI11: =AH11/1000 -> 0 | AJ11: =IF(N11<0, AI11, "0") -> 0 | AK11: 0 | AL11: =AK11/3600 -> 0 | AM11: =IF(N11 > 0, AI11, ) -> 0 | AN11: 0 | AO11: =AN11/3600 -> 0 | AP11: =0.95*AJ11 -> 0 | AQ11: =0.96*AP11 -> 0 | AR11: =0.96*AQ11 -> 0 | AS11: =0.99*AR11 -> 0 | AT11: =0.96*AS11 -> 0 | AU11: =0.96*AT11 -> 0 | AV11: =0.95*AU11 -> 0 | AW11: =AV11 -> 0 | AX11: =AW11/3600 -> 0 | AY11: =AN11-AW11 -> 0 | AZ11: =AY11/3600 -> 0 | BB11: 0 | BC11: =0.9*BB11 -> 0 | BD11: =0.95*BC11 -> 0 | BE11: =0.96*BD11 -> 0 | BF11: =0.94*BE11 -> 0 | BG11: =BF11 -> 0
B12: Low | C12: 1 | D12: 1 | E12: 0 | F12: =(E12*1000)/3600 -> 0 | G12: =($E13-$E11)/2/3.6 -> 0 | H12: =($D13-0)/2 -> 1 | I12: ='Ducati Panigale 1199 data'!$C$8*G12 -> 0 | J12: ='Ducati Panigale 1199 data'!$C$8*'Ducati Panigale 1199 data'!$C$15*'Ducati Panigale 1199 data'!$C$10 -> 54.5436 | K12: =(0.5*'Ducati Panigale 1199 data'!$C$12)*'Ducati Panigale 1199 data'!$C$14*'Ducati Panigale 1199 data'!$C$11*F12^2 -> 0 | L12: =I12+J12+K12 -> 54.5436 | M12: =L12*F12 -> 0 | N12: =M12/1000 -> 0 | O12: =IF(N12<0,N12,) -> 0 | P12: =-O12 -> 0 | Q12: =P12+Q11 -> 0 | R12: =Q12/3600 -> 0 | S12: =IF(N12>0,N12,) -> 0 | T12: =S12+T11 -> 0 | U12: =T12/3600 -> 0 | V12: =0.95*Q12 -> 0 | W12: =0.96*V12 -> 0 | X12: =0.96*W12 -> 0 | Y12: =0.99*X12 -> 0 | Z12: =Y12/3600 -> 0 | AA12: =0.96*Y12 -> 0 | AB12: =0.96*AA12 -> 0 | AC12: =0.95*AB12 -> 0 | AD12: =AC12 -> 0 | AE12: =AD12/3600 -> 0 | AF12: =T12-AD12 -> 0 | AG12: =AF12/3600 -> 0 | AH12: =0.5*'Ducati Panigale 1199 data'!$C$8*'WLTP class 3 v5'!F12^2 -> 0 | AI12: =AH12/1000 -> 0 | AJ12: =IF(N12<0, AI12, "0") -> 0 | AK12: =AK11+AJ12 -> 0 | AL12: =AK12/3600 -> 0 | AM12: =IF(N12 > 0, AI12, ) -> 0 | AN12: =AM12+AN11 -> 0 | AO12: =AN12/3600 -> 0 | AP12: =0.95*AJ12 -> 0 | AQ12: =0.96*AP12 -> 0 | AR12: =0.96*AQ12 -> 0 | AS12: =0.99*AR12 -> 0 | AT12: =0.96*AS12 -> 0 | AU12: =0.96*AT12 -> 0 | AV12: =0.95*AU12 -> 0 | AW12: =AV12 -> 0 | AX12: =AW12/3600 -> 0 | AY12: =AN12-AW12 -> 0 | AZ12: =AY12/3600 -> 0 | BB12: 0 | BC12: =0.9*BB12 -> 0 | BD12: =0.95*BC12 -> 0 | BE12: =0.96*BD12 -> 0 | BF12: =0.94*BE12 -> 0 | BG12: =BF12 -> 0
B13: Low | C13: 2 | D13: 2 | E13: 0 | F13: =(E13*1000)/3600 -> 0 | G13: =($E14-$E12)/2/3.6 -> 0 | H13: =($D14-0)/2 -> 1.5 | I13: ='Ducati Panigale 1199 data'!$C$8*G13 -> 0 | J13: ='Ducati Panigale 1199 data'!$C$8*'Ducati Panigale 1199 data'!$C$15*'Ducati Panigale 1199 data'!$C$10 -> 54.5436 | K13: =(0.5*'Ducati Panigale 1199 data'!$C$12)*'Ducati Panigale 1199 data'!$C$14*'Ducati Panigale 1199 data'!$C$11*F13^2 -> 0 | L13: =I13+J13+K13 -> 54.5436 | M13: =L13*F13 -> 0 | N13: =M13/1000 -> 0 | O13: =IF(N13<0,N13,) -> 0 | P13: =-O13 -> 0 | Q13: =P13+Q12 -> 0 | R13: =Q13/3600 -> 0 | S13: =IF(N13>0,N13,) -> 0 | T13: =S13+T12 -> 0 | U13: =T13/3600 -> 0 | V13: =0.95*Q13 -> 0 | W13: =0.96*V13 -> 0 | X13: =0.96*W13 -> 0 | Y13: =0.99*X13 -> 0 | Z13: =Y13/3600 -> 0 | AA13: =0.96*Y13 -> 0 | AB13: =0.96*AA13 -> 0 | AC13: =0.95*AB13 -> 0 | AD13: =AC13 -> 0 | AE13: =AD13/3600 -> 0 | AF13: =T13-AD13 -> 0 | AG13: =AF13/3600 -> 0 | AH13: =0.5*'Ducati Panigale 1199 data'!$C$8*'WLTP class 3 v5'!F13^2 -> 0 | AI13: =AH13/1000 -> 0 | AJ13: =IF(N13<0, AI13, "0") -> 0 | AK13: =AK12+AJ13 -> 0 | AL13: =AK13/3600 -> 0 | AM13: =IF(N13 > 0, AI13, ) -> 0 | AN13: =AM13+AN12 -> 0 | AO13: =AN13/3600 -> 0 | AP13: =0.95*AJ13 -> 0 | AQ13: =0.96*AP13 -> 0 | AR13: =0.96*AQ13 -> 0 | AS13: =0.99*AR13 -> 0 | AT13: =0.96*AS13 -> 0 | AU13: =0.96*AT13 -> 0 | AV13: =0.95*AU13 -> 0 | AW13: =AV13 -> 0 | AX13: =AW13/3600 -> 0 | AY13: =AN13-AW13 -> 0 | AZ13: =AY13/3600 -> 0 | BB13: 0 | BC13: =0.9*BB13 -> 0 | BD13: =0.95*BC13 -> 0 | BE13: =0.96*BD13 -> 0 | BF13: =0.94*BE13 -> 0 | BG13: =BF13 -> 0
B14: Low | C14: 3 | D14: 3 | E14: 0 | F14: =(E14*1000)/3600 -> 0 | G14: =($E15-$E13)/2/3.6 -> 0 | H14: =($D15-0)/2 -> 2 | I14: ='Ducati Panigale 1199 data'!$C$8*G14 -> 0 | J14: ='Ducati Panigale 1199 data'!$C$8*'Ducati Panigale 1199 data'!$C$15*'Ducati Panigale 1199 data'!$C$10 -> 54.5436 | K14: =(0.5*'Ducati Panigale 1199 data'!$C$12)*'Ducati Panigale 1199 data'!$C$14*'Ducati Panigale 1199 data'!$C$11*F14^2 -> 0 | L14: =I14+J14+K14 -> 54.5436 | M14: =L14*F14 -> 0 | N14: =M14/1000 -> 0 | O14: =IF(N14<0,N14,) -> 0 | P14: =-O14 -> 0 | Q14: =P14+Q13 -> 0 | R14: =Q14/3600 -> 0 | S14: =IF(N14>0,N14,) -> 0 | T14: =S14+T13 -> 0 | U14: =T14/3600 -> 0 | V14: =0.95*Q14 -> 0 | W14: =0.96*V14 -> 0 | X14: =0.96*W14 -> 0 | Y14: =0.99*X14 -> 0 | Z14: =Y14/3600 -> 0 | AA14: =0.96*Y14 -> 0 | AB14: =0.96*AA14 -> 0 | AC14: =0.95*AB14 -> 0 | AD14: =AC14 -> 0 | AE14: =AD14/3600 -> 0 | AF14: =T14-AD14 -> 0 | AG14: =AF14/3600 -> 0 | AH14: =0.5*'Ducati Panigale 1199 data'!$C$8*'WLTP class 3 v5'!F14^2 -> 0 | AI14: =AH14/1000 -> 0 | AJ14: =IF(N14<0, AI14, "0") -> 0 | AK14: =AK13+AJ14 -> 0 | AL14: =AK14/3600 -> 0 | AM14: =IF(N14 > 0, AI14, ) -> 0 | AN14: =AM14+AN13 -> 0 | AO14: =AN14/3600 -> 0 | AP14: =0.95*AJ14 -> 0 | AQ14: =0.96*AP14 -> 0 | AR14: =0.96*AQ14 -> 0 | AS14: =0.99*AR14 -> 0 | AT14: =0.96*AS14 -> 0 | AU14: =0.96*AT14 -> 0 | AV14: =0.95*AU14 -> 0 | AW14: =AV14 -> 0 | AX14: =AW14/3600 -> 0 | AY14: =AN14-AW14 -> 0 | AZ14: =AY14/3600 -> 0 | BB14: 0 | BC14: =0.9*BB14 -> 0 | BD14: =0.95*BC14 -> 0 | BE14: =0.96*BD14 -> 0 | BF14: =0.94*BE14 -> 0 | BG14: =BF14 -> 0
B15: Low | C15: 4 | D15: 4 | E15: 0 | F15: =(E15*1000)/3600 -> 0 | G15: =($E16-$E14)/2/3.6 -> 0 | H15: =($D16-0)/2 -> 2.5 | I15: ='Ducati Panigale 1199 data'!$C$8*G15 -> 0 | J15: ='Ducati Panigale 1199 data'!$C$8*'Ducati Panigale 1199 data'!$C$15*'Ducati Panigale 1199 data'!$C$10 -> 54.5436 | K15: =(0.5*'Ducati Panigale 1199 data'!$C$12)*'Ducati Panigale 1199 data'!$C$14*'Ducati Panigale 1199 data'!$C$11*F15^2 -> 0 | L15: =I15+J15+K15 -> 54.5436 | M15: =L15*F15 -> 0 | N15: =M15/1000 -> 0 | O15: =IF(N15<0,N15,) -> 0 | P15: =-O15 -> 0 | Q15: =P15+Q14 -> 0 | R15: =Q15/3600 -> 0 | S15: =IF(N15>0,N15,) -> 0 | T15: =S15+T14 -> 0 | U15: =T15/3600 -> 0 | V15: =0.95*Q15 -> 0 | W15: =0.96*V15 -> 0 | X15: =0.96*W15 -> 0 | Y15: =0.99*X15 -> 0 | Z15: =Y15/3600 -> 0 | AA15: =0.96*Y15 -> 0 | AB15: =0.96*AA15 -> 0 | AC15: =0.95*AB15 -> 0 | AD15: =AC15 -> 0 | AE15: =AD15/3600 -> 0 | AF15: =T15-AD15 -> 0 | AG15: =AF15/3600 -> 0 | AH15: =0.5*'Ducati Panigale 1199 data'!$C$8*'WLTP class 3 v5'!F15^2 -> 0 | AI15: =AH15/1000 -> 0 | AJ15: =IF(N15<0, AI15, "0") -> 0 | AK15: =AK14+AJ15 -> 0 | AL15: =AK15/3600 -> 0 | AM15: =IF(N15 > 0, AI15, ) -> 0 | AN15: =AM15+AN14 -> 0 | AO15: =AN15/3600 -> 0 | AP15: =0.95*AJ15 -> 0 | AQ15: =0.96*AP15 -> 0 | AR15: =0.96*AQ15 -> 0 | AS15: =0.99*AR15 -> 0 | AT15: =0.96*AS15 -> 0 | AU15: =0.96*AT15 -> 0 | AV15: =0.95*AU15 -> 0 | AW15: =AV15 -> 0 | AX15: =AW15/3600 -> 0 | AY15: =AN15-AW15 -> 0 | AZ15: =AY15/3600 -> 0 | BB15: 0 | BC15: =0.9*BB15 -> 0 | BD15: =0.95*BC15 -> 0 | BE15: =0.96*BD15 -> 0 | BF15: =0.94*BE15 -> 0 | BG15: =BF15 -> 0
B16: Low | C16: 5 | D16: 5 | E16: 0 | F16: =(E16*1000)/3600 -> 0 | G16: =($E17-$E15)/2/3.6 -> 0 | H16: =($D17-0)/2 -> 3 | I16: ='Ducati Panigale 1199 data'!$C$8*G16 -> 0 | J16: ='Ducati Panigale 1199 data'!$C$8*'Ducati Panigale 1199 data'!$C$15*'Ducati Panigale 1199 data'!$C$10 -> 54.5436 | K16: =(0.5*'Ducati Panigale 1199 data'!$C$12)*'Ducati Panigale 1199 data'!$C$14*'Ducati Panigale 1199 data'!$C$11*F16^2 -> 0 | L16: =I16+J16+K16 -> 54.5436 | M16: =L16*F16 -> 0 | N16: =M16/1000 -> 0 | O16: =IF(N16<0,N16,) -> 0 | P16: =-O16 -> 0 | Q16: =P16+Q15 -> 0 | R16: =Q16/3600 -> 0 | S16: =IF(N16>0,N16,) -> 0 | T16: =S16+T15 -> 0 | U16: =T16/3600 -> 0 | V16: =0.95*Q16 -> 0 | W16: =0.96*V16 -> 0 | X16: =0.96*W16 -> 0 | Y16: =0.99*X16 -> 0 | Z16: =Y16/3600 -> 0 | AA16: =0.96*Y16 -> 0 | AB16: =0.96*AA16 -> 0 | AC16: =0.95*AB16 -> 0 | AD16: =AC16 -> 0 | AE16: =AD16/3600 -> 0 | AF16: =T16-AD16 -> 0 | AG16: =AF16/3600 -> 0 | AH16: =0.5*'Ducati Panigale 1199 data'!$C$8*'WLTP class 3 v5'!F16^2 -> 0 | AI16: =AH16/1000 -> 0 | AJ16: =IF(N16<0, AI16, "0") -> 0 | AK16: =AK15+AJ16 -> 0 | AL16: =AK16/3600 -> 0 | AM16: =IF(N16 > 0, AI16, ) -> 0 | AN16: =AM16+AN15 -> 0 | AO16: =AN16/3600 -> 0 | AP16: =0.95*AJ16 -> 0 | AQ16: =0.96*AP16 -> 0 | AR16: =0.96*AQ16 -> 0 | AS16: =0.99*AR16 -> 0 | AT16: =0.96*AS16 -> 0 | AU16: =0.96*AT16 -> 0 | AV16: =0.95*AU16 -> 0 | AW16: =AV16 -> 0 | AX16: =AW16/3600 -> 0 | AY16: =AN16-AW16 -> 0 | AZ16: =AY16/3600 -> 0 | BB16: 0 | BC16: =0.9*BB16 -> 0 | BD16: =0.95*BC16 -> 0 | BE16: =0.96*BD16 -> 0 | BF16: =0.94*BE16 -> 0 | BG16: =BF16 -> 0
B17: Low | C17: 6 | D17: 6 | E17: 0 | F17: =(E17*1000)/3600 -> 0 | G17: =($E18-$E16)/2/3.6 -> 0 | H17: =($D18-0)/2 -> 3.5 | I17: ='Ducati Panigale 1199 data'!$C$8*G17 -> 0 | J17: ='Ducati Panigale 1199 data'!$C$8*'Ducati Panigale 1199 data'!$C$15*'Ducati Panigale 1199 data'!$C$10 -> 54.5436 | K17: =(0.5*'Ducati Panigale 1199 data'!$C$12)*'Ducati Panigale 1199 data'!$C$14*'Ducati Panigale 1199 data'!$C$11*F17^2 -> 0 | L17: =I17+J17+K17 -> 54.5436 | M17: =L17*F17 -> 0 | N17: =M17/1000 -> 0 | O17: =IF(N17<0,N17,) -> 0 | P17: =-O17 -> 0 | Q17: =P17+Q16 -> 0 | R17: =Q17/3600 -> 0 | S17: =IF(N17>0,N17,) -> 0 | T17: =S17+T16 -> 0 | U17: =T17/3600 -> 0 | V17: =0.95*Q17 -> 0 | W17: =0.96*V17 -> 0 | X17: =0.96*W17 -> 0 | Y17: =0.99*X17 -> 0 | Z17: =Y17/3600 -> 0 | AA17: =0.96*Y17 -> 0 | AB17: =0.96*AA17 -> 0 | AC17: =0.95*AB17 -> 0 | AD17: =AC17 -> 0 | AE17: =AD17/3600 -> 0 | AF17: =T17-AD17 -> 0 | AG17: =AF17/3600 -> 0 | AH17: =0.5*'Ducati Panigale 1199 data'!$C$8*'WLTP class 3 v5'!F17^2 -> 0 | AI17: =AH17/1000 -> 0 | AJ17: =IF(N17<0, AI17, "0") -> 0 | AK17: =AK16+AJ17 -> 0 | AL17: =AK17/3600 -> 0 | AM17: =IF(N17 > 0, AI17, ) -> 0 | AN17: =AM17+AN16 -> 0 | AO17: =AN17/3600 -> 0 | AP17: =0.95*AJ17 -> 0 | AQ17: =0.96*AP17 -> 0 | AR17: =0.96*AQ17 -> 0 | AS17: =0.99*AR17 -> 0 | AT17: =0.96*AS17 -> 0 | AU17: =0.96*AT17 -> 0 | AV17: =0.95*AU17 -> 0 | AW17: =AV17 -> 0 | AX17: =AW17/3600 -> 0 | AY17: =AN17-AW17 -> 0 | AZ17: =AY17/3600 -> 0 | BB17: 0 | BC17: =0.9*BB17 -> 0 | BD17: =0.95*BC17 -> 0 | BE17: =0.96*BD17 -> 0 | BF17: =0.94*BE17 -> 0 | BG17: =BF17 -> 0
B18: Low | C18: 7 | D18: 7 | E18: 0 | F18: =(E18*1000)/3600 -> 0 | G18: =($E19-$E17)/2/3.6 -> 0 | H18: =($D19-0)/2 -> 4 | I18: ='Ducati Panigale 1199 data'!$C$8*G18 -> 0 | J18: ='Ducati Panigale 1199 data'!$C$8*'Ducati Panigale 1199 data'!$C$15*'Ducati Panigale 1199 data'!$C$10 -> 54.5436 | K18: =(0.5*'Ducati Panigale 1199 data'!$C$12)*'Ducati Panigale 1199 data'!$C$14*'Ducati Panigale 1199 data'!$C$11*F18^2 -> 0 | L18: =I18+J18+K18 -> 54.5436 | M18: =L18*F18 -> 0 | N18: =M18/1000 -> 0 | O18: =IF(N18<0,N18,) -> 0 | P18: =-O18 -> 0 | Q18: =P18+Q17 -> 0 | R18: =Q18/3600 -> 0 | S18: =IF(N18>0,N18,) -> 0 | T18: =S18+T17 -> 0 | U18: =T18/3600 -> 0 | V18: =0.95*Q18 -> 0 | W18: =0.96*V18 -> 0 | X18: =0.96*W18 -> 0 | Y18: =0.99*X18 -> 0 | Z18: =Y18/3600 -> 0 | AA18: =0.96*Y18 -> 0 | AB18: =0.96*AA18 -> 0 | AC18: =0.95*AB18 -> 0 | AD18: =AC18 -> 0 | AE18: =AD18/3600 -> 0 | AF18: =T18-AD18 -> 0 | AG18: =AF18/3600 -> 0 | AH18: =0.5*'Ducati Panigale 1199 data'!$C$8*'WLTP class 3 v5'!F18^2 -> 0 | AI18: =AH18/1000 -> 0 | AJ18: =IF(N18<0, AI18, "0") -> 0 | AK18: =AK17+AJ18 -> 0 | AL18: =AK18/3600 -> 0 | AM18: =IF(N18 > 0, AI18, ) -> 0 | AN18: =AM18+AN17 -> 0 | AO18: =AN18/3600 -> 0 | AP18: =0.95*AJ18 -> 0 | AQ18: =0.96*AP18 -> 0 | AR18: =0.96*AQ18 -> 0 | AS18: =0.99*AR18 -> 0 | AT18: =0.96*AS18 -> 0 | AU18: =0.96*AT18 -> 0 | AV18: =0.95*AU18 -> 0 | AW18: =AV18 -> 0 | AX18: =AW18/3600 -> 0 | AY18: =AN18-AW18 -> 0 | AZ18: =AY18/3600 -> 0 | BB18: 0 | BC18: =0.9*BB18 -> 0 | BD18: =0.95*BC18 -> 0 | BE18: =0.96*BD18 -> 0 | BF18: =0.94*BE18 -> 0 | BG18: =BF18 -> 0
B19: Low | C19: 8 | D19: 8 | E19: 0 | F19: =(E19*1000)/3600 -> 0 | G19: =($E20-$E18)/2/3.6 -> 0 | H19: =($D20-0)/2 -> 4.5 | I19: ='Ducati Panigale 1199 data'!$C$8*G19 -> 0 | J19: ='Ducati Panigale 1199 data'!$C$8*'Ducati Panigale 1199 data'!$C$15*'Ducati Panigale 1199 data'!$C$10 -> 54.5436 | K19: =(0.5*'Ducati Panigale 1199 data'!$C$12)*'Ducati Panigale 1199 data'!$C$14*'Ducati Panigale 1199 data'!$C$11*F19^2 -> 0 | L19: =I19+J19+K19 -> 54.5436 | M19: =L19*F19 -> 0 | N19: =M19/1000 -> 0 | O19: =IF(N19<0,N19,) -> 0 | P19: =-O19 -> 0 | Q19: =P19+Q18 -> 0 | R19: =Q19/3600 -> 0 | S19: =IF(N19>0,N19,) -> 0 | T19: =S19+T18 -> 0 | U19: =T19/3600 -> 0 | V19: =0.95*Q19 -> 0 | W19: =0.96*V19 -> 0 | X19: =0.96*W19 -> 0 | Y19: =0.99*X19 -> 0 | Z19: =Y19/3600 -> 0 | AA19: =0.96*Y19 -> 0 | AB19: =0.96*AA19 -> 0 | AC19: =0.95*AB19 -> 0 | AD19: =AC19 -> 0 | AE19: =AD19/3600 -> 0 | AF19: =T19-AD19 -> 0 | AG19: =AF19/3600 -> 0 | AH19: =0.5*'Ducati Panigale 1199 data'!$C$8*'WLTP class 3 v5'!F19^2 -> 0 | AI19: =AH19/1000 -> 0 | AJ19: =IF(N19<0, AI19, "0") -> 0 | AK19: =AK18+AJ19 -> 0 | AL19: =AK19/3600 -> 0 | AM19: =IF(N19 > 0, AI19, ) -> 0 | AN19: =AM19+AN18 -> 0 | AO19: =AN19/3600 -> 0 | AP19: =0.95*AJ19 -> 0 | AQ19: =0.96*AP19 -> 0 | AR19: =0.96*AQ19 -> 0 | AS19: =0.99*AR19 -> 0 | AT19: =0.96*AS19 -> 0 | AU19: =0.96*AT19 -> 0 | AV19: =0.95*AU19 -> 0 | AW19: =AV19 -> 0 | AX19: =AW19/3600 -> 0 | AY19: =AN19-AW19 -> 0 | AZ19: =AY19/3600 -> 0 | BB19: 0 | BC19: =0.9*BB19 -> 0 | BD19: =0.95*BC19 -> 0 | BE19: =0.96*BD19 -> 0 | BF19: =0.94*BE19 -> 0 | BG19: =BF19 -> 0
B20: Low | C20: 9 | D20: 9 | E20: 0 | F20: =(E20*1000)/3600 -> 0 | G20: =($E21-$E19)/2/3.6 -> 0 | H20: =($D21-0)/2 -> 5 | I20: ='Ducati Panigale 1199 data'!$C$8*G20 -> 0 | J20: ='Ducati Panigale 1199 data'!$C$8*'Ducati Panigale 1199 data'!$C$15*'Ducati Panigale 1199 data'!$C$10 -> 54.5436 | K20: =(0.5*'Ducati Panigale 1199 data'!$C$12)*'Ducati Panigale 1199 data'!$C$14*'Ducati Panigale 1199 data'!$C$11*F20^2 -> 0 | L20: =I20+J20+K20 -> 54.5436 | M20: =L20*F20 -> 0 | N20: =M20/1000 -> 0 | O20: =IF(N20<0,N20,) -> 0 | P20: =-O20 -> 0 | Q20: =P20+Q19 -> 0 | R20: =Q20/3600 -> 0 | S20: =IF(N20>0,N20,) -> 0 | T20: =S20+T19 -> 0 | U20: =T20/3600 -> 0 | V20: =0.95*Q20 -> 0 | W20: =0.96*V20 -> 0 | X20: =0.96*W20 -> 0 | Y20: =0.99*X20 -> 0 | Z20: =Y20/3600 -> 0 | AA20: =0.96*Y20 -> 0 | AB20: =0.96*AA20 -> 0 | AC20: =0.95*AB20 -> 0 | AD20: =AC20 -> 0 | AE20: =AD20/3600 -> 0 | AF20: =T20-AD20 -> 0 | AG20: =AF20/3600 -> 0 | AH20: =0.5*'Ducati Panigale 1199 data'!$C$8*'WLTP class 3 v5'!F20^2 -> 0 | AI20: =AH20/1000 -> 0 | AJ20: =IF(N20<0, AI20, "0") -> 0 | AK20: =AK19+AJ20 -> 0 | AL20: =AK20/3600 -> 0 | AM20: =IF(N20 > 0, AI20, ) -> 0 | AN20: =AM20+AN19 -> 0 | AO20: =AN20/3600 -> 0 | AP20: =0.95*AJ20 -> 0 | AQ20: =0.96*AP20 -> 0 | AR20: =0.96*AQ20 -> 0 | AS20: =0.99*AR20 -> 0 | AT20: =0.96*AS20 -> 0 | AU20: =0.96*AT20 -> 0 | AV20: =0.95*AU20 -> 0 | AW20: =AV20 -> 0 | AX20: =AW20/3600 -> 0 | AY20: =AN20-AW20 -> 0 | AZ20: =AY20/3600 -> 0 | BB20: 0 | BC20: =0.9*BB20 -> 0 | BD20: =0.95*BC20 -> 0 | BE20: =0.96*BD20 -> 0 | BF20: =0.94*BE20 -> 0 | BG20: =BF20 -> 0
B21: Low | C21: 10 | D21: 10 | E21: 0 | F21: =(E21*1000)/3600 -> 0 | G21: =($E22-$E20)/2/3.6 -> 0 | H21: =($D22-0)/2 -> 5.5 | I21: ='Ducati Panigale 1199 data'!$C$8*G21 -> 0 | J21: ='Ducati Panigale 1199 data'!$C$8*'Ducati Panigale 1199 data'!$C$15*'Ducati Panigale 1199 data'!$C$10 -> 54.5436 | K21: =(0.5*'Ducati Panigale 1199 data'!$C$12)*'Ducati Panigale 1199 data'!$C$14*'Ducati Panigale 1199 data'!$C$11*F21^2 -> 0 | L21: =I21+J21+K21 -> 54.5436 | M21: =L21*F21 -> 0 | N21: =M21/1000 -> 0 | O21: =IF(N21<0,N21,) -> 0 | P21: =-O21 -> 0 | Q21: =P21+Q20 -> 0 | R21: =Q21/3600 -> 0 | S21: =IF(N21>0,N21,) -> 0 | T21: =S21+T20 -> 0 | U21: =T21/3600 -> 0 | V21: =0.95*Q21 -> 0 | W21: =0.96*V21 -> 0 | X21: =0.96*W21 -> 0 | Y21: =0.99*X21 -> 0 | Z21: =Y21/3600 -> 0 | AA21: =0.96*Y21 -> 0 | AB21: =0.96*AA21 -> 0 | AC21: =0.95*AB21 -> 0 | AD21: =AC21 -> 0 | AE21: =AD21/3600 -> 0 | AF21: =T21-AD21 -> 0 | AG21: =AF21/3600 -> 0 | AH21: =0.5*'Ducati Panigale 1199 data'!$C$8*'WLTP class 3 v5'!F21^2 -> 0 | AI21: =AH21/1000 -> 0 | AJ21: =IF(N21<0, AI21, "0") -> 0 | AK21: =AK20+AJ21 -> 0 | AL21: =AK21/3600 -> 0 | AM21: =IF(N21 > 0, AI21, ) -> 0 | AN21: =AM21+AN20 -> 0 | AO21: =AN21/3600 -> 0 | AP21: =0.95*AJ21 -> 0 | AQ21: =0.96*AP21 -> 0 | AR21: =0.96*AQ21 -> 0 | AS21: =0.99*AR21 -> 0 | AT21: =0.96*AS21 -> 0 | AU21: =0.96*AT21 -> 0 | AV21: =0.95*AU21 -> 0 | AW21: =AV21 -> 0 | AX21: =AW21/3600 -> 0 | AY21: =AN21-AW21 -> 0 | AZ21: =AY21/3600 -> 0 | BB21: 0 | BC21: =0.9*BB21 -> 0 | BD21: =0.95*BC21 -> 0 | BE21: =0.96*BD21 -> 0 | BF21: =0.94*BE21 -> 0 | BG21: =BF21 -> 0
B22: Low | C22: 11 | D22: 11 | E22: 0 | F22: =(E22*1000)/3600 -> 0 | G22: =($E23-$E21)/2/3.6 -> 0.027777778 | H22: =($D23-0)/2 -> 6 | I22: ='Ducati Panigale 1199 data'!$C$8*G22 -> 7.7222222 | J22: ='Ducati Panigale 1199 data'!$C$8*'Ducati Panigale 1199 data'!$C$15*'Ducati Panigale 1199 data'!$C$10 -> 54.5436 | K22: =(0.5*'Ducati Panigale 1199 data'!$C$12)*'Ducati Panigale 1199 data'!$C$14*'Ducati Panigale 1199 data'!$C$11*F22^2 -> 0 | L22: =I22+J22+K22 -> 62.265822 | M22: =L22*F22 -> 0 | N22: =M22/1000 -> 0 | O22: =IF(N22<0,N22,) -> 0 | P22: =-O22 -> 0 | Q22: =P22+Q21 -> 0 | R22: =Q22/3600 -> 0 | S22: =IF(N22>0,N22,) -> 0 | T22: =S22+T21 -> 0 | U22: =T22/3600 -> 0 | V22: =0.95*Q22 -> 0 | W22: =0.96*V22 -> 0 | X22: =0.96*W22 -> 0 | Y22: =0.99*X22 -> 0 | Z22: =Y22/3600 -> 0 | AA22: =0.96*Y22 -> 0 | AB22: =0.96*AA22 -> 0 | AC22: =0.95*AB22 -> 0 | AD22: =AC22 -> 0 | AE22: =AD22/3600 -> 0 | AF22: =T22-AD22 -> 0 | AG22: =AF22/3600 -> 0 | AH22: =0.5*'Ducati Panigale 1199 data'!$C$8*'WLTP class 3 v5'!F22^2 -> 0 | AI22: =AH22/1000 -> 0 | AJ22: =IF(N22<0, AI22, "0") -> 0 | AK22: =AK21+AJ22 -> 0 | AL22: =AK22/3600 -> 0 | AM22: =IF(N22 > 0, AI22, ) -> 0 | AN22: =AM22+AN21 -> 0 | AO22: =AN22/3600 -> 0 | AP22: =0.95*AJ22 -> 0 | AQ22: =0.96*AP22 -> 0 | AR22: =0.96*AQ22 -> 0 | AS22: =0.99*AR22 -> 0 | AT22: =0.96*AS22 -> 0 | AU22: =0.96*AT22 -> 0 | AV22: =0.95*AU22 -> 0 | AW22: =AV22 -> 0 | AX22: =AW22/3600 -> 0 | AY22: =AN22-AW22 -> 0 | AZ22: =AY22/3600 -> 0 | BB22: 0 | BC22: =0.9*BB22 -> 0 | BD22: =0.95*BC22 -> 0 | BE22: =0.96*BD22 -> 0 | BF22: =0.94*BE22 -> 0 | BG22: =BF22 -> 0
B23: Low | C23: 12 | D23: 12 | E23: 0.2 | F23: =(E23*1000)/3600 -> 0.055555556 | G23: =($E24-$E22)/2/3.6 -> 0.23611111 | H23: =($D24-0)/2 -> 6.5 | I23: ='Ducati Panigale 1199 data'!$C$8*G23 -> 65.638889 | J23: ='Ducati Panigale 1199 data'!$C$8*'Ducati Panigale 1199 data'!$C$15*'Ducati Panigale 1199 data'!$C$10 -> 54.5436 | K23: =(0.5*'Ducati Panigale 1199 data'!$C$12)*'Ducati Panigale 1199 data'!$C$14*'Ducati Panigale 1199 data'!$C$11*F23^2 -> 0.00043668981 | L23: =I23+J23+K23 -> 120.18293 | M23: =L23*F23 -> 6.6768292 | N23: =M23/1000 -> 0.0066768292 | O23: =IF(N23<0,N23,) -> 0 | P23: =-O23 -> 0 | Q23: =P23+Q22 -> 0 | R23: =Q23/3600 -> 0 | S23: =IF(N23>0,N23,) -> 0.0066768292 | T23: =S23+T22 -> 0.0066768292 | U23: =T23/3600 -> 1.8546748e-06 | V23: =0.95*Q23 -> 0 | W23: =0.96*V23 -> 0 | X23: =0.96*W23 -> 0 | Y23: =0.99*X23 -> 0 | Z23: =Y23/3600 -> 0 | AA23: =0.96*Y23 -> 0 | AB23: =0.96*AA23 -> 0 | AC23: =0.95*AB23 -> 0 | AD23: =AC23 -> 0 | AE23: =AD23/3600 -> 0 | AF23: =T23-AD23 -> 0.0066768292 | AG23: =AF23/3600 -> 1.8546748e-06 | AH23: =0.5*'Ducati Panigale 1199 data'!$C$8*'WLTP class 3 v5'!F23^2 -> 0.42901235 | AI23: =AH23/1000 -> 0.00042901235 | AJ23: =IF(N23<0, AI23, "0") -> 0 | AK23: =AK22+AJ23 -> 0 | AL23: =AK23/3600 -> 0 | AM23: =IF(N23 > 0, AI23, ) -> 0.00042901235 | AN23: =AM23+AN22 -> 0.00042901235 | AO23: =AN23/3600 -> 1.191701e-07 | AP23: =0.95*AJ23 -> 0 | AQ23: =0.96*AP23 -> 0 | AR23: =0.96*AQ23 -> 0 | AS23: =0.99*AR23 -> 0 | AT23: =0.96*AS23 -> 0 | AU23: =0.96*AT23 -> 0 | AV23: =0.95*AU23 -> 0 | AW23: =AV23 -> 0 | AX23: =AW23/3600 -> 0 | AY23: =AN23-AW23 -> 0.00042901235 | AZ23: =AY23/3600 -> 1.191701e-07 | BB23: 0 | BC23: =0.9*BB23 -> 0 | BD23: =0.95*BC23 -> 0 | BE23: =0.96*BD23 -> 0 | BF23: =0.94*BE23 -> 0 | BG23: =BF23 -> 0
... B1811: Extra-high | C1811: 1800 | D1811: 323 | E1811: 0 | F1811: =(E1811*1000)/3600 -> 0 | G1811: =($E1812-$E1810)/2/3.6 -> 0 | H1811: =($D1812-0)/2 -> 0 | I1811: ='Ducati Panigale 1199 data'!$C$8*G1811 -> 0 | J1811: ='Ducati Panigale 1199 data'!$C$8*'Ducati Panigale 1199 data'!$C$15*'Ducati Panigale 1199 data'!$C$10 -> 54.5436 | K1811: =(0.5*'Ducati Panigale 1199 data'!$C$12)*'Ducati Panigale 1199 data'!$C$14*'Ducati Panigale 1199 data'!$C$11*F1811^2 -> 0 | L1811: =I1811+J1811+K1811 -> 54.5436 | M1811: =L1811*F1811 -> 0 | N1811: =M1811/1000 -> 0 | O1811: =IF(N1811<0,N1811,) -> 0 | P1811: =-O1811 -> 0 | Q1811: =P1811+Q1810 -> 396.45581 | R1811: =Q1811/3600 -> 0.11012661 | S1811: =IF(N1811>0,N1811,) -> 0 | T1811: =S1811+T1810 -> 3352.8421 | U1811: =T1811/3600 -> 0.93134502 | V1811: =0.95*Q1811 -> 376.63302 | W1811: =0.96*V1811 -> 361.5677 | X1811: =0.96*W1811 -> 347.10499 | Y1811: =0.99*X1811 -> 343.63394 | Z1811: =Y1811/3600 -> 0.095453873 | AA1811: =0.96*Y1811 -> 329.88858 | AB1811: =0.96*AA1811 -> 316.69304 | AC1811: =0.95*AB1811 -> 300.85839 | AD1811: =AC1811 -> 300.85839 | AE1811: =AD1811/3600 -> 0.083571775 | AF1811: =T1811-AD1811 -> 3051.9837 | AG1811: =AF1811/3600 -> 0.84777325 | AH1811: =0.5*'Ducati Panigale 1199 data'!$C$8*'WLTP class 3 v5'!F1811^2 -> 0 | AI1811: =AH1811/1000 -> 0 | AJ1811: =IF(N1811<0, AI1811, "0") -> 0 | AK1811: =AK1810+AJ1811 -> 4958.1756 | AL1811: =AK1811/3600 -> 1.377271 | AM1811: =IF(N1811 > 0, AI1811, ) -> 0 | AN1811: =AM1811+AN1810 -> 61878.07 | AO1811: =AN1811/3600 -> 17.188353 | AP1811: =0.95*AJ1811 -> 0 | AQ1811: =0.96*AP1811 -> 0 | AR1811: =0.96*AQ1811 -> 0 | AS1811: =0.99*AR1811 -> 0 | AT1811: =0.96*AS1811 -> 0 | AU1811: =0.96*AT1811 -> 0 | AV1811: =0.95*AU1811 -> 0 | AW1811: =AV1811 -> 0 | AX1811: =AW1811/3600 -> 0 | AY1811: =AN1811-AW1811 -> 61878.07 | AZ1811: =AY1811/3600 -> 17.188353 | BB1811: 0 | BC1811: =0.9*BB1811 -> 0 | BD1811: =0.95*BC1811 -> 0 | BE1811: =0.96*BD1811 -> 0 | BF1811: =0.94*BE1811 -> 0 | BG1811: =BF1811 -> 0

Sheet WLTP Graphs

Sheet Braking Moments
B3: No. of braking moments | C3: 60
B4: Distance of WLTP | C4: 23.26
B5: Braking rate | C5: =C4/C3 -> 0.38766667
B6: Major Service Interval 1 | C6: 24000
B7: No.of braking moments | C7: =C6/$C$5 -> 61908.856
B8: Major Service Interval 2 | C8: 48000
B9: No.of braking moments | C9: =C8/$C$5 -> 123817.71

Sheet Coast Down Data
A2: COAST DOWN TEST - High Speed | E2: COAST DOWN TEST - Mid Speed | I2: COAST DOWN TEST - Low Speed
A3: Dist | B3: Time | C3: Velocity | E3: Dist | F3: Time | G3: Velocity | I3: Distance | J3: Time | K3: Vel | N3: High Speed | O3: Mid-Speer | P3: Low Speed | Q3: Under 5m/s for 1 sec
A4: m | B4: s | C4: m/s | E4: m | F4: s | G4: m/s | I4: m | J4: s | K4: m/s | N4: m/s^2 | O4: m/s^2 | P4: m/s^2 | Q4: m/s^2
A5: 0 | B5: 0 | C5: 55.86 | E5: 0 | F5: 0 | G5: 31.14 | I5: 0 | J5: 0 | K5: 11.75 | M5: Retardation | N5: =-(C1005-C5)/(B1005-B5) -> 2.472 | O5: =-(G1004-G5)/(F1004-F5) -> 1.0590591 | P5: =-(K1219-K5)/(J1219-J5) -> 0.96787479 | Q5: =-(K905-K805)/(J905-J805) -> 0.97222222
A6: 1 | B6: 0.01 | C6: 55.81 | E6: 1 | F6: 0.01 | G6: 31.14 | I6: 0 | J6: 0.01 | K6: 11.75 | M6: Av Vel | N6: =AVERAGE((C5:C1005)) -> 41.341189 | O6: =AVERAGE(G5:G1004) -> 25.2875 | P6: =AVERAGE(K5:K1219) -> 6.1187014 | Q6: =AVERAGE(K805:K904) -> 3.4563889
A7: 2 | B7: 0.02 | C7: 55.67 | E7: 1 | F7: 0.02 | G7: 31.08 | I7: 0 | J7: 0.02 | K7: 11.75 | M7: F=ma | N7: ='Ducati Panigale 1199 data'!$C$8*N5 -> 687.216 | O7: ='Ducati Panigale 1199 data'!$C$8*O5 -> 294.41842 | P7: ='Ducati Panigale 1199 data'!$C$8*P5 -> 269.06919 | Q7: ='Ducati Panigale 1199 data'!$C$8*Q5 -> 270.27778
A8: 2 | B8: 0.03 | C8: 55.72 | E8: 1 | F8: 0.03 | G8: 31.03 | I8: 0 | J8: 0.03 | K8: 11.75
A9: 3 | B9: 0.04 | C9: 55.67 | E9: 1 | F9: 0.04 | G9: 31 | I9: 1 | J9: 0.04 | K9: 11.722222
A10: 3 | B10: 0.05 | C10: 55.58 | E10: 2 | F10: 0.05 | G10: 31 | I10: 1 | J10: 0.05 | K10: 11.694444
A11: 4 | B11: 0.06 | C11: 55.64 | E11: 2 | F11: 0.06 | G11: 31.03 | I11: 1 | J11: 0.06 | K11: 11.638889
A12: 4 | B12: 0.07 | C12: 55.64 | E12: 2 | F12: 0.07 | G12: 31 | I12: 1 | J12: 0.07 | K12: 11.638889
A13: 5 | B13: 0.08 | C13: 55.53 | E13: 3 | F13: 0.08 | G13: 30.94 | I13: 1 | J13: 0.08 | K13: 11.611111
A14: 5 | B14: 0.09 | C14: 55.53 | E14: 3 | F14: 0.09 | G14: 30.92 | I14: 1 | J14: 0.09 | K14: 11.611111
A15: 6 | B15: 0.1 | C15: 55.53 | E15: 3 | F15: 0.1 | G15: 30.89 | I15: 1 | J15: 0.1 | K15: 11.611111
A16: 7 | B16: 0.11 | C16: 55.44 | E16: 4 | F16: 0.11 | G16: 30.89 | I16: 1 | J16: 0.11 | K16: 11.611111
A17: 7 | B17: 0.12 | C17: 55.42 | E17: 4 | F17: 0.12 | G17: 30.89 | I17: 1 | J17: 0.12 | K17: 11.583333
A18: 8 | B18: 0.13 | C18: 55.47 | E18: 4 | F18: 0.13 | G18: 30.83 | I18: 2 | J18: 0.13 | K18: 11.527778
A19: 8 | B19: 0.14 | C19: 55.42 | E19: 5 | F19: 0.14 | G19: 30.81 | I19: 2 | J19: 0.14 | K19: 11.5
... A1004: 414 | B1004: 9.99 | C1004: 31.08 | E1004: 253 | F1004: 9.99 | G1004: 20.56 | I1004: 72 | J1004: 9.99 | K1004: 2.1388889
A1005: 414 | B1005: 10 | C1005: 31.14 | I1005: 72 | J1005: 10 | K1005: 2.1388889
I1006: 72 | J1006: 10.01 | K1006: 2.1111111
I1007: 72 | J1007: 10.02 | K1007: 2.1111111
I1008: 72 | J1008: 10.03 | K1008: 2.0833333
I1009: 72 | J1009: 10.04 | K1009: 2.0833333
I1010: 72 | J1010: 10.05 | K1010: 2.0555556
I1011: 72 | J1011: 10.06 | K1011: 2.0555556
I1012: 72 | J1012: 10.07 | K1012: 2.0555556
I1013: 72 | J1013: 10.08 | K1013: 2.0555556
I1014: 72 | J1014: 10.09 | K1014: 2.0555556
I1015: 72 | J1015: 10.1 | K1015: 2.0555556
I1016: 72 | J1016: 10.11 | K1016: 2.0555556
I1017: 72 | J1017: 10.12 | K1017: 2.0277778
... I1219: 74 | J1219: 12.14 | K1219: 0
A2006: 667 | B2006: 20.01 | C2006: 20.58
A2007: 667 | B2007: 20.02 | C2007: 20.64
A2008: 667 | B2008: 20.03 | C2008: 20.67
A2009: 668 | B2009: 20.04 | C2009: 20.67
A2010: 668 | B2010: 20.05 | C2010: 20.64
A2011: 668 | B2011: 20.06 | C2011: 20.61
A2012: 668 | B2012: 20.07 | C2012: 20.58
A2013: 668 | B2013: 20.08 | C2013: 20.58
A2014: 669 | B2014: 20.09 | C2014: 20.56
A2015: 669 | B2015: 20.1 | C2015: 20.53
A2016: 669 | B2016: 20.11 | C2016: 20.53
A2017: 669 | B2017: 20.12 | C2017: 20.53
... A2216: 709 | B2216: 22.11 | C2216: 19.06

Sheet Coast Down Graphs
C17: High speed retardation | E17: 2.472 | F17: m/s^2 | J17: Mid-speed retardation | L17: 1.0590591 | M17: m/s^2 | Q17: Low-speed retardation | S17: 0.96787479 | T17: m/s^2

Sheet Super Cap Calc
B5: Supercapacitor Selection Calculator
B10: Rated Capacitance | C10: 500
B11: Rated Voltage | C11: 24
B12: No.of units | C12: 1
B13: Energy | C13: =(0.5*C10*C11^2)*C12/1000 -> 144
