Workbook

Sheet Coast Down Run
M2: Constants
A3: Velocity | B3: Velocity | C3: Time Between Velocities | D3: Cumulative Time | F3: Aerodynamic Drag Deceleration | G3: Rolling Resistance Deceleration | H3: Total Average Resistance Deceleration | I3: Average Velocity for Aero Coefficient Calculation | J3: Test Mass | K3: Frontal Surface Area | M3: Gravity | N3: Density of Air
A4: mph | B4: m/s | C4: s | D4: s | F4: m/s² | G4: m/s² | H4: m/s² | I4: m/s | J4: kg | K4: m2 | M4: m/s² | N4: kg/m3
A5: 70 | B5: =A5/2.237 -> 31.291909 | C5: 0 | D5: 0 | F5: 0.2952 | G5: 0.1176 | H5: =(F5+G5)/2 -> 0.2064 | I5: =AVERAGE(B7:B12) -> 25.704068 | J5: 2389 | K5: 2.92 | M5: 9.81 | N5: 1.29
A6: 70 | B6: =A6/2.237 -> 31.291909 | C6: 5 | D6: 5
A7: 70 | B7: =A7/2.237 -> 31.291909 | C7: 5.86 | D7: =D6+C7 -> 10.86
A8: 65 | B8: =A8/2.237 -> 29.056772 | C8: 6.43 | D8: =D7+C8 -> 17.29 | F8: Aerodynamic Drag Coefficient | H8: =(J5*F5)/(N5*K5*(I5^2)*0.5) -> 0.56674307
A9: 60 | B9: =A9/2.237 -> 26.821636 | C9: 6.84 | D9: =D8+C9 -> 24.13 | F9: Rolling Resistance Coefficient | H9: =(J5*G5)/(J5*M5) -> 0.011987768
A10: 55 | B10: =A10/2.237 -> 24.5865 | C10: 7.52 | D10: =D9+C10 -> 31.65
A11: 50 | B11: =A11/2.237 -> 22.351363 | C11: 8.17 | D11: =D10+C11 -> 39.82
A12: 45 | B12: =A12/2.237 -> 20.116227 | C12: 8.83 | D12: =D11+C12 -> 48.65
A13: 40 | B13: =A13/2.237 -> 17.881091 | C13: 9.39 | D13: =D12+C13 -> 58.04
A14: 35 | B14: =A14/2.237 -> 15.645954 | C14: 10.68 | D14: =D13+C14 -> 68.72
A15: 30 | B15: =A15/2.237 -> 13.410818 | C15: 11.64 | D15: =D14+C15 -> 80.36
A16: 25 | B16: =A16/2.237 -> 11.175682 | C16: 13.09 | D16: =D15+C16 -> 93.45
A17: 20 | B17: =A17/2.237 -> 8.9405454 | C17: 14.98 | D17: =D16+C17 -> 108.43
A18: 15 | B18: =A18/2.237 -> 6.705409 | C18: 16.59 | D18: =D17+C18 -> 125.02
A19: 10 | B19: =A19/2.237 -> 4.4702727 | C19: 17.26 | D19: =D18+C19 -> 142.28
A20: 5 | B20: =A20/2.237 -> 2.2351363 | C20: 21.34 | D20: =D19+C20 -> 163.62
A21: 0 | B21: =A21/2.237 -> 0 | C21: 25.08 | D21: =D20+C21 -> 188.7

Sheet WLTP Cycle Calculations
B2: Vehicle Data | K2: Constants
B3: Test Mass | C3: Frontal Surface Area | D3: Rolling Resistance Coefficient | E3: Aerodynamic Drag Coefficient | K3: Gravity | L3: Density of Air
B4: kg | C4: m2 | D4: Unitless | E4: Unitless | K4: m/s² | L4: kg/m3
B5: 2389 | C5: 2.92 | D5: 0.011987768 | E5: 0.56674307 | K5: 9.81 | L5: 1.29
B7: WLTP Cycle | K7: Forces | O7: Power Required | Q7: Cumulative Energy
B8: Phase | C8: Total elapsed time | D8: Phase elapsed time | E8: WLTC class 3, version 5, vehicle speed | F8: WLTC class 3, version 5, vehicle speed | G8: WLTC class 3, version 5, acceleration | H8: WLTC class 3, version 5, acceleration | I8: Aeras Energy Could be Recovered | K8: Acceleration | L8: Rolling Resistance | M8: Aerodynamic Drag | N8: Total Force | O8: Power | P8: Power | Q8: Tractive Energy | R8: Braking Energy | S8: Energy Recovered | T8: Largest Possible KERS Power Input
B9: Phase | C9: s | D9: s | E9: km/h | F9: m/s | G9: m/s² | H9: km/h/s | I9: m/s² | K9: N | L9: N | M9: N | N9: N | O9: W | P9: kW | Q9: kJ | R9: kJ | S9: kJ | T9: kJ
B10: Low | C10: 0 | D10: 0 | E10: 0 | F10: =E10/3.6 -> 0 | G10: =($E11-0)/2/3.6 -> 0 | H10: =($E11-0)/2 -> 0 | I10: =IF(G10<0,(G10-'Coast Down Run'!H5)*-1,) -> 0 | K10: =$B$5*G10 -> 0 | L10: =$B$5*$K$5*$D$5 -> 280.9464 | M10: =($C$5*$E$5*$L$5*(F10^2))/2 -> 0 | N10: =SUM(K10:M10) -> 280.9464 | O10: =N10*F10 -> 0 | P10: =O10/1000 -> 0 | Q10: 0 | R10: 0 | S10: 0 | T10: =IF(S10>0,T9+((S10+S11)/2*(C11-C10)),0) -> 0
B11: Low | C11: 1 | D11: 1 | E11: 0 | F11: =E11/3.6 -> 0 | G11: =($E12-$E10)/2/3.6 -> 0 | H11: =($E12-$E10)/2 -> 0 | I11: =IF(G11<0,(G11-'Coast Down Run'!H6)*-1,) -> 0 | K11: =$B$5*G11 -> 0 | L11: =$B$5*$K$5*$D$5 -> 280.9464 | M11: =($C$5*$E$5*$L$5*(F11^2))/2 -> 0 | N11: =SUM(K11:M11) -> 280.9464 | O11: =N11*F11 -> 0 | P11: =O11/1000 -> 0 | Q11: =IF(P11>0,Q10+P11,Q10) -> 0 | R11: =IF(P11<0,R10+P11,R10) -> 0 | S11: =IF(P11<0,P11*-1,) -> 0 | T11: =IF(S11>0,T10+((S11+S12)/2*(C12-C11)),0) -> 0
B12: Low | C12: 2 | D12: 2 | E12: 0 | F12: =E12/3.6 -> 0 | G12: =($E13-$E11)/2/3.6 -> 0 | H12: =($E13-$E11)/2 -> 0 | I12: =IF(G12<0,(G12-'Coast Down Run'!H7)*-1,) -> 0 | K12: =$B$5*G12 -> 0 | L12: =$B$5*$K$5*$D$5 -> 280.9464 | M12: =($C$5*$E$5*$L$5*(F12^2))/2 -> 0 | N12: =SUM(K12:M12) -> 280.9464 | O12: =N12*F12 -> 0 | P12: =O12/1000 -> 0 | Q12: =IF(P12>0,Q11+P12,Q11) -> 0 | R12: =IF(P12<0,R11+P12,R11) -> 0 | S12: =IF(P12<0,P12*-1,) -> 0 | T12: =IF(S12>0,T11+((S12+S13)/2*(C13-C12)),0) -> 0
B13: Low | C13: 3 | D13: 3 | E13: 0 | F13: =E13/3.6 -> 0 | G13: =($E14-$E12)/2/3.6 -> 0 | H13: =($E14-$E12)/2 -> 0 | I13: =IF(G13<0,(G13-'Coast Down Run'!H8)*-1,) -> 0 | K13: =$B$5*G13 -> 0 | L13: =$B$5*$K$5*$D$5 -> 280.9464 | M13: =($C$5*$E$5*$L$5*(F13^2))/2 -> 0 | N13: =SUM(K13:M13) -> 280.9464 | O13: =N13*F13 -> 0 | P13: =O13/1000 -> 0 | Q13: =IF(P13>0,Q12+P13,Q12) -> 0 | R13: =IF(P13<0,R12+P13,R12) -> 0 | S13: =IF(P13<0,P13*-1,) -> 0 | T13: =IF(S13>0,T12+((S13+S14)/2*(C14-C13)),0) -> 0
B14: Low | C14: 4 | D14: 4 | E14: 0 | F14: =E14/3.6 -> 0 | G14: =($E15-$E13)/2/3.6 -> 0 | H14: =($E15-$E13)/2 -> 0 | I14: =IF(G14<0,(G14-'Coast Down Run'!H9)*-1,) -> 0 | K14: =$B$5*G14 -> 0 | L14: =$B$5*$K$5*$D$5 -> 280.9464 | M14: =($C$5*$E$5*$L$5*(F14^2))/2 -> 0 | N14: =SUM(K14:M14) -> 280.9464 | O14: =N14*F14 -> 0 | P14: =O14/1000 -> 0 | Q14: =IF(P14>0,Q13+P14,Q13) -> 0 | R14: =IF(P14<0,R13+P14,R13) -> 0 | S14: =IF(P14<0,P14*-1,) -> 0 | T14: =IF(S14>0,T13+((S14+S15)/2*(C15-C14)),0) -> 0
B15: Low | C15: 5 | D15: 5 | E15: 0 | F15: =E15/3.6 -> 0 | G15: =($E16-$E14)/2/3.6 -> 0 | H15: =($E16-$E14)/2 -> 0 | I15: =IF(G15<0,(G15-'Coast Down Run'!H10)*-1,) -> 0 | K15: =$B$5*G15 -> 0 | L15: =$B$5*$K$5*$D$5 -> 280.9464 | M15: =($C$5*$E$5*$L$5*(F15^2))/2 -> 0 | N15: =SUM(K15:M15) -> 280.9464 | O15: =N15*F15 -> 0 | P15: =O15/1000 -> 0 | Q15: =IF(P15>0,Q14+P15,Q14) -> 0 | R15: =IF(P15<0,R14+P15,R14) -> 0 | S15: =IF(P15<0,P15*-1,) -> 0 | T15: =IF(S15>0,T14+((S15+S16)/2*(C16-C15)),0) -> 0
B16: Low | C16: 6 | D16: 6 | E16: 0 | F16: =E16/3.6 -> 0 | G16: =($E17-$E15)/2/3.6 -> 0 | H16: =($E17-$E15)/2 -> 0 | I16: =IF(G16<0,(G16-'Coast Down Run'!H11)*-1,) -> 0 | K16: =$B$5*G16 -> 0 | L16: =$B$5*$K$5*$D$5 -> 280.9464 | M16: =($C$5*$E$5*$L$5*(F16^2))/2 -> 0 | N16: =SUM(K16:M16) -> 280.9464 | O16: =N16*F16 -> 0 | P16: =O16/1000 -> 0 | Q16: =IF(P16>0,Q15+P16,Q15) -> 0 | R16: =IF(P16<0,R15+P16,R15) -> 0 | S16: =IF(P16<0,P16*-1,) -> 0 | T16: =IF(S16>0,T15+((S16+S17)/2*(C17-C16)),0) -> 0
B17: Low | C17: 7 | D17: 7 | E17: 0 | F17: =E17/3.6 -> 0 | G17: =($E18-$E16)/2/3.6 -> 0 | H17: =($E18-$E16)/2 -> 0 | I17: =IF(G17<0,(G17-'Coast Down Run'!H12)*-1,) -> 0 | K17: =$B$5*G17 -> 0 | L17: =$B$5*$K$5*$D$5 -> 280.9464 | M17: =($C$5*$E$5*$L$5*(F17^2))/2 -> 0 | N17: =SUM(K17:M17) -> 280.9464 | O17: =N17*F17 -> 0 | P17: =O17/1000 -> 0 | Q17: =IF(P17>0,Q16+P17,Q16) -> 0 | R17: =IF(P17<0,R16+P17,R16) -> 0 | S17: =IF(P17<0,P17*-1,) -> 0 | T17: =IF(S17>0,T16+((S17+S18)/2*(C18-C17)),0) -> 0
B18: Low | C18: 8 | D18: 8 | E18: 0 | F18: =E18/3.6 -> 0 | G18: =($E19-$E17)/2/3.6 -> 0 | H18: =($E19-$E17)/2 -> 0 | I18: =IF(G18<0,(G18-'Coast Down Run'!H13)*-1,) -> 0 | K18: =$B$5*G18 -> 0 | L18: =$B$5*$K$5*$D$5 -> 280.9464 | M18: =($C$5*$E$5*$L$5*(F18^2))/2 -> 0 | N18: =SUM(K18:M18) -> 280.9464 | O18: =N18*F18 -> 0 | P18: =O18/1000 -> 0 | Q18: =IF(P18>0,Q17+P18,Q17) -> 0 | R18: =IF(P18<0,R17+P18,R17) -> 0 | S18: =IF(P18<0,P18*-1,) -> 0 | T18: =IF(S18>0,T17+((S18+S19)/2*(C19-C18)),0) -> 0
B19: Low | C19: 9 | D19: 9 | E19: 0 | F19: =E19/3.6 -> 0 | G19: =($E20-$E18)/2/3.6 -> 0 | H19: =($E20-$E18)/2 -> 0 | I19: =IF(G19<0,(G19-'Coast Down Run'!H14)*-1,) -> 0 | K19: =$B$5*G19 -> 0 | L19: =$B$5*$K$5*$D$5 -> 280.9464 | M19: =($C$5*$E$5*$L$5*(F19^2))/2 -> 0 | N19: =SUM(K19:M19) -> 280.9464 | O19: =N19*F19 -> 0 | P19: =O19/1000 -> 0 | Q19: =IF(P19>0,Q18+P19,Q18) -> 0 | R19: =IF(P19<0,R18+P19,R18) -> 0 | S19: =IF(P19<0,P19*-1,) -> 0 | T19: =IF(S19>0,T18+((S19+S20)/2*(C20-C19)),0) -> 0
B20: Low | C20: 10 | D20: 10 | E20: 0 | F20: =E20/3.6 -> 0 | G20: =($E21-$E19)/2/3.6 -> 0 | H20: =($E21-$E19)/2 -> 0 | I20: =IF(G20<0,(G20-'Coast Down Run'!H15)*-1,) -> 0 | K20: =$B$5*G20 -> 0 | L20: =$B$5*$K$5*$D$5 -> 280.9464 | M20: =($C$5*$E$5*$L$5*(F20^2))/2 -> 0 | N20: =SUM(K20:M20) -> 280.9464 | O20: =N20*F20 -> 0 | P20: =O20/1000 -> 0 | Q20: =IF(P20>0,Q19+P20,Q19) -> 0 | R20: =IF(P20<0,R19+P20,R19) -> 0 | S20: =IF(P20<0,P20*-1,) -> 0 | T20: =IF(S20>0,T19+((S20+S21)/2*(C21-C20)),0) -> 0
B21: Low | C21: 11 | D21: 11 | E21: 0 | F21: =E21/3.6 -> 0 | G21: =($E22-$E20)/2/3.6 -> 0.027777778 | H21: =($E22-$E20)/2 -> 0.1 | I21: =IF(G21<0,(G21-'Coast Down Run'!H16)*-1,) -> 0 | K21: =$B$5*G21 -> 66.361111 | L21: =$B$5*$K$5*$D$5 -> 280.9464 | M21: =($C$5*$E$5*$L$5*(F21^2))/2 -> 0 | N21: =SUM(K21:M21) -> 347.30751 | O21: =N21*F21 -> 0 | P21: =O21/1000 -> 0 | Q21: =IF(P21>0,Q20+P21,Q20) -> 0 | R21: =IF(P21<0,R20+P21,R20) -> 0 | S21: =IF(P21<0,P21*-1,) -> 0 | T21: =IF(S21>0,T20+((S21+S22)/2*(C22-C21)),0) -> 0
B22: Low | C22: 12 | D22: 12 | E22: 0.2 | F22: =E22/3.6 -> 0.055555556 | G22: =($E23-$E21)/2/3.6 -> 0.23611111 | H22: =($E23-$E21)/2 -> 0.85 | I22: =IF(G22<0,(G22-'Coast Down Run'!H17)*-1,) -> 0 | K22: =$B$5*G22 -> 564.06944 | L22: =$B$5*$K$5*$D$5 -> 280.9464 | M22: =($C$5*$E$5*$L$5*(F22^2))/2 -> 0.0032944565 | N22: =SUM(K22:M22) -> 845.01914 | O22: =N22*F22 -> 46.945508 | P22: =O22/1000 -> 0.046945508 | Q22: =IF(P22>0,Q21+P22,Q21) -> 0.046945508 | R22: =IF(P22<0,R21+P22,R21) -> 0 | S22: =IF(P22<0,P22*-1,) -> 0 | T22: =IF(S22>0,T21+((S22+S23)/2*(C23-C22)),0) -> 0
... B44: Low | C44: 34 | D44: 34 | E44: 44.4 | F44: =E44/3.6 -> 12.333333 | G44: =($E45-$E43)/2/3.6 -> 0.083333333 | H44: =($E45-$E43)/2 -> 0.3 | I44: =IF(G44<0,(G44-'Coast Down Run'!H39)*-1,) -> 0 | K44: =$B$5*G44 -> 199.08333 | L44: =$B$5*$K$5*$D$5 -> 280.9464 | M44: =($C$5*$E$5*$L$5*(F44^2))/2 -> 162.36399 | N44: =SUM(K44:M44) -> 642.39373 | O44: =N44*F44 -> 7922.8559 | P44: =O44/1000 -> 7.9228559 | Q44: =IF(P44>0,Q43+P44,Q43) -> 248.25688 | R44: =IF(P44<0,R43+P44,R43) -> 0 | S44: =IF(P44<0,P44*-1,) -> 0 | T44: =IF(S44>0,T43+((S44+S45)/2*(C45-C44)),0) -> 0
B45: Low | C45: 35 | D45: 35 | E45: 44.5 | F45: =E45/3.6 -> 12.361111 | G45: =($E46-$E44)/2/3.6 -> -0.027777778 | H45: =($E46-$E44)/2 -> -0.1 | I45: =IF(G45<0,(G45-'Coast Down Run'!H40)*-1,) -> 0.027777778 | K45: =$B$5*G45 -> -66.361111 | L45: =$B$5*$K$5*$D$5 -> 280.9464 | M45: =($C$5*$E$5*$L$5*(F45^2))/2 -> 163.09618 | N45: =SUM(K45:M45) -> 377.68147 | O45: =N45*F45 -> 4668.5627 | P45: =O45/1000 -> 4.6685627 | Q45: =IF(P45>0,Q44+P45,Q44) -> 252.92544 | R45: =IF(P45<0,R44+P45,R44) -> 0 | S45: =IF(P45<0,P45*-1,) -> 0 | T45: {=IF(S45>0,T44+(T44(S45+S46)/2*(C46-C45)),0)} -> 0
B46: Low | C46: 36 | D46: 36 | E46: 44.2 | F46: =E46/3.6 -> 12.277778 | G46: =($E47-$E45)/2/3.6 -> -0.25 | H46: =($E47-$E45)/2 -> -0.9 | I46: =IF(G46<0,(G46-'Coast Down Run'!H41)*-1,) -> 0.25 | K46: =$B$5*G46 -> -597.25 | L46: =$B$5*$K$5*$D$5 -> 280.9464 | M46: =($C$5*$E$5*$L$5*(F46^2))/2 -> 160.90455 | N46: =SUM(K46:M46) -> -155.39905 | O46: =N46*F46 -> -1907.955 | P46: =O46/1000 -> -1.907955 | Q46: =IF(P46>0,Q45+P46,Q45) -> 252.92544 | R46: =IF(P46<0,R45+P46,R45) -> -1.907955 | S46: =IF(P46<0,P46*-1,) -> 1.907955 | T46: =IF(S46>0,T45+((S46+S47)/2*(C47-C46)),0) -> 6.8587277
B47: Low | C47: 37 | D47: 37 | E47: 42.7 | F47: =E47/3.6 -> 11.861111 | G47: =($E48-$E46)/2/3.6 -> -0.59722222 | H47: =($E48-$E46)/2 -> -2.15 | I47: =IF(G47<0,(G47-'Coast Down Run'!H42)*-1,) -> 0.59722222 | K47: =$B$5*G47 -> -1426.7639 | L47: =$B$5*$K$5*$D$5 -> 280.9464 | M47: =($C$5*$E$5*$L$5*(F47^2))/2 -> 150.16874 | N47: =SUM(K47:M47) -> -995.64875 | O47: =N47*F47 -> -11809.5 | P47: =O47/1000 -> -11.8095 | Q47: =IF(P47>0,Q46+P47,Q46) -> 252.92544 | R47: =IF(P47<0,R46+P47,R46) -> -13.717455 | S47: =IF(P47<0,P47*-1,) -> 11.8095 | T47: =IF(S47>0,T46+((S47+S48)/2*(C48-C47)),0) -> 20.96085
B48: Low | C48: 38 | D48: 38 | E48: 39.9 | F48: =E48/3.6 -> 11.083333 | G48: =($E49-$E47)/2/3.6 -> -0.79166667 | H48: =($E49-$E47)/2 -> -2.85 | I48: =IF(G48<0,(G48-'Coast Down Run'!H43)*-1,) -> 0.79166667 | K48: =$B$5*G48 -> -1891.2917 | L48: =$B$5*$K$5*$D$5 -> 280.9464 | M48: =($C$5*$E$5*$L$5*(F48^2))/2 -> 131.12019 | N48: =SUM(K48:M48) -> -1479.2251 | O48: =N48*F48 -> -16394.745 | P48: =O48/1000 -> -16.394745 | Q48: =IF(P48>0,Q47+P48,Q47) -> 252.92544 | R48: =IF(P48<0,R47+P48,R47) -> -30.1122 | S48: =IF(P48<0,P48*-1,) -> 16.394745 | T48: =IF(S48>0,T47+((S48+S49)/2*(C49-C48)),0) -> 36.172139
B49: Low | C49: 39 | D49: 39 | E49: 37 | F49: =E49/3.6 -> 10.277778 | G49: =($E50-$E48)/2/3.6 -> -0.73611111 | H49: =($E50-$E48)/2 -> -2.65 | I49: =IF(G49<0,(G49-'Coast Down Run'!H44)*-1,) -> 0.73611111 | K49: =$B$5*G49 -> -1758.5694 | L49: =$B$5*$K$5*$D$5 -> 280.9464 | M49: =($C$5*$E$5*$L$5*(F49^2))/2 -> 112.75277 | N49: =SUM(K49:M49) -> -1364.8703 | O49: =N49*F49 -> -14027.833 | P49: =O49/1000 -> -14.027833 | Q49: =IF(P49>0,Q48+P49,Q48) -> 252.92544 | R49: =IF(P49<0,R48+P49,R48) -> -44.140033 | S49: =IF(P49<0,P49*-1,) -> 14.027833 | T49: =IF(S49>0,T48+((S49+S50)/2*(C50-C49)),0) -> 48.856323
B50: Low | C50: 40 | D50: 40 | E50: 34.6 | F50: =E50/3.6 -> 9.6111111 | G50: =($E51-$E49)/2/3.6 -> -0.65277778 | H50: =($E51-$E49)/2 -> -2.35 | I50: =IF(G50<0,(G50-'Coast Down Run'!H45)*-1,) -> 0.65277778 | K50: =$B$5*G50 -> -1559.4861 | L50: =$B$5*$K$5*$D$5 -> 280.9464 | M50: =($C$5*$E$5*$L$5*(F50^2))/2 -> 98.599787 | N50: =SUM(K50:M50) -> -1179.9399 | O50: =N50*F50 -> -11340.534 | P50: =O50/1000 -> -11.340534 | Q50: =IF(P50>0,Q49+P50,Q49) -> 252.92544 | R50: =IF(P50<0,R49+P50,R49) -> -55.480567 | S50: =IF(P50<0,P50*-1,) -> 11.340534 | T50: =IF(S50>0,T49+((S50+S51)/2*(C51-C50)),0) -> 61.216448
B51: Low | C51: 41 | D51: 41 | E51: 32.3 | F51: =E51/3.6 -> 8.9722222 | G51: =($E52-$E50)/2/3.6 -> -0.77777778 | H51: =($E52-$E50)/2 -> -2.8 | I51: =IF(G51<0,(G51-'Coast Down Run'!H46)*-1,) -> 0.77777778 | K51: =$B$5*G51 -> -1858.1111 | L51: =$B$5*$K$5*$D$5 -> 280.9464 | M51: =($C$5*$E$5*$L$5*(F51^2))/2 -> 85.926837 | N51: =SUM(K51:M51) -> -1491.2379 | O51: =N51*F51 -> -13379.718 | P51: =O51/1000 -> -13.379718 | Q51: =IF(P51>0,Q50+P51,Q50) -> 252.92544 | R51: =IF(P51<0,R50+P51,R50) -> -68.860285 | S51: =IF(P51<0,P51*-1,) -> 13.379718 | T51: =IF(S51>0,T50+((S51+S52)/2*(C52-C51)),0) -> 76.118091
B52: Low | C52: 42 | D52: 42 | E52: 29 | F52: =E52/3.6 -> 8.0555556 | G52: =($E53-$E51)/2/3.6 -> -1 | H52: =($E53-$E51)/2 -> -3.6 | I52: =IF(G52<0,(G52-'Coast Down Run'!H47)*-1,) -> 1 | K52: =$B$5*G52 -> -2389 | L52: =$B$5*$K$5*$D$5 -> 280.9464 | M52: =($C$5*$E$5*$L$5*(F52^2))/2 -> 69.265947 | N52: =SUM(K52:M52) -> -2038.7877 | O52: =N52*F52 -> -16423.567 | P52: =O52/1000 -> -16.423567 | Q52: =IF(P52>0,Q51+P52,Q51) -> 252.92544 | R52: =IF(P52<0,R51+P52,R51) -> -85.283852 | S52: =IF(P52<0,P52*-1,) -> 16.423567 | T52: =IF(S52>0,T51+((S52+S53)/2*(C53-C52)),0) -> 91.03521
B53: Low | C53: 43 | D53: 43 | E53: 25.1 | F53: =E53/3.6 -> 6.9722222 | G53: =($E54-$E52)/2/3.6 -> -0.94444444 | H53: =($E54-$E52)/2 -> -3.4 | I53: =IF(G53<0,(G53-'Coast Down Run'!H48)*-1,) -> 0.94444444 | K53: =$B$5*G53 -> -2256.2778 | L53: =$B$5*$K$5*$D$5 -> 280.9464 | M53: =($C$5*$E$5*$L$5*(F53^2))/2 -> 51.888513 | N53: =SUM(K53:M53) -> -1923.4429 | O53: =N53*F53 -> -13410.671 | P53: =O53/1000 -> -13.410671 | Q53: =IF(P53>0,Q52+P53,Q52) -> 252.92544 | R53: =IF(P53<0,R52+P53,R52) -> -98.694523 | S53: =IF(P53<0,P53*-1,) -> 13.410671 | T53: =IF(S53>0,T52+((S53+S54)/2*(C54-C53)),0) -> 101.04602
B54: Low | C54: 44 | D54: 44 | E54: 22.2 | F54: =E54/3.6 -> 6.1666667 | G54: =($E55-$E53)/2/3.6 -> -0.58333333 | H54: =($E55-$E53)/2 -> -2.1 | I54: =IF(G54<0,(G54-'Coast Down Run'!H49)*-1,) -> 0.58333333 | K54: =$B$5*G54 -> -1393.5833 | L54: =$B$5*$K$5*$D$5 -> 280.9464 | M54: =($C$5*$E$5*$L$5*(F54^2))/2 -> 40.590998 | N54: =SUM(K54:M54) -> -1072.0459 | O54: =N54*F54 -> -6610.9499 | P54: =O54/1000 -> -6.6109499 | Q54: =IF(P54>0,Q53+P54,Q53) -> 252.92544 | R54: =IF(P54<0,R53+P54,R53) -> -105.30547 | S54: =IF(P54<0,P54*-1,) -> 6.6109499 | T54: =IF(S54>0,T53+((S54+S55)/2*(C55-C54)),0) -> 105.16522
B55: Low | C55: 45 | D55: 45 | E55: 20.9 | F55: =E55/3.6 -> 5.8055556 | G55: =($E56-$E54)/2/3.6 -> -0.25 | H55: =($E56-$E54)/2 -> -0.9 | I55: =IF(G55<0,(G55-'Coast Down Run'!H50)*-1,) -> 0.25 | K55: =$B$5*G55 -> -597.25 | L55: =$B$5*$K$5*$D$5 -> 280.9464 | M55: =($C$5*$E$5*$L$5*(F55^2))/2 -> 35.976288 | N55: =SUM(K55:M55) -> -280.32731 | O55: =N55*F55 -> -1627.4558 | P55: =O55/1000 -> -1.6274558 | Q55: =IF(P55>0,Q54+P55,Q54) -> 252.92544 | R55: =IF(P55<0,R54+P55,R54) -> -106.93293 | S55: =IF(P55<0,P55*-1,) -> 1.6274558 | T55: =IF(S55>0,T54+((S55+S56)/2*(C56-C55)),0) -> 106.40198
B56: Low | C56: 46 | D56: 46 | E56: 20.4 | F56: =E56/3.6 -> 5.6666667 | G56: =($E57-$E55)/2/3.6 -> -0.19444444 | H56: =($E57-$E55)/2 -> -0.7 | I56: =IF(G56<0,(G56-'Coast Down Run'!H51)*-1,) -> 0.19444444 | K56: =$B$5*G56 -> -464.52778 | L56: =$B$5*$K$5*$D$5 -> 280.9464 | M56: =($C$5*$E$5*$L$5*(F56^2))/2 -> 34.275525 | N56: =SUM(K56:M56) -> -149.30585 | O56: =N56*F56 -> -846.0665 | P56: =O56/1000 -> -0.8460665 | Q56: =IF(P56>0,Q55+P56,Q55) -> 252.92544 | R56: =IF(P56<0,R55+P56,R55) -> -107.779 | S56: =IF(P56<0,P56*-1,) -> 0.8460665 | T56: =IF(S56>0,T55+((S56+S57)/2*(C57-C56)),0) -> 107.77658
B57: Low | C57: 47 | D57: 47 | E57: 19.5 | F57: =E57/3.6 -> 5.4166667 | G57: =($E58-$E56)/2/3.6 -> -0.27777778 | H57: =($E58-$E56)/2 -> -1 | I57: =IF(G57<0,(G57-'Coast Down Run'!H52)*-1,) -> 0.27777778 | K57: =$B$5*G57 -> -663.61111 | L57: =$B$5*$K$5*$D$5 -> 280.9464 | M57: =($C$5*$E$5*$L$5*(F57^2))/2 -> 31.317927 | N57: =SUM(K57:M57) -> -351.34678 | O57: =N57*F57 -> -1903.1284 | P57: =O57/1000 -> -1.9031284 | Q57: =IF(P57>0,Q56+P57,Q56) -> 252.92544 | R57: =IF(P57<0,R56+P57,R56) -> -109.68212 | S57: =IF(P57<0,P57*-1,) -> 1.9031284 | T57: =IF(S57>0,T56+((S57+S58)/2*(C58-C57)),0) -> 109.38042
... B1810: Extra-high | C1810: 1800 | D1810: 323 | E1810: 0 | F1810: =E1810/3.6 -> 0 | G1810: =($E1811-$E1809)/2/3.6 -> 0 | H1810: =($E1811-$E1809)/2 -> 0 | I1810: =IF(G1810<0,(G1810-'Coast Down Run'!H1805)*-1,) -> 0 | K1810: =$B$5*G1810 -> 0 | L1810: =$B$5*$K$5*$D$5 -> 280.9464 | M1810: =($C$5*$E$5*$L$5*(F1810^2))/2 -> 0 | N1810: =SUM(K1810:M1810) -> 280.9464 | O1810: =N1810*F1810 -> 0 | P1810: =O1810/1000 -> 0 | Q1810: =IF(P1810>0,Q1809+P1810,Q1809) -> 23469.374 | R1810: =IF(P1810<0,R1809+P1810,R1809) -> -4202.5831 | S1810: =IF(P1810<0,P1810*-1,) -> 0 | T1810: =IF(S1810>0,T1809+((S1810+S1811)/2*(C1811-C1810)),0) -> 0

Sheet WLTP Cycle Graphs

Sheet Energy Graphs
