Workbook
Name ____INF1: #REF!
Name ____INF1: #REF!
Name ____INF1: #REF!
Name ____INF2: #REF!
Name ____INF2: #REF!
Name ____INF2: #REF!
Name ___INF1: #REF!
Name ___INF1: #REF!
Name ___INF1: #REF!
Name ___INF2: #REF!
Name ___INF2: #REF!
Name ___INF2: #REF!
Name __INF1: #REF!
Name __INF1: #REF!
Name __INF1: #REF!
Name __INF2: #REF!
Name __INF2: #REF!
Name __INF2: #REF!
Name _bar1: #REF!
Name _bar1: #REF!
Name _bar1: #REF!
Name _boh1: #REF!
Name _boh1: #REF!
Name _boh1: #REF!
Name _foh1: #REF!
Name _foh1: #REF!
Name _foh1: #REF!
Name _INF1: #REF!
Name _INF1: #REF!
Name _INF1: #REF!
Name _INF2: #REF!
Name _INF2: #REF!
Name _INF2: #REF!
Name Accept: [0]!Accept
Name Access: '[1]KING INPUT SHEET'!$D$28
Name ADDRESS1: #REF!
Name ADDRESS1: #REF!
Name ADDRESS1: #REF!
Name ADDRESS2: #REF!
Name ADDRESS2: #REF!
Name ADDRESS2: #REF!
Name admin1: #REF!
Name admin1: #REF!
Name admin1: #REF!
Name Area: [2]Indices!$D$2:$F$81
Name BASE_DATE: '[3]Master Data Sheet'!$D$41
Name BASE_DATE: '[3]Master Data Sheet'!$D$41
Name Base_Date: '[4]PROJECT INPUTS'!$E$9
Name bathrooms1: #REF!
Name bathrooms1: #REF!
Name bathrooms1: #REF!
Name BCIS_Location: [5]Library!$H$15:$I$94
Name BCIS_TPI: [5]Library!$K$15:$L$44
Name bedroomcorridors1: #REF!
Name bedroomcorridors1: #REF!
Name bedroomcorridors1: #REF!
Name bedrooms1: #REF!
Name bedrooms1: #REF!
Name bedrooms1: #REF!
Name Beds: [6]DATA!$F$13

Sheet Cover
A19: Elemental Cost Plan No. 1
A20: Y Fforwm Building
A25: New Rules of Measurement 1
A26: Based on Level 2 Codes
A30: By Jack Arthurs
A31: Dated: April 2022

Sheet Information Used
B1: Information Used & Assumptions
B3: 1 | C3: Information Used
C4: nrm-1-order-of-cost-estimating-and-cost-planning-2nd-edition-rics
C5: Spon_s Civil 2020 (1)
C7: Design Drawings;
C8: Fforwm A1toA3 scaled (1)
C9: UWTSD Library FIRST
C10: UWTSD Library GROUND
C11: UWTSD Library SECOND
C12: UWTSD_STL_04_00_DR_A_ZZZZ_11D01_C119_Ground Floor Plan
C13: UWTSD_STL_04_01_DR_A_ZZZZ_11D02_C119_First Floor Plan
C14: UWTSD_STL_04_02_DR_A_ZZZZ_11D03_C119_Second Floor Plan
C15: UWTSD_STL_04_ZZ_DR_A_ZZZZ_21D01_C119_Technical Elevations Sheet 1
C16: UWTSD_STL_04_ZZ_DR_A_ZZZZ_21D02_C119_Technical Elevations Sheet 2
... C21: UWTSD_STL_04_ZZ_SH_A_ZZZZ_71D01_C119_Library Door Schedule
B23: 2 | C23: General assumptions, Notes, Exclusions;
C24: All assumptions, notes and exclusions if not included below, as per Notes / Assumptions column in Cost Plan.
C25: Facilitating works excluded as no requirements in contract documents.
C26: Fittings, furnishigns and equipment excluded as no requirements in contract documents.
C27: Services excluded as no requirements in contract documents.
C28: Prefabricated buildings and building units excluded as no requirements in contract documents.
C29: Work to existing buildings excluded as no requirements in contract documents.
C30: External works excluded as no requirements in contract documents.
C31: Costs are based upon the information as provided.
C32: Costs are based upon what is referenced in the Rate/Cost Reference column.
C33: We have assumed a project bank account will not be required for this scheme.
C34: We have assumed that the area of works will be decanted for the project. No allowance is made for throughways or dealing with building occupants.
C35: The exact nature of specification for numerous items, as noted in the cost plan, is as assumed.
... C53: All measures are as per documents attached.

Sheet Summary of Cost Plan
E2: Summary Of
E3: Cost Plan
E6: =Cover!A30 -> By Jack Arthurs
E7: =Cover!A31 -> Dated: April 2022
A10: Cost Centre | B10: Group Element / Element | C10: Cost/M2 of GIFA | F10: Total Cost of Element (Target Cost)
B11: FACILITATING WORKS AND BUILDING WORKS
A12: 0 | B12: Facilitating works | F12: Excluded (See Note)
A13: 1 | B13: Substructure | F13: ='NRM1 Elemental Cost Plan - JA'!I47 -> 252775.54
A14: 2 | B14: Superstructure | F14: ='NRM1 Elemental Cost Plan - JA'!I71 -> 1027570.3
A15: 3 | B15: Internal finishes | F15: ='NRM1 Elemental Cost Plan - JA'!I172 -> 273238.91
A16: 4 | B16: Fittings, furnishings and equipment | F16: Excluded (See Note)
A17: 5 | B17: Services | F17: Excluded (See Note)
A18: 6 | B18: Prefabricated buildings and building units | F18: Excluded (See Note)
A19: 7 | B19: Work to existing buildings | F19: Excluded (See Note)
A20: 8 | B20: External works | F20: Excluded (See Note)
B21: SUB-TOTAL: FACILITATING WORKS AND BUILDING WORKS (A) | F21: =SUM(F12:F20) -> 1553584.7
A22: 9 | B22: Main contractor’s preliminaries (B) | F22: ='NRM1 Elemental Cost Plan - JA'!I218 -> 155358.47
B23: SUB-TOTAL: FACILITATING WORKS AND BUILDING WORKS (including main contractor’s preliminaries) (C) [C = A + B] | F23: =F22+F21 -> 1708943.2
A24: 10 | B24: Main contractor’s overheads and profit (D) | F24: ='NRM1 Elemental Cost Plan - JA'!I222 -> 170894.32
B25: TOTAL: BUILDINGWORKS ESTIMATE (E) [E = C + D] | F25: =F23+F24 -> 1879837.5
B27: Note:
B28: Facilitating works excluded as no requirements in contract documents.
B29: Fittings, furnishigns and equipment excluded as no requirements in contract documents.
B30: Services excluded as no requirements in contract documents.
B31: Prefabricated buildings and building units excluded as no requirements in contract documents.
B32: Work to existing buildings excluded as no requirements in contract documents.
B33: External works excluded as no requirements in contract documents.

Sheet NRM1 Elemental Cost Plan -  JA
F2: =Cover!A19 -> Elemental Cost Plan No. 1
F3: =Cover!A20 -> Y Fforwm Building
F4: =Cover!A25 -> New Rules of Measurement 1
F5: =Cover!A26 -> Based on Level 2 Codes
F6: =Cover!A30 -> By Jack Arthurs
F7: =Cover!A31 -> Dated: April 2022
C9: Elements in red are NRM1 Phraseologies
A10: Cost Centre | C10: Group Element / Element | D10: Quantity / unit | G10: Rate | H10: Sub-Total | I10: Group-Total | J10: Notes / Assumptions | K10: Measure Reference | L10: Rate/Cost Reference
G11: £ | H11: £ | I11: £
A12: 0 | C12: FACILITATING WORKS | I12: =SUM(H14:H46) -> 0 | J12: As Query Sheet Reference 1
A13: 0.1 | C13: Toxic or hazardous material removal
C14: Toxic or hazardous material removal: details to be stated. | E14: 0 | F14: item | H14: =E14*G14 -> 0 | J14: Not Included
C15: Contaminated land
C16: Removal and/or treatment of contaminated ground material. | E16: 0 | F16: item | H16: =E16*G16 -> 0 | J16: =J14 -> Not Included
C17: Eradication of plant growth
C18: Eradication of Japanese knotweed, giant hogweed or other invasive plant. | E18: 0 | F18: item | H18: =E18*G18 -> 0 | J18: =J16 -> Not Included
A20: 0.2 | C20: Major demolition works
C21: Demolition of entire buildings: details to be stated. | E21: 0 | F21: item | H21: =E21*G21 -> 0 | J21: =J18 -> Not Included
C22: Soft strip works
C23: Stripping out building components, services, fittings and finishes in from a building as preparatory works to demolition or refurbishment. | E23: 0 | F23: item | H23: =E23*G23 -> 0 | J23: =J21 -> Not Included
A25: 0.3 | C25: Temporary support to adjacent structures
C26: Temporary support to adjacent structures | E26: 0 | F26: item | H26: =E26*G26 -> 0 | J26: =J23 -> Not Included
A28: 0.4 | C28: Specialist groundworks
C29: Site dewatering and pumping | E29: 0 | F29: item | H29: =E29*G29 -> 0 | J29: =J26 -> Not Included
C30: Soil stabilisation measures
C31: Soil stabilisation measures: details to be stated. | E31: 0 | F31: item | H31: =E31*G31 -> 0 | J31: =J29 -> Not Included
C32: Ground gas venting measures
C33: Ground gas venting: details to be stated. | E33: 0 | F33: item | H33: =E33*G33 -> 0 | J33: =J31 -> Not Included
A35: 0.5 | C35: Temporary diversion works
C36: Temporary diversion of existing drainage systems, existing services installations and systems, rivers, streams and the like | E36: 0 | F36: item | H36: =E36*G36 -> 0 | J36: =J33 -> Not Included
A38: 0.6 | C38: Extraordinary site investigation works
C39: Site based archaeological investigation works | E39: 0 | F39: item | H39: =E39*G39 -> 0 | J39: =J36 -> Not Included
C40: Reptile/wildlife mitigation measures
C41: Relocation of reptiles/wildlife and provision of fences/barriers to cordon off the working area. | E41: 0 | F41: item | H41: =E41*G41 -> 0 | J41: =J39 -> Not Included
C42: Other extraordinary site investigation works
C43: Physical site investigation works: details to be stated. | E43: 0 | F43: item | H43: =E43*G43 -> 0 | J43: =J41 -> Not Included
C44: Temporary screens, fences, barriers and the like: details to be stated | E44: 0 | F44: item | H44: =E44*G44 -> 0 | J44: =J43 -> Not Included
C45: Attendance | E45: 0 | F45: item | H45: =E45*G45 -> 0 | J45: =J44 -> Not Included
A47: 1 | C47: SUBSTRUCTURE | I47: =SUM(H49:H70) -> 252775.54
C48: Excavation
...

Sheet Query Sheet
A3: Student name: | C3: Jack Arthurs
A5: Return email: | C5: 1906127@student.uwtsd.ac.uk
C9: Y Fforwm Building - Cost Plan
G12: Query Sheet Nr. 1
G14: Date : | H14: 44614
A16: QUERY LIST | F16: Answer
A23: Are there particular programme or key dates to meet?
A25: Pile Length not noted. What is the proposed length?
A27: Are concrete piles are to be Bored, Cast in Place?
A28: Assumed as such until otherwise informed.
A30: Are the piles to be installed by lorry/crawler
A31: mounted rotary rig?
A32: Assumed as such until otherwise informed.
A34: No reinforcement concrete stated in pile caps.
A35: Is there any to be included?
A37: Column rates as comments on BQ. Is this suitable?
A39: No Structural screed located, is this required?
A41: No roof detail shown on documents.
... A55: Metal stud and board partitions allowed for.
