Workbook

Sheet Assignment 1
C1: Descriptions (10) | D1: User groups (15) | E1: Impact (10) | F1: UX elements (30) | G1: UX Element Interaction (10) | H1: Problem UX Elements (15) | I1: Referencing (5) | J1: Presentation (5) | K1: Total | L1: Grade | M1: LATE?
A2: Abdul Malek | B2: Sabrina | C2: 6 | D2: 3 | E2: 3 | F2: 3 | G2: 3 | H2: 5 | I2: 4 | J2: 4.5 | K2: =((C2+E2+G2)*0.1)+((D2+H2)*0.15)+(F2*0.3)+((I2+J2)*0.05) -> 3.725 | L2: =IF(K2>2,(((K2-2)*15)+40),K2*20) -> 65.875
A3: Buller | B3: Nathan | C3: 3 | D3: 2 | E3: 3 | F3: 3 | G3: 3 | H3: 2 | I3: 2 | J3: 3 | K3: =((C3+E3+G3)*0.1)+((D3+H3)*0.15)+(F3*0.3)+((I3+J3)*0.05) -> 2.65 | L3: =IF(K3>2,(((K3-2)*15)+40),K3*20) -> 49.75 | M3: Submitted 19 days late; waiting to hear about EC claim.
A4: Cobbold | B4: Henry | C4: 4.5 | D4: 6 | E4: 5 | F4: 5 | G4: 6 | H4: 5 | I4: 6 | J4: 6 | K4: =((C4+E4+G4)*0.1)+((D4+H4)*0.15)+(F4*0.3)+((I4+J4)*0.05) -> 5.3 | L4: =IF(K4>2,(((K4-2)*15)+40),K4*20) -> 89.5
A5: Cranfield | B5: Shannon | C5: 5 | D5: 2 | E5: 5 | F5: 4 | G5: 4 | H5: 3 | I5: 2 | J5: 4 | K5: =((C5+E5+G5)*0.1)+((D5+H5)*0.15)+(F5*0.3)+((I5+J5)*0.05) -> 3.65 | L5: =IF(K5>2,(((K5-2)*15)+40),K5*20) -> 64.75
A6: Davies | B6: Peter | C6: 6 | D6: 5 | E6: 5 | F6: 6 | G6: 5 | H6: 5 | I6: 4 | J6: 4 | K6: =((C6+E6+G6)*0.1)+((D6+H6)*0.15)+(F6*0.3)+((I6+J6)*0.05) -> 5.3 | L6: =IF(K6>2,(((K6-2)*15)+40),K6*20) -> 89.5
A7: Evans | B7: Thomas | C7: 4.5 | D7: 4 | E7: 4 | F7: 2 | G7: 2 | H7: 3 | I7: 2.5 | J7: 3.5 | K7: =((C7+E7+G7)*0.1)+((D7+H7)*0.15)+(F7*0.3)+((I7+J7)*0.05) -> 3 | L7: =IF(K7>2,(((K7-2)*15)+40),K7*20) -> 55
A8: Holland | B8: Jack | C8: 5 | D8: 4.5 | E8: 5 | F8: 5 | G8: 5 | H8: 5 | I8: 3 | J8: 4.5 | K8: =((C8+E8+G8)*0.1)+((D8+H8)*0.15)+(F8*0.3)+((I8+J8)*0.05) -> 4.8 | L8: =IF(K8>2,(((K8-2)*15)+40),K8*20) -> 82
A9: James | B9: Robert | C9: 6 | D9: 4.5 | E9: 5 | F9: 5 | G9: 5.5 | H9: 5 | I9: 3.5 | J9: 5 | K9: =((C9+E9+G9)*0.1)+((D9+H9)*0.15)+(F9*0.3)+((I9+J9)*0.05) -> 5 | L9: =IF(K9>2,(((K9-2)*15)+40),K9*20) -> 85
A10: Latif | B10: Muhammed Faris | C10: 5 | D10: 3 | E10: 2 | F10: 2 | G10: 2 | H10: 2 | I10: 2 | J10: 3.5 | K10: =((C10+E10+G10)*0.1)+((D10+H10)*0.15)+(F10*0.3)+((I10+J10)*0.05) -> 2.525 | L10: =IF(K10>2,(((K10-2)*15)+40),K10*20) -> 47.875
A11: Lok Kah Hor | B11: Nicholas | C11: 5.5 | D11: 4.5 | E11: 5 | F11: 5 | G11: 6 | H11: 4 | I11: 2.5 | J11: 3 | K11: =((C11+E11+G11)*0.1)+((D11+H11)*0.15)+(F11*0.3)+((I11+J11)*0.05) -> 4.7 | L11: =IF(K11>2,(((K11-2)*15)+40),K11*20) -> 80.5
A12: Novak | B12: Sophie | C12: 4.5 | D12: 3 | E12: 3.5 | F12: 3.5 | G12: 4 | H12: 2 | I12: 5 | J12: 4 | K12: =((C12+E12+G12)*0.1)+((D12+H12)*0.15)+(F12*0.3)+((I12+J12)*0.05) -> 3.45 | L12: =IF(K12>2,(((K12-2)*15)+40),K12*20) -> 61.75
K13: MEAN | L13: =AVERAGE(L2:L12) -> 70.136364
K14: SD | L14: =STDEV(L2:L12) -> 15.737739

Sheet Assignment 2
C1: Persona Definition (20%) | D1: Persona Development Process (20%) | E1: Information Architecture (20%) | F1: Create Storyboards (20%) | G1: Prototype Feedback (10%) | H1: Breadth of Research (5%) | I1: Document Presentation (5%) | J1: Total | K1: Grade
A2: Abdul Malek | B2: Sabrina | C2: 5 | D2: 2 | E2: 5 | F2: 3 | G2: 3.5 | H2: 4 | I2: 4 | J2: =((C2+D2+E2+F2)*0.2)+(G2*0.1)+((H2+I2)*0.05) -> 3.75 | K2: =IF(J2>2,(((J2-2)*15)+40),J2*20) -> 66.25
A3: Buller | B3: Nathan | J3: =((C3+D3+E3+F3)*0.2)+(G3*0.1)+((H3+I3)*0.05) -> 0 | K3: =IF(J3>2,(((J3-2)*15)+40),J3*20) -> 0 | L3: Wrong file submitted 12 days late. Awaiting EC forms.
A4: Cobbold | B4: Henry | C4: 4 | D4: 5 | E4: 5.5 | F4: 4 | G4: 6 | H4: 6 | I4: 5.5 | J4: =((C4+D4+E4+F4)*0.2)+(G4*0.1)+((H4+I4)*0.05) -> 4.875 | K4: =IF(J4>2,(((J4-2)*15)+40),J4*20) -> 83.125
A5: Cranfield | B5: Shannon | C5: 3.5 | D5: 3 | E5: 3.5 | F5: 3 | G5: 3 | H5: 5 | I5: 5 | J5: =((C5+D5+E5+F5)*0.2)+(G5*0.1)+((H5+I5)*0.05) -> 3.4 | K5: =IF(J5>2,(((J5-2)*15)+40),J5*20) -> 61
A6: Davies | B6: Peter | C6: 6 | D6: 5 | E6: 5 | F6: 5 | G6: 6 | H6: 5 | I6: 6 | J6: =((C6+D6+E6+F6)*0.2)+(G6*0.1)+((H6+I6)*0.05) -> 5.35 | K6: =IF(J6>2,(((J6-2)*15)+40),J6*20) -> 90.25
A7: Evans | B7: Thomas | C7: 2 | D7: 2 | E7: 1 | F7: 1 | G7: 2 | H7: 1 | I7: 2 | J7: =((C7+D7+E7+F7)*0.2)+(G7*0.1)+((H7+I7)*0.05) -> 1.55 | K7: =IF(J7>2,(((J7-2)*15)+40),J7*20) -> 31
A8: Holland | B8: Jack | C8: 4 | D8: 1 | E8: 3.5 | F8: 3 | G8: 2 | H8: 5 | I8: 3 | J8: =((C8+D8+E8+F8)*0.2)+(G8*0.1)+((H8+I8)*0.05) -> 2.9 | K8: =IF(J8>2,(((J8-2)*15)+40),J8*20) -> 53.5
A9: James | B9: Robert | C9: 6 | D9: 6 | E9: 5 | F9: 6 | G9: 5 | H9: 5 | I9: 6 | J9: =((C9+D9+E9+F9)*0.2)+(G9*0.1)+((H9+I9)*0.05) -> 5.65 | K9: =IF(J9>2,(((J9-2)*15)+40),J9*20) -> 94.75
A10: Latif | B10: Muhammed
A11: Lok Kah Hor | B11: Nicholas
A12: Novak | B12: Sophie | C12: 3.5 | D12: 3 | E12: 3 | F12: 2 | G12: 3.5 | H12: 6 | I12: 4 | J12: =((C12+D12+E12+F12)*0.2)+(G12*0.1)+((H12+I12)*0.05) -> 3.15 | K12: =IF(J12>2,(((J12-2)*15)+40),J12*20) -> 57.25
J13: MEAN | K13: =AVERAGE(K2:K12) -> 59.680556
J14: SD | K14: =STDEV(K2:K12) -> 29.973628

Sheet Assignment 3
C1: Updated Storyboards (20%) | D1: Discussion of Changes (10%) | E1: Feedback (20%) | F1: Data Collection (20%) | G1: UX v UI (20%) | H1: Breadth of Research (5%) | I1: Document Presentation (5%) | J1: Total | K1: Grade | P1: =Totals!I1 -> Assignment 1 | Q1: =Totals!J1 -> Assignment 2 | R1: =Totals!K1 -> TOTAL
A2: Abdul Malek | B2: Sabrina | C2: 5 | D2: 3.5 | E2: 4 | F2: 2 | G2: 3 | H2: 5 | I2: 4 | J2: =((C2+G2+E2+F2)*0.2)+(D2*0.1)+((H2+I2)*0.05) -> 3.6 | K2: =IF(J2>2,(((J2-2)*15)+40),J2*20) -> 64 | P2: =Totals!I2 -> 65.875 | Q2: =Totals!J2 -> 65.125 | R2: =Totals!K2 -> 65.35
A3: Buller | B3: Nathan | J3: =((C3+G3+E3+F3)*0.2)+(D3*0.1)+((H3+I3)*0.05) -> 0 | K3: =IF(J3>2,(((J3-2)*15)+40),J3*20) -> 0 | P3: =Totals!I3 -> 49.75 | Q3: =Totals!J3 -> 0 | R3: =Totals!K3 -> 14.925
A4: Cobbold | B4: Henry | C4: 5 | D4: 4.5 | E4: 6 | F4: 5 | G4: 4.5 | H4: 6 | I4: 6 | J4: =((C4+G4+E4+F4)*0.2)+(D4*0.1)+((H4+I4)*0.05) -> 5.15 | K4: =IF(J4>2,(((J4-2)*15)+40),J4*20) -> 87.25 | P4: =Totals!I4 -> 89.5 | Q4: =Totals!J4 -> 85.1875 | R4: =Totals!K4 -> 86.48125
A5: Cranfield | B5: Shannon | C5: 5 | D5: 5 | E5: 6 | F5: 4.5 | G5: 4 | H5: 5 | I5: 4 | J5: =((C5+G5+E5+F5)*0.2)+(D5*0.1)+((H5+I5)*0.05) -> 4.85 | K5: =IF(J5>2,(((J5-2)*15)+40),J5*20) -> 82.75 | P5: =Totals!I5 -> 64.75 | Q5: =Totals!J5 -> 71.875 | R5: =Totals!K5 -> 69.7375
A6: Davies | B6: Peter | C6: 6 | D6: 6 | E6: 6 | F6: 5 | G6: 5 | H6: 6 | I6: 6 | J6: =((C6+G6+E6+F6)*0.2)+(D6*0.1)+((H6+I6)*0.05) -> 5.6 | K6: =IF(J6>2,(((J6-2)*15)+40),J6*20) -> 94 | P6: =Totals!I6 -> 89.5 | Q6: =Totals!J6 -> 92.125 | R6: =Totals!K6 -> 91.3375
A7: Evans | B7: Thomas | C7: 3 | D7: 2 | E7: 3 | F7: 2.5 | G7: 2 | H7: 2 | I7: 4 | J7: =((C7+G7+E7+F7)*0.2)+(D7*0.1)+((H7+I7)*0.05) -> 2.6 | K7: =IF(J7>2,(((J7-2)*15)+40),J7*20) -> 49 | P7: =Totals!I7 -> 55 | Q7: =Totals!J7 -> 40 | R7: =Totals!K7 -> 44.5
A8: Holland | B8: Jack | C8: 2 | D8: 2 | E8: 1 | F8: 1 | G8: 2 | H8: 3 | I8: 3 | J8: =((C8+G8+E8+F8)*0.2)+(D8*0.1)+((H8+I8)*0.05) -> 1.7 | K8: =IF(J8>2,(((J8-2)*15)+40),J8*20) -> 34 | P8: =Totals!I8 -> 82 | Q8: =Totals!J8 -> 43.75 | R8: =Totals!K8 -> 55.225
A9: James | B9: Robert | C9: 5.5 | D9: 5 | E9: 6 | F9: 6 | G9: 5 | H9: 5 | I9: 6 | J9: =((C9+G9+E9+F9)*0.2)+(D9*0.1)+((H9+I9)*0.05) -> 5.55 | K9: =IF(J9>2,(((J9-2)*15)+40),J9*20) -> 93.25 | P9: =Totals!I9 -> 85 | Q9: =Totals!J9 -> 94 | R9: =Totals!K9 -> 91.3
A10: Latif | B10: Muhammed | J10: =((C10+G10+E10+F10)*0.2)+(D10*0.1)+((H10+I10)*0.05) -> 0 | P10: =Totals!I10 -> 47.875 | Q10: =Totals!J10 -> 0 | R10: =Totals!K10 -> 0
A11: Lok Kah Hor | B11: Nicholas | J11: =((C11+G11+E11+F11)*0.2)+(D11*0.1)+((H11+I11)*0.05) -> 0 | P11: =Totals!I11 -> 80.5 | Q11: =Totals!J11 -> 0 | R11: =Totals!K11 -> 0
A12: Novak | B12: Sophie | C12: 3 | D12: 3.5 | E12: 2 | F12: 2 | G12: 3.5 | H12: 3 | I12: 5 | J12: =((C12+G12+E12+F12)*0.2)+(D12*0.1)+((H12+I12)*0.05) -> 2.85 | K12: =IF(J12>2,(((J12-2)*15)+40),J12*20) -> 52.75 | P12: =Totals!I12 -> 61.75 | Q12: =Totals!J12 -> 55 | R12: =Totals!K12 -> 57.025
J13: MEAN | K13: =SUM(K2:K12) -> 557
J14: SD | K14: =STDEV(K2:K12) -> 31.533987

Sheet Totals
C1: Assignment 1 | D1: Assignment 2 | E1: Assignment 3 | F1: Grade | I1: Assignment 1 | J1: Assignment 2 | K1: TOTAL
A2: Abdul Malek | B2: Sabrina | C2: ='Assignment 1'!L2 -> 65.875 | D2: ='Assignment 2'!K2 -> 66.25 | E2: ='Assignment 3'!K2 -> 64 | F2: =(C2*0.3)+(D2*0.35)+(E2*0.35) -> 65.35 | I2: ='Assignment 1'!L2 -> 65.875 | J2: =(D2+E2)/2 -> 65.125 | K2: =(0.3*I2)+(0.7*J2) -> 65.35
A3: Buller | B3: Nathan | C3: ='Assignment 1'!L3 -> 49.75 | D3: ='Assignment 2'!K3 -> 0 | E3: ='Assignment 3'!K3 -> 0 | F3: =(C3*0.3)+(D3*0.35)+(E3*0.35) -> 14.925 | I3: ='Assignment 1'!L3 -> 49.75 | J3: =(D3+E3)/2 -> 0 | K3: =(0.3*I3)+(0.7*J3) -> 14.925
A4: Cobbold | B4: Henry | C4: ='Assignment 1'!L4 -> 89.5 | D4: ='Assignment 2'!K4 -> 83.125 | E4: ='Assignment 3'!K4 -> 87.25 | F4: =(C4*0.3)+(D4*0.35)+(E4*0.35) -> 86.48125 | I4: ='Assignment 1'!L4 -> 89.5 | J4: =(D4+E4)/2 -> 85.1875 | K4: =(0.3*I4)+(0.7*J4) -> 86.48125
A5: Cranfield | B5: Shannon | C5: ='Assignment 1'!L5 -> 64.75 | D5: ='Assignment 2'!K5 -> 61 | E5: ='Assignment 3'!K5 -> 82.75 | F5: =(C5*0.3)+(D5*0.35)+(E5*0.35) -> 69.7375 | I5: ='Assignment 1'!L5 -> 64.75 | J5: =(D5+E5)/2 -> 71.875 | K5: =(0.3*I5)+(0.7*J5) -> 69.7375
A6: Davies | B6: Peter | C6: ='Assignment 1'!L6 -> 89.5 | D6: ='Assignment 2'!K6 -> 90.25 | E6: ='Assignment 3'!K6 -> 94 | F6: =(C6*0.3)+(D6*0.35)+(E6*0.35) -> 91.3375 | I6: ='Assignment 1'!L6 -> 89.5 | J6: =(D6+E6)/2 -> 92.125 | K6: =(0.3*I6)+(0.7*J6) -> 91.3375
A7: Evans | B7: Thomas | C7: ='Assignment 1'!L7 -> 55 | D7: ='Assignment 2'!K7 -> 31 | E7: ='Assignment 3'!K7 -> 49 | F7: =(C7*0.3)+(D7*0.35)+(E7*0.35) -> 44.5 | I7: ='Assignment 1'!L7 -> 55 | J7: =(D7+E7)/2 -> 40 | K7: =(0.3*I7)+(0.7*J7) -> 44.5
A8: Holland | B8: Jack | C8: ='Assignment 1'!L8 -> 82 | D8: ='Assignment 2'!K8 -> 53.5 | E8: ='Assignment 3'!K8 -> 34 | F8: =(C8*0.3)+(D8*0.35)+(E8*0.35) -> 55.225 | I8: ='Assignment 1'!L8 -> 82 | J8: =(D8+E8)/2 -> 43.75 | K8: =(0.3*I8)+(0.7*J8) -> 55.225
A9: James | B9: Robert | C9: ='Assignment 1'!L9 -> 85 | D9: ='Assignment 2'!K9 -> 94.75 | E9: ='Assignment 3'!K9 -> 93.25 | F9: =(C9*0.3)+(D9*0.35)+(E9*0.35) -> 91.3 | I9: ='Assignment 1'!L9 -> 85 | J9: =(D9+E9)/2 -> 94 | K9: =(0.3*I9)+(0.7*J9) -> 91.3
A10: Latif | B10: Muhammed | C10: ='Assignment 1'!L10 -> 47.875 | I10: ='Assignment 1'!L10 -> 47.875
A11: Lok Kah Hor | B11: Nicholas | C11: ='Assignment 1'!L11 -> 80.5 | I11: ='Assignment 1'!L11 -> 80.5
A12: Novak | B12: Sophie | C12: ='Assignment 1'!L12 -> 61.75 | D12: ='Assignment 2'!K12 -> 57.25 | E12: ='Assignment 3'!K12 -> 52.75 | F12: =(C12*0.3)+(D12*0.35)+(E12*0.35) -> 57.025 | I12: ='Assignment 1'!L12 -> 61.75 | J12: =(D12+E12)/2 -> 55 | K12: =(0.3*I12)+(0.7*J12) -> 57.025
E13: MEAN | F13: =AVERAGE(F2:F12) -> 63.986806 | J13: MEAN | K13: =AVERAGE(K2:K12) -> 63.986806
E14: SD | F14: =STDEV(F2:F12) -> 24.867228 | J14: SD | K14: =STDEV(K2:K12) -> 24.867228
