Workbook
Name Scene1: #REF!
Name Scene1: 'Template Options'!$A$2

Sheet Synopsis
A1: MAJOR BEATS | B1: STORY ELEMENT | C1: DEVICE | D1: CONSCIOUS DESIRE | E1: UNCONSCIOUS (Moral World View) | F1: ACHILLES HEEL (in Direct Opposition to the Conscious Desire) | G1: MORAL IMPERATIVE (Sacred/Profane) | H1: THEME (A Moral Law of the Universe) | J1: DEVICE
A2: This first season is a … | D2: To Protect Her Family | E2: Prove She's A Better Mother .... | F2: Driven By Competition, Not Love | G2: That Which Must Be Done To Survive
A3: … about …
A4: … who wants …
A5: … needs …
A6: … sets out to …
A7: First Barrier
A8: Second Barrier
A9: Climax
A10: Resolution
A11: The Main Character had changed because …
A13: CHARACTER PROFILES | B13: NAME
A14: DESCRIPTION
A15: AMBITION
A16: INTENTION
A17: OBSTACLE
A18: Conscious Desire (WANT) - Overall Objective
A19: Unconscious Drive
A20: Achilles Heel/Core Wound (Direct Opposition to Conscious Desire)
A21: THE LIE (What we tell ourselves to sleep at night)
A22: Moral Imperative
A23: CLOCK
A24: CRUCIBLE
A25: CONTRACT
... A27: The Throughline
A28: 1
A29: 2
A30: 3
A31: 4
A32: 5
A33: 6
A34: What Has Changed? What REALLY TESTS the character?
A35: NOTES
A37: STORY WORLD | B37: Moral Grey Area | C37: Sacred | D37: Profane
A38: Politics
A39: Economic
A40: Social
A41: Technological
A42: Environmental
A43: Legal
A45: THEME | B45: Column1 | C45: Column2 | D45: Column4
A46: Internal
A47: External

Sheet Scenes
A1: ACT ONE (i) (p. 1-25) | F1: ANCILLARY
A2: PAGE | B2: SCENE | C2: INT/EXT | D2: DESCRIPTION | E2: DEVICE | F2: B STORY | G2: C STORY
E3: THE BIG PROBLEM: SHE SOLVES IT BY:
B4: 1 | C4: INT | E4: OPENING IMAGE CHARACTER FLAW VALUES
D5: INTENT:
D6: OBST:
D7: CONFLICT:
B9: 2 | C9: EXT | E9: THEME STATED: PRIMAL:
D10: I:
D11: O:
D12: C:
B14: 3 | C14: INT | E14: SET UP
D15: I:
D16: O:
D17: C:
E18: THEME
B19: 4 | C19: INT | E19: "WHO'S GOING TO SAVE ME?"
D20: I:
D21: O:
D22: C:
E23: Cliffhanger
A24: ACT ONE (ii)
A25: PAGE | B25: SCENE | D25: DESCRIPTION | E25: DEVICE
E26: THE BIG PROBLEM: SHE SOLVES IT BY:
B27: 5 | C27: EXT. | E27: VALUES
D28: POS:
D29: NEG:
D30: CONFLICT
E31: CHARACTER FLAW:
B32: 6 | C32: EXT | E32: CATALYST
D33: POS:
D34: NEG:
D35: CONFLICT
B37: 7 | C37: EXT. | E37: DEBATE
D38: POS:
D39: NEG: | E39: Cliffhanger
D40: CONFLICT
A42: ACT ONE (iii)
A43: PAGE | B43: SCENE | D43: DESCRIPTION | E43: DEVICE
B44: 8 | C44: EXT. | E44: "THE BIG PROBLEM: THEY SOLVE IT BY:" CATALYST
D45: POS:
D46: NEG:
D47: CONFLICT
B49: 9 | C49: INT | E49: DEBATE
D50: POS:
D51: NEG:
D52: CONFLICT
B54: 10 | C54: INT | E54: Biggest cliffhanger -
D55: POS: | E55: PROACTIVE HERO
D56: NEG:
D57: CONFLICT
A59: ACT TWO-A (i) (p. 25-55)
A60: PAGE | B60: SCENE | D60: DESCRIPTION | E60: DEVICE
B61: 11 | E61: THE BIG PROBLEM: SHE SOLVES IT BY: B-STORY
D62: POS:
D63: NEG:
D64: CONFLICT
B66: 12
D67: POS:
D68: NEG:
D69: CONFLICT
B71: 13 | E71: Cliffhanger
D72: POS:
D73: NEG:
D74: CONFLICT
A76: ACT TWO-A (ii) (p. 25-55)
A77: PAGE | B77: SCENE | D77: DESCRIPTION | E77: DEVICE
B78: 14 | E78: "THE BIG PROBLEM: SHE SOLVES IT BY:" FUN AND GAMES
D79: POS:
D80: NEG:
D81: CONFLICT
B83: 15 | E83: Cliffhanger
D84: POS:
D85: NEG:
D86: CONFLICT
A88: ACT TWO-A (iii) (p. 25-55)
A89: PAGE | B89: SCENE | D89: DESCRIPTION | E89: DEVICE
B90: 16 | E90: PROMISE OF THE PREMISE
D91: POS:
D92: NEG:
D93: CONFLICT
B95: 17
D96: POS:
D97: NEG:
D98: CONFLICT | E98: Crisis cliffhanger
A100: ACT TWO-A (iv) (p. 25-55) MIDPOINT
A101: PAGE | B101: SCENE | D101: DESCRIPTION | E101: DEVICE
B102: 18 | E102: FALSE VICTORY
D103: POS:
D104: NEG:
D105: CONFLICT
B107: 19 | E107: "Who's going to save me?"
D108: POS:
D109: NEG:
D110: CONFLICT
B112: 20 | E112: THE BIG PROBLEM: SHE SOLVES IT BY: IT DOESN'T WORK BECAUSE: MIDPOINT
D113: POS: | E113: She's been going about it all wrong.
D114: NEG:
D115: CONFLICT
A117: ACT TWO-B (i) (p. 55-85)
...

Sheet Outline
A1: =Scenes!A1 -> ACT ONE (i) (p. 1-25) | F1: =Scenes!F1 -> ANCILLARY
A2: =Scenes!A2 -> PAGE | B2: =Scenes!B2 -> SCENE | C2: =Scenes!C2 -> INT/EXT | D2: =Scenes!D2 -> DESCRIPTION | E2: =Scenes!E2 -> DEVICE | F2: =Scenes!F2 -> B STORY | G2: =Scenes!G2 -> C STORY
A3: =Scenes!A4 -> 0 | B3: =Scenes!B4 -> 1 | C3: =Scenes!C4 -> INT | D3: =Scenes!D4 -> 0 | E3: =Scenes!E4 -> OPENING IMAGE CHARACTER FLAW VALUES | F3: =Scenes!F4 -> 0 | G3: =Scenes!G4 -> 0
A4: =Scenes!A5 -> 0 | B4: =Scenes!B5 -> 0 | C4: =Scenes!C5 -> 0 | D4: =Scenes!D5 -> INTENT: | E4: =Scenes!E5 -> 0 | F4: =Scenes!F5 -> 0 | G4: =Scenes!G5 -> 0
A5: =Scenes!A6 -> 0 | B5: =Scenes!B6 -> 0 | C5: =Scenes!C6 -> 0 | D5: =Scenes!D6 -> OBST: | E5: =Scenes!E6 -> 0 | F5: =Scenes!F6 -> 0 | G5: =Scenes!G6 -> 0
A6: =Scenes!A7 -> 0 | B6: =Scenes!B7 -> 0 | C6: =Scenes!C7 -> 0 | D6: =Scenes!D7 -> CONFLICT: | E6: =Scenes!E7 -> 0 | F6: =Scenes!F7 -> 0 | G6: =Scenes!G7 -> 0
A7: =Scenes!A7 -> 0 | B7: =Scenes!B7 -> 0 | C7: =Scenes!C7 -> 0 | D7: =Scenes!D7 -> CONFLICT: | E7: =Scenes!E7 -> 0 | F7: =Scenes!F7 -> 0 | G7: =Scenes!G7 -> 0
E8: Beginning
E10: Conflict
E11: Resolution
A13: =Scenes!A9 -> 0 | B13: =Scenes!B9 -> 2 | C13: =Scenes!C9 -> EXT | D13: =Scenes!D9 -> 0 | E13: =Scenes!E9 -> THEME STATED: PRIMAL: | F13: =Scenes!F9 -> 0 | G13: =Scenes!G9 -> 0
A14: =Scenes!A10 -> 0 | B14: =Scenes!B10 -> 0 | C14: =Scenes!C10 -> 0 | D14: =Scenes!D10 -> I: | E14: =Scenes!E10 -> 0 | F14: =Scenes!F10 -> 0 | G14: =Scenes!G10 -> 0
A15: =Scenes!A11 -> 0 | B15: =Scenes!B11 -> 0 | C15: =Scenes!C11 -> 0 | D15: =Scenes!D11 -> O: | E15: =Scenes!E11 -> 0 | F15: =Scenes!F11 -> 0 | G15: =Scenes!G11 -> 0
A16: =Scenes!A12 -> 0 | B16: =Scenes!B12 -> 0 | C16: =Scenes!C12 -> 0 | D16: =Scenes!D12 -> C: | E16: =Scenes!E12 -> 0 | F16: =Scenes!F12 -> 0 | G16: =Scenes!G12 -> 0
E18: Beginning
E21: Conflict
E22: Resolution
A23: =Scenes!A14 -> 0 | B23: =Scenes!B14 -> 3 | C23: =Scenes!C14 -> INT | D23: =Scenes!D14 -> 0 | E23: =Scenes!E14 -> SET UP | F23: =Scenes!F14 -> 0 | G23: =Scenes!G14 -> 0
A24: =Scenes!A15 -> 0 | B24: =Scenes!B15 -> 0 | C24: =Scenes!C15 -> 0 | D24: =Scenes!D15 -> I: | E24: =Scenes!E15 -> 0 | F24: =Scenes!F15 -> 0 | G24: =Scenes!G15 -> 0
A25: =Scenes!A16 -> 0 | B25: =Scenes!B16 -> 0 | C25: =Scenes!C16 -> 0 | D25: =Scenes!D16 -> O: | E25: =Scenes!E16 -> 0 | F25: =Scenes!F16 -> 0 | G25: =Scenes!G16 -> 0
A26: =Scenes!A17 -> 0 | B26: =Scenes!B17 -> 0 | C26: =Scenes!C17 -> 0 | D26: =Scenes!D17 -> C: | E26: =Scenes!E17 -> 0 | F26: =Scenes!F17 -> 0 | G26: =Scenes!G17 -> 0
A27: =Scenes!A16 -> 0 | B27: =Scenes!B16 -> 0 | C27: =Scenes!C16 -> 0 | D27: =Scenes!D16 -> O: | E27: =Scenes!E16 -> 0 | F27: =Scenes!F16 -> 0 | G27: =Scenes!G16 -> 0
A32: =Scenes!A19 -> 0 | B32: =Scenes!B19 -> 4 | C32: =Scenes!C19 -> INT | D32: =Scenes!D19 -> 0 | E32: =Scenes!E19 -> "WHO'S GOING TO SAVE ME?" | F32: =Scenes!F19 -> 0 | G32: =Scenes!G19 -> 0
A33: =Scenes!A20 -> 0 | B33: =Scenes!B20 -> 0 | C33: =Scenes!C20 -> 0 | D33: =Scenes!D20 -> I: | E33: =Scenes!E20 -> 0 | F33: =Scenes!F20 -> 0 | G33: =Scenes!G20 -> 0
A34: =Scenes!A21 -> 0 | B34: =Scenes!B21 -> 0 | C34: =Scenes!C21 -> 0 | D34: =Scenes!D21 -> O: | E34: =Scenes!E21 -> 0 | F34: =Scenes!F21 -> 0 | G34: =Scenes!G21 -> 0
A35: =Scenes!A22 -> 0 | B35: =Scenes!B22 -> 0 | C35: =Scenes!C22 -> 0 | D35: =Scenes!D22 -> C: | E35: =Scenes!E22 -> 0 | F35: =Scenes!F22 -> 0 | G35: =Scenes!G22 -> 0
A43: =Scenes!A24 -> ACT ONE (ii) | F43: =Scenes!F24 -> 0 | G43: =Scenes!G24 -> 0
A44: =Scenes!A25 -> PAGE | B44: =Scenes!B25 -> SCENE | C44: =Scenes!C25 -> 0 | D44: =Scenes!D25 -> DESCRIPTION | E44: =Scenes!E25 -> DEVICE | F44: =Scenes!F25 -> 0 | G44: =Scenes!G25 -> 0
A45: =Scenes!A27 -> 0 | B45: =Scenes!B27 -> 5 | C45: =Scenes!C27 -> EXT. | D45: =Scenes!D27 -> 0 | E45: =Scenes!E27 -> VALUES | F45: =Scenes!F27 -> 0 | G45: =Scenes!G27 -> 0
A46: =Scenes!A28 -> 0 | B46: =Scenes!B28 -> 0 | C46: =Scenes!C28 -> 0 | D46: =Scenes!D28 -> POS: | E46: =Scenes!E28 -> 0 | F46: =Scenes!F28 -> 0 | G46: =Scenes!G28 -> 0
A47: =Scenes!A29 -> 0 | B47: =Scenes!B29 -> 0 | C47: =Scenes!C29 -> 0 | D47: =Scenes!D29 -> NEG: | E47: =Scenes!E29 -> 0 | F47: =Scenes!F29 -> 0 | G47: =Scenes!G29 -> 0
A48: =Scenes!A30 -> 0 | B48: =Scenes!B30 -> 0 | C48: =Scenes!C30 -> 0 | D48: =Scenes!D30 -> CONFLICT | E48: =Scenes!E30 -> 0 | F48: =Scenes!F30 -> 0 | G48: =Scenes!G30 -> 0
A53: =Scenes!A32 -> 0 | B53: =Scenes!B32 -> 6 | C53: =Scenes!C32 -> EXT | D53: =Scenes!D32 -> 0 | E53: =Scenes!E32 -> CATALYST | F53: =Scenes!F32 -> 0 | G53: =Scenes!G32 -> 0
A54: =Scenes!A33 -> 0 | B54: =Scenes!B33 -> 0 | C54: =Scenes!C33 -> 0 | D54: =Scenes!D33 -> POS: | E54: =Scenes!E33 -> 0 | F54: =Scenes!F33 -> 0 | G54: =Scenes!G33 -> 0
A55: =Scenes!A34 -> 0 | B55: =Scenes!B34 -> 0 | C55: =Scenes!C34 -> 0 | D55: =Scenes!D34 -> NEG: | E55: =Scenes!E34 -> 0 | F55: =Scenes!F34 -> 0 | G55: =Scenes!G34 -> 0
A56: =Scenes!A35 -> 0 | B56: =Scenes!B35 -> 0 | C56: =Scenes!C35 -> 0 | D56: =Scenes!D35 -> CONFLICT | E56: =Scenes!E35 -> 0 | F56: =Scenes!F35 -> 0 | G56: =Scenes!G35 -> 0
A61: =Scenes!A37 -> 0 | B61: =Scenes!B37 -> 7 | C61: =Scenes!C37 -> EXT. | D61: =Scenes!D37 -> 0 | E61: =Scenes!E37 -> DEBATE | F61: =Scenes!F37 -> 0 | G61: =Scenes!G37 -> 0
A62: =Scenes!A38 -> 0 | B62: =Scenes!B38 -> 0 | C62: =Scenes!C38 -> 0 | D62: =Scenes!D38 -> POS: | E62: =Scenes!E38 -> 0 | F62: =Scenes!F38 -> 0 | G62: =Scenes!G38 -> 0
A63: =Scenes!A39 -> 0 | B63: =Scenes!B39 -> 0 | C63: =Scenes!C39 -> 0 | D63: =Scenes!D39 -> NEG: | E63: =Scenes!E39 -> Cliffhanger | F63: =Scenes!F39 -> 0 | G63: =Scenes!G39 -> 0
A64: =Scenes!A40 -> 0 | B64: =Scenes!B40 -> 0 | C64: =Scenes!C40 -> 0 | D64: =Scenes!D40 -> CONFLICT | E64: =Scenes!E40 -> 0 | F64: =Scenes!F40 -> 0 | G64: =Scenes!G40 -> 0
A70: =Scenes!A42 -> ACT ONE (iii) | F70: =Scenes!F42 -> 0 | G70: =Scenes!G42 -> 0
A71: =Scenes!A43 -> PAGE | B71: =Scenes!B43 -> SCENE | C71: =Scenes!C43 -> 0 | D71: =Scenes!D43 -> DESCRIPTION | E71: =Scenes!E43 -> DEVICE | F71: =Scenes!F43 -> 0 | G71: =Scenes!G43 -> 0
A72: =Scenes!A44 -> 0 | B72: =Scenes!B44 -> 8 | C72: =Scenes!C44 -> EXT. | D72: =Scenes!D44 -> 0 | E72: =Scenes!E44 -> "THE BIG PROBLEM: THEY SOLVE IT BY:" CATALYST | F72: =Scenes!F44 -> 0 | G72: =Scenes!G44 -> 0
A73: =Scenes!A45 -> 0 | B73: =Scenes!B45 -> 0 | C73: =Scenes!C45 -> 0 | D73: =Scenes!D45 -> POS: | E73: =Scenes!E45 -> 0 | F73: =Scenes!F45 -> 0 | G73: =Scenes!G45 -> 0
A74: =Scenes!A46 -> 0 | B74: =Scenes!B46 -> 0 | C74: =Scenes!C46 -> 0 | D74: =Scenes!D46 -> NEG: | E74: =Scenes!E46 -> 0 | F74: =Scenes!F46 -> 0 | G74: =Scenes!G46 -> 0
A75: =Scenes!A47 -> 0 | B75: =Scenes!B47 -> 0 | C75: =Scenes!C47 -> 0 | D75: =Scenes!D47 -> CONFLICT | E75: =Scenes!E47 -> 0 | F75: =Scenes!F47 -> 0 | G75: =Scenes!G47 -> 0
A84: =Scenes!A49 -> 0 | B84: =Scenes!B49 -> 9 | C84: =Scenes!C49 -> INT | D84: =Scenes!D49 -> 0 | E84: =Scenes!E49 -> DEBATE | F84: =Scenes!F49 -> 0 | G84: =Scenes!G49 -> 0
A85: =Scenes!A50 -> 0 | B85: =Scenes!B50 -> 0 | C85: =Scenes!C50 -> 0 | D85: =Scenes!D50 -> POS: | E85: =Scenes!E50 -> 0 | F85: =Scenes!F50 -> 0 | G85: =Scenes!G50 -> 0
A86: =Scenes!A51 -> 0 | B86: =Scenes!B51 -> 0 | C86: =Scenes!C51 -> 0 | D86: =Scenes!D51 -> NEG: | E86: =Scenes!E51 -> 0 | F86: =Scenes!F51 -> 0 | G86: =Scenes!G51 -> 0
A87: =Scenes!A52 -> 0 | B87: =Scenes!B52 -> 0 | C87: =Scenes!C52 -> 0 | D87: =Scenes!D52 -> CONFLICT | E87: =Scenes!E52 -> 0 | F87: =Scenes!F52 -> 0 | G87: =Scenes!G52 -> 0
A93: =Scenes!A54 -> 0 | B93: =Scenes!B54 -> 10 | C93: =Scenes!C54 -> INT | D93: =Scenes!D54 -> 0 | E93: =Scenes!E54 -> Biggest cliffhanger - | F93: =Scenes!F54 -> 0 | G93: =Scenes!G54 -> 0
A94: =Scenes!A55 -> 0 | B94: =Scenes!B55 -> 0 | C94: =Scenes!C55 -> 0 | D94: =Scenes!D55 -> POS: | E94: =Scenes!E55 -> PROACTIVE HERO | F94: =Scenes!F55 -> 0 | G94: =Scenes!G55 -> 0
A95: =Scenes!A56 -> 0 | B95: =Scenes!B56 -> 0 | C95: =Scenes!C56 -> 0 | D95: =Scenes!D56 -> NEG: | E95: =Scenes!E56 -> 0 | F95: =Scenes!F56 -> 0 | G95: =Scenes!G56 -> 0
A96: =Scenes!A57 -> 0 | B96: =Scenes!B57 -> 0 | C96: =Scenes!C57 -> 0 | D96: =Scenes!D57 -> CONFLICT | E96: =Scenes!E57 -> 0 | F96: =Scenes!F57 -> 0 | G96: =Scenes!G57 -> 0
A102: =Scenes!A59 -> ACT TWO-A (i) (p. 25-55) | F102: =Scenes!F59 -> 0 | G102: =Scenes!G59 -> 0
A103: =Scenes!A60 -> PAGE | B103: =Scenes!B60 -> SCENE | C103: =Scenes!C60 -> 0 | D103: =Scenes!D60 -> DESCRIPTION | E103: =Scenes!E60 -> DEVICE | F103: =Scenes!F60 -> 0 | G103: =Scenes!G60 -> 0
A104: =Scenes!A61 -> 0 | B104: =Scenes!B61 -> 11 | C104: =Scenes!C61 -> 0 | D104: =Scenes!D61 -> 0 | E104: =Scenes!E61 -> THE BIG PROBLEM: SHE SOLVES IT BY: B-STORY | F104: =Scenes!F61 -> 0 | G104: =Scenes!G61 -> 0
A105: =Scenes!A62 -> 0 | B105: =Scenes!B62 -> 0 | C105: =Scenes!C62 -> 0 | D105: =Scenes!D62 -> POS: | E105: =Scenes!E62 -> 0 | F105: =Scenes!F62 -> 0 | G105: =Scenes!G62 -> 0
A106: =Scenes!A63 -> 0 | B106: =Scenes!B63 -> 0 | C106: =Scenes!C63 -> 0 | D106: =Scenes!D63 -> NEG: | E106: =Scenes!E63 -> 0 | F106: =Scenes!F63 -> 0 | G106: =Scenes!G63 -> 0
A107: =Scenes!A64 -> 0 | B107: =Scenes!B64 -> 0 | C107: =Scenes!C64 -> 0 | D107: =Scenes!D64 -> CONFLICT | E107: =Scenes!E64 -> 0 | F107: =Scenes!F64 -> 0 | G107: =Scenes!G64 -> 0
A108: =Scenes!A65 -> 0 | B108: =Scenes!B65 -> 0 | C108: =Scenes!C65 -> 0 | D108: =Scenes!D65 -> 0 | E108: =Scenes!E65 -> 0 | F108: =Scenes!F65 -> 0 | G108: =Scenes!G65 -> 0
A109: =Scenes!A66 -> 0 | B109: =Scenes!B66 -> 12 | C109: =Scenes!C66 -> 0 | D109: =Scenes!D66 -> 0 | E109: =Scenes!E66 -> 0 | F109: =Scenes!F66 -> 0 | G109: =Scenes!G66 -> 0
A110: =Scenes!A67 -> 0 | B110: =Scenes!B67 -> 0 | C110: =Scenes!C67 -> 0 | D110: =Scenes!D67 -> POS: | E110: =Scenes!E67 -> 0 | F110: =Scenes!F67 -> 0 | G110: =Scenes!G67 -> 0
A111: =Scenes!A68 -> 0 | B111: =Scenes!B68 -> 0 | C111: =Scenes!C68 -> 0 | D111: =Scenes!D68 -> NEG: | E111: =Scenes!E68 -> 0 | F111: =Scenes!F68 -> 0 | G111: =Scenes!G68 -> 0
A112: =Scenes!A69 -> 0 | B112: =Scenes!B69 -> 0 | C112: =Scenes!C69 -> 0 | D112: =Scenes!D69 -> CONFLICT | E112: =Scenes!E69 -> 0 | F112: =Scenes!F69 -> 0 | G112: =Scenes!G69 -> 0
A113: =Scenes!A70 -> 0 | B113: =Scenes!B70 -> 0 | C113: =Scenes!C70 -> 0 | D113: =Scenes!D70 -> 0 | E113: =Scenes!E70 -> 0 | F113: =Scenes!F70 -> 0 | G113: =Scenes!G70 -> 0
A114: =Scenes!A71 -> 0 | B114: =Scenes!B71 -> 13 | C114: =Scenes!C71 -> 0 | D114: =Scenes!D71 -> 0 | E114: =Scenes!E71 -> Cliffhanger | F114: =Scenes!F71 -> 0 | G114: =Scenes!G71 -> 0
... A118: =Scenes!A75 -> 0 | B118: =Scenes!B75 -> 0 | C118: =Scenes!C75 -> 0 | D118: =Scenes!D75 -> 0 | E118: =Scenes!E75 -> 0 | F118: =Scenes!F75 -> 0 | G118: =Scenes!G75 -> 0
A119: =Scenes!A76 -> ACT TWO-A (ii) (p. 25-55) | F119: =Scenes!F76 -> 0 | G119: =Scenes!G76 -> 0
A120: =Scenes!A77 -> PAGE | B120: =Scenes!B77 -> SCENE | C120: =Scenes!C77 -> 0 | D120: =Scenes!D77 -> DESCRIPTION | E120: =Scenes!E77 -> DEVICE | F120: =Scenes!F77 -> 0 | G120: =Scenes!G77 -> 0
A121: =Scenes!A78 -> 0 | B121: =Scenes!B78 -> 14 | C121: =Scenes!C78 -> 0 | D121: =Scenes!D78 -> 0 | E121: =Scenes!E78 -> "THE BIG PROBLEM: SHE SOLVES IT BY:" FUN AND GAMES | F121: =Scenes!F78 -> 0 | G121: =Scenes!G78 -> 0
A122: =Scenes!A79 -> 0 | B122: =Scenes!B79 -> 0 | C122: =Scenes!C79 -> 0 | D122: =Scenes!D79 -> POS: | E122: =Scenes!E79 -> 0 | F122: =Scenes!F79 -> 0 | G122: =Scenes!G79 -> 0
A123: =Scenes!A80 -> 0 | B123: =Scenes!B80 -> 0 | C123: =Scenes!C80 -> 0 | D123: =Scenes!D80 -> NEG: | E123: =Scenes!E80 -> 0 | F123: =Scenes!F80 -> 0 | G123: =Scenes!G80 -> 0
A124: =Scenes!A81 -> 0 | B124: =Scenes!B81 -> 0 | C124: =Scenes!C81 -> 0 | D124: =Scenes!D81 -> CONFLICT | E124: =Scenes!E81 -> 0 | F124: =Scenes!F81 -> 0 | G124: =Scenes!G81 -> 0
A125: =Scenes!A82 -> 0 | B125: =Scenes!B82 -> 0 | C125: =Scenes!C82 -> 0 | D125: =Scenes!D82 -> 0 | E125: =Scenes!E82 -> 0 | F125: =Scenes!F82 -> 0 | G125: =Scenes!G82 -> 0
A126: =Scenes!A83 -> 0 | B126: =Scenes!B83 -> 15 | C126: =Scenes!C83 -> 0 | D126: =Scenes!D83 -> 0 | E126: =Scenes!E83 -> Cliffhanger | F126: =Scenes!F83 -> 0 | G126: =Scenes!G83 -> 0
A127: =Scenes!A84 -> 0 | B127: =Scenes!B84 -> 0 | C127: =Scenes!C84 -> 0 | D127: =Scenes!D84 -> POS: | E127: =Scenes!E84 -> 0 | F127: =Scenes!F84 -> 0 | G127: =Scenes!G84 -> 0
A128: =Scenes!A85 -> 0 | B128: =Scenes!B85 -> 0 | C128: =Scenes!C85 -> 0 | D128: =Scenes!D85 -> NEG: | E128: =Scenes!E85 -> 0 | F128: =Scenes!F85 -> 0 | G128: =Scenes!G85 -> 0
A129: =Scenes!A86 -> 0 | B129: =Scenes!B86 -> 0 | C129: =Scenes!C86 -> 0 | D129: =Scenes!D86 -> CONFLICT | E129: =Scenes!E86 -> 0 | F129: =Scenes!F86 -> 0 | G129: =Scenes!G86 -> 0
A130: =Scenes!A87 -> 0 | B130: =Scenes!B87 -> 0 | C130: =Scenes!C87 -> 0 | D130: =Scenes!D87 -> 0 | E130: =Scenes!E87 -> 0 | F130: =Scenes!F87 -> 0 | G130: =Scenes!G87 -> 0
A131: =Scenes!A88 -> ACT TWO-A (iii) (p. 25-55) | F131: =Scenes!F88 -> 0 | G131: =Scenes!G88 -> 0
A132: =Scenes!A89 -> PAGE | B132: =Scenes!B89 -> SCENE | C132: =Scenes!C89 -> 0 | D132: =Scenes!D89 -> DESCRIPTION | E132: =Scenes!E89 -> DEVICE | F132: =Scenes!F89 -> 0 | G132: =Scenes!G89 -> 0
A133: =Scenes!A90 -> 0 | B133: =Scenes!B90 -> 16 | C133: =Scenes!C90 -> 0 | D133: =Scenes!D90 -> 0 | E133: =Scenes!E90 -> PROMISE OF THE PREMISE | F133: =Scenes!F90 -> 0 | G133: =Scenes!G90 -> 0
A134: =Scenes!A91 -> 0 | B134: =Scenes!B91 -> 0 | C134: =Scenes!C91 -> 0 | D134: =Scenes!D91 -> POS: | E134: =Scenes!E91 -> 0 | F134: =Scenes!F91 -> 0 | G134: =Scenes!G91 -> 0
A135: =Scenes!A92 -> 0 | B135: =Scenes!B92 -> 0 | C135: =Scenes!C92 -> 0 | D135: =Scenes!D92 -> NEG: | E135: =Scenes!E92 -> 0 | F135: =Scenes!F92 -> 0 | G135: =Scenes!G92 -> 0
A136: =Scenes!A93 -> 0 | B136: =Scenes!B93 -> 0 | C136: =Scenes!C93 -> 0 | D136: =Scenes!D93 -> CONFLICT | E136: =Scenes!E93 -> 0 | F136: =Scenes!F93 -> 0 | G136: =Scenes!G93 -> 0
A137: =Scenes!A94 -> 0 | B137: =Scenes!B94 -> 0 | C137: =Scenes!C94 -> 0 | D137: =Scenes!D94 -> 0 | E137: =Scenes!E94 -> 0 | F137: =Scenes!F94 -> 0 | G137: =Scenes!G94 -> 0
A138: =Scenes!A95 -> 0 | B138: =Scenes!B95 -> 17 | C138: =Scenes!C95 -> 0 | D138: =Scenes!D95 -> 0 | E138: =Scenes!E95 -> 0 | F138: =Scenes!F95 -> 0 | G138: =Scenes!G95 -> 0
A139: =Scenes!A96 -> 0 | B139: =Scenes!B96 -> 0 | C139: =Scenes!C96 -> 0 | D139: =Scenes!D96 -> POS: | E139: =Scenes!E96 -> 0 | F139: =Scenes!F96 -> 0 | G139: =Scenes!G96 -> 0
A140: =Scenes!A97 -> 0 | B140: =Scenes!B97 -> 0 | C140: =Scenes!C97 -> 0 | D140: =Scenes!D97 -> NEG: | E140: =Scenes!E97 -> 0 | F140: =Scenes!F97 -> 0 | G140: =Scenes!G97 -> 0
A141: =Scenes!A98 -> 0 | B141: =Scenes!B98 -> 0 | C141: =Scenes!C98 -> 0 | D141: =Scenes!D98 -> CONFLICT | E141: =Scenes!E98 -> Crisis cliffhanger | F141: =Scenes!F98 -> 0 | G141: =Scenes!G98 -> 0
A142: =Scenes!A99 -> 0 | B142: =Scenes!B99 -> 0 | C142: =Scenes!C99 -> 0 | D142: =Scenes!D99 -> 0 | E142: =Scenes!E99 -> 0 | F142: =Scenes!F99 -> 0 | G142: =Scenes!G99 -> 0
A143: =Scenes!A100 -> ACT TWO-A (iv) (p. 25-55) MIDPOINT | F143: =Scenes!F100 -> 0 | G143: =Scenes!G100 -> 0
A144: =Scenes!A101 -> PAGE | B144: =Scenes!B101 -> SCENE | C144: =Scenes!C101 -> 0 | D144: =Scenes!D101 -> DESCRIPTION | E144: =Scenes!E101 -> DEVICE | F144: =Scenes!F101 -> 0 | G144: =Scenes!G101 -> 0
A145: =Scenes!A102 -> 0 | B145: =Scenes!B102 -> 18 | C145: =Scenes!C102 -> 0 | D145: =Scenes!D102 -> 0 | E145: =Scenes!E102 -> FALSE VICTORY | F145: =Scenes!F102 -> 0 | G145: =Scenes!G102 -> 0
A146: =Scenes!A103 -> 0 | B146: =Scenes!B103 -> 0 | C146: =Scenes!C103 -> 0 | D146: =Scenes!D103 -> POS: | E146: =Scenes!E103 -> 0 | F146: =Scenes!F103 -> 0 | G146: =Scenes!G103 -> 0
A147: =Scenes!A104 -> 0 | B147: =Scenes!B104 -> 0 | C147: =Scenes!C104 -> 0 | D147: =Scenes!D104 -> NEG: | E147: =Scenes!E104 -> 0 | F147: =Scenes!F104 -> 0 | G147: =Scenes!G104 -> 0
A148: =Scenes!A105 -> 0 | B148: =Scenes!B105 -> 0 | C148: =Scenes!C105 -> 0 | D148: =Scenes!D105 -> CONFLICT | E148: =Scenes!E105 -> 0 | F148: =Scenes!F105 -> 0 | G148: =Scenes!G105 -> 0
A149: =Scenes!A106 -> 0 | B149: =Scenes!B106 -> 0 | C149: =Scenes!C106 -> 0 | D149: =Scenes!D106 -> 0 | E149: =Scenes!E106 -> 0 | F149: =Scenes!F106 -> 0 | G149: =Scenes!G106 -> 0
A150: =Scenes!A107 -> 0 | B150: =Scenes!B107 -> 19 | C150: =Scenes!C107 -> 0 | D150: =Scenes!D107 -> 0 | E150: =Scenes!E107 -> "Who's going to save me?" | F150: =Scenes!F107 -> 0 | G150: =Scenes!G107 -> 0
...

Sheet STRUCTURE
B1: =Scenes!A1 -> ACT ONE (i) (p. 1-25) | R1: CLIMAX
A2: POS
A21: NEG
B42: =Scenes!A59 -> ACT TWO-A (i) (p. 25-55) | R42: CLIMAX
A43: POS
A62: NEG
B83: =Scenes!A117 -> ACT TWO-B (i) (p. 55-85) | R83: CLIMAX
A84: POS
A103: NEG
B124: =Scenes!A171 -> ACT THREE (i) (p. 86-110)
A125: POS
A144: NEG

Sheet Stripboard
B1: STRIPBOARD · "Your Project Title"
B2: SCENE # | C2: INT / EXT | D2: SCENE HEADING | E2: DAY / NIGHT | F2: CAST | G2: SHOOTING LOCATION | H2: PAGE COUNT | I2: EST. SHOOT TIME (HRS)
B3: =Scenes!B4 -> 1 | C3: =Scenes!C4 -> INT | D3: =Scenes!D4 -> 0 | E3: DAY | I3: 0.041666667
B4: =Scenes!B9 -> 2 | C4: =Scenes!C9 -> EXT | D4: =Scenes!D9 -> 0 | E4: DAY | I4: 0.041666667
B5: — END OF DAY 1 — | E5: 43010 | H5: Total Est. Time: | I5: =SUM(I3,I4) -> 0.083333333
B6: =Scenes!B14 -> 3 | C6: =Scenes!C14 -> INT | D6: =Scenes!D14 -> 0 | E6: NIGHT | I6: 0.041666667
B7: =Scenes!B19 -> 4 | C7: =Scenes!C19 -> INT | D7: =Scenes!D19 -> 0 | E7: NIGHT | I7: 0.041666667
B8: — END OF DAY 1 — | E8: 43010 | H8: Total Est. Time: | I8: =SUM(I6,I7) -> 0.083333333
B9: =Scenes!B27 -> 5 | C9: =Scenes!C27 -> EXT. | D9: =Scenes!D27 -> 0 | E9: DAY | I9: 0.041666667
B10: =Scenes!B32 -> 6 | C10: =Scenes!C32 -> EXT | D10: =Scenes!D32 -> 0 | E10: NIGHT | I10: 0.041666667
B11: =Scenes!B37 -> 7 | C11: =Scenes!C37 -> EXT. | D11: =Scenes!D37 -> 0 | E11: NIGHT | I11: 0.041666667
B12: =Scenes!B44 -> 8 | C12: =Scenes!C44 -> EXT. | D12: =Scenes!D44 -> 0 | E12: NIGHT | I12: 0.041666667
B13: =Scenes!B49 -> 9 | C13: =Scenes!C49 -> INT | D13: =Scenes!D49 -> 0 | E13: NIGHT | I13: 0.041666667
B14: =Scenes!B54 -> 10 | C14: =Scenes!C54 -> INT | D14: =Scenes!D54 -> 0 | E14: NIGHT | I14: 0.041666667
B15: =Scenes!B61 -> 11 | C15: =Scenes!C61 -> 0 | D15: =Scenes!D61 -> 0 | E15: NIGHT | I15: 0.041666667
B16: =Scenes!B66 -> 12 | C16: =Scenes!C66 -> 0 | D16: =Scenes!D66 -> 0 | E16: NIGHT | I16: 0.041666667
B17: =Scenes!B71 -> 13 | C17: =Scenes!C71 -> 0 | D17: =Scenes!D71 -> 0 | E17: NIGHT | I17: 0.041666667
B18: =Scenes!B78 -> 14 | C18: =Scenes!C78 -> 0 | D18: =Scenes!D78 -> 0 | E18: NIGHT | I18: 0.041666667
B19: =Scenes!B83 -> 15 | C19: =Scenes!C83 -> 0 | D19: =Scenes!D83 -> 0 | E19: NIGHT | I19: 0.041666667
B20: =Scenes!B90 -> 16 | C20: =Scenes!C90 -> 0 | D20: =Scenes!D90 -> 0 | E20: NIGHT | I20: 0.041666667
B21: =Scenes!B95 -> 17 | C21: =Scenes!C95 -> 0 | D21: =Scenes!D95 -> 0 | E21: NIGHT | I21: 0.041666667
B22: =Scenes!B102 -> 18 | C22: =Scenes!C102 -> 0 | D22: =Scenes!D102 -> 0 | E22: NIGHT | I22: 0.041666667
B23: =Scenes!B107 -> 19 | C23: =Scenes!C107 -> 0 | D23: =Scenes!D107 -> 0 | E23: NIGHT | I23: 0.041666667
B24: =Scenes!B112 -> 20 | C24: =Scenes!C112 -> 0 | D24: =Scenes!D112 -> 0 | E24: NIGHT | I24: 0.041666667
B25: =Scenes!B119 -> 21 | C25: =Scenes!C119 -> 0 | D25: =Scenes!D119 -> 0 | E25: NIGHT | I25: 0.041666667
B26: =Scenes!B124 -> 22 | C26: =Scenes!C124 -> 0 | D26: =Scenes!D124 -> THE SAVIOUR | E26: DAY | I26: 0.041666667
B27: =Scenes!B129 -> 23 | C27: =Scenes!C129 -> 0 | D27: =Scenes!D129 -> 0 | E27: NIGHT | I27: 0.041666667
B28: =Scenes!B134 -> 24 | C28: =Scenes!C134 -> 0 | D28: =Scenes!D134 -> 0 | E28: NIGHT | I28: 0.041666667
B29: =Scenes!B139 -> 25 | C29: =Scenes!C139 -> 0 | D29: =Scenes!D139 -> 0 | E29: NIGHT | I29: 0.041666667
B30: =Scenes!B146 -> 26 | C30: =Scenes!C146 -> 0 | D30: =Scenes!D146 -> 0 | E30: NIGHT | I30: 0.041666667
B31: =Scenes!B151 -> 27 | C31: =Scenes!C151 -> 0 | D31: =Scenes!D151 -> 0 | E31: NIGHT | I31: 0.041666667
B32: =Scenes!B156 -> 28 | C32: =Scenes!C156 -> 0 | D32: =Scenes!D156 -> 0 | E32: NIGHT | I32: 0.041666667
B33: =Scenes!B161 -> 29 | C33: =Scenes!C161 -> 0 | D33: =Scenes!D161 -> 0 | E33: NIGHT | I33: 0.041666667
B34: =Scenes!B166 -> 30 | C34: =Scenes!C166 -> 0 | D34: =Scenes!D166 -> 0 | E34: NIGHT | I34: 0.041666667
B35: =Scenes!B173 -> 31 | C35: =Scenes!C173 -> 0 | D35: =Scenes!D173 -> 0 | E35: NIGHT | I35: 0.041666667
B36: =Scenes!B178 -> 32 | C36: =Scenes!C178 -> 0 | D36: =Scenes!D178 -> 0 | E36: NIGHT | I36: 0.041666667
B37: =Scenes!B183 -> 33 | C37: =Scenes!C183 -> 0 | D37: =Scenes!D183 -> 0 | E37: NIGHT | I37: 0.041666667
B38: =Scenes!B188 -> 34 | C38: =Scenes!C188 -> 0 | D38: =Scenes!D188 -> 0 | E38: NIGHT | I38: 0.041666667
B39: =Scenes!B193 -> 35 | C39: =Scenes!C193 -> 0 | D39: =Scenes!D193 -> 0 | E39: NIGHT | I39: 0.041666667
B40: =Scenes!B198 -> 36 | C40: =Scenes!C198 -> 0 | D40: =Scenes!D198 -> 0 | E40: NIGHT | I40: 0.041666667
B41: =Scenes!B205 -> 37 | C41: =Scenes!C205 -> 0 | D41: =Scenes!D205 -> 0 | E41: NIGHT | I41: 0.041666667
B42: =Scenes!B210 -> 38 | C42: =Scenes!C210 -> 0 | D42: =Scenes!D210 -> 0 | E42: NIGHT | I42: 0.041666667
B43: =Scenes!B215 -> 39 | C43: =Scenes!C215 -> 0 | D43: =Scenes!D215 -> 0 | E43: NIGHT | I43: 0.041666667
B44: =Scenes!B220 -> 40 | C44: =Scenes!C220 -> 0 | D44: =Scenes!D220 -> 0 | E44: NIGHT | I44: 0.041666667
B45: // COMPANY MOVE // | I45: 0.041666667
B46: — END OF DAY 1 — | E46: 43010 | H46: Total Est. Time: | I46: =SUM(I3:I45) -> 1.875
B47: =IMAGE("https://www.studiobinder.com/wp-content/uploads/2015/04/studiobinder-logo-gray.png") -> #NAME? | D47: Modern Production Management Software. Create shooting schedules, breakdowns, call sheets & more on studiobinder.com | H47: =HYPERLINK("http://www.studiobinder.com/","© 2016 - StudioBinder") -> © 2016 - StudioBinder

Sheet Template Options
A1: SET LOCATIONS | B1: CAST LEGEND | C1: STRIPBOARD COLOR LEGEND | D1: TIME OF DAY
A2: ENCINO NEIGHBORHOOD | B2: 1 - Paul Sheen | C2: INT + DAY / MORNING
A3: MERMAID TAVERN | B3: 2 - Claire | C3: INT + NIGHT / EVENING
A4: APARTMENT | B4: 3 - Ben | C4: EXT + DAY / MORNING
A5: Edit Locations in "Template Options" Sheet... | B5: 4 - Tony | C5: EXT + NIGHT / EVENING
C6: — DAY BREAK —
C7: BANNER

Sheet S01 Episode List
A1: Season One A1 (e01-e04) | F1: ANCILLARY
B2: EPISODE | D2: DESCRIPTION | E2: DEVICE | F2: B STORY | G2: C STORY
D3: OPENING SHOT - EXPECTATION SUBVERTED | E3: THE BIG PROBLEM: HE SOLVES IT BY: CORE WOUND - | F3: Raven's story
B4: 1 | E4: OPENING IMAGE CHARACTER FLAW VALUES
D5: INTENT:
D6: OBST:
D7: CONFLICT:
D8: QUESTIONS AND PROMISES: SET UPS PAYOFFS
B9: 2 | E9: THEME STATED (Premise): PRIMAL:
D10: I:
D11: O:
D12: C:
B14: 3 | E14: SET UP
D15: I:
D16: O:
D17: C:
E18: THEME
B19: 4
D20: I:
D21: O:
D22: C:
E23: Cliffhanger
A24: Season One A2 (e05-e07)
B25: EPISODE | D25: DESCRIPTION | E25: DEVICE
E26: THE BIG PROBLEM: SOLVED BY:
B27: 5 | E27: VALUES
D28: POS:
D29: NEG:
D30: CONFLICT
E31: CHARACTER FLAW:
B32: 6 | E32: CATALYST NOTES
D33: POS:
D34: NEG:
D35: CONFLICT
B37: 7 | E37: DEBATE
D38: POS:
D39: NEG: | E39: Cliffhanger
D40: CONFLICT
A42: Season One A3 (e08-e10)
B43: EPISODE | D43: DESCRIPTION | E43: DEVICE
B44: 8 | E44: THE BIG PROBLEM: SOLVES IT BY: CATALYST
D45: POS:
D46: NEG:
D47: CONFLICT
B49: 9 | E49: DEBATE
D50: POS:
D51: NEG:
D52: CONFLICT
B54: 10 | D54: "Family Ties" | E54: Biggest cliffhanger -
D55: POS: | E55: PROACTIVE HERO
D56: NEG:
D57: CONFLICT
A59: Season Two A1 (e11-e13)
B60: EPISODE | D60: DESCRIPTION | E60: DEVICE
B61: 11 | E61: THE BIG PROBLEM: SHE SOLVES IT BY: B-STORY
D62: POS:
D63: NEG:
D64: CONFLICT
B66: 12
D67: POS:
D68: NEG:
D69: CONFLICT
B71: 13 | E71: Cliffhanger
D72: POS:
D73: NEG:
D74: CONFLICT
A76: Season Two A2 (e14-e15)
B77: EPISODE | D77: DESCRIPTION | E77: DEVICE
B78: 14 | E78: "THE BIG PROBLEM: SHE SOLVES IT BY:" FUN AND GAMES
D79: POS:
D80: NEG:
D81: CONFLICT
B83: 15 | E83: Cliffhanger
D84: POS:
D85: NEG:
D86: CONFLICT
A88: Season Two A2 (e16-e17)
B89: EPISODE | D89: DESCRIPTION | E89: DEVICE
B90: 16 | E90: PROMISE OF THE PREMISE
D91: POS:
D92: NEG:
D93: CONFLICT
B95: 17
D96: POS:
D97: NEG:
D98: CONFLICT | E98: Crisis cliffhanger
A100: Season Two A3 (e18-e20) - MIDPOINT
B101: EPISODE | D101: DESCRIPTION | E101: DEVICE
B102: 18 | D102: She kills gang. | E102: FALSE VICTORY
D103: POS:
D104: NEG:
D105: CONFLICT
B107: 19 | E107: "Who's going to save me?"
D108: POS:
D109: NEG:
D110: CONFLICT
B112: 20 | E112: THE BIG PROBLEM: SHE SOLVES IT BY: IT DOESN'T WORK BECAUSE: MIDPOINT
D113: POS: | E113: She's been going about it all wrong.
D114: NEG:
D115: CONFLICT
...
