Workbook
Name Scene1: #REF!
Name Scene1: 'Template Options'!$A$2

Sheet Synopsis
A1: MAJOR BEATS | B1: STORY ELEMENT | C1: DEVICE | D1: CONSCIOUS DESIRE | E1: UNCONSCIOUS (Moral World View) | F1: ACHILLES HEEL (in Direct Opposition to the Conscious Desire) | G1: MORAL IMPERATIVE (Sacred/Profane) | H1: THEME (A Moral Law of the Universe) | J1: DEVICE
A2: This first season is a … | D2: To Protect Her Family | E2: Prove She's A Better Mother .... | F2: Driven By Competition, Not Love | G2: That Which Must Be Done To Survive
A3: … about …
A4: … who wants …
A5: … needs …
A6: … sets out to …
A7: First Barrier
A8: Second Barrier
A9: Climax
A10: Resolution
A11: The Main Character had changed because …
A13: CHARACTER PROFILES | B13: NAME
A14: DESCRIPTION
A15: AMBITION
A16: INTENTION
A17: OBSTACLE
A18: Conscious Desire (WANT) - Overall Objective
A19: Unconscious Drive
A20: Achilles Heel/Core Wound (Direct Opposition to Conscious Desire)
A21: THE LIE (What we tell ourselves to sleep at night)
A22: Moral Imperative
A23: CLOCK
A24: CRUCIBLE
A25: CONTRACT
... A27: The Throughline
A28: 1
A29: 2
A30: 3
A31: 4
A32: 5
A33: 6
A34: What Has Changed? What REALLY TESTS the character?
A35: NOTES
A37: STORY WORLD | B37: Moral Grey Area | C37: Sacred | D37: Profane
A38: Politics
A39: Economic
A40: Social
A41: Technological
A42: Environmental
A43: Legal
...

Sheet Scenes
A1: ACT ONE (i) (p. 1-25) | F1: ANCILLARY
A2: PAGE | B2: SCENE | C2: INT/EXT | D2: DESCRIPTION | E2: DEVICE | F2: B STORY | G2: C STORY
E3: THE BIG PROBLEM: SHE SOLVES IT BY:
B4: 1 | C4: INT | E4: OPENING IMAGE CHARACTER FLAW VALUES
D5: INTENT:
D6: OBST:
D7: CONFLICT:
B9: 2 | C9: EXT | E9: THEME STATED: PRIMAL:
D10: I:
D11: O:
D12: C:
B14: 3 | C14: INT | E14: SET UP
D15: I:
D16: O:
D17: C:
E18: THEME
B19: 4 | C19: INT | E19: "WHO'S GOING TO SAVE ME?"
D20: I:
D21: O:
D22: C:
E23: Cliffhanger
A24: ACT ONE (ii)
A25: PAGE | B25: SCENE | D25: DESCRIPTION | E25: DEVICE
E26: THE BIG PROBLEM: SHE SOLVES IT BY:
B27: 5 | C27: EXT. | E27: VALUES
D28: POS:
D29: NEG:
D30: CONFLICT
E31: CHARACTER FLAW:
B32: 6 | C32: EXT | E32: CATALYST
D33: POS:
D34: NEG:
D35: CONFLICT
B37: 7 | C37: EXT. | E37: DEBATE
D38: POS:
D39: NEG: | E39: Cliffhanger
D40: CONFLICT
A42: ACT ONE (iii)
A43: PAGE | B43: SCENE | D43: DESCRIPTION | E43: DEVICE
B44: 8 | C44: EXT. | E44: "THE BIG PROBLEM: THEY SOLVE IT BY:" CATALYST
...

Sheet Outline
A1: =Scenes!A1 -> ACT ONE (i) (p. 1-25) | F1: =Scenes!F1 -> ANCILLARY
A2: =Scenes!A2 -> PAGE | B2: =Scenes!B2 -> SCENE | C2: =Scenes!C2 -> INT/EXT | D2: =Scenes!D2 -> DESCRIPTION | E2: =Scenes!E2 -> DEVICE | F2: =Scenes!F2 -> B STORY | G2: =Scenes!G2 -> C STORY
A3: =Scenes!A4 -> 0 | B3: =Scenes!B4 -> 1 | C3: =Scenes!C4 -> INT | D3: =Scenes!D4 -> 0 | E3: =Scenes!E4 -> OPENING IMAGE CHARACTER FLAW VALUES | F3: =Scenes!F4 -> 0 | G3: =Scenes!G4 -> 0
A4: =Scenes!A5 -> 0 | B4: =Scenes!B5 -> 0 | C4: =Scenes!C5 -> 0 | D4: =Scenes!D5 -> INTENT: | E4: =Scenes!E5 -> 0 | F4: =Scenes!F5 -> 0 | G4: =Scenes!G5 -> 0
A5: =Scenes!A6 -> 0 | B5: =Scenes!B6 -> 0 | C5: =Scenes!C6 -> 0 | D5: =Scenes!D6 -> OBST: | E5: =Scenes!E6 -> 0 | F5: =Scenes!F6 -> 0 | G5: =Scenes!G6 -> 0
A6: =Scenes!A7 -> 0 | B6: =Scenes!B7 -> 0 | C6: =Scenes!C7 -> 0 | D6: =Scenes!D7 -> CONFLICT: | E6: =Scenes!E7 -> 0 | F6: =Scenes!F7 -> 0 | G6: =Scenes!G7 -> 0
A7: =Scenes!A7 -> 0 | B7: =Scenes!B7 -> 0 | C7: =Scenes!C7 -> 0 | D7: =Scenes!D7 -> CONFLICT: | E7: =Scenes!E7 -> 0 | F7: =Scenes!F7 -> 0 | G7: =Scenes!G7 -> 0
E8: Beginning
E10: Conflict
E11: Resolution
A13: =Scenes!A9 -> 0 | B13: =Scenes!B9 -> 2 | C13: =Scenes!C9 -> EXT | D13: =Scenes!D9 -> 0 | E13: =Scenes!E9 -> THEME STATED: PRIMAL: | F13: =Scenes!F9 -> 0 | G13: =Scenes!G9 -> 0
A14: =Scenes!A10 -> 0 | B14: =Scenes!B10 -> 0 | C14: =Scenes!C10 -> 0 | D14: =Scenes!D10 -> I: | E14: =Scenes!E10 -> 0 | F14: =Scenes!F10 -> 0 | G14: =Scenes!G10 -> 0
A15: =Scenes!A11 -> 0 | B15: =Scenes!B11 -> 0 | C15: =Scenes!C11 -> 0 | D15: =Scenes!D11 -> O: | E15: =Scenes!E11 -> 0 | F15: =Scenes!F11 -> 0 | G15: =Scenes!G11 -> 0
A16: =Scenes!A12 -> 0 | B16: =Scenes!B12 -> 0 | C16: =Scenes!C12 -> 0 | D16: =Scenes!D12 -> C: | E16: =Scenes!E12 -> 0 | F16: =Scenes!F12 -> 0 | G16: =Scenes!G12 -> 0
E18: Beginning
E21: Conflict
E22: Resolution
A23: =Scenes!A14 -> 0 | B23: =Scenes!B14 -> 3 | C23: =Scenes!C14 -> INT | D23: =Scenes!D14 -> 0 | E23: =Scenes!E14 -> SET UP | F23: =Scenes!F14 -> 0 | G23: =Scenes!G14 -> 0
A24: =Scenes!A15 -> 0 | B24: =Scenes!B15 -> 0 | C24: =Scenes!C15 -> 0 | D24: =Scenes!D15 -> I: | E24: =Scenes!E15 -> 0 | F24: =Scenes!F15 -> 0 | G24: =Scenes!G15 -> 0
A25: =Scenes!A16 -> 0 | B25: =Scenes!B16 -> 0 | C25: =Scenes!C16 -> 0 | D25: =Scenes!D16 -> O: | E25: =Scenes!E16 -> 0 | F25: =Scenes!F16 -> 0 | G25: =Scenes!G16 -> 0
A26: =Scenes!A17 -> 0 | B26: =Scenes!B17 -> 0 | C26: =Scenes!C17 -> 0 | D26: =Scenes!D17 -> C: | E26: =Scenes!E17 -> 0 | F26: =Scenes!F17 -> 0 | G26: =Scenes!G17 -> 0
A27: =Scenes!A16 -> 0 | B27: =Scenes!B16 -> 0 | C27: =Scenes!C16 -> 0 | D27: =Scenes!D16 -> O: | E27: =Scenes!E16 -> 0 | F27: =Scenes!F16 -> 0 | G27: =Scenes!G16 -> 0
A32: =Scenes!A19 -> 0 | B32: =Scenes!B19 -> 4 | C32: =Scenes!C19 -> INT | D32: =Scenes!D19 -> 0 | E32: =Scenes!E19 -> "WHO'S GOING TO SAVE ME?" | F32: =Scenes!F19 -> 0 | G32: =Scenes!G19 -> 0
A33: =Scenes!A20 -> 0 | B33: =Scenes!B20 -> 0 | C33: =Scenes!C20 -> 0 | D33: =Scenes!D20 -> I: | E33: =Scenes!E20 -> 0 | F33: =Scenes!F20 -> 0 | G33: =Scenes!G20 -> 0
A34: =Scenes!A21 -> 0 | B34: =Scenes!B21 -> 0 | C34: =Scenes!C21 -> 0 | D34: =Scenes!D21 -> O: | E34: =Scenes!E21 -> 0 | F34: =Scenes!F21 -> 0 | G34: =Scenes!G21 -> 0
A35: =Scenes!A22 -> 0 | B35: =Scenes!B22 -> 0 | C35: =Scenes!C22 -> 0 | D35: =Scenes!D22 -> C: | E35: =Scenes!E22 -> 0 | F35: =Scenes!F22 -> 0 | G35: =Scenes!G22 -> 0
A43: =Scenes!A24 -> ACT ONE (ii) | F43: =Scenes!F24 -> 0 | G43: =Scenes!G24 -> 0
A44: =Scenes!A25 -> PAGE | B44: =Scenes!B25 -> SCENE | C44: =Scenes!C25 -> 0 | D44: =Scenes!D25 -> DESCRIPTION | E44: =Scenes!E25 -> DEVICE | F44: =Scenes!F25 -> 0 | G44: =Scenes!G25 -> 0
A45: =Scenes!A27 -> 0 | B45: =Scenes!B27 -> 5 | C45: =Scenes!C27 -> EXT. | D45: =Scenes!D27 -> 0 | E45: =Scenes!E27 -> VALUES | F45: =Scenes!F27 -> 0 | G45: =Scenes!G27 -> 0
A46: =Scenes!A28 -> 0 | B46: =Scenes!B28 -> 0 | C46: =Scenes!C28 -> 0 | D46: =Scenes!D28 -> POS: | E46: =Scenes!E28 -> 0 | F46: =Scenes!F28 -> 0 | G46: =Scenes!G28 -> 0
A47: =Scenes!A29 -> 0 | B47: =Scenes!B29 -> 0 | C47: =Scenes!C29 -> 0 | D47: =Scenes!D29 -> NEG: | E47: =Scenes!E29 -> 0 | F47: =Scenes!F29 -> 0 | G47: =Scenes!G29 -> 0
A48: =Scenes!A30 -> 0 | B48: =Scenes!B30 -> 0 | C48: =Scenes!C30 -> 0 | D48: =Scenes!D30 -> CONFLICT | E48: =Scenes!E30 -> 0 | F48: =Scenes!F30 -> 0 | G48: =Scenes!G30 -> 0
A53: =Scenes!A32 -> 0 | B53: =Scenes!B32 -> 6 | C53: =Scenes!C32 -> EXT | D53: =Scenes!D32 -> 0 | E53: =Scenes!E32 -> CATALYST | F53: =Scenes!F32 -> 0 | G53: =Scenes!G32 -> 0
A54: =Scenes!A33 -> 0 | B54: =Scenes!B33 -> 0 | C54: =Scenes!C33 -> 0 | D54: =Scenes!D33 -> POS: | E54: =Scenes!E33 -> 0 | F54: =Scenes!F33 -> 0 | G54: =Scenes!G33 -> 0
A55: =Scenes!A34 -> 0 | B55: =Scenes!B34 -> 0 | C55: =Scenes!C34 -> 0 | D55: =Scenes!D34 -> NEG: | E55: =Scenes!E34 -> 0 | F55: =Scenes!F34 -> 0 | G55: =Scenes!G34 -> 0
A56: =Scenes!A35 -> 0 | B56: =Scenes!B35 -> 0 | C56: =Scenes!C35 -> 0 | D56: =Scenes!D35 -> CONFLICT | E56: =Scenes!E35 -> 0 | F56: =Scenes!F35 -> 0 | G56: =Scenes!G35 -> 0
A61: =Scenes!A37 -> 0 | B61: =Scenes!B37 -> 7 | C61: =Scenes!C37 -> EXT. | D61: =Scenes!D37 -> 0 | E61: =Scenes!E37 -> DEBATE | F61: =Scenes!F37 -> 0 | G61: =Scenes!G37 -> 0
A62: =Scenes!A38 -> 0 | B62: =Scenes!B38 -> 0 | C62: =Scenes!C38 -> 0 | D62: =Scenes!D38 -> POS: | E62: =Scenes!E38 -> 0 | F62: =Scenes!F38 -> 0 | G62: =Scenes!G38 -> 0
A63: =Scenes!A39 -> 0 | B63: =Scenes!B39 -> 0 | C63: =Scenes!C39 -> 0 | D63: =Scenes!D39 -> NEG: | E63: =Scenes!E39 -> Cliffhanger | F63: =Scenes!F39 -> 0 | G63: =Scenes!G39 -> 0
A64: =Scenes!A40 -> 0 | B64: =Scenes!B40 -> 0 | C64: =Scenes!C40 -> 0 | D64: =Scenes!D40 -> CONFLICT | E64: =Scenes!E40 -> 0 | F64: =Scenes!F40 -> 0 | G64: =Scenes!G40 -> 0
...

Sheet STRUCTURE
B1: =Scenes!A1 -> ACT ONE (i) (p. 1-25) | R1: CLIMAX
A2: POS
A21: NEG
B42: =Scenes!A59 -> ACT TWO-A (i) (p. 25-55) | R42: CLIMAX
A43: POS
A62: NEG
B83: =Scenes!A117 -> ACT TWO-B (i) (p. 55-85) | R83: CLIMAX
A84: POS
A103: NEG
B124: =Scenes!A171 -> ACT THREE (i) (p. 86-110)
A125: POS
A144: NEG

Sheet Stripboard
B1: STRIPBOARD · "Your Project Title"
B2: SCENE # | C2: INT / EXT | D2: SCENE HEADING | E2: DAY / NIGHT | F2: CAST | G2: SHOOTING LOCATION | H2: PAGE COUNT | I2: EST. SHOOT TIME (HRS)
B3: =Scenes!B4 -> 1 | C3: =Scenes!C4 -> INT | D3: =Scenes!D4 -> 0 | E3: DAY | I3: 0.041666667
B4: =Scenes!B9 -> 2 | C4: =Scenes!C9 -> EXT | D4: =Scenes!D9 -> 0 | E4: DAY | I4: 0.041666667
B5: — END OF DAY 1 — | E5: 43010 | H5: Total Est. Time: | I5: =SUM(I3,I4) -> 0.083333333
B6: =Scenes!B14 -> 3 | C6: =Scenes!C14 -> INT | D6: =Scenes!D14 -> 0 | E6: NIGHT | I6: 0.041666667
B7: =Scenes!B19 -> 4 | C7: =Scenes!C19 -> INT | D7: =Scenes!D19 -> 0 | E7: NIGHT | I7: 0.041666667
B8: — END OF DAY 1 — | E8: 43010 | H8: Total Est. Time: | I8: =SUM(I6,I7) -> 0.083333333
B9: =Scenes!B27 -> 5 | C9: =Scenes!C27 -> EXT. | D9: =Scenes!D27 -> 0 | E9: DAY | I9: 0.041666667
B10: =Scenes!B32 -> 6 | C10: =Scenes!C32 -> EXT | D10: =Scenes!D32 -> 0 | E10: NIGHT | I10: 0.041666667
B11: =Scenes!B37 -> 7 | C11: =Scenes!C37 -> EXT. | D11: =Scenes!D37 -> 0 | E11: NIGHT | I11: 0.041666667
B12: =Scenes!B44 -> 8 | C12: =Scenes!C44 -> EXT. | D12: =Scenes!D44 -> 0 | E12: NIGHT | I12: 0.041666667
B13: =Scenes!B49 -> 9 | C13: =Scenes!C49 -> INT | D13: =Scenes!D49 -> 0 | E13: NIGHT | I13: 0.041666667
B14: =Scenes!B54 -> 10 | C14: =Scenes!C54 -> INT | D14: =Scenes!D54 -> 0 | E14: NIGHT | I14: 0.041666667
B15: =Scenes!B61 -> 11 | C15: =Scenes!C61 -> 0 | D15: =Scenes!D61 -> 0 | E15: NIGHT | I15: 0.041666667
B16: =Scenes!B66 -> 12 | C16: =Scenes!C66 -> 0 | D16: =Scenes!D66 -> 0 | E16: NIGHT | I16: 0.041666667
B17: =Scenes!B71 -> 13 | C17: =Scenes!C71 -> 0 | D17: =Scenes!D71 -> 0 | E17: NIGHT | I17: 0.041666667
B18: =Scenes!B78 -> 14 | C18: =Scenes!C78 -> 0 | D18: =Scenes!D78 -> 0 | E18: NIGHT | I18: 0.041666667
B19: =Scenes!B83 -> 15 | C19: =Scenes!C83 -> 0 | D19: =Scenes!D83 -> 0 | E19: NIGHT | I19: 0.041666667
B20: =Scenes!B90 -> 16 | C20: =Scenes!C90 -> 0 | D20: =Scenes!D90 -> 0 | E20: NIGHT | I20: 0.041666667
B21: =Scenes!B95 -> 17 | C21: =Scenes!C95 -> 0 | D21: =Scenes!D95 -> 0 | E21: NIGHT | I21: 0.041666667
B22: =Scenes!B102 -> 18 | C22: =Scenes!C102 -> 0 | D22: =Scenes!D102 -> 0 | E22: NIGHT | I22: 0.041666667
B23: =Scenes!B107 -> 19 | C23: =Scenes!C107 -> 0 | D23: =Scenes!D107 -> 0 | E23: NIGHT | I23: 0.041666667
B24: =Scenes!B112 -> 20 | C24: =Scenes!C112 -> 0 | D24: =Scenes!D112 -> 0 | E24: NIGHT | I24: 0.041666667
B25: =Scenes!B119 -> 21 | C25: =Scenes!C119 -> 0 | D25: =Scenes!D119 -> 0 | E25: NIGHT | I25: 0.041666667
B26: =Scenes!B124 -> 22 | C26: =Scenes!C124 -> 0 | D26: =Scenes!D124 -> THE SAVIOUR | E26: DAY | I26: 0.041666667
B27: =Scenes!B129 -> 23 | C27: =Scenes!C129 -> 0 | D27: =Scenes!D129 -> 0 | E27: NIGHT | I27: 0.041666667
B28: =Scenes!B134 -> 24 | C28: =Scenes!C134 -> 0 | D28: =Scenes!D134 -> 0 | E28: NIGHT | I28: 0.041666667
B29: =Scenes!B139 -> 25 | C29: =Scenes!C139 -> 0 | D29: =Scenes!D139 -> 0 | E29: NIGHT | I29: 0.041666667
B30: =Scenes!B146 -> 26 | C30: =Scenes!C146 -> 0 | D30: =Scenes!D146 -> 0 | E30: NIGHT | I30: 0.041666667
B31: =Scenes!B151 -> 27 | C31: =Scenes!C151 -> 0 | D31: =Scenes!D151 -> 0 | E31: NIGHT | I31: 0.041666667
B32: =Scenes!B156 -> 28 | C32: =Scenes!C156 -> 0 | D32: =Scenes!D156 -> 0 | E32: NIGHT | I32: 0.041666667
B33: =Scenes!B161 -> 29 | C33: =Scenes!C161 -> 0 | D33: =Scenes!D161 -> 0 | E33: NIGHT | I33: 0.041666667
B34: =Scenes!B166 -> 30 | C34: =Scenes!C166 -> 0 | D34: =Scenes!D166 -> 0 | E34: NIGHT | I34: 0.041666667
B35: =Scenes!B173 -> 31 | C35: =Scenes!C173 -> 0 | D35: =Scenes!D173 -> 0 | E35: NIGHT | I35: 0.041666667
B36: =Scenes!B178 -> 32 | C36: =Scenes!C178 -> 0 | D36: =Scenes!D178 -> 0 | E36: NIGHT | I36: 0.041666667
B37: =Scenes!B183 -> 33 | C37: =Scenes!C183 -> 0 | D37: =Scenes!D183 -> 0 | E37: NIGHT | I37: 0.041666667
B38: =Scenes!B188 -> 34 | C38: =Scenes!C188 -> 0 | D38: =Scenes!D188 -> 0 | E38: NIGHT | I38: 0.041666667
B39: =Scenes!B193 -> 35 | C39: =Scenes!C193 -> 0 | D39: =Scenes!D193 -> 0 | E39: NIGHT | I39: 0.041666667
B40: =Scenes!B198 -> 36 | C40: =Scenes!C198 -> 0 | D40: =Scenes!D198 -> 0 | E40: NIGHT | I40: 0.041666667
...

Sheet Template Options
A1: SET LOCATIONS | B1: CAST LEGEND | C1: STRIPBOARD COLOR LEGEND | D1: TIME OF DAY
A2: ENCINO NEIGHBORHOOD | B2: 1 - Paul Sheen | C2: INT + DAY / MORNING
A3: MERMAID TAVERN | B3: 2 - Claire | C3: INT + NIGHT / EVENING
A4: APARTMENT | B4: 3 - Ben | C4: EXT + DAY / MORNING
A5: Edit Locations in "Template Options" Sheet... | B5: 4 - Tony | C5: EXT + NIGHT / EVENING
C6: — DAY BREAK —
C7: BANNER

Sheet S01 Episode List
A1: Season One A1 (e01-e04) | F1: ANCILLARY
B2: EPISODE | D2: DESCRIPTION | E2: DEVICE | F2: B STORY | G2: C STORY
D3: OPENING SHOT - EXPECTATION SUBVERTED | E3: THE BIG PROBLEM: HE SOLVES IT BY: CORE WOUND - | F3: Raven's story
B4: 1 | E4: OPENING IMAGE CHARACTER FLAW VALUES
D5: INTENT:
D6: OBST:
D7: CONFLICT:
D8: QUESTIONS AND PROMISES: SET UPS PAYOFFS
B9: 2 | E9: THEME STATED (Premise): PRIMAL:
D10: I:
D11: O:
D12: C:
B14: 3 | E14: SET UP
D15: I:
D16: O:
D17: C:
E18: THEME
B19: 4
D20: I:
D21: O:
D22: C:
E23: Cliffhanger
A24: Season One A2 (e05-e07)
B25: EPISODE | D25: DESCRIPTION | E25: DEVICE
E26: THE BIG PROBLEM: SOLVED BY:
B27: 5 | E27: VALUES
D28: POS:
D29: NEG:
D30: CONFLICT
E31: CHARACTER FLAW:
B32: 6 | E32: CATALYST NOTES
D33: POS:
D34: NEG:
D35: CONFLICT
B37: 7 | E37: DEBATE
D38: POS:
D39: NEG: | E39: Cliffhanger
D40: CONFLICT
A42: Season One A3 (e08-e10)
B43: EPISODE | D43: DESCRIPTION | E43: DEVICE
...
