Workbook
Name b_mm: Input!$L$69
Name bf: Input!$I$69
Name BigEnd_mm: Input!$G$31
Name Bore_mm: Input!$G$26
Name BumpRubberK: Input!$F$101
Name BumpRubberLen_mm: Input!$F$100
Name ChainLinks: Input!$L$36
Name CoGx_mm: Input!$L$68
Name ConRod_mm: Input!$G$28
Name Coolant_L: Input!$K$38
Name CRatio: Input!$G$30
Name CRolling: Input!$J$82
Name Displacement_cc: Input!$G$29
Name DragLink_mm: Input!$K$59
Name Drive_ratio: Input!$L$28
Name DynamicRake_deg: Input!$F$80
Name DynamicSagFront_mm: Input!$F$82
Name DynamicSagRear_mm: Input!$F$82
Name DynamicWheelbase_m: Input!$F$81
Name ExhaustClose_degATDC: Input!$G$38
Name ExhaustLift_mm: Input!$G$42
Name ExhaustOpen_degBBDC: Input!$G$37
Name ExhaustValve_mm: Input!$G$39
Name FinalDrive_ratio: Input!$M$29
Name FiringPoints: Input!$L$51
Name FootpegHeight_mm: Input!$F$12
Name ForkAirGap_mm: Input!$K$54
Name ForkBumpRubber_mm: Input!$F$121
Name ForkComp_clicks: Input!$K$55
Name ForkDrop_mm: Input!$K$57
Name ForkFreeTravelBeforeRub_mm: Input!$F$122
Name ForkGasForce: Input!$F$120
Name ForkGasPress_bar: Input!$F$118
Name ForkInnerTubeDia_mm: Input!$F$123
Name ForkLegs_mm: Input!$G$20
Name ForkOffset_m: Input!$E$72
Name ForkOil_ccPerLeg: Input!$K$39
Name ForkOilLevel_AirGap_mm: Input!$F$117
Name ForkPreLoad_mm: Input!$F$114
Name ForkReb_clicks: Input!$K$56
Name ForkRodDia_mm: Input!$F$119
Name ForkSpring_Npermm: Input!$K$53
Name ForkSpring_Npermm2: Input!$F$113
Name ForkTopOutSpringK: Input!$F$115
Name ForkTopOutStroke_mm: Input!$F$116
Name Front_tyre_coefficient: 'Max limit'!$H$11
Name FrontCaliper_mm: Input!$G$60
Name FrontDisk_mm: Input!$G$59
Name FrontMaster_mm: Input!$G$61
Name FrontOffset_mm: Input!$F$106
Name FrontRake_deg: Input!$F$109
Name FrontRideHeight_mm: Input!$F$105
Name FrontRim: Input!$K$20
Name FrontTravel_mm: Input!$G$21
Name FrontTyre: Input!$K$21
Name Fuel_L: Input!$K$40
Name Gear1_ratio: Input!$M$30
Name Gear2_ratio: Input!$M$31
Name Gear3_ratio: Input!$M$32
Name Gear4_ratio: Input!$M$33

Sheet Input
C3: Ducati 1199 Panigale S
C4: Bike Specification Sheet
C5: Dr Owen Williams – University of Wales TSD: | R5: m^3 | S5: cc
Q6: Bore | R6: =G26/1000 -> 0.112
C7: Total Length | F7: 2075 | G7: mm | Q7: Vol | R7: =((PI()*R6^2)/4)*(G27/1000) -> 0.0005990037 | S7: =R7*1000000 -> 599.0037
C8: Total Width | F8: 810 | G8: mm
C9: Total Height | F9: 1110 | G9: mm | Q9: Vc | R9: =R7/(11.5) -> 5.2087278e-05 | S9: =R9*1000000 -> 52.087278
C10: Seat Height | F10: 825 | G10: mm
C11: Minimum Ground Clearance | F11: 129 | G11: mm | Q11: Clearance Height
C12: Footpeg Height | F12: 399 | G12: mm | Q12: m | R12: =((R9*4)/(PI()*R6^2)) -> 0.0052869565
C13: Wheelbase | F13: 1437 | G13: mm | Q13: mm | R13: =R12*1000 -> 5.2869565
D15: Steering Head Angle | G15: 24.5 | H15: deg
D16: Steering Angle | G16: 27 | H16: deg
D17: Trail | G17: 100 | H17: mm
D19: Suspension
D20: Fork Legs | G20: 43 | H20: mm | J20: Front Rim | K20: MT 3.50 x 17
D21: Front Wheel Travel | G21: 120 | H21: mm | I21: Link | J21: Front Tyre | K21: 120/70 - ZR17
D22: Rear Wheel Travel | G22: 130 | H22: mm | I22: =G22/G23 -> 2.1702838 | J22: Rear Rim | K22: MT 5.5 x 17
D23: Shock Absorber Stroke | G23: 59.9 | H23: mm | J23: Rear Tyre | K23: 200/55 ZR17 | L23: =431.8+ (110*2) -> 651.8 | M23: mm | N23: =L23*3.61 -> 2352.998
D25: Engine | E25: Longitudial 90 degree 'L' Twin Cylinder 4T
D26: Bore | G26: 112 | H26: mm | J26: Gearbox
D27: Stroke | G27: 60.8 | H27: mm | J27: Primary Drive | L27: 30/53 | M27: 0.566
D28: Con Rod Length | G28: 110.08 | H28: mm | J28: Drive Ratio | L28: 0.53
D29: Displacement | G29: 1198 | H29: cc | J29: Final Drive | L29: 15/39 | M29: =15/39 -> 0.38461538
D30: Compression Ratio (+- 0.5) | G30: 12.5 | H30: : 1 | J30: 1st | L30: 15/37 | M30: =15/37 -> 0.40540541
D31: Small End | E31: 22.0427 | F31: Big End | G31: 49.0416 | H31: mm | J31: 2nd | L31: 16/30 | M31: =16/30 -> 0.53333333
J32: 3rd | L32: 18/27 | M32: =18/27 -> 0.66666667
D33: Valvetrain | J33: 4th | L33: 20/25 | M33: =20/25 -> 0.8
D34: Intake Opening | G34: 19 | H34: BTDC | J34: 5th | L34: 22/24 | M34: =22/24 -> 0.91666667
D35: Intake Closing | G35: 60 | H35: ABDC | J35: 6th | L35: 24/23 | M35: =24/23 -> 1.0434783
D36: Intake Valve Diameter | G36: 46.8 | H36: mm | J36: Chain links | L36: 106
D37: Exhaust Opening | G37: 63 | H37: BBDC
D38: Exhaust Closing | G38: 26 | H38: ATDC | J38: Coolant | K38: 2.3 | L38: Litres
D39: Exhaust Valve Diameter | G39: 38.2 | H39: mm | J39: Fork Oil | K39: 155 | L39: cc per leg
D40: Lift (with 0mm valve clearance) | J40: Fuel | K40: 17 | L40: Litres
E41: Intake | G41: 16 | H41: mm | J41: Oil | K41: 3.7 | L41: Litres
E42: Exhaust | G42: 14.3 | H42: mm | J42: Plugs | K42: NGK MAR09A-J
D44: Opening Rocker Arm - Intake | G44: 0.10÷0.15 mm | I44: 0.07÷0.22 mm
D45: Opening Rocker Arm - Exhaust | G45: 0.15÷0.20 mm | I45: 0.12÷0.27 mm
D46: Closing Rocker Arm - Intake | G46: 0.13÷0.18 mm | I46: 0.13÷0.23 mm
D47: Closing Rocker Arm - Exhaust | G47: 0.08÷0.13 mm | I47: 0.08÷0.18 mm
D49: Suspension Settings (Standard - Front) | I49: Throttle Body | K49: 67.5 | L49: mm
D50: Rebound | F50: 10 | G50: clicks | I50: Injectors | K50: 2 | L50: per cylinder
D51: Compression | F51: 8 | G51: clicks | I51: Firing points per injector | L51: 12
D52: Spring Preload | F52: 8 | G52: mm
D53: Suspension Settings (Standard - Rear) | I53: Joe | J53: Springs | K53: 9 | L53: N/mm
D54: Rebound | F54: 10 | G54: clicks | J54: Air Gap | K54: 130 | L54: mm
D55: Compression | F55: 10 | G55: clicks | J55: Compression | K55: 8 | L55: clicks out
D56: Spring Preload | F56: 6 | G56: mm | J56: Rebound | K56: 10 | L56: clicks out
J57: Fork-Drop | K57: 10 | L57: mm
D58: Brakes (Front)
D59: Brembo Disk | G59: 330 | H59: mm | J59: Drag Link Length | K59: 155 | L59: mm
D60: Caliper Cylinder Diameter | G60: 30 | H60: mm | J60: Spring | K60: 90 | L60: N/mm
D61: Master Cylinder Diameter | G61: 16 | H61: mm | J61: Pre-Load | K61: 12 | L61: mm
D62: Brakes (Rear) | J62: Compression | K62: 12 | L62: clicks out
D63: Brembo Disk | G63: 245 | H63: mm | J63: Rebound | K63: 10 | L63: clicks out
D64: Caliper Cylinder Diameter | G64: 34 | H64: mm
D65: Master Cylinder Diameter | G65: 13 | H65: mm
D67: Iwf | E67: 0.604 | H67: Front End | K67: h | L67: 659.95
D68: RFront | E68: 0.30335 | H68: Mf | I68: 30.7 | K68: CoG X | L68: 735.05
D69: RRear | E69: 0.32818 | H69: bf | I69: 0.024 | K69: b | L69: 712.95
D70: tFront | E70: 0.06258 | H70: hf | I70: 0.461 | K70: Mfront | L70: 130
D71: tRear | E71: 0.1076 | H71: Ixf | I71: 1.23 | K71: Mrear | L71: 134
D72: Fork Offset | E72: 0.03 | H72: Iyf | I72: 1.4 | K72: Mass Total | L72: =L70+L71 -> 264
D73: Mass | E73: 264 | H73: Izf | I73: 0.44
D74: MUsFront | E74: 13
D75: MUsRear | E75: 12.5 | H75: Steering Damper | J75: 6.78
D76: Static Rake Angle | F76: 23.22 | H76: kCamber Front | J76: 1.33
D77: Static Wheelbase | F77: 1.43549 | H77: kCornering Front | J77: 12.17
D78: Static Sag Front | F78: 33.6 | H78: kCamber Rear | J78: 1.31
D79: Static Sag Rear | F79: 4.3 | H79: kCornering Rear | J79: 11.33
D80: Dynamic Rake Angle | F80: 23.1 | H80: kTwisting Front | J80: 0.035
D81: Dynamic Wheelbase | F81: 1.43088 | H81: kSelfAligning Front | J81: -0.475
D82: Dynamic Sag Front | F82: 48 | H82: CRes Rolling | J82: 0.06757
D83: Dynamic Sag Rear | F83: 8.9
D85: Gio
C86: Rear | D86: Rear Ride Height | F86: 230
D87: Swinarm Length | F87: 540
D88: Pivot X | F88: 0
D89: Pivot Y | F89: 0
D90: Link
D91: Pushrod | F91: 103
C92: Shock
D93: Spring | F93: 100
D94: Pre-Load | F94: 10
D95: Top Out Spring | F95: 80
D96: Top Out Spring Stroke | F96: 10
D97: Gas Pressure | F97: 6
D98: Rod Diameter | F98: 14
D99: Gas Force | F99: 92.36
D100: Bump Rubber Length | F100: 20
D101: Bump Rubber K | F101: 100
D102: Max Stroke | F102: 65
D103: Free Travel | F103: 45
C104: Front
D105: Front Ride Height | F105: 233
D106: Offset | F106: 31
D107: Headstock Insert | F107: 23.5
D108: Lower Insert Offset | F108: 9.25
D109: Rake | F109: 25.5
...

Sheet Track spec
C1: Track
C2: Feature | D2: Angle | E2: Distance (M) | F2: Total distance (m) | I2: Turn | J2: 1 | K2: 2 | L2: 3 | M2: 4 | N2: 5 | O2: 6 | P2: 7 | Q2: 8 | R2: 9.1 | S2: 9.2 | T2: 10 | U2: 11
C3: Start | F3: 0 | I3: Degrees | J3: 122.1 | K3: 75.94 | L3: 50.13 | M3: 79.23 | N3: 45.27 | O3: 54.9 | P3: 101.48 | Q3: 86.41 | R3: 69.59 | S3: 64.07 | T3: 175.93 | U3: 148.4
B4: Wheatcroft Straight | C4: Str 1 | E4: 552.69 | F4: =F3 + N(E4) -> 552.69 | I4: Radii (m) | J4: 58.7 | K4: 210.51 | L4: 123.53 | M4: 43.43 | N4: 105.86 | O4: 169.31 | P4: 79.84 | Q4: 42.7 | R4: 37.14 | S4: 61.67 | T4: 21.45 | U4: 25.9
B5: Redgate | C5: Turn 1 | D5: =$J$3 -> 122.1 | E5: =$J$5 -> 125.09246 | F5: =F4 + N(E5) -> 677.78246 | I5: Arc length (m) | J5: =IF(J4="","", J4*RADIANS(J3)) -> 125.09246 | K5: =IF(K4="","", K4*RADIANS(K3)) -> 279.01059 | L5: =IF(L4="","", L4*RADIANS(L3)) -> 108.08054 | M5: =IF(M4="","", M4*RADIANS(M3)) -> 60.056062 | N5: =IF(N4="","", N4*RADIANS(N3)) -> 83.641103 | O5: =IF(O4="","", O4*RADIANS(O3)) -> 162.23043 | P5: =IF(P4="","", P4*RADIANS(P3)) -> 141.40942 | Q5: =IF(Q4="","", Q4*RADIANS(Q3)) -> 64.397536 | ... U5: =IF(U4="","", U4*RADIANS(U3)) -> 67.082777
C6: Str 2 | E6: 51.34 | F6: =F5 + N(E6) -> 729.12246
B7: Hollywood | C7: Turn 2 | D7: =$K$3 -> 75.94 | E7: =$K$5 -> 279.01059 | F7: =F6 + N(E7) -> 1008.1331
C8: Str 3 | E8: 82.18 | F8: =F7 + N(E8) -> 1090.3131
B9: Craner Curves | C9: Turn 3 | D9: =$L$3 -> 50.13 | E9: =$L$5 -> 108.08054 | F9: =F8 + N(E9) -> 1198.3936
C10: Str 4 | E10: 139.77 | F10: =F9 + N(E10) -> 1338.1636
B11: Old hairpin | C11: Turn 4 | D11: =$M$3 -> 79.23 | E11: =$M$5 -> 60.056062 | F11: =F10 + N(E11) -> 1398.2197
C12: Str 5 | E12: 157.63 | F12: =F11 + N(E12) -> 1555.8497
B13: Starkeys Bridge | C13: Turn 5 | D13: =$N$3 -> 45.27 | E13: =$N$5 -> 83.641103 | F13: =F12 + N(E13) -> 1639.4908
C14: Str 6 | E14: 123.8 | F14: =F13 + N(E14) -> 1763.2908
B15: Schwantz curve | C15: Turn 6 | D15: =$O$3 -> 54.9 | E15: =$O$5 -> 162.23043 | F15: =F14 + N(E15) -> 1925.5212
C16: Str 7 | E16: 89.6 | F16: =F15 + N(E16) -> 2015.1212
B17: McLeans | C17: Turn 7 | D17: =$P$3 -> 101.48 | E17: =$P$5 -> 141.40942 | F17: =F16 + N(E17) -> 2156.5306
C18: Str 8 | E18: 263.73 | F18: =F17 + N(E18) -> 2420.2606
B19: Coppice | C19: Turn 8 | D19: =$Q$3 -> 86.41 | E19: =$Q$5 -> 64.397536 | F19: =F18 + N(E19) -> 2484.6582
C20: Str 9 | E20: 545.45 | F20: =F19 + N(E20) -> 3030.1082
B21: Fogarty Esses | C21: Turn 9.1(left) | D21: =$R$3 -> 69.59 | E21: =$R$5 -> 45.109302 | F21: =F20 + N(E21) -> 3075.2175
C22: Turn 9.2(right) | D22: =$S$3 -> 64.07 | E22: =$S$5 -> 68.961395 | F22: =F21 + N(E22) -> 3144.1788
C23: Str 10 | E23: 391.59 | F23: =F22 + N(E23) -> 3535.7688
B24: Mebourne Hairpin | C24: Turn 10 | D24: =$T$3 -> 175.93 | E24: =$T$5 -> 65.863464 | F24: =F23 + N(E24) -> 3601.6323
C25: Str 11 | E25: 351.28 | F25: =F24 + N(E25) -> 3952.9123
B26: Goddards | C26: Trun 11 | D26: =$U$3 -> 148.4 | E26: =$U$5 -> 67.082777 | F26: =F25 + N(E26) -> 4019.9951
E27: Actural distance | F27: 4020
M32: Total simulation time: | Q32: =D440 -> 103.86778 | R32: Seconds
C35: Track
C36: Feature | D36: Time section | E36: Distance (M) | F36: Time | G36: Velocity m/s | H36: V^2 | I36: RPM | J36: Gear
C37: Start | E37: 0 | F37: =(E439-E438)/((G439+G438)/2) -> 0.57269711 | G37: =Cornering!$P$10 -> 17.461237 | I37: =LOOKUP(G37,'Max limit'!CD:CD,'Max limit'!CC:CC) -> 4980 | J37: 1 | L37: #N/A
C38: Str 1 | E38: 10 | F38: =(E38-E37)/((G38+G37)/2) -> 0.50461358 | G38: =SQRT(H38) -> 22.173051 | H38: =(G37^2)+(2*(LOOKUP(I37,'Max limit'!W:W,'Max limit'!Y:Y)*(E38-E37))) -> 491.64421 | I38: =LOOKUP(G38,'Max limit'!CE:CE,'Max limit'!CC:CC) -> 4880 | J38: 2 | L38: #N/A
C39: Str 1 | E39: =E38+10 -> 20 | F39: =(E39-E38)/((G39+G38)/2) -> 0.41473034 | G39: =SQRT(H39) -> 26.051055 | H39: =(G38^2)+(2*(LOOKUP(I38,'Max limit'!W:W,'Max limit'!Y:Y)*(E39-E38))) -> 678.65749 | I39: =LOOKUP(G39,'Max limit'!CE:CE,'Max limit'!CC:CC) -> 5760 | J39: 2 | L39: #N/A
C40: Str 1 | E40: =E39+10 -> 30 | F40: =(E40-E39)/((G40+G39)/2) -> 0.36081073 | G40: =SQRT(H40) -> 29.379669 | H40: =(G39^2)+(2*(LOOKUP(I39,'Max limit'!W:W,'Max limit'!Y:Y)*(E40-E39))) -> 863.16495 | I40: =LOOKUP(G40,'Max limit'!CE:CE,'Max limit'!CC:CC) -> 6420 | J40: 2 | L40: #N/A
C41: =$C$38 -> Str 1 | E41: =E40+10 -> 40 | F41: =(E41-E40)/((G41+G40)/2) -> 0.32407459 | G41: =SQRT(H41) -> 32.334518 | H41: =(G40^2)+(2*(LOOKUP(I40,'Max limit'!W:W,'Max limit'!Y:Y)*(E41-E40))) -> 1045.521 | I41: =LOOKUP(G41,'Max limit'!CE:CE,'Max limit'!CC:CC) -> 7080 | J41: 2 | L41: =AVERAGE(G37:G41) -> 25.479906
C42: =$C$38 -> Str 1 | E42: =E41+10 -> 50 | F42: =(E42-E41)/((G42+G41)/2) -> 0.29699345 | G42: =SQRT(H42) -> 35.007036 | H42: =(G41^2)+(2*(LOOKUP(I41,'Max limit'!W:W,'Max limit'!Y:Y)*(E42-E41))) -> 1225.4926 | I42: =LOOKUP(G42,'Max limit'!CE:CE,'Max limit'!CC:CC) -> 7740 | J42: 2 | L42: =AVERAGE(G38:G42) -> 28.989066
C43: =$C$38 -> Str 1 | E43: =E42+10 -> 60 | F43: =(E43-E42)/((G43+G42)/2) -> 0.27600815 | G43: =SQRT(H43) -> 37.454591 | H43: =(G42^2)+(2*(LOOKUP(I42,'Max limit'!W:W,'Max limit'!Y:Y)*(E43-E42))) -> 1402.8464 | I43: =LOOKUP(G43,'Max limit'!CE:CE,'Max limit'!CC:CC) -> 8180 | J43: 2 | L43: =AVERAGE(G39:G43) -> 32.045374
C44: =$C$38 -> Str 1 | E44: =E43+10 -> 70 | F44: =(E44-E43)/((G44+G43)/2) -> 0.2591253 | G44: =SQRT(H44) -> 39.728146 | H44: =(G43^2)+(2*(LOOKUP(I43,'Max limit'!W:W,'Max limit'!Y:Y)*(E44-E43))) -> 1578.3256 | I44: =LOOKUP(G44,'Max limit'!CE:CE,'Max limit'!CC:CC) -> 8730 | J44: 2 | L44: =AVERAGE(G40:G44) -> 34.780792
C45: =$C$38 -> Str 1 | E45: =E44+10 -> 80 | F45: =(E45-E44)/((G45+G44)/2) -> 0.24516753 | G45: =SQRT(H45) -> 41.848724 | H45: =(G44^2)+(2*(LOOKUP(I44,'Max limit'!W:W,'Max limit'!Y:Y)*(E45-E44))) -> 1751.3157 | I45: =LOOKUP(G45,'Max limit'!CE:CE,'Max limit'!CC:CC) -> 9160 | J45: 2 | L45: =AVERAGE(G41:G45) -> 37.274603
C46: =$C$38 -> Str 1 | E46: =E45+10 -> 90 | F46: =(E46-E45)/((G46+G45)/2) -> 0.23339357 | G46: =SQRT(H46) -> 43.843439 | H46: =(G45^2)+(2*(LOOKUP(I45,'Max limit'!W:W,'Max limit'!Y:Y)*(E46-E45))) -> 1922.2471 | I46: =LOOKUP(G46,'Max limit'!CE:CE,'Max limit'!CC:CC) -> 9600 | J46: 2 | L46: =AVERAGE(G42:G46) -> 39.576387
C47: =$C$38 -> Str 1 | E47: =E46+10 -> 100 | F47: =(E47-E46)/((G47+G46)/2) -> 0.22328766 | G47: =SQRT(H47) -> 45.727119 | H47: =(G46^2)+(2*(LOOKUP(I46,'Max limit'!W:W,'Max limit'!Y:Y)*(E47-E46))) -> 2090.9694 | I47: =LOOKUP(G47,'Max limit'!CE:CE,'Max limit'!CC:CC) -> 10040 | J47: 2 | L47: =AVERAGE(G43:G47) -> 41.720404
C48: =$C$38 -> Str 1 | E48: =E47+10 -> 110 | F48: =(E48-E47)/((G48+G47)/2) -> 0.21450251 | G48: =SQRT(H48) -> 47.511883 | H48: =(G47^2)+(2*(LOOKUP(I47,'Max limit'!W:W,'Max limit'!Y:Y)*(E48-E47))) -> 2257.379 | I48: =LOOKUP(G48,'Max limit'!CE:CE,'Max limit'!CC:CC) -> 10480 | J48: 2 | L48: =AVERAGE(G44:G48) -> 43.731862
C49: =$C$38 -> Str 1 | E49: =E48+10 -> 120 | F49: =(E49-E48)/((G49+G48)/2) -> 0.20678391 | G49: =SQRT(H49) -> 49.207441 | H49: =(G48^2)+(2*(LOOKUP(I48,'Max limit'!W:W,'Max limit'!Y:Y)*(E49-E48))) -> 2421.3722 | I49: =LOOKUP(G49,'Max limit'!CE:CE,'Max limit'!CC:CC) -> 10810 | J49: 2 | L49: =AVERAGE(G45:G49) -> 45.627721
C50: =$C$38 -> Str 1 | D50: =SUM(F38:F92) -> 11.376346 | E50: =E49+10 -> 130 | F50: =(E50-E49)/((G50+G49)/2) -> 0.20019823 | G50: =SQRT(H50) -> 50.693543 | H50: =(G49^2)+(2*(LOOKUP(I49,'Max limit'!W:W,'Max limit'!Z:Z)*(E50-E49))) -> 2569.8353 | I50: =LOOKUP(G50,'Max limit'!CF:CF,'Max limit'!CC:CC) -> 8910 | J50: 3 | L50: =AVERAGE(G46:G50) -> 47.396685
C51: =$C$38 -> Str 1 | E51: =E50+10 -> 140 | F51: =(E51-E50)/((G51+G50)/2) -> 0.19420309 | G51: =SQRT(H51) -> 52.291428 | H51: =(G50^2)+(2*(LOOKUP(I50,'Max limit'!W:W,'Max limit'!Z:Z)*(E51-E50))) -> 2734.3935 | I51: =LOOKUP(G51,'Max limit'!CF:CF,'Max limit'!CC:CC) -> 9180 | J51: 3 | L51: =AVERAGE(G47:G51) -> 49.086283
C52: =$C$38 -> Str 1 | E52: =E51+10 -> 150 | F52: =(E52-E51)/((G52+G51)/2) -> 0.1884768 | G52: =SQRT(H52) -> 53.822426 | H52: =(G51^2)+(2*(LOOKUP(I51,'Max limit'!W:W,'Max limit'!Z:Z)*(E52-E51))) -> 2896.8535 | I52: =LOOKUP(G52,'Max limit'!CF:CF,'Max limit'!CC:CC) -> 9440 | J52: 3 | L52: =AVERAGE(G48:G52) -> 50.705344
C53: =$C$38 -> Str 1 | E53: =E52+10 -> 160 | F53: =(E53-E52)/((G53+G52)/2) -> 0.18329339 | G53: =SQRT(H53) -> 55.292259 | H53: =(G52^2)+(2*(LOOKUP(I52,'Max limit'!W:W,'Max limit'!Z:Z)*(E53-E52))) -> 3057.2339 | I53: =LOOKUP(G53,'Max limit'!CF:CF,'Max limit'!CC:CC) -> 9700 | J53: 3 | L53: =AVERAGE(G49:G53) -> 52.26142
C54: =$C$38 -> Str 1 | E54: =E53+10 -> 170 | F54: =(E54-E53)/((G54+G53)/2) -> 0.17857552 | G54: =SQRT(H54) -> 56.705173 | H54: =(G53^2)+(2*(LOOKUP(I53,'Max limit'!W:W,'Max limit'!Z:Z)*(E54-E53))) -> 3215.4766 | I54: =LOOKUP(G54,'Max limit'!CF:CF,'Max limit'!CC:CC) -> 9970 | J54: 3 | L54: =AVERAGE(G50:G54) -> 53.760966
C55: =$C$38 -> Str 1 | E55: =E54+10 -> 180 | F55: =(E55-E54)/((G55+G54)/2) -> 0.17426269 | G55: =SQRT(H55) -> 58.064084 | H55: =(G54^2)+(2*(LOOKUP(I54,'Max limit'!W:W,'Max limit'!Z:Z)*(E55-E54))) -> 3371.4379 | I55: =LOOKUP(G55,'Max limit'!CF:CF,'Max limit'!CC:CC) -> 10230 | J55: 3 | L55: =AVERAGE(G51:G55) -> 55.235074
C56: =$C$38 -> Str 1 | E56: =E55+10 -> 190 | F56: =(E56-E55)/((G56+G55)/2) -> 0.17030408 | G56: =SQRT(H56) -> 59.372916 | H56: =(G55^2)+(2*(LOOKUP(I55,'Max limit'!W:W,'Max limit'!Z:Z)*(E56-E55))) -> 3525.1431 | I56: =LOOKUP(G56,'Max limit'!CF:CF,'Max limit'!CC:CC) -> 10410 | J56: 3 | L56: =AVERAGE(G52:G56) -> 56.651372
C57: =$C$38 -> Str 1 | E57: =E56+10 -> 200 | F57: =(E57-E56)/((G57+G56)/2) -> 0.16664824 | G57: =SQRT(H57) -> 60.640353 | H57: =(G56^2)+(2*(LOOKUP(I56,'Max limit'!W:W,'Max limit'!Z:Z)*(E57-E56))) -> 3677.2524 | I57: =LOOKUP(G57,'Max limit'!CF:CF,'Max limit'!CC:CC) -> 10670 | J57: 3 | L57: =AVERAGE(G53:G57) -> 58.014957
C58: =$C$38 -> Str 1 | E58: =E57+10 -> 210 | F58: =(E58-E57)/((G58+G57)/2) -> 0.16326109 | G58: =SQRT(H58) -> 61.86281 | H58: =(G57^2)+(2*(LOOKUP(I57,'Max limit'!W:W,'Max limit'!Z:Z)*(E58-E57))) -> 3827.0073 | I58: =LOOKUP(G58,'Max limit'!CF:CF,'Max limit'!CC:CC) -> 10840 | J58: 3 | L58: =AVERAGE(G54:G58) -> 59.329067
C59: =$C$38 -> Str 1 | E59: =E58+10 -> 220 | F59: =(E59-E58)/((G59+G58)/2) -> 0.16011281 | G59: =SQRT(H59) -> 63.049119 | H59: =(G58^2)+(2*(LOOKUP(I58,'Max limit'!W:W,'Max limit'!Z:Z)*(E59-E58))) -> 3975.1914 | I59: =LOOKUP(G59,'Max limit'!CF:CF,'Max limit'!CC:CC) -> 10890 | J59: 3 | L59: =AVERAGE(G55:G59) -> 60.597856
C60: =$C$38 -> Str 1 | E60: =E59+10 -> 230 | F60: =(E60-E59)/((G60+G59)/2) -> 0.15736484 | G60: =SQRT(H60) -> 64.044072 | H60: =(G59^2)+(2*(LOOKUP(I59,'Max limit'!W:W,'Max limit'!AA:AA)*(E60-E59))) -> 4101.6432 | I60: =LOOKUP(G60,'Max limit'!CG:CG,'Max limit'!CC:CC) -> 9400 | J60: 4 | L60: =AVERAGE(G56:G60) -> 61.793854
C61: =$C$38 -> Str 1 | E61: =E60+10 -> 240 | F61: =(E61-E60)/((G61+G60)/2) -> 0.15478339 | G61: =SQRT(H61) -> 65.168762 | H61: =(G60^2)+(2*(LOOKUP(I60,'Max limit'!W:W,'Max limit'!AA:AA)*(E61-E60))) -> 4246.9675 | I61: =LOOKUP(G61,'Max limit'!CG:CG,'Max limit'!CC:CC) -> 9550 | J61: 4 | L61: =AVERAGE(G57:G61) -> 62.953023
C62: =$C$38 -> Str 1 | E62: =E61+10 -> 250 | F62: =(E62-E61)/((G62+G61)/2) -> 0.15217256 | G62: =SQRT(H62) -> 66.260979 | H62: =(G61^2)+(2*(LOOKUP(I61,'Max limit'!W:W,'Max limit'!AA:AA)*(E62-E61))) -> 4390.5173 | I62: =LOOKUP(G62,'Max limit'!CG:CG,'Max limit'!CC:CC) -> 9700 | J62: 4 | L62: =AVERAGE(G58:G62) -> 64.077148
C63: =$C$38 -> Str 1 | E63: =E62+10 -> 260 | F63: =(E63-E62)/((G63+G62)/2) -> 0.14971957 | G63: =SQRT(H63) -> 67.322097 | H63: =(G62^2)+(2*(LOOKUP(I62,'Max limit'!W:W,'Max limit'!AA:AA)*(E63-E62))) -> 4532.2647 | I63: =LOOKUP(G63,'Max limit'!CG:CG,'Max limit'!CC:CC) -> 9840 | J63: 4 | L63: =AVERAGE(G59:G63) -> 65.169006
C64: =$C$38 -> Str 1 | E64: =E63+10 -> 270 | F64: =(E64-E63)/((G64+G63)/2) -> 0.14740962 | G64: =SQRT(H64) -> 68.354256 | H64: =(G63^2)+(2*(LOOKUP(I63,'Max limit'!W:W,'Max limit'!AA:AA)*(E64-E63))) -> 4672.3043 | I64: =LOOKUP(G64,'Max limit'!CG:CG,'Max limit'!CC:CC) -> 9990 | J64: 4 | L64: =AVERAGE(G60:G64) -> 66.230033
C65: =$C$38 -> Str 1 | E65: =E64+10 -> 280 | F65: =(E65-E64)/((G65+G64)/2) -> 0.1452307 | G65: =SQRT(H65) -> 69.357675 | H65: =(G64^2)+(2*(LOOKUP(I64,'Max limit'!W:W,'Max limit'!AA:AA)*(E65-E64))) -> 4810.4871 | I65: =LOOKUP(G65,'Max limit'!CG:CG,'Max limit'!CC:CC) -> 10130 | J65: 4 | L65: =AVERAGE(G61:G65) -> 67.292754
C66: =$C$38 -> Str 1 | E66: =E65+10 -> 290 | F66: =(E66-E65)/((G66+G65)/2) -> 0.14317216 | G66: =SQRT(H66) -> 70.334284 | H66: =(G65^2)+(2*(LOOKUP(I65,'Max limit'!W:W,'Max limit'!AA:AA)*(E66-E65))) -> 4946.9115 | I66: =LOOKUP(G66,'Max limit'!CG:CG,'Max limit'!CC:CC) -> 10280 | J66: 4 | L66: =AVERAGE(G62:G66) -> 68.325858
C67: =$C$38 -> Str 1 | E67: =E66+10 -> 300 | F67: =(E67-E66)/((G67+G66)/2) -> 0.14122459 | G67: =SQRT(H67) -> 71.284113 | H67: =(G66^2)+(2*(LOOKUP(I66,'Max limit'!W:W,'Max limit'!AA:AA)*(E67-E66))) -> 5081.4247 | I67: =LOOKUP(G67,'Max limit'!CG:CG,'Max limit'!CC:CC) -> 10430 | J67: 4 | L67: =AVERAGE(G63:G67) -> 69.330485
C68: =$C$38 -> Str 1 | E68: =E67+10 -> 310 | F68: =(E68-E67)/((G68+G67)/2) -> 0.13938046 | G68: =SQRT(H68) -> 72.208024 | H68: =(G67^2)+(2*(LOOKUP(I67,'Max limit'!W:W,'Max limit'!AA:AA)*(E68-E67))) -> 5213.9987 | I68: =LOOKUP(G68,'Max limit'!CG:CG,'Max limit'!CC:CC) -> 10570 | J68: 4 | L68: =AVERAGE(G64:G68) -> 70.30767
C69: =$C$38 -> Str 1 | E69: =E68+10 -> 320 | F69: =(E69-E68)/((G69+G68)/2) -> 0.13763134 | G69: =SQRT(H69) -> 73.107711 | H69: =(G68^2)+(2*(LOOKUP(I68,'Max limit'!W:W,'Max limit'!AA:AA)*(E69-E68))) -> 5344.7374 | I69: =LOOKUP(G69,'Max limit'!CG:CG,'Max limit'!CC:CC) -> 10720 | J69: 4 | L69: =AVERAGE(G65:G69) -> 71.258361
C70: =$C$38 -> Str 1 | E70: =E69+10 -> 330 | F70: =(E70-E69)/((G70+G69)/2) -> 0.13597053 | G70: =SQRT(H70) -> 73.982988 | H70: =(G69^2)+(2*(LOOKUP(I69,'Max limit'!W:W,'Max limit'!AA:AA)*(E70-E69))) -> 5473.4825 | I70: =LOOKUP(G70,'Max limit'!CG:CG,'Max limit'!CC:CC) -> 10790 | J70: 4 | L70: =AVERAGE(G66:G70) -> 72.183424
C71: =$C$38 -> Str 1 | E71: =E70+10 -> 340 | F71: =(E71-E70)/((G71+G70)/2) -> 0.13438626 | G71: =SQRT(H71) -> 74.841751 | H71: =(G70^2)+(2*(LOOKUP(I70,'Max limit'!W:W,'Max limit'!AA:AA)*(E71-E70))) -> 5601.2877 | I71: =LOOKUP(G71,'Max limit'!CG:CG,'Max limit'!CC:CC) -> 10890 | J71: 4 | L71: =AVERAGE(G67:G71) -> 73.084917
C72: =$C$38 -> Str 1 | E72: =E71+10 -> 350 | F72: =(E72-E71)/((G72+G71)/2) -> 0.13286955 | G72: =SQRT(H72) -> 75.681831 | H72: =(G71^2)+(2*(LOOKUP(I71,'Max limit'!W:W,'Max limit'!AA:AA)*(E72-E71))) -> 5727.7396 | I72: =LOOKUP(G72,'Max limit'!CG:CG,'Max limit'!CC:CC) -> 10890 | J72: 4 | L72: =AVERAGE(G68:G72) -> 73.964461
C73: =$C$38 -> Str 1 | E73: =E72+10 -> 360 | F73: =(E73-E72)/((G73+G72)/2) -> 0.13375471 | G73: =SQRT(H73) -> 73.845615 | H73: =(G72^2)+(2*(LOOKUP(I72,'Max limit'!AH:AH,'Max limit'!AJ:AJ)*(E73-E72))) -> 5453.1749 | I73: =LOOKUP(G73,'Max limit'!CF:CF,'Max limit'!CC:CC) -> 10890 | J73: 4 | L73: =AVERAGE(G69:G73) -> 74.291979
C74: =$C$38 -> Str 1 | E74: =E73+10 -> 370 | F74: =(E74-E73)/((G74+G73)/2) -> 0.13716652 | G74: =SQRT(H74) -> 71.962561 | H74: =(G73^2)+(2*(LOOKUP(I73,'Max limit'!AH:AH,'Max limit'!AJ:AJ)*(E74-E73))) -> 5178.6103 | I74: =LOOKUP(G74,'Max limit'!CF:CF,'Max limit'!CC:CC) -> 10890 | J74: 3 | L74: =AVERAGE(G70:G74) -> 74.062949
C75: =$C$38 -> Str 1 | E75: =E74+10 -> 380 | F75: =(E75-E74)/((G75+G74)/2) -> 0.14085355 | G75: =SQRT(H75) -> 70.028891 | H75: =(G74^2)+(2*(LOOKUP(I74,'Max limit'!AH:AH,'Max limit'!AJ:AJ)*(E75-E74))) -> 4904.0456 | I75: =LOOKUP(G75,'Max limit'!CF:CF,'Max limit'!CC:CC) -> 10890 | J75: 3 | L75: =AVERAGE(G71:G75) -> 73.27213
C76: =$C$38 -> Str 1 | E76: =E75+10 -> 390 | F76: =(E76-E75)/((G76+G75)/2) -> 0.14485492 | G76: =SQRT(H76) -> 68.040289 | H76: =(G75^2)+(2*(LOOKUP(I75,'Max limit'!AH:AH,'Max limit'!AJ:AJ)*(E76-E75))) -> 4629.481 | I76: =LOOKUP(G76,'Max limit'!CF:CF,'Max limit'!CC:CC) -> 10890 | J76: 3 | L76: =AVERAGE(G72:G76) -> 71.911838
C77: =$C$38 -> Str 1 | E77: =E76+10 -> 400 | F77: =(E77-E76)/((G77+G76)/2) -> 0.14921801 | G77: =SQRT(H77) -> 65.99179 | H77: =(G76^2)+(2*(LOOKUP(I76,'Max limit'!AH:AH,'Max limit'!AJ:AJ)*(E77-E76))) -> 4354.9163 | I77: =LOOKUP(G77,'Max limit'!CF:CF,'Max limit'!CC:CC) -> 10890 | J77: 3 | L77: =AVERAGE(G73:G77) -> 69.973829
C78: =$C$38 -> Str 1 | E78: =E77+10 -> 410 | F78: =(E78-E77)/((G78+G77)/2) -> 0.15400084 | G78: =SQRT(H78) -> 63.87763 | H78: =(G77^2)+(2*(LOOKUP(I77,'Max limit'!AH:AH,'Max limit'!AJ:AJ)*(E78-E77))) -> 4080.3517 | I78: =LOOKUP(G78,'Max limit'!CF:CF,'Max limit'!CC:CC) -> 10890 | J78: 3 | L78: =AVERAGE(G74:G78) -> 67.980232
C79: =$C$38 -> Str 1 | E79: =E78+10 -> 420 | F79: =(E79-E78)/((G79+G78)/2) -> 0.15927537 | G79: =SQRT(H79) -> 61.691061 | H79: =(G78^2)+(2*(LOOKUP(I78,'Max limit'!AH:AH,'Max limit'!AJ:AJ)*(E79-E78))) -> 3805.787 | I79: =LOOKUP(G79,'Max limit'!CF:CF,'Max limit'!CC:CC) -> 10840 | J79: 3 | L79: =AVERAGE(G75:G79) -> 65.925932
C80: =$C$38 -> Str 1 | E80: =E79+10 -> 430 | F80: =(E80-E79)/((G80+G79)/2) -> 0.16513211 | G80: =SQRT(H80) -> 59.424089 | H80: =(G79^2)+(2*(LOOKUP(I79,'Max limit'!AH:AH,'Max limit'!AJ:AJ)*(E80-E79))) -> 3531.2224 | I80: =LOOKUP(G80,'Max limit'!CF:CF,'Max limit'!CC:CC) -> 10410 | J80: 3 | L80: =AVERAGE(G76:G80) -> 63.804972
C81: =$C$38 -> Str 1 | E81: =E80+10 -> 440 | F81: =(E81-E80)/((G81+G80)/2) -> 0.17168676 | G81: =SQRT(H81) -> 57.067133 | H81: =(G80^2)+(2*(LOOKUP(I80,'Max limit'!AH:AH,'Max limit'!AJ:AJ)*(E81-E80))) -> 3256.6577 | I81: =LOOKUP(G81,'Max limit'!CF:CF,'Max limit'!CC:CC) -> 10050 | J81: 3 | L81: =AVERAGE(G77:G81) -> 61.610341
C82: =$C$38 -> Str 1 | E82: =E81+10 -> 450 | F82: =(E82-E81)/((G82+G81)/2) -> 0.17909003 | G82: =SQRT(H82) -> 54.608544 | H82: =(G81^2)+(2*(LOOKUP(I81,'Max limit'!AH:AH,'Max limit'!AJ:AJ)*(E82-E81))) -> 2982.0931 | I82: =LOOKUP(G82,'Max limit'!CF:CF,'Max limit'!CC:CC) -> 9610 | J82: 3 | L82: =AVERAGE(G78:G82) -> 59.333692
C83: =$C$38 -> Str 1 | E83: =E82+10 -> 460 | F83: =(E83-E82)/((G83+G82)/2) -> 0.18754256 | G83: =SQRT(H83) -> 52.033916 | H83: =(G82^2)+(2*(LOOKUP(I82,'Max limit'!AH:AH,'Max limit'!AJ:AJ)*(E83-E82))) -> 2707.5284 | I83: =LOOKUP(G83,'Max limit'!CE:CE,'Max limit'!CC:CC) -> 10890 | J83: 3 | L83: =AVERAGE(G79:G83) -> 56.964949
C84: =$C$38 -> Str 1 | E84: =E83+10 -> 470 | F84: =(E84-E83)/((G84+G83)/2) -> 0.19692197 | G84: =SQRT(H84) -> 49.529157 | H84: =(G83^2)+(2*(LOOKUP(I83,'Max limit'!AH:AH,'Max limit'!AI:AI)*(E84-E83))) -> 2453.1374 | I84: =LOOKUP(G84,'Max limit'!CF:CF,'Max limit'!CC:CC) -> 8740 | J84: 2 | L84: =AVERAGE(G80:G84) -> 54.532568
C85: =$C$38 -> Str 1 | E85: =E84+10 -> 480 | F85: =(E85-E84)/((G85+G84)/2) -> 0.20742596 | G85: =SQRT(H85) -> 46.890791 | H85: =(G84^2)+(2*(LOOKUP(I84,'Max limit'!AH:AH,'Max limit'!AI:AI)*(E85-E84))) -> 2198.7463 | I85: =LOOKUP(G85,'Max limit'!CE:CE,'Max limit'!CC:CC) -> 10260 | J85: 2 | L85: =AVERAGE(G81:G85) -> 52.025908
C86: =$C$38 -> Str 1 | E86: =E85+10 -> 490 | F86: =(E86-E85)/((G86+G85)/2) -> 0.21981492 | G86: =SQRT(H86) -> 44.094844 | H86: =(G85^2)+(2*(LOOKUP(I85,'Max limit'!AH:AH,'Max limit'!AI:AI)*(E86-E85))) -> 1944.3553 | I86: =LOOKUP(G86,'Max limit'!CF:CF,'Max limit'!CC:CC) -> 7770 | J86: 2 | L86: =AVERAGE(G82:G86) -> 49.43145
C87: =$C$38 -> Str 1 | E87: =E86+10 -> 500 | F87: =(E87-E86)/((G87+G86)/2) -> 0.23473071 | G87: =SQRT(H87) -> 41.109174 | H87: =(G86^2)+(2*(LOOKUP(I86,'Max limit'!AH:AH,'Max limit'!AI:AI)*(E87-E86))) -> 1689.9642 | I87: =LOOKUP(G87,'Max limit'!CE:CE,'Max limit'!CC:CC) -> 9050 | J87: 2 | L87: =AVERAGE(G83:G87) -> 46.731576
C88: =$C$38 -> Str 1 | E88: =E87+10 -> 510 | F88: =(E88-E87)/((G88+G87)/2) -> 0.25317054 | G88: =SQRT(H88) -> 37.888958 | H88: =(G87^2)+(2*(LOOKUP(I87,'Max limit'!AH:AH,'Max limit'!AI:AI)*(E88-E87))) -> 1435.5732 | I88: =LOOKUP(G88,'Max limit'!CE:CE,'Max limit'!CC:CC) -> 8290 | J88: 2 | L88: =AVERAGE(G84:G88) -> 43.902585
C89: =$C$38 -> Str 1 | E89: =E88+10 -> 520 | F89: =(E89-E88)/((G89+G88)/2) -> 0.27595344 | G89: =SQRT(H89) -> 34.587035 | H89: =(G88^2)+(2*(LOOKUP(I88,'Max limit'!AG:AG,'Max limit'!AI:AI)*(E89-E88))) -> 1196.263 | I89: =LOOKUP(G89,'Max limit'!CE:CE,'Max limit'!CC:CC) -> 7630 | J89: 2 | L89: =AVERAGE(G85:G89) -> 40.914161
C90: =$C$38 -> Str 1 | E90: =E89+10 -> 530 | F90: =(E90-E89)/((G90+G89)/2) -> 0.30500356 | G90: =SQRT(H90) -> 30.985971 | H90: =(G89^2)+(2*(LOOKUP(I89,'Max limit'!AG:AG,'Max limit'!AI:AI)*(E90-E89))) -> 960.1304 | I90: =LOOKUP(G90,'Max limit'!CE:CE,'Max limit'!CC:CC) -> 6750 | J90: 2 | L90: =AVERAGE(G86:G90) -> 37.733197
C91: =$C$38 -> Str 1 | E91: =E90+10 -> 540 | F91: =(E91-E90)/((G91+G90)/2) -> 0.34504058 | G91: =SQRT(H91) -> 26.978226 | H91: =(G90^2)+(2*(LOOKUP(I90,'Max limit'!AG:AG,'Max limit'!AI:AI)*(E91-E90))) -> 727.82468 | I91: =LOOKUP(G91,'Max limit'!CE:CE,'Max limit'!CC:CC) -> 5870 | J91: 2 | L91: =AVERAGE(G87:G91) -> 34.309873
C92: =$C$38 -> Str 1 | E92: =E91+10 -> 550 | F92: =(E92-E91)/((G92+G91)/2) -> 0.40556606 | G92: =SQRT(H92) -> 22.335565 | H92: =(G91^2)+(2*(LOOKUP(I91,'Max limit'!AG:AG,'Max limit'!AI:AI)*(E92-E91))) -> 498.87748 | I92: =LOOKUP(G92,'Max limit'!CE:CE,'Max limit'!CC:CC) -> 4880 | J92: 2 | L92: =AVERAGE(G88:G92) -> 30.555151
C93: Turn 1 | E93: =E92+10 -> 560 | F93: =(E93-E92)/((G93+G92)/2) -> 0.40953759 | G93: =MROUND(Cornering!$E$10,0.5) -> 26.5 | I93: =LOOKUP(G93,'Max limit'!CD:CD,'Max limit'!CC:CC) -> 7720 | J93: 1 | L93: =AVERAGE(G89:G93) -> 28.27736
C94: =$C$93 -> Turn 1 | E94: =E93+10 -> 570 | F94: =(E94-E93)/((G94+G93)/2) -> 0.37735849 | G94: =MROUND(Cornering!$E$10,0.5) -> 26.5 | I94: =LOOKUP(G94,'Max limit'!CD:CD,'Max limit'!CC:CC) -> 7720 | J94: 1 | L94: =AVERAGE(G90:G94) -> 26.659952
C95: =$C$93 -> Turn 1 | E95: =E94+10 -> 580 | F95: =(E95-E94)/((G95+G94)/2) -> 0.37735849 | G95: =MROUND(Cornering!$E$10,0.5) -> 26.5 | I95: =LOOKUP(G95,'Max limit'!CD:CD,'Max limit'!CC:CC) -> 7720 | J95: 1 | L95: =AVERAGE(G91:G95) -> 25.762758
C96: =$C$93 -> Turn 1 | E96: =E95+10 -> 590 | F96: =(E96-E95)/((G96+G95)/2) -> 0.37735849 | G96: =MROUND(Cornering!$E$10,0.5) -> 26.5 | I96: =LOOKUP(G96,'Max limit'!CD:CD,'Max limit'!CC:CC) -> 7720 | J96: 1 | L96: =AVERAGE(G92:G96) -> 25.667113
C97: =$C$93 -> Turn 1 | E97: =E96+10 -> 600 | F97: =(E97-E96)/((G97+G96)/2) -> 0.37735849 | G97: =MROUND(Cornering!$E$10,0.5) -> 26.5 | I97: =LOOKUP(G97,'Max limit'!CD:CD,'Max limit'!CC:CC) -> 7720 | J97: 1 | L97: =AVERAGE(G93:G97) -> 26.5
C98: =$C$93 -> Turn 1 | E98: =E97+10 -> 610 | F98: =(E98-E97)/((G98+G97)/2) -> 0.37735849 | G98: =MROUND(Cornering!$E$10,0.5) -> 26.5 | I98: =LOOKUP(G98,'Max limit'!CD:CD,'Max limit'!CC:CC) -> 7720 | J98: 1 | L98: =AVERAGE(G94:G98) -> 26.5
C99: =$C$93 -> Turn 1 | D99: =SUM(F93:F105) -> 4.9378395 | E99: =E98+10 -> 620 | F99: =(E99-E98)/((G99+G98)/2) -> 0.37735849 | G99: =MROUND(Cornering!$E$10,0.5) -> 26.5 | I99: =LOOKUP(G99,'Max limit'!CD:CD,'Max limit'!CC:CC) -> 7720 | J99: 1 | L99: =AVERAGE(G95:G99) -> 26.5
C100: =$C$93 -> Turn 1 | E100: =E99+10 -> 630 | F100: =(E100-E99)/((G100+G99)/2) -> 0.37735849 | G100: =MROUND(Cornering!$E$10,0.5) -> 26.5 | I100: =LOOKUP(G100,'Max limit'!CD:CD,'Max limit'!CC:CC) -> 7720 | J100: 1 | L100: =AVERAGE(G96:G100) -> 26.5
C101: =$C$93 -> Turn 1 | E101: =E100+10 -> 640 | F101: =(E101-E100)/((G101+G100)/2) -> 0.37735849 | G101: =MROUND(Cornering!$E$10,0.5) -> 26.5 | I101: =LOOKUP(G101,'Max limit'!CD:CD,'Max limit'!CC:CC) -> 7720 | J101: 1 | L101: =AVERAGE(G97:G101) -> 26.5
C102: =$C$93 -> Turn 1 | E102: =E101+10 -> 650 | F102: =(E102-E101)/((G102+G101)/2) -> 0.37735849 | G102: =MROUND(Cornering!$E$10,0.5) -> 26.5 | I102: =LOOKUP(G102,'Max limit'!CD:CD,'Max limit'!CC:CC) -> 7720 | J102: 1 | L102: =AVERAGE(G98:G102) -> 26.5
C103: =$C$93 -> Turn 1 | E103: =E102+10 -> 660 | F103: =(E103-E102)/((G103+G102)/2) -> 0.37735849 | G103: =MROUND(Cornering!$E$10,0.5) -> 26.5 | I103: =LOOKUP(G103,'Max limit'!CD:CD,'Max limit'!CC:CC) -> 7720 | J103: 1 | L103: =AVERAGE(G99:G103) -> 26.5
C104: =$C$93 -> Turn 1 | E104: =E103+10 -> 670 | F104: =(E104-E103)/((G104+G103)/2) -> 0.37735849 | G104: =MROUND(Cornering!$E$10,0.5) -> 26.5 | I104: =LOOKUP(G104,'Max limit'!CD:CD,'Max limit'!CC:CC) -> 7720 | J104: 1 | L104: =AVERAGE(G100:G104) -> 26.5
C105: =$C$93 -> Turn 1 | E105: =E104+10 -> 680 | F105: =(E105-E104)/((G105+G104)/2) -> 0.37735849 | G105: =MROUND(Cornering!$E$10,0.5) -> 26.5 | I105: =LOOKUP(G105,'Max limit'!CD:CD,'Max limit'!CC:CC) -> 7720 | J105: 1 | L105: =AVERAGE(G101:G105) -> 26.5
C106: Str 2 | E106: =E105+10 -> 690 | F106: =(E106-E105)/((G106+G105)/2) -> 0.35608169 | G106: =SQRT(H106) -> 29.666887 | H106: =(G105^2)+(2*(LOOKUP(I105,'Max limit'!W:W,'Max limit'!X:X)*('Track spec'!E106-'Track spec'!E105))) -> 880.12417 | I106: =LOOKUP(G105,'Max limit'!CD:CD,'Max limit'!CC:CC) -> 7720 | J106: 1 | L106: =AVERAGE(G102:G106) -> 27.133377
...

Sheet 2D export
A1: BrakingUDL_RHT2 | B1: Gear | C1: V_Front57 | D1: Distance | F1: Speed m/s
A2: N | B2: # | C2: km/h | D2: =(ROW()-2)*5 -> 0
A3: 0 | B3: 0 | C3: 0 | D3: =(ROW()-2)*5 -> 5 | F3: =C3/3.6 -> 0
A4: 0 | B4: 1 | C4: 11.1 | D4: =(ROW()-2)*5 -> 10 | F4: =C4/3.6 -> 3.0833333
A5: 0 | B5: 1 | C5: 19.3 | D5: =(ROW()-2)*5 -> 15 | F5: =C5/3.6 -> 5.3611111
A6: 0 | B6: 1 | C6: 24.2 | D6: =(ROW()-2)*5 -> 20 | F6: =C6/3.6 -> 6.7222222
A7: 0 | B7: 2 | C7: 25 | D7: =(ROW()-2)*5 -> 25 | F7: =C7/3.6 -> 6.9444444
A8: 0 | B8: 2 | C8: 25.9 | D8: =(ROW()-2)*5 -> 30 | F8: =C8/3.6 -> 7.1944444
A9: 0 | B9: 2 | C9: 25.4 | D9: =(ROW()-2)*5 -> 35 | F9: =C9/3.6 -> 7.0555556
A10: 0 | B10: 2 | C10: 26.3 | D10: =(ROW()-2)*5 -> 40 | F10: =C10/3.6 -> 7.3055556
A11: 0 | B11: 2 | C11: 28.1 | D11: =(ROW()-2)*5 -> 45 | F11: =C11/3.6 -> 7.8055556
A12: 0 | B12: 2 | C12: 30.8 | D12: =(ROW()-2)*5 -> 50 | F12: =C12/3.6 -> 8.5555556
A13: 0 | B13: 2 | C13: 33.4 | D13: =(ROW()-2)*5 -> 55 | F13: =C13/3.6 -> 9.2777778
A14: 0 | B14: 2 | C14: 34.7 | D14: =(ROW()-2)*5 -> 60 | F14: =C14/3.6 -> 9.6388889
... A7853: 3.6 | B7853: 0 | C7853: 38.7 | D7853: =(ROW()-2)*5 -> 39255 | F7853: =C7853/3.6 -> 10.75

Sheet 2D_clean
A1: Time | B1: Time Lap | C1: Dist | D1: Distance lap | E1: Gear | F1: V_Front57 | G1: BrakingUDL_RHT2 | H1: Speed
A2: s | B2: s | C2: m | D2: m | F2: km/h | G2: N | H2: m/s
A3: 1006.069 | B3: =A3-$A$3 -> 0 | C3: 27694 | D3: =C3-$C$3 -> 0 | E3: 4 | F3: 195.4 | G3: 0 | H3: =F3/3.6 -> 54.277778
A4: 1006.252 | B4: =A4-$A$3 -> 0.183 | C4: 27704 | D4: =C4-$C$3 -> 10 | E4: 4 | F4: 197.8 | G4: 0 | H4: =F4/3.6 -> 54.944444
A5: 1006.431 | B5: =A5-$A$3 -> 0.362 | C5: 27714 | D5: =C5-$C$3 -> 20 | E5: 4 | F5: 201.3 | G5: 0 | H5: =F5/3.6 -> 55.916667
A6: 1006.608 | B6: =A6-$A$3 -> 0.539 | C6: 27724 | D6: =C6-$C$3 -> 30 | E6: 4 | F6: 204.1 | G6: 0 | H6: =F6/3.6 -> 56.694444
A7: 1006.783 | B7: =A7-$A$3 -> 0.714 | C7: 27734 | D7: =C7-$C$3 -> 40 | E7: 4 | F7: 206.4 | G7: 0 | H7: =F7/3.6 -> 57.333333
A8: 1006.955 | B8: =A8-$A$3 -> 0.886 | C8: 27744 | D8: =C8-$C$3 -> 50 | E8: 4 | F8: 209 | G8: 0 | H8: =F8/3.6 -> 58.055556
A9: 1007.126 | B9: =A9-$A$3 -> 1.057 | C9: 27754 | D9: =C9-$C$3 -> 60 | E9: 4 | F9: 211.6 | G9: 0 | H9: =F9/3.6 -> 58.777778
A10: 1007.294 | B10: =A10-$A$3 -> 1.225 | C10: 27764 | D10: =C10-$C$3 -> 70 | E10: 4 | F10: 213.5 | G10: 0 | H10: =F10/3.6 -> 59.305556
A11: 1007.461 | B11: =A11-$A$3 -> 1.392 | C11: 27774 | D11: =C11-$C$3 -> 80 | E11: 4 | F11: 214.7 | G11: 0 | H11: =F11/3.6 -> 59.638889
A12: 1007.627 | B12: =A12-$A$3 -> 1.558 | C12: 27784 | D12: =C12-$C$3 -> 90 | E12: 4 | F12: 218.4 | G12: 0 | H12: =F12/3.6 -> 60.666667
A13: 1007.791 | B13: =A13-$A$3 -> 1.722 | C13: 27794 | D13: =C13-$C$3 -> 100 | E13: 4 | F13: 215.8 | G13: 29 | H13: =F13/3.6 -> 59.944444
A14: 1007.959 | B14: =A14-$A$3 -> 1.89 | C14: 27804 | D14: =C14-$C$3 -> 110 | E14: 4 | F14: 211.1 | G14: 29 | H14: =F14/3.6 -> 58.638889
... A397: 1111.729 | B397: =A397-$A$3 -> 105.66 | C397: 31634 | D397: =C397-$C$3 -> 3940 | E397: 4 | F397: 192.6 | G397: 0 | H397: =F397/3.6 -> 53.5

Sheet Cornering
A3: WheelBase | B3: =Input!F13/1000 -> 1.437 | C3: m | E3: Corner radius
A4: CoG height | B4: =Input!h_mm/1000 -> 0.65995 | C4: m | E4: Turn 1 | F4: Turn 2 | G4: Turn 3 | H4: Turn 4 | I4: Turn 5 | J4: Turn 6 | K4: Turn 7 | L4: Turn 8 | M4: Turn 9.1 | N4: Turn 9.2 | O4: Turn 10 | P4: Turn 11
A5: Tyre grip | B5: ='Max limit'!$H$11 -> 1.2 | C5: mu | E5: 58.7 | F5: 210.51 | G5: 123.53 | H5: 43.43 | I5: 105.86 | J5: 169.31 | K5: 79.84 | L5: 42.7 | M5: 37.14 | N5: 61.67 | O5: ='Track spec'!T4 -> 21.45 | P5: 25.9
A6: Gravity | B6: 9.81 | C6: m/s^2 | E6: Max corner speed
A7: Max lean angle | B7: =DEGREES(ATAN(B5)) -> 50.194429 | D7: Vmax (m/s) | E7: =SQRT($B$5*$B$6*E5) -> 26.287191 | F7: =SQRT($B$5*$B$6*F5) -> 49.780757 | G7: =SQRT($B$5*$B$6*G5) -> 38.133911 | H7: =SQRT($B$5*$B$6*H5) -> 22.611014 | I7: =SQRT($B$5*$B$6*I5) -> 35.30133 | J7: =SQRT($B$5*$B$6*J5) -> 44.644343 | K7: =SQRT($B$5*$B$6*K5) -> 30.657405 | L7: =SQRT($B$5*$B$6*L5) -> 22.420178 | ... P7: =SQRT($B$5*$B$6*P5) -> 17.461237
D8: Vmax (km/h) | E8: =E7*3.6 -> 94.633887 | F8: =F7*3.6 -> 179.21072 | G8: =G7*3.6 -> 137.28208 | H8: =H7*3.6 -> 81.399651 | I8: =I7*3.6 -> 127.08479 | J8: =J7*3.6 -> 160.71963 | K8: =K7*3.6 -> 110.36666 | L8: =L7*3.6 -> 80.712642 | ... P8: =P7*3.6 -> 62.860453
A9: Max lateral accel (m/s²) | B9: =9.81 * TAN(B11) -> 11.772
A10: Max lateral accel (g) | B10: =B9/$B$6 -> 1.2 | D10: Vcorner/steady state (m/s) | E10: =SQRT(E5 * $B$6 * TAN(RADIANS($B$7))) -> 26.287191 | F10: =SQRT(F5 * $B$6 * TAN(RADIANS($B$7))) -> 49.780757 | G10: =SQRT(G5 * $B$6 * TAN(RADIANS($B$7))) -> 38.133911 | H10: =SQRT(H5 * $B$6 * TAN(RADIANS($B$7))) -> 22.611014 | I10: =SQRT(I5 * $B$6 * TAN(RADIANS($B$7))) -> 35.30133 | J10: =SQRT(J5 * $B$6 * TAN(RADIANS($B$7))) -> 44.644343 | K10: =SQRT(K5 * $B$6 * TAN(RADIANS($B$7))) -> 30.657405 | L10: =SQRT(L5 * $B$6 * TAN(RADIANS($B$7))) -> 22.420178 | ... P10: =SQRT(P5 * $B$6 * TAN(RADIANS($B$7))) -> 17.461237
A11: Max lean angle (rad) | B11: =ATAN($B$5) -> 0.87605805
A12: Lean-limited accel (m/s²) | B12: =B9 -> 11.772
A13: Straight accel (m/s^2) | B13: 6
A14: max limit Forward accel m/s²) | B14: 4.83

Sheet Max limit
A1: RPM | B1: Normalised power [BHP] | C1: Engine torque [Nm] | D1: Rear wheel power [BHP] | E1: Power drag [BHP]
A2: 2830 | B2: 18.931 | C2: 46.981 | D2: 17.264 | E2: 1.449
A3: 2840 | B3: 19.262 | C3: 47.633 | D3: 17.586 | E3: 1.454
A4: 2850 | B4: 19.592 | C4: 48.281 | D4: 17.907 | E4: 1.459
A5: 2860 | B5: 19.923 | C5: 48.924 | D5: 18.229 | E5: 1.464 | G5: Wheelbase | H5: =StaticWheelbase_m -> 1.43549 | I5: m | J5: air Dense | L5: 1.167 | M5: kg/m^3 | O5: RPM | P5: 1st | Q5: 2nd | R5: 3rd | S5: 4th | T5: 5th | U5: 6th | W5: RPM | X5: 1st | Y5: 2nd | Z5: 3rd | AA5: 4th | AB5: 5th | AC5: 6th | AG5: RPM | AH5: 1st | AI5: 2nd | AJ5: 3rd | AK5: 4th | AL5: 5th | AM5: 6th | AP5: RPM | AQ5: 1st | AR5: 2nd | AS5: 3rd | AT5: 4th | AU5: 5th | AV5: 6th | AX5: RPM | AY5: Rear vel (m/s) | BB5: Speed (m/s) | BC5: RPM | BD5: Rear vel (m/s) | BG5: Speed (m/s) | BH5: RPM | BI5: Rear vel (m/s) | BL5: Speed (m/s) | BM5: RPM | BN5: Rear vel (m/s) | BQ5: Speed (m/s) | BR5: RPM | BS5: Rear vel (m/s) | BV5: Speed (m/s) | BW5: RPM | BX5: Rear vel (m/s) | CA5: Speed (m/s) | CC5: RPM | CD5: 1st | CE5: 2nd | CF5: 3rd | CG5: 4th | CH5: 5th | CI5: 6th | CK5: RPM | CL5: 1st | CM5: 2nd | CN5: 3rd | CO5: 4th | CP5: 5th | CQ5: 6th
A6: 2870 | B6: 20.253 | C6: 49.562 | D6: 18.551 | E6: 1.469 | G6: Rake angle | H6: =Input!DynamicRake_deg -> 23.1 | I6: Deg | O6: 2830 | P6: =(($H$10*$H$14*($H$5-$H$7)-(AQ6*($H$5-($H$10*$H$9)))))/(H$34*($H$5-($H$9*$H$10))) -> 13.159361 | Q6: =(($H$10*$H$14*($H$5-$H$7)-(AR6*($H$5-($H$10*$H$9)))))/(I$34*($H$5-($H$9*$H$10))) -> 13.579933 | R6: =(($H$10*$H$14*($H$5-$H$7)-(AS6*($H$5-($H$10*$H$9)))))/(J$34*($H$5-($H$9*$H$10))) -> 13.888368 | S6: =(($H$10*$H$14*($H$5-$H$7)-(AT6*($H$5-($H$10*$H$9)))))/(K$34*($H$5-($H$9*$H$10))) -> 13.939402 | T6: =(($H$10*$H$14*($H$5-$H$7)-(AU6*($H$5-($H$10*$H$9)))))/(L$34*($H$5-($H$9*$H$10))) -> 13.989519 | U6: =(($H$10*$H$14*($H$5-$H$7)-(AV6*($H$5-($H$10*$H$9)))))/(M$34*($H$5-($H$9*$H$10))) -> 13.891531 | W6: 2830 | X6: =(($H$14*$H$7)-(AQ6*$H$9))/(H$34*$H$9) -> 9.2789494 | Y6: =(($H$14*$H$7)-(AR6*$H$9))/(I$34*$H$9) -> 9.5621616 | Z6: =(($H$14*$H$7)-(AS6*$H$9))/(J$34*$H$9) -> 9.7610211 | AA6: =(($H$14*$H$7)-(AT6*$H$9))/(K$34*$H$9) -> 9.7741892 | AB6: =(($H$14*$H$7)-(AU6*$H$9))/(L$34*$H$9) -> 9.7857396 | AC6: =(($H$14*$H$7)-(AV6*$H$9))/(M$34*$H$9) -> 9.6877514 | AG6: 2830 | AH6: =-(($H$13*($H$5-$H$8))/$H$9)-(AQ6/$H$12) -> -10.996317 | AI6: =-(($H$13*($H$5-$H$8))/$H$9)-(AR6/$H$12) -> -11.047445 | AJ6: =-(($H$13*($H$5-$H$8))/$H$9)-(AS6/$H$12) -> -11.115564 | AK6: =-(($H$13*($H$5-$H$8))/$H$9)-(AT6/$H$12) -> -11.198821 | AL6: =-(($H$13*($H$5-$H$8))/$H$9)-(AU6/$H$12) -> -11.284089 | AM6: =-(($H$13*($H$5-$H$8))/$H$9)-(AV6/$H$12) -> -11.389916 | AP6: 2830 | AQ6: =0.5*$L$5*$L$9*$L$7*($BB6^2) -> 18.472834 | AR6: =0.5*$L$5*$L$9*$L$7*($BG6^2) -> 31.970683 | AS6: =0.5*$L$5*$L$9*$L$7*($BL6^2) -> 49.954192 | AT6: =0.5*$L$5*$L$9*$L$7*($BQ6^2) -> 71.934036 | AU6: =0.5*$L$5*$L$9*$L$7*($BV6^2) -> 94.444643 | AV6: =0.5*$L$5*$L$9*$L$7*($CA6^2) -> 122.38305 | AX6: 2830 | AY6: ='Max limit'!AX6*Input!PrimaryDrive_ratio*Input!Gear1_ratio*Input!FinalDrive_ratio -> 249.7578 | AZ6: =AY6 / 60 -> 4.1626299 | BA6: =AZ6*Input!$N$23 -> 9794.6599 | BB6: =BA6/1000 -> 9.7946599 | BC6: 2830 | BD6: ='Max limit'!AX6*Input!PrimaryDrive_ratio*Input!Gear2_ratio*Input!FinalDrive_ratio -> 328.57026 | BE6: =BD6/60 -> 5.4761709 | BF6: =BE6*Input!$N$23 -> 12885.419 | BG6: =BF6/1000 -> 12.885419 | BH6: 2830 | BI6: ='Max limit'!AX6*Input!PrimaryDrive_ratio*Input!Gear3_ratio*Input!FinalDrive_ratio -> 410.71282 | BJ6: =BI6/60 -> 6.8452137 | BK6: =BJ6*Input!$N$23 -> 16106.774 | BL6: =BK6/1000 -> 16.106774 | BM6: 2830 | BN6: ='Max limit'!AX6*Input!PrimaryDrive_ratio*Input!Gear4_ratio*Input!FinalDrive_ratio -> 492.85538 | BO6: =BN6/60 -> 8.2142564 | BP6: =BO6*Input!$N$23 -> 19328.129 | BQ6: =BP6/1000 -> 19.328129 | BR6: 2830 | BS6: ='Max limit'!AX6*Input!PrimaryDrive_ratio*Input!Gear5_ratio*Input!FinalDrive_ratio -> 564.73013 | BT6: =BS6/60 -> 9.4121688 | BU6: =BT6*Input!$N$23 -> 22146.814 | BV6: =BU6/1000 -> 22.146814 | BW6: 2830 | BX6: ='Max limit'!AX6*Input!PrimaryDrive_ratio*Input!Gear6_ratio*Input!FinalDrive_ratio -> 642.85485 | BY6: =BX6/60 -> 10.714247 | BZ6: =BY6*Input!$N$23 -> 25210.603 | CA6: =BZ6/1000 -> 25.210603 | CC6: 2830 | CD6: =MROUND($BB6,0.5) -> 10 | CE6: =MROUND($BG6,0.5) -> 13 | CF6: =MROUND($BL6,0.5) -> 16 | CG6: =MROUND($BQ6,0.5) -> 19.5 | CH6: =MROUND($BV6,0.5) -> 22 | CI6: =MROUND($CA6,0.5) -> 25 | CK6: 2830 | CL6: =$AY6/60 -> 4.1626299 | CM6: =$BD6/60 -> 5.4761709 | CN6: =$BI6/60 -> 6.8452137 | CO6: =$BN6/60 -> 8.2142564 | CP6: =$BS6/60 -> 9.4121688 | CQ6: =$BX6/60 -> 10.714247
A7: 2880 | B7: 20.598 | C7: 50.232 | D7: 18.887 | E7: 1.474 | G7: Cog from Rear | H7: =Input!CoGx_mm/1000 -> 0.73505 | I7: m | J7: Fr Area | L7: 0.55 | M7: m^2 | O7: 2840 | P7: =(($H$10*$H$14*($H$5-$H$7)-(AQ7*($H$5-($H$10*$H$9)))))/(H$34*($H$5-($H$9*$H$10))) -> 13.158938 | Q7: =(($H$10*$H$14*($H$5-$H$7)-(AR7*($H$5-($H$10*$H$9)))))/(I$34*($H$5-($H$9*$H$10))) -> 13.579174 | R7: =(($H$10*$H$14*($H$5-$H$7)-(AS7*($H$5-($H$10*$H$9)))))/(J$34*($H$5-($H$9*$H$10))) -> 13.88715 | S7: =(($H$10*$H$14*($H$5-$H$7)-(AT7*($H$5-($H$10*$H$9)))))/(K$34*($H$5-($H$9*$H$10))) -> 13.937632 | T7: =(($H$10*$H$14*($H$5-$H$7)-(AU7*($H$5-($H$10*$H$9)))))/(L$34*($H$5-($H$9*$H$10))) -> 13.987174 | U7: =(($H$10*$H$14*($H$5-$H$7)-(AV7*($H$5-($H$10*$H$9)))))/(M$34*($H$5-($H$9*$H$10))) -> 13.888492 | W7: 2840 | X7: =(($H$14*$H$7)-(AQ7*$H$9))/(H$34*$H$9) -> 9.278526 | Y7: =(($H$14*$H$7)-(AR7*$H$9))/(I$34*$H$9) -> 9.5614029 | Z7: =(($H$14*$H$7)-(AS7*$H$9))/(J$34*$H$9) -> 9.7598033 | AA7: =(($H$14*$H$7)-(AT7*$H$9))/(K$34*$H$9) -> 9.7724195 | AB7: =(($H$14*$H$7)-(AU7*$H$9))/(L$34*$H$9) -> 9.7833945 | AC7: =(($H$14*$H$7)-(AV7*$H$9))/(M$34*$H$9) -> 9.6847126 | AG7: 2840 | AH7: =-(($H$13*($H$5-$H$8))/$H$9)-(AQ7/$H$12) -> -10.996812 | AI7: =-(($H$13*($H$5-$H$8))/$H$9)-(AR7/$H$12) -> -11.048302 | AJ7: =-(($H$13*($H$5-$H$8))/$H$9)-(AS7/$H$12) -> -11.116904 | AK7: =-(($H$13*($H$5-$H$8))/$H$9)-(AT7/$H$12) -> -11.20075 | AL7: =-(($H$13*($H$5-$H$8))/$H$9)-(AU7/$H$12) -> -11.286621 | AM7: =-(($H$13*($H$5-$H$8))/$H$9)-(AV7/$H$12) -> -11.393198 | AP7: 2840 | AQ7: =0.5*$L$5*$L$9*$L$7*($BB7^2) -> 18.603615 | AR7: =0.5*$L$5*$L$9*$L$7*($BG7^2) -> 32.197023 | AS7: =0.5*$L$5*$L$9*$L$7*($BL7^2) -> 50.307848 | AT7: =0.5*$L$5*$L$9*$L$7*($BQ7^2) -> 72.443302 | AU7: =0.5*$L$5*$L$9*$L$7*($BV7^2) -> 95.113276 | AV7: =0.5*$L$5*$L$9*$L$7*($CA7^2) -> 123.24947 | AX7: 2840 | AY7: ='Max limit'!AX7*Input!PrimaryDrive_ratio*Input!Gear1_ratio*Input!FinalDrive_ratio -> 250.64033 | AZ7: =AY7 / 60 -> 4.1773389 | BA7: =AZ7*Input!$N$23 -> 9829.27 | BB7: =BA7/1000 -> 9.82927 | BC7: 2840 | BD7: ='Max limit'!AX7*Input!PrimaryDrive_ratio*Input!Gear2_ratio*Input!FinalDrive_ratio -> 329.73128 | BE7: =BD7/60 -> 5.4955214 | BF7: =BE7*Input!$N$23 -> 12930.951 | BG7: =BF7/1000 -> 12.930951 | BH7: 2840 | BI7: ='Max limit'!AX7*Input!PrimaryDrive_ratio*Input!Gear3_ratio*Input!FinalDrive_ratio -> 412.1641 | BJ7: =BI7/60 -> 6.8694017 | BK7: =BJ7*Input!$N$23 -> 16163.688 | BL7: =BK7/1000 -> 16.163688 | BM7: 2840 | BN7: ='Max limit'!AX7*Input!PrimaryDrive_ratio*Input!Gear4_ratio*Input!FinalDrive_ratio -> 494.59692 | BO7: =BN7/60 -> 8.2432821 | BP7: =BO7*Input!$N$23 -> 19396.426 | BQ7: =BP7/1000 -> 19.396426 | BR7: 2840 | BS7: ='Max limit'!AX7*Input!PrimaryDrive_ratio*Input!Gear5_ratio*Input!FinalDrive_ratio -> 566.72564 | BT7: =BS7/60 -> 9.4454274 | BU7: =BT7*Input!$N$23 -> 22225.072 | BV7: =BU7/1000 -> 22.225072 | BW7: 2840 | BX7: ='Max limit'!AX7*Input!PrimaryDrive_ratio*Input!Gear6_ratio*Input!FinalDrive_ratio -> 645.12642 | BY7: =BX7/60 -> 10.752107 | BZ7: =BY7*Input!$N$23 -> 25299.686 | CA7: =BZ7/1000 -> 25.299686 | CC7: 2840 | CD7: =MROUND($BB7,0.5) -> 10 | CE7: =MROUND($BG7,0.5) -> 13 | CF7: =MROUND($BL7,0.5) -> 16 | CG7: =MROUND($BQ7,0.5) -> 19.5 | CH7: =MROUND($BV7,0.5) -> 22 | CI7: =MROUND($CA7,0.5) -> 25.5 | CK7: 2840 | CL7: =$AY7/60 -> 4.1773389 | CM7: =$BD7/60 -> 5.4955214 | CN7: =$BI7/60 -> 6.8694017 | CO7: =$BN7/60 -> 8.2432821 | CP7: =$BS7/60 -> 9.4454274 | CQ7: =$BX7/60 -> 10.752107
A8: 2890 | B8: 20.949 | C8: 50.91 | D8: 19.228 | E8: 1.48 | G8: Cog from Front | H8: =[0]!StaticWheelbase_m - Input!CoGx_mm/1000 -> 0.70044 | I8: m | O8: 2850 | P8: =(($H$10*$H$14*($H$5-$H$7)-(AQ8*($H$5-($H$10*$H$9)))))/(H$34*($H$5-($H$9*$H$10))) -> 13.158513 | Q8: =(($H$10*$H$14*($H$5-$H$7)-(AR8*($H$5-($H$10*$H$9)))))/(I$34*($H$5-($H$9*$H$10))) -> 13.578413 | R8: =(($H$10*$H$14*($H$5-$H$7)-(AS8*($H$5-($H$10*$H$9)))))/(J$34*($H$5-($H$9*$H$10))) -> 13.885928 | S8: =(($H$10*$H$14*($H$5-$H$7)-(AT8*($H$5-($H$10*$H$9)))))/(K$34*($H$5-($H$9*$H$10))) -> 13.935856 | T8: =(($H$10*$H$14*($H$5-$H$7)-(AU8*($H$5-($H$10*$H$9)))))/(L$34*($H$5-($H$9*$H$10))) -> 13.984821 | U8: =(($H$10*$H$14*($H$5-$H$7)-(AV8*($H$5-($H$10*$H$9)))))/(M$34*($H$5-($H$9*$H$10))) -> 13.885442 | W8: 2850 | X8: =(($H$14*$H$7)-(AQ8*$H$9))/(H$34*$H$9) -> 9.2781011 | Y8: =(($H$14*$H$7)-(AR8*$H$9))/(I$34*$H$9) -> 9.5606415 | Z8: =(($H$14*$H$7)-(AS8*$H$9))/(J$34*$H$9) -> 9.7585812 | AA8: =(($H$14*$H$7)-(AT8*$H$9))/(K$34*$H$9) -> 9.7706435 | AB8: =(($H$14*$H$7)-(AU8*$H$9))/(L$34*$H$9) -> 9.7810412 | AC8: =(($H$14*$H$7)-(AV8*$H$9))/(M$34*$H$9) -> 9.6816631 | AG8: 2850 | AH8: =-(($H$13*($H$5-$H$8))/$H$9)-(AQ8/$H$12) -> -10.997309 | AI8: =-(($H$13*($H$5-$H$8))/$H$9)-(AR8/$H$12) -> -11.049162 | AJ8: =-(($H$13*($H$5-$H$8))/$H$9)-(AS8/$H$12) -> -11.118248 | AK8: =-(($H$13*($H$5-$H$8))/$H$9)-(AT8/$H$12) -> -11.202686 | AL8: =-(($H$13*($H$5-$H$8))/$H$9)-(AU8/$H$12) -> -11.289163 | AM8: =-(($H$13*($H$5-$H$8))/$H$9)-(AV8/$H$12) -> -11.396491 | AP8: 2850 | AQ8: =0.5*$L$5*$L$9*$L$7*($BB8^2) -> 18.734857 | AR8: =0.5*$L$5*$L$9*$L$7*($BG8^2) -> 32.424162 | AS8: =0.5*$L$5*$L$9*$L$7*($BL8^2) -> 50.662753 | AT8: =0.5*$L$5*$L$9*$L$7*($BQ8^2) -> 72.954364 | AU8: =0.5*$L$5*$L$9*$L$7*($BV8^2) -> 95.784267 | AV8: =0.5*$L$5*$L$9*$L$7*($CA8^2) -> 124.11896 | AX8: 2850 | AY8: ='Max limit'!AX8*Input!PrimaryDrive_ratio*Input!Gear1_ratio*Input!FinalDrive_ratio -> 251.52287 | AZ8: =AY8 / 60 -> 4.1920478 | BA8: =AZ8*Input!$N$23 -> 9863.8801 | BB8: =BA8/1000 -> 9.8638801 | BC8: 2850 | BD8: ='Max limit'!AX8*Input!PrimaryDrive_ratio*Input!Gear2_ratio*Input!FinalDrive_ratio -> 330.89231 | BE8: =BD8/60 -> 5.5148718 | BF8: =BE8*Input!$N$23 -> 12976.482 | BG8: =BF8/1000 -> 12.976482 | BH8: 2850 | BI8: ='Max limit'!AX8*Input!PrimaryDrive_ratio*Input!Gear3_ratio*Input!FinalDrive_ratio -> 413.61538 | BJ8: =BI8/60 -> 6.8935897 | BK8: =BJ8*Input!$N$23 -> 16220.603 | BL8: =BK8/1000 -> 16.220603 | BM8: 2850 | BN8: ='Max limit'!AX8*Input!PrimaryDrive_ratio*Input!Gear4_ratio*Input!FinalDrive_ratio -> 496.33846 | BO8: =BN8/60 -> 8.2723077 | BP8: =BO8*Input!$N$23 -> 19464.723 | BQ8: =BP8/1000 -> 19.464723 | BR8: 2850 | BS8: ='Max limit'!AX8*Input!PrimaryDrive_ratio*Input!Gear5_ratio*Input!FinalDrive_ratio -> 568.72115 | BT8: =BS8/60 -> 9.4786859 | BU8: =BT8*Input!$N$23 -> 22303.329 | BV8: =BU8/1000 -> 22.303329 | BW8: 2850 | BX8: ='Max limit'!AX8*Input!PrimaryDrive_ratio*Input!Gear6_ratio*Input!FinalDrive_ratio -> 647.39799 | BY8: =BX8/60 -> 10.789967 | BZ8: =BY8*Input!$N$23 -> 25388.77 | CA8: =BZ8/1000 -> 25.38877 | CC8: 2850 | CD8: =MROUND($BB8,0.5) -> 10 | CE8: =MROUND($BG8,0.5) -> 13 | CF8: =MROUND($BL8,0.5) -> 16 | CG8: =MROUND($BQ8,0.5) -> 19.5 | CH8: =MROUND($BV8,0.5) -> 22.5 | CI8: =MROUND($CA8,0.5) -> 25.5 | CK8: 2850 | CL8: =$AY8/60 -> 4.1920478 | CM8: =$BD8/60 -> 5.5148718 | CN8: =$BI8/60 -> 6.8935897 | CO8: =$BN8/60 -> 8.2723077 | CP8: =$BS8/60 -> 9.4786859 | CQ8: =$BX8/60 -> 10.789967
A9: 2900 | B9: 21.3 | C9: 51.584 | D9: 19.57 | E9: 1.485 | G9: Cog height | H9: =Input!h_mm/1000 -> 0.65995 | I9: m | J9: CD | L9: 0.6 | M9: m^2 | O9: 2860 | P9: =(($H$10*$H$14*($H$5-$H$7)-(AQ9*($H$5-($H$10*$H$9)))))/(H$34*($H$5-($H$9*$H$10))) -> 13.158086 | Q9: =(($H$10*$H$14*($H$5-$H$7)-(AR9*($H$5-($H$10*$H$9)))))/(I$34*($H$5-($H$9*$H$10))) -> 13.577649 | R9: =(($H$10*$H$14*($H$5-$H$7)-(AS9*($H$5-($H$10*$H$9)))))/(J$34*($H$5-($H$9*$H$10))) -> 13.884702 | S9: =(($H$10*$H$14*($H$5-$H$7)-(AT9*($H$5-($H$10*$H$9)))))/(K$34*($H$5-($H$9*$H$10))) -> 13.934074 | T9: =(($H$10*$H$14*($H$5-$H$7)-(AU9*($H$5-($H$10*$H$9)))))/(L$34*($H$5-($H$9*$H$10))) -> 13.982459 | U9: =(($H$10*$H$14*($H$5-$H$7)-(AV9*($H$5-($H$10*$H$9)))))/(M$34*($H$5-($H$9*$H$10))) -> 13.882382 | W9: 2860 | X9: =(($H$14*$H$7)-(AQ9*$H$9))/(H$34*$H$9) -> 9.2776747 | Y9: =(($H$14*$H$7)-(AR9*$H$9))/(I$34*$H$9) -> 9.5598774 | Z9: =(($H$14*$H$7)-(AS9*$H$9))/(J$34*$H$9) -> 9.7573548 | AA9: =(($H$14*$H$7)-(AT9*$H$9))/(K$34*$H$9) -> 9.7688612 | AB9: =(($H$14*$H$7)-(AU9*$H$9))/(L$34*$H$9) -> 9.7786795 | AC9: =(($H$14*$H$7)-(AV9*$H$9))/(M$34*$H$9) -> 9.6786028 | AG9: 2860 | AH9: =-(($H$13*($H$5-$H$8))/$H$9)-(AQ9/$H$12) -> -10.997808 | AI9: =-(($H$13*($H$5-$H$8))/$H$9)-(AR9/$H$12) -> -11.050026 | AJ9: =-(($H$13*($H$5-$H$8))/$H$9)-(AS9/$H$12) -> -11.119597 | AK9: =-(($H$13*($H$5-$H$8))/$H$9)-(AT9/$H$12) -> -11.204629 | AL9: =-(($H$13*($H$5-$H$8))/$H$9)-(AU9/$H$12) -> -11.291713 | AM9: =-(($H$13*($H$5-$H$8))/$H$9)-(AV9/$H$12) -> -11.399796 | AP9: 2860 | AQ9: =0.5*$L$5*$L$9*$L$7*($BB9^2) -> 18.86656 | AR9: =0.5*$L$5*$L$9*$L$7*($BG9^2) -> 32.652099 | AS9: =0.5*$L$5*$L$9*$L$7*($BL9^2) -> 51.018905 | AT9: =0.5*$L$5*$L$9*$L$7*($BQ9^2) -> 73.467223 | AU9: =0.5*$L$5*$L$9*$L$7*($BV9^2) -> 96.457617 | AV9: =0.5*$L$5*$L$9*$L$7*($CA9^2) -> 124.99149 | AX9: 2860 | AY9: ='Max limit'!AX9*Input!PrimaryDrive_ratio*Input!Gear1_ratio*Input!FinalDrive_ratio -> 252.40541 | AZ9: =AY9 / 60 -> 4.2067568 | BA9: =AZ9*Input!$N$23 -> 9898.4902 | BB9: =BA9/1000 -> 9.8984902 | BC9: 2860 | BD9: ='Max limit'!AX9*Input!PrimaryDrive_ratio*Input!Gear2_ratio*Input!FinalDrive_ratio -> 332.05333 | BE9: =BD9/60 -> 5.5342222 | BF9: =BE9*Input!$N$23 -> 13022.014 | BG9: =BF9/1000 -> 13.022014 | BH9: 2860 | BI9: ='Max limit'!AX9*Input!PrimaryDrive_ratio*Input!Gear3_ratio*Input!FinalDrive_ratio -> 415.06667 | BJ9: =BI9/60 -> 6.9177778 | BK9: =BJ9*Input!$N$23 -> 16277.517 | BL9: =BK9/1000 -> 16.277517 | BM9: 2860 | BN9: ='Max limit'!AX9*Input!PrimaryDrive_ratio*Input!Gear4_ratio*Input!FinalDrive_ratio -> 498.08 | BO9: =BN9/60 -> 8.3013333 | BP9: =BO9*Input!$N$23 -> 19533.021 | BQ9: =BP9/1000 -> 19.533021 | BR9: 2860 | BS9: ='Max limit'!AX9*Input!PrimaryDrive_ratio*Input!Gear5_ratio*Input!FinalDrive_ratio -> 570.71667 | BT9: =BS9/60 -> 9.5119444 | BU9: =BT9*Input!$N$23 -> 22381.586 | BV9: =BU9/1000 -> 22.381586 | BW9: 2860 | BX9: ='Max limit'!AX9*Input!PrimaryDrive_ratio*Input!Gear6_ratio*Input!FinalDrive_ratio -> 649.66957 | BY9: =BX9/60 -> 10.827826 | BZ9: =BY9*Input!$N$23 -> 25477.853 | CA9: =BZ9/1000 -> 25.477853 | CC9: 2860 | CD9: =MROUND($BB9,0.5) -> 10 | CE9: =MROUND($BG9,0.5) -> 13 | CF9: =MROUND($BL9,0.5) -> 16.5 | CG9: =MROUND($BQ9,0.5) -> 19.5 | CH9: =MROUND($BV9,0.5) -> 22.5 | CI9: =MROUND($CA9,0.5) -> 25.5 | CK9: 2860 | CL9: =$AY9/60 -> 4.2067568 | CM9: =$BD9/60 -> 5.5342222 | CN9: =$BI9/60 -> 6.9177778 | CO9: =$BN9/60 -> 8.3013333 | CP9: =$BS9/60 -> 9.5119444 | CQ9: =$BX9/60 -> 10.827826
A10: 2910 | B10: 21.65 | C10: 52.253 | D10: 19.911 | E10: 1.49 | G10: Rear tyre coefficient | H10: 1.3 | I10: mu | O10: 2870 | P10: =(($H$10*$H$14*($H$5-$H$7)-(AQ10*($H$5-($H$10*$H$9)))))/(H$34*($H$5-($H$9*$H$10))) -> 13.157659 | Q10: =(($H$10*$H$14*($H$5-$H$7)-(AR10*($H$5-($H$10*$H$9)))))/(I$34*($H$5-($H$9*$H$10))) -> 13.576882 | R10: =(($H$10*$H$14*($H$5-$H$7)-(AS10*($H$5-($H$10*$H$9)))))/(J$34*($H$5-($H$9*$H$10))) -> 13.883471 | S10: =(($H$10*$H$14*($H$5-$H$7)-(AT10*($H$5-($H$10*$H$9)))))/(K$34*($H$5-($H$9*$H$10))) -> 13.932285 | T10: =(($H$10*$H$14*($H$5-$H$7)-(AU10*($H$5-($H$10*$H$9)))))/(L$34*($H$5-($H$9*$H$10))) -> 13.980089 | U10: =(($H$10*$H$14*($H$5-$H$7)-(AV10*($H$5-($H$10*$H$9)))))/(M$34*($H$5-($H$9*$H$10))) -> 13.879311 | W10: 2870 | X10: =(($H$14*$H$7)-(AQ10*$H$9))/(H$34*$H$9) -> 9.2772468 | Y10: =(($H$14*$H$7)-(AR10*$H$9))/(I$34*$H$9) -> 9.5591107 | Z10: =(($H$14*$H$7)-(AS10*$H$9))/(J$34*$H$9) -> 9.756124 | AA10: =(($H$14*$H$7)-(AT10*$H$9))/(K$34*$H$9) -> 9.7670727 | AB10: =(($H$14*$H$7)-(AU10*$H$9))/(L$34*$H$9) -> 9.7763096 | AC10: =(($H$14*$H$7)-(AV10*$H$9))/(M$34*$H$9) -> 9.6755318 | AG10: 2870 | AH10: =-(($H$13*($H$5-$H$8))/$H$9)-(AQ10/$H$12) -> -10.998309 | AI10: =-(($H$13*($H$5-$H$8))/$H$9)-(AR10/$H$12) -> -11.050892 | AJ10: =-(($H$13*($H$5-$H$8))/$H$9)-(AS10/$H$12) -> -11.120951 | AK10: =-(($H$13*($H$5-$H$8))/$H$9)-(AT10/$H$12) -> -11.206578 | AL10: =-(($H$13*($H$5-$H$8))/$H$9)-(AU10/$H$12) -> -11.294273 | AM10: =-(($H$13*($H$5-$H$8))/$H$9)-(AV10/$H$12) -> -11.403113 | AP10: 2870 | AQ10: =0.5*$L$5*$L$9*$L$7*($BB10^2) -> 18.998725 | AR10: =0.5*$L$5*$L$9*$L$7*($BG10^2) -> 32.880835 | AS10: =0.5*$L$5*$L$9*$L$7*($BL10^2) -> 51.376304 | AT10: =0.5*$L$5*$L$9*$L$7*($BQ10^2) -> 73.981878 | AU10: =0.5*$L$5*$L$9*$L$7*($BV10^2) -> 97.133325 | AV10: =0.5*$L$5*$L$9*$L$7*($CA10^2) -> 125.86709 | AX10: 2870 | AY10: ='Max limit'!AX10*Input!PrimaryDrive_ratio*Input!Gear1_ratio*Input!FinalDrive_ratio -> 253.28794 | AZ10: =AY10 / 60 -> 4.2214657 | BA10: =AZ10*Input!$N$23 -> 9933.1003 | BB10: =BA10/1000 -> 9.9331003 | BC10: 2870 | BD10: ='Max limit'!AX10*Input!PrimaryDrive_ratio*Input!Gear2_ratio*Input!FinalDrive_ratio -> 333.21436 | BE10: =BD10/60 -> 5.5535726 | BF10: =BE10*Input!$N$23 -> 13067.545 | BG10: =BF10/1000 -> 13.067545 | BH10: 2870 | BI10: ='Max limit'!AX10*Input!PrimaryDrive_ratio*Input!Gear3_ratio*Input!FinalDrive_ratio -> 416.51795 | BJ10: =BI10/60 -> 6.9419658 | BK10: =BJ10*Input!$N$23 -> 16334.432 | BL10: =BK10/1000 -> 16.334432 | BM10: 2870 | BN10: ='Max limit'!AX10*Input!PrimaryDrive_ratio*Input!Gear4_ratio*Input!FinalDrive_ratio -> 499.82154 | BO10: =BN10/60 -> 8.330359 | BP10: =BO10*Input!$N$23 -> 19601.318 | BQ10: =BP10/1000 -> 19.601318 | BR10: 2870 | BS10: ='Max limit'!AX10*Input!PrimaryDrive_ratio*Input!Gear5_ratio*Input!FinalDrive_ratio -> 572.71218 | BT10: =BS10/60 -> 9.545203 | BU10: =BT10*Input!$N$23 -> 22459.844 | BV10: =BU10/1000 -> 22.459844 | BW10: 2870 | BX10: ='Max limit'!AX10*Input!PrimaryDrive_ratio*Input!Gear6_ratio*Input!FinalDrive_ratio -> 651.94114 | BY10: =BX10/60 -> 10.865686 | BZ10: =BY10*Input!$N$23 -> 25566.937 | CA10: =BZ10/1000 -> 25.566937 | CC10: 2870 | CD10: =MROUND($BB10,0.5) -> 10 | CE10: =MROUND($BG10,0.5) -> 13 | CF10: =MROUND($BL10,0.5) -> 16.5 | CG10: =MROUND($BQ10,0.5) -> 19.5 | CH10: =MROUND($BV10,0.5) -> 22.5 | CI10: =MROUND($CA10,0.5) -> 25.5 | CK10: 2870 | CL10: =$AY10/60 -> 4.2214657 | CM10: =$BD10/60 -> 5.5535726 | CN10: =$BI10/60 -> 6.9419658 | CO10: =$BN10/60 -> 8.330359 | CP10: =$BS10/60 -> 9.545203 | CQ10: =$BX10/60 -> 10.865686
A11: 2920 | B11: 22.001 | C11: 52.917 | D11: 20.253 | E11: 1.495 | G11: Front tyre coefficient | H11: 1.2 | I11: mu | O11: 2880 | P11: =(($H$10*$H$14*($H$5-$H$7)-(AQ11*($H$5-($H$10*$H$9)))))/(H$34*($H$5-($H$9*$H$10))) -> 13.157229 | Q11: =(($H$10*$H$14*($H$5-$H$7)-(AR11*($H$5-($H$10*$H$9)))))/(I$34*($H$5-($H$9*$H$10))) -> 13.576113 | R11: =(($H$10*$H$14*($H$5-$H$7)-(AS11*($H$5-($H$10*$H$9)))))/(J$34*($H$5-($H$9*$H$10))) -> 13.882236 | S11: =(($H$10*$H$14*($H$5-$H$7)-(AT11*($H$5-($H$10*$H$9)))))/(K$34*($H$5-($H$9*$H$10))) -> 13.930491 | T11: =(($H$10*$H$14*($H$5-$H$7)-(AU11*($H$5-($H$10*$H$9)))))/(L$34*($H$5-($H$9*$H$10))) -> 13.977711 | U11: =(($H$10*$H$14*($H$5-$H$7)-(AV11*($H$5-($H$10*$H$9)))))/(M$34*($H$5-($H$9*$H$10))) -> 13.87623 | W11: 2880 | X11: =(($H$14*$H$7)-(AQ11*$H$9))/(H$34*$H$9) -> 9.2768175 | Y11: =(($H$14*$H$7)-(AR11*$H$9))/(I$34*$H$9) -> 9.5583412 | Z11: =(($H$14*$H$7)-(AS11*$H$9))/(J$34*$H$9) -> 9.754889 | AA11: =(($H$14*$H$7)-(AT11*$H$9))/(K$34*$H$9) -> 9.765278 | AB11: =(($H$14*$H$7)-(AU11*$H$9))/(L$34*$H$9) -> 9.7739315 | AC11: =(($H$14*$H$7)-(AV11*$H$9))/(M$34*$H$9) -> 9.6724502 | AG11: 2880 | AH11: =-(($H$13*($H$5-$H$8))/$H$9)-(AQ11/$H$12) -> -10.998811 | AI11: =-(($H$13*($H$5-$H$8))/$H$9)-(AR11/$H$12) -> -11.051762 | AJ11: =-(($H$13*($H$5-$H$8))/$H$9)-(AS11/$H$12) -> -11.122309 | AK11: =-(($H$13*($H$5-$H$8))/$H$9)-(AT11/$H$12) -> -11.208534 | AL11: =-(($H$13*($H$5-$H$8))/$H$9)-(AU11/$H$12) -> -11.296841 | AM11: =-(($H$13*($H$5-$H$8))/$H$9)-(AV11/$H$12) -> -11.406441 | AP11: 2880 | AQ11: =0.5*$L$5*$L$9*$L$7*($BB11^2) -> 19.13135 | AR11: =0.5*$L$5*$L$9*$L$7*($BG11^2) -> 33.110368 | AS11: =0.5*$L$5*$L$9*$L$7*($BL11^2) -> 51.734951 | AT11: =0.5*$L$5*$L$9*$L$7*($BQ11^2) -> 74.498329 | AU11: =0.5*$L$5*$L$9*$L$7*($BV11^2) -> 97.811391 | AV11: =0.5*$L$5*$L$9*$L$7*($CA11^2) -> 126.74574 | AX11: 2880 | AY11: ='Max limit'!AX11*Input!PrimaryDrive_ratio*Input!Gear1_ratio*Input!FinalDrive_ratio -> 254.17048 | AZ11: =AY11 / 60 -> 4.2361746 | BA11: =AZ11*Input!$N$23 -> 9967.7104 | BB11: =BA11/1000 -> 9.9677104 | BC11: 2880 | BD11: ='Max limit'!AX11*Input!PrimaryDrive_ratio*Input!Gear2_ratio*Input!FinalDrive_ratio -> 334.37538 | BE11: =BD11/60 -> 5.5729231 | BF11: =BE11*Input!$N$23 -> 13113.077 | BG11: =BF11/1000 -> 13.113077 | BH11: 2880 | BI11: ='Max limit'!AX11*Input!PrimaryDrive_ratio*Input!Gear3_ratio*Input!FinalDrive_ratio -> 417.96923 | BJ11: =BI11/60 -> 6.9661538 | BK11: =BJ11*Input!$N$23 -> 16391.346 | BL11: =BK11/1000 -> 16.391346 | BM11: 2880 | BN11: ='Max limit'!AX11*Input!PrimaryDrive_ratio*Input!Gear4_ratio*Input!FinalDrive_ratio -> 501.56308 | BO11: =BN11/60 -> 8.3593846 | BP11: =BO11*Input!$N$23 -> 19669.615 | BQ11: =BP11/1000 -> 19.669615 | BR11: 2880 | BS11: ='Max limit'!AX11*Input!PrimaryDrive_ratio*Input!Gear5_ratio*Input!FinalDrive_ratio -> 574.70769 | BT11: =BS11/60 -> 9.5784615 | BU11: =BT11*Input!$N$23 -> 22538.101 | BV11: =BU11/1000 -> 22.538101 | BW11: 2880 | BX11: ='Max limit'!AX11*Input!PrimaryDrive_ratio*Input!Gear6_ratio*Input!FinalDrive_ratio -> 654.21271 | BY11: =BX11/60 -> 10.903545 | BZ11: =BY11*Input!$N$23 -> 25656.02 | CA11: =BZ11/1000 -> 25.65602 | CC11: 2880 | CD11: =MROUND($BB11,0.5) -> 10 | CE11: =MROUND($BG11,0.5) -> 13 | CF11: =MROUND($BL11,0.5) -> 16.5 | CG11: =MROUND($BQ11,0.5) -> 19.5 | CH11: =MROUND($BV11,0.5) -> 22.5 | CI11: =MROUND($CA11,0.5) -> 25.5 | CK11: 2880 | CL11: =$AY11/60 -> 4.2361746 | CM11: =$BD11/60 -> 5.5729231 | CN11: =$BI11/60 -> 6.9661538 | CO11: =$BN11/60 -> 8.3593846 | CP11: =$BS11/60 -> 9.5784615 | CQ11: =$BX11/60 -> 10.903545
A12: 2930 | B12: 22.354 | C12: 53.582 | D12: 20.596 | E12: 1.5 | G12: Total mass | H12: =Input!Mass_kg -> 264 | I12: kg | O12: 2890 | P12: =(($H$10*$H$14*($H$5-$H$7)-(AQ12*($H$5-($H$10*$H$9)))))/(H$34*($H$5-($H$9*$H$10))) -> 13.156798 | Q12: =(($H$10*$H$14*($H$5-$H$7)-(AR12*($H$5-($H$10*$H$9)))))/(I$34*($H$5-($H$9*$H$10))) -> 13.575341 | R12: =(($H$10*$H$14*($H$5-$H$7)-(AS12*($H$5-($H$10*$H$9)))))/(J$34*($H$5-($H$9*$H$10))) -> 13.880997 | S12: =(($H$10*$H$14*($H$5-$H$7)-(AT12*($H$5-($H$10*$H$9)))))/(K$34*($H$5-($H$9*$H$10))) -> 13.92869 | T12: =(($H$10*$H$14*($H$5-$H$7)-(AU12*($H$5-($H$10*$H$9)))))/(L$34*($H$5-($H$9*$H$10))) -> 13.975324 | U12: =(($H$10*$H$14*($H$5-$H$7)-(AV12*($H$5-($H$10*$H$9)))))/(M$34*($H$5-($H$9*$H$10))) -> 13.873137 | W12: 2890 | X12: =(($H$14*$H$7)-(AQ12*$H$9))/(H$34*$H$9) -> 9.2763866 | Y12: =(($H$14*$H$7)-(AR12*$H$9))/(I$34*$H$9) -> 9.5575691 | Z12: =(($H$14*$H$7)-(AS12*$H$9))/(J$34*$H$9) -> 9.7536497 | AA12: =(($H$14*$H$7)-(AT12*$H$9))/(K$34*$H$9) -> 9.763477 | AB12: =(($H$14*$H$7)-(AU12*$H$9))/(L$34*$H$9) -> 9.771545 | AC12: =(($H$14*$H$7)-(AV12*$H$9))/(M$34*$H$9) -> 9.6693577 | AG12: 2890 | AH12: =-(($H$13*($H$5-$H$8))/$H$9)-(AQ12/$H$12) -> -10.999315 | AI12: =-(($H$13*($H$5-$H$8))/$H$9)-(AR12/$H$12) -> -11.052634 | AJ12: =-(($H$13*($H$5-$H$8))/$H$9)-(AS12/$H$12) -> -11.123673 | AK12: =-(($H$13*($H$5-$H$8))/$H$9)-(AT12/$H$12) -> -11.210497 | AL12: =-(($H$13*($H$5-$H$8))/$H$9)-(AU12/$H$12) -> -11.299419 | AM12: =-(($H$13*($H$5-$H$8))/$H$9)-(AV12/$H$12) -> -11.409781 | AP12: 2890 | AQ12: =0.5*$L$5*$L$9*$L$7*($BB12^2) -> 19.264438 | AR12: =0.5*$L$5*$L$9*$L$7*($BG12^2) -> 33.340701 | AS12: =0.5*$L$5*$L$9*$L$7*($BL12^2) -> 52.094845 | AT12: =0.5*$L$5*$L$9*$L$7*($BQ12^2) -> 75.016577 | AU12: =0.5*$L$5*$L$9*$L$7*($BV12^2) -> 98.491816 | AV12: =0.5*$L$5*$L$9*$L$7*($CA12^2) -> 127.62745 | AX12: 2890 | AY12: ='Max limit'!AX12*Input!PrimaryDrive_ratio*Input!Gear1_ratio*Input!FinalDrive_ratio -> 255.05301 | AZ12: =AY12 / 60 -> 4.2508836 | BA12: =AZ12*Input!$N$23 -> 10002.321 | BB12: =BA12/1000 -> 10.002321 | BC12: 2890 | BD12: ='Max limit'!AX12*Input!PrimaryDrive_ratio*Input!Gear2_ratio*Input!FinalDrive_ratio -> 335.53641 | BE12: =BD12/60 -> 5.5922735 | BF12: =BE12*Input!$N$23 -> 13158.608 | BG12: =BF12/1000 -> 13.158608 | BH12: 2890 | BI12: ='Max limit'!AX12*Input!PrimaryDrive_ratio*Input!Gear3_ratio*Input!FinalDrive_ratio -> 419.42051 | BJ12: =BI12/60 -> 6.9903419 | BK12: =BJ12*Input!$N$23 -> 16448.26 | BL12: =BK12/1000 -> 16.44826 | BM12: 2890 | BN12: ='Max limit'!AX12*Input!PrimaryDrive_ratio*Input!Gear4_ratio*Input!FinalDrive_ratio -> 503.30462 | BO12: =BN12/60 -> 8.3884103 | BP12: =BO12*Input!$N$23 -> 19737.913 | BQ12: =BP12/1000 -> 19.737913 | BR12: 2890 | BS12: ='Max limit'!AX12*Input!PrimaryDrive_ratio*Input!Gear5_ratio*Input!FinalDrive_ratio -> 576.70321 | BT12: =BS12/60 -> 9.6117201 | BU12: =BT12*Input!$N$23 -> 22616.358 | BV12: =BU12/1000 -> 22.616358 | BW12: 2890 | BX12: ='Max limit'!AX12*Input!PrimaryDrive_ratio*Input!Gear6_ratio*Input!FinalDrive_ratio -> 656.48428 | BY12: =BX12/60 -> 10.941405 | BZ12: =BY12*Input!$N$23 -> 25745.103 | CA12: =BZ12/1000 -> 25.745103 | CC12: 2890 | CD12: =MROUND($BB12,0.5) -> 10 | CE12: =MROUND($BG12,0.5) -> 13 | CF12: =MROUND($BL12,0.5) -> 16.5 | CG12: =MROUND($BQ12,0.5) -> 19.5 | CH12: =MROUND($BV12,0.5) -> 22.5 | CI12: =MROUND($CA12,0.5) -> 25.5 | CK12: 2890 | CL12: =$AY12/60 -> 4.2508836 | CM12: =$BD12/60 -> 5.5922735 | CN12: =$BI12/60 -> 6.9903419 | CO12: =$BN12/60 -> 8.3884103 | CP12: =$BS12/60 -> 9.6117201 | CQ12: =$BX12/60 -> 10.941405
A13: 2940 | B13: 22.709 | C13: 54.249 | D13: 20.942 | E13: 1.505 | G13: Gravity | H13: 9.81 | I13: m/s² | O13: 2900 | P13: =(($H$10*$H$14*($H$5-$H$7)-(AQ13*($H$5-($H$10*$H$9)))))/(H$34*($H$5-($H$9*$H$10))) -> 13.156366 | Q13: =(($H$10*$H$14*($H$5-$H$7)-(AR13*($H$5-($H$10*$H$9)))))/(I$34*($H$5-($H$9*$H$10))) -> 13.574566 | R13: =(($H$10*$H$14*($H$5-$H$7)-(AS13*($H$5-($H$10*$H$9)))))/(J$34*($H$5-($H$9*$H$10))) -> 13.879753 | S13: =(($H$10*$H$14*($H$5-$H$7)-(AT13*($H$5-($H$10*$H$9)))))/(K$34*($H$5-($H$9*$H$10))) -> 13.926882 | T13: =(($H$10*$H$14*($H$5-$H$7)-(AU13*($H$5-($H$10*$H$9)))))/(L$34*($H$5-($H$9*$H$10))) -> 13.97293 | U13: =(($H$10*$H$14*($H$5-$H$7)-(AV13*($H$5-($H$10*$H$9)))))/(M$34*($H$5-($H$9*$H$10))) -> 13.870034 | W13: 2900 | X13: =(($H$14*$H$7)-(AQ13*$H$9))/(H$34*$H$9) -> 9.2759542 | Y13: =(($H$14*$H$7)-(AR13*$H$9))/(I$34*$H$9) -> 9.5567944 | Z13: =(($H$14*$H$7)-(AS13*$H$9))/(J$34*$H$9) -> 9.7524061 | AA13: =(($H$14*$H$7)-(AT13*$H$9))/(K$34*$H$9) -> 9.7616698 | AB13: =(($H$14*$H$7)-(AU13*$H$9))/(L$34*$H$9) -> 9.7691503 | AC13: =(($H$14*$H$7)-(AV13*$H$9))/(M$34*$H$9) -> 9.6662546 | AG13: 2900 | AH13: =-(($H$13*($H$5-$H$8))/$H$9)-(AQ13/$H$12) -> -10.999821 | AI13: =-(($H$13*($H$5-$H$8))/$H$9)-(AR13/$H$12) -> -11.05351 | AJ13: =-(($H$13*($H$5-$H$8))/$H$9)-(AS13/$H$12) -> -11.125041 | AK13: =-(($H$13*($H$5-$H$8))/$H$9)-(AT13/$H$12) -> -11.212467 | AL13: =-(($H$13*($H$5-$H$8))/$H$9)-(AU13/$H$12) -> -11.302005 | AM13: =-(($H$13*($H$5-$H$8))/$H$9)-(AV13/$H$12) -> -11.413132 | AP13: 2900 | AQ13: =0.5*$L$5*$L$9*$L$7*($BB13^2) -> 19.397986 | AR13: =0.5*$L$5*$L$9*$L$7*($BG13^2) -> 33.571831 | AS13: =0.5*$L$5*$L$9*$L$7*($BL13^2) -> 52.455987 | AT13: =0.5*$L$5*$L$9*$L$7*($BQ13^2) -> 75.536621 | AU13: =0.5*$L$5*$L$9*$L$7*($BV13^2) -> 99.1746 | AV13: =0.5*$L$5*$L$9*$L$7*($CA13^2) -> 128.51221 | AX13: 2900 | AY13: ='Max limit'!AX13*Input!PrimaryDrive_ratio*Input!Gear1_ratio*Input!FinalDrive_ratio -> 255.93555 | AZ13: =AY13 / 60 -> 4.2655925 | BA13: =AZ13*Input!$N$23 -> 10036.931 | BB13: =BA13/1000 -> 10.036931 | BC13: 2900 | BD13: ='Max limit'!AX13*Input!PrimaryDrive_ratio*Input!Gear2_ratio*Input!FinalDrive_ratio -> 336.69744 | BE13: =BD13/60 -> 5.6116239 | BF13: =BE13*Input!$N$23 -> 13204.14 | BG13: =BF13/1000 -> 13.20414 | BH13: 2900 | BI13: ='Max limit'!AX13*Input!PrimaryDrive_ratio*Input!Gear3_ratio*Input!FinalDrive_ratio -> 420.87179 | BJ13: =BI13/60 -> 7.0145299 | BK13: =BJ13*Input!$N$23 -> 16505.175 | BL13: =BK13/1000 -> 16.505175 | BM13: 2900 | BN13: ='Max limit'!AX13*Input!PrimaryDrive_ratio*Input!Gear4_ratio*Input!FinalDrive_ratio -> 505.04615 | BO13: =BN13/60 -> 8.4174359 | BP13: =BO13*Input!$N$23 -> 19806.21 | BQ13: =BP13/1000 -> 19.80621 | BR13: 2900 | BS13: ='Max limit'!AX13*Input!PrimaryDrive_ratio*Input!Gear5_ratio*Input!FinalDrive_ratio -> 578.69872 | BT13: =BS13/60 -> 9.6449786 | BU13: =BT13*Input!$N$23 -> 22694.615 | BV13: =BU13/1000 -> 22.694615 | BW13: 2900 | BX13: ='Max limit'!AX13*Input!PrimaryDrive_ratio*Input!Gear6_ratio*Input!FinalDrive_ratio -> 658.75585 | BY13: =BX13/60 -> 10.979264 | BZ13: =BY13*Input!$N$23 -> 25834.187 | CA13: =BZ13/1000 -> 25.834187 | CC13: 2900 | CD13: =MROUND($BB13,0.5) -> 10 | CE13: =MROUND($BG13,0.5) -> 13 | CF13: =MROUND($BL13,0.5) -> 16.5 | CG13: =MROUND($BQ13,0.5) -> 20 | CH13: =MROUND($BV13,0.5) -> 22.5 | CI13: =MROUND($CA13,0.5) -> 26 | CK13: 2900 | CL13: =$AY13/60 -> 4.2655925 | CM13: =$BD13/60 -> 5.6116239 | CN13: =$BI13/60 -> 7.0145299 | CO13: =$BN13/60 -> 8.4174359 | CP13: =$BS13/60 -> 9.6449786 | CQ13: =$BX13/60 -> 10.979264
A14: 2950 | B14: 23.064 | C14: 54.91 | D14: 21.288 | E14: 1.51 | G14: MG | H14: =Input!Mass_kg * H13 -> 2589.84 | I14: kg | O14: 2910 | P14: =(($H$10*$H$14*($H$5-$H$7)-(AQ14*($H$5-($H$10*$H$9)))))/(H$34*($H$5-($H$9*$H$10))) -> 13.155932 | Q14: =(($H$10*$H$14*($H$5-$H$7)-(AR14*($H$5-($H$10*$H$9)))))/(I$34*($H$5-($H$9*$H$10))) -> 13.573788 | R14: =(($H$10*$H$14*($H$5-$H$7)-(AS14*($H$5-($H$10*$H$9)))))/(J$34*($H$5-($H$9*$H$10))) -> 13.878505 | S14: =(($H$10*$H$14*($H$5-$H$7)-(AT14*($H$5-($H$10*$H$9)))))/(K$34*($H$5-($H$9*$H$10))) -> 13.925069 | T14: =(($H$10*$H$14*($H$5-$H$7)-(AU14*($H$5-($H$10*$H$9)))))/(L$34*($H$5-($H$9*$H$10))) -> 13.970527 | U14: =(($H$10*$H$14*($H$5-$H$7)-(AV14*($H$5-($H$10*$H$9)))))/(M$34*($H$5-($H$9*$H$10))) -> 13.86692 | W14: 2910 | X14: =(($H$14*$H$7)-(AQ14*$H$9))/(H$34*$H$9) -> 9.2755204 | Y14: =(($H$14*$H$7)-(AR14*$H$9))/(I$34*$H$9) -> 9.5560169 | Z14: =(($H$14*$H$7)-(AS14*$H$9))/(J$34*$H$9) -> 9.7511582 | AA14: =(($H$14*$H$7)-(AT14*$H$9))/(K$34*$H$9) -> 9.7598564 | AB14: =(($H$14*$H$7)-(AU14*$H$9))/(L$34*$H$9) -> 9.7667473 | AC14: =(($H$14*$H$7)-(AV14*$H$9))/(M$34*$H$9) -> 9.6631408 | AG14: 2910 | AH14: =-(($H$13*($H$5-$H$8))/$H$9)-(AQ14/$H$12) -> -11.000328 | AI14: =-(($H$13*($H$5-$H$8))/$H$9)-(AR14/$H$12) -> -11.054388 | AJ14: =-(($H$13*($H$5-$H$8))/$H$9)-(AS14/$H$12) -> -11.126413 | AK14: =-(($H$13*($H$5-$H$8))/$H$9)-(AT14/$H$12) -> -11.214444 | AL14: =-(($H$13*($H$5-$H$8))/$H$9)-(AU14/$H$12) -> -11.3046 | AM14: =-(($H$13*($H$5-$H$8))/$H$9)-(AV14/$H$12) -> -11.416495 | AP14: 2910 | AQ14: =0.5*$L$5*$L$9*$L$7*($BB14^2) -> 19.531996 | AR14: =0.5*$L$5*$L$9*$L$7*($BG14^2) -> 33.80376 | AS14: =0.5*$L$5*$L$9*$L$7*($BL14^2) -> 52.818376 | AT14: =0.5*$L$5*$L$9*$L$7*($BQ14^2) -> 76.058461 | AU14: =0.5*$L$5*$L$9*$L$7*($BV14^2) -> 99.859742 | AV14: =0.5*$L$5*$L$9*$L$7*($CA14^2) -> 129.40003 | AX14: 2910 | AY14: ='Max limit'!AX14*Input!PrimaryDrive_ratio*Input!Gear1_ratio*Input!FinalDrive_ratio -> 256.81809 | AZ14: =AY14 / 60 -> 4.2803015 | BA14: =AZ14*Input!$N$23 -> 10071.541 | BB14: =BA14/1000 -> 10.071541 | BC14: 2910 | BD14: ='Max limit'!AX14*Input!PrimaryDrive_ratio*Input!Gear2_ratio*Input!FinalDrive_ratio -> 337.85846 | BE14: =BD14/60 -> 5.6309744 | BF14: =BE14*Input!$N$23 -> 13249.671 | BG14: =BF14/1000 -> 13.249671 | BH14: 2910 | BI14: ='Max limit'!AX14*Input!PrimaryDrive_ratio*Input!Gear3_ratio*Input!FinalDrive_ratio -> 422.32308 | BJ14: =BI14/60 -> 7.0387179 | BK14: =BJ14*Input!$N$23 -> 16562.089 | BL14: =BK14/1000 -> 16.562089 | BM14: 2910 | BN14: ='Max limit'!AX14*Input!PrimaryDrive_ratio*Input!Gear4_ratio*Input!FinalDrive_ratio -> 506.78769 | BO14: =BN14/60 -> 8.4464615 | BP14: =BO14*Input!$N$23 -> 19874.507 | BQ14: =BP14/1000 -> 19.874507 | BR14: 2910 | BS14: ='Max limit'!AX14*Input!PrimaryDrive_ratio*Input!Gear5_ratio*Input!FinalDrive_ratio -> 580.69423 | BT14: =BS14/60 -> 9.6782372 | BU14: =BT14*Input!$N$23 -> 22772.873 | BV14: =BU14/1000 -> 22.772873 | BW14: 2910 | BX14: ='Max limit'!AX14*Input!PrimaryDrive_ratio*Input!Gear6_ratio*Input!FinalDrive_ratio -> 661.02742 | BY14: =BX14/60 -> 11.017124 | BZ14: =BY14*Input!$N$23 -> 25923.27 | CA14: =BZ14/1000 -> 25.92327 | CC14: 2910 | CD14: =MROUND($BB14,0.5) -> 10 | CE14: =MROUND($BG14,0.5) -> 13 | CF14: =MROUND($BL14,0.5) -> 16.5 | CG14: =MROUND($BQ14,0.5) -> 20 | CH14: =MROUND($BV14,0.5) -> 23 | CI14: =MROUND($CA14,0.5) -> 26 | CK14: 2910 | CL14: =$AY14/60 -> 4.2803015 | CM14: =$BD14/60 -> 5.6309744 | CN14: =$BI14/60 -> 7.0387179 | CO14: =$BN14/60 -> 8.4464615 | CP14: =$BS14/60 -> 9.6782372 | CQ14: =$BX14/60 -> 11.017124
A15: 2960 | B15: 23.419 | C15: 55.568 | D15: 21.634 | E15: 1.515 | G15: Wheel radius | H15: =0.326 -> 0.326 | O15: 2920 | P15: =(($H$10*$H$14*($H$5-$H$7)-(AQ15*($H$5-($H$10*$H$9)))))/(H$34*($H$5-($H$9*$H$10))) -> 13.155497 | Q15: =(($H$10*$H$14*($H$5-$H$7)-(AR15*($H$5-($H$10*$H$9)))))/(I$34*($H$5-($H$9*$H$10))) -> 13.573008 | R15: =(($H$10*$H$14*($H$5-$H$7)-(AS15*($H$5-($H$10*$H$9)))))/(J$34*($H$5-($H$9*$H$10))) -> 13.877253 | S15: =(($H$10*$H$14*($H$5-$H$7)-(AT15*($H$5-($H$10*$H$9)))))/(K$34*($H$5-($H$9*$H$10))) -> 13.923249 | T15: =(($H$10*$H$14*($H$5-$H$7)-(AU15*($H$5-($H$10*$H$9)))))/(L$34*($H$5-($H$9*$H$10))) -> 13.968115 | U15: =(($H$10*$H$14*($H$5-$H$7)-(AV15*($H$5-($H$10*$H$9)))))/(M$34*($H$5-($H$9*$H$10))) -> 13.863796 | W15: 2920 | X15: =(($H$14*$H$7)-(AQ15*$H$9))/(H$34*$H$9) -> 9.275085 | Y15: =(($H$14*$H$7)-(AR15*$H$9))/(I$34*$H$9) -> 9.5552368 | Z15: =(($H$14*$H$7)-(AS15*$H$9))/(J$34*$H$9) -> 9.749906 | AA15: =(($H$14*$H$7)-(AT15*$H$9))/(K$34*$H$9) -> 9.7580367 | AB15: =(($H$14*$H$7)-(AU15*$H$9))/(L$34*$H$9) -> 9.764336 | AC15: =(($H$14*$H$7)-(AV15*$H$9))/(M$34*$H$9) -> 9.6600162 | AG15: 2920 | AH15: =-(($H$13*($H$5-$H$8))/$H$9)-(AQ15/$H$12) -> -11.000838 | AI15: =-(($H$13*($H$5-$H$8))/$H$9)-(AR15/$H$12) -> -11.05527 | AJ15: =-(($H$13*($H$5-$H$8))/$H$9)-(AS15/$H$12) -> -11.127791 | AK15: =-(($H$13*($H$5-$H$8))/$H$9)-(AT15/$H$12) -> -11.216427 | AL15: =-(($H$13*($H$5-$H$8))/$H$9)-(AU15/$H$12) -> -11.307204 | AM15: =-(($H$13*($H$5-$H$8))/$H$9)-(AV15/$H$12) -> -11.41987 | AP15: 2920 | AQ15: =0.5*$L$5*$L$9*$L$7*($BB15^2) -> 19.666467 | AR15: =0.5*$L$5*$L$9*$L$7*($BG15^2) -> 34.036488 | AS15: =0.5*$L$5*$L$9*$L$7*($BL15^2) -> 53.182012 | AT15: =0.5*$L$5*$L$9*$L$7*($BQ15^2) -> 76.582098 | AU15: =0.5*$L$5*$L$9*$L$7*($BV15^2) -> 100.54724 | AV15: =0.5*$L$5*$L$9*$L$7*($CA15^2) -> 130.2909 | AX15: 2920 | AY15: ='Max limit'!AX15*Input!PrimaryDrive_ratio*Input!Gear1_ratio*Input!FinalDrive_ratio -> 257.70062 | AZ15: =AY15 / 60 -> 4.2950104 | BA15: =AZ15*Input!$N$23 -> 10106.151 | BB15: =BA15/1000 -> 10.106151 | BC15: 2920 | BD15: ='Max limit'!AX15*Input!PrimaryDrive_ratio*Input!Gear2_ratio*Input!FinalDrive_ratio -> 339.01949 | BE15: =BD15/60 -> 5.6503248 | BF15: =BE15*Input!$N$23 -> 13295.203 | BG15: =BF15/1000 -> 13.295203 | BH15: 2920 | BI15: ='Max limit'!AX15*Input!PrimaryDrive_ratio*Input!Gear3_ratio*Input!FinalDrive_ratio -> 423.77436 | BJ15: =BI15/60 -> 7.062906 | BK15: =BJ15*Input!$N$23 -> 16619.004 | BL15: =BK15/1000 -> 16.619004 | BM15: 2920 | BN15: ='Max limit'!AX15*Input!PrimaryDrive_ratio*Input!Gear4_ratio*Input!FinalDrive_ratio -> 508.52923 | BO15: =BN15/60 -> 8.4754872 | BP15: =BO15*Input!$N$23 -> 19942.804 | BQ15: =BP15/1000 -> 19.942804 | BR15: 2920 | BS15: ='Max limit'!AX15*Input!PrimaryDrive_ratio*Input!Gear5_ratio*Input!FinalDrive_ratio -> 582.68974 | BT15: =BS15/60 -> 9.7114957 | BU15: =BT15*Input!$N$23 -> 22851.13 | BV15: =BU15/1000 -> 22.85113 | BW15: 2920 | BX15: ='Max limit'!AX15*Input!PrimaryDrive_ratio*Input!Gear6_ratio*Input!FinalDrive_ratio -> 663.299 | BY15: =BX15/60 -> 11.054983 | BZ15: =BY15*Input!$N$23 -> 26012.354 | CA15: =BZ15/1000 -> 26.012354 | CC15: 2920 | CD15: =MROUND($BB15,0.5) -> 10 | CE15: =MROUND($BG15,0.5) -> 13.5 | CF15: =MROUND($BL15,0.5) -> 16.5 | CG15: =MROUND($BQ15,0.5) -> 20 | CH15: =MROUND($BV15,0.5) -> 23 | CI15: =MROUND($CA15,0.5) -> 26 | CK15: 2920 | CL15: =$AY15/60 -> 4.2950104 | CM15: =$BD15/60 -> 5.6503248 | CN15: =$BI15/60 -> 7.062906 | CO15: =$BN15/60 -> 8.4754872 | CP15: =$BS15/60 -> 9.7114957 | CQ15: =$BX15/60 -> 11.054983
A16: 2970 | B16: 23.775 | C16: 56.222 | D16: 21.981 | E16: 1.52 | G16: Max torque | H16: =MAX(C2:C200) -> 102.041 | O16: 2930 | P16: =(($H$10*$H$14*($H$5-$H$7)-(AQ16*($H$5-($H$10*$H$9)))))/(H$34*($H$5-($H$9*$H$10))) -> 13.15506 | Q16: =(($H$10*$H$14*($H$5-$H$7)-(AR16*($H$5-($H$10*$H$9)))))/(I$34*($H$5-($H$9*$H$10))) -> 13.572225 | R16: =(($H$10*$H$14*($H$5-$H$7)-(AS16*($H$5-($H$10*$H$9)))))/(J$34*($H$5-($H$9*$H$10))) -> 13.875997 | S16: =(($H$10*$H$14*($H$5-$H$7)-(AT16*($H$5-($H$10*$H$9)))))/(K$34*($H$5-($H$9*$H$10))) -> 13.921423 | T16: =(($H$10*$H$14*($H$5-$H$7)-(AU16*($H$5-($H$10*$H$9)))))/(L$34*($H$5-($H$9*$H$10))) -> 13.965696 | U16: =(($H$10*$H$14*($H$5-$H$7)-(AV16*($H$5-($H$10*$H$9)))))/(M$34*($H$5-($H$9*$H$10))) -> 13.86066 | W16: 2930 | X16: =(($H$14*$H$7)-(AQ16*$H$9))/(H$34*$H$9) -> 9.2746482 | Y16: =(($H$14*$H$7)-(AR16*$H$9))/(I$34*$H$9) -> 9.554454 | Z16: =(($H$14*$H$7)-(AS16*$H$9))/(J$34*$H$9) -> 9.7486496 | AA16: =(($H$14*$H$7)-(AT16*$H$9))/(K$34*$H$9) -> 9.7562107 | AB16: =(($H$14*$H$7)-(AU16*$H$9))/(L$34*$H$9) -> 9.7619165 | AC16: =(($H$14*$H$7)-(AV16*$H$9))/(M$34*$H$9) -> 9.6568809 | AG16: 2930 | AH16: =-(($H$13*($H$5-$H$8))/$H$9)-(AQ16/$H$12) -> -11.001349 | AI16: =-(($H$13*($H$5-$H$8))/$H$9)-(AR16/$H$12) -> -11.056154 | AJ16: =-(($H$13*($H$5-$H$8))/$H$9)-(AS16/$H$12) -> -11.129173 | AK16: =-(($H$13*($H$5-$H$8))/$H$9)-(AT16/$H$12) -> -11.218418 | AL16: =-(($H$13*($H$5-$H$8))/$H$9)-(AU16/$H$12) -> -11.309818 | AM16: =-(($H$13*($H$5-$H$8))/$H$9)-(AV16/$H$12) -> -11.423256 | AP16: 2930 | AQ16: =0.5*$L$5*$L$9*$L$7*($BB16^2) -> 19.8014 | AR16: =0.5*$L$5*$L$9*$L$7*($BG16^2) -> 34.270014 | AS16: =0.5*$L$5*$L$9*$L$7*($BL16^2) -> 53.546896 | AT16: =0.5*$L$5*$L$9*$L$7*($BQ16^2) -> 77.107531 | AU16: =0.5*$L$5*$L$9*$L$7*($BV16^2) -> 101.2371 | AV16: =0.5*$L$5*$L$9*$L$7*($CA16^2) -> 131.18484 | AX16: 2930 | AY16: ='Max limit'!AX16*Input!PrimaryDrive_ratio*Input!Gear1_ratio*Input!FinalDrive_ratio -> 258.58316 | AZ16: =AY16 / 60 -> 4.3097193 | BA16: =AZ16*Input!$N$23 -> 10140.761 | BB16: =BA16/1000 -> 10.140761 | BC16: 2930 | BD16: ='Max limit'!AX16*Input!PrimaryDrive_ratio*Input!Gear2_ratio*Input!FinalDrive_ratio -> 340.18051 | BE16: =BD16/60 -> 5.6696752 | BF16: =BE16*Input!$N$23 -> 13340.734 | BG16: =BF16/1000 -> 13.340734 | BH16: 2930 | BI16: ='Max limit'!AX16*Input!PrimaryDrive_ratio*Input!Gear3_ratio*Input!FinalDrive_ratio -> 425.22564 | BJ16: =BI16/60 -> 7.087094 | BK16: =BJ16*Input!$N$23 -> 16675.918 | BL16: =BK16/1000 -> 16.675918 | BM16: 2930 | BN16: ='Max limit'!AX16*Input!PrimaryDrive_ratio*Input!Gear4_ratio*Input!FinalDrive_ratio -> 510.27077 | BO16: =BN16/60 -> 8.5045128 | BP16: =BO16*Input!$N$23 -> 20011.102 | BQ16: =BP16/1000 -> 20.011102 | BR16: 2930 | BS16: ='Max limit'!AX16*Input!PrimaryDrive_ratio*Input!Gear5_ratio*Input!FinalDrive_ratio -> 584.68526 | BT16: =BS16/60 -> 9.7447543 | BU16: =BT16*Input!$N$23 -> 22929.387 | BV16: =BU16/1000 -> 22.929387 | BW16: 2930 | BX16: ='Max limit'!AX16*Input!PrimaryDrive_ratio*Input!Gear6_ratio*Input!FinalDrive_ratio -> 665.57057 | BY16: =BX16/60 -> 11.092843 | BZ16: =BY16*Input!$N$23 -> 26101.437 | CA16: =BZ16/1000 -> 26.101437 | CC16: 2930 | CD16: =MROUND($BB16,0.5) -> 10 | CE16: =MROUND($BG16,0.5) -> 13.5 | CF16: =MROUND($BL16,0.5) -> 16.5 | CG16: =MROUND($BQ16,0.5) -> 20 | CH16: =MROUND($BV16,0.5) -> 23 | CI16: =MROUND($CA16,0.5) -> 26 | CK16: 2930 | CL16: =$AY16/60 -> 4.3097193 | CM16: =$BD16/60 -> 5.6696752 | CN16: =$BI16/60 -> 7.087094 | CO16: =$BN16/60 -> 8.5045128 | CP16: =$BS16/60 -> 9.7447543 | CQ16: =$BX16/60 -> 11.092843
A17: 2980 | B17: 24.156 | C17: 56.93 | D17: 22.344 | E17: 1.533 | G17: RPM at max torque | H17: =INDEX($A$2:$A$200, MATCH(H16, $C$2:$C$200, 0)) -> 3930 | O17: 2940 | P17: =(($H$10*$H$14*($H$5-$H$7)-(AQ17*($H$5-($H$10*$H$9)))))/(H$34*($H$5-($H$9*$H$10))) -> 13.154622 | Q17: =(($H$10*$H$14*($H$5-$H$7)-(AR17*($H$5-($H$10*$H$9)))))/(I$34*($H$5-($H$9*$H$10))) -> 13.57144 | R17: =(($H$10*$H$14*($H$5-$H$7)-(AS17*($H$5-($H$10*$H$9)))))/(J$34*($H$5-($H$9*$H$10))) -> 13.874736 | S17: =(($H$10*$H$14*($H$5-$H$7)-(AT17*($H$5-($H$10*$H$9)))))/(K$34*($H$5-($H$9*$H$10))) -> 13.919591 | T17: =(($H$10*$H$14*($H$5-$H$7)-(AU17*($H$5-($H$10*$H$9)))))/(L$34*($H$5-($H$9*$H$10))) -> 13.963268 | U17: =(($H$10*$H$14*($H$5-$H$7)-(AV17*($H$5-($H$10*$H$9)))))/(M$34*($H$5-($H$9*$H$10))) -> 13.857514 | W17: 2940 | X17: =(($H$14*$H$7)-(AQ17*$H$9))/(H$34*$H$9) -> 9.2742098 | Y17: =(($H$14*$H$7)-(AR17*$H$9))/(I$34*$H$9) -> 9.5536685 | Z17: =(($H$14*$H$7)-(AS17*$H$9))/(J$34*$H$9) -> 9.7473888 | AA17: =(($H$14*$H$7)-(AT17*$H$9))/(K$34*$H$9) -> 9.7543785 | AB17: =(($H$14*$H$7)-(AU17*$H$9))/(L$34*$H$9) -> 9.7594887 | AC17: =(($H$14*$H$7)-(AV17*$H$9))/(M$34*$H$9) -> 9.6537349 | AG17: 2940 | AH17: =-(($H$13*($H$5-$H$8))/$H$9)-(AQ17/$H$12) -> -11.001862 | AI17: =-(($H$13*($H$5-$H$8))/$H$9)-(AR17/$H$12) -> -11.057042 | AJ17: =-(($H$13*($H$5-$H$8))/$H$9)-(AS17/$H$12) -> -11.13056 | AK17: =-(($H$13*($H$5-$H$8))/$H$9)-(AT17/$H$12) -> -11.220415 | AL17: =-(($H$13*($H$5-$H$8))/$H$9)-(AU17/$H$12) -> -11.31244 | AM17: =-(($H$13*($H$5-$H$8))/$H$9)-(AV17/$H$12) -> -11.426654 | AP17: 2940 | AQ17: =0.5*$L$5*$L$9*$L$7*($BB17^2) -> 19.936794 | AR17: =0.5*$L$5*$L$9*$L$7*($BG17^2) -> 34.504338 | AS17: =0.5*$L$5*$L$9*$L$7*($BL17^2) -> 53.913028 | AT17: =0.5*$L$5*$L$9*$L$7*($BQ17^2) -> 77.63476 | AU17: =0.5*$L$5*$L$9*$L$7*($BV17^2) -> 101.92932 | AV17: =0.5*$L$5*$L$9*$L$7*($CA17^2) -> 132.08182 | AX17: 2940 | AY17: ='Max limit'!AX17*Input!PrimaryDrive_ratio*Input!Gear1_ratio*Input!FinalDrive_ratio -> 259.4657 | AZ17: =AY17 / 60 -> 4.3244283 | BA17: =AZ17*Input!$N$23 -> 10175.371 | BB17: =BA17/1000 -> 10.175371 | BC17: 2940 | BD17: ='Max limit'!AX17*Input!PrimaryDrive_ratio*Input!Gear2_ratio*Input!FinalDrive_ratio -> 341.34154 | BE17: =BD17/60 -> 5.6890256 | BF17: =BE17*Input!$N$23 -> 13386.266 | BG17: =BF17/1000 -> 13.386266 | BH17: 2940 | BI17: ='Max limit'!AX17*Input!PrimaryDrive_ratio*Input!Gear3_ratio*Input!FinalDrive_ratio -> 426.67692 | BJ17: =BI17/60 -> 7.1112821 | BK17: =BJ17*Input!$N$23 -> 16732.832 | BL17: =BK17/1000 -> 16.732832 | BM17: 2940 | BN17: ='Max limit'!AX17*Input!PrimaryDrive_ratio*Input!Gear4_ratio*Input!FinalDrive_ratio -> 512.01231 | BO17: =BN17/60 -> 8.5335385 | BP17: =BO17*Input!$N$23 -> 20079.399 | BQ17: =BP17/1000 -> 20.079399 | BR17: 2940 | BS17: ='Max limit'!AX17*Input!PrimaryDrive_ratio*Input!Gear5_ratio*Input!FinalDrive_ratio -> 586.68077 | BT17: =BS17/60 -> 9.7780128 | BU17: =BT17*Input!$N$23 -> 23007.645 | BV17: =BU17/1000 -> 23.007645 | BW17: 2940 | BX17: ='Max limit'!AX17*Input!PrimaryDrive_ratio*Input!Gear6_ratio*Input!FinalDrive_ratio -> 667.84214 | BY17: =BX17/60 -> 11.130702 | BZ17: =BY17*Input!$N$23 -> 26190.52 | CA17: =BZ17/1000 -> 26.19052 | CC17: 2940 | CD17: =MROUND($BB17,0.5) -> 10 | CE17: =MROUND($BG17,0.5) -> 13.5 | CF17: =MROUND($BL17,0.5) -> 16.5 | CG17: =MROUND($BQ17,0.5) -> 20 | CH17: =MROUND($BV17,0.5) -> 23 | CI17: =MROUND($CA17,0.5) -> 26 | CK17: 2940 | CL17: =$AY17/60 -> 4.3244283 | CM17: =$BD17/60 -> 5.6890256 | CN17: =$BI17/60 -> 7.1112821 | CO17: =$BN17/60 -> 8.5335385 | CP17: =$BS17/60 -> 9.7780128 | CQ17: =$BX17/60 -> 11.130702
A18: 2990 | B18: 24.534 | C18: 57.627 | D18: 22.715 | E18: 1.536 | G18: GEAR SHIFT RPM | H18: =INDEX($A$2:$A$200, MATCH(MAX($D$2:$D$200), $D$2:$D$200, 0)) -> 4810 | O18: 2950 | P18: =(($H$10*$H$14*($H$5-$H$7)-(AQ18*($H$5-($H$10*$H$9)))))/(H$34*($H$5-($H$9*$H$10))) -> 13.154182 | Q18: =(($H$10*$H$14*($H$5-$H$7)-(AR18*($H$5-($H$10*$H$9)))))/(I$34*($H$5-($H$9*$H$10))) -> 13.570652 | R18: =(($H$10*$H$14*($H$5-$H$7)-(AS18*($H$5-($H$10*$H$9)))))/(J$34*($H$5-($H$9*$H$10))) -> 13.873471 | S18: =(($H$10*$H$14*($H$5-$H$7)-(AT18*($H$5-($H$10*$H$9)))))/(K$34*($H$5-($H$9*$H$10))) -> 13.917753 | T18: =(($H$10*$H$14*($H$5-$H$7)-(AU18*($H$5-($H$10*$H$9)))))/(L$34*($H$5-($H$9*$H$10))) -> 13.960832 | U18: =(($H$10*$H$14*($H$5-$H$7)-(AV18*($H$5-($H$10*$H$9)))))/(M$34*($H$5-($H$9*$H$10))) -> 13.854358 | W18: 2950 | X18: =(($H$14*$H$7)-(AQ18*$H$9))/(H$34*$H$9) -> 9.27377 | Y18: =(($H$14*$H$7)-(AR18*$H$9))/(I$34*$H$9) -> 9.5528804 | Z18: =(($H$14*$H$7)-(AS18*$H$9))/(J$34*$H$9) -> 9.7461237 | AA18: =(($H$14*$H$7)-(AT18*$H$9))/(K$34*$H$9) -> 9.7525401 | AB18: =(($H$14*$H$7)-(AU18*$H$9))/(L$34*$H$9) -> 9.7570526 | AC18: =(($H$14*$H$7)-(AV18*$H$9))/(M$34*$H$9) -> 9.6505782 | AG18: 2950 | AH18: =-(($H$13*($H$5-$H$8))/$H$9)-(AQ18/$H$12) -> -11.002376 | AI18: =-(($H$13*($H$5-$H$8))/$H$9)-(AR18/$H$12) -> -11.057933 | AJ18: =-(($H$13*($H$5-$H$8))/$H$9)-(AS18/$H$12) -> -11.131951 | AK18: =-(($H$13*($H$5-$H$8))/$H$9)-(AT18/$H$12) -> -11.222419 | AL18: =-(($H$13*($H$5-$H$8))/$H$9)-(AU18/$H$12) -> -11.315071 | AM18: =-(($H$13*($H$5-$H$8))/$H$9)-(AV18/$H$12) -> -11.430063 | AP18: 2950 | AQ18: =0.5*$L$5*$L$9*$L$7*($BB18^2) -> 20.072649 | AR18: =0.5*$L$5*$L$9*$L$7*($BG18^2) -> 34.739461 | AS18: =0.5*$L$5*$L$9*$L$7*($BL18^2) -> 54.280407 | AT18: =0.5*$L$5*$L$9*$L$7*($BQ18^2) -> 78.163786 | AU18: =0.5*$L$5*$L$9*$L$7*($BV18^2) -> 102.62389 | AV18: =0.5*$L$5*$L$9*$L$7*($CA18^2) -> 132.98187 | AX18: 2950 | AY18: ='Max limit'!AX18*Input!PrimaryDrive_ratio*Input!Gear1_ratio*Input!FinalDrive_ratio -> 260.34823 | AZ18: =AY18 / 60 -> 4.3391372 | BA18: =AZ18*Input!$N$23 -> 10209.981 | BB18: =BA18/1000 -> 10.209981 | BC18: 2950 | BD18: ='Max limit'!AX18*Input!PrimaryDrive_ratio*Input!Gear2_ratio*Input!FinalDrive_ratio -> 342.50256 | BE18: =BD18/60 -> 5.7083761 | BF18: =BE18*Input!$N$23 -> 13431.797 | BG18: =BF18/1000 -> 13.431797 | BH18: 2950 | BI18: ='Max limit'!AX18*Input!PrimaryDrive_ratio*Input!Gear3_ratio*Input!FinalDrive_ratio -> 428.12821 | BJ18: =BI18/60 -> 7.1354701 | BK18: =BJ18*Input!$N$23 -> 16789.747 | BL18: =BK18/1000 -> 16.789747 | BM18: 2950 | BN18: ='Max limit'!AX18*Input!PrimaryDrive_ratio*Input!Gear4_ratio*Input!FinalDrive_ratio -> 513.75385 | BO18: =BN18/60 -> 8.5625641 | BP18: =BO18*Input!$N$23 -> 20147.696 | BQ18: =BP18/1000 -> 20.147696 | BR18: 2950 | BS18: ='Max limit'!AX18*Input!PrimaryDrive_ratio*Input!Gear5_ratio*Input!FinalDrive_ratio -> 588.67628 | BT18: =BS18/60 -> 9.8112714 | BU18: =BT18*Input!$N$23 -> 23085.902 | BV18: =BU18/1000 -> 23.085902 | BW18: 2950 | BX18: ='Max limit'!AX18*Input!PrimaryDrive_ratio*Input!Gear6_ratio*Input!FinalDrive_ratio -> 670.11371 | BY18: =BX18/60 -> 11.168562 | BZ18: =BY18*Input!$N$23 -> 26279.604 | CA18: =BZ18/1000 -> 26.279604 | CC18: 2950 | CD18: =MROUND($BB18,0.5) -> 10 | CE18: =MROUND($BG18,0.5) -> 13.5 | CF18: =MROUND($BL18,0.5) -> 17 | CG18: =MROUND($BQ18,0.5) -> 20 | CH18: =MROUND($BV18,0.5) -> 23 | CI18: =MROUND($CA18,0.5) -> 26.5 | CK18: 2950 | CL18: =$AY18/60 -> 4.3391372 | CM18: =$BD18/60 -> 5.7083761 | CN18: =$BI18/60 -> 7.1354701 | CO18: =$BN18/60 -> 8.5625641 | CP18: =$BS18/60 -> 9.8112714 | CQ18: =$BX18/60 -> 11.168562
A19: 3000 | B19: 24.919 | C19: 58.337 | D19: 23.085 | E19: 1.547 | O19: 2960 | P19: =(($H$10*$H$14*($H$5-$H$7)-(AQ19*($H$5-($H$10*$H$9)))))/(H$34*($H$5-($H$9*$H$10))) -> 13.15374 | Q19: =(($H$10*$H$14*($H$5-$H$7)-(AR19*($H$5-($H$10*$H$9)))))/(I$34*($H$5-($H$9*$H$10))) -> 13.569861 | R19: =(($H$10*$H$14*($H$5-$H$7)-(AS19*($H$5-($H$10*$H$9)))))/(J$34*($H$5-($H$9*$H$10))) -> 13.872201 | S19: =(($H$10*$H$14*($H$5-$H$7)-(AT19*($H$5-($H$10*$H$9)))))/(K$34*($H$5-($H$9*$H$10))) -> 13.915908 | T19: =(($H$10*$H$14*($H$5-$H$7)-(AU19*($H$5-($H$10*$H$9)))))/(L$34*($H$5-($H$9*$H$10))) -> 13.958388 | U19: =(($H$10*$H$14*($H$5-$H$7)-(AV19*($H$5-($H$10*$H$9)))))/(M$34*($H$5-($H$9*$H$10))) -> 13.85119 | W19: 2960 | X19: =(($H$14*$H$7)-(AQ19*$H$9))/(H$34*$H$9) -> 9.2733287 | Y19: =(($H$14*$H$7)-(AR19*$H$9))/(I$34*$H$9) -> 9.5520895 | Z19: =(($H$14*$H$7)-(AS19*$H$9))/(J$34*$H$9) -> 9.7448543 | AA19: =(($H$14*$H$7)-(AT19*$H$9))/(K$34*$H$9) -> 9.7506954 | AB19: =(($H$14*$H$7)-(AU19*$H$9))/(L$34*$H$9) -> 9.7546082 | AC19: =(($H$14*$H$7)-(AV19*$H$9))/(M$34*$H$9) -> 9.6474108 | AG19: 2960 | AH19: =-(($H$13*($H$5-$H$8))/$H$9)-(AQ19/$H$12) -> -11.002893 | AI19: =-(($H$13*($H$5-$H$8))/$H$9)-(AR19/$H$12) -> -11.058826 | AJ19: =-(($H$13*($H$5-$H$8))/$H$9)-(AS19/$H$12) -> -11.133348 | AK19: =-(($H$13*($H$5-$H$8))/$H$9)-(AT19/$H$12) -> -11.224429 | AL19: =-(($H$13*($H$5-$H$8))/$H$9)-(AU19/$H$12) -> -11.31771 | AM19: =-(($H$13*($H$5-$H$8))/$H$9)-(AV19/$H$12) -> -11.433484 | AP19: 2960 | AQ19: =0.5*$L$5*$L$9*$L$7*($BB19^2) -> 20.208965 | AR19: =0.5*$L$5*$L$9*$L$7*($BG19^2) -> 34.975381 | AS19: =0.5*$L$5*$L$9*$L$7*($BL19^2) -> 54.649034 | AT19: =0.5*$L$5*$L$9*$L$7*($BQ19^2) -> 78.694608 | AU19: =0.5*$L$5*$L$9*$L$7*($BV19^2) -> 103.32083 | AV19: =0.5*$L$5*$L$9*$L$7*($CA19^2) -> 133.88497 | AX19: 2960 | AY19: ='Max limit'!AX19*Input!PrimaryDrive_ratio*Input!Gear1_ratio*Input!FinalDrive_ratio -> 261.23077 | AZ19: =AY19 / 60 -> 4.3538462 | BA19: =AZ19*Input!$N$23 -> 10244.591 | BB19: =BA19/1000 -> 10.244591 | BC19: 2960 | BD19: ='Max limit'!AX19*Input!PrimaryDrive_ratio*Input!Gear2_ratio*Input!FinalDrive_ratio -> 343.66359 | BE19: =BD19/60 -> 5.7277265 | BF19: =BE19*Input!$N$23 -> 13477.329 | BG19: =BF19/1000 -> 13.477329 | BH19: 2960 | BI19: ='Max limit'!AX19*Input!PrimaryDrive_ratio*Input!Gear3_ratio*Input!FinalDrive_ratio -> 429.57949 | BJ19: =BI19/60 -> 7.1596581 | BK19: =BJ19*Input!$N$23 -> 16846.661 | BL19: =BK19/1000 -> 16.846661 | BM19: 2960 | BN19: ='Max limit'!AX19*Input!PrimaryDrive_ratio*Input!Gear4_ratio*Input!FinalDrive_ratio -> 515.49538 | BO19: =BN19/60 -> 8.5915897 | BP19: =BO19*Input!$N$23 -> 20215.993 | BQ19: =BP19/1000 -> 20.215993 | BR19: 2960 | BS19: ='Max limit'!AX19*Input!PrimaryDrive_ratio*Input!Gear5_ratio*Input!FinalDrive_ratio -> 590.67179 | BT19: =BS19/60 -> 9.8445299 | BU19: =BT19*Input!$N$23 -> 23164.159 | BV19: =BU19/1000 -> 23.164159 | BW19: 2960 | BX19: ='Max limit'!AX19*Input!PrimaryDrive_ratio*Input!Gear6_ratio*Input!FinalDrive_ratio -> 672.38528 | BY19: =BX19/60 -> 11.206421 | BZ19: =BY19*Input!$N$23 -> 26368.687 | CA19: =BZ19/1000 -> 26.368687 | CC19: 2960 | CD19: =MROUND($BB19,0.5) -> 10 | CE19: =MROUND($BG19,0.5) -> 13.5 | CF19: =MROUND($BL19,0.5) -> 17 | CG19: =MROUND($BQ19,0.5) -> 20 | CH19: =MROUND($BV19,0.5) -> 23 | CI19: =MROUND($CA19,0.5) -> 26.5 | CK19: 2960 | CL19: =$AY19/60 -> 4.3538462 | CM19: =$BD19/60 -> 5.7277265 | CN19: =$BI19/60 -> 7.1596581 | CO19: =$BN19/60 -> 8.5915897 | CP19: =$BS19/60 -> 9.8445299 | CQ19: =$BX19/60 -> 11.206421
A20: 3010 | B20: 25.296 | C20: 59.024 | D20: 23.455 | E20: 1.55 | O20: 2970 | P20: =(($H$10*$H$14*($H$5-$H$7)-(AQ20*($H$5-($H$10*$H$9)))))/(H$34*($H$5-($H$9*$H$10))) -> 13.153298 | Q20: =(($H$10*$H$14*($H$5-$H$7)-(AR20*($H$5-($H$10*$H$9)))))/(I$34*($H$5-($H$9*$H$10))) -> 13.569067 | R20: =(($H$10*$H$14*($H$5-$H$7)-(AS20*($H$5-($H$10*$H$9)))))/(J$34*($H$5-($H$9*$H$10))) -> 13.870928 | S20: =(($H$10*$H$14*($H$5-$H$7)-(AT20*($H$5-($H$10*$H$9)))))/(K$34*($H$5-($H$9*$H$10))) -> 13.914057 | T20: =(($H$10*$H$14*($H$5-$H$7)-(AU20*($H$5-($H$10*$H$9)))))/(L$34*($H$5-($H$9*$H$10))) -> 13.955935 | U20: =(($H$10*$H$14*($H$5-$H$7)-(AV20*($H$5-($H$10*$H$9)))))/(M$34*($H$5-($H$9*$H$10))) -> 13.848012 | W20: 2970 | X20: =(($H$14*$H$7)-(AQ20*$H$9))/(H$34*$H$9) -> 9.2728859 | Y20: =(($H$14*$H$7)-(AR20*$H$9))/(I$34*$H$9) -> 9.551296 | Z20: =(($H$14*$H$7)-(AS20*$H$9))/(J$34*$H$9) -> 9.7435806 | AA20: =(($H$14*$H$7)-(AT20*$H$9))/(K$34*$H$9) -> 9.7488445 | AB20: =(($H$14*$H$7)-(AU20*$H$9))/(L$34*$H$9) -> 9.7521556 | AC20: =(($H$14*$H$7)-(AV20*$H$9))/(M$34*$H$9) -> 9.6442326 | AG20: 2970 | AH20: =-(($H$13*($H$5-$H$8))/$H$9)-(AQ20/$H$12) -> -11.003411 | AI20: =-(($H$13*($H$5-$H$8))/$H$9)-(AR20/$H$12) -> -11.059723 | AJ20: =-(($H$13*($H$5-$H$8))/$H$9)-(AS20/$H$12) -> -11.134749 | AK20: =-(($H$13*($H$5-$H$8))/$H$9)-(AT20/$H$12) -> -11.226447 | AL20: =-(($H$13*($H$5-$H$8))/$H$9)-(AU20/$H$12) -> -11.320359 | AM20: =-(($H$13*($H$5-$H$8))/$H$9)-(AV20/$H$12) -> -11.436916 | AP20: 2970 | AQ20: =0.5*$L$5*$L$9*$L$7*($BB20^2) -> 20.345743 | AR20: =0.5*$L$5*$L$9*$L$7*($BG20^2) -> 35.212101 | AS20: =0.5*$L$5*$L$9*$L$7*($BL20^2) -> 55.018908 | AT20: =0.5*$L$5*$L$9*$L$7*($BQ20^2) -> 79.227227 | AU20: =0.5*$L$5*$L$9*$L$7*($BV20^2) -> 104.02012 | AV20: =0.5*$L$5*$L$9*$L$7*($CA20^2) -> 134.79112 | AX20: 2970 | AY20: ='Max limit'!AX20*Input!PrimaryDrive_ratio*Input!Gear1_ratio*Input!FinalDrive_ratio -> 262.11331 | AZ20: =AY20 / 60 -> 4.3685551 | BA20: =AZ20*Input!$N$23 -> 10279.201 | BB20: =BA20/1000 -> 10.279201 | BC20: 2970 | BD20: ='Max limit'!AX20*Input!PrimaryDrive_ratio*Input!Gear2_ratio*Input!FinalDrive_ratio -> 344.82462 | BE20: =BD20/60 -> 5.7470769 | BF20: =BE20*Input!$N$23 -> 13522.861 | BG20: =BF20/1000 -> 13.522861 | BH20: 2970 | BI20: ='Max limit'!AX20*Input!PrimaryDrive_ratio*Input!Gear3_ratio*Input!FinalDrive_ratio -> 431.03077 | BJ20: =BI20/60 -> 7.1838462 | BK20: =BJ20*Input!$N$23 -> 16903.576 | BL20: =BK20/1000 -> 16.903576 | BM20: 2970 | BN20: ='Max limit'!AX20*Input!PrimaryDrive_ratio*Input!Gear4_ratio*Input!FinalDrive_ratio -> 517.23692 | BO20: =BN20/60 -> 8.6206154 | BP20: =BO20*Input!$N$23 -> 20284.291 | BQ20: =BP20/1000 -> 20.284291 | BR20: 2970 | BS20: ='Max limit'!AX20*Input!PrimaryDrive_ratio*Input!Gear5_ratio*Input!FinalDrive_ratio -> 592.66731 | BT20: =BS20/60 -> 9.8777885 | BU20: =BT20*Input!$N$23 -> 23242.416 | BV20: =BU20/1000 -> 23.242416 | BW20: 2970 | BX20: ='Max limit'!AX20*Input!PrimaryDrive_ratio*Input!Gear6_ratio*Input!FinalDrive_ratio -> 674.65686 | BY20: =BX20/60 -> 11.244281 | BZ20: =BY20*Input!$N$23 -> 26457.771 | CA20: =BZ20/1000 -> 26.457771 | CC20: 2970 | CD20: =MROUND($BB20,0.5) -> 10.5 | CE20: =MROUND($BG20,0.5) -> 13.5 | CF20: =MROUND($BL20,0.5) -> 17 | CG20: =MROUND($BQ20,0.5) -> 20.5 | CH20: =MROUND($BV20,0.5) -> 23 | CI20: =MROUND($CA20,0.5) -> 26.5 | CK20: 2970 | CL20: =$AY20/60 -> 4.3685551 | CM20: =$BD20/60 -> 5.7470769 | CN20: =$BI20/60 -> 7.1838462 | CO20: =$BN20/60 -> 8.6206154 | CP20: =$BS20/60 -> 9.8777885 | CQ20: =$BX20/60 -> 11.244281
A21: 3020 | B21: 25.726 | C21: 59.828 | D21: 23.869 | E21: 1.56 | O21: 2980 | P21: =(($H$10*$H$14*($H$5-$H$7)-(AQ21*($H$5-($H$10*$H$9)))))/(H$34*($H$5-($H$9*$H$10))) -> 13.152853 | Q21: =(($H$10*$H$14*($H$5-$H$7)-(AR21*($H$5-($H$10*$H$9)))))/(I$34*($H$5-($H$9*$H$10))) -> 13.568271 | R21: =(($H$10*$H$14*($H$5-$H$7)-(AS21*($H$5-($H$10*$H$9)))))/(J$34*($H$5-($H$9*$H$10))) -> 13.86965 | S21: =(($H$10*$H$14*($H$5-$H$7)-(AT21*($H$5-($H$10*$H$9)))))/(K$34*($H$5-($H$9*$H$10))) -> 13.9122 | T21: =(($H$10*$H$14*($H$5-$H$7)-(AU21*($H$5-($H$10*$H$9)))))/(L$34*($H$5-($H$9*$H$10))) -> 13.953474 | U21: =(($H$10*$H$14*($H$5-$H$7)-(AV21*($H$5-($H$10*$H$9)))))/(M$34*($H$5-($H$9*$H$10))) -> 13.844823 | W21: 2980 | X21: =(($H$14*$H$7)-(AQ21*$H$9))/(H$34*$H$9) -> 9.2724415 | Y21: =(($H$14*$H$7)-(AR21*$H$9))/(I$34*$H$9) -> 9.5504998 | Z21: =(($H$14*$H$7)-(AS21*$H$9))/(J$34*$H$9) -> 9.7423027 | AA21: =(($H$14*$H$7)-(AT21*$H$9))/(K$34*$H$9) -> 9.7469874 | AB21: =(($H$14*$H$7)-(AU21*$H$9))/(L$34*$H$9) -> 9.7496947 | AC21: =(($H$14*$H$7)-(AV21*$H$9))/(M$34*$H$9) -> 9.6410437 | AG21: 2980 | AH21: =-(($H$13*($H$5-$H$8))/$H$9)-(AQ21/$H$12) -> -11.003931 | AI21: =-(($H$13*($H$5-$H$8))/$H$9)-(AR21/$H$12) -> -11.060623 | AJ21: =-(($H$13*($H$5-$H$8))/$H$9)-(AS21/$H$12) -> -11.136154 | AK21: =-(($H$13*($H$5-$H$8))/$H$9)-(AT21/$H$12) -> -11.228471 | AL21: =-(($H$13*($H$5-$H$8))/$H$9)-(AU21/$H$12) -> -11.323017 | AM21: =-(($H$13*($H$5-$H$8))/$H$9)-(AV21/$H$12) -> -11.44036 | AP21: 2980 | AQ21: =0.5*$L$5*$L$9*$L$7*($BB21^2) -> 20.482982 | AR21: =0.5*$L$5*$L$9*$L$7*($BG21^2) -> 35.449619 | AS21: =0.5*$L$5*$L$9*$L$7*($BL21^2) -> 55.390029 | AT21: =0.5*$L$5*$L$9*$L$7*($BQ21^2) -> 79.761642 | AU21: =0.5*$L$5*$L$9*$L$7*($BV21^2) -> 104.72177 | AV21: =0.5*$L$5*$L$9*$L$7*($CA21^2) -> 135.70034 | AX21: 2980 | AY21: ='Max limit'!AX21*Input!PrimaryDrive_ratio*Input!Gear1_ratio*Input!FinalDrive_ratio -> 262.99584 | AZ21: =AY21 / 60 -> 4.383264 | BA21: =AZ21*Input!$N$23 -> 10313.812 | BB21: =BA21/1000 -> 10.313812 | BC21: 2980 | BD21: ='Max limit'!AX21*Input!PrimaryDrive_ratio*Input!Gear2_ratio*Input!FinalDrive_ratio -> 345.98564 | BE21: =BD21/60 -> 5.7664274 | BF21: =BE21*Input!$N$23 -> 13568.392 | BG21: =BF21/1000 -> 13.568392 | BH21: 2980 | BI21: ='Max limit'!AX21*Input!PrimaryDrive_ratio*Input!Gear3_ratio*Input!FinalDrive_ratio -> 432.48205 | BJ21: =BI21/60 -> 7.2080342 | BK21: =BJ21*Input!$N$23 -> 16960.49 | BL21: =BK21/1000 -> 16.96049 | BM21: 2980 | BN21: ='Max limit'!AX21*Input!PrimaryDrive_ratio*Input!Gear4_ratio*Input!FinalDrive_ratio -> 518.97846 | BO21: =BN21/60 -> 8.649641 | BP21: =BO21*Input!$N$23 -> 20352.588 | BQ21: =BP21/1000 -> 20.352588 | BR21: 2980 | BS21: ='Max limit'!AX21*Input!PrimaryDrive_ratio*Input!Gear5_ratio*Input!FinalDrive_ratio -> 594.66282 | BT21: =BS21/60 -> 9.911047 | BU21: =BT21*Input!$N$23 -> 23320.674 | BV21: =BU21/1000 -> 23.320674 | BW21: 2980 | BX21: ='Max limit'!AX21*Input!PrimaryDrive_ratio*Input!Gear6_ratio*Input!FinalDrive_ratio -> 676.92843 | BY21: =BX21/60 -> 11.28214 | BZ21: =BY21*Input!$N$23 -> 26546.854 | CA21: =BZ21/1000 -> 26.546854 | CC21: 2980 | CD21: =MROUND($BB21,0.5) -> 10.5 | CE21: =MROUND($BG21,0.5) -> 13.5 | CF21: =MROUND($BL21,0.5) -> 17 | CG21: =MROUND($BQ21,0.5) -> 20.5 | CH21: =MROUND($BV21,0.5) -> 23.5 | CI21: =MROUND($CA21,0.5) -> 26.5 | CK21: 2980 | CL21: =$AY21/60 -> 4.383264 | CM21: =$BD21/60 -> 5.7664274 | CN21: =$BI21/60 -> 7.2080342 | CO21: =$BN21/60 -> 8.649641 | CP21: =$BS21/60 -> 9.911047 | CQ21: =$BX21/60 -> 11.28214
A22: 3030 | B22: 26.17 | C22: 60.659 | D22: 24.305 | E22: 1.564 | O22: 2990 | P22: =(($H$10*$H$14*($H$5-$H$7)-(AQ22*($H$5-($H$10*$H$9)))))/(H$34*($H$5-($H$9*$H$10))) -> 13.152407 | Q22: =(($H$10*$H$14*($H$5-$H$7)-(AR22*($H$5-($H$10*$H$9)))))/(I$34*($H$5-($H$9*$H$10))) -> 13.567472 | R22: =(($H$10*$H$14*($H$5-$H$7)-(AS22*($H$5-($H$10*$H$9)))))/(J$34*($H$5-($H$9*$H$10))) -> 13.868367 | S22: =(($H$10*$H$14*($H$5-$H$7)-(AT22*($H$5-($H$10*$H$9)))))/(K$34*($H$5-($H$9*$H$10))) -> 13.910337 | T22: =(($H$10*$H$14*($H$5-$H$7)-(AU22*($H$5-($H$10*$H$9)))))/(L$34*($H$5-($H$9*$H$10))) -> 13.951005 | U22: =(($H$10*$H$14*($H$5-$H$7)-(AV22*($H$5-($H$10*$H$9)))))/(M$34*($H$5-($H$9*$H$10))) -> 13.841624 | W22: 2990 | X22: =(($H$14*$H$7)-(AQ22*$H$9))/(H$34*$H$9) -> 9.2719957 | Y22: =(($H$14*$H$7)-(AR22*$H$9))/(I$34*$H$9) -> 9.549701 | Z22: =(($H$14*$H$7)-(AS22*$H$9))/(J$34*$H$9) -> 9.7410204 | AA22: =(($H$14*$H$7)-(AT22*$H$9))/(K$34*$H$9) -> 9.745124 | AB22: =(($H$14*$H$7)-(AU22*$H$9))/(L$34*$H$9) -> 9.7472255 | AC22: =(($H$14*$H$7)-(AV22*$H$9))/(M$34*$H$9) -> 9.6378441 | AG22: 2990 | AH22: =-(($H$13*($H$5-$H$8))/$H$9)-(AQ22/$H$12) -> -11.004452 | AI22: =-(($H$13*($H$5-$H$8))/$H$9)-(AR22/$H$12) -> -11.061525 | AJ22: =-(($H$13*($H$5-$H$8))/$H$9)-(AS22/$H$12) -> -11.137565 | AK22: =-(($H$13*($H$5-$H$8))/$H$9)-(AT22/$H$12) -> -11.230502 | AL22: =-(($H$13*($H$5-$H$8))/$H$9)-(AU22/$H$12) -> -11.325684 | AM22: =-(($H$13*($H$5-$H$8))/$H$9)-(AV22/$H$12) -> -11.443816 | AP22: 2990 | AQ22: =0.5*$L$5*$L$9*$L$7*($BB22^2) -> 20.620682 | AR22: =0.5*$L$5*$L$9*$L$7*($BG22^2) -> 35.687935 | AS22: =0.5*$L$5*$L$9*$L$7*($BL22^2) -> 55.762398 | AT22: =0.5*$L$5*$L$9*$L$7*($BQ22^2) -> 80.297853 | AU22: =0.5*$L$5*$L$9*$L$7*($BV22^2) -> 105.42578 | AV22: =0.5*$L$5*$L$9*$L$7*($CA22^2) -> 136.6126 | AX22: 2990 | AY22: ='Max limit'!AX22*Input!PrimaryDrive_ratio*Input!Gear1_ratio*Input!FinalDrive_ratio -> 263.87838 | AZ22: =AY22 / 60 -> 4.397973 | BA22: =AZ22*Input!$N$23 -> 10348.422 | BB22: =BA22/1000 -> 10.348422 | BC22: 2990 | BD22: ='Max limit'!AX22*Input!PrimaryDrive_ratio*Input!Gear2_ratio*Input!FinalDrive_ratio -> 347.14667 | BE22: =BD22/60 -> 5.7857778 | BF22: =BE22*Input!$N$23 -> 13613.924 | BG22: =BF22/1000 -> 13.613924 | BH22: 2990 | BI22: ='Max limit'!AX22*Input!PrimaryDrive_ratio*Input!Gear3_ratio*Input!FinalDrive_ratio -> 433.93333 | BJ22: =BI22/60 -> 7.2322222 | BK22: =BJ22*Input!$N$23 -> 17017.404 | BL22: =BK22/1000 -> 17.017404 | BM22: 2990 | BN22: ='Max limit'!AX22*Input!PrimaryDrive_ratio*Input!Gear4_ratio*Input!FinalDrive_ratio -> 520.72 | BO22: =BN22/60 -> 8.6786667 | BP22: =BO22*Input!$N$23 -> 20420.885 | BQ22: =BP22/1000 -> 20.420885 | BR22: 2990 | BS22: ='Max limit'!AX22*Input!PrimaryDrive_ratio*Input!Gear5_ratio*Input!FinalDrive_ratio -> 596.65833 | BT22: =BS22/60 -> 9.9443056 | BU22: =BT22*Input!$N$23 -> 23398.931 | BV22: =BU22/1000 -> 23.398931 | BW22: 2990 | BX22: ='Max limit'!AX22*Input!PrimaryDrive_ratio*Input!Gear6_ratio*Input!FinalDrive_ratio -> 679.2 | BY22: =BX22/60 -> 11.32 | BZ22: =BY22*Input!$N$23 -> 26635.937 | CA22: =BZ22/1000 -> 26.635937 | CC22: 2990 | CD22: =MROUND($BB22,0.5) -> 10.5 | CE22: =MROUND($BG22,0.5) -> 13.5 | CF22: =MROUND($BL22,0.5) -> 17 | CG22: =MROUND($BQ22,0.5) -> 20.5 | CH22: =MROUND($BV22,0.5) -> 23.5 | CI22: =MROUND($CA22,0.5) -> 26.5 | CK22: 2990 | CL22: =$AY22/60 -> 4.397973 | CM22: =$BD22/60 -> 5.7857778 | CN22: =$BI22/60 -> 7.2322222 | CO22: =$BN22/60 -> 8.6786667 | CP22: =$BS22/60 -> 9.9443056 | CQ22: =$BX22/60 -> 11.32
A23: 3040 | B23: 26.621 | C23: 61.503 | D23: 24.741 | E23: 1.574 | G23: Overall gear ratio | H23: ratio | O23: 3000 | P23: =(($H$10*$H$14*($H$5-$H$7)-(AQ23*($H$5-($H$10*$H$9)))))/(H$34*($H$5-($H$9*$H$10))) -> 13.15196 | Q23: =(($H$10*$H$14*($H$5-$H$7)-(AR23*($H$5-($H$10*$H$9)))))/(I$34*($H$5-($H$9*$H$10))) -> 13.566671 | R23: =(($H$10*$H$14*($H$5-$H$7)-(AS23*($H$5-($H$10*$H$9)))))/(J$34*($H$5-($H$9*$H$10))) -> 13.867081 | S23: =(($H$10*$H$14*($H$5-$H$7)-(AT23*($H$5-($H$10*$H$9)))))/(K$34*($H$5-($H$9*$H$10))) -> 13.908467 | T23: =(($H$10*$H$14*($H$5-$H$7)-(AU23*($H$5-($H$10*$H$9)))))/(L$34*($H$5-($H$9*$H$10))) -> 13.948527 | U23: =(($H$10*$H$14*($H$5-$H$7)-(AV23*($H$5-($H$10*$H$9)))))/(M$34*($H$5-($H$9*$H$10))) -> 13.838413 | W23: 3000 | X23: =(($H$14*$H$7)-(AQ23*$H$9))/(H$34*$H$9) -> 9.2715484 | Y23: =(($H$14*$H$7)-(AR23*$H$9))/(I$34*$H$9) -> 9.5488994 | Z23: =(($H$14*$H$7)-(AS23*$H$9))/(J$34*$H$9) -> 9.7397339 | AA23: =(($H$14*$H$7)-(AT23*$H$9))/(K$34*$H$9) -> 9.7432543 | AB23: =(($H$14*$H$7)-(AU23*$H$9))/(L$34*$H$9) -> 9.7447481 | AC23: =(($H$14*$H$7)-(AV23*$H$9))/(M$34*$H$9) -> 9.6346338 | AG23: 3000 | AH23: =-(($H$13*($H$5-$H$8))/$H$9)-(AQ23/$H$12) -> -11.004976 | AI23: =-(($H$13*($H$5-$H$8))/$H$9)-(AR23/$H$12) -> -11.062431 | AJ23: =-(($H$13*($H$5-$H$8))/$H$9)-(AS23/$H$12) -> -11.13898 | AK23: =-(($H$13*($H$5-$H$8))/$H$9)-(AT23/$H$12) -> -11.23254 | AL23: =-(($H$13*($H$5-$H$8))/$H$9)-(AU23/$H$12) -> -11.328359 | AM23: =-(($H$13*($H$5-$H$8))/$H$9)-(AV23/$H$12) -> -11.447283 | AP23: 3000 | AQ23: =0.5*$L$5*$L$9*$L$7*($BB23^2) -> 20.758844 | AR23: =0.5*$L$5*$L$9*$L$7*($BG23^2) -> 35.927049 | AS23: =0.5*$L$5*$L$9*$L$7*($BL23^2) -> 56.136014 | AT23: =0.5*$L$5*$L$9*$L$7*($BQ23^2) -> 80.83586 | AU23: =0.5*$L$5*$L$9*$L$7*($BV23^2) -> 106.13215 | AV23: =0.5*$L$5*$L$9*$L$7*($CA23^2) -> 137.52793 | AX23: 3000 | AY23: ='Max limit'!AX23*Input!PrimaryDrive_ratio*Input!Gear1_ratio*Input!FinalDrive_ratio -> 264.76091 | AZ23: =AY23 / 60 -> 4.4126819 | BA23: =AZ23*Input!$N$23 -> 10383.032 | BB23: =BA23/1000 -> 10.383032 | BC23: 3000 | BD23: ='Max limit'!AX23*Input!PrimaryDrive_ratio*Input!Gear2_ratio*Input!FinalDrive_ratio -> 348.30769 | BE23: =BD23/60 -> 5.8051282 | BF23: =BE23*Input!$N$23 -> 13659.455 | BG23: =BF23/1000 -> 13.659455 | BH23: 3000 | BI23: ='Max limit'!AX23*Input!PrimaryDrive_ratio*Input!Gear3_ratio*Input!FinalDrive_ratio -> 435.38462 | BJ23: =BI23/60 -> 7.2564103 | BK23: =BJ23*Input!$N$23 -> 17074.319 | BL23: =BK23/1000 -> 17.074319 | BM23: 3000 | BN23: ='Max limit'!AX23*Input!PrimaryDrive_ratio*Input!Gear4_ratio*Input!FinalDrive_ratio -> 522.46154 | BO23: =BN23/60 -> 8.7076923 | BP23: =BO23*Input!$N$23 -> 20489.183 | BQ23: =BP23/1000 -> 20.489183 | BR23: 3000 | BS23: ='Max limit'!AX23*Input!PrimaryDrive_ratio*Input!Gear5_ratio*Input!FinalDrive_ratio -> 598.65385 | BT23: =BS23/60 -> 9.9775641 | BU23: =BT23*Input!$N$23 -> 23477.188 | BV23: =BU23/1000 -> 23.477188 | BW23: 3000 | BX23: ='Max limit'!AX23*Input!PrimaryDrive_ratio*Input!Gear6_ratio*Input!FinalDrive_ratio -> 681.47157 | BY23: =BX23/60 -> 11.35786 | BZ23: =BY23*Input!$N$23 -> 26725.021 | CA23: =BZ23/1000 -> 26.725021 | CC23: 3000 | CD23: =MROUND($BB23,0.5) -> 10.5 | CE23: =MROUND($BG23,0.5) -> 13.5 | CF23: =MROUND($BL23,0.5) -> 17 | CG23: =MROUND($BQ23,0.5) -> 20.5 | CH23: =MROUND($BV23,0.5) -> 23.5 | CI23: =MROUND($CA23,0.5) -> 26.5 | CK23: 3000 | CL23: =$AY23/60 -> 4.4126819 | CM23: =$BD23/60 -> 5.8051282 | CN23: =$BI23/60 -> 7.2564103 | CO23: =$BN23/60 -> 8.7076923 | CP23: =$BS23/60 -> 9.9775641 | CQ23: =$BX23/60 -> 11.35786
A24: 3050 | B24: 27.09 | C24: 62.379 | D24: 25.2 | E24: 1.577 | G24: 1st | H24: =Input!PrimaryDrive_ratio*Input!Gear1_ratio*Input!FinalDrive_ratio -> 0.088253638 | O24: 3010 | P24: =(($H$10*$H$14*($H$5-$H$7)-(AQ24*($H$5-($H$10*$H$9)))))/(H$34*($H$5-($H$9*$H$10))) -> 13.151511 | Q24: =(($H$10*$H$14*($H$5-$H$7)-(AR24*($H$5-($H$10*$H$9)))))/(I$34*($H$5-($H$9*$H$10))) -> 13.565867 | R24: =(($H$10*$H$14*($H$5-$H$7)-(AS24*($H$5-($H$10*$H$9)))))/(J$34*($H$5-($H$9*$H$10))) -> 13.86579 | S24: =(($H$10*$H$14*($H$5-$H$7)-(AT24*($H$5-($H$10*$H$9)))))/(K$34*($H$5-($H$9*$H$10))) -> 13.906591 | T24: =(($H$10*$H$14*($H$5-$H$7)-(AU24*($H$5-($H$10*$H$9)))))/(L$34*($H$5-($H$9*$H$10))) -> 13.946042 | U24: =(($H$10*$H$14*($H$5-$H$7)-(AV24*($H$5-($H$10*$H$9)))))/(M$34*($H$5-($H$9*$H$10))) -> 13.835192 | W24: 3010 | X24: =(($H$14*$H$7)-(AQ24*$H$9))/(H$34*$H$9) -> 9.2710997 | Y24: =(($H$14*$H$7)-(AR24*$H$9))/(I$34*$H$9) -> 9.5480952 | Z24: =(($H$14*$H$7)-(AS24*$H$9))/(J$34*$H$9) -> 9.738443 | AA24: =(($H$14*$H$7)-(AT24*$H$9))/(K$34*$H$9) -> 9.7413784 | AB24: =(($H$14*$H$7)-(AU24*$H$9))/(L$34*$H$9) -> 9.7422624 | AC24: =(($H$14*$H$7)-(AV24*$H$9))/(M$34*$H$9) -> 9.6314128 | AG24: 3010 | AH24: =-(($H$13*($H$5-$H$8))/$H$9)-(AQ24/$H$12) -> -11.005501 | AI24: =-(($H$13*($H$5-$H$8))/$H$9)-(AR24/$H$12) -> -11.06334 | AJ24: =-(($H$13*($H$5-$H$8))/$H$9)-(AS24/$H$12) -> -11.1404 | AK24: =-(($H$13*($H$5-$H$8))/$H$9)-(AT24/$H$12) -> -11.234585 | AL24: =-(($H$13*($H$5-$H$8))/$H$9)-(AU24/$H$12) -> -11.331044 | AM24: =-(($H$13*($H$5-$H$8))/$H$9)-(AV24/$H$12) -> -11.450762 | AP24: 3010 | AQ24: =0.5*$L$5*$L$9*$L$7*($BB24^2) -> 20.897467 | AR24: =0.5*$L$5*$L$9*$L$7*($BG24^2) -> 36.166962 | AS24: =0.5*$L$5*$L$9*$L$7*($BL24^2) -> 56.510878 | AT24: =0.5*$L$5*$L$9*$L$7*($BQ24^2) -> 81.375664 | AU24: =0.5*$L$5*$L$9*$L$7*($BV24^2) -> 106.84088 | AV24: =0.5*$L$5*$L$9*$L$7*($CA24^2) -> 138.44631 | AX24: 3010 | AY24: ='Max limit'!AX24*Input!PrimaryDrive_ratio*Input!Gear1_ratio*Input!FinalDrive_ratio -> 265.64345 | AZ24: =AY24 / 60 -> 4.4273909 | BA24: =AZ24*Input!$N$23 -> 10417.642 | BB24: =BA24/1000 -> 10.417642 | BC24: 3010 | BD24: ='Max limit'!AX24*Input!PrimaryDrive_ratio*Input!Gear2_ratio*Input!FinalDrive_ratio -> 349.46872 | BE24: =BD24/60 -> 5.8244786 | BF24: =BE24*Input!$N$23 -> 13704.987 | BG24: =BF24/1000 -> 13.704987 | BH24: 3010 | BI24: ='Max limit'!AX24*Input!PrimaryDrive_ratio*Input!Gear3_ratio*Input!FinalDrive_ratio -> 436.8359 | BJ24: =BI24/60 -> 7.2805983 | BK24: =BJ24*Input!$N$23 -> 17131.233 | BL24: =BK24/1000 -> 17.131233 | BM24: 3010 | BN24: ='Max limit'!AX24*Input!PrimaryDrive_ratio*Input!Gear4_ratio*Input!FinalDrive_ratio -> 524.20308 | BO24: =BN24/60 -> 8.7367179 | BP24: =BO24*Input!$N$23 -> 20557.48 | BQ24: =BP24/1000 -> 20.55748 | BR24: 3010 | BS24: ='Max limit'!AX24*Input!PrimaryDrive_ratio*Input!Gear5_ratio*Input!FinalDrive_ratio -> 600.64936 | BT24: =BS24/60 -> 10.010823 | BU24: =BT24*Input!$N$23 -> 23555.446 | BV24: =BU24/1000 -> 23.555446 | BW24: 3010 | BX24: ='Max limit'!AX24*Input!PrimaryDrive_ratio*Input!Gear6_ratio*Input!FinalDrive_ratio -> 683.74314 | BY24: =BX24/60 -> 11.395719 | BZ24: =BY24*Input!$N$23 -> 26814.104 | CA24: =BZ24/1000 -> 26.814104 | CC24: 3010 | CD24: =MROUND($BB24,0.5) -> 10.5 | CE24: =MROUND($BG24,0.5) -> 13.5 | CF24: =MROUND($BL24,0.5) -> 17 | CG24: =MROUND($BQ24,0.5) -> 20.5 | CH24: =MROUND($BV24,0.5) -> 23.5 | CI24: =MROUND($CA24,0.5) -> 27 | CK24: 3010 | CL24: =$AY24/60 -> 4.4273909 | CM24: =$BD24/60 -> 5.8244786 | CN24: =$BI24/60 -> 7.2805983 | CO24: =$BN24/60 -> 8.7367179 | CP24: =$BS24/60 -> 10.010823 | CQ24: =$BX24/60 -> 11.395719
A25: 3060 | B25: 27.615 | C25: 63.381 | D25: 25.709 | E25: 1.588 | G25: 2nd | H25: =Input!PrimaryDrive_ratio*Input!Gear2_ratio*Input!FinalDrive_ratio -> 0.11610256 | O25: 3020 | P25: =(($H$10*$H$14*($H$5-$H$7)-(AQ25*($H$5-($H$10*$H$9)))))/(H$34*($H$5-($H$9*$H$10))) -> 13.151061 | Q25: =(($H$10*$H$14*($H$5-$H$7)-(AR25*($H$5-($H$10*$H$9)))))/(I$34*($H$5-($H$9*$H$10))) -> 13.56506 | R25: =(($H$10*$H$14*($H$5-$H$7)-(AS25*($H$5-($H$10*$H$9)))))/(J$34*($H$5-($H$9*$H$10))) -> 13.864495 | S25: =(($H$10*$H$14*($H$5-$H$7)-(AT25*($H$5-($H$10*$H$9)))))/(K$34*($H$5-($H$9*$H$10))) -> 13.904709 | T25: =(($H$10*$H$14*($H$5-$H$7)-(AU25*($H$5-($H$10*$H$9)))))/(L$34*($H$5-($H$9*$H$10))) -> 13.943548 | U25: =(($H$10*$H$14*($H$5-$H$7)-(AV25*($H$5-($H$10*$H$9)))))/(M$34*($H$5-($H$9*$H$10))) -> 13.83196 | W25: 3020 | X25: =(($H$14*$H$7)-(AQ25*$H$9))/(H$34*$H$9) -> 9.2706494 | Y25: =(($H$14*$H$7)-(AR25*$H$9))/(I$34*$H$9) -> 9.5472883 | Z25: =(($H$14*$H$7)-(AS25*$H$9))/(J$34*$H$9) -> 9.7371479 | AA25: =(($H$14*$H$7)-(AT25*$H$9))/(K$34*$H$9) -> 9.7394963 | AB25: =(($H$14*$H$7)-(AU25*$H$9))/(L$34*$H$9) -> 9.7397684 | AC25: =(($H$14*$H$7)-(AV25*$H$9))/(M$34*$H$9) -> 9.628181 | AG25: 3020 | AH25: =-(($H$13*($H$5-$H$8))/$H$9)-(AQ25/$H$12) -> -11.006028 | AI25: =-(($H$13*($H$5-$H$8))/$H$9)-(AR25/$H$12) -> -11.064252 | AJ25: =-(($H$13*($H$5-$H$8))/$H$9)-(AS25/$H$12) -> -11.141825 | AK25: =-(($H$13*($H$5-$H$8))/$H$9)-(AT25/$H$12) -> -11.236636 | AL25: =-(($H$13*($H$5-$H$8))/$H$9)-(AU25/$H$12) -> -11.333737 | AM25: =-(($H$13*($H$5-$H$8))/$H$9)-(AV25/$H$12) -> -11.454252 | AP25: 3020 | AQ25: =0.5*$L$5*$L$9*$L$7*($BB25^2) -> 21.036551 | AR25: =0.5*$L$5*$L$9*$L$7*($BG25^2) -> 36.407673 | AS25: =0.5*$L$5*$L$9*$L$7*($BL25^2) -> 56.886989 | AT25: =0.5*$L$5*$L$9*$L$7*($BQ25^2) -> 81.917265 | AU25: =0.5*$L$5*$L$9*$L$7*($BV25^2) -> 107.55196 | AV25: =0.5*$L$5*$L$9*$L$7*($CA25^2) -> 139.36775 | AX25: 3020 | AY25: ='Max limit'!AX25*Input!PrimaryDrive_ratio*Input!Gear1_ratio*Input!FinalDrive_ratio -> 266.52599 | AZ25: =AY25 / 60 -> 4.4420998 | BA25: =AZ25*Input!$N$23 -> 10452.252 | BB25: =BA25/1000 -> 10.452252 | BC25: 3020 | BD25: ='Max limit'!AX25*Input!PrimaryDrive_ratio*Input!Gear2_ratio*Input!FinalDrive_ratio -> 350.62974 | BE25: =BD25/60 -> 5.8438291 | BF25: =BE25*Input!$N$23 -> 13750.518 | BG25: =BF25/1000 -> 13.750518 | BH25: 3020 | BI25: ='Max limit'!AX25*Input!PrimaryDrive_ratio*Input!Gear3_ratio*Input!FinalDrive_ratio -> 438.28718 | BJ25: =BI25/60 -> 7.3047863 | BK25: =BJ25*Input!$N$23 -> 17188.148 | BL25: =BK25/1000 -> 17.188148 | BM25: 3020 | BN25: ='Max limit'!AX25*Input!PrimaryDrive_ratio*Input!Gear4_ratio*Input!FinalDrive_ratio -> 525.94462 | BO25: =BN25/60 -> 8.7657436 | BP25: =BO25*Input!$N$23 -> 20625.777 | BQ25: =BP25/1000 -> 20.625777 | BR25: 3020 | BS25: ='Max limit'!AX25*Input!PrimaryDrive_ratio*Input!Gear5_ratio*Input!FinalDrive_ratio -> 602.64487 | BT25: =BS25/60 -> 10.044081 | BU25: =BT25*Input!$N$23 -> 23633.703 | BV25: =BU25/1000 -> 23.633703 | BW25: 3020 | BX25: ='Max limit'!AX25*Input!PrimaryDrive_ratio*Input!Gear6_ratio*Input!FinalDrive_ratio -> 686.01472 | BY25: =BX25/60 -> 11.433579 | BZ25: =BY25*Input!$N$23 -> 26903.188 | CA25: =BZ25/1000 -> 26.903188 | CC25: 3020 | CD25: =MROUND($BB25,0.5) -> 10.5 | CE25: =MROUND($BG25,0.5) -> 14 | CF25: =MROUND($BL25,0.5) -> 17 | CG25: =MROUND($BQ25,0.5) -> 20.5 | CH25: =MROUND($BV25,0.5) -> 23.5 | CI25: =MROUND($CA25,0.5) -> 27 | CK25: 3020 | CL25: =$AY25/60 -> 4.4420998 | CM25: =$BD25/60 -> 5.8438291 | CN25: =$BI25/60 -> 7.3047863 | CO25: =$BN25/60 -> 8.7657436 | CP25: =$BS25/60 -> 10.044081 | CQ25: =$BX25/60 -> 11.433579
A26: 3070 | B26: 28.132 | C26: 64.357 | D26: 26.217 | E26: 1.591 | G26: 3rd | H26: =Input!PrimaryDrive_ratio*Input!Gear3_ratio*Input!FinalDrive_ratio -> 0.14512821 | O26: 3030 | P26: =(($H$10*$H$14*($H$5-$H$7)-(AQ26*($H$5-($H$10*$H$9)))))/(H$34*($H$5-($H$9*$H$10))) -> 13.150609 | Q26: =(($H$10*$H$14*($H$5-$H$7)-(AR26*($H$5-($H$10*$H$9)))))/(I$34*($H$5-($H$9*$H$10))) -> 13.56425 | R26: =(($H$10*$H$14*($H$5-$H$7)-(AS26*($H$5-($H$10*$H$9)))))/(J$34*($H$5-($H$9*$H$10))) -> 13.863195 | S26: =(($H$10*$H$14*($H$5-$H$7)-(AT26*($H$5-($H$10*$H$9)))))/(K$34*($H$5-($H$9*$H$10))) -> 13.902821 | T26: =(($H$10*$H$14*($H$5-$H$7)-(AU26*($H$5-($H$10*$H$9)))))/(L$34*($H$5-($H$9*$H$10))) -> 13.941046 | U26: =(($H$10*$H$14*($H$5-$H$7)-(AV26*($H$5-($H$10*$H$9)))))/(M$34*($H$5-($H$9*$H$10))) -> 13.828718 | W26: 3030 | X26: =(($H$14*$H$7)-(AQ26*$H$9))/(H$34*$H$9) -> 9.2701976 | Y26: =(($H$14*$H$7)-(AR26*$H$9))/(I$34*$H$9) -> 9.5464788 | Z26: =(($H$14*$H$7)-(AS26*$H$9))/(J$34*$H$9) -> 9.7358484 | AA26: =(($H$14*$H$7)-(AT26*$H$9))/(K$34*$H$9) -> 9.737608 | AB26: =(($H$14*$H$7)-(AU26*$H$9))/(L$34*$H$9) -> 9.7372661 | AC26: =(($H$14*$H$7)-(AV26*$H$9))/(M$34*$H$9) -> 9.6249386 | AG26: 3030 | AH26: =-(($H$13*($H$5-$H$8))/$H$9)-(AQ26/$H$12) -> -11.006556 | AI26: =-(($H$13*($H$5-$H$8))/$H$9)-(AR26/$H$12) -> -11.065166 | AJ26: =-(($H$13*($H$5-$H$8))/$H$9)-(AS26/$H$12) -> -11.143254 | AK26: =-(($H$13*($H$5-$H$8))/$H$9)-(AT26/$H$12) -> -11.238695 | AL26: =-(($H$13*($H$5-$H$8))/$H$9)-(AU26/$H$12) -> -11.33644 | AM26: =-(($H$13*($H$5-$H$8))/$H$9)-(AV26/$H$12) -> -11.457754 | AP26: 3030 | AQ26: =0.5*$L$5*$L$9*$L$7*($BB26^2) -> 21.176097 | AR26: =0.5*$L$5*$L$9*$L$7*($BG26^2) -> 36.649183 | AS26: =0.5*$L$5*$L$9*$L$7*($BL26^2) -> 57.264348 | AT26: =0.5*$L$5*$L$9*$L$7*($BQ26^2) -> 82.460661 | AU26: =0.5*$L$5*$L$9*$L$7*($BV26^2) -> 108.26541 | AV26: =0.5*$L$5*$L$9*$L$7*($CA26^2) -> 140.29224 | AX26: 3030 | AY26: ='Max limit'!AX26*Input!PrimaryDrive_ratio*Input!Gear1_ratio*Input!FinalDrive_ratio -> 267.40852 | AZ26: =AY26 / 60 -> 4.4568087 | BA26: =AZ26*Input!$N$23 -> 10486.862 | BB26: =BA26/1000 -> 10.486862 | BC26: 3030 | BD26: ='Max limit'!AX26*Input!PrimaryDrive_ratio*Input!Gear2_ratio*Input!FinalDrive_ratio -> 351.79077 | BE26: =BD26/60 -> 5.8631795 | BF26: =BE26*Input!$N$23 -> 13796.05 | BG26: =BF26/1000 -> 13.79605 | BH26: 3030 | BI26: ='Max limit'!AX26*Input!PrimaryDrive_ratio*Input!Gear3_ratio*Input!FinalDrive_ratio -> 439.73846 | BJ26: =BI26/60 -> 7.3289744 | BK26: =BJ26*Input!$N$23 -> 17245.062 | BL26: =BK26/1000 -> 17.245062 | BM26: 3030 | BN26: ='Max limit'!AX26*Input!PrimaryDrive_ratio*Input!Gear4_ratio*Input!FinalDrive_ratio -> 527.68615 | BO26: =BN26/60 -> 8.7947692 | BP26: =BO26*Input!$N$23 -> 20694.074 | BQ26: =BP26/1000 -> 20.694074 | BR26: 3030 | BS26: ='Max limit'!AX26*Input!PrimaryDrive_ratio*Input!Gear5_ratio*Input!FinalDrive_ratio -> 604.64038 | BT26: =BS26/60 -> 10.07734 | BU26: =BT26*Input!$N$23 -> 23711.96 | BV26: =BU26/1000 -> 23.71196 | BW26: 3030 | BX26: ='Max limit'!AX26*Input!PrimaryDrive_ratio*Input!Gear6_ratio*Input!FinalDrive_ratio -> 688.28629 | BY26: =BX26/60 -> 11.471438 | BZ26: =BY26*Input!$N$23 -> 26992.271 | CA26: =BZ26/1000 -> 26.992271 | CC26: 3030 | CD26: =MROUND($BB26,0.5) -> 10.5 | CE26: =MROUND($BG26,0.5) -> 14 | CF26: =MROUND($BL26,0.5) -> 17 | CG26: =MROUND($BQ26,0.5) -> 20.5 | CH26: =MROUND($BV26,0.5) -> 23.5 | CI26: =MROUND($CA26,0.5) -> 27 | CK26: 3030 | CL26: =$AY26/60 -> 4.4568087 | CM26: =$BD26/60 -> 5.8631795 | CN26: =$BI26/60 -> 7.3289744 | CO26: =$BN26/60 -> 8.7947692 | CP26: =$BS26/60 -> 10.07734 | CQ26: =$BX26/60 -> 11.471438
A27: 3080 | B27: 28.706 | C27: 65.457 | D27: 26.773 | E27: 1.602 | G27: 4th | H27: =Input!PrimaryDrive_ratio*Input!Gear4_ratio*Input!FinalDrive_ratio -> 0.17415385 | O27: 3040 | P27: =(($H$10*$H$14*($H$5-$H$7)-(AQ27*($H$5-($H$10*$H$9)))))/(H$34*($H$5-($H$9*$H$10))) -> 13.150156 | Q27: =(($H$10*$H$14*($H$5-$H$7)-(AR27*($H$5-($H$10*$H$9)))))/(I$34*($H$5-($H$9*$H$10))) -> 13.563438 | R27: =(($H$10*$H$14*($H$5-$H$7)-(AS27*($H$5-($H$10*$H$9)))))/(J$34*($H$5-($H$9*$H$10))) -> 13.861892 | S27: =(($H$10*$H$14*($H$5-$H$7)-(AT27*($H$5-($H$10*$H$9)))))/(K$34*($H$5-($H$9*$H$10))) -> 13.900926 | T27: =(($H$10*$H$14*($H$5-$H$7)-(AU27*($H$5-($H$10*$H$9)))))/(L$34*($H$5-($H$9*$H$10))) -> 13.938535 | U27: =(($H$10*$H$14*($H$5-$H$7)-(AV27*($H$5-($H$10*$H$9)))))/(M$34*($H$5-($H$9*$H$10))) -> 13.825465 | W27: 3040 | X27: =(($H$14*$H$7)-(AQ27*$H$9))/(H$34*$H$9) -> 9.2697443 | Y27: =(($H$14*$H$7)-(AR27*$H$9))/(I$34*$H$9) -> 9.5456665 | Z27: =(($H$14*$H$7)-(AS27*$H$9))/(J$34*$H$9) -> 9.7345447 | AA27: =(($H$14*$H$7)-(AT27*$H$9))/(K$34*$H$9) -> 9.7357133 | AB27: =(($H$14*$H$7)-(AU27*$H$9))/(L$34*$H$9) -> 9.7347556 | AC27: =(($H$14*$H$7)-(AV27*$H$9))/(M$34*$H$9) -> 9.6216854 | AG27: 3040 | AH27: =-(($H$13*($H$5-$H$8))/$H$9)-(AQ27/$H$12) -> -11.007086 | AI27: =-(($H$13*($H$5-$H$8))/$H$9)-(AR27/$H$12) -> -11.066084 | AJ27: =-(($H$13*($H$5-$H$8))/$H$9)-(AS27/$H$12) -> -11.144688 | AK27: =-(($H$13*($H$5-$H$8))/$H$9)-(AT27/$H$12) -> -11.24076 | AL27: =-(($H$13*($H$5-$H$8))/$H$9)-(AU27/$H$12) -> -11.339151 | AM27: =-(($H$13*($H$5-$H$8))/$H$9)-(AV27/$H$12) -> -11.461267 | AP27: 3040 | AQ27: =0.5*$L$5*$L$9*$L$7*($BB27^2) -> 21.316103 | AR27: =0.5*$L$5*$L$9*$L$7*($BG27^2) -> 36.891491 | AS27: =0.5*$L$5*$L$9*$L$7*($BL27^2) -> 57.642954 | AT27: =0.5*$L$5*$L$9*$L$7*($BQ27^2) -> 83.005854 | AU27: =0.5*$L$5*$L$9*$L$7*($BV27^2) -> 108.98121 | AV27: =0.5*$L$5*$L$9*$L$7*($CA27^2) -> 141.21979 | AX27: 3040 | AY27: ='Max limit'!AX27*Input!PrimaryDrive_ratio*Input!Gear1_ratio*Input!FinalDrive_ratio -> 268.29106 | AZ27: =AY27 / 60 -> 4.4715177 | BA27: =AZ27*Input!$N$23 -> 10521.472 | BB27: =BA27/1000 -> 10.521472 | BC27: 3040 | BD27: ='Max limit'!AX27*Input!PrimaryDrive_ratio*Input!Gear2_ratio*Input!FinalDrive_ratio -> 352.95179 | BE27: =BD27/60 -> 5.8825299 | BF27: =BE27*Input!$N$23 -> 13841.581 | BG27: =BF27/1000 -> 13.841581 | BH27: 3040 | BI27: ='Max limit'!AX27*Input!PrimaryDrive_ratio*Input!Gear3_ratio*Input!FinalDrive_ratio -> 441.18974 | BJ27: =BI27/60 -> 7.3531624 | BK27: =BJ27*Input!$N$23 -> 17301.976 | BL27: =BK27/1000 -> 17.301976 | BM27: 3040 | BN27: ='Max limit'!AX27*Input!PrimaryDrive_ratio*Input!Gear4_ratio*Input!FinalDrive_ratio -> 529.42769 | BO27: =BN27/60 -> 8.8237949 | BP27: =BO27*Input!$N$23 -> 20762.372 | BQ27: =BP27/1000 -> 20.762372 | BR27: 3040 | BS27: ='Max limit'!AX27*Input!PrimaryDrive_ratio*Input!Gear5_ratio*Input!FinalDrive_ratio -> 606.6359 | BT27: =BS27/60 -> 10.110598 | BU27: =BT27*Input!$N$23 -> 23790.218 | BV27: =BU27/1000 -> 23.790218 | BW27: 3040 | BX27: ='Max limit'!AX27*Input!PrimaryDrive_ratio*Input!Gear6_ratio*Input!FinalDrive_ratio -> 690.55786 | BY27: =BX27/60 -> 11.509298 | BZ27: =BY27*Input!$N$23 -> 27081.354 | CA27: =BZ27/1000 -> 27.081354 | CC27: 3040 | CD27: =MROUND($BB27,0.5) -> 10.5 | CE27: =MROUND($BG27,0.5) -> 14 | CF27: =MROUND($BL27,0.5) -> 17.5 | CG27: =MROUND($BQ27,0.5) -> 21 | CH27: =MROUND($BV27,0.5) -> 24 | CI27: =MROUND($CA27,0.5) -> 27 | CK27: 3040 | CL27: =$AY27/60 -> 4.4715177 | CM27: =$BD27/60 -> 5.8825299 | CN27: =$BI27/60 -> 7.3531624 | CO27: =$BN27/60 -> 8.8237949 | CP27: =$BS27/60 -> 10.110598 | CQ27: =$BX27/60 -> 11.509298
A28: 3090 | B28: 29.299 | C28: 66.593 | D28: 27.357 | E28: 1.604 | G28: 5th | H28: =Input!Gear5_ratio*Input!PrimaryDrive_ratio*Input!FinalDrive_ratio -> 0.19955128 | O28: 3050 | P28: =(($H$10*$H$14*($H$5-$H$7)-(AQ28*($H$5-($H$10*$H$9)))))/(H$34*($H$5-($H$9*$H$10))) -> 13.149701 | Q28: =(($H$10*$H$14*($H$5-$H$7)-(AR28*($H$5-($H$10*$H$9)))))/(I$34*($H$5-($H$9*$H$10))) -> 13.562623 | R28: =(($H$10*$H$14*($H$5-$H$7)-(AS28*($H$5-($H$10*$H$9)))))/(J$34*($H$5-($H$9*$H$10))) -> 13.860584 | S28: =(($H$10*$H$14*($H$5-$H$7)-(AT28*($H$5-($H$10*$H$9)))))/(K$34*($H$5-($H$9*$H$10))) -> 13.899025 | T28: =(($H$10*$H$14*($H$5-$H$7)-(AU28*($H$5-($H$10*$H$9)))))/(L$34*($H$5-($H$9*$H$10))) -> 13.936016 | U28: =(($H$10*$H$14*($H$5-$H$7)-(AV28*($H$5-($H$10*$H$9)))))/(M$34*($H$5-($H$9*$H$10))) -> 13.822201 | W28: 3050 | X28: =(($H$14*$H$7)-(AQ28*$H$9))/(H$34*$H$9) -> 9.2692895 | Y28: =(($H$14*$H$7)-(AR28*$H$9))/(I$34*$H$9) -> 9.5448516 | Z28: =(($H$14*$H$7)-(AS28*$H$9))/(J$34*$H$9) -> 9.7332366 | AA28: =(($H$14*$H$7)-(AT28*$H$9))/(K$34*$H$9) -> 9.7338125 | AB28: =(($H$14*$H$7)-(AU28*$H$9))/(L$34*$H$9) -> 9.7322368 | AC28: =(($H$14*$H$7)-(AV28*$H$9))/(M$34*$H$9) -> 9.6184215 | AG28: 3050 | AH28: =-(($H$13*($H$5-$H$8))/$H$9)-(AQ28/$H$12) -> -11.007619 | AI28: =-(($H$13*($H$5-$H$8))/$H$9)-(AR28/$H$12) -> -11.067005 | AJ28: =-(($H$13*($H$5-$H$8))/$H$9)-(AS28/$H$12) -> -11.146127 | AK28: =-(($H$13*($H$5-$H$8))/$H$9)-(AT28/$H$12) -> -11.242832 | AL28: =-(($H$13*($H$5-$H$8))/$H$9)-(AU28/$H$12) -> -11.341872 | AM28: =-(($H$13*($H$5-$H$8))/$H$9)-(AV28/$H$12) -> -11.464792 | AP28: 3050 | AQ28: =0.5*$L$5*$L$9*$L$7*($BB28^2) -> 21.456572 | AR28: =0.5*$L$5*$L$9*$L$7*($BG28^2) -> 37.134597 | AS28: =0.5*$L$5*$L$9*$L$7*($BL28^2) -> 58.022808 | AT28: =0.5*$L$5*$L$9*$L$7*($BQ28^2) -> 83.552844 | AU28: =0.5*$L$5*$L$9*$L$7*($BV28^2) -> 109.69937 | AV28: =0.5*$L$5*$L$9*$L$7*($CA28^2) -> 142.1504 | AX28: 3050 | AY28: ='Max limit'!AX28*Input!PrimaryDrive_ratio*Input!Gear1_ratio*Input!FinalDrive_ratio -> 269.1736 | AZ28: =AY28 / 60 -> 4.4862266 | BA28: =AZ28*Input!$N$23 -> 10556.082 | BB28: =BA28/1000 -> 10.556082 | BC28: 3050 | BD28: ='Max limit'!AX28*Input!PrimaryDrive_ratio*Input!Gear2_ratio*Input!FinalDrive_ratio -> 354.11282 | BE28: =BD28/60 -> 5.9018803 | BF28: =BE28*Input!$N$23 -> 13887.113 | BG28: =BF28/1000 -> 13.887113 | BH28: 3050 | BI28: ='Max limit'!AX28*Input!PrimaryDrive_ratio*Input!Gear3_ratio*Input!FinalDrive_ratio -> 442.64103 | BJ28: =BI28/60 -> 7.3773504 | BK28: =BJ28*Input!$N$23 -> 17358.891 | BL28: =BK28/1000 -> 17.358891 | BM28: 3050 | BN28: ='Max limit'!AX28*Input!PrimaryDrive_ratio*Input!Gear4_ratio*Input!FinalDrive_ratio -> 531.16923 | BO28: =BN28/60 -> 8.8528205 | BP28: =BO28*Input!$N$23 -> 20830.669 | BQ28: =BP28/1000 -> 20.830669 | BR28: 3050 | BS28: ='Max limit'!AX28*Input!PrimaryDrive_ratio*Input!Gear5_ratio*Input!FinalDrive_ratio -> 608.63141 | BT28: =BS28/60 -> 10.143857 | BU28: =BT28*Input!$N$23 -> 23868.475 | BV28: =BU28/1000 -> 23.868475 | BW28: 3050 | BX28: ='Max limit'!AX28*Input!PrimaryDrive_ratio*Input!Gear6_ratio*Input!FinalDrive_ratio -> 692.82943 | BY28: =BX28/60 -> 11.547157 | BZ28: =BY28*Input!$N$23 -> 27170.438 | CA28: =BZ28/1000 -> 27.170438 | CC28: 3050 | CD28: =MROUND($BB28,0.5) -> 10.5 | CE28: =MROUND($BG28,0.5) -> 14 | CF28: =MROUND($BL28,0.5) -> 17.5 | CG28: =MROUND($BQ28,0.5) -> 21 | CH28: =MROUND($BV28,0.5) -> 24 | CI28: =MROUND($CA28,0.5) -> 27 | CK28: 3050 | CL28: =$AY28/60 -> 4.4862266 | CM28: =$BD28/60 -> 5.9018803 | CN28: =$BI28/60 -> 7.3773504 | CO28: =$BN28/60 -> 8.8528205 | CP28: =$BS28/60 -> 10.143857 | CQ28: =$BX28/60 -> 11.547157
A29: 3100 | B29: 29.921 | C29: 67.789 | D29: 27.972 | E29: 1.605 | G29: 6th | H29: =Input!PrimaryDrive_ratio*Input!Gear6_ratio*Input!FinalDrive_ratio -> 0.22715719 | O29: 3060 | P29: =(($H$10*$H$14*($H$5-$H$7)-(AQ29*($H$5-($H$10*$H$9)))))/(H$34*($H$5-($H$9*$H$10))) -> 13.149245 | Q29: =(($H$10*$H$14*($H$5-$H$7)-(AR29*($H$5-($H$10*$H$9)))))/(I$34*($H$5-($H$9*$H$10))) -> 13.561805 | R29: =(($H$10*$H$14*($H$5-$H$7)-(AS29*($H$5-($H$10*$H$9)))))/(J$34*($H$5-($H$9*$H$10))) -> 13.859271 | S29: =(($H$10*$H$14*($H$5-$H$7)-(AT29*($H$5-($H$10*$H$9)))))/(K$34*($H$5-($H$9*$H$10))) -> 13.897118 | T29: =(($H$10*$H$14*($H$5-$H$7)-(AU29*($H$5-($H$10*$H$9)))))/(L$34*($H$5-($H$9*$H$10))) -> 13.933489 | U29: =(($H$10*$H$14*($H$5-$H$7)-(AV29*($H$5-($H$10*$H$9)))))/(M$34*($H$5-($H$9*$H$10))) -> 13.818926 | W29: 3060 | X29: =(($H$14*$H$7)-(AQ29*$H$9))/(H$34*$H$9) -> 9.2688333 | Y29: =(($H$14*$H$7)-(AR29*$H$9))/(I$34*$H$9) -> 9.544034 | Z29: =(($H$14*$H$7)-(AS29*$H$9))/(J$34*$H$9) -> 9.7319243 | AA29: =(($H$14*$H$7)-(AT29*$H$9))/(K$34*$H$9) -> 9.7319054 | AB29: =(($H$14*$H$7)-(AU29*$H$9))/(L$34*$H$9) -> 9.7297097 | AC29: =(($H$14*$H$7)-(AV29*$H$9))/(M$34*$H$9) -> 9.6151468 | AG29: 3060 | AH29: =-(($H$13*($H$5-$H$8))/$H$9)-(AQ29/$H$12) -> -11.008152 | AI29: =-(($H$13*($H$5-$H$8))/$H$9)-(AR29/$H$12) -> -11.067929 | AJ29: =-(($H$13*($H$5-$H$8))/$H$9)-(AS29/$H$12) -> -11.147571 | AK29: =-(($H$13*($H$5-$H$8))/$H$9)-(AT29/$H$12) -> -11.24491 | AL29: =-(($H$13*($H$5-$H$8))/$H$9)-(AU29/$H$12) -> -11.344601 | AM29: =-(($H$13*($H$5-$H$8))/$H$9)-(AV29/$H$12) -> -11.468329 | AP29: 3060 | AQ29: =0.5*$L$5*$L$9*$L$7*($BB29^2) -> 21.597501 | AR29: =0.5*$L$5*$L$9*$L$7*($BG29^2) -> 37.378502 | AS29: =0.5*$L$5*$L$9*$L$7*($BL29^2) -> 58.403909 | AT29: =0.5*$L$5*$L$9*$L$7*($BQ29^2) -> 84.101629 | AU29: =0.5*$L$5*$L$9*$L$7*($BV29^2) -> 110.41989 | AV29: =0.5*$L$5*$L$9*$L$7*($CA29^2) -> 143.08406 | AX29: 3060 | AY29: ='Max limit'!AX29*Input!PrimaryDrive_ratio*Input!Gear1_ratio*Input!FinalDrive_ratio -> 270.05613 | AZ29: =AY29 / 60 -> 4.5009356 | BA29: =AZ29*Input!$N$23 -> 10590.692 | BB29: =BA29/1000 -> 10.590692 | BC29: 3060 | BD29: ='Max limit'!AX29*Input!PrimaryDrive_ratio*Input!Gear2_ratio*Input!FinalDrive_ratio -> 355.27385 | BE29: =BD29/60 -> 5.9212308 | BF29: =BE29*Input!$N$23 -> 13932.644 | BG29: =BF29/1000 -> 13.932644 | BH29: 3060 | BI29: ='Max limit'!AX29*Input!PrimaryDrive_ratio*Input!Gear3_ratio*Input!FinalDrive_ratio -> 444.09231 | BJ29: =BI29/60 -> 7.4015385 | BK29: =BJ29*Input!$N$23 -> 17415.805 | BL29: =BK29/1000 -> 17.415805 | BM29: 3060 | BN29: ='Max limit'!AX29*Input!PrimaryDrive_ratio*Input!Gear4_ratio*Input!FinalDrive_ratio -> 532.91077 | BO29: =BN29/60 -> 8.8818462 | BP29: =BO29*Input!$N$23 -> 20898.966 | BQ29: =BP29/1000 -> 20.898966 | BR29: 3060 | BS29: ='Max limit'!AX29*Input!PrimaryDrive_ratio*Input!Gear5_ratio*Input!FinalDrive_ratio -> 610.62692 | BT29: =BS29/60 -> 10.177115 | BU29: =BT29*Input!$N$23 -> 23946.732 | BV29: =BU29/1000 -> 23.946732 | BW29: 3060 | BX29: ='Max limit'!AX29*Input!PrimaryDrive_ratio*Input!Gear6_ratio*Input!FinalDrive_ratio -> 695.101 | BY29: =BX29/60 -> 11.585017 | BZ29: =BY29*Input!$N$23 -> 27259.521 | CA29: =BZ29/1000 -> 27.259521 | CC29: 3060 | CD29: =MROUND($BB29,0.5) -> 10.5 | CE29: =MROUND($BG29,0.5) -> 14 | CF29: =MROUND($BL29,0.5) -> 17.5 | CG29: =MROUND($BQ29,0.5) -> 21 | CH29: =MROUND($BV29,0.5) -> 24 | CI29: =MROUND($CA29,0.5) -> 27.5 | CK29: 3060 | CL29: =$AY29/60 -> 4.5009356 | CM29: =$BD29/60 -> 5.9212308 | CN29: =$BI29/60 -> 7.4015385 | CO29: =$BN29/60 -> 8.8818462 | CP29: =$BS29/60 -> 10.177115 | CQ29: =$BX29/60 -> 11.585017
A30: 3110 | B30: 30.609 | C30: 69.124 | D30: 28.639 | E30: 1.618 | O30: 3070 | P30: =(($H$10*$H$14*($H$5-$H$7)-(AQ30*($H$5-($H$10*$H$9)))))/(H$34*($H$5-($H$9*$H$10))) -> 13.148787 | Q30: =(($H$10*$H$14*($H$5-$H$7)-(AR30*($H$5-($H$10*$H$9)))))/(I$34*($H$5-($H$9*$H$10))) -> 13.560985 | R30: =(($H$10*$H$14*($H$5-$H$7)-(AS30*($H$5-($H$10*$H$9)))))/(J$34*($H$5-($H$9*$H$10))) -> 13.857955 | S30: =(($H$10*$H$14*($H$5-$H$7)-(AT30*($H$5-($H$10*$H$9)))))/(K$34*($H$5-($H$9*$H$10))) -> 13.895205 | T30: =(($H$10*$H$14*($H$5-$H$7)-(AU30*($H$5-($H$10*$H$9)))))/(L$34*($H$5-($H$9*$H$10))) -> 13.930954 | U30: =(($H$10*$H$14*($H$5-$H$7)-(AV30*($H$5-($H$10*$H$9)))))/(M$34*($H$5-($H$9*$H$10))) -> 13.815641 | W30: 3070 | X30: =(($H$14*$H$7)-(AQ30*$H$9))/(H$34*$H$9) -> 9.2683755 | Y30: =(($H$14*$H$7)-(AR30*$H$9))/(I$34*$H$9) -> 9.5432137 | Z30: =(($H$14*$H$7)-(AS30*$H$9))/(J$34*$H$9) -> 9.7306077 | AA30: =(($H$14*$H$7)-(AT30*$H$9))/(K$34*$H$9) -> 9.7299921 | AB30: =(($H$14*$H$7)-(AU30*$H$9))/(L$34*$H$9) -> 9.7271744 | AC30: =(($H$14*$H$7)-(AV30*$H$9))/(M$34*$H$9) -> 9.6118615 | AG30: 3070 | AH30: =-(($H$13*($H$5-$H$8))/$H$9)-(AQ30/$H$12) -> -11.008688 | AI30: =-(($H$13*($H$5-$H$8))/$H$9)-(AR30/$H$12) -> -11.068856 | AJ30: =-(($H$13*($H$5-$H$8))/$H$9)-(AS30/$H$12) -> -11.149019 | AK30: =-(($H$13*($H$5-$H$8))/$H$9)-(AT30/$H$12) -> -11.246996 | AL30: =-(($H$13*($H$5-$H$8))/$H$9)-(AU30/$H$12) -> -11.347339 | AM30: =-(($H$13*($H$5-$H$8))/$H$9)-(AV30/$H$12) -> -11.471877 | AP30: 3070 | AQ30: =0.5*$L$5*$L$9*$L$7*($BB30^2) -> 21.738892 | AR30: =0.5*$L$5*$L$9*$L$7*($BG30^2) -> 37.623205 | AS30: =0.5*$L$5*$L$9*$L$7*($BL30^2) -> 58.786258 | AT30: =0.5*$L$5*$L$9*$L$7*($BQ30^2) -> 84.652211 | AU30: =0.5*$L$5*$L$9*$L$7*($BV30^2) -> 111.14277 | AV30: =0.5*$L$5*$L$9*$L$7*($CA30^2) -> 144.02078 | AX30: 3070 | AY30: ='Max limit'!AX30*Input!PrimaryDrive_ratio*Input!Gear1_ratio*Input!FinalDrive_ratio -> 270.93867 | AZ30: =AY30 / 60 -> 4.5156445 | BA30: =AZ30*Input!$N$23 -> 10625.302 | BB30: =BA30/1000 -> 10.625302 | BC30: 3070 | BD30: ='Max limit'!AX30*Input!PrimaryDrive_ratio*Input!Gear2_ratio*Input!FinalDrive_ratio -> 356.43487 | BE30: =BD30/60 -> 5.9405812 | BF30: =BE30*Input!$N$23 -> 13978.176 | BG30: =BF30/1000 -> 13.978176 | BH30: 3070 | BI30: ='Max limit'!AX30*Input!PrimaryDrive_ratio*Input!Gear3_ratio*Input!FinalDrive_ratio -> 445.54359 | BJ30: =BI30/60 -> 7.4257265 | BK30: =BJ30*Input!$N$23 -> 17472.72 | BL30: =BK30/1000 -> 17.47272 | BM30: 3070 | BN30: ='Max limit'!AX30*Input!PrimaryDrive_ratio*Input!Gear4_ratio*Input!FinalDrive_ratio -> 534.65231 | BO30: =BN30/60 -> 8.9108718 | BP30: =BO30*Input!$N$23 -> 20967.264 | BQ30: =BP30/1000 -> 20.967264 | BR30: 3070 | BS30: ='Max limit'!AX30*Input!PrimaryDrive_ratio*Input!Gear5_ratio*Input!FinalDrive_ratio -> 612.62244 | BT30: =BS30/60 -> 10.210374 | BU30: =BT30*Input!$N$23 -> 24024.989 | BV30: =BU30/1000 -> 24.024989 | BW30: 3070 | BX30: ='Max limit'!AX30*Input!PrimaryDrive_ratio*Input!Gear6_ratio*Input!FinalDrive_ratio -> 697.37258 | BY30: =BX30/60 -> 11.622876 | BZ30: =BY30*Input!$N$23 -> 27348.605 | CA30: =BZ30/1000 -> 27.348605 | CC30: 3070 | CD30: =MROUND($BB30,0.5) -> 10.5 | CE30: =MROUND($BG30,0.5) -> 14 | CF30: =MROUND($BL30,0.5) -> 17.5 | CG30: =MROUND($BQ30,0.5) -> 21 | CH30: =MROUND($BV30,0.5) -> 24 | CI30: =MROUND($CA30,0.5) -> 27.5 | CK30: 3070 | CL30: =$AY30/60 -> 4.5156445 | CM30: =$BD30/60 -> 5.9405812 | CN30: =$BI30/60 -> 7.4257265 | CO30: =$BN30/60 -> 8.9108718 | CP30: =$BS30/60 -> 10.210374 | CQ30: =$BX30/60 -> 11.622876
A31: 3120 | B31: 31.298 | C31: 70.452 | D31: 29.319 | E31: 1.618 | O31: 3080 | P31: =(($H$10*$H$14*($H$5-$H$7)-(AQ31*($H$5-($H$10*$H$9)))))/(H$34*($H$5-($H$9*$H$10))) -> 13.148328 | Q31: =(($H$10*$H$14*($H$5-$H$7)-(AR31*($H$5-($H$10*$H$9)))))/(I$34*($H$5-($H$9*$H$10))) -> 13.560162 | R31: =(($H$10*$H$14*($H$5-$H$7)-(AS31*($H$5-($H$10*$H$9)))))/(J$34*($H$5-($H$9*$H$10))) -> 13.856634 | S31: =(($H$10*$H$14*($H$5-$H$7)-(AT31*($H$5-($H$10*$H$9)))))/(K$34*($H$5-($H$9*$H$10))) -> 13.893285 | T31: =(($H$10*$H$14*($H$5-$H$7)-(AU31*($H$5-($H$10*$H$9)))))/(L$34*($H$5-($H$9*$H$10))) -> 13.92841 | U31: =(($H$10*$H$14*($H$5-$H$7)-(AV31*($H$5-($H$10*$H$9)))))/(M$34*($H$5-($H$9*$H$10))) -> 13.812345 | W31: 3080 | X31: =(($H$14*$H$7)-(AQ31*$H$9))/(H$34*$H$9) -> 9.2679163 | Y31: =(($H$14*$H$7)-(AR31*$H$9))/(I$34*$H$9) -> 9.5423908 | Z31: =(($H$14*$H$7)-(AS31*$H$9))/(J$34*$H$9) -> 9.7292868 | AA31: =(($H$14*$H$7)-(AT31*$H$9))/(K$34*$H$9) -> 9.7280725 | AB31: =(($H$14*$H$7)-(AU31*$H$9))/(L$34*$H$9) -> 9.7246308 | AC31: =(($H$14*$H$7)-(AV31*$H$9))/(M$34*$H$9) -> 9.6085654 | AG31: 3080 | AH31: =-(($H$13*($H$5-$H$8))/$H$9)-(AQ31/$H$12) -> -11.009225 | AI31: =-(($H$13*($H$5-$H$8))/$H$9)-(AR31/$H$12) -> -11.069786 | AJ31: =-(($H$13*($H$5-$H$8))/$H$9)-(AS31/$H$12) -> -11.150472 | AK31: =-(($H$13*($H$5-$H$8))/$H$9)-(AT31/$H$12) -> -11.249088 | AL31: =-(($H$13*($H$5-$H$8))/$H$9)-(AU31/$H$12) -> -11.350086 | AM31: =-(($H$13*($H$5-$H$8))/$H$9)-(AV31/$H$12) -> -11.475437 | AP31: 3080 | AQ31: =0.5*$L$5*$L$9*$L$7*($BB31^2) -> 21.880744 | AR31: =0.5*$L$5*$L$9*$L$7*($BG31^2) -> 37.868706 | AS31: =0.5*$L$5*$L$9*$L$7*($BL31^2) -> 59.169854 | AT31: =0.5*$L$5*$L$9*$L$7*($BQ31^2) -> 85.20459 | AU31: =0.5*$L$5*$L$9*$L$7*($BV31^2) -> 111.86801 | AV31: =0.5*$L$5*$L$9*$L$7*($CA31^2) -> 144.96055 | AX31: 3080 | AY31: ='Max limit'!AX31*Input!PrimaryDrive_ratio*Input!Gear1_ratio*Input!FinalDrive_ratio -> 271.82121 | AZ31: =AY31 / 60 -> 4.5303534 | BA31: =AZ31*Input!$N$23 -> 10659.913 | BB31: =BA31/1000 -> 10.659913 | BC31: 3080 | BD31: ='Max limit'!AX31*Input!PrimaryDrive_ratio*Input!Gear2_ratio*Input!FinalDrive_ratio -> 357.5959 | BE31: =BD31/60 -> 5.9599316 | BF31: =BE31*Input!$N$23 -> 14023.707 | BG31: =BF31/1000 -> 14.023707 | BH31: 3080 | BI31: ='Max limit'!AX31*Input!PrimaryDrive_ratio*Input!Gear3_ratio*Input!FinalDrive_ratio -> 446.99487 | BJ31: =BI31/60 -> 7.4499145 | BK31: =BJ31*Input!$N$23 -> 17529.634 | BL31: =BK31/1000 -> 17.529634 | BM31: 3080 | BN31: ='Max limit'!AX31*Input!PrimaryDrive_ratio*Input!Gear4_ratio*Input!FinalDrive_ratio -> 536.39385 | BO31: =BN31/60 -> 8.9398974 | BP31: =BO31*Input!$N$23 -> 21035.561 | BQ31: =BP31/1000 -> 21.035561 | BR31: 3080 | BS31: ='Max limit'!AX31*Input!PrimaryDrive_ratio*Input!Gear5_ratio*Input!FinalDrive_ratio -> 614.61795 | BT31: =BS31/60 -> 10.243632 | BU31: =BT31*Input!$N$23 -> 24103.247 | BV31: =BU31/1000 -> 24.103247 | BW31: 3080 | BX31: ='Max limit'!AX31*Input!PrimaryDrive_ratio*Input!Gear6_ratio*Input!FinalDrive_ratio -> 699.64415 | BY31: =BX31/60 -> 11.660736 | BZ31: =BY31*Input!$N$23 -> 27437.688 | CA31: =BZ31/1000 -> 27.437688 | CC31: 3080 | CD31: =MROUND($BB31,0.5) -> 10.5 | CE31: =MROUND($BG31,0.5) -> 14 | CF31: =MROUND($BL31,0.5) -> 17.5 | CG31: =MROUND($BQ31,0.5) -> 21 | CH31: =MROUND($BV31,0.5) -> 24 | CI31: =MROUND($CA31,0.5) -> 27.5 | CK31: 3080 | CL31: =$AY31/60 -> 4.5303534 | CM31: =$BD31/60 -> 5.9599316 | CN31: =$BI31/60 -> 7.4499145 | CO31: =$BN31/60 -> 8.9398974 | CP31: =$BS31/60 -> 10.243632 | CQ31: =$BX31/60 -> 11.660736
A32: 3130 | B32: 32.007 | C32: 71.82 | D32: 30.015 | E32: 1.624 | G32: MODIFIED MASS | O32: 3090 | P32: =(($H$10*$H$14*($H$5-$H$7)-(AQ32*($H$5-($H$10*$H$9)))))/(H$34*($H$5-($H$9*$H$10))) -> 13.147867 | Q32: =(($H$10*$H$14*($H$5-$H$7)-(AR32*($H$5-($H$10*$H$9)))))/(I$34*($H$5-($H$9*$H$10))) -> 13.559337 | R32: =(($H$10*$H$14*($H$5-$H$7)-(AS32*($H$5-($H$10*$H$9)))))/(J$34*($H$5-($H$9*$H$10))) -> 13.855309 | S32: =(($H$10*$H$14*($H$5-$H$7)-(AT32*($H$5-($H$10*$H$9)))))/(K$34*($H$5-($H$9*$H$10))) -> 13.891359 | T32: =(($H$10*$H$14*($H$5-$H$7)-(AU32*($H$5-($H$10*$H$9)))))/(L$34*($H$5-($H$9*$H$10))) -> 13.925858 | U32: =(($H$10*$H$14*($H$5-$H$7)-(AV32*($H$5-($H$10*$H$9)))))/(M$34*($H$5-($H$9*$H$10))) -> 13.809038 | W32: 3090 | X32: =(($H$14*$H$7)-(AQ32*$H$9))/(H$34*$H$9) -> 9.2674555 | Y32: =(($H$14*$H$7)-(AR32*$H$9))/(I$34*$H$9) -> 9.5415652 | Z32: =(($H$14*$H$7)-(AS32*$H$9))/(J$34*$H$9) -> 9.7279615 | AA32: =(($H$14*$H$7)-(AT32*$H$9))/(K$34*$H$9) -> 9.7261467 | AB32: =(($H$14*$H$7)-(AU32*$H$9))/(L$34*$H$9) -> 9.7220789 | AC32: =(($H$14*$H$7)-(AV32*$H$9))/(M$34*$H$9) -> 9.6052587 | AG32: 3090 | AH32: =-(($H$13*($H$5-$H$8))/$H$9)-(AQ32/$H$12) -> -11.009764 | AI32: =-(($H$13*($H$5-$H$8))/$H$9)-(AR32/$H$12) -> -11.070719 | AJ32: =-(($H$13*($H$5-$H$8))/$H$9)-(AS32/$H$12) -> -11.15193 | AK32: =-(($H$13*($H$5-$H$8))/$H$9)-(AT32/$H$12) -> -11.251187 | AL32: =-(($H$13*($H$5-$H$8))/$H$9)-(AU32/$H$12) -> -11.352842 | AM32: =-(($H$13*($H$5-$H$8))/$H$9)-(AV32/$H$12) -> -11.479008 | AP32: 3090 | AQ32: =0.5*$L$5*$L$9*$L$7*($BB32^2) -> 22.023057 | AR32: =0.5*$L$5*$L$9*$L$7*($BG32^2) -> 38.115006 | AS32: =0.5*$L$5*$L$9*$L$7*($BL32^2) -> 59.554697 | AT32: =0.5*$L$5*$L$9*$L$7*($BQ32^2) -> 85.758764 | AU32: =0.5*$L$5*$L$9*$L$7*($BV32^2) -> 112.5956 | AV32: =0.5*$L$5*$L$9*$L$7*($CA32^2) -> 145.90338 | AX32: 3090 | AY32: ='Max limit'!AX32*Input!PrimaryDrive_ratio*Input!Gear1_ratio*Input!FinalDrive_ratio -> 272.70374 | AZ32: =AY32 / 60 -> 4.5450624 | BA32: =AZ32*Input!$N$23 -> 10694.523 | BB32: =BA32/1000 -> 10.694523 | BC32: 3090 | BD32: ='Max limit'!AX32*Input!PrimaryDrive_ratio*Input!Gear2_ratio*Input!FinalDrive_ratio -> 358.75692 | BE32: =BD32/60 -> 5.9792821 | BF32: =BE32*Input!$N$23 -> 14069.239 | BG32: =BF32/1000 -> 14.069239 | BH32: 3090 | BI32: ='Max limit'!AX32*Input!PrimaryDrive_ratio*Input!Gear3_ratio*Input!FinalDrive_ratio -> 448.44615 | BJ32: =BI32/60 -> 7.4741026 | BK32: =BJ32*Input!$N$23 -> 17586.548 | BL32: =BK32/1000 -> 17.586548 | BM32: 3090 | BN32: ='Max limit'!AX32*Input!PrimaryDrive_ratio*Input!Gear4_ratio*Input!FinalDrive_ratio -> 538.13538 | BO32: =BN32/60 -> 8.9689231 | BP32: =BO32*Input!$N$23 -> 21103.858 | BQ32: =BP32/1000 -> 21.103858 | BR32: 3090 | BS32: ='Max limit'!AX32*Input!PrimaryDrive_ratio*Input!Gear5_ratio*Input!FinalDrive_ratio -> 616.61346 | BT32: =BS32/60 -> 10.276891 | BU32: =BT32*Input!$N$23 -> 24181.504 | BV32: =BU32/1000 -> 24.181504 | BW32: 3090 | BX32: ='Max limit'!AX32*Input!PrimaryDrive_ratio*Input!Gear6_ratio*Input!FinalDrive_ratio -> 701.91572 | BY32: =BX32/60 -> 11.698595 | BZ32: =BY32*Input!$N$23 -> 27526.771 | CA32: =BZ32/1000 -> 27.526771 | CC32: 3090 | CD32: =MROUND($BB32,0.5) -> 10.5 | CE32: =MROUND($BG32,0.5) -> 14 | CF32: =MROUND($BL32,0.5) -> 17.5 | CG32: =MROUND($BQ32,0.5) -> 21 | CH32: =MROUND($BV32,0.5) -> 24 | CI32: =MROUND($CA32,0.5) -> 27.5 | CK32: 3090 | CL32: =$AY32/60 -> 4.5450624 | CM32: =$BD32/60 -> 5.9792821 | CN32: =$BI32/60 -> 7.4741026 | CO32: =$BN32/60 -> 8.9689231 | CP32: =$BS32/60 -> 10.276891 | CQ32: =$BX32/60 -> 11.698595
A33: 3140 | B33: 32.721 | C33: 73.188 | D33: 30.713 | E33: 1.632 | G33: Gear | H33: 1 | I33: 2 | J33: 3 | K33: 4 | L33: 5 | M33: 6 | O33: 3100 | P33: =(($H$10*$H$14*($H$5-$H$7)-(AQ33*($H$5-($H$10*$H$9)))))/(H$34*($H$5-($H$9*$H$10))) -> 13.147405 | Q33: =(($H$10*$H$14*($H$5-$H$7)-(AR33*($H$5-($H$10*$H$9)))))/(I$34*($H$5-($H$9*$H$10))) -> 13.558508 | R33: =(($H$10*$H$14*($H$5-$H$7)-(AS33*($H$5-($H$10*$H$9)))))/(J$34*($H$5-($H$9*$H$10))) -> 13.853979 | S33: =(($H$10*$H$14*($H$5-$H$7)-(AT33*($H$5-($H$10*$H$9)))))/(K$34*($H$5-($H$9*$H$10))) -> 13.889427 | T33: =(($H$10*$H$14*($H$5-$H$7)-(AU33*($H$5-($H$10*$H$9)))))/(L$34*($H$5-($H$9*$H$10))) -> 13.923298 | U33: =(($H$10*$H$14*($H$5-$H$7)-(AV33*($H$5-($H$10*$H$9)))))/(M$34*($H$5-($H$9*$H$10))) -> 13.805721 | W33: 3100 | X33: =(($H$14*$H$7)-(AQ33*$H$9))/(H$34*$H$9) -> 9.2669933 | Y33: =(($H$14*$H$7)-(AR33*$H$9))/(I$34*$H$9) -> 9.5407369 | Z33: =(($H$14*$H$7)-(AS33*$H$9))/(J$34*$H$9) -> 9.726632 | AA33: =(($H$14*$H$7)-(AT33*$H$9))/(K$34*$H$9) -> 9.7242146 | AB33: =(($H$14*$H$7)-(AU33*$H$9))/(L$34*$H$9) -> 9.7195187 | AC33: =(($H$14*$H$7)-(AV33*$H$9))/(M$34*$H$9) -> 9.6019411 | AG33: 3100 | AH33: =-(($H$13*($H$5-$H$8))/$H$9)-(AQ33/$H$12) -> -11.010305 | AI33: =-(($H$13*($H$5-$H$8))/$H$9)-(AR33/$H$12) -> -11.071655 | AJ33: =-(($H$13*($H$5-$H$8))/$H$9)-(AS33/$H$12) -> -11.153392 | AK33: =-(($H$13*($H$5-$H$8))/$H$9)-(AT33/$H$12) -> -11.253293 | AL33: =-(($H$13*($H$5-$H$8))/$H$9)-(AU33/$H$12) -> -11.355607 | AM33: =-(($H$13*($H$5-$H$8))/$H$9)-(AV33/$H$12) -> -11.482591 | AP33: 3100 | AQ33: =0.5*$L$5*$L$9*$L$7*($BB33^2) -> 22.165832 | AR33: =0.5*$L$5*$L$9*$L$7*($BG33^2) -> 38.362105 | AS33: =0.5*$L$5*$L$9*$L$7*($BL33^2) -> 59.940788 | AT33: =0.5*$L$5*$L$9*$L$7*($BQ33^2) -> 86.314735 | AU33: =0.5*$L$5*$L$9*$L$7*($BV33^2) -> 113.32555 | AV33: =0.5*$L$5*$L$9*$L$7*($CA33^2) -> 146.84927 | AX33: 3100 | AY33: ='Max limit'!AX33*Input!PrimaryDrive_ratio*Input!Gear1_ratio*Input!FinalDrive_ratio -> 273.58628 | AZ33: =AY33 / 60 -> 4.5597713 | BA33: =AZ33*Input!$N$23 -> 10729.133 | BB33: =BA33/1000 -> 10.729133 | BC33: 3100 | BD33: ='Max limit'!AX33*Input!PrimaryDrive_ratio*Input!Gear2_ratio*Input!FinalDrive_ratio -> 359.91795 | BE33: =BD33/60 -> 5.9986325 | BF33: =BE33*Input!$N$23 -> 14114.77 | BG33: =BF33/1000 -> 14.11477 | BH33: 3100 | BI33: ='Max limit'!AX33*Input!PrimaryDrive_ratio*Input!Gear3_ratio*Input!FinalDrive_ratio -> 449.89744 | BJ33: =BI33/60 -> 7.4982906 | BK33: =BJ33*Input!$N$23 -> 17643.463 | BL33: =BK33/1000 -> 17.643463 | BM33: 3100 | BN33: ='Max limit'!AX33*Input!PrimaryDrive_ratio*Input!Gear4_ratio*Input!FinalDrive_ratio -> 539.87692 | BO33: =BN33/60 -> 8.9979487 | BP33: =BO33*Input!$N$23 -> 21172.155 | BQ33: =BP33/1000 -> 21.172155 | BR33: 3100 | BS33: ='Max limit'!AX33*Input!PrimaryDrive_ratio*Input!Gear5_ratio*Input!FinalDrive_ratio -> 618.60897 | BT33: =BS33/60 -> 10.31015 | BU33: =BT33*Input!$N$23 -> 24259.761 | BV33: =BU33/1000 -> 24.259761 | BW33: 3100 | BX33: ='Max limit'!AX33*Input!PrimaryDrive_ratio*Input!Gear6_ratio*Input!FinalDrive_ratio -> 704.18729 | BY33: =BX33/60 -> 11.736455 | BZ33: =BY33*Input!$N$23 -> 27615.855 | CA33: =BZ33/1000 -> 27.615855 | CC33: 3100 | CD33: =MROUND($BB33,0.5) -> 10.5 | CE33: =MROUND($BG33,0.5) -> 14 | CF33: =MROUND($BL33,0.5) -> 17.5 | CG33: =MROUND($BQ33,0.5) -> 21 | CH33: =MROUND($BV33,0.5) -> 24.5 | CI33: =MROUND($CA33,0.5) -> 27.5 | CK33: 3100 | CL33: =$AY33/60 -> 4.5597713 | CM33: =$BD33/60 -> 5.9986325 | CN33: =$BI33/60 -> 7.4982906 | CO33: =$BN33/60 -> 8.9979487 | CP33: =$BS33/60 -> 10.31015 | CQ33: =$BX33/60 -> 11.736455
A34: 3150 | B34: 33.434 | C34: 74.546 | D34: 31.412 | E34: 1.637 | G34: kg | H34: =Input!Mass_kg*1.17 -> 308.88 | I34: =Input!Mass_kg*1.13 -> 298.32 | J34: =Input!Mass_kg*1.1 -> 290.4 | K34: =Input!Mass_kg*1.09 -> 287.76 | L34: =Input!Mass_kg*1.08 -> 285.12 | M34: =Input!Mass_kg*1.08 -> 285.12 | O34: 3110 | P34: =(($H$10*$H$14*($H$5-$H$7)-(AQ34*($H$5-($H$10*$H$9)))))/(H$34*($H$5-($H$9*$H$10))) -> 13.146941 | Q34: =(($H$10*$H$14*($H$5-$H$7)-(AR34*($H$5-($H$10*$H$9)))))/(I$34*($H$5-($H$9*$H$10))) -> 13.557677 | R34: =(($H$10*$H$14*($H$5-$H$7)-(AS34*($H$5-($H$10*$H$9)))))/(J$34*($H$5-($H$9*$H$10))) -> 13.852645 | S34: =(($H$10*$H$14*($H$5-$H$7)-(AT34*($H$5-($H$10*$H$9)))))/(K$34*($H$5-($H$9*$H$10))) -> 13.887489 | T34: =(($H$10*$H$14*($H$5-$H$7)-(AU34*($H$5-($H$10*$H$9)))))/(L$34*($H$5-($H$9*$H$10))) -> 13.92073 | U34: =(($H$10*$H$14*($H$5-$H$7)-(AV34*($H$5-($H$10*$H$9)))))/(M$34*($H$5-($H$9*$H$10))) -> 13.802392 | W34: 3110 | X34: =(($H$14*$H$7)-(AQ34*$H$9))/(H$34*$H$9) -> 9.2665296 | Y34: =(($H$14*$H$7)-(AR34*$H$9))/(I$34*$H$9) -> 9.5399059 | Z34: =(($H$14*$H$7)-(AS34*$H$9))/(J$34*$H$9) -> 9.7252982 | AA34: =(($H$14*$H$7)-(AT34*$H$9))/(K$34*$H$9) -> 9.7222763 | AB34: =(($H$14*$H$7)-(AU34*$H$9))/(L$34*$H$9) -> 9.7169503 | AC34: =(($H$14*$H$7)-(AV34*$H$9))/(M$34*$H$9) -> 9.5986129 | AG34: 3110 | AH34: =-(($H$13*($H$5-$H$8))/$H$9)-(AQ34/$H$12) -> -11.010848 | AI34: =-(($H$13*($H$5-$H$8))/$H$9)-(AR34/$H$12) -> -11.072594 | AJ34: =-(($H$13*($H$5-$H$8))/$H$9)-(AS34/$H$12) -> -11.154859 | AK34: =-(($H$13*($H$5-$H$8))/$H$9)-(AT34/$H$12) -> -11.255406 | AL34: =-(($H$13*($H$5-$H$8))/$H$9)-(AU34/$H$12) -> -11.358381 | AM34: =-(($H$13*($H$5-$H$8))/$H$9)-(AV34/$H$12) -> -11.486185 | AP34: 3110 | AQ34: =0.5*$L$5*$L$9*$L$7*($BB34^2) -> 22.309068 | AR34: =0.5*$L$5*$L$9*$L$7*($BG34^2) -> 38.610001 | AS34: =0.5*$L$5*$L$9*$L$7*($BL34^2) -> 60.328127 | AT34: =0.5*$L$5*$L$9*$L$7*($BQ34^2) -> 86.872503 | AU34: =0.5*$L$5*$L$9*$L$7*($BV34^2) -> 114.05787 | AV34: =0.5*$L$5*$L$9*$L$7*($CA34^2) -> 147.79821 | AX34: 3110 | AY34: ='Max limit'!AX34*Input!PrimaryDrive_ratio*Input!Gear1_ratio*Input!FinalDrive_ratio -> 274.46881 | AZ34: =AY34 / 60 -> 4.5744802 | BA34: =AZ34*Input!$N$23 -> 10763.743 | BB34: =BA34/1000 -> 10.763743 | BC34: 3110 | BD34: ='Max limit'!AX34*Input!PrimaryDrive_ratio*Input!Gear2_ratio*Input!FinalDrive_ratio -> 361.07897 | BE34: =BD34/60 -> 6.0179829 | BF34: =BE34*Input!$N$23 -> 14160.302 | BG34: =BF34/1000 -> 14.160302 | BH34: 3110 | BI34: ='Max limit'!AX34*Input!PrimaryDrive_ratio*Input!Gear3_ratio*Input!FinalDrive_ratio -> 451.34872 | BJ34: =BI34/60 -> 7.5224786 | BK34: =BJ34*Input!$N$23 -> 17700.377 | BL34: =BK34/1000 -> 17.700377 | BM34: 3110 | BN34: ='Max limit'!AX34*Input!PrimaryDrive_ratio*Input!Gear4_ratio*Input!FinalDrive_ratio -> 541.61846 | BO34: =BN34/60 -> 9.0269744 | BP34: =BO34*Input!$N$23 -> 21240.453 | BQ34: =BP34/1000 -> 21.240453 | BR34: 3110 | BS34: ='Max limit'!AX34*Input!PrimaryDrive_ratio*Input!Gear5_ratio*Input!FinalDrive_ratio -> 620.60449 | BT34: =BS34/60 -> 10.343408 | BU34: =BT34*Input!$N$23 -> 24338.019 | BV34: =BU34/1000 -> 24.338019 | BW34: 3110 | BX34: ='Max limit'!AX34*Input!PrimaryDrive_ratio*Input!Gear6_ratio*Input!FinalDrive_ratio -> 706.45886 | BY34: =BX34/60 -> 11.774314 | BZ34: =BY34*Input!$N$23 -> 27704.938 | CA34: =BZ34/1000 -> 27.704938 | CC34: 3110 | CD34: =MROUND($BB34,0.5) -> 11 | CE34: =MROUND($BG34,0.5) -> 14 | CF34: =MROUND($BL34,0.5) -> 17.5 | CG34: =MROUND($BQ34,0.5) -> 21 | CH34: =MROUND($BV34,0.5) -> 24.5 | CI34: =MROUND($CA34,0.5) -> 27.5 | CK34: 3110 | CL34: =$AY34/60 -> 4.5744802 | CM34: =$BD34/60 -> 6.0179829 | CN34: =$BI34/60 -> 7.5224786 | CO34: =$BN34/60 -> 9.0269744 | CP34: =$BS34/60 -> 10.343408 | CQ34: =$BX34/60 -> 11.774314
A35: 3160 | B35: 34.123 | C35: 75.84 | D35: 32.085 | E35: 1.645 | O35: 3120 | P35: =(($H$10*$H$14*($H$5-$H$7)-(AQ35*($H$5-($H$10*$H$9)))))/(H$34*($H$5-($H$9*$H$10))) -> 13.146476 | Q35: =(($H$10*$H$14*($H$5-$H$7)-(AR35*($H$5-($H$10*$H$9)))))/(I$34*($H$5-($H$9*$H$10))) -> 13.556844 | R35: =(($H$10*$H$14*($H$5-$H$7)-(AS35*($H$5-($H$10*$H$9)))))/(J$34*($H$5-($H$9*$H$10))) -> 13.851307 | S35: =(($H$10*$H$14*($H$5-$H$7)-(AT35*($H$5-($H$10*$H$9)))))/(K$34*($H$5-($H$9*$H$10))) -> 13.885544 | T35: =(($H$10*$H$14*($H$5-$H$7)-(AU35*($H$5-($H$10*$H$9)))))/(L$34*($H$5-($H$9*$H$10))) -> 13.918153 | U35: =(($H$10*$H$14*($H$5-$H$7)-(AV35*($H$5-($H$10*$H$9)))))/(M$34*($H$5-($H$9*$H$10))) -> 13.799053 | W35: 3120 | X35: =(($H$14*$H$7)-(AQ35*$H$9))/(H$34*$H$9) -> 9.2660644 | Y35: =(($H$14*$H$7)-(AR35*$H$9))/(I$34*$H$9) -> 9.5390722 | Z35: =(($H$14*$H$7)-(AS35*$H$9))/(J$34*$H$9) -> 9.7239601 | AA35: =(($H$14*$H$7)-(AT35*$H$9))/(K$34*$H$9) -> 9.7203317 | AB35: =(($H$14*$H$7)-(AU35*$H$9))/(L$34*$H$9) -> 9.7143736 | AC35: =(($H$14*$H$7)-(AV35*$H$9))/(M$34*$H$9) -> 9.595274 | AG35: 3120 | AH35: =-(($H$13*($H$5-$H$8))/$H$9)-(AQ35/$H$12) -> -11.011392 | AI35: =-(($H$13*($H$5-$H$8))/$H$9)-(AR35/$H$12) -> -11.073536 | AJ35: =-(($H$13*($H$5-$H$8))/$H$9)-(AS35/$H$12) -> -11.156331 | AK35: =-(($H$13*($H$5-$H$8))/$H$9)-(AT35/$H$12) -> -11.257526 | AL35: =-(($H$13*($H$5-$H$8))/$H$9)-(AU35/$H$12) -> -11.361164 | AM35: =-(($H$13*($H$5-$H$8))/$H$9)-(AV35/$H$12) -> -11.489791 | AP35: 3120 | AQ35: =0.5*$L$5*$L$9*$L$7*($BB35^2) -> 22.452765 | AR35: =0.5*$L$5*$L$9*$L$7*($BG35^2) -> 38.858696 | AS35: =0.5*$L$5*$L$9*$L$7*($BL35^2) -> 60.716713 | AT35: =0.5*$L$5*$L$9*$L$7*($BQ35^2) -> 87.432067 | AU35: =0.5*$L$5*$L$9*$L$7*($BV35^2) -> 114.79254 | AV35: =0.5*$L$5*$L$9*$L$7*($CA35^2) -> 148.75021 | AX35: 3120 | AY35: ='Max limit'!AX35*Input!PrimaryDrive_ratio*Input!Gear1_ratio*Input!FinalDrive_ratio -> 275.35135 | AZ35: =AY35 / 60 -> 4.5891892 | BA35: =AZ35*Input!$N$23 -> 10798.353 | BB35: =BA35/1000 -> 10.798353 | BC35: 3120 | BD35: ='Max limit'!AX35*Input!PrimaryDrive_ratio*Input!Gear2_ratio*Input!FinalDrive_ratio -> 362.24 | BE35: =BD35/60 -> 6.0373333 | BF35: =BE35*Input!$N$23 -> 14205.833 | BG35: =BF35/1000 -> 14.205833 | BH35: 3120 | BI35: ='Max limit'!AX35*Input!PrimaryDrive_ratio*Input!Gear3_ratio*Input!FinalDrive_ratio -> 452.8 | BJ35: =BI35/60 -> 7.5466667 | BK35: =BJ35*Input!$N$23 -> 17757.292 | BL35: =BK35/1000 -> 17.757292 | BM35: 3120 | BN35: ='Max limit'!AX35*Input!PrimaryDrive_ratio*Input!Gear4_ratio*Input!FinalDrive_ratio -> 543.36 | BO35: =BN35/60 -> 9.056 | BP35: =BO35*Input!$N$23 -> 21308.75 | BQ35: =BP35/1000 -> 21.30875 | BR35: 3120 | BS35: ='Max limit'!AX35*Input!PrimaryDrive_ratio*Input!Gear5_ratio*Input!FinalDrive_ratio -> 622.6 | BT35: =BS35/60 -> 10.376667 | BU35: =BT35*Input!$N$23 -> 24416.276 | BV35: =BU35/1000 -> 24.416276 | BW35: 3120 | BX35: ='Max limit'!AX35*Input!PrimaryDrive_ratio*Input!Gear6_ratio*Input!FinalDrive_ratio -> 708.73043 | BY35: =BX35/60 -> 11.812174 | BZ35: =BY35*Input!$N$23 -> 27794.022 | CA35: =BZ35/1000 -> 27.794022 | CC35: 3120 | CD35: =MROUND($BB35,0.5) -> 11 | CE35: =MROUND($BG35,0.5) -> 14 | CF35: =MROUND($BL35,0.5) -> 18 | CG35: =MROUND($BQ35,0.5) -> 21.5 | CH35: =MROUND($BV35,0.5) -> 24.5 | CI35: =MROUND($CA35,0.5) -> 28 | CK35: 3120 | CL35: =$AY35/60 -> 4.5891892 | CM35: =$BD35/60 -> 6.0373333 | CN35: =$BI35/60 -> 7.5466667 | CO35: =$BN35/60 -> 9.056 | CP35: =$BS35/60 -> 10.376667 | CQ35: =$BX35/60 -> 11.812174
A36: 3170 | B36: 34.795 | C36: 77.089 | D36: 32.749 | E36: 1.645 | G36: Max Acceleration m/s^2 Theoretical | O36: 3130 | P36: =(($H$10*$H$14*($H$5-$H$7)-(AQ36*($H$5-($H$10*$H$9)))))/(H$34*($H$5-($H$9*$H$10))) -> 13.146009 | Q36: =(($H$10*$H$14*($H$5-$H$7)-(AR36*($H$5-($H$10*$H$9)))))/(I$34*($H$5-($H$9*$H$10))) -> 13.556007 | R36: =(($H$10*$H$14*($H$5-$H$7)-(AS36*($H$5-($H$10*$H$9)))))/(J$34*($H$5-($H$9*$H$10))) -> 13.849965 | S36: =(($H$10*$H$14*($H$5-$H$7)-(AT36*($H$5-($H$10*$H$9)))))/(K$34*($H$5-($H$9*$H$10))) -> 13.883594 | T36: =(($H$10*$H$14*($H$5-$H$7)-(AU36*($H$5-($H$10*$H$9)))))/(L$34*($H$5-($H$9*$H$10))) -> 13.915568 | U36: =(($H$10*$H$14*($H$5-$H$7)-(AV36*($H$5-($H$10*$H$9)))))/(M$34*($H$5-($H$9*$H$10))) -> 13.795704 | W36: 3130 | X36: =(($H$14*$H$7)-(AQ36*$H$9))/(H$34*$H$9) -> 9.2655977 | Y36: =(($H$14*$H$7)-(AR36*$H$9))/(I$34*$H$9) -> 9.5382359 | Z36: =(($H$14*$H$7)-(AS36*$H$9))/(J$34*$H$9) -> 9.7226177 | AA36: =(($H$14*$H$7)-(AT36*$H$9))/(K$34*$H$9) -> 9.7183809 | AB36: =(($H$14*$H$7)-(AU36*$H$9))/(L$34*$H$9) -> 9.7117886 | AC36: =(($H$14*$H$7)-(AV36*$H$9))/(M$34*$H$9) -> 9.5919243 | AG36: 3130 | AH36: =-(($H$13*($H$5-$H$8))/$H$9)-(AQ36/$H$12) -> -11.011938 | AI36: =-(($H$13*($H$5-$H$8))/$H$9)-(AR36/$H$12) -> -11.074481 | AJ36: =-(($H$13*($H$5-$H$8))/$H$9)-(AS36/$H$12) -> -11.157808 | AK36: =-(($H$13*($H$5-$H$8))/$H$9)-(AT36/$H$12) -> -11.259652 | AL36: =-(($H$13*($H$5-$H$8))/$H$9)-(AU36/$H$12) -> -11.363956 | AM36: =-(($H$13*($H$5-$H$8))/$H$9)-(AV36/$H$12) -> -11.493409 | AP36: 3130 | AQ36: =0.5*$L$5*$L$9*$L$7*($BB36^2) -> 22.596924 | AR36: =0.5*$L$5*$L$9*$L$7*($BG36^2) -> 39.10819 | AS36: =0.5*$L$5*$L$9*$L$7*($BL36^2) -> 61.106546 | AT36: =0.5*$L$5*$L$9*$L$7*($BQ36^2) -> 87.993427 | AU36: =0.5*$L$5*$L$9*$L$7*($BV36^2) -> 115.52956 | AV36: =0.5*$L$5*$L$9*$L$7*($CA36^2) -> 149.70526 | AX36: 3130 | AY36: ='Max limit'!AX36*Input!PrimaryDrive_ratio*Input!Gear1_ratio*Input!FinalDrive_ratio -> 276.23389 | AZ36: =AY36 / 60 -> 4.6038981 | BA36: =AZ36*Input!$N$23 -> 10832.963 | BB36: =BA36/1000 -> 10.832963 | BC36: 3130 | BD36: ='Max limit'!AX36*Input!PrimaryDrive_ratio*Input!Gear2_ratio*Input!FinalDrive_ratio -> 363.40103 | BE36: =BD36/60 -> 6.0566838 | BF36: =BE36*Input!$N$23 -> 14251.365 | BG36: =BF36/1000 -> 14.251365 | BH36: 3130 | BI36: ='Max limit'!AX36*Input!PrimaryDrive_ratio*Input!Gear3_ratio*Input!FinalDrive_ratio -> 454.25128 | BJ36: =BI36/60 -> 7.5708547 | BK36: =BJ36*Input!$N$23 -> 17814.206 | BL36: =BK36/1000 -> 17.814206 | BM36: 3130 | BN36: ='Max limit'!AX36*Input!PrimaryDrive_ratio*Input!Gear4_ratio*Input!FinalDrive_ratio -> 545.10154 | BO36: =BN36/60 -> 9.0850256 | BP36: =BO36*Input!$N$23 -> 21377.047 | BQ36: =BP36/1000 -> 21.377047 | BR36: 3130 | BS36: ='Max limit'!AX36*Input!PrimaryDrive_ratio*Input!Gear5_ratio*Input!FinalDrive_ratio -> 624.59551 | BT36: =BS36/60 -> 10.409925 | BU36: =BT36*Input!$N$23 -> 24494.533 | BV36: =BU36/1000 -> 24.494533 | BW36: 3130 | BX36: ='Max limit'!AX36*Input!PrimaryDrive_ratio*Input!Gear6_ratio*Input!FinalDrive_ratio -> 711.00201 | BY36: =BX36/60 -> 11.850033 | BZ36: =BY36*Input!$N$23 -> 27883.105 | CA36: =BZ36/1000 -> 27.883105 | CC36: 3130 | CD36: =MROUND($BB36,0.5) -> 11 | CE36: =MROUND($BG36,0.5) -> 14.5 | CF36: =MROUND($BL36,0.5) -> 18 | CG36: =MROUND($BQ36,0.5) -> 21.5 | CH36: =MROUND($BV36,0.5) -> 24.5 | CI36: =MROUND($CA36,0.5) -> 28 | CK36: 3130 | CL36: =$AY36/60 -> 4.6038981 | CM36: =$BD36/60 -> 6.0566838 | CN36: =$BI36/60 -> 7.5708547 | CO36: =$BN36/60 -> 9.0850256 | CP36: =$BS36/60 -> 10.409925 | CQ36: =$BX36/60 -> 11.850033
A37: 3180 | B37: 35.428 | C37: 78.246 | D37: 33.375 | E37: 1.645 | G37: gear | H37: 1 | I37: 2 | J37: 3 | K37: 4 | L37: 5 | M37: 6 | O37: 3140 | P37: =(($H$10*$H$14*($H$5-$H$7)-(AQ37*($H$5-($H$10*$H$9)))))/(H$34*($H$5-($H$9*$H$10))) -> 13.145541 | Q37: =(($H$10*$H$14*($H$5-$H$7)-(AR37*($H$5-($H$10*$H$9)))))/(I$34*($H$5-($H$9*$H$10))) -> 13.555168 | R37: =(($H$10*$H$14*($H$5-$H$7)-(AS37*($H$5-($H$10*$H$9)))))/(J$34*($H$5-($H$9*$H$10))) -> 13.848618 | S37: =(($H$10*$H$14*($H$5-$H$7)-(AT37*($H$5-($H$10*$H$9)))))/(K$34*($H$5-($H$9*$H$10))) -> 13.881637 | T37: =(($H$10*$H$14*($H$5-$H$7)-(AU37*($H$5-($H$10*$H$9)))))/(L$34*($H$5-($H$9*$H$10))) -> 13.912975 | U37: =(($H$10*$H$14*($H$5-$H$7)-(AV37*($H$5-($H$10*$H$9)))))/(M$34*($H$5-($H$9*$H$10))) -> 13.792343 | W37: 3140 | X37: =(($H$14*$H$7)-(AQ37*$H$9))/(H$34*$H$9) -> 9.2651294 | Y37: =(($H$14*$H$7)-(AR37*$H$9))/(I$34*$H$9) -> 9.5373969 | Z37: =(($H$14*$H$7)-(AS37*$H$9))/(J$34*$H$9) -> 9.721271 | AA37: =(($H$14*$H$7)-(AT37*$H$9))/(K$34*$H$9) -> 9.7164239 | AB37: =(($H$14*$H$7)-(AU37*$H$9))/(L$34*$H$9) -> 9.7091953 | AC37: =(($H$14*$H$7)-(AV37*$H$9))/(M$34*$H$9) -> 9.5885639 | AG37: 3140 | AH37: =-(($H$13*($H$5-$H$8))/$H$9)-(AQ37/$H$12) -> -11.012486 | AI37: =-(($H$13*($H$5-$H$8))/$H$9)-(AR37/$H$12) -> -11.075429 | AJ37: =-(($H$13*($H$5-$H$8))/$H$9)-(AS37/$H$12) -> -11.159289 | AK37: =-(($H$13*($H$5-$H$8))/$H$9)-(AT37/$H$12) -> -11.261785 | AL37: =-(($H$13*($H$5-$H$8))/$H$9)-(AU37/$H$12) -> -11.366756 | AM37: =-(($H$13*($H$5-$H$8))/$H$9)-(AV37/$H$12) -> -11.497038 | AP37: 3140 | AQ37: =0.5*$L$5*$L$9*$L$7*($BB37^2) -> 22.741544 | AR37: =0.5*$L$5*$L$9*$L$7*($BG37^2) -> 39.358481 | AS37: =0.5*$L$5*$L$9*$L$7*($BL37^2) -> 61.497627 | AT37: =0.5*$L$5*$L$9*$L$7*($BQ37^2) -> 88.556583 | AU37: =0.5*$L$5*$L$9*$L$7*($BV37^2) -> 116.26895 | AV37: =0.5*$L$5*$L$9*$L$7*($CA37^2) -> 150.66337 | AX37: 3140 | AY37: ='Max limit'!AX37*Input!PrimaryDrive_ratio*Input!Gear1_ratio*Input!FinalDrive_ratio -> 277.11642 | AZ37: =AY37 / 60 -> 4.6186071 | BA37: =AZ37*Input!$N$23 -> 10867.573 | BB37: =BA37/1000 -> 10.867573 | BC37: 3140 | BD37: ='Max limit'!AX37*Input!PrimaryDrive_ratio*Input!Gear2_ratio*Input!FinalDrive_ratio -> 364.56205 | BE37: =BD37/60 -> 6.0760342 | BF37: =BE37*Input!$N$23 -> 14296.896 | BG37: =BF37/1000 -> 14.296896 | BH37: 3140 | BI37: ='Max limit'!AX37*Input!PrimaryDrive_ratio*Input!Gear3_ratio*Input!FinalDrive_ratio -> 455.70256 | BJ37: =BI37/60 -> 7.5950427 | BK37: =BJ37*Input!$N$23 -> 17871.12 | BL37: =BK37/1000 -> 17.87112 | BM37: 3140 | BN37: ='Max limit'!AX37*Input!PrimaryDrive_ratio*Input!Gear4_ratio*Input!FinalDrive_ratio -> 546.84308 | BO37: =BN37/60 -> 9.1140513 | BP37: =BO37*Input!$N$23 -> 21445.344 | BQ37: =BP37/1000 -> 21.445344 | BR37: 3140 | BS37: ='Max limit'!AX37*Input!PrimaryDrive_ratio*Input!Gear5_ratio*Input!FinalDrive_ratio -> 626.59103 | BT37: =BS37/60 -> 10.443184 | BU37: =BT37*Input!$N$23 -> 24572.791 | BV37: =BU37/1000 -> 24.572791 | BW37: 3140 | BX37: ='Max limit'!AX37*Input!PrimaryDrive_ratio*Input!Gear6_ratio*Input!FinalDrive_ratio -> 713.27358 | BY37: =BX37/60 -> 11.887893 | BZ37: =BY37*Input!$N$23 -> 27972.188 | CA37: =BZ37/1000 -> 27.972188 | CC37: 3140 | CD37: =MROUND($BB37,0.5) -> 11 | CE37: =MROUND($BG37,0.5) -> 14.5 | CF37: =MROUND($BL37,0.5) -> 18 | CG37: =MROUND($BQ37,0.5) -> 21.5 | CH37: =MROUND($BV37,0.5) -> 24.5 | CI37: =MROUND($CA37,0.5) -> 28 | CK37: 3140 | CL37: =$AY37/60 -> 4.6186071 | CM37: =$BD37/60 -> 6.0760342 | CN37: =$BI37/60 -> 7.5950427 | CO37: =$BN37/60 -> 9.1140513 | CP37: =$BS37/60 -> 10.443184 | CQ37: =$BX37/60 -> 11.887893
A38: 3190 | B38: 36.065 | C38: 79.403 | D38: 33.991 | E38: 1.659 | G38: m/s^2 | H38: =$H$16 / ( $H$24 * $H$34 * $H$15 ) -> 11.482454 | I38: =$H$16 / ( $H$25 * $I$34 * $H$15 ) -> 9.0371798 | J38: =$H$16 / ( $H$26 * $J$34 * $H$15 ) -> 7.4269187 | K38: =$H$16 / ( $H$27 * $K$34 * $H$15 ) -> 6.2458796 | L38: =$H$16 / ( $H$28 * $L$34 * $H$15 ) -> 5.5014213 | M38: =$H$16 / ( $H$29 * $M$34 * $H$15 ) -> 4.8328458 | O38: 3150 | P38: =(($H$10*$H$14*($H$5-$H$7)-(AQ38*($H$5-($H$10*$H$9)))))/(H$34*($H$5-($H$9*$H$10))) -> 13.145071 | Q38: =(($H$10*$H$14*($H$5-$H$7)-(AR38*($H$5-($H$10*$H$9)))))/(I$34*($H$5-($H$9*$H$10))) -> 13.554327 | R38: =(($H$10*$H$14*($H$5-$H$7)-(AS38*($H$5-($H$10*$H$9)))))/(J$34*($H$5-($H$9*$H$10))) -> 13.847267 | S38: =(($H$10*$H$14*($H$5-$H$7)-(AT38*($H$5-($H$10*$H$9)))))/(K$34*($H$5-($H$9*$H$10))) -> 13.879673 | T38: =(($H$10*$H$14*($H$5-$H$7)-(AU38*($H$5-($H$10*$H$9)))))/(L$34*($H$5-($H$9*$H$10))) -> 13.910373 | U38: =(($H$10*$H$14*($H$5-$H$7)-(AV38*($H$5-($H$10*$H$9)))))/(M$34*($H$5-($H$9*$H$10))) -> 13.788972 | W38: 3150 | X38: =(($H$14*$H$7)-(AQ38*$H$9))/(H$34*$H$9) -> 9.2646597 | Y38: =(($H$14*$H$7)-(AR38*$H$9))/(I$34*$H$9) -> 9.5365552 | Z38: =(($H$14*$H$7)-(AS38*$H$9))/(J$34*$H$9) -> 9.71992 | AA38: =(($H$14*$H$7)-(AT38*$H$9))/(K$34*$H$9) -> 9.7144606 | AB38: =(($H$14*$H$7)-(AU38*$H$9))/(L$34*$H$9) -> 9.7065938 | AC38: =(($H$14*$H$7)-(AV38*$H$9))/(M$34*$H$9) -> 9.5851928 | AG38: 3150 | AH38: =-(($H$13*($H$5-$H$8))/$H$9)-(AQ38/$H$12) -> -11.013035 | AI38: =-(($H$13*($H$5-$H$8))/$H$9)-(AR38/$H$12) -> -11.07638 | AJ38: =-(($H$13*($H$5-$H$8))/$H$9)-(AS38/$H$12) -> -11.160775 | AK38: =-(($H$13*($H$5-$H$8))/$H$9)-(AT38/$H$12) -> -11.263925 | AL38: =-(($H$13*($H$5-$H$8))/$H$9)-(AU38/$H$12) -> -11.369566 | AM38: =-(($H$13*($H$5-$H$8))/$H$9)-(AV38/$H$12) -> -11.500679 | AP38: 3150 | AQ38: =0.5*$L$5*$L$9*$L$7*($BB38^2) -> 22.886625 | AR38: =0.5*$L$5*$L$9*$L$7*($BG38^2) -> 39.609572 | AS38: =0.5*$L$5*$L$9*$L$7*($BL38^2) -> 61.889956 | AT38: =0.5*$L$5*$L$9*$L$7*($BQ38^2) -> 89.121536 | AU38: =0.5*$L$5*$L$9*$L$7*($BV38^2) -> 117.0107 | AV38: =0.5*$L$5*$L$9*$L$7*($CA38^2) -> 151.62454 | AX38: 3150 | AY38: ='Max limit'!AX38*Input!PrimaryDrive_ratio*Input!Gear1_ratio*Input!FinalDrive_ratio -> 277.99896 | AZ38: =AY38 / 60 -> 4.633316 | BA38: =AZ38*Input!$N$23 -> 10902.183 | BB38: =BA38/1000 -> 10.902183 | BC38: 3150 | BD38: ='Max limit'!AX38*Input!PrimaryDrive_ratio*Input!Gear2_ratio*Input!FinalDrive_ratio -> 365.72308 | BE38: =BD38/60 -> 6.0953846 | BF38: =BE38*Input!$N$23 -> 14342.428 | BG38: =BF38/1000 -> 14.342428 | BH38: 3150 | BI38: ='Max limit'!AX38*Input!PrimaryDrive_ratio*Input!Gear3_ratio*Input!FinalDrive_ratio -> 457.15385 | BJ38: =BI38/60 -> 7.6192308 | BK38: =BJ38*Input!$N$23 -> 17928.035 | BL38: =BK38/1000 -> 17.928035 | BM38: 3150 | BN38: ='Max limit'!AX38*Input!PrimaryDrive_ratio*Input!Gear4_ratio*Input!FinalDrive_ratio -> 548.58462 | BO38: =BN38/60 -> 9.1430769 | BP38: =BO38*Input!$N$23 -> 21513.642 | BQ38: =BP38/1000 -> 21.513642 | BR38: 3150 | BS38: ='Max limit'!AX38*Input!PrimaryDrive_ratio*Input!Gear5_ratio*Input!FinalDrive_ratio -> 628.58654 | BT38: =BS38/60 -> 10.476442 | BU38: =BT38*Input!$N$23 -> 24651.048 | BV38: =BU38/1000 -> 24.651048 | BW38: 3150 | BX38: ='Max limit'!AX38*Input!PrimaryDrive_ratio*Input!Gear6_ratio*Input!FinalDrive_ratio -> 715.54515 | BY38: =BX38/60 -> 11.925753 | BZ38: =BY38*Input!$N$23 -> 28061.272 | CA38: =BZ38/1000 -> 28.061272 | CC38: 3150 | CD38: =MROUND($BB38,0.5) -> 11 | CE38: =MROUND($BG38,0.5) -> 14.5 | CF38: =MROUND($BL38,0.5) -> 18 | CG38: =MROUND($BQ38,0.5) -> 21.5 | CH38: =MROUND($BV38,0.5) -> 24.5 | CI38: =MROUND($CA38,0.5) -> 28 | CK38: 3150 | CL38: =$AY38/60 -> 4.633316 | CM38: =$BD38/60 -> 6.0953846 | CN38: =$BI38/60 -> 7.6192308 | CO38: =$BN38/60 -> 9.1430769 | CP38: =$BS38/60 -> 10.476442 | CQ38: =$BX38/60 -> 11.925753
A39: 3200 | B39: 36.66 | C39: 80.46 | D39: 34.579 | E39: 1.659 | G39: RPM | H39: =INDEX($AY:$AY, MATCH(MAX($BA:$BA), $BA:$BA, 0)) -> 961.08212 | I39: =$H$17 -> 3930 | J39: =$H$17 -> 3930 | K39: =$H$17 -> 3930 | L39: =$H$17 -> 3930 | M39: =$H$17 -> 3930 | O39: 3160 | P39: =(($H$10*$H$14*($H$5-$H$7)-(AQ39*($H$5-($H$10*$H$9)))))/(H$34*($H$5-($H$9*$H$10))) -> 13.1446 | Q39: =(($H$10*$H$14*($H$5-$H$7)-(AR39*($H$5-($H$10*$H$9)))))/(I$34*($H$5-($H$9*$H$10))) -> 13.553482 | R39: =(($H$10*$H$14*($H$5-$H$7)-(AS39*($H$5-($H$10*$H$9)))))/(J$34*($H$5-($H$9*$H$10))) -> 13.845912 | S39: =(($H$10*$H$14*($H$5-$H$7)-(AT39*($H$5-($H$10*$H$9)))))/(K$34*($H$5-($H$9*$H$10))) -> 13.877704 | T39: =(($H$10*$H$14*($H$5-$H$7)-(AU39*($H$5-($H$10*$H$9)))))/(L$34*($H$5-($H$9*$H$10))) -> 13.907763 | U39: =(($H$10*$H$14*($H$5-$H$7)-(AV39*($H$5-($H$10*$H$9)))))/(M$34*($H$5-($H$9*$H$10))) -> 13.78559 | W39: 3160 | X39: =(($H$14*$H$7)-(AQ39*$H$9))/(H$34*$H$9) -> 9.2641885 | Y39: =(($H$14*$H$7)-(AR39*$H$9))/(I$34*$H$9) -> 9.5357109 | Z39: =(($H$14*$H$7)-(AS39*$H$9))/(J$34*$H$9) -> 9.7185647 | AA39: =(($H$14*$H$7)-(AT39*$H$9))/(K$34*$H$9) -> 9.7124911 | AB39: =(($H$14*$H$7)-(AU39*$H$9))/(L$34*$H$9) -> 9.703984 | AC39: =(($H$14*$H$7)-(AV39*$H$9))/(M$34*$H$9) -> 9.581811 | AG39: 3160 | AH39: =-(($H$13*($H$5-$H$8))/$H$9)-(AQ39/$H$12) -> -11.013587 | AI39: =-(($H$13*($H$5-$H$8))/$H$9)-(AR39/$H$12) -> -11.077334 | AJ39: =-(($H$13*($H$5-$H$8))/$H$9)-(AS39/$H$12) -> -11.162266 | AK39: =-(($H$13*($H$5-$H$8))/$H$9)-(AT39/$H$12) -> -11.266072 | AL39: =-(($H$13*($H$5-$H$8))/$H$9)-(AU39/$H$12) -> -11.372385 | AM39: =-(($H$13*($H$5-$H$8))/$H$9)-(AV39/$H$12) -> -11.504331 | AP39: 3160 | AQ39: =0.5*$L$5*$L$9*$L$7*($BB39^2) -> 23.032168 | AR39: =0.5*$L$5*$L$9*$L$7*($BG39^2) -> 39.86146 | AS39: =0.5*$L$5*$L$9*$L$7*($BL39^2) -> 62.283531 | AT39: =0.5*$L$5*$L$9*$L$7*($BQ39^2) -> 89.688285 | AU39: =0.5*$L$5*$L$9*$L$7*($BV39^2) -> 117.7548 | AV39: =0.5*$L$5*$L$9*$L$7*($CA39^2) -> 152.58877 | AX39: 3160 | AY39: ='Max limit'!AX39*Input!PrimaryDrive_ratio*Input!Gear1_ratio*Input!FinalDrive_ratio -> 278.8815 | AZ39: =AY39 / 60 -> 4.6480249 | BA39: =AZ39*Input!$N$23 -> 10936.793 | BB39: =BA39/1000 -> 10.936793 | BC39: 3160 | BD39: ='Max limit'!AX39*Input!PrimaryDrive_ratio*Input!Gear2_ratio*Input!FinalDrive_ratio -> 366.8841 | BE39: =BD39/60 -> 6.114735 | BF39: =BE39*Input!$N$23 -> 14387.959 | BG39: =BF39/1000 -> 14.387959 | BH39: 3160 | BI39: ='Max limit'!AX39*Input!PrimaryDrive_ratio*Input!Gear3_ratio*Input!FinalDrive_ratio -> 458.60513 | BJ39: =BI39/60 -> 7.6434188 | BK39: =BJ39*Input!$N$23 -> 17984.949 | BL39: =BK39/1000 -> 17.984949 | BM39: 3160 | BN39: ='Max limit'!AX39*Input!PrimaryDrive_ratio*Input!Gear4_ratio*Input!FinalDrive_ratio -> 550.32615 | BO39: =BN39/60 -> 9.1721026 | BP39: =BO39*Input!$N$23 -> 21581.939 | BQ39: =BP39/1000 -> 21.581939 | BR39: 3160 | BS39: ='Max limit'!AX39*Input!PrimaryDrive_ratio*Input!Gear5_ratio*Input!FinalDrive_ratio -> 630.58205 | BT39: =BS39/60 -> 10.509701 | BU39: =BT39*Input!$N$23 -> 24729.305 | BV39: =BU39/1000 -> 24.729305 | BW39: 3160 | BX39: ='Max limit'!AX39*Input!PrimaryDrive_ratio*Input!Gear6_ratio*Input!FinalDrive_ratio -> 717.81672 | BY39: =BX39/60 -> 11.963612 | BZ39: =BY39*Input!$N$23 -> 28150.355 | CA39: =BZ39/1000 -> 28.150355 | CC39: 3160 | CD39: =MROUND($BB39,0.5) -> 11 | CE39: =MROUND($BG39,0.5) -> 14.5 | CF39: =MROUND($BL39,0.5) -> 18 | CG39: =MROUND($BQ39,0.5) -> 21.5 | CH39: =MROUND($BV39,0.5) -> 24.5 | CI39: =MROUND($CA39,0.5) -> 28 | CK39: 3160 | CL39: =$AY39/60 -> 4.6480249 | CM39: =$BD39/60 -> 6.114735 | CN39: =$BI39/60 -> 7.6434188 | CO39: =$BN39/60 -> 9.1721026 | CP39: =$BS39/60 -> 10.509701 | CQ39: =$BX39/60 -> 11.963612
A40: 3210 | B40: 37.238 | C40: 81.474 | D40: 35.15 | E40: 1.659 | O40: 3170 | P40: =(($H$10*$H$14*($H$5-$H$7)-(AQ40*($H$5-($H$10*$H$9)))))/(H$34*($H$5-($H$9*$H$10))) -> 13.144128 | Q40: =(($H$10*$H$14*($H$5-$H$7)-(AR40*($H$5-($H$10*$H$9)))))/(I$34*($H$5-($H$9*$H$10))) -> 13.552635 | R40: =(($H$10*$H$14*($H$5-$H$7)-(AS40*($H$5-($H$10*$H$9)))))/(J$34*($H$5-($H$9*$H$10))) -> 13.844552 | S40: =(($H$10*$H$14*($H$5-$H$7)-(AT40*($H$5-($H$10*$H$9)))))/(K$34*($H$5-($H$9*$H$10))) -> 13.875728 | T40: =(($H$10*$H$14*($H$5-$H$7)-(AU40*($H$5-($H$10*$H$9)))))/(L$34*($H$5-($H$9*$H$10))) -> 13.905145 | U40: =(($H$10*$H$14*($H$5-$H$7)-(AV40*($H$5-($H$10*$H$9)))))/(M$34*($H$5-($H$9*$H$10))) -> 13.782198 | W40: 3170 | X40: =(($H$14*$H$7)-(AQ40*$H$9))/(H$34*$H$9) -> 9.2637159 | Y40: =(($H$14*$H$7)-(AR40*$H$9))/(I$34*$H$9) -> 9.5348638 | Z40: =(($H$14*$H$7)-(AS40*$H$9))/(J$34*$H$9) -> 9.7172051 | AA40: =(($H$14*$H$7)-(AT40*$H$9))/(K$34*$H$9) -> 9.7105153 | AB40: =(($H$14*$H$7)-(AU40*$H$9))/(L$34*$H$9) -> 9.701366 | AC40: =(($H$14*$H$7)-(AV40*$H$9))/(M$34*$H$9) -> 9.5784185 | AG40: 3170 | AH40: =-(($H$13*($H$5-$H$8))/$H$9)-(AQ40/$H$12) -> -11.01414 | AI40: =-(($H$13*($H$5-$H$8))/$H$9)-(AR40/$H$12) -> -11.078291 | AJ40: =-(($H$13*($H$5-$H$8))/$H$9)-(AS40/$H$12) -> -11.163762 | AK40: =-(($H$13*($H$5-$H$8))/$H$9)-(AT40/$H$12) -> -11.268226 | AL40: =-(($H$13*($H$5-$H$8))/$H$9)-(AU40/$H$12) -> -11.375212 | AM40: =-(($H$13*($H$5-$H$8))/$H$9)-(AV40/$H$12) -> -11.507995 | AP40: 3170 | AQ40: =0.5*$L$5*$L$9*$L$7*($BB40^2) -> 23.178172 | AR40: =0.5*$L$5*$L$9*$L$7*($BG40^2) -> 40.114147 | AS40: =0.5*$L$5*$L$9*$L$7*($BL40^2) -> 62.678355 | AT40: =0.5*$L$5*$L$9*$L$7*($BQ40^2) -> 90.256831 | AU40: =0.5*$L$5*$L$9*$L$7*($BV40^2) -> 118.50126 | AV40: =0.5*$L$5*$L$9*$L$7*($CA40^2) -> 153.55604 | AX40: 3170 | AY40: ='Max limit'!AX40*Input!PrimaryDrive_ratio*Input!Gear1_ratio*Input!FinalDrive_ratio -> 279.76403 | AZ40: =AY40 / 60 -> 4.6627339 | BA40: =AZ40*Input!$N$23 -> 10971.404 | BB40: =BA40/1000 -> 10.971404 | BC40: 3170 | BD40: ='Max limit'!AX40*Input!PrimaryDrive_ratio*Input!Gear2_ratio*Input!FinalDrive_ratio -> 368.04513 | BE40: =BD40/60 -> 6.1340855 | BF40: =BE40*Input!$N$23 -> 14433.491 | BG40: =BF40/1000 -> 14.433491 | BH40: 3170 | BI40: ='Max limit'!AX40*Input!PrimaryDrive_ratio*Input!Gear3_ratio*Input!FinalDrive_ratio -> 460.05641 | BJ40: =BI40/60 -> 7.6676068 | BK40: =BJ40*Input!$N$23 -> 18041.864 | BL40: =BK40/1000 -> 18.041864 | BM40: 3170 | BN40: ='Max limit'!AX40*Input!PrimaryDrive_ratio*Input!Gear4_ratio*Input!FinalDrive_ratio -> 552.06769 | BO40: =BN40/60 -> 9.2011282 | BP40: =BO40*Input!$N$23 -> 21650.236 | BQ40: =BP40/1000 -> 21.650236 | BR40: 3170 | BS40: ='Max limit'!AX40*Input!PrimaryDrive_ratio*Input!Gear5_ratio*Input!FinalDrive_ratio -> 632.57756 | BT40: =BS40/60 -> 10.542959 | BU40: =BT40*Input!$N$23 -> 24807.562 | BV40: =BU40/1000 -> 24.807562 | BW40: 3170 | BX40: ='Max limit'!AX40*Input!PrimaryDrive_ratio*Input!Gear6_ratio*Input!FinalDrive_ratio -> 720.08829 | BY40: =BX40/60 -> 12.001472 | BZ40: =BY40*Input!$N$23 -> 28239.439 | CA40: =BZ40/1000 -> 28.239439 | CC40: 3170 | CD40: =MROUND($BB40,0.5) -> 11 | CE40: =MROUND($BG40,0.5) -> 14.5 | CF40: =MROUND($BL40,0.5) -> 18 | CG40: =MROUND($BQ40,0.5) -> 21.5 | CH40: =MROUND($BV40,0.5) -> 25 | CI40: =MROUND($CA40,0.5) -> 28 | CK40: 3170 | CL40: =$AY40/60 -> 4.6627339 | CM40: =$BD40/60 -> 6.1340855 | CN40: =$BI40/60 -> 7.6676068 | CO40: =$BN40/60 -> 9.2011282 | CP40: =$BS40/60 -> 10.542959 | CQ40: =$BX40/60 -> 12.001472
A41: 3220 | B41: 37.801 | C41: 82.45 | D41: 35.706 | E41: 1.66 | G41: Max Acceleration m/s^2, Traction Limited | O41: 3180 | P41: =(($H$10*$H$14*($H$5-$H$7)-(AQ41*($H$5-($H$10*$H$9)))))/(H$34*($H$5-($H$9*$H$10))) -> 13.143653 | Q41: =(($H$10*$H$14*($H$5-$H$7)-(AR41*($H$5-($H$10*$H$9)))))/(I$34*($H$5-($H$9*$H$10))) -> 13.551786 | R41: =(($H$10*$H$14*($H$5-$H$7)-(AS41*($H$5-($H$10*$H$9)))))/(J$34*($H$5-($H$9*$H$10))) -> 13.843188 | S41: =(($H$10*$H$14*($H$5-$H$7)-(AT41*($H$5-($H$10*$H$9)))))/(K$34*($H$5-($H$9*$H$10))) -> 13.873746 | T41: =(($H$10*$H$14*($H$5-$H$7)-(AU41*($H$5-($H$10*$H$9)))))/(L$34*($H$5-($H$9*$H$10))) -> 13.902519 | U41: =(($H$10*$H$14*($H$5-$H$7)-(AV41*($H$5-($H$10*$H$9)))))/(M$34*($H$5-($H$9*$H$10))) -> 13.778795 | W41: 3180 | X41: =(($H$14*$H$7)-(AQ41*$H$9))/(H$34*$H$9) -> 9.2632417 | Y41: =(($H$14*$H$7)-(AR41*$H$9))/(I$34*$H$9) -> 9.5340141 | Z41: =(($H$14*$H$7)-(AS41*$H$9))/(J$34*$H$9) -> 9.7158413 | AA41: =(($H$14*$H$7)-(AT41*$H$9))/(K$34*$H$9) -> 9.7085333 | AB41: =(($H$14*$H$7)-(AU41*$H$9))/(L$34*$H$9) -> 9.6987396 | AC41: =(($H$14*$H$7)-(AV41*$H$9))/(M$34*$H$9) -> 9.5750152 | AG41: 3180 | AH41: =-(($H$13*($H$5-$H$8))/$H$9)-(AQ41/$H$12) -> -11.014695 | AI41: =-(($H$13*($H$5-$H$8))/$H$9)-(AR41/$H$12) -> -11.079251 | AJ41: =-(($H$13*($H$5-$H$8))/$H$9)-(AS41/$H$12) -> -11.165262 | AK41: =-(($H$13*($H$5-$H$8))/$H$9)-(AT41/$H$12) -> -11.270386 | AL41: =-(($H$13*($H$5-$H$8))/$H$9)-(AU41/$H$12) -> -11.378049 | AM41: =-(($H$13*($H$5-$H$8))/$H$9)-(AV41/$H$12) -> -11.511671 | AP41: 3180 | AQ41: =0.5*$L$5*$L$9*$L$7*($BB41^2) -> 23.324637 | AR41: =0.5*$L$5*$L$9*$L$7*($BG41^2) -> 40.367632 | AS41: =0.5*$L$5*$L$9*$L$7*($BL41^2) -> 63.074426 | AT41: =0.5*$L$5*$L$9*$L$7*($BQ41^2) -> 90.827173 | AU41: =0.5*$L$5*$L$9*$L$7*($BV41^2) -> 119.25009 | AV41: =0.5*$L$5*$L$9*$L$7*($CA41^2) -> 154.52638 | AX41: 3180 | AY41: ='Max limit'!AX41*Input!PrimaryDrive_ratio*Input!Gear1_ratio*Input!FinalDrive_ratio -> 280.64657 | AZ41: =AY41 / 60 -> 4.6774428 | BA41: =AZ41*Input!$N$23 -> 11006.014 | BB41: =BA41/1000 -> 11.006014 | BC41: 3180 | BD41: ='Max limit'!AX41*Input!PrimaryDrive_ratio*Input!Gear2_ratio*Input!FinalDrive_ratio -> 369.20615 | BE41: =BD41/60 -> 6.1534359 | BF41: =BE41*Input!$N$23 -> 14479.022 | BG41: =BF41/1000 -> 14.479022 | BH41: 3180 | BI41: ='Max limit'!AX41*Input!PrimaryDrive_ratio*Input!Gear3_ratio*Input!FinalDrive_ratio -> 461.50769 | BJ41: =BI41/60 -> 7.6917949 | BK41: =BJ41*Input!$N$23 -> 18098.778 | BL41: =BK41/1000 -> 18.098778 | BM41: 3180 | BN41: ='Max limit'!AX41*Input!PrimaryDrive_ratio*Input!Gear4_ratio*Input!FinalDrive_ratio -> 553.80923 | BO41: =BN41/60 -> 9.2301538 | BP41: =BO41*Input!$N$23 -> 21718.534 | BQ41: =BP41/1000 -> 21.718534 | BR41: 3180 | BS41: ='Max limit'!AX41*Input!PrimaryDrive_ratio*Input!Gear5_ratio*Input!FinalDrive_ratio -> 634.57308 | BT41: =BS41/60 -> 10.576218 | BU41: =BT41*Input!$N$23 -> 24885.82 | BV41: =BU41/1000 -> 24.88582 | BW41: 3180 | BX41: ='Max limit'!AX41*Input!PrimaryDrive_ratio*Input!Gear6_ratio*Input!FinalDrive_ratio -> 722.35987 | BY41: =BX41/60 -> 12.039331 | BZ41: =BY41*Input!$N$23 -> 28328.522 | CA41: =BZ41/1000 -> 28.328522 | CC41: 3180 | CD41: =MROUND($BB41,0.5) -> 11 | CE41: =MROUND($BG41,0.5) -> 14.5 | CF41: =MROUND($BL41,0.5) -> 18 | CG41: =MROUND($BQ41,0.5) -> 21.5 | CH41: =MROUND($BV41,0.5) -> 25 | CI41: =MROUND($CA41,0.5) -> 28.5 | CK41: 3180 | CL41: =$AY41/60 -> 4.6774428 | CM41: =$BD41/60 -> 6.1534359 | CN41: =$BI41/60 -> 7.6917949 | CO41: =$BN41/60 -> 9.2301538 | CP41: =$BS41/60 -> 10.576218 | CQ41: =$BX41/60 -> 12.039331
A42: 3230 | B42: 38.351 | C42: 83.391 | D42: 36.237 | E42: 1.672 | G42: Gear | H42: 1 | I42: 2 | J42: 3 | K42: 4 | L42: 5 | M42: 6 | O42: 3190 | P42: =(($H$10*$H$14*($H$5-$H$7)-(AQ42*($H$5-($H$10*$H$9)))))/(H$34*($H$5-($H$9*$H$10))) -> 13.143178 | Q42: =(($H$10*$H$14*($H$5-$H$7)-(AR42*($H$5-($H$10*$H$9)))))/(I$34*($H$5-($H$9*$H$10))) -> 13.550933 | R42: =(($H$10*$H$14*($H$5-$H$7)-(AS42*($H$5-($H$10*$H$9)))))/(J$34*($H$5-($H$9*$H$10))) -> 13.84182 | S42: =(($H$10*$H$14*($H$5-$H$7)-(AT42*($H$5-($H$10*$H$9)))))/(K$34*($H$5-($H$9*$H$10))) -> 13.871758 | T42: =(($H$10*$H$14*($H$5-$H$7)-(AU42*($H$5-($H$10*$H$9)))))/(L$34*($H$5-($H$9*$H$10))) -> 13.899884 | U42: =(($H$10*$H$14*($H$5-$H$7)-(AV42*($H$5-($H$10*$H$9)))))/(M$34*($H$5-($H$9*$H$10))) -> 13.775381 | W42: 3190 | X42: =(($H$14*$H$7)-(AQ42*$H$9))/(H$34*$H$9) -> 9.262766 | Y42: =(($H$14*$H$7)-(AR42*$H$9))/(I$34*$H$9) -> 9.5331617 | Z42: =(($H$14*$H$7)-(AS42*$H$9))/(J$34*$H$9) -> 9.7144731 | AA42: =(($H$14*$H$7)-(AT42*$H$9))/(K$34*$H$9) -> 9.7065451 | AB42: =(($H$14*$H$7)-(AU42*$H$9))/(L$34*$H$9) -> 9.696105 | AC42: =(($H$14*$H$7)-(AV42*$H$9))/(M$34*$H$9) -> 9.5716013 | AG42: 3190 | AH42: =-(($H$13*($H$5-$H$8))/$H$9)-(AQ42/$H$12) -> -11.015251 | AI42: =-(($H$13*($H$5-$H$8))/$H$9)-(AR42/$H$12) -> -11.080215 | AJ42: =-(($H$13*($H$5-$H$8))/$H$9)-(AS42/$H$12) -> -11.166767 | AK42: =-(($H$13*($H$5-$H$8))/$H$9)-(AT42/$H$12) -> -11.272553 | AL42: =-(($H$13*($H$5-$H$8))/$H$9)-(AU42/$H$12) -> -11.380894 | AM42: =-(($H$13*($H$5-$H$8))/$H$9)-(AV42/$H$12) -> -11.515358 | AP42: 3190 | AQ42: =0.5*$L$5*$L$9*$L$7*($BB42^2) -> 23.471563 | AR42: =0.5*$L$5*$L$9*$L$7*($BG42^2) -> 40.621916 | AS42: =0.5*$L$5*$L$9*$L$7*($BL42^2) -> 63.471744 | AT42: =0.5*$L$5*$L$9*$L$7*($BQ42^2) -> 91.399311 | AU42: =0.5*$L$5*$L$9*$L$7*($BV42^2) -> 120.00127 | AV42: =0.5*$L$5*$L$9*$L$7*($CA42^2) -> 155.49977 | AX42: 3190 | AY42: ='Max limit'!AX42*Input!PrimaryDrive_ratio*Input!Gear1_ratio*Input!FinalDrive_ratio -> 281.52911 | AZ42: =AY42 / 60 -> 4.6921518 | BA42: =AZ42*Input!$N$23 -> 11040.624 | BB42: =BA42/1000 -> 11.040624 | BC42: 3190 | BD42: ='Max limit'!AX42*Input!PrimaryDrive_ratio*Input!Gear2_ratio*Input!FinalDrive_ratio -> 370.36718 | BE42: =BD42/60 -> 6.1727863 | BF42: =BE42*Input!$N$23 -> 14524.554 | BG42: =BF42/1000 -> 14.524554 | BH42: 3190 | BI42: ='Max limit'!AX42*Input!PrimaryDrive_ratio*Input!Gear3_ratio*Input!FinalDrive_ratio -> 462.95897 | BJ42: =BI42/60 -> 7.7159829 | BK42: =BJ42*Input!$N$23 -> 18155.692 | BL42: =BK42/1000 -> 18.155692 | BM42: 3190 | BN42: ='Max limit'!AX42*Input!PrimaryDrive_ratio*Input!Gear4_ratio*Input!FinalDrive_ratio -> 555.55077 | BO42: =BN42/60 -> 9.2591795 | BP42: =BO42*Input!$N$23 -> 21786.831 | BQ42: =BP42/1000 -> 21.786831 | BR42: 3190 | BS42: ='Max limit'!AX42*Input!PrimaryDrive_ratio*Input!Gear5_ratio*Input!FinalDrive_ratio -> 636.56859 | BT42: =BS42/60 -> 10.609476 | BU42: =BT42*Input!$N$23 -> 24964.077 | BV42: =BU42/1000 -> 24.964077 | BW42: 3190 | BX42: ='Max limit'!AX42*Input!PrimaryDrive_ratio*Input!Gear6_ratio*Input!FinalDrive_ratio -> 724.63144 | BY42: =BX42/60 -> 12.077191 | BZ42: =BY42*Input!$N$23 -> 28417.605 | CA42: =BZ42/1000 -> 28.417605 | CC42: 3190 | CD42: =MROUND($BB42,0.5) -> 11 | CE42: =MROUND($BG42,0.5) -> 14.5 | CF42: =MROUND($BL42,0.5) -> 18 | CG42: =MROUND($BQ42,0.5) -> 22 | CH42: =MROUND($BV42,0.5) -> 25 | CI42: =MROUND($CA42,0.5) -> 28.5 | CK42: 3190 | CL42: =$AY42/60 -> 4.6921518 | CM42: =$BD42/60 -> 6.1727863 | CN42: =$BI42/60 -> 7.7159829 | CO42: =$BN42/60 -> 9.2591795 | CP42: =$BS42/60 -> 10.609476 | CQ42: =$BX42/60 -> 12.077191
A43: 3240 | B43: 38.894 | C43: 84.31 | D43: 36.764 | E43: 1.682 | G43: m/s^2 | H43: =$H$10*$H$13*($H$8/$H$5)*($H$12/H34) -> 5.3185992 | I43: =$H$10*$H$13*($H$8/$H$5)*($H$12/I34) -> 5.5068682 | J43: =$H$10*$H$13*($H$8/$H$5)*($H$12/J34) -> 5.6570555 | K43: =$H$10*$H$13*($H$8/$H$5)*($H$12/K34) -> 5.7089551 | L43: =$H$10*$H$13*($H$8/$H$5)*($H$12/L34) -> 5.7618158 | M43: =$H$10*$H$13*($H$8/$H$5)*($H$12/M34) -> 5.7618158 | O43: 3200 | P43: =(($H$10*$H$14*($H$5-$H$7)-(AQ43*($H$5-($H$10*$H$9)))))/(H$34*($H$5-($H$9*$H$10))) -> 13.142701 | Q43: =(($H$10*$H$14*($H$5-$H$7)-(AR43*($H$5-($H$10*$H$9)))))/(I$34*($H$5-($H$9*$H$10))) -> 13.550078 | R43: =(($H$10*$H$14*($H$5-$H$7)-(AS43*($H$5-($H$10*$H$9)))))/(J$34*($H$5-($H$9*$H$10))) -> 13.840448 | S43: =(($H$10*$H$14*($H$5-$H$7)-(AT43*($H$5-($H$10*$H$9)))))/(K$34*($H$5-($H$9*$H$10))) -> 13.869763 | T43: =(($H$10*$H$14*($H$5-$H$7)-(AU43*($H$5-($H$10*$H$9)))))/(L$34*($H$5-($H$9*$H$10))) -> 13.897242 | U43: =(($H$10*$H$14*($H$5-$H$7)-(AV43*($H$5-($H$10*$H$9)))))/(M$34*($H$5-($H$9*$H$10))) -> 13.771956 | W43: 3200 | X43: =(($H$14*$H$7)-(AQ43*$H$9))/(H$34*$H$9) -> 9.2622888 | Y43: =(($H$14*$H$7)-(AR43*$H$9))/(I$34*$H$9) -> 9.5323067 | Z43: =(($H$14*$H$7)-(AS43*$H$9))/(J$34*$H$9) -> 9.7131006 | AA43: =(($H$14*$H$7)-(AT43*$H$9))/(K$34*$H$9) -> 9.7045506 | AB43: =(($H$14*$H$7)-(AU43*$H$9))/(L$34*$H$9) -> 9.6934621 | AC43: =(($H$14*$H$7)-(AV43*$H$9))/(M$34*$H$9) -> 9.5681766 | AG43: 3200 | AH43: =-(($H$13*($H$5-$H$8))/$H$9)-(AQ43/$H$12) -> -11.015809 | AI43: =-(($H$13*($H$5-$H$8))/$H$9)-(AR43/$H$12) -> -11.081181 | AJ43: =-(($H$13*($H$5-$H$8))/$H$9)-(AS43/$H$12) -> -11.168277 | AK43: =-(($H$13*($H$5-$H$8))/$H$9)-(AT43/$H$12) -> -11.274727 | AL43: =-(($H$13*($H$5-$H$8))/$H$9)-(AU43/$H$12) -> -11.383748 | AM43: =-(($H$13*($H$5-$H$8))/$H$9)-(AV43/$H$12) -> -11.519057 | AP43: 3200 | AQ43: =0.5*$L$5*$L$9*$L$7*($BB43^2) -> 23.618951 | AR43: =0.5*$L$5*$L$9*$L$7*($BG43^2) -> 40.876998 | AS43: =0.5*$L$5*$L$9*$L$7*($BL43^2) -> 63.870309 | AT43: =0.5*$L$5*$L$9*$L$7*($BQ43^2) -> 91.973246 | AU43: =0.5*$L$5*$L$9*$L$7*($BV43^2) -> 120.7548 | AV43: =0.5*$L$5*$L$9*$L$7*($CA43^2) -> 156.47622 | AX43: 3200 | AY43: ='Max limit'!AX43*Input!PrimaryDrive_ratio*Input!Gear1_ratio*Input!FinalDrive_ratio -> 282.41164 | AZ43: =AY43 / 60 -> 4.7068607 | BA43: =AZ43*Input!$N$23 -> 11075.234 | BB43: =BA43/1000 -> 11.075234 | BC43: 3200 | BD43: ='Max limit'!AX43*Input!PrimaryDrive_ratio*Input!Gear2_ratio*Input!FinalDrive_ratio -> 371.52821 | BE43: =BD43/60 -> 6.1921368 | BF43: =BE43*Input!$N$23 -> 14570.085 | BG43: =BF43/1000 -> 14.570085 | BH43: 3200 | BI43: ='Max limit'!AX43*Input!PrimaryDrive_ratio*Input!Gear3_ratio*Input!FinalDrive_ratio -> 464.41026 | BJ43: =BI43/60 -> 7.7401709 | BK43: =BJ43*Input!$N$23 -> 18212.607 | BL43: =BK43/1000 -> 18.212607 | BM43: 3200 | BN43: ='Max limit'!AX43*Input!PrimaryDrive_ratio*Input!Gear4_ratio*Input!FinalDrive_ratio -> 557.29231 | BO43: =BN43/60 -> 9.2882051 | BP43: =BO43*Input!$N$23 -> 21855.128 | BQ43: =BP43/1000 -> 21.855128 | BR43: 3200 | BS43: ='Max limit'!AX43*Input!PrimaryDrive_ratio*Input!Gear5_ratio*Input!FinalDrive_ratio -> 638.5641 | BT43: =BS43/60 -> 10.642735 | BU43: =BT43*Input!$N$23 -> 25042.334 | BV43: =BU43/1000 -> 25.042334 | BW43: 3200 | BX43: ='Max limit'!AX43*Input!PrimaryDrive_ratio*Input!Gear6_ratio*Input!FinalDrive_ratio -> 726.90301 | BY43: =BX43/60 -> 12.11505 | BZ43: =BY43*Input!$N$23 -> 28506.689 | CA43: =BZ43/1000 -> 28.506689 | CC43: 3200 | CD43: =MROUND($BB43,0.5) -> 11 | CE43: =MROUND($BG43,0.5) -> 14.5 | CF43: =MROUND($BL43,0.5) -> 18 | CG43: =MROUND($BQ43,0.5) -> 22 | CH43: =MROUND($BV43,0.5) -> 25 | CI43: =MROUND($CA43,0.5) -> 28.5 | CK43: 3200 | CL43: =$AY43/60 -> 4.7068607 | CM43: =$BD43/60 -> 6.1921368 | CN43: =$BI43/60 -> 7.7401709 | CO43: =$BN43/60 -> 9.2882051 | CP43: =$BS43/60 -> 10.642735 | CQ43: =$BX43/60 -> 12.11505
A44: 3250 | B44: 39.412 | C44: 85.169 | D44: 37.256 | E44: 1.701 | O44: 3210 | P44: =(($H$10*$H$14*($H$5-$H$7)-(AQ44*($H$5-($H$10*$H$9)))))/(H$34*($H$5-($H$9*$H$10))) -> 13.142222 | Q44: =(($H$10*$H$14*($H$5-$H$7)-(AR44*($H$5-($H$10*$H$9)))))/(I$34*($H$5-($H$9*$H$10))) -> 13.54922 | R44: =(($H$10*$H$14*($H$5-$H$7)-(AS44*($H$5-($H$10*$H$9)))))/(J$34*($H$5-($H$9*$H$10))) -> 13.839071 | S44: =(($H$10*$H$14*($H$5-$H$7)-(AT44*($H$5-($H$10*$H$9)))))/(K$34*($H$5-($H$9*$H$10))) -> 13.867762 | T44: =(($H$10*$H$14*($H$5-$H$7)-(AU44*($H$5-($H$10*$H$9)))))/(L$34*($H$5-($H$9*$H$10))) -> 13.89459 | U44: =(($H$10*$H$14*($H$5-$H$7)-(AV44*($H$5-($H$10*$H$9)))))/(M$34*($H$5-($H$9*$H$10))) -> 13.768521 | W44: 3210 | X44: =(($H$14*$H$7)-(AQ44*$H$9))/(H$34*$H$9) -> 9.2618102 | Y44: =(($H$14*$H$7)-(AR44*$H$9))/(I$34*$H$9) -> 9.5314489 | Z44: =(($H$14*$H$7)-(AS44*$H$9))/(J$34*$H$9) -> 9.7117238 | AA44: =(($H$14*$H$7)-(AT44*$H$9))/(K$34*$H$9) -> 9.7025499 | AB44: =(($H$14*$H$7)-(AU44*$H$9))/(L$34*$H$9) -> 9.690811 | AC44: =(($H$14*$H$7)-(AV44*$H$9))/(M$34*$H$9) -> 9.5647412 | AG44: 3210 | AH44: =-(($H$13*($H$5-$H$8))/$H$9)-(AQ44/$H$12) -> -11.016369 | AI44: =-(($H$13*($H$5-$H$8))/$H$9)-(AR44/$H$12) -> -11.08215 | AJ44: =-(($H$13*($H$5-$H$8))/$H$9)-(AS44/$H$12) -> -11.169791 | AK44: =-(($H$13*($H$5-$H$8))/$H$9)-(AT44/$H$12) -> -11.276908 | AL44: =-(($H$13*($H$5-$H$8))/$H$9)-(AU44/$H$12) -> -11.386611 | AM44: =-(($H$13*($H$5-$H$8))/$H$9)-(AV44/$H$12) -> -11.522767 | AP44: 3210 | AQ44: =0.5*$L$5*$L$9*$L$7*($BB44^2) -> 23.7668 | AR44: =0.5*$L$5*$L$9*$L$7*($BG44^2) -> 41.132878 | AS44: =0.5*$L$5*$L$9*$L$7*($BL44^2) -> 64.270123 | AT44: =0.5*$L$5*$L$9*$L$7*($BQ44^2) -> 92.548977 | AU44: =0.5*$L$5*$L$9*$L$7*($BV44^2) -> 121.5107 | AV44: =0.5*$L$5*$L$9*$L$7*($CA44^2) -> 157.45573 | AX44: 3210 | AY44: ='Max limit'!AX44*Input!PrimaryDrive_ratio*Input!Gear1_ratio*Input!FinalDrive_ratio -> 283.29418 | AZ44: =AY44 / 60 -> 4.7215696 | BA44: =AZ44*Input!$N$23 -> 11109.844 | BB44: =BA44/1000 -> 11.109844 | BC44: 3210 | BD44: ='Max limit'!AX44*Input!PrimaryDrive_ratio*Input!Gear2_ratio*Input!FinalDrive_ratio -> 372.68923 | BE44: =BD44/60 -> 6.2114872 | BF44: =BE44*Input!$N$23 -> 14615.617 | BG44: =BF44/1000 -> 14.615617 | BH44: 3210 | BI44: ='Max limit'!AX44*Input!PrimaryDrive_ratio*Input!Gear3_ratio*Input!FinalDrive_ratio -> 465.86154 | BJ44: =BI44/60 -> 7.764359 | BK44: =BJ44*Input!$N$23 -> 18269.521 | BL44: =BK44/1000 -> 18.269521 | BM44: 3210 | BN44: ='Max limit'!AX44*Input!PrimaryDrive_ratio*Input!Gear4_ratio*Input!FinalDrive_ratio -> 559.03385 | BO44: =BN44/60 -> 9.3172308 | BP44: =BO44*Input!$N$23 -> 21923.425 | BQ44: =BP44/1000 -> 21.923425 | BR44: 3210 | BS44: ='Max limit'!AX44*Input!PrimaryDrive_ratio*Input!Gear5_ratio*Input!FinalDrive_ratio -> 640.55962 | BT44: =BS44/60 -> 10.675994 | BU44: =BT44*Input!$N$23 -> 25120.592 | BV44: =BU44/1000 -> 25.120592 | BW44: 3210 | BX44: ='Max limit'!AX44*Input!PrimaryDrive_ratio*Input!Gear6_ratio*Input!FinalDrive_ratio -> 729.17458 | BY44: =BX44/60 -> 12.15291 | BZ44: =BY44*Input!$N$23 -> 28595.772 | CA44: =BZ44/1000 -> 28.595772 | CC44: 3210 | CD44: =MROUND($BB44,0.5) -> 11 | CE44: =MROUND($BG44,0.5) -> 14.5 | CF44: =MROUND($BL44,0.5) -> 18.5 | CG44: =MROUND($BQ44,0.5) -> 22 | CH44: =MROUND($BV44,0.5) -> 25 | CI44: =MROUND($CA44,0.5) -> 28.5 | CK44: 3210 | CL44: =$AY44/60 -> 4.7215696 | CM44: =$BD44/60 -> 6.2114872 | CN44: =$BI44/60 -> 7.764359 | CO44: =$BN44/60 -> 9.3172308 | CP44: =$BS44/60 -> 10.675994 | CQ44: =$BX44/60 -> 12.15291
A45: 3260 | B45: 39.917 | C45: 85.996 | D45: 37.744 | E45: 1.713 | G45: Max Acceleration m/s^2 | H45: Geometry Limited | O45: 3220 | P45: =(($H$10*$H$14*($H$5-$H$7)-(AQ45*($H$5-($H$10*$H$9)))))/(H$34*($H$5-($H$9*$H$10))) -> 13.141742 | Q45: =(($H$10*$H$14*($H$5-$H$7)-(AR45*($H$5-($H$10*$H$9)))))/(I$34*($H$5-($H$9*$H$10))) -> 13.54836 | R45: =(($H$10*$H$14*($H$5-$H$7)-(AS45*($H$5-($H$10*$H$9)))))/(J$34*($H$5-($H$9*$H$10))) -> 13.83769 | S45: =(($H$10*$H$14*($H$5-$H$7)-(AT45*($H$5-($H$10*$H$9)))))/(K$34*($H$5-($H$9*$H$10))) -> 13.865755 | T45: =(($H$10*$H$14*($H$5-$H$7)-(AU45*($H$5-($H$10*$H$9)))))/(L$34*($H$5-($H$9*$H$10))) -> 13.891931 | U45: =(($H$10*$H$14*($H$5-$H$7)-(AV45*($H$5-($H$10*$H$9)))))/(M$34*($H$5-($H$9*$H$10))) -> 13.765074 | W45: 3220 | X45: =(($H$14*$H$7)-(AQ45*$H$9))/(H$34*$H$9) -> 9.26133 | Y45: =(($H$14*$H$7)-(AR45*$H$9))/(I$34*$H$9) -> 9.5305885 | Z45: =(($H$14*$H$7)-(AS45*$H$9))/(J$34*$H$9) -> 9.7103428 | AA45: =(($H$14*$H$7)-(AT45*$H$9))/(K$34*$H$9) -> 9.7005429 | AB45: =(($H$14*$H$7)-(AU45*$H$9))/(L$34*$H$9) -> 9.6881516 | AC45: =(($H$14*$H$7)-(AV45*$H$9))/(M$34*$H$9) -> 9.561295 | AG45: 3220 | AH45: =-(($H$13*($H$5-$H$8))/$H$9)-(AQ45/$H$12) -> -11.016931 | AI45: =-(($H$13*($H$5-$H$8))/$H$9)-(AR45/$H$12) -> -11.083122 | AJ45: =-(($H$13*($H$5-$H$8))/$H$9)-(AS45/$H$12) -> -11.17131 | AK45: =-(($H$13*($H$5-$H$8))/$H$9)-(AT45/$H$12) -> -11.279096 | AL45: =-(($H$13*($H$5-$H$8))/$H$9)-(AU45/$H$12) -> -11.389484 | AM45: =-(($H$13*($H$5-$H$8))/$H$9)-(AV45/$H$12) -> -11.526489 | AP45: 3220 | AQ45: =0.5*$L$5*$L$9*$L$7*($BB45^2) -> 23.915111 | AR45: =0.5*$L$5*$L$9*$L$7*($BG45^2) -> 41.389557 | AS45: =0.5*$L$5*$L$9*$L$7*($BL45^2) -> 64.671183 | AT45: =0.5*$L$5*$L$9*$L$7*($BQ45^2) -> 93.126504 | AU45: =0.5*$L$5*$L$9*$L$7*($BV45^2) -> 122.26896 | AV45: =0.5*$L$5*$L$9*$L$7*($CA45^2) -> 158.43829 | AX45: 3220 | AY45: ='Max limit'!AX45*Input!PrimaryDrive_ratio*Input!Gear1_ratio*Input!FinalDrive_ratio -> 284.17672 | AZ45: =AY45 / 60 -> 4.7362786 | BA45: =AZ45*Input!$N$23 -> 11144.454 | BB45: =BA45/1000 -> 11.144454 | BC45: 3220 | BD45: ='Max limit'!AX45*Input!PrimaryDrive_ratio*Input!Gear2_ratio*Input!FinalDrive_ratio -> 373.85026 | BE45: =BD45/60 -> 6.2308376 | BF45: =BE45*Input!$N$23 -> 14661.148 | BG45: =BF45/1000 -> 14.661148 | BH45: 3220 | BI45: ='Max limit'!AX45*Input!PrimaryDrive_ratio*Input!Gear3_ratio*Input!FinalDrive_ratio -> 467.31282 | BJ45: =BI45/60 -> 7.788547 | BK45: =BJ45*Input!$N$23 -> 18326.436 | BL45: =BK45/1000 -> 18.326436 | BM45: 3220 | BN45: ='Max limit'!AX45*Input!PrimaryDrive_ratio*Input!Gear4_ratio*Input!FinalDrive_ratio -> 560.77538 | BO45: =BN45/60 -> 9.3462564 | BP45: =BO45*Input!$N$23 -> 21991.723 | BQ45: =BP45/1000 -> 21.991723 | BR45: 3220 | BS45: ='Max limit'!AX45*Input!PrimaryDrive_ratio*Input!Gear5_ratio*Input!FinalDrive_ratio -> 642.55513 | BT45: =BS45/60 -> 10.709252 | BU45: =BT45*Input!$N$23 -> 25198.849 | BV45: =BU45/1000 -> 25.198849 | BW45: 3220 | BX45: ='Max limit'!AX45*Input!PrimaryDrive_ratio*Input!Gear6_ratio*Input!FinalDrive_ratio -> 731.44615 | BY45: =BX45/60 -> 12.190769 | BZ45: =BY45*Input!$N$23 -> 28684.856 | CA45: =BZ45/1000 -> 28.684856 | CC45: 3220 | CD45: =MROUND($BB45,0.5) -> 11 | CE45: =MROUND($BG45,0.5) -> 14.5 | CF45: =MROUND($BL45,0.5) -> 18.5 | CG45: =MROUND($BQ45,0.5) -> 22 | CH45: =MROUND($BV45,0.5) -> 25 | CI45: =MROUND($CA45,0.5) -> 28.5 | CK45: 3220 | CL45: =$AY45/60 -> 4.7362786 | CM45: =$BD45/60 -> 6.2308376 | CN45: =$BI45/60 -> 7.788547 | CO45: =$BN45/60 -> 9.3462564 | CP45: =$BS45/60 -> 10.709252 | CQ45: =$BX45/60 -> 12.190769
A46: 3270 | B46: 40.399 | C46: 86.768 | D46: 38.209 | E46: 1.725 | G46: Gear | H46: 1 | I46: 2 | J46: 3 | K46: 4 | L46: 5 | M46: 6 | O46: 3230 | P46: =(($H$10*$H$14*($H$5-$H$7)-(AQ46*($H$5-($H$10*$H$9)))))/(H$34*($H$5-($H$9*$H$10))) -> 13.14126 | Q46: =(($H$10*$H$14*($H$5-$H$7)-(AR46*($H$5-($H$10*$H$9)))))/(I$34*($H$5-($H$9*$H$10))) -> 13.547497 | R46: =(($H$10*$H$14*($H$5-$H$7)-(AS46*($H$5-($H$10*$H$9)))))/(J$34*($H$5-($H$9*$H$10))) -> 13.836304 | S46: =(($H$10*$H$14*($H$5-$H$7)-(AT46*($H$5-($H$10*$H$9)))))/(K$34*($H$5-($H$9*$H$10))) -> 13.863742 | T46: =(($H$10*$H$14*($H$5-$H$7)-(AU46*($H$5-($H$10*$H$9)))))/(L$34*($H$5-($H$9*$H$10))) -> 13.889263 | U46: =(($H$10*$H$14*($H$5-$H$7)-(AV46*($H$5-($H$10*$H$9)))))/(M$34*($H$5-($H$9*$H$10))) -> 13.761618 | W46: 3230 | X46: =(($H$14*$H$7)-(AQ46*$H$9))/(H$34*$H$9) -> 9.2608484 | Y46: =(($H$14*$H$7)-(AR46*$H$9))/(I$34*$H$9) -> 9.5297254 | Z46: =(($H$14*$H$7)-(AS46*$H$9))/(J$34*$H$9) -> 9.7089574 | AA46: =(($H$14*$H$7)-(AT46*$H$9))/(K$34*$H$9) -> 9.6985297 | AB46: =(($H$14*$H$7)-(AU46*$H$9))/(L$34*$H$9) -> 9.6854839 | AC46: =(($H$14*$H$7)-(AV46*$H$9))/(M$34*$H$9) -> 9.5578382 | AG46: 3230 | AH46: =-(($H$13*($H$5-$H$8))/$H$9)-(AQ46/$H$12) -> -11.017495 | AI46: =-(($H$13*($H$5-$H$8))/$H$9)-(AR46/$H$12) -> -11.084098 | AJ46: =-(($H$13*($H$5-$H$8))/$H$9)-(AS46/$H$12) -> -11.172834 | AK46: =-(($H$13*($H$5-$H$8))/$H$9)-(AT46/$H$12) -> -11.28129 | AL46: =-(($H$13*($H$5-$H$8))/$H$9)-(AU46/$H$12) -> -11.392365 | AM46: =-(($H$13*($H$5-$H$8))/$H$9)-(AV46/$H$12) -> -11.530222 | AP46: 3230 | AQ46: =0.5*$L$5*$L$9*$L$7*($BB46^2) -> 24.063882 | AR46: =0.5*$L$5*$L$9*$L$7*($BG46^2) -> 41.647034 | AS46: =0.5*$L$5*$L$9*$L$7*($BL46^2) -> 65.073491 | AT46: =0.5*$L$5*$L$9*$L$7*($BQ46^2) -> 93.705828 | AU46: =0.5*$L$5*$L$9*$L$7*($BV46^2) -> 123.02957 | AV46: =0.5*$L$5*$L$9*$L$7*($CA46^2) -> 159.4239 | AX46: 3230 | AY46: ='Max limit'!AX46*Input!PrimaryDrive_ratio*Input!Gear1_ratio*Input!FinalDrive_ratio -> 285.05925 | AZ46: =AY46 / 60 -> 4.7509875 | BA46: =AZ46*Input!$N$23 -> 11179.064 | BB46: =BA46/1000 -> 11.179064 | BC46: 3230 | BD46: ='Max limit'!AX46*Input!PrimaryDrive_ratio*Input!Gear2_ratio*Input!FinalDrive_ratio -> 375.01128 | BE46: =BD46/60 -> 6.250188 | BF46: =BE46*Input!$N$23 -> 14706.68 | BG46: =BF46/1000 -> 14.70668 | BH46: 3230 | BI46: ='Max limit'!AX46*Input!PrimaryDrive_ratio*Input!Gear3_ratio*Input!FinalDrive_ratio -> 468.7641 | BJ46: =BI46/60 -> 7.812735 | BK46: =BJ46*Input!$N$23 -> 18383.35 | BL46: =BK46/1000 -> 18.38335 | BM46: 3230 | BN46: ='Max limit'!AX46*Input!PrimaryDrive_ratio*Input!Gear4_ratio*Input!FinalDrive_ratio -> 562.51692 | BO46: =BN46/60 -> 9.3752821 | BP46: =BO46*Input!$N$23 -> 22060.02 | BQ46: =BP46/1000 -> 22.06002 | BR46: 3230 | BS46: ='Max limit'!AX46*Input!PrimaryDrive_ratio*Input!Gear5_ratio*Input!FinalDrive_ratio -> 644.55064 | BT46: =BS46/60 -> 10.742511 | BU46: =BT46*Input!$N$23 -> 25277.106 | BV46: =BU46/1000 -> 25.277106 | BW46: 3230 | BX46: ='Max limit'!AX46*Input!PrimaryDrive_ratio*Input!Gear6_ratio*Input!FinalDrive_ratio -> 733.71773 | BY46: =BX46/60 -> 12.228629 | BZ46: =BY46*Input!$N$23 -> 28773.939 | CA46: =BZ46/1000 -> 28.773939 | CC46: 3230 | CD46: =MROUND($BB46,0.5) -> 11 | CE46: =MROUND($BG46,0.5) -> 14.5 | CF46: =MROUND($BL46,0.5) -> 18.5 | CG46: =MROUND($BQ46,0.5) -> 22 | CH46: =MROUND($BV46,0.5) -> 25.5 | CI46: =MROUND($CA46,0.5) -> 29 | CK46: 3230 | CL46: =$AY46/60 -> 4.7509875 | CM46: =$BD46/60 -> 6.250188 | CN46: =$BI46/60 -> 7.812735 | CO46: =$BN46/60 -> 9.3752821 | CP46: =$BS46/60 -> 10.742511 | CQ46: =$BX46/60 -> 12.228629
A47: 3280 | B47: 40.858 | C47: 87.487 | D47: 38.654 | E47: 1.734 | G47: m/s^2 | H47: =$H$13 * ( $H$5 - $H$7 ) / $H$9 -> 10.411874 | I47: =$H$13 * ( $H$5 - $H$7 ) / $H$9 -> 10.411874 | J47: =$H$13 * ( $H$5 - $H$7 ) / $H$9 -> 10.411874 | K47: =$H$13 * ( $H$5 - $H$7 ) / $H$9 -> 10.411874 | L47: =$H$13 * ( $H$5 - $H$7 ) / $H$9 -> 10.411874 | M47: =$H$13 * ( $H$5 - $H$7 ) / $H$9 -> 10.411874 | O47: 3240 | P47: =(($H$10*$H$14*($H$5-$H$7)-(AQ47*($H$5-($H$10*$H$9)))))/(H$34*($H$5-($H$9*$H$10))) -> 13.140777 | Q47: =(($H$10*$H$14*($H$5-$H$7)-(AR47*($H$5-($H$10*$H$9)))))/(I$34*($H$5-($H$9*$H$10))) -> 13.546631 | R47: =(($H$10*$H$14*($H$5-$H$7)-(AS47*($H$5-($H$10*$H$9)))))/(J$34*($H$5-($H$9*$H$10))) -> 13.834915 | S47: =(($H$10*$H$14*($H$5-$H$7)-(AT47*($H$5-($H$10*$H$9)))))/(K$34*($H$5-($H$9*$H$10))) -> 13.861723 | T47: =(($H$10*$H$14*($H$5-$H$7)-(AU47*($H$5-($H$10*$H$9)))))/(L$34*($H$5-($H$9*$H$10))) -> 13.886587 | U47: =(($H$10*$H$14*($H$5-$H$7)-(AV47*($H$5-($H$10*$H$9)))))/(M$34*($H$5-($H$9*$H$10))) -> 13.75815 | W47: 3240 | X47: =(($H$14*$H$7)-(AQ47*$H$9))/(H$34*$H$9) -> 9.2603652 | Y47: =(($H$14*$H$7)-(AR47*$H$9))/(I$34*$H$9) -> 9.5288597 | Z47: =(($H$14*$H$7)-(AS47*$H$9))/(J$34*$H$9) -> 9.7075678 | AA47: =(($H$14*$H$7)-(AT47*$H$9))/(K$34*$H$9) -> 9.6965102 | AB47: =(($H$14*$H$7)-(AU47*$H$9))/(L$34*$H$9) -> 9.6828079 | AC47: =(($H$14*$H$7)-(AV47*$H$9))/(M$34*$H$9) -> 9.5543706 | AG47: 3240 | AH47: =-(($H$13*($H$5-$H$8))/$H$9)-(AQ47/$H$12) -> -11.01806 | AI47: =-(($H$13*($H$5-$H$8))/$H$9)-(AR47/$H$12) -> -11.085076 | AJ47: =-(($H$13*($H$5-$H$8))/$H$9)-(AS47/$H$12) -> -11.174363 | AK47: =-(($H$13*($H$5-$H$8))/$H$9)-(AT47/$H$12) -> -11.283491 | AL47: =-(($H$13*($H$5-$H$8))/$H$9)-(AU47/$H$12) -> -11.395255 | AM47: =-(($H$13*($H$5-$H$8))/$H$9)-(AV47/$H$12) -> -11.533967 | AP47: 3240 | AQ47: =0.5*$L$5*$L$9*$L$7*($BB47^2) -> 24.213115 | AR47: =0.5*$L$5*$L$9*$L$7*($BG47^2) -> 41.90531 | AS47: =0.5*$L$5*$L$9*$L$7*($BL47^2) -> 65.477047 | AT47: =0.5*$L$5*$L$9*$L$7*($BQ47^2) -> 94.286948 | AU47: =0.5*$L$5*$L$9*$L$7*($BV47^2) -> 123.79254 | AV47: =0.5*$L$5*$L$9*$L$7*($CA47^2) -> 160.41258 | AX47: 3240 | AY47: ='Max limit'!AX47*Input!PrimaryDrive_ratio*Input!Gear1_ratio*Input!FinalDrive_ratio -> 285.94179 | AZ47: =AY47 / 60 -> 4.7656965 | BA47: =AZ47*Input!$N$23 -> 11213.674 | BB47: =BA47/1000 -> 11.213674 | BC47: 3240 | BD47: ='Max limit'!AX47*Input!PrimaryDrive_ratio*Input!Gear2_ratio*Input!FinalDrive_ratio -> 376.17231 | BE47: =BD47/60 -> 6.2695385 | BF47: =BE47*Input!$N$23 -> 14752.211 | BG47: =BF47/1000 -> 14.752211 | BH47: 3240 | BI47: ='Max limit'!AX47*Input!PrimaryDrive_ratio*Input!Gear3_ratio*Input!FinalDrive_ratio -> 470.21538 | BJ47: =BI47/60 -> 7.8369231 | BK47: =BJ47*Input!$N$23 -> 18440.264 | BL47: =BK47/1000 -> 18.440264 | BM47: 3240 | BN47: ='Max limit'!AX47*Input!PrimaryDrive_ratio*Input!Gear4_ratio*Input!FinalDrive_ratio -> 564.25846 | BO47: =BN47/60 -> 9.4043077 | BP47: =BO47*Input!$N$23 -> 22128.317 | BQ47: =BP47/1000 -> 22.128317 | BR47: 3240 | BS47: ='Max limit'!AX47*Input!PrimaryDrive_ratio*Input!Gear5_ratio*Input!FinalDrive_ratio -> 646.54615 | BT47: =BS47/60 -> 10.775769 | BU47: =BT47*Input!$N$23 -> 25355.363 | BV47: =BU47/1000 -> 25.355363 | BW47: 3240 | BX47: ='Max limit'!AX47*Input!PrimaryDrive_ratio*Input!Gear6_ratio*Input!FinalDrive_ratio -> 735.9893 | BY47: =BX47/60 -> 12.266488 | BZ47: =BY47*Input!$N$23 -> 28863.022 | CA47: =BZ47/1000 -> 28.863022 | CC47: 3240 | CD47: =MROUND($BB47,0.5) -> 11 | CE47: =MROUND($BG47,0.5) -> 15 | CF47: =MROUND($BL47,0.5) -> 18.5 | CG47: =MROUND($BQ47,0.5) -> 22 | CH47: =MROUND($BV47,0.5) -> 25.5 | CI47: =MROUND($CA47,0.5) -> 29 | CK47: 3240 | CL47: =$AY47/60 -> 4.7656965 | CM47: =$BD47/60 -> 6.2695385 | CN47: =$BI47/60 -> 7.8369231 | CO47: =$BN47/60 -> 9.4043077 | CP47: =$BS47/60 -> 10.775769 | CQ47: =$BX47/60 -> 12.266488
A48: 3290 | B48: 41.315 | C48: 88.196 | D48: 39.096 | E48: 1.743 | O48: 3250 | P48: =(($H$10*$H$14*($H$5-$H$7)-(AQ48*($H$5-($H$10*$H$9)))))/(H$34*($H$5-($H$9*$H$10))) -> 13.140292 | Q48: =(($H$10*$H$14*($H$5-$H$7)-(AR48*($H$5-($H$10*$H$9)))))/(I$34*($H$5-($H$9*$H$10))) -> 13.545763 | R48: =(($H$10*$H$14*($H$5-$H$7)-(AS48*($H$5-($H$10*$H$9)))))/(J$34*($H$5-($H$9*$H$10))) -> 13.833521 | S48: =(($H$10*$H$14*($H$5-$H$7)-(AT48*($H$5-($H$10*$H$9)))))/(K$34*($H$5-($H$9*$H$10))) -> 13.859697 | T48: =(($H$10*$H$14*($H$5-$H$7)-(AU48*($H$5-($H$10*$H$9)))))/(L$34*($H$5-($H$9*$H$10))) -> 13.883903 | U48: =(($H$10*$H$14*($H$5-$H$7)-(AV48*($H$5-($H$10*$H$9)))))/(M$34*($H$5-($H$9*$H$10))) -> 13.754672 | W48: 3250 | X48: =(($H$14*$H$7)-(AQ48*$H$9))/(H$34*$H$9) -> 9.2598806 | Y48: =(($H$14*$H$7)-(AR48*$H$9))/(I$34*$H$9) -> 9.5279912 | Z48: =(($H$14*$H$7)-(AS48*$H$9))/(J$34*$H$9) -> 9.7061738 | AA48: =(($H$14*$H$7)-(AT48*$H$9))/(K$34*$H$9) -> 9.6944845 | AB48: =(($H$14*$H$7)-(AU48*$H$9))/(L$34*$H$9) -> 9.6801236 | AC48: =(($H$14*$H$7)-(AV48*$H$9))/(M$34*$H$9) -> 9.5508923 | AG48: 3250 | AH48: =-(($H$13*($H$5-$H$8))/$H$9)-(AQ48/$H$12) -> -11.018627 | AI48: =-(($H$13*($H$5-$H$8))/$H$9)-(AR48/$H$12) -> -11.086057 | AJ48: =-(($H$13*($H$5-$H$8))/$H$9)-(AS48/$H$12) -> -11.175896 | AK48: =-(($H$13*($H$5-$H$8))/$H$9)-(AT48/$H$12) -> -11.285699 | AL48: =-(($H$13*($H$5-$H$8))/$H$9)-(AU48/$H$12) -> -11.398154 | AM48: =-(($H$13*($H$5-$H$8))/$H$9)-(AV48/$H$12) -> -11.537724 | AP48: 3250 | AQ48: =0.5*$L$5*$L$9*$L$7*($BB48^2) -> 24.36281 | AR48: =0.5*$L$5*$L$9*$L$7*($BG48^2) -> 42.164384 | AS48: =0.5*$L$5*$L$9*$L$7*($BL48^2) -> 65.88185 | AT48: =0.5*$L$5*$L$9*$L$7*($BQ48^2) -> 94.869864 | AU48: =0.5*$L$5*$L$9*$L$7*($BV48^2) -> 124.55787 | AV48: =0.5*$L$5*$L$9*$L$7*($CA48^2) -> 161.40431 | AX48: 3250 | AY48: ='Max limit'!AX48*Input!PrimaryDrive_ratio*Input!Gear1_ratio*Input!FinalDrive_ratio -> 286.82432 | AZ48: =AY48 / 60 -> 4.7804054 | BA48: =AZ48*Input!$N$23 -> 11248.284 | BB48: =BA48/1000 -> 11.248284 | BC48: 3250 | BD48: ='Max limit'!AX48*Input!PrimaryDrive_ratio*Input!Gear2_ratio*Input!FinalDrive_ratio -> 377.33333 | BE48: =BD48/60 -> 6.2888889 | BF48: =BE48*Input!$N$23 -> 14797.743 | BG48: =BF48/1000 -> 14.797743 | BH48: 3250 | BI48: ='Max limit'!AX48*Input!PrimaryDrive_ratio*Input!Gear3_ratio*Input!FinalDrive_ratio -> 471.66667 | BJ48: =BI48/60 -> 7.8611111 | BK48: =BJ48*Input!$N$23 -> 18497.179 | BL48: =BK48/1000 -> 18.497179 | BM48: 3250 | BN48: ='Max limit'!AX48*Input!PrimaryDrive_ratio*Input!Gear4_ratio*Input!FinalDrive_ratio -> 566 | BO48: =BN48/60 -> 9.4333333 | BP48: =BO48*Input!$N$23 -> 22196.614 | BQ48: =BP48/1000 -> 22.196614 | BR48: 3250 | BS48: ='Max limit'!AX48*Input!PrimaryDrive_ratio*Input!Gear5_ratio*Input!FinalDrive_ratio -> 648.54167 | BT48: =BS48/60 -> 10.809028 | BU48: =BT48*Input!$N$23 -> 25433.621 | BV48: =BU48/1000 -> 25.433621 | BW48: 3250 | BX48: ='Max limit'!AX48*Input!PrimaryDrive_ratio*Input!Gear6_ratio*Input!FinalDrive_ratio -> 738.26087 | BY48: =BX48/60 -> 12.304348 | BZ48: =BY48*Input!$N$23 -> 28952.106 | CA48: =BZ48/1000 -> 28.952106 | CC48: 3250 | CD48: =MROUND($BB48,0.5) -> 11 | CE48: =MROUND($BG48,0.5) -> 15 | CF48: =MROUND($BL48,0.5) -> 18.5 | CG48: =MROUND($BQ48,0.5) -> 22 | CH48: =MROUND($BV48,0.5) -> 25.5 | CI48: =MROUND($CA48,0.5) -> 29 | CK48: 3250 | CL48: =$AY48/60 -> 4.7804054 | CM48: =$BD48/60 -> 6.2888889 | CN48: =$BI48/60 -> 7.8611111 | CO48: =$BN48/60 -> 9.4333333 | CP48: =$BS48/60 -> 10.809028 | CQ48: =$BX48/60 -> 12.304348
A49: 3300 | B49: 41.759 | C49: 88.875 | D49: 39.525 | E49: 1.754 | G49: Max Velocity m/s @ (Max power RPM (shift) | M49: 10890 | O49: 3260 | P49: =(($H$10*$H$14*($H$5-$H$7)-(AQ49*($H$5-($H$10*$H$9)))))/(H$34*($H$5-($H$9*$H$10))) -> 13.139806 | Q49: =(($H$10*$H$14*($H$5-$H$7)-(AR49*($H$5-($H$10*$H$9)))))/(I$34*($H$5-($H$9*$H$10))) -> 13.544892 | R49: =(($H$10*$H$14*($H$5-$H$7)-(AS49*($H$5-($H$10*$H$9)))))/(J$34*($H$5-($H$9*$H$10))) -> 13.832123 | S49: =(($H$10*$H$14*($H$5-$H$7)-(AT49*($H$5-($H$10*$H$9)))))/(K$34*($H$5-($H$9*$H$10))) -> 13.857665 | T49: =(($H$10*$H$14*($H$5-$H$7)-(AU49*($H$5-($H$10*$H$9)))))/(L$34*($H$5-($H$9*$H$10))) -> 13.881211 | U49: =(($H$10*$H$14*($H$5-$H$7)-(AV49*($H$5-($H$10*$H$9)))))/(M$34*($H$5-($H$9*$H$10))) -> 13.751183 | W49: 3260 | X49: =(($H$14*$H$7)-(AQ49*$H$9))/(H$34*$H$9) -> 9.2593945 | Y49: =(($H$14*$H$7)-(AR49*$H$9))/(I$34*$H$9) -> 9.5271201 | Z49: =(($H$14*$H$7)-(AS49*$H$9))/(J$34*$H$9) -> 9.7047756 | AA49: =(($H$14*$H$7)-(AT49*$H$9))/(K$34*$H$9) -> 9.6924526 | AB49: =(($H$14*$H$7)-(AU49*$H$9))/(L$34*$H$9) -> 9.6774311 | AC49: =(($H$14*$H$7)-(AV49*$H$9))/(M$34*$H$9) -> 9.5474033 | AG49: 3260 | AH49: =-(($H$13*($H$5-$H$8))/$H$9)-(AQ49/$H$12) -> -11.019196 | AI49: =-(($H$13*($H$5-$H$8))/$H$9)-(AR49/$H$12) -> -11.087042 | AJ49: =-(($H$13*($H$5-$H$8))/$H$9)-(AS49/$H$12) -> -11.177434 | AK49: =-(($H$13*($H$5-$H$8))/$H$9)-(AT49/$H$12) -> -11.287914 | AL49: =-(($H$13*($H$5-$H$8))/$H$9)-(AU49/$H$12) -> -11.401062 | AM49: =-(($H$13*($H$5-$H$8))/$H$9)-(AV49/$H$12) -> -11.541492 | AP49: 3260 | AQ49: =0.5*$L$5*$L$9*$L$7*($BB49^2) -> 24.512965 | AR49: =0.5*$L$5*$L$9*$L$7*($BG49^2) -> 42.424256 | AS49: =0.5*$L$5*$L$9*$L$7*($BL49^2) -> 66.2879 | AT49: =0.5*$L$5*$L$9*$L$7*($BQ49^2) -> 95.454577 | AU49: =0.5*$L$5*$L$9*$L$7*($BV49^2) -> 125.32556 | AV49: =0.5*$L$5*$L$9*$L$7*($CA49^2) -> 162.39909 | AX49: 3260 | AY49: ='Max limit'!AX49*Input!PrimaryDrive_ratio*Input!Gear1_ratio*Input!FinalDrive_ratio -> 287.70686 | AZ49: =AY49 / 60 -> 4.7951143 | BA49: =AZ49*Input!$N$23 -> 11282.894 | BB49: =BA49/1000 -> 11.282894 | BC49: 3260 | BD49: ='Max limit'!AX49*Input!PrimaryDrive_ratio*Input!Gear2_ratio*Input!FinalDrive_ratio -> 378.49436 | BE49: =BD49/60 -> 6.3082393 | BF49: =BE49*Input!$N$23 -> 14843.274 | BG49: =BF49/1000 -> 14.843274 | BH49: 3260 | BI49: ='Max limit'!AX49*Input!PrimaryDrive_ratio*Input!Gear3_ratio*Input!FinalDrive_ratio -> 473.11795 | BJ49: =BI49/60 -> 7.8852991 | BK49: =BJ49*Input!$N$23 -> 18554.093 | BL49: =BK49/1000 -> 18.554093 | BM49: 3260 | BN49: ='Max limit'!AX49*Input!PrimaryDrive_ratio*Input!Gear4_ratio*Input!FinalDrive_ratio -> 567.74154 | BO49: =BN49/60 -> 9.462359 | BP49: =BO49*Input!$N$23 -> 22264.912 | BQ49: =BP49/1000 -> 22.264912 | BR49: 3260 | BS49: ='Max limit'!AX49*Input!PrimaryDrive_ratio*Input!Gear5_ratio*Input!FinalDrive_ratio -> 650.53718 | BT49: =BS49/60 -> 10.842286 | BU49: =BT49*Input!$N$23 -> 25511.878 | BV49: =BU49/1000 -> 25.511878 | BW49: 3260 | BX49: ='Max limit'!AX49*Input!PrimaryDrive_ratio*Input!Gear6_ratio*Input!FinalDrive_ratio -> 740.53244 | BY49: =BX49/60 -> 12.342207 | BZ49: =BY49*Input!$N$23 -> 29041.189 | CA49: =BZ49/1000 -> 29.041189 | CC49: 3260 | CD49: =MROUND($BB49,0.5) -> 11.5 | CE49: =MROUND($BG49,0.5) -> 15 | CF49: =MROUND($BL49,0.5) -> 18.5 | CG49: =MROUND($BQ49,0.5) -> 22.5 | CH49: =MROUND($BV49,0.5) -> 25.5 | CI49: =MROUND($CA49,0.5) -> 29 | CK49: 3260 | CL49: =$AY49/60 -> 4.7951143 | CM49: =$BD49/60 -> 6.3082393 | CN49: =$BI49/60 -> 7.8852991 | CO49: =$BN49/60 -> 9.462359 | CP49: =$BS49/60 -> 10.842286 | CQ49: =$BX49/60 -> 12.342207
