Workbook
Name b_mm: Input!$L$69
Name bf: Input!$I$69
Name BigEnd_mm: Input!$G$31
Name Bore_mm: Input!$G$26
Name BumpRubberK: Input!$F$101
Name BumpRubberLen_mm: Input!$F$100
Name ChainLinks: Input!$L$36
Name CoGx_mm: Input!$L$68
Name ConRod_mm: Input!$G$28
Name Coolant_L: Input!$K$38
Name CRatio: Input!$G$30
Name CRolling: Input!$J$82
Name Displacement_cc: Input!$G$29
Name DragLink_mm: Input!$K$59
Name Drive_ratio: Input!$L$28
Name DynamicRake_deg: Input!$F$80
Name DynamicSagFront_mm: Input!$F$82
Name DynamicSagRear_mm: Input!$F$82
Name DynamicWheelbase_m: Input!$F$81
Name ExhaustClose_degATDC: Input!$G$38
Name ExhaustLift_mm: Input!$G$42
Name ExhaustOpen_degBBDC: Input!$G$37
Name ExhaustValve_mm: Input!$G$39
Name FinalDrive_ratio: Input!$M$29
Name FiringPoints: Input!$L$51
Name FootpegHeight_mm: Input!$F$12
Name ForkAirGap_mm: Input!$K$54
Name ForkBumpRubber_mm: Input!$F$121
Name ForkComp_clicks: Input!$K$55
Name ForkDrop_mm: Input!$K$57
Name ForkFreeTravelBeforeRub_mm: Input!$F$122
Name ForkGasForce: Input!$F$120
Name ForkGasPress_bar: Input!$F$118
Name ForkInnerTubeDia_mm: Input!$F$123
Name ForkLegs_mm: Input!$G$20
Name ForkOffset_m: Input!$E$72
Name ForkOil_ccPerLeg: Input!$K$39
Name ForkOilLevel_AirGap_mm: Input!$F$117
Name ForkPreLoad_mm: Input!$F$114
Name ForkReb_clicks: Input!$K$56
Name ForkRodDia_mm: Input!$F$119
Name ForkSpring_Npermm: Input!$K$53
Name ForkSpring_Npermm2: Input!$F$113
Name ForkTopOutSpringK: Input!$F$115
Name ForkTopOutStroke_mm: Input!$F$116
Name Front_tyre_coefficient: 'Max limit'!$H$11
Name FrontCaliper_mm: Input!$G$60
Name FrontDisk_mm: Input!$G$59
Name FrontMaster_mm: Input!$G$61
Name FrontOffset_mm: Input!$F$106
Name FrontRake_deg: Input!$F$109
Name FrontRideHeight_mm: Input!$F$105
Name FrontRim: Input!$K$20
Name FrontTravel_mm: Input!$G$21
Name FrontTyre: Input!$K$21
Name Fuel_L: Input!$K$40
Name Gear1_ratio: Input!$M$30
Name Gear2_ratio: Input!$M$31
Name Gear3_ratio: Input!$M$32
Name Gear4_ratio: Input!$M$33

Sheet Input
C3: Ducati 1199 Panigale S
C4: Bike Specification Sheet
C5: Dr Owen Williams – University of Wales TSD: | R5: m^3 | S5: cc
Q6: Bore | R6: =G26/1000 -> 0.112
C7: Total Length | F7: 2075 | G7: mm | Q7: Vol | R7: =((PI()*R6^2)/4)*(G27/1000) -> 0.0005990037 | S7: =R7*1000000 -> 599.0037
C8: Total Width | F8: 810 | G8: mm
C9: Total Height | F9: 1110 | G9: mm | Q9: Vc | R9: =R7/(11.5) -> 5.2087278e-05 | S9: =R9*1000000 -> 52.087278
C10: Seat Height | F10: 825 | G10: mm
C11: Minimum Ground Clearance | F11: 129 | G11: mm | Q11: Clearance Height
C12: Footpeg Height | F12: 399 | G12: mm | Q12: m | R12: =((R9*4)/(PI()*R6^2)) -> 0.0052869565
C13: Wheelbase | F13: 1437 | G13: mm | Q13: mm | R13: =R12*1000 -> 5.2869565
D15: Steering Head Angle | G15: 24.5 | H15: deg
D16: Steering Angle | G16: 27 | H16: deg
D17: Trail | G17: 100 | H17: mm
D19: Suspension
D20: Fork Legs | G20: 43 | H20: mm | J20: Front Rim | K20: MT 3.50 x 17
D21: Front Wheel Travel | G21: 120 | H21: mm | I21: Link | J21: Front Tyre | K21: 120/70 - ZR17
D22: Rear Wheel Travel | G22: 130 | H22: mm | I22: =G22/G23 -> 2.1702838 | J22: Rear Rim | K22: MT 5.5 x 17
D23: Shock Absorber Stroke | G23: 59.9 | H23: mm | J23: Rear Tyre | K23: 200/55 ZR17 | L23: =431.8+ (110*2) -> 651.8 | M23: mm | N23: =L23*3.61 -> 2352.998
D25: Engine | E25: Longitudial 90 degree 'L' Twin Cylinder 4T
D26: Bore | G26: 112 | H26: mm | J26: Gearbox
D27: Stroke | G27: 60.8 | H27: mm | J27: Primary Drive | L27: 30/53 | M27: 0.566
D28: Con Rod Length | G28: 110.08 | H28: mm | J28: Drive Ratio | L28: 0.53
D29: Displacement | G29: 1198 | H29: cc | J29: Final Drive | L29: 15/39 | M29: =15/39 -> 0.38461538
D30: Compression Ratio (+- 0.5) | G30: 12.5 | H30: : 1 | J30: 1st | L30: 15/37 | M30: =15/37 -> 0.40540541
D31: Small End | E31: 22.0427 | F31: Big End | G31: 49.0416 | H31: mm | J31: 2nd | L31: 16/30 | M31: =16/30 -> 0.53333333
J32: 3rd | L32: 18/27 | M32: =18/27 -> 0.66666667
D33: Valvetrain | J33: 4th | L33: 20/25 | M33: =20/25 -> 0.8
D34: Intake Opening | G34: 19 | H34: BTDC | J34: 5th | L34: 22/24 | M34: =22/24 -> 0.91666667
D35: Intake Closing | G35: 60 | H35: ABDC | J35: 6th | L35: 24/23 | M35: =24/23 -> 1.0434783
D36: Intake Valve Diameter | G36: 46.8 | H36: mm | J36: Chain links | L36: 106
D37: Exhaust Opening | G37: 63 | H37: BBDC
D38: Exhaust Closing | G38: 26 | H38: ATDC | J38: Coolant | K38: 2.3 | L38: Litres
D39: Exhaust Valve Diameter | G39: 38.2 | H39: mm | J39: Fork Oil | K39: 155 | L39: cc per leg
D40: Lift (with 0mm valve clearance) | J40: Fuel | K40: 17 | L40: Litres
E41: Intake | G41: 16 | H41: mm | J41: Oil | K41: 3.7 | L41: Litres
E42: Exhaust | G42: 14.3 | H42: mm | J42: Plugs | K42: NGK MAR09A-J
D44: Opening Rocker Arm - Intake | G44: 0.10÷0.15 mm | I44: 0.07÷0.22 mm
D45: Opening Rocker Arm - Exhaust | G45: 0.15÷0.20 mm | I45: 0.12÷0.27 mm
D46: Closing Rocker Arm - Intake | G46: 0.13÷0.18 mm | I46: 0.13÷0.23 mm
...

Sheet Track spec
C1: Track
C2: Feature | D2: Angle | E2: Distance (M) | F2: Total distance (m) | I2: Turn | J2: 1 | K2: 2 | L2: 3 | M2: 4 | N2: 5 | O2: 6 | P2: 7 | Q2: 8 | R2: 9.1 | S2: 9.2 | T2: 10 | U2: 11
C3: Start | F3: 0 | I3: Degrees | J3: 122.1 | K3: 75.94 | L3: 50.13 | M3: 79.23 | N3: 45.27 | O3: 54.9 | P3: 101.48 | Q3: 86.41 | R3: 69.59 | S3: 64.07 | T3: 175.93 | U3: 148.4
B4: Wheatcroft Straight | C4: Str 1 | E4: 552.69 | F4: =F3 + N(E4) -> 552.69 | I4: Radii (m) | J4: 58.7 | K4: 210.51 | L4: 123.53 | M4: 43.43 | N4: 105.86 | O4: 169.31 | P4: 79.84 | Q4: 42.7 | R4: 37.14 | S4: 61.67 | T4: 21.45 | U4: 25.9
B5: Redgate | C5: Turn 1 | D5: =$J$3 -> 122.1 | E5: =$J$5 -> 125.09246 | F5: =F4 + N(E5) -> 677.78246 | I5: Arc length (m) | J5: =IF(J4="","", J4*RADIANS(J3)) -> 125.09246 | K5: =IF(K4="","", K4*RADIANS(K3)) -> 279.01059 | L5: =IF(L4="","", L4*RADIANS(L3)) -> 108.08054 | M5: =IF(M4="","", M4*RADIANS(M3)) -> 60.056062 | N5: =IF(N4="","", N4*RADIANS(N3)) -> 83.641103 | O5: =IF(O4="","", O4*RADIANS(O3)) -> 162.23043 | P5: =IF(P4="","", P4*RADIANS(P3)) -> 141.40942 | Q5: =IF(Q4="","", Q4*RADIANS(Q3)) -> 64.397536 | ... U5: =IF(U4="","", U4*RADIANS(U3)) -> 67.082777
C6: Str 2 | E6: 51.34 | F6: =F5 + N(E6) -> 729.12246
B7: Hollywood | C7: Turn 2 | D7: =$K$3 -> 75.94 | E7: =$K$5 -> 279.01059 | F7: =F6 + N(E7) -> 1008.1331
C8: Str 3 | E8: 82.18 | F8: =F7 + N(E8) -> 1090.3131
B9: Craner Curves | C9: Turn 3 | D9: =$L$3 -> 50.13 | E9: =$L$5 -> 108.08054 | F9: =F8 + N(E9) -> 1198.3936
C10: Str 4 | E10: 139.77 | F10: =F9 + N(E10) -> 1338.1636
B11: Old hairpin | C11: Turn 4 | D11: =$M$3 -> 79.23 | E11: =$M$5 -> 60.056062 | F11: =F10 + N(E11) -> 1398.2197
C12: Str 5 | E12: 157.63 | F12: =F11 + N(E12) -> 1555.8497
B13: Starkeys Bridge | C13: Turn 5 | D13: =$N$3 -> 45.27 | E13: =$N$5 -> 83.641103 | F13: =F12 + N(E13) -> 1639.4908
C14: Str 6 | E14: 123.8 | F14: =F13 + N(E14) -> 1763.2908
B15: Schwantz curve | C15: Turn 6 | D15: =$O$3 -> 54.9 | E15: =$O$5 -> 162.23043 | F15: =F14 + N(E15) -> 1925.5212
C16: Str 7 | E16: 89.6 | F16: =F15 + N(E16) -> 2015.1212
B17: McLeans | C17: Turn 7 | D17: =$P$3 -> 101.48 | E17: =$P$5 -> 141.40942 | F17: =F16 + N(E17) -> 2156.5306
C18: Str 8 | E18: 263.73 | F18: =F17 + N(E18) -> 2420.2606
B19: Coppice | C19: Turn 8 | D19: =$Q$3 -> 86.41 | E19: =$Q$5 -> 64.397536 | F19: =F18 + N(E19) -> 2484.6582
C20: Str 9 | E20: 545.45 | F20: =F19 + N(E20) -> 3030.1082
B21: Fogarty Esses | C21: Turn 9.1(left) | D21: =$R$3 -> 69.59 | E21: =$R$5 -> 45.109302 | F21: =F20 + N(E21) -> 3075.2175
C22: Turn 9.2(right) | D22: =$S$3 -> 64.07 | E22: =$S$5 -> 68.961395 | F22: =F21 + N(E22) -> 3144.1788
C23: Str 10 | E23: 391.59 | F23: =F22 + N(E23) -> 3535.7688
B24: Mebourne Hairpin | C24: Turn 10 | D24: =$T$3 -> 175.93 | E24: =$T$5 -> 65.863464 | F24: =F23 + N(E24) -> 3601.6323
C25: Str 11 | E25: 351.28 | F25: =F24 + N(E25) -> 3952.9123
B26: Goddards | C26: Trun 11 | D26: =$U$3 -> 148.4 | E26: =$U$5 -> 67.082777 | F26: =F25 + N(E26) -> 4019.9951
E27: Actural distance | F27: 4020
M32: Total simulation time: | Q32: =D440 -> 103.86778 | R32: Seconds
C35: Track
C36: Feature | D36: Time section | E36: Distance (M) | F36: Time | G36: Velocity m/s | H36: V^2 | I36: RPM | J36: Gear
C37: Start | E37: 0 | F37: =(E439-E438)/((G439+G438)/2) -> 0.57269711 | G37: =Cornering!$P$10 -> 17.461237 | I37: =LOOKUP(G37,'Max limit'!CD:CD,'Max limit'!CC:CC) -> 4980 | J37: 1 | L37: #N/A
C38: Str 1 | E38: 10 | F38: =(E38-E37)/((G38+G37)/2) -> 0.50461358 | G38: =SQRT(H38) -> 22.173051 | H38: =(G37^2)+(2*(LOOKUP(I37,'Max limit'!W:W,'Max limit'!Y:Y)*(E38-E37))) -> 491.64421 | I38: =LOOKUP(G38,'Max limit'!CE:CE,'Max limit'!CC:CC) -> 4880 | J38: 2 | L38: #N/A
C39: Str 1 | E39: =E38+10 -> 20 | F39: =(E39-E38)/((G39+G38)/2) -> 0.41473034 | G39: =SQRT(H39) -> 26.051055 | H39: =(G38^2)+(2*(LOOKUP(I38,'Max limit'!W:W,'Max limit'!Y:Y)*(E39-E38))) -> 678.65749 | I39: =LOOKUP(G39,'Max limit'!CE:CE,'Max limit'!CC:CC) -> 5760 | J39: 2 | L39: #N/A
C40: Str 1 | E40: =E39+10 -> 30 | F40: =(E40-E39)/((G40+G39)/2) -> 0.36081073 | G40: =SQRT(H40) -> 29.379669 | H40: =(G39^2)+(2*(LOOKUP(I39,'Max limit'!W:W,'Max limit'!Y:Y)*(E40-E39))) -> 863.16495 | I40: =LOOKUP(G40,'Max limit'!CE:CE,'Max limit'!CC:CC) -> 6420 | J40: 2 | L40: #N/A
C41: =$C$38 -> Str 1 | E41: =E40+10 -> 40 | F41: =(E41-E40)/((G41+G40)/2) -> 0.32407459 | G41: =SQRT(H41) -> 32.334518 | H41: =(G40^2)+(2*(LOOKUP(I40,'Max limit'!W:W,'Max limit'!Y:Y)*(E41-E40))) -> 1045.521 | I41: =LOOKUP(G41,'Max limit'!CE:CE,'Max limit'!CC:CC) -> 7080 | J41: 2 | L41: =AVERAGE(G37:G41) -> 25.479906
C42: =$C$38 -> Str 1 | E42: =E41+10 -> 50 | F42: =(E42-E41)/((G42+G41)/2) -> 0.29699345 | G42: =SQRT(H42) -> 35.007036 | H42: =(G41^2)+(2*(LOOKUP(I41,'Max limit'!W:W,'Max limit'!Y:Y)*(E42-E41))) -> 1225.4926 | I42: =LOOKUP(G42,'Max limit'!CE:CE,'Max limit'!CC:CC) -> 7740 | J42: 2 | L42: =AVERAGE(G38:G42) -> 28.989066
C43: =$C$38 -> Str 1 | E43: =E42+10 -> 60 | F43: =(E43-E42)/((G43+G42)/2) -> 0.27600815 | G43: =SQRT(H43) -> 37.454591 | H43: =(G42^2)+(2*(LOOKUP(I42,'Max limit'!W:W,'Max limit'!Y:Y)*(E43-E42))) -> 1402.8464 | I43: =LOOKUP(G43,'Max limit'!CE:CE,'Max limit'!CC:CC) -> 8180 | J43: 2 | L43: =AVERAGE(G39:G43) -> 32.045374
C44: =$C$38 -> Str 1 | E44: =E43+10 -> 70 | F44: =(E44-E43)/((G44+G43)/2) -> 0.2591253 | G44: =SQRT(H44) -> 39.728146 | H44: =(G43^2)+(2*(LOOKUP(I43,'Max limit'!W:W,'Max limit'!Y:Y)*(E44-E43))) -> 1578.3256 | I44: =LOOKUP(G44,'Max limit'!CE:CE,'Max limit'!CC:CC) -> 8730 | J44: 2 | L44: =AVERAGE(G40:G44) -> 34.780792
C45: =$C$38 -> Str 1 | E45: =E44+10 -> 80 | F45: =(E45-E44)/((G45+G44)/2) -> 0.24516753 | G45: =SQRT(H45) -> 41.848724 | H45: =(G44^2)+(2*(LOOKUP(I44,'Max limit'!W:W,'Max limit'!Y:Y)*(E45-E44))) -> 1751.3157 | I45: =LOOKUP(G45,'Max limit'!CE:CE,'Max limit'!CC:CC) -> 9160 | J45: 2 | L45: =AVERAGE(G41:G45) -> 37.274603
C46: =$C$38 -> Str 1 | E46: =E45+10 -> 90 | F46: =(E46-E45)/((G46+G45)/2) -> 0.23339357 | G46: =SQRT(H46) -> 43.843439 | H46: =(G45^2)+(2*(LOOKUP(I45,'Max limit'!W:W,'Max limit'!Y:Y)*(E46-E45))) -> 1922.2471 | I46: =LOOKUP(G46,'Max limit'!CE:CE,'Max limit'!CC:CC) -> 9600 | J46: 2 | L46: =AVERAGE(G42:G46) -> 39.576387
...

Sheet 2D export
A1: BrakingUDL_RHT2 | B1: Gear | C1: V_Front57 | D1: Distance | F1: Speed m/s
A2: N | B2: # | C2: km/h | D2: =(ROW()-2)*5 -> 0
A3: 0 | B3: 0 | C3: 0 | D3: =(ROW()-2)*5 -> 5 | F3: =C3/3.6 -> 0
A4: 0 | B4: 1 | C4: 11.1 | D4: =(ROW()-2)*5 -> 10 | F4: =C4/3.6 -> 3.0833333
A5: 0 | B5: 1 | C5: 19.3 | D5: =(ROW()-2)*5 -> 15 | F5: =C5/3.6 -> 5.3611111
A6: 0 | B6: 1 | C6: 24.2 | D6: =(ROW()-2)*5 -> 20 | F6: =C6/3.6 -> 6.7222222
A7: 0 | B7: 2 | C7: 25 | D7: =(ROW()-2)*5 -> 25 | F7: =C7/3.6 -> 6.9444444
A8: 0 | B8: 2 | C8: 25.9 | D8: =(ROW()-2)*5 -> 30 | F8: =C8/3.6 -> 7.1944444
A9: 0 | B9: 2 | C9: 25.4 | D9: =(ROW()-2)*5 -> 35 | F9: =C9/3.6 -> 7.0555556
A10: 0 | B10: 2 | C10: 26.3 | D10: =(ROW()-2)*5 -> 40 | F10: =C10/3.6 -> 7.3055556
A11: 0 | B11: 2 | C11: 28.1 | D11: =(ROW()-2)*5 -> 45 | F11: =C11/3.6 -> 7.8055556
A12: 0 | B12: 2 | C12: 30.8 | D12: =(ROW()-2)*5 -> 50 | F12: =C12/3.6 -> 8.5555556
A13: 0 | B13: 2 | C13: 33.4 | D13: =(ROW()-2)*5 -> 55 | F13: =C13/3.6 -> 9.2777778
A14: 0 | B14: 2 | C14: 34.7 | D14: =(ROW()-2)*5 -> 60 | F14: =C14/3.6 -> 9.6388889
... A7853: 3.6 | B7853: 0 | C7853: 38.7 | D7853: =(ROW()-2)*5 -> 39255 | F7853: =C7853/3.6 -> 10.75

Sheet 2D_clean
A1: Time | B1: Time Lap | C1: Dist | D1: Distance lap | E1: Gear | F1: V_Front57 | G1: BrakingUDL_RHT2 | H1: Speed
A2: s | B2: s | C2: m | D2: m | F2: km/h | G2: N | H2: m/s
A3: 1006.069 | B3: =A3-$A$3 -> 0 | C3: 27694 | D3: =C3-$C$3 -> 0 | E3: 4 | F3: 195.4 | G3: 0 | H3: =F3/3.6 -> 54.277778
A4: 1006.252 | B4: =A4-$A$3 -> 0.183 | C4: 27704 | D4: =C4-$C$3 -> 10 | E4: 4 | F4: 197.8 | G4: 0 | H4: =F4/3.6 -> 54.944444
A5: 1006.431 | B5: =A5-$A$3 -> 0.362 | C5: 27714 | D5: =C5-$C$3 -> 20 | E5: 4 | F5: 201.3 | G5: 0 | H5: =F5/3.6 -> 55.916667
A6: 1006.608 | B6: =A6-$A$3 -> 0.539 | C6: 27724 | D6: =C6-$C$3 -> 30 | E6: 4 | F6: 204.1 | G6: 0 | H6: =F6/3.6 -> 56.694444
A7: 1006.783 | B7: =A7-$A$3 -> 0.714 | C7: 27734 | D7: =C7-$C$3 -> 40 | E7: 4 | F7: 206.4 | G7: 0 | H7: =F7/3.6 -> 57.333333
A8: 1006.955 | B8: =A8-$A$3 -> 0.886 | C8: 27744 | D8: =C8-$C$3 -> 50 | E8: 4 | F8: 209 | G8: 0 | H8: =F8/3.6 -> 58.055556
A9: 1007.126 | B9: =A9-$A$3 -> 1.057 | C9: 27754 | D9: =C9-$C$3 -> 60 | E9: 4 | F9: 211.6 | G9: 0 | H9: =F9/3.6 -> 58.777778
A10: 1007.294 | B10: =A10-$A$3 -> 1.225 | C10: 27764 | D10: =C10-$C$3 -> 70 | E10: 4 | F10: 213.5 | G10: 0 | H10: =F10/3.6 -> 59.305556
A11: 1007.461 | B11: =A11-$A$3 -> 1.392 | C11: 27774 | D11: =C11-$C$3 -> 80 | E11: 4 | F11: 214.7 | G11: 0 | H11: =F11/3.6 -> 59.638889
A12: 1007.627 | B12: =A12-$A$3 -> 1.558 | C12: 27784 | D12: =C12-$C$3 -> 90 | E12: 4 | F12: 218.4 | G12: 0 | H12: =F12/3.6 -> 60.666667
A13: 1007.791 | B13: =A13-$A$3 -> 1.722 | C13: 27794 | D13: =C13-$C$3 -> 100 | E13: 4 | F13: 215.8 | G13: 29 | H13: =F13/3.6 -> 59.944444
A14: 1007.959 | B14: =A14-$A$3 -> 1.89 | C14: 27804 | D14: =C14-$C$3 -> 110 | E14: 4 | F14: 211.1 | G14: 29 | H14: =F14/3.6 -> 58.638889
... A397: 1111.729 | B397: =A397-$A$3 -> 105.66 | C397: 31634 | D397: =C397-$C$3 -> 3940 | E397: 4 | F397: 192.6 | G397: 0 | H397: =F397/3.6 -> 53.5

Sheet Cornering
A3: WheelBase | B3: =Input!F13/1000 -> 1.437 | C3: m | E3: Corner radius
A4: CoG height | B4: =Input!h_mm/1000 -> 0.65995 | C4: m | E4: Turn 1 | F4: Turn 2 | G4: Turn 3 | H4: Turn 4 | I4: Turn 5 | J4: Turn 6 | K4: Turn 7 | L4: Turn 8 | M4: Turn 9.1 | N4: Turn 9.2 | O4: Turn 10 | P4: Turn 11
A5: Tyre grip | B5: ='Max limit'!$H$11 -> 1.2 | C5: mu | E5: 58.7 | F5: 210.51 | G5: 123.53 | H5: 43.43 | I5: 105.86 | J5: 169.31 | K5: 79.84 | L5: 42.7 | M5: 37.14 | N5: 61.67 | O5: ='Track spec'!T4 -> 21.45 | P5: 25.9
A6: Gravity | B6: 9.81 | C6: m/s^2 | E6: Max corner speed
A7: Max lean angle | B7: =DEGREES(ATAN(B5)) -> 50.194429 | D7: Vmax (m/s) | E7: =SQRT($B$5*$B$6*E5) -> 26.287191 | F7: =SQRT($B$5*$B$6*F5) -> 49.780757 | G7: =SQRT($B$5*$B$6*G5) -> 38.133911 | H7: =SQRT($B$5*$B$6*H5) -> 22.611014 | I7: =SQRT($B$5*$B$6*I5) -> 35.30133 | J7: =SQRT($B$5*$B$6*J5) -> 44.644343 | K7: =SQRT($B$5*$B$6*K5) -> 30.657405 | L7: =SQRT($B$5*$B$6*L5) -> 22.420178 | ... P7: =SQRT($B$5*$B$6*P5) -> 17.461237
D8: Vmax (km/h) | E8: =E7*3.6 -> 94.633887 | F8: =F7*3.6 -> 179.21072 | G8: =G7*3.6 -> 137.28208 | H8: =H7*3.6 -> 81.399651 | I8: =I7*3.6 -> 127.08479 | J8: =J7*3.6 -> 160.71963 | K8: =K7*3.6 -> 110.36666 | L8: =L7*3.6 -> 80.712642 | ... P8: =P7*3.6 -> 62.860453
A9: Max lateral accel (m/s²) | B9: =9.81 * TAN(B11) -> 11.772
A10: Max lateral accel (g) | B10: =B9/$B$6 -> 1.2 | D10: Vcorner/steady state (m/s) | E10: =SQRT(E5 * $B$6 * TAN(RADIANS($B$7))) -> 26.287191 | F10: =SQRT(F5 * $B$6 * TAN(RADIANS($B$7))) -> 49.780757 | G10: =SQRT(G5 * $B$6 * TAN(RADIANS($B$7))) -> 38.133911 | H10: =SQRT(H5 * $B$6 * TAN(RADIANS($B$7))) -> 22.611014 | I10: =SQRT(I5 * $B$6 * TAN(RADIANS($B$7))) -> 35.30133 | J10: =SQRT(J5 * $B$6 * TAN(RADIANS($B$7))) -> 44.644343 | K10: =SQRT(K5 * $B$6 * TAN(RADIANS($B$7))) -> 30.657405 | L10: =SQRT(L5 * $B$6 * TAN(RADIANS($B$7))) -> 22.420178 | ... P10: =SQRT(P5 * $B$6 * TAN(RADIANS($B$7))) -> 17.461237
A11: Max lean angle (rad) | B11: =ATAN($B$5) -> 0.87605805
A12: Lean-limited accel (m/s²) | B12: =B9 -> 11.772
A13: Straight accel (m/s^2) | B13: 6
A14: max limit Forward accel m/s²) | B14: 4.83

Sheet Max limit
A1: RPM | B1: Normalised power [BHP] | C1: Engine torque [Nm] | D1: Rear wheel power [BHP] | E1: Power drag [BHP]
A2: 2830 | B2: 18.931 | C2: 46.981 | D2: 17.264 | E2: 1.449
A3: 2840 | B3: 19.262 | C3: 47.633 | D3: 17.586 | E3: 1.454
A4: 2850 | B4: 19.592 | C4: 48.281 | D4: 17.907 | E4: 1.459
A5: 2860 | B5: 19.923 | C5: 48.924 | D5: 18.229 | E5: 1.464 | G5: Wheelbase | H5: =StaticWheelbase_m -> 1.43549 | I5: m | J5: air Dense | L5: 1.167 | M5: kg/m^3 | O5: RPM | P5: 1st | Q5: 2nd | R5: 3rd | S5: 4th | T5: 5th | U5: 6th | W5: RPM | X5: 1st | Y5: 2nd | Z5: 3rd | AA5: 4th | AB5: 5th | AC5: 6th | AG5: RPM | AH5: 1st | AI5: 2nd | AJ5: 3rd | AK5: 4th | AL5: 5th | AM5: 6th | AP5: RPM | AQ5: 1st | AR5: 2nd | AS5: 3rd | AT5: 4th | AU5: 5th | AV5: 6th | AX5: RPM | AY5: Rear vel (m/s) | BB5: Speed (m/s) | BC5: RPM | BD5: Rear vel (m/s) | BG5: Speed (m/s) | BH5: RPM | BI5: Rear vel (m/s) | BL5: Speed (m/s) | BM5: RPM | BN5: Rear vel (m/s) | BQ5: Speed (m/s) | BR5: RPM | BS5: Rear vel (m/s) | BV5: Speed (m/s) | BW5: RPM | BX5: Rear vel (m/s) | CA5: Speed (m/s) | CC5: RPM | CD5: 1st | CE5: 2nd | CF5: 3rd | CG5: 4th | CH5: 5th | CI5: 6th | CK5: RPM | CL5: 1st | CM5: 2nd | CN5: 3rd | CO5: 4th | CP5: 5th | CQ5: 6th
A6: 2870 | B6: 20.253 | C6: 49.562 | D6: 18.551 | E6: 1.469 | G6: Rake angle | H6: =Input!DynamicRake_deg -> 23.1 | I6: Deg | O6: 2830 | P6: =(($H$10*$H$14*($H$5-$H$7)-(AQ6*($H$5-($H$10*$H$9)))))/(H$34*($H$5-($H$9*$H$10))) -> 13.159361 | Q6: =(($H$10*$H$14*($H$5-$H$7)-(AR6*($H$5-($H$10*$H$9)))))/(I$34*($H$5-($H$9*$H$10))) -> 13.579933 | R6: =(($H$10*$H$14*($H$5-$H$7)-(AS6*($H$5-($H$10*$H$9)))))/(J$34*($H$5-($H$9*$H$10))) -> 13.888368 | S6: =(($H$10*$H$14*($H$5-$H$7)-(AT6*($H$5-($H$10*$H$9)))))/(K$34*($H$5-($H$9*$H$10))) -> 13.939402 | T6: =(($H$10*$H$14*($H$5-$H$7)-(AU6*($H$5-($H$10*$H$9)))))/(L$34*($H$5-($H$9*$H$10))) -> 13.989519 | U6: =(($H$10*$H$14*($H$5-$H$7)-(AV6*($H$5-($H$10*$H$9)))))/(M$34*($H$5-($H$9*$H$10))) -> 13.891531 | W6: 2830 | X6: =(($H$14*$H$7)-(AQ6*$H$9))/(H$34*$H$9) -> 9.2789494 | Y6: =(($H$14*$H$7)-(AR6*$H$9))/(I$34*$H$9) -> 9.5621616 | Z6: =(($H$14*$H$7)-(AS6*$H$9))/(J$34*$H$9) -> 9.7610211 | AA6: =(($H$14*$H$7)-(AT6*$H$9))/(K$34*$H$9) -> 9.7741892 | AB6: =(($H$14*$H$7)-(AU6*$H$9))/(L$34*$H$9) -> 9.7857396 | AC6: =(($H$14*$H$7)-(AV6*$H$9))/(M$34*$H$9) -> 9.6877514 | AG6: 2830 | AH6: =-(($H$13*($H$5-$H$8))/$H$9)-(AQ6/$H$12) -> -10.996317 | AI6: =-(($H$13*($H$5-$H$8))/$H$9)-(AR6/$H$12) -> -11.047445 | AJ6: =-(($H$13*($H$5-$H$8))/$H$9)-(AS6/$H$12) -> -11.115564 | AK6: =-(($H$13*($H$5-$H$8))/$H$9)-(AT6/$H$12) -> -11.198821 | AL6: =-(($H$13*($H$5-$H$8))/$H$9)-(AU6/$H$12) -> -11.284089 | AM6: =-(($H$13*($H$5-$H$8))/$H$9)-(AV6/$H$12) -> -11.389916 | AP6: 2830 | AQ6: =0.5*$L$5*$L$9*$L$7*($BB6^2) -> 18.472834 | AR6: =0.5*$L$5*$L$9*$L$7*($BG6^2) -> 31.970683 | AS6: =0.5*$L$5*$L$9*$L$7*($BL6^2) -> 49.954192 | AT6: =0.5*$L$5*$L$9*$L$7*($BQ6^2) -> 71.934036 | AU6: =0.5*$L$5*$L$9*$L$7*($BV6^2) -> 94.444643 | AV6: =0.5*$L$5*$L$9*$L$7*($CA6^2) -> 122.38305 | AX6: 2830 | AY6: ='Max limit'!AX6*Input!PrimaryDrive_ratio*Input!Gear1_ratio*Input!FinalDrive_ratio -> 249.7578 | AZ6: =AY6 / 60 -> 4.1626299 | BA6: =AZ6*Input!$N$23 -> 9794.6599 | BB6: =BA6/1000 -> 9.7946599 | BC6: 2830 | BD6: ='Max limit'!AX6*Input!PrimaryDrive_ratio*Input!Gear2_ratio*Input!FinalDrive_ratio -> 328.57026 | BE6: =BD6/60 -> 5.4761709 | BF6: =BE6*Input!$N$23 -> 12885.419 | BG6: =BF6/1000 -> 12.885419 | BH6: 2830 | BI6: ='Max limit'!AX6*Input!PrimaryDrive_ratio*Input!Gear3_ratio*Input!FinalDrive_ratio -> 410.71282 | BJ6: =BI6/60 -> 6.8452137 | BK6: =BJ6*Input!$N$23 -> 16106.774 | BL6: =BK6/1000 -> 16.106774 | BM6: 2830 | BN6: ='Max limit'!AX6*Input!PrimaryDrive_ratio*Input!Gear4_ratio*Input!FinalDrive_ratio -> 492.85538 | BO6: =BN6/60 -> 8.2142564 | BP6: =BO6*Input!$N$23 -> 19328.129 | BQ6: =BP6/1000 -> 19.328129 | BR6: 2830 | BS6: ='Max limit'!AX6*Input!PrimaryDrive_ratio*Input!Gear5_ratio*Input!FinalDrive_ratio -> 564.73013 | BT6: =BS6/60 -> 9.4121688 | BU6: =BT6*Input!$N$23 -> 22146.814 | BV6: =BU6/1000 -> 22.146814 | BW6: 2830 | BX6: ='Max limit'!AX6*Input!PrimaryDrive_ratio*Input!Gear6_ratio*Input!FinalDrive_ratio -> 642.85485 | BY6: =BX6/60 -> 10.714247 | BZ6: =BY6*Input!$N$23 -> 25210.603 | CA6: =BZ6/1000 -> 25.210603 | CC6: 2830 | CD6: =MROUND($BB6,0.5) -> 10 | CE6: =MROUND($BG6,0.5) -> 13 | CF6: =MROUND($BL6,0.5) -> 16 | CG6: =MROUND($BQ6,0.5) -> 19.5 | CH6: =MROUND($BV6,0.5) -> 22 | CI6: =MROUND($CA6,0.5) -> 25 | CK6: 2830 | CL6: =$AY6/60 -> 4.1626299 | CM6: =$BD6/60 -> 5.4761709 | CN6: =$BI6/60 -> 6.8452137 | CO6: =$BN6/60 -> 8.2142564 | CP6: =$BS6/60 -> 9.4121688 | CQ6: =$BX6/60 -> 10.714247
A7: 2880 | B7: 20.598 | C7: 50.232 | D7: 18.887 | E7: 1.474 | G7: Cog from Rear | H7: =Input!CoGx_mm/1000 -> 0.73505 | I7: m | J7: Fr Area | L7: 0.55 | M7: m^2 | O7: 2840 | P7: =(($H$10*$H$14*($H$5-$H$7)-(AQ7*($H$5-($H$10*$H$9)))))/(H$34*($H$5-($H$9*$H$10))) -> 13.158938 | Q7: =(($H$10*$H$14*($H$5-$H$7)-(AR7*($H$5-($H$10*$H$9)))))/(I$34*($H$5-($H$9*$H$10))) -> 13.579174 | R7: =(($H$10*$H$14*($H$5-$H$7)-(AS7*($H$5-($H$10*$H$9)))))/(J$34*($H$5-($H$9*$H$10))) -> 13.88715 | S7: =(($H$10*$H$14*($H$5-$H$7)-(AT7*($H$5-($H$10*$H$9)))))/(K$34*($H$5-($H$9*$H$10))) -> 13.937632 | T7: =(($H$10*$H$14*($H$5-$H$7)-(AU7*($H$5-($H$10*$H$9)))))/(L$34*($H$5-($H$9*$H$10))) -> 13.987174 | U7: =(($H$10*$H$14*($H$5-$H$7)-(AV7*($H$5-($H$10*$H$9)))))/(M$34*($H$5-($H$9*$H$10))) -> 13.888492 | W7: 2840 | X7: =(($H$14*$H$7)-(AQ7*$H$9))/(H$34*$H$9) -> 9.278526 | Y7: =(($H$14*$H$7)-(AR7*$H$9))/(I$34*$H$9) -> 9.5614029 | Z7: =(($H$14*$H$7)-(AS7*$H$9))/(J$34*$H$9) -> 9.7598033 | AA7: =(($H$14*$H$7)-(AT7*$H$9))/(K$34*$H$9) -> 9.7724195 | AB7: =(($H$14*$H$7)-(AU7*$H$9))/(L$34*$H$9) -> 9.7833945 | AC7: =(($H$14*$H$7)-(AV7*$H$9))/(M$34*$H$9) -> 9.6847126 | AG7: 2840 | AH7: =-(($H$13*($H$5-$H$8))/$H$9)-(AQ7/$H$12) -> -10.996812 | AI7: =-(($H$13*($H$5-$H$8))/$H$9)-(AR7/$H$12) -> -11.048302 | AJ7: =-(($H$13*($H$5-$H$8))/$H$9)-(AS7/$H$12) -> -11.116904 | AK7: =-(($H$13*($H$5-$H$8))/$H$9)-(AT7/$H$12) -> -11.20075 | AL7: =-(($H$13*($H$5-$H$8))/$H$9)-(AU7/$H$12) -> -11.286621 | AM7: =-(($H$13*($H$5-$H$8))/$H$9)-(AV7/$H$12) -> -11.393198 | AP7: 2840 | AQ7: =0.5*$L$5*$L$9*$L$7*($BB7^2) -> 18.603615 | AR7: =0.5*$L$5*$L$9*$L$7*($BG7^2) -> 32.197023 | AS7: =0.5*$L$5*$L$9*$L$7*($BL7^2) -> 50.307848 | AT7: =0.5*$L$5*$L$9*$L$7*($BQ7^2) -> 72.443302 | AU7: =0.5*$L$5*$L$9*$L$7*($BV7^2) -> 95.113276 | AV7: =0.5*$L$5*$L$9*$L$7*($CA7^2) -> 123.24947 | AX7: 2840 | AY7: ='Max limit'!AX7*Input!PrimaryDrive_ratio*Input!Gear1_ratio*Input!FinalDrive_ratio -> 250.64033 | AZ7: =AY7 / 60 -> 4.1773389 | BA7: =AZ7*Input!$N$23 -> 9829.27 | BB7: =BA7/1000 -> 9.82927 | BC7: 2840 | BD7: ='Max limit'!AX7*Input!PrimaryDrive_ratio*Input!Gear2_ratio*Input!FinalDrive_ratio -> 329.73128 | BE7: =BD7/60 -> 5.4955214 | BF7: =BE7*Input!$N$23 -> 12930.951 | BG7: =BF7/1000 -> 12.930951 | BH7: 2840 | BI7: ='Max limit'!AX7*Input!PrimaryDrive_ratio*Input!Gear3_ratio*Input!FinalDrive_ratio -> 412.1641 | BJ7: =BI7/60 -> 6.8694017 | BK7: =BJ7*Input!$N$23 -> 16163.688 | BL7: =BK7/1000 -> 16.163688 | BM7: 2840 | BN7: ='Max limit'!AX7*Input!PrimaryDrive_ratio*Input!Gear4_ratio*Input!FinalDrive_ratio -> 494.59692 | BO7: =BN7/60 -> 8.2432821 | BP7: =BO7*Input!$N$23 -> 19396.426 | BQ7: =BP7/1000 -> 19.396426 | BR7: 2840 | BS7: ='Max limit'!AX7*Input!PrimaryDrive_ratio*Input!Gear5_ratio*Input!FinalDrive_ratio -> 566.72564 | BT7: =BS7/60 -> 9.4454274 | BU7: =BT7*Input!$N$23 -> 22225.072 | BV7: =BU7/1000 -> 22.225072 | BW7: 2840 | BX7: ='Max limit'!AX7*Input!PrimaryDrive_ratio*Input!Gear6_ratio*Input!FinalDrive_ratio -> 645.12642 | BY7: =BX7/60 -> 10.752107 | BZ7: =BY7*Input!$N$23 -> 25299.686 | CA7: =BZ7/1000 -> 25.299686 | CC7: 2840 | CD7: =MROUND($BB7,0.5) -> 10 | CE7: =MROUND($BG7,0.5) -> 13 | CF7: =MROUND($BL7,0.5) -> 16 | CG7: =MROUND($BQ7,0.5) -> 19.5 | CH7: =MROUND($BV7,0.5) -> 22 | CI7: =MROUND($CA7,0.5) -> 25.5 | CK7: 2840 | CL7: =$AY7/60 -> 4.1773389 | CM7: =$BD7/60 -> 5.4955214 | CN7: =$BI7/60 -> 6.8694017 | CO7: =$BN7/60 -> 8.2432821 | CP7: =$BS7/60 -> 9.4454274 | CQ7: =$BX7/60 -> 10.752107
A8: 2890 | B8: 20.949 | C8: 50.91 | D8: 19.228 | E8: 1.48 | G8: Cog from Front | H8: =[0]!StaticWheelbase_m - Input!CoGx_mm/1000 -> 0.70044 | I8: m | O8: 2850 | P8: =(($H$10*$H$14*($H$5-$H$7)-(AQ8*($H$5-($H$10*$H$9)))))/(H$34*($H$5-($H$9*$H$10))) -> 13.158513 | Q8: =(($H$10*$H$14*($H$5-$H$7)-(AR8*($H$5-($H$10*$H$9)))))/(I$34*($H$5-($H$9*$H$10))) -> 13.578413 | R8: =(($H$10*$H$14*($H$5-$H$7)-(AS8*($H$5-($H$10*$H$9)))))/(J$34*($H$5-($H$9*$H$10))) -> 13.885928 | S8: =(($H$10*$H$14*($H$5-$H$7)-(AT8*($H$5-($H$10*$H$9)))))/(K$34*($H$5-($H$9*$H$10))) -> 13.935856 | T8: =(($H$10*$H$14*($H$5-$H$7)-(AU8*($H$5-($H$10*$H$9)))))/(L$34*($H$5-($H$9*$H$10))) -> 13.984821 | U8: =(($H$10*$H$14*($H$5-$H$7)-(AV8*($H$5-($H$10*$H$9)))))/(M$34*($H$5-($H$9*$H$10))) -> 13.885442 | W8: 2850 | X8: =(($H$14*$H$7)-(AQ8*$H$9))/(H$34*$H$9) -> 9.2781011 | Y8: =(($H$14*$H$7)-(AR8*$H$9))/(I$34*$H$9) -> 9.5606415 | Z8: =(($H$14*$H$7)-(AS8*$H$9))/(J$34*$H$9) -> 9.7585812 | AA8: =(($H$14*$H$7)-(AT8*$H$9))/(K$34*$H$9) -> 9.7706435 | AB8: =(($H$14*$H$7)-(AU8*$H$9))/(L$34*$H$9) -> 9.7810412 | AC8: =(($H$14*$H$7)-(AV8*$H$9))/(M$34*$H$9) -> 9.6816631 | AG8: 2850 | AH8: =-(($H$13*($H$5-$H$8))/$H$9)-(AQ8/$H$12) -> -10.997309 | AI8: =-(($H$13*($H$5-$H$8))/$H$9)-(AR8/$H$12) -> -11.049162 | AJ8: =-(($H$13*($H$5-$H$8))/$H$9)-(AS8/$H$12) -> -11.118248 | AK8: =-(($H$13*($H$5-$H$8))/$H$9)-(AT8/$H$12) -> -11.202686 | AL8: =-(($H$13*($H$5-$H$8))/$H$9)-(AU8/$H$12) -> -11.289163 | AM8: =-(($H$13*($H$5-$H$8))/$H$9)-(AV8/$H$12) -> -11.396491 | AP8: 2850 | AQ8: =0.5*$L$5*$L$9*$L$7*($BB8^2) -> 18.734857 | AR8: =0.5*$L$5*$L$9*$L$7*($BG8^2) -> 32.424162 | AS8: =0.5*$L$5*$L$9*$L$7*($BL8^2) -> 50.662753 | AT8: =0.5*$L$5*$L$9*$L$7*($BQ8^2) -> 72.954364 | AU8: =0.5*$L$5*$L$9*$L$7*($BV8^2) -> 95.784267 | AV8: =0.5*$L$5*$L$9*$L$7*($CA8^2) -> 124.11896 | AX8: 2850 | AY8: ='Max limit'!AX8*Input!PrimaryDrive_ratio*Input!Gear1_ratio*Input!FinalDrive_ratio -> 251.52287 | AZ8: =AY8 / 60 -> 4.1920478 | BA8: =AZ8*Input!$N$23 -> 9863.8801 | BB8: =BA8/1000 -> 9.8638801 | BC8: 2850 | BD8: ='Max limit'!AX8*Input!PrimaryDrive_ratio*Input!Gear2_ratio*Input!FinalDrive_ratio -> 330.89231 | BE8: =BD8/60 -> 5.5148718 | BF8: =BE8*Input!$N$23 -> 12976.482 | BG8: =BF8/1000 -> 12.976482 | BH8: 2850 | BI8: ='Max limit'!AX8*Input!PrimaryDrive_ratio*Input!Gear3_ratio*Input!FinalDrive_ratio -> 413.61538 | BJ8: =BI8/60 -> 6.8935897 | BK8: =BJ8*Input!$N$23 -> 16220.603 | BL8: =BK8/1000 -> 16.220603 | BM8: 2850 | BN8: ='Max limit'!AX8*Input!PrimaryDrive_ratio*Input!Gear4_ratio*Input!FinalDrive_ratio -> 496.33846 | BO8: =BN8/60 -> 8.2723077 | BP8: =BO8*Input!$N$23 -> 19464.723 | BQ8: =BP8/1000 -> 19.464723 | BR8: 2850 | BS8: ='Max limit'!AX8*Input!PrimaryDrive_ratio*Input!Gear5_ratio*Input!FinalDrive_ratio -> 568.72115 | BT8: =BS8/60 -> 9.4786859 | BU8: =BT8*Input!$N$23 -> 22303.329 | BV8: =BU8/1000 -> 22.303329 | BW8: 2850 | BX8: ='Max limit'!AX8*Input!PrimaryDrive_ratio*Input!Gear6_ratio*Input!FinalDrive_ratio -> 647.39799 | BY8: =BX8/60 -> 10.789967 | BZ8: =BY8*Input!$N$23 -> 25388.77 | CA8: =BZ8/1000 -> 25.38877 | CC8: 2850 | CD8: =MROUND($BB8,0.5) -> 10 | CE8: =MROUND($BG8,0.5) -> 13 | CF8: =MROUND($BL8,0.5) -> 16 | CG8: =MROUND($BQ8,0.5) -> 19.5 | CH8: =MROUND($BV8,0.5) -> 22.5 | CI8: =MROUND($CA8,0.5) -> 25.5 | CK8: 2850 | CL8: =$AY8/60 -> 4.1920478 | CM8: =$BD8/60 -> 5.5148718 | CN8: =$BI8/60 -> 6.8935897 | CO8: =$BN8/60 -> 8.2723077 | CP8: =$BS8/60 -> 9.4786859 | CQ8: =$BX8/60 -> 10.789967
A9: 2900 | B9: 21.3 | C9: 51.584 | D9: 19.57 | E9: 1.485 | G9: Cog height | H9: =Input!h_mm/1000 -> 0.65995 | I9: m | J9: CD | L9: 0.6 | M9: m^2 | O9: 2860 | P9: =(($H$10*$H$14*($H$5-$H$7)-(AQ9*($H$5-($H$10*$H$9)))))/(H$34*($H$5-($H$9*$H$10))) -> 13.158086 | Q9: =(($H$10*$H$14*($H$5-$H$7)-(AR9*($H$5-($H$10*$H$9)))))/(I$34*($H$5-($H$9*$H$10))) -> 13.577649 | R9: =(($H$10*$H$14*($H$5-$H$7)-(AS9*($H$5-($H$10*$H$9)))))/(J$34*($H$5-($H$9*$H$10))) -> 13.884702 | S9: =(($H$10*$H$14*($H$5-$H$7)-(AT9*($H$5-($H$10*$H$9)))))/(K$34*($H$5-($H$9*$H$10))) -> 13.934074 | T9: =(($H$10*$H$14*($H$5-$H$7)-(AU9*($H$5-($H$10*$H$9)))))/(L$34*($H$5-($H$9*$H$10))) -> 13.982459 | U9: =(($H$10*$H$14*($H$5-$H$7)-(AV9*($H$5-($H$10*$H$9)))))/(M$34*($H$5-($H$9*$H$10))) -> 13.882382 | W9: 2860 | X9: =(($H$14*$H$7)-(AQ9*$H$9))/(H$34*$H$9) -> 9.2776747 | Y9: =(($H$14*$H$7)-(AR9*$H$9))/(I$34*$H$9) -> 9.5598774 | Z9: =(($H$14*$H$7)-(AS9*$H$9))/(J$34*$H$9) -> 9.7573548 | AA9: =(($H$14*$H$7)-(AT9*$H$9))/(K$34*$H$9) -> 9.7688612 | AB9: =(($H$14*$H$7)-(AU9*$H$9))/(L$34*$H$9) -> 9.7786795 | AC9: =(($H$14*$H$7)-(AV9*$H$9))/(M$34*$H$9) -> 9.6786028 | AG9: 2860 | AH9: =-(($H$13*($H$5-$H$8))/$H$9)-(AQ9/$H$12) -> -10.997808 | AI9: =-(($H$13*($H$5-$H$8))/$H$9)-(AR9/$H$12) -> -11.050026 | AJ9: =-(($H$13*($H$5-$H$8))/$H$9)-(AS9/$H$12) -> -11.119597 | AK9: =-(($H$13*($H$5-$H$8))/$H$9)-(AT9/$H$12) -> -11.204629 | AL9: =-(($H$13*($H$5-$H$8))/$H$9)-(AU9/$H$12) -> -11.291713 | AM9: =-(($H$13*($H$5-$H$8))/$H$9)-(AV9/$H$12) -> -11.399796 | AP9: 2860 | AQ9: =0.5*$L$5*$L$9*$L$7*($BB9^2) -> 18.86656 | AR9: =0.5*$L$5*$L$9*$L$7*($BG9^2) -> 32.652099 | AS9: =0.5*$L$5*$L$9*$L$7*($BL9^2) -> 51.018905 | AT9: =0.5*$L$5*$L$9*$L$7*($BQ9^2) -> 73.467223 | AU9: =0.5*$L$5*$L$9*$L$7*($BV9^2) -> 96.457617 | AV9: =0.5*$L$5*$L$9*$L$7*($CA9^2) -> 124.99149 | AX9: 2860 | AY9: ='Max limit'!AX9*Input!PrimaryDrive_ratio*Input!Gear1_ratio*Input!FinalDrive_ratio -> 252.40541 | AZ9: =AY9 / 60 -> 4.2067568 | BA9: =AZ9*Input!$N$23 -> 9898.4902 | BB9: =BA9/1000 -> 9.8984902 | BC9: 2860 | BD9: ='Max limit'!AX9*Input!PrimaryDrive_ratio*Input!Gear2_ratio*Input!FinalDrive_ratio -> 332.05333 | BE9: =BD9/60 -> 5.5342222 | BF9: =BE9*Input!$N$23 -> 13022.014 | BG9: =BF9/1000 -> 13.022014 | BH9: 2860 | BI9: ='Max limit'!AX9*Input!PrimaryDrive_ratio*Input!Gear3_ratio*Input!FinalDrive_ratio -> 415.06667 | BJ9: =BI9/60 -> 6.9177778 | BK9: =BJ9*Input!$N$23 -> 16277.517 | BL9: =BK9/1000 -> 16.277517 | BM9: 2860 | BN9: ='Max limit'!AX9*Input!PrimaryDrive_ratio*Input!Gear4_ratio*Input!FinalDrive_ratio -> 498.08 | BO9: =BN9/60 -> 8.3013333 | BP9: =BO9*Input!$N$23 -> 19533.021 | BQ9: =BP9/1000 -> 19.533021 | BR9: 2860 | BS9: ='Max limit'!AX9*Input!PrimaryDrive_ratio*Input!Gear5_ratio*Input!FinalDrive_ratio -> 570.71667 | BT9: =BS9/60 -> 9.5119444 | BU9: =BT9*Input!$N$23 -> 22381.586 | BV9: =BU9/1000 -> 22.381586 | BW9: 2860 | BX9: ='Max limit'!AX9*Input!PrimaryDrive_ratio*Input!Gear6_ratio*Input!FinalDrive_ratio -> 649.66957 | BY9: =BX9/60 -> 10.827826 | BZ9: =BY9*Input!$N$23 -> 25477.853 | CA9: =BZ9/1000 -> 25.477853 | CC9: 2860 | CD9: =MROUND($BB9,0.5) -> 10 | CE9: =MROUND($BG9,0.5) -> 13 | CF9: =MROUND($BL9,0.5) -> 16.5 | CG9: =MROUND($BQ9,0.5) -> 19.5 | CH9: =MROUND($BV9,0.5) -> 22.5 | CI9: =MROUND($CA9,0.5) -> 25.5 | CK9: 2860 | CL9: =$AY9/60 -> 4.2067568 | CM9: =$BD9/60 -> 5.5342222 | CN9: =$BI9/60 -> 6.9177778 | CO9: =$BN9/60 -> 8.3013333 | CP9: =$BS9/60 -> 9.5119444 | CQ9: =$BX9/60 -> 10.827826
A10: 2910 | B10: 21.65 | C10: 52.253 | D10: 19.911 | E10: 1.49 | G10: Rear tyre coefficient | H10: 1.3 | I10: mu | O10: 2870 | P10: =(($H$10*$H$14*($H$5-$H$7)-(AQ10*($H$5-($H$10*$H$9)))))/(H$34*($H$5-($H$9*$H$10))) -> 13.157659 | Q10: =(($H$10*$H$14*($H$5-$H$7)-(AR10*($H$5-($H$10*$H$9)))))/(I$34*($H$5-($H$9*$H$10))) -> 13.576882 | R10: =(($H$10*$H$14*($H$5-$H$7)-(AS10*($H$5-($H$10*$H$9)))))/(J$34*($H$5-($H$9*$H$10))) -> 13.883471 | S10: =(($H$10*$H$14*($H$5-$H$7)-(AT10*($H$5-($H$10*$H$9)))))/(K$34*($H$5-($H$9*$H$10))) -> 13.932285 | T10: =(($H$10*$H$14*($H$5-$H$7)-(AU10*($H$5-($H$10*$H$9)))))/(L$34*($H$5-($H$9*$H$10))) -> 13.980089 | U10: =(($H$10*$H$14*($H$5-$H$7)-(AV10*($H$5-($H$10*$H$9)))))/(M$34*($H$5-($H$9*$H$10))) -> 13.879311 | W10: 2870 | X10: =(($H$14*$H$7)-(AQ10*$H$9))/(H$34*$H$9) -> 9.2772468 | Y10: =(($H$14*$H$7)-(AR10*$H$9))/(I$34*$H$9) -> 9.5591107 | Z10: =(($H$14*$H$7)-(AS10*$H$9))/(J$34*$H$9) -> 9.756124 | AA10: =(($H$14*$H$7)-(AT10*$H$9))/(K$34*$H$9) -> 9.7670727 | AB10: =(($H$14*$H$7)-(AU10*$H$9))/(L$34*$H$9) -> 9.7763096 | AC10: =(($H$14*$H$7)-(AV10*$H$9))/(M$34*$H$9) -> 9.6755318 | AG10: 2870 | AH10: =-(($H$13*($H$5-$H$8))/$H$9)-(AQ10/$H$12) -> -10.998309 | AI10: =-(($H$13*($H$5-$H$8))/$H$9)-(AR10/$H$12) -> -11.050892 | AJ10: =-(($H$13*($H$5-$H$8))/$H$9)-(AS10/$H$12) -> -11.120951 | AK10: =-(($H$13*($H$5-$H$8))/$H$9)-(AT10/$H$12) -> -11.206578 | AL10: =-(($H$13*($H$5-$H$8))/$H$9)-(AU10/$H$12) -> -11.294273 | AM10: =-(($H$13*($H$5-$H$8))/$H$9)-(AV10/$H$12) -> -11.403113 | AP10: 2870 | AQ10: =0.5*$L$5*$L$9*$L$7*($BB10^2) -> 18.998725 | AR10: =0.5*$L$5*$L$9*$L$7*($BG10^2) -> 32.880835 | AS10: =0.5*$L$5*$L$9*$L$7*($BL10^2) -> 51.376304 | AT10: =0.5*$L$5*$L$9*$L$7*($BQ10^2) -> 73.981878 | AU10: =0.5*$L$5*$L$9*$L$7*($BV10^2) -> 97.133325 | AV10: =0.5*$L$5*$L$9*$L$7*($CA10^2) -> 125.86709 | AX10: 2870 | AY10: ='Max limit'!AX10*Input!PrimaryDrive_ratio*Input!Gear1_ratio*Input!FinalDrive_ratio -> 253.28794 | AZ10: =AY10 / 60 -> 4.2214657 | BA10: =AZ10*Input!$N$23 -> 9933.1003 | BB10: =BA10/1000 -> 9.9331003 | BC10: 2870 | BD10: ='Max limit'!AX10*Input!PrimaryDrive_ratio*Input!Gear2_ratio*Input!FinalDrive_ratio -> 333.21436 | BE10: =BD10/60 -> 5.5535726 | BF10: =BE10*Input!$N$23 -> 13067.545 | BG10: =BF10/1000 -> 13.067545 | BH10: 2870 | BI10: ='Max limit'!AX10*Input!PrimaryDrive_ratio*Input!Gear3_ratio*Input!FinalDrive_ratio -> 416.51795 | BJ10: =BI10/60 -> 6.9419658 | BK10: =BJ10*Input!$N$23 -> 16334.432 | BL10: =BK10/1000 -> 16.334432 | BM10: 2870 | BN10: ='Max limit'!AX10*Input!PrimaryDrive_ratio*Input!Gear4_ratio*Input!FinalDrive_ratio -> 499.82154 | BO10: =BN10/60 -> 8.330359 | BP10: =BO10*Input!$N$23 -> 19601.318 | BQ10: =BP10/1000 -> 19.601318 | BR10: 2870 | BS10: ='Max limit'!AX10*Input!PrimaryDrive_ratio*Input!Gear5_ratio*Input!FinalDrive_ratio -> 572.71218 | BT10: =BS10/60 -> 9.545203 | BU10: =BT10*Input!$N$23 -> 22459.844 | BV10: =BU10/1000 -> 22.459844 | BW10: 2870 | BX10: ='Max limit'!AX10*Input!PrimaryDrive_ratio*Input!Gear6_ratio*Input!FinalDrive_ratio -> 651.94114 | BY10: =BX10/60 -> 10.865686 | BZ10: =BY10*Input!$N$23 -> 25566.937 | CA10: =BZ10/1000 -> 25.566937 | CC10: 2870 | CD10: =MROUND($BB10,0.5) -> 10 | CE10: =MROUND($BG10,0.5) -> 13 | CF10: =MROUND($BL10,0.5) -> 16.5 | CG10: =MROUND($BQ10,0.5) -> 19.5 | CH10: =MROUND($BV10,0.5) -> 22.5 | CI10: =MROUND($CA10,0.5) -> 25.5 | CK10: 2870 | CL10: =$AY10/60 -> 4.2214657 | CM10: =$BD10/60 -> 5.5535726 | CN10: =$BI10/60 -> 6.9419658 | CO10: =$BN10/60 -> 8.330359 | CP10: =$BS10/60 -> 9.545203 | CQ10: =$BX10/60 -> 10.865686
A11: 2920 | B11: 22.001 | C11: 52.917 | D11: 20.253 | E11: 1.495 | G11: Front tyre coefficient | H11: 1.2 | I11: mu | O11: 2880 | P11: =(($H$10*$H$14*($H$5-$H$7)-(AQ11*($H$5-($H$10*$H$9)))))/(H$34*($H$5-($H$9*$H$10))) -> 13.157229 | Q11: =(($H$10*$H$14*($H$5-$H$7)-(AR11*($H$5-($H$10*$H$9)))))/(I$34*($H$5-($H$9*$H$10))) -> 13.576113 | R11: =(($H$10*$H$14*($H$5-$H$7)-(AS11*($H$5-($H$10*$H$9)))))/(J$34*($H$5-($H$9*$H$10))) -> 13.882236 | S11: =(($H$10*$H$14*($H$5-$H$7)-(AT11*($H$5-($H$10*$H$9)))))/(K$34*($H$5-($H$9*$H$10))) -> 13.930491 | T11: =(($H$10*$H$14*($H$5-$H$7)-(AU11*($H$5-($H$10*$H$9)))))/(L$34*($H$5-($H$9*$H$10))) -> 13.977711 | U11: =(($H$10*$H$14*($H$5-$H$7)-(AV11*($H$5-($H$10*$H$9)))))/(M$34*($H$5-($H$9*$H$10))) -> 13.87623 | W11: 2880 | X11: =(($H$14*$H$7)-(AQ11*$H$9))/(H$34*$H$9) -> 9.2768175 | Y11: =(($H$14*$H$7)-(AR11*$H$9))/(I$34*$H$9) -> 9.5583412 | Z11: =(($H$14*$H$7)-(AS11*$H$9))/(J$34*$H$9) -> 9.754889 | AA11: =(($H$14*$H$7)-(AT11*$H$9))/(K$34*$H$9) -> 9.765278 | AB11: =(($H$14*$H$7)-(AU11*$H$9))/(L$34*$H$9) -> 9.7739315 | AC11: =(($H$14*$H$7)-(AV11*$H$9))/(M$34*$H$9) -> 9.6724502 | AG11: 2880 | AH11: =-(($H$13*($H$5-$H$8))/$H$9)-(AQ11/$H$12) -> -10.998811 | AI11: =-(($H$13*($H$5-$H$8))/$H$9)-(AR11/$H$12) -> -11.051762 | AJ11: =-(($H$13*($H$5-$H$8))/$H$9)-(AS11/$H$12) -> -11.122309 | AK11: =-(($H$13*($H$5-$H$8))/$H$9)-(AT11/$H$12) -> -11.208534 | AL11: =-(($H$13*($H$5-$H$8))/$H$9)-(AU11/$H$12) -> -11.296841 | AM11: =-(($H$13*($H$5-$H$8))/$H$9)-(AV11/$H$12) -> -11.406441 | AP11: 2880 | AQ11: =0.5*$L$5*$L$9*$L$7*($BB11^2) -> 19.13135 | AR11: =0.5*$L$5*$L$9*$L$7*($BG11^2) -> 33.110368 | AS11: =0.5*$L$5*$L$9*$L$7*($BL11^2) -> 51.734951 | AT11: =0.5*$L$5*$L$9*$L$7*($BQ11^2) -> 74.498329 | AU11: =0.5*$L$5*$L$9*$L$7*($BV11^2) -> 97.811391 | AV11: =0.5*$L$5*$L$9*$L$7*($CA11^2) -> 126.74574 | AX11: 2880 | AY11: ='Max limit'!AX11*Input!PrimaryDrive_ratio*Input!Gear1_ratio*Input!FinalDrive_ratio -> 254.17048 | AZ11: =AY11 / 60 -> 4.2361746 | BA11: =AZ11*Input!$N$23 -> 9967.7104 | BB11: =BA11/1000 -> 9.9677104 | BC11: 2880 | BD11: ='Max limit'!AX11*Input!PrimaryDrive_ratio*Input!Gear2_ratio*Input!FinalDrive_ratio -> 334.37538 | BE11: =BD11/60 -> 5.5729231 | BF11: =BE11*Input!$N$23 -> 13113.077 | BG11: =BF11/1000 -> 13.113077 | BH11: 2880 | BI11: ='Max limit'!AX11*Input!PrimaryDrive_ratio*Input!Gear3_ratio*Input!FinalDrive_ratio -> 417.96923 | BJ11: =BI11/60 -> 6.9661538 | BK11: =BJ11*Input!$N$23 -> 16391.346 | BL11: =BK11/1000 -> 16.391346 | BM11: 2880 | BN11: ='Max limit'!AX11*Input!PrimaryDrive_ratio*Input!Gear4_ratio*Input!FinalDrive_ratio -> 501.56308 | BO11: =BN11/60 -> 8.3593846 | BP11: =BO11*Input!$N$23 -> 19669.615 | BQ11: =BP11/1000 -> 19.669615 | BR11: 2880 | BS11: ='Max limit'!AX11*Input!PrimaryDrive_ratio*Input!Gear5_ratio*Input!FinalDrive_ratio -> 574.70769 | BT11: =BS11/60 -> 9.5784615 | BU11: =BT11*Input!$N$23 -> 22538.101 | BV11: =BU11/1000 -> 22.538101 | BW11: 2880 | BX11: ='Max limit'!AX11*Input!PrimaryDrive_ratio*Input!Gear6_ratio*Input!FinalDrive_ratio -> 654.21271 | BY11: =BX11/60 -> 10.903545 | BZ11: =BY11*Input!$N$23 -> 25656.02 | CA11: =BZ11/1000 -> 25.65602 | CC11: 2880 | CD11: =MROUND($BB11,0.5) -> 10 | CE11: =MROUND($BG11,0.5) -> 13 | CF11: =MROUND($BL11,0.5) -> 16.5 | CG11: =MROUND($BQ11,0.5) -> 19.5 | CH11: =MROUND($BV11,0.5) -> 22.5 | CI11: =MROUND($CA11,0.5) -> 25.5 | CK11: 2880 | CL11: =$AY11/60 -> 4.2361746 | CM11: =$BD11/60 -> 5.5729231 | CN11: =$BI11/60 -> 6.9661538 | CO11: =$BN11/60 -> 8.3593846 | CP11: =$BS11/60 -> 9.5784615 | CQ11: =$BX11/60 -> 10.903545
A12: 2930 | B12: 22.354 | C12: 53.582 | D12: 20.596 | E12: 1.5 | G12: Total mass | H12: =Input!Mass_kg -> 264 | I12: kg | O12: 2890 | P12: =(($H$10*$H$14*($H$5-$H$7)-(AQ12*($H$5-($H$10*$H$9)))))/(H$34*($H$5-($H$9*$H$10))) -> 13.156798 | Q12: =(($H$10*$H$14*($H$5-$H$7)-(AR12*($H$5-($H$10*$H$9)))))/(I$34*($H$5-($H$9*$H$10))) -> 13.575341 | R12: =(($H$10*$H$14*($H$5-$H$7)-(AS12*($H$5-($H$10*$H$9)))))/(J$34*($H$5-($H$9*$H$10))) -> 13.880997 | S12: =(($H$10*$H$14*($H$5-$H$7)-(AT12*($H$5-($H$10*$H$9)))))/(K$34*($H$5-($H$9*$H$10))) -> 13.92869 | T12: =(($H$10*$H$14*($H$5-$H$7)-(AU12*($H$5-($H$10*$H$9)))))/(L$34*($H$5-($H$9*$H$10))) -> 13.975324 | U12: =(($H$10*$H$14*($H$5-$H$7)-(AV12*($H$5-($H$10*$H$9)))))/(M$34*($H$5-($H$9*$H$10))) -> 13.873137 | W12: 2890 | X12: =(($H$14*$H$7)-(AQ12*$H$9))/(H$34*$H$9) -> 9.2763866 | Y12: =(($H$14*$H$7)-(AR12*$H$9))/(I$34*$H$9) -> 9.5575691 | Z12: =(($H$14*$H$7)-(AS12*$H$9))/(J$34*$H$9) -> 9.7536497 | AA12: =(($H$14*$H$7)-(AT12*$H$9))/(K$34*$H$9) -> 9.763477 | AB12: =(($H$14*$H$7)-(AU12*$H$9))/(L$34*$H$9) -> 9.771545 | AC12: =(($H$14*$H$7)-(AV12*$H$9))/(M$34*$H$9) -> 9.6693577 | AG12: 2890 | AH12: =-(($H$13*($H$5-$H$8))/$H$9)-(AQ12/$H$12) -> -10.999315 | AI12: =-(($H$13*($H$5-$H$8))/$H$9)-(AR12/$H$12) -> -11.052634 | AJ12: =-(($H$13*($H$5-$H$8))/$H$9)-(AS12/$H$12) -> -11.123673 | AK12: =-(($H$13*($H$5-$H$8))/$H$9)-(AT12/$H$12) -> -11.210497 | AL12: =-(($H$13*($H$5-$H$8))/$H$9)-(AU12/$H$12) -> -11.299419 | AM12: =-(($H$13*($H$5-$H$8))/$H$9)-(AV12/$H$12) -> -11.409781 | AP12: 2890 | AQ12: =0.5*$L$5*$L$9*$L$7*($BB12^2) -> 19.264438 | AR12: =0.5*$L$5*$L$9*$L$7*($BG12^2) -> 33.340701 | AS12: =0.5*$L$5*$L$9*$L$7*($BL12^2) -> 52.094845 | AT12: =0.5*$L$5*$L$9*$L$7*($BQ12^2) -> 75.016577 | AU12: =0.5*$L$5*$L$9*$L$7*($BV12^2) -> 98.491816 | AV12: =0.5*$L$5*$L$9*$L$7*($CA12^2) -> 127.62745 | AX12: 2890 | AY12: ='Max limit'!AX12*Input!PrimaryDrive_ratio*Input!Gear1_ratio*Input!FinalDrive_ratio -> 255.05301 | AZ12: =AY12 / 60 -> 4.2508836 | BA12: =AZ12*Input!$N$23 -> 10002.321 | BB12: =BA12/1000 -> 10.002321 | BC12: 2890 | BD12: ='Max limit'!AX12*Input!PrimaryDrive_ratio*Input!Gear2_ratio*Input!FinalDrive_ratio -> 335.53641 | BE12: =BD12/60 -> 5.5922735 | BF12: =BE12*Input!$N$23 -> 13158.608 | BG12: =BF12/1000 -> 13.158608 | BH12: 2890 | BI12: ='Max limit'!AX12*Input!PrimaryDrive_ratio*Input!Gear3_ratio*Input!FinalDrive_ratio -> 419.42051 | BJ12: =BI12/60 -> 6.9903419 | BK12: =BJ12*Input!$N$23 -> 16448.26 | BL12: =BK12/1000 -> 16.44826 | BM12: 2890 | BN12: ='Max limit'!AX12*Input!PrimaryDrive_ratio*Input!Gear4_ratio*Input!FinalDrive_ratio -> 503.30462 | BO12: =BN12/60 -> 8.3884103 | BP12: =BO12*Input!$N$23 -> 19737.913 | BQ12: =BP12/1000 -> 19.737913 | BR12: 2890 | BS12: ='Max limit'!AX12*Input!PrimaryDrive_ratio*Input!Gear5_ratio*Input!FinalDrive_ratio -> 576.70321 | BT12: =BS12/60 -> 9.6117201 | BU12: =BT12*Input!$N$23 -> 22616.358 | BV12: =BU12/1000 -> 22.616358 | BW12: 2890 | BX12: ='Max limit'!AX12*Input!PrimaryDrive_ratio*Input!Gear6_ratio*Input!FinalDrive_ratio -> 656.48428 | BY12: =BX12/60 -> 10.941405 | BZ12: =BY12*Input!$N$23 -> 25745.103 | CA12: =BZ12/1000 -> 25.745103 | CC12: 2890 | CD12: =MROUND($BB12,0.5) -> 10 | CE12: =MROUND($BG12,0.5) -> 13 | CF12: =MROUND($BL12,0.5) -> 16.5 | CG12: =MROUND($BQ12,0.5) -> 19.5 | CH12: =MROUND($BV12,0.5) -> 22.5 | CI12: =MROUND($CA12,0.5) -> 25.5 | CK12: 2890 | CL12: =$AY12/60 -> 4.2508836 | CM12: =$BD12/60 -> 5.5922735 | CN12: =$BI12/60 -> 6.9903419 | CO12: =$BN12/60 -> 8.3884103 | CP12: =$BS12/60 -> 9.6117201 | CQ12: =$BX12/60 -> 10.941405
A13: 2940 | B13: 22.709 | C13: 54.249 | D13: 20.942 | E13: 1.505 | G13: Gravity | H13: 9.81 | I13: m/s² | O13: 2900 | P13: =(($H$10*$H$14*($H$5-$H$7)-(AQ13*($H$5-($H$10*$H$9)))))/(H$34*($H$5-($H$9*$H$10))) -> 13.156366 | Q13: =(($H$10*$H$14*($H$5-$H$7)-(AR13*($H$5-($H$10*$H$9)))))/(I$34*($H$5-($H$9*$H$10))) -> 13.574566 | R13: =(($H$10*$H$14*($H$5-$H$7)-(AS13*($H$5-($H$10*$H$9)))))/(J$34*($H$5-($H$9*$H$10))) -> 13.879753 | S13: =(($H$10*$H$14*($H$5-$H$7)-(AT13*($H$5-($H$10*$H$9)))))/(K$34*($H$5-($H$9*$H$10))) -> 13.926882 | T13: =(($H$10*$H$14*($H$5-$H$7)-(AU13*($H$5-($H$10*$H$9)))))/(L$34*($H$5-($H$9*$H$10))) -> 13.97293 | U13: =(($H$10*$H$14*($H$5-$H$7)-(AV13*($H$5-($H$10*$H$9)))))/(M$34*($H$5-($H$9*$H$10))) -> 13.870034 | W13: 2900 | X13: =(($H$14*$H$7)-(AQ13*$H$9))/(H$34*$H$9) -> 9.2759542 | Y13: =(($H$14*$H$7)-(AR13*$H$9))/(I$34*$H$9) -> 9.5567944 | Z13: =(($H$14*$H$7)-(AS13*$H$9))/(J$34*$H$9) -> 9.7524061 | AA13: =(($H$14*$H$7)-(AT13*$H$9))/(K$34*$H$9) -> 9.7616698 | AB13: =(($H$14*$H$7)-(AU13*$H$9))/(L$34*$H$9) -> 9.7691503 | AC13: =(($H$14*$H$7)-(AV13*$H$9))/(M$34*$H$9) -> 9.6662546 | AG13: 2900 | AH13: =-(($H$13*($H$5-$H$8))/$H$9)-(AQ13/$H$12) -> -10.999821 | AI13: =-(($H$13*($H$5-$H$8))/$H$9)-(AR13/$H$12) -> -11.05351 | AJ13: =-(($H$13*($H$5-$H$8))/$H$9)-(AS13/$H$12) -> -11.125041 | AK13: =-(($H$13*($H$5-$H$8))/$H$9)-(AT13/$H$12) -> -11.212467 | AL13: =-(($H$13*($H$5-$H$8))/$H$9)-(AU13/$H$12) -> -11.302005 | AM13: =-(($H$13*($H$5-$H$8))/$H$9)-(AV13/$H$12) -> -11.413132 | AP13: 2900 | AQ13: =0.5*$L$5*$L$9*$L$7*($BB13^2) -> 19.397986 | AR13: =0.5*$L$5*$L$9*$L$7*($BG13^2) -> 33.571831 | AS13: =0.5*$L$5*$L$9*$L$7*($BL13^2) -> 52.455987 | AT13: =0.5*$L$5*$L$9*$L$7*($BQ13^2) -> 75.536621 | AU13: =0.5*$L$5*$L$9*$L$7*($BV13^2) -> 99.1746 | AV13: =0.5*$L$5*$L$9*$L$7*($CA13^2) -> 128.51221 | AX13: 2900 | AY13: ='Max limit'!AX13*Input!PrimaryDrive_ratio*Input!Gear1_ratio*Input!FinalDrive_ratio -> 255.93555 | AZ13: =AY13 / 60 -> 4.2655925 | BA13: =AZ13*Input!$N$23 -> 10036.931 | BB13: =BA13/1000 -> 10.036931 | BC13: 2900 | BD13: ='Max limit'!AX13*Input!PrimaryDrive_ratio*Input!Gear2_ratio*Input!FinalDrive_ratio -> 336.69744 | BE13: =BD13/60 -> 5.6116239 | BF13: =BE13*Input!$N$23 -> 13204.14 | BG13: =BF13/1000 -> 13.20414 | BH13: 2900 | BI13: ='Max limit'!AX13*Input!PrimaryDrive_ratio*Input!Gear3_ratio*Input!FinalDrive_ratio -> 420.87179 | BJ13: =BI13/60 -> 7.0145299 | BK13: =BJ13*Input!$N$23 -> 16505.175 | BL13: =BK13/1000 -> 16.505175 | BM13: 2900 | BN13: ='Max limit'!AX13*Input!PrimaryDrive_ratio*Input!Gear4_ratio*Input!FinalDrive_ratio -> 505.04615 | BO13: =BN13/60 -> 8.4174359 | BP13: =BO13*Input!$N$23 -> 19806.21 | BQ13: =BP13/1000 -> 19.80621 | BR13: 2900 | BS13: ='Max limit'!AX13*Input!PrimaryDrive_ratio*Input!Gear5_ratio*Input!FinalDrive_ratio -> 578.69872 | BT13: =BS13/60 -> 9.6449786 | BU13: =BT13*Input!$N$23 -> 22694.615 | BV13: =BU13/1000 -> 22.694615 | BW13: 2900 | BX13: ='Max limit'!AX13*Input!PrimaryDrive_ratio*Input!Gear6_ratio*Input!FinalDrive_ratio -> 658.75585 | BY13: =BX13/60 -> 10.979264 | BZ13: =BY13*Input!$N$23 -> 25834.187 | CA13: =BZ13/1000 -> 25.834187 | CC13: 2900 | CD13: =MROUND($BB13,0.5) -> 10 | CE13: =MROUND($BG13,0.5) -> 13 | CF13: =MROUND($BL13,0.5) -> 16.5 | CG13: =MROUND($BQ13,0.5) -> 20 | CH13: =MROUND($BV13,0.5) -> 22.5 | CI13: =MROUND($CA13,0.5) -> 26 | CK13: 2900 | CL13: =$AY13/60 -> 4.2655925 | CM13: =$BD13/60 -> 5.6116239 | CN13: =$BI13/60 -> 7.0145299 | CO13: =$BN13/60 -> 8.4174359 | CP13: =$BS13/60 -> 9.6449786 | CQ13: =$BX13/60 -> 10.979264
A14: 2950 | B14: 23.064 | C14: 54.91 | D14: 21.288 | E14: 1.51 | G14: MG | H14: =Input!Mass_kg * H13 -> 2589.84 | I14: kg | O14: 2910 | P14: =(($H$10*$H$14*($H$5-$H$7)-(AQ14*($H$5-($H$10*$H$9)))))/(H$34*($H$5-($H$9*$H$10))) -> 13.155932 | Q14: =(($H$10*$H$14*($H$5-$H$7)-(AR14*($H$5-($H$10*$H$9)))))/(I$34*($H$5-($H$9*$H$10))) -> 13.573788 | R14: =(($H$10*$H$14*($H$5-$H$7)-(AS14*($H$5-($H$10*$H$9)))))/(J$34*($H$5-($H$9*$H$10))) -> 13.878505 | S14: =(($H$10*$H$14*($H$5-$H$7)-(AT14*($H$5-($H$10*$H$9)))))/(K$34*($H$5-($H$9*$H$10))) -> 13.925069 | T14: =(($H$10*$H$14*($H$5-$H$7)-(AU14*($H$5-($H$10*$H$9)))))/(L$34*($H$5-($H$9*$H$10))) -> 13.970527 | U14: =(($H$10*$H$14*($H$5-$H$7)-(AV14*($H$5-($H$10*$H$9)))))/(M$34*($H$5-($H$9*$H$10))) -> 13.86692 | W14: 2910 | X14: =(($H$14*$H$7)-(AQ14*$H$9))/(H$34*$H$9) -> 9.2755204 | Y14: =(($H$14*$H$7)-(AR14*$H$9))/(I$34*$H$9) -> 9.5560169 | Z14: =(($H$14*$H$7)-(AS14*$H$9))/(J$34*$H$9) -> 9.7511582 | AA14: =(($H$14*$H$7)-(AT14*$H$9))/(K$34*$H$9) -> 9.7598564 | AB14: =(($H$14*$H$7)-(AU14*$H$9))/(L$34*$H$9) -> 9.7667473 | AC14: =(($H$14*$H$7)-(AV14*$H$9))/(M$34*$H$9) -> 9.6631408 | AG14: 2910 | AH14: =-(($H$13*($H$5-$H$8))/$H$9)-(AQ14/$H$12) -> -11.000328 | AI14: =-(($H$13*($H$5-$H$8))/$H$9)-(AR14/$H$12) -> -11.054388 | AJ14: =-(($H$13*($H$5-$H$8))/$H$9)-(AS14/$H$12) -> -11.126413 | AK14: =-(($H$13*($H$5-$H$8))/$H$9)-(AT14/$H$12) -> -11.214444 | AL14: =-(($H$13*($H$5-$H$8))/$H$9)-(AU14/$H$12) -> -11.3046 | AM14: =-(($H$13*($H$5-$H$8))/$H$9)-(AV14/$H$12) -> -11.416495 | AP14: 2910 | AQ14: =0.5*$L$5*$L$9*$L$7*($BB14^2) -> 19.531996 | AR14: =0.5*$L$5*$L$9*$L$7*($BG14^2) -> 33.80376 | AS14: =0.5*$L$5*$L$9*$L$7*($BL14^2) -> 52.818376 | AT14: =0.5*$L$5*$L$9*$L$7*($BQ14^2) -> 76.058461 | AU14: =0.5*$L$5*$L$9*$L$7*($BV14^2) -> 99.859742 | AV14: =0.5*$L$5*$L$9*$L$7*($CA14^2) -> 129.40003 | AX14: 2910 | AY14: ='Max limit'!AX14*Input!PrimaryDrive_ratio*Input!Gear1_ratio*Input!FinalDrive_ratio -> 256.81809 | AZ14: =AY14 / 60 -> 4.2803015 | BA14: =AZ14*Input!$N$23 -> 10071.541 | BB14: =BA14/1000 -> 10.071541 | BC14: 2910 | BD14: ='Max limit'!AX14*Input!PrimaryDrive_ratio*Input!Gear2_ratio*Input!FinalDrive_ratio -> 337.85846 | BE14: =BD14/60 -> 5.6309744 | BF14: =BE14*Input!$N$23 -> 13249.671 | BG14: =BF14/1000 -> 13.249671 | BH14: 2910 | BI14: ='Max limit'!AX14*Input!PrimaryDrive_ratio*Input!Gear3_ratio*Input!FinalDrive_ratio -> 422.32308 | BJ14: =BI14/60 -> 7.0387179 | BK14: =BJ14*Input!$N$23 -> 16562.089 | BL14: =BK14/1000 -> 16.562089 | BM14: 2910 | BN14: ='Max limit'!AX14*Input!PrimaryDrive_ratio*Input!Gear4_ratio*Input!FinalDrive_ratio -> 506.78769 | BO14: =BN14/60 -> 8.4464615 | BP14: =BO14*Input!$N$23 -> 19874.507 | BQ14: =BP14/1000 -> 19.874507 | BR14: 2910 | BS14: ='Max limit'!AX14*Input!PrimaryDrive_ratio*Input!Gear5_ratio*Input!FinalDrive_ratio -> 580.69423 | BT14: =BS14/60 -> 9.6782372 | BU14: =BT14*Input!$N$23 -> 22772.873 | BV14: =BU14/1000 -> 22.772873 | BW14: 2910 | BX14: ='Max limit'!AX14*Input!PrimaryDrive_ratio*Input!Gear6_ratio*Input!FinalDrive_ratio -> 661.02742 | BY14: =BX14/60 -> 11.017124 | BZ14: =BY14*Input!$N$23 -> 25923.27 | CA14: =BZ14/1000 -> 25.92327 | CC14: 2910 | CD14: =MROUND($BB14,0.5) -> 10 | CE14: =MROUND($BG14,0.5) -> 13 | CF14: =MROUND($BL14,0.5) -> 16.5 | CG14: =MROUND($BQ14,0.5) -> 20 | CH14: =MROUND($BV14,0.5) -> 23 | CI14: =MROUND($CA14,0.5) -> 26 | CK14: 2910 | CL14: =$AY14/60 -> 4.2803015 | CM14: =$BD14/60 -> 5.6309744 | CN14: =$BI14/60 -> 7.0387179 | CO14: =$BN14/60 -> 8.4464615 | CP14: =$BS14/60 -> 9.6782372 | CQ14: =$BX14/60 -> 11.017124
A15: 2960 | B15: 23.419 | C15: 55.568 | D15: 21.634 | E15: 1.515 | G15: Wheel radius | H15: =0.326 -> 0.326 | O15: 2920 | P15: =(($H$10*$H$14*($H$5-$H$7)-(AQ15*($H$5-($H$10*$H$9)))))/(H$34*($H$5-($H$9*$H$10))) -> 13.155497 | Q15: =(($H$10*$H$14*($H$5-$H$7)-(AR15*($H$5-($H$10*$H$9)))))/(I$34*($H$5-($H$9*$H$10))) -> 13.573008 | R15: =(($H$10*$H$14*($H$5-$H$7)-(AS15*($H$5-($H$10*$H$9)))))/(J$34*($H$5-($H$9*$H$10))) -> 13.877253 | S15: =(($H$10*$H$14*($H$5-$H$7)-(AT15*($H$5-($H$10*$H$9)))))/(K$34*($H$5-($H$9*$H$10))) -> 13.923249 | T15: =(($H$10*$H$14*($H$5-$H$7)-(AU15*($H$5-($H$10*$H$9)))))/(L$34*($H$5-($H$9*$H$10))) -> 13.968115 | U15: =(($H$10*$H$14*($H$5-$H$7)-(AV15*($H$5-($H$10*$H$9)))))/(M$34*($H$5-($H$9*$H$10))) -> 13.863796 | W15: 2920 | X15: =(($H$14*$H$7)-(AQ15*$H$9))/(H$34*$H$9) -> 9.275085 | Y15: =(($H$14*$H$7)-(AR15*$H$9))/(I$34*$H$9) -> 9.5552368 | Z15: =(($H$14*$H$7)-(AS15*$H$9))/(J$34*$H$9) -> 9.749906 | AA15: =(($H$14*$H$7)-(AT15*$H$9))/(K$34*$H$9) -> 9.7580367 | AB15: =(($H$14*$H$7)-(AU15*$H$9))/(L$34*$H$9) -> 9.764336 | AC15: =(($H$14*$H$7)-(AV15*$H$9))/(M$34*$H$9) -> 9.6600162 | AG15: 2920 | AH15: =-(($H$13*($H$5-$H$8))/$H$9)-(AQ15/$H$12) -> -11.000838 | AI15: =-(($H$13*($H$5-$H$8))/$H$9)-(AR15/$H$12) -> -11.05527 | AJ15: =-(($H$13*($H$5-$H$8))/$H$9)-(AS15/$H$12) -> -11.127791 | AK15: =-(($H$13*($H$5-$H$8))/$H$9)-(AT15/$H$12) -> -11.216427 | AL15: =-(($H$13*($H$5-$H$8))/$H$9)-(AU15/$H$12) -> -11.307204 | AM15: =-(($H$13*($H$5-$H$8))/$H$9)-(AV15/$H$12) -> -11.41987 | AP15: 2920 | AQ15: =0.5*$L$5*$L$9*$L$7*($BB15^2) -> 19.666467 | AR15: =0.5*$L$5*$L$9*$L$7*($BG15^2) -> 34.036488 | AS15: =0.5*$L$5*$L$9*$L$7*($BL15^2) -> 53.182012 | AT15: =0.5*$L$5*$L$9*$L$7*($BQ15^2) -> 76.582098 | AU15: =0.5*$L$5*$L$9*$L$7*($BV15^2) -> 100.54724 | AV15: =0.5*$L$5*$L$9*$L$7*($CA15^2) -> 130.2909 | AX15: 2920 | AY15: ='Max limit'!AX15*Input!PrimaryDrive_ratio*Input!Gear1_ratio*Input!FinalDrive_ratio -> 257.70062 | AZ15: =AY15 / 60 -> 4.2950104 | BA15: =AZ15*Input!$N$23 -> 10106.151 | BB15: =BA15/1000 -> 10.106151 | BC15: 2920 | BD15: ='Max limit'!AX15*Input!PrimaryDrive_ratio*Input!Gear2_ratio*Input!FinalDrive_ratio -> 339.01949 | BE15: =BD15/60 -> 5.6503248 | BF15: =BE15*Input!$N$23 -> 13295.203 | BG15: =BF15/1000 -> 13.295203 | BH15: 2920 | BI15: ='Max limit'!AX15*Input!PrimaryDrive_ratio*Input!Gear3_ratio*Input!FinalDrive_ratio -> 423.77436 | BJ15: =BI15/60 -> 7.062906 | BK15: =BJ15*Input!$N$23 -> 16619.004 | BL15: =BK15/1000 -> 16.619004 | BM15: 2920 | BN15: ='Max limit'!AX15*Input!PrimaryDrive_ratio*Input!Gear4_ratio*Input!FinalDrive_ratio -> 508.52923 | BO15: =BN15/60 -> 8.4754872 | BP15: =BO15*Input!$N$23 -> 19942.804 | BQ15: =BP15/1000 -> 19.942804 | BR15: 2920 | BS15: ='Max limit'!AX15*Input!PrimaryDrive_ratio*Input!Gear5_ratio*Input!FinalDrive_ratio -> 582.68974 | BT15: =BS15/60 -> 9.7114957 | BU15: =BT15*Input!$N$23 -> 22851.13 | BV15: =BU15/1000 -> 22.85113 | BW15: 2920 | BX15: ='Max limit'!AX15*Input!PrimaryDrive_ratio*Input!Gear6_ratio*Input!FinalDrive_ratio -> 663.299 | BY15: =BX15/60 -> 11.054983 | BZ15: =BY15*Input!$N$23 -> 26012.354 | CA15: =BZ15/1000 -> 26.012354 | CC15: 2920 | CD15: =MROUND($BB15,0.5) -> 10 | CE15: =MROUND($BG15,0.5) -> 13.5 | CF15: =MROUND($BL15,0.5) -> 16.5 | CG15: =MROUND($BQ15,0.5) -> 20 | CH15: =MROUND($BV15,0.5) -> 23 | CI15: =MROUND($CA15,0.5) -> 26 | CK15: 2920 | CL15: =$AY15/60 -> 4.2950104 | CM15: =$BD15/60 -> 5.6503248 | CN15: =$BI15/60 -> 7.062906 | CO15: =$BN15/60 -> 8.4754872 | CP15: =$BS15/60 -> 9.7114957 | CQ15: =$BX15/60 -> 11.054983
A16: 2970 | B16: 23.775 | C16: 56.222 | D16: 21.981 | E16: 1.52 | G16: Max torque | H16: =MAX(C2:C200) -> 102.041 | O16: 2930 | P16: =(($H$10*$H$14*($H$5-$H$7)-(AQ16*($H$5-($H$10*$H$9)))))/(H$34*($H$5-($H$9*$H$10))) -> 13.15506 | Q16: =(($H$10*$H$14*($H$5-$H$7)-(AR16*($H$5-($H$10*$H$9)))))/(I$34*($H$5-($H$9*$H$10))) -> 13.572225 | R16: =(($H$10*$H$14*($H$5-$H$7)-(AS16*($H$5-($H$10*$H$9)))))/(J$34*($H$5-($H$9*$H$10))) -> 13.875997 | S16: =(($H$10*$H$14*($H$5-$H$7)-(AT16*($H$5-($H$10*$H$9)))))/(K$34*($H$5-($H$9*$H$10))) -> 13.921423 | T16: =(($H$10*$H$14*($H$5-$H$7)-(AU16*($H$5-($H$10*$H$9)))))/(L$34*($H$5-($H$9*$H$10))) -> 13.965696 | U16: =(($H$10*$H$14*($H$5-$H$7)-(AV16*($H$5-($H$10*$H$9)))))/(M$34*($H$5-($H$9*$H$10))) -> 13.86066 | W16: 2930 | X16: =(($H$14*$H$7)-(AQ16*$H$9))/(H$34*$H$9) -> 9.2746482 | Y16: =(($H$14*$H$7)-(AR16*$H$9))/(I$34*$H$9) -> 9.554454 | Z16: =(($H$14*$H$7)-(AS16*$H$9))/(J$34*$H$9) -> 9.7486496 | AA16: =(($H$14*$H$7)-(AT16*$H$9))/(K$34*$H$9) -> 9.7562107 | AB16: =(($H$14*$H$7)-(AU16*$H$9))/(L$34*$H$9) -> 9.7619165 | AC16: =(($H$14*$H$7)-(AV16*$H$9))/(M$34*$H$9) -> 9.6568809 | AG16: 2930 | AH16: =-(($H$13*($H$5-$H$8))/$H$9)-(AQ16/$H$12) -> -11.001349 | AI16: =-(($H$13*($H$5-$H$8))/$H$9)-(AR16/$H$12) -> -11.056154 | AJ16: =-(($H$13*($H$5-$H$8))/$H$9)-(AS16/$H$12) -> -11.129173 | AK16: =-(($H$13*($H$5-$H$8))/$H$9)-(AT16/$H$12) -> -11.218418 | AL16: =-(($H$13*($H$5-$H$8))/$H$9)-(AU16/$H$12) -> -11.309818 | AM16: =-(($H$13*($H$5-$H$8))/$H$9)-(AV16/$H$12) -> -11.423256 | AP16: 2930 | AQ16: =0.5*$L$5*$L$9*$L$7*($BB16^2) -> 19.8014 | AR16: =0.5*$L$5*$L$9*$L$7*($BG16^2) -> 34.270014 | AS16: =0.5*$L$5*$L$9*$L$7*($BL16^2) -> 53.546896 | AT16: =0.5*$L$5*$L$9*$L$7*($BQ16^2) -> 77.107531 | AU16: =0.5*$L$5*$L$9*$L$7*($BV16^2) -> 101.2371 | AV16: =0.5*$L$5*$L$9*$L$7*($CA16^2) -> 131.18484 | AX16: 2930 | AY16: ='Max limit'!AX16*Input!PrimaryDrive_ratio*Input!Gear1_ratio*Input!FinalDrive_ratio -> 258.58316 | AZ16: =AY16 / 60 -> 4.3097193 | BA16: =AZ16*Input!$N$23 -> 10140.761 | BB16: =BA16/1000 -> 10.140761 | BC16: 2930 | BD16: ='Max limit'!AX16*Input!PrimaryDrive_ratio*Input!Gear2_ratio*Input!FinalDrive_ratio -> 340.18051 | BE16: =BD16/60 -> 5.6696752 | BF16: =BE16*Input!$N$23 -> 13340.734 | BG16: =BF16/1000 -> 13.340734 | BH16: 2930 | BI16: ='Max limit'!AX16*Input!PrimaryDrive_ratio*Input!Gear3_ratio*Input!FinalDrive_ratio -> 425.22564 | BJ16: =BI16/60 -> 7.087094 | BK16: =BJ16*Input!$N$23 -> 16675.918 | BL16: =BK16/1000 -> 16.675918 | BM16: 2930 | BN16: ='Max limit'!AX16*Input!PrimaryDrive_ratio*Input!Gear4_ratio*Input!FinalDrive_ratio -> 510.27077 | BO16: =BN16/60 -> 8.5045128 | BP16: =BO16*Input!$N$23 -> 20011.102 | BQ16: =BP16/1000 -> 20.011102 | BR16: 2930 | BS16: ='Max limit'!AX16*Input!PrimaryDrive_ratio*Input!Gear5_ratio*Input!FinalDrive_ratio -> 584.68526 | BT16: =BS16/60 -> 9.7447543 | BU16: =BT16*Input!$N$23 -> 22929.387 | BV16: =BU16/1000 -> 22.929387 | BW16: 2930 | BX16: ='Max limit'!AX16*Input!PrimaryDrive_ratio*Input!Gear6_ratio*Input!FinalDrive_ratio -> 665.57057 | BY16: =BX16/60 -> 11.092843 | BZ16: =BY16*Input!$N$23 -> 26101.437 | CA16: =BZ16/1000 -> 26.101437 | CC16: 2930 | CD16: =MROUND($BB16,0.5) -> 10 | CE16: =MROUND($BG16,0.5) -> 13.5 | CF16: =MROUND($BL16,0.5) -> 16.5 | CG16: =MROUND($BQ16,0.5) -> 20 | CH16: =MROUND($BV16,0.5) -> 23 | CI16: =MROUND($CA16,0.5) -> 26 | CK16: 2930 | CL16: =$AY16/60 -> 4.3097193 | CM16: =$BD16/60 -> 5.6696752 | CN16: =$BI16/60 -> 7.087094 | CO16: =$BN16/60 -> 8.5045128 | CP16: =$BS16/60 -> 9.7447543 | CQ16: =$BX16/60 -> 11.092843
A17: 2980 | B17: 24.156 | C17: 56.93 | D17: 22.344 | E17: 1.533 | G17: RPM at max torque | H17: =INDEX($A$2:$A$200, MATCH(H16, $C$2:$C$200, 0)) -> 3930 | O17: 2940 | P17: =(($H$10*$H$14*($H$5-$H$7)-(AQ17*($H$5-($H$10*$H$9)))))/(H$34*($H$5-($H$9*$H$10))) -> 13.154622 | Q17: =(($H$10*$H$14*($H$5-$H$7)-(AR17*($H$5-($H$10*$H$9)))))/(I$34*($H$5-($H$9*$H$10))) -> 13.57144 | R17: =(($H$10*$H$14*($H$5-$H$7)-(AS17*($H$5-($H$10*$H$9)))))/(J$34*($H$5-($H$9*$H$10))) -> 13.874736 | S17: =(($H$10*$H$14*($H$5-$H$7)-(AT17*($H$5-($H$10*$H$9)))))/(K$34*($H$5-($H$9*$H$10))) -> 13.919591 | T17: =(($H$10*$H$14*($H$5-$H$7)-(AU17*($H$5-($H$10*$H$9)))))/(L$34*($H$5-($H$9*$H$10))) -> 13.963268 | U17: =(($H$10*$H$14*($H$5-$H$7)-(AV17*($H$5-($H$10*$H$9)))))/(M$34*($H$5-($H$9*$H$10))) -> 13.857514 | W17: 2940 | X17: =(($H$14*$H$7)-(AQ17*$H$9))/(H$34*$H$9) -> 9.2742098 | Y17: =(($H$14*$H$7)-(AR17*$H$9))/(I$34*$H$9) -> 9.5536685 | Z17: =(($H$14*$H$7)-(AS17*$H$9))/(J$34*$H$9) -> 9.7473888 | AA17: =(($H$14*$H$7)-(AT17*$H$9))/(K$34*$H$9) -> 9.7543785 | AB17: =(($H$14*$H$7)-(AU17*$H$9))/(L$34*$H$9) -> 9.7594887 | AC17: =(($H$14*$H$7)-(AV17*$H$9))/(M$34*$H$9) -> 9.6537349 | AG17: 2940 | AH17: =-(($H$13*($H$5-$H$8))/$H$9)-(AQ17/$H$12) -> -11.001862 | AI17: =-(($H$13*($H$5-$H$8))/$H$9)-(AR17/$H$12) -> -11.057042 | AJ17: =-(($H$13*($H$5-$H$8))/$H$9)-(AS17/$H$12) -> -11.13056 | AK17: =-(($H$13*($H$5-$H$8))/$H$9)-(AT17/$H$12) -> -11.220415 | AL17: =-(($H$13*($H$5-$H$8))/$H$9)-(AU17/$H$12) -> -11.31244 | AM17: =-(($H$13*($H$5-$H$8))/$H$9)-(AV17/$H$12) -> -11.426654 | AP17: 2940 | AQ17: =0.5*$L$5*$L$9*$L$7*($BB17^2) -> 19.936794 | AR17: =0.5*$L$5*$L$9*$L$7*($BG17^2) -> 34.504338 | AS17: =0.5*$L$5*$L$9*$L$7*($BL17^2) -> 53.913028 | AT17: =0.5*$L$5*$L$9*$L$7*($BQ17^2) -> 77.63476 | AU17: =0.5*$L$5*$L$9*$L$7*($BV17^2) -> 101.92932 | AV17: =0.5*$L$5*$L$9*$L$7*($CA17^2) -> 132.08182 | AX17: 2940 | AY17: ='Max limit'!AX17*Input!PrimaryDrive_ratio*Input!Gear1_ratio*Input!FinalDrive_ratio -> 259.4657 | AZ17: =AY17 / 60 -> 4.3244283 | BA17: =AZ17*Input!$N$23 -> 10175.371 | BB17: =BA17/1000 -> 10.175371 | BC17: 2940 | BD17: ='Max limit'!AX17*Input!PrimaryDrive_ratio*Input!Gear2_ratio*Input!FinalDrive_ratio -> 341.34154 | BE17: =BD17/60 -> 5.6890256 | BF17: =BE17*Input!$N$23 -> 13386.266 | BG17: =BF17/1000 -> 13.386266 | BH17: 2940 | BI17: ='Max limit'!AX17*Input!PrimaryDrive_ratio*Input!Gear3_ratio*Input!FinalDrive_ratio -> 426.67692 | BJ17: =BI17/60 -> 7.1112821 | BK17: =BJ17*Input!$N$23 -> 16732.832 | BL17: =BK17/1000 -> 16.732832 | BM17: 2940 | BN17: ='Max limit'!AX17*Input!PrimaryDrive_ratio*Input!Gear4_ratio*Input!FinalDrive_ratio -> 512.01231 | BO17: =BN17/60 -> 8.5335385 | BP17: =BO17*Input!$N$23 -> 20079.399 | BQ17: =BP17/1000 -> 20.079399 | BR17: 2940 | BS17: ='Max limit'!AX17*Input!PrimaryDrive_ratio*Input!Gear5_ratio*Input!FinalDrive_ratio -> 586.68077 | BT17: =BS17/60 -> 9.7780128 | BU17: =BT17*Input!$N$23 -> 23007.645 | BV17: =BU17/1000 -> 23.007645 | BW17: 2940 | BX17: ='Max limit'!AX17*Input!PrimaryDrive_ratio*Input!Gear6_ratio*Input!FinalDrive_ratio -> 667.84214 | BY17: =BX17/60 -> 11.130702 | BZ17: =BY17*Input!$N$23 -> 26190.52 | CA17: =BZ17/1000 -> 26.19052 | CC17: 2940 | CD17: =MROUND($BB17,0.5) -> 10 | CE17: =MROUND($BG17,0.5) -> 13.5 | CF17: =MROUND($BL17,0.5) -> 16.5 | CG17: =MROUND($BQ17,0.5) -> 20 | CH17: =MROUND($BV17,0.5) -> 23 | CI17: =MROUND($CA17,0.5) -> 26 | CK17: 2940 | CL17: =$AY17/60 -> 4.3244283 | CM17: =$BD17/60 -> 5.6890256 | CN17: =$BI17/60 -> 7.1112821 | CO17: =$BN17/60 -> 8.5335385 | CP17: =$BS17/60 -> 9.7780128 | CQ17: =$BX17/60 -> 11.130702
