Workbook

Sheet CW1
C1: Part 1 | D1: Part 2 | E1: TOTAL | F1: Notes
A2: Dyke | B2: Iwan | C2: 40 | D2: 40 | E2: =(C2+D2) -> 80
A3: Gaylard | B3: Benjamin | C3: 26 | D3: 24 | E3: =(C3+D3) -> 50
A4: Hudson | B4: Kyle | C4: 32 | D4: 25 | E4: =(C4+D4) -> 57
A5: Raveenthiran | B5: Sameeran | C5: 28 | D5: 26 | E5: =(C5+D5) -> 54
A6: Simons | B6: Ashleigh | C6: 35 | D6: 39 | E6: =(C6+D6) -> 74
A7: Thomas | B7: Dylan | C7: 39 | D7: 42 | E7: =(C7+D7) -> 81
A8: Windsor | B8: Karen | C8: 36 | D8: 39 | E8: =(C8+D8) -> 75
B10: Mean | C10: =AVERAGE(C2:C8) -> 33.714286 | D10: =AVERAGE(D2:D8) -> 33.571429 | E10: =AVERAGE(E2:E7) -> 66
B11: SD | C11: =STDEV(C2:C8) -> 5.3139529 | D11: =STDEV(D2:D8) -> 8.1005585 | E11: =STDEV(E2:E7) -> 13.89964

Sheet CW2
C1: Purpose | D1: Dataset description | E1: Pre-processing | F1: Data Analysis (Visual) | G1: Data Analysis (Data Mining) | H1: Business Recommendations | I1: Reflection | J1: TOTAL | K1: Notes | P1: Grade | Q1: Mark
A2: Dyke | B2: Iwan | C2: 6 | D2: 7 | E2: 6 | F2: 4 | G2: 6 | H2: 6 | I2: 6 | J2: =ROUND((VLOOKUP(C2,$P$2:$Q$11,2,FALSE)*0.1)+(VLOOKUP(D2,$P$2:$Q$11,2,FALSE)*0.15)+(VLOOKUP(E2,$P$2:$Q$11,2,FALSE)*0.25)+(VLOOKUP(F2,$P$2:$Q$11,2,FALSE)*0.15)+(VLOOKUP(G2,$P$2:$Q$11,2,FALSE)*0.15)+(VLOOKUP(H2,$P$2:$Q$11,2,FALSE)*0.1)+(VLOOKUP(I2,$P$2:$Q$11,2,FALSE)*0.1),0) -> 72 | P2: 7 | Q2: 100
A3: Gaylard | B3: Benjamin | C3: 4.5 | D3: 3 | E3: 3 | F3: 1 | G3: 6 | H3: 3 | I3: 3 | J3: =ROUND((VLOOKUP(C3,$P$2:$Q$11,2,FALSE)*0.1)+(VLOOKUP(D3,$P$2:$Q$11,2,FALSE)*0.15)+(VLOOKUP(E3,$P$2:$Q$11,2,FALSE)*0.25)+(VLOOKUP(F3,$P$2:$Q$11,2,FALSE)*0.15)+(VLOOKUP(G3,$P$2:$Q$11,2,FALSE)*0.15)+(VLOOKUP(H3,$P$2:$Q$11,2,FALSE)*0.1)+(VLOOKUP(I3,$P$2:$Q$11,2,FALSE)*0.1),0) -> 42 | P3: 6.5 | Q3: 85
A4: Hudson | B4: Kyle | C4: 6 | D4: 3 | E4: 5.5 | F4: 5.5 | G4: 6 | H4: 6 | I4: 5.5 | J4: =ROUND((VLOOKUP(C4,$P$2:$Q$11,2,FALSE)*0.1)+(VLOOKUP(D4,$P$2:$Q$11,2,FALSE)*0.15)+(VLOOKUP(E4,$P$2:$Q$11,2,FALSE)*0.25)+(VLOOKUP(F4,$P$2:$Q$11,2,FALSE)*0.15)+(VLOOKUP(G4,$P$2:$Q$11,2,FALSE)*0.15)+(VLOOKUP(H4,$P$2:$Q$11,2,FALSE)*0.1)+(VLOOKUP(I4,$P$2:$Q$11,2,FALSE)*0.1),0) -> 63 | P4: 6 | Q4: 70
A5: Raveenthiran | B5: Sameeran | C5: 3 | D5: 3 | E5: 1 | F5: 6 | G5: 1 | H5: 4.5 | I5: 1 | J5: =ROUND((VLOOKUP(C5,$P$2:$Q$11,2,FALSE)*0.1)+(VLOOKUP(D5,$P$2:$Q$11,2,FALSE)*0.15)+(VLOOKUP(E5,$P$2:$Q$11,2,FALSE)*0.25)+(VLOOKUP(F5,$P$2:$Q$11,2,FALSE)*0.15)+(VLOOKUP(G5,$P$2:$Q$11,2,FALSE)*0.15)+(VLOOKUP(H5,$P$2:$Q$11,2,FALSE)*0.1)+(VLOOKUP(I5,$P$2:$Q$11,2,FALSE)*0.1),0) -> 31 | P5: 5.5 | Q5: 65
A6: Simons | B6: Ashleigh | C6: 4 | D6: 3 | E6: 5 | F6: 5 | G6: 5 | H6: 5 | I6: 5 | J6: =ROUND((VLOOKUP(C6,$P$2:$Q$11,2,FALSE)*0.1)+(VLOOKUP(D6,$P$2:$Q$11,2,FALSE)*0.15)+(VLOOKUP(E6,$P$2:$Q$11,2,FALSE)*0.25)+(VLOOKUP(F6,$P$2:$Q$11,2,FALSE)*0.15)+(VLOOKUP(G6,$P$2:$Q$11,2,FALSE)*0.15)+(VLOOKUP(H6,$P$2:$Q$11,2,FALSE)*0.1)+(VLOOKUP(I6,$P$2:$Q$11,2,FALSE)*0.1),0) -> 56 | L6: Mean | M6: =AVERAGE(J2:J7) -> 56.333333 | P6: 5 | Q6: 60
A7: Thomas | B7: Dylan | C7: 7 | D7: 7 | E7: 6 | F7: 5 | G7: 6 | H7: 5 | I7: 5 | J7: =ROUND((VLOOKUP(C7,$P$2:$Q$11,2,FALSE)*0.1)+(VLOOKUP(D7,$P$2:$Q$11,2,FALSE)*0.15)+(VLOOKUP(E7,$P$2:$Q$11,2,FALSE)*0.25)+(VLOOKUP(F7,$P$2:$Q$11,2,FALSE)*0.15)+(VLOOKUP(G7,$P$2:$Q$11,2,FALSE)*0.15)+(VLOOKUP(H7,$P$2:$Q$11,2,FALSE)*0.1)+(VLOOKUP(I7,$P$2:$Q$11,2,FALSE)*0.1),0) -> 74 | L7: SD | M7: =STDEV(J2:J7) -> 17.025471 | P7: 4.5 | Q7: 55
A8: Windsor | B8: Karen | C8: 4 | D8: 7 | E8: 6 | F8: 6 | G8: 6 | H8: 6 | I8: 6 | J8: =ROUND((VLOOKUP(C8,$P$2:$Q$11,2,FALSE)*0.1)+(VLOOKUP(D8,$P$2:$Q$11,2,FALSE)*0.15)+(VLOOKUP(E8,$P$2:$Q$11,2,FALSE)*0.25)+(VLOOKUP(F8,$P$2:$Q$11,2,FALSE)*0.15)+(VLOOKUP(G8,$P$2:$Q$11,2,FALSE)*0.15)+(VLOOKUP(H8,$P$2:$Q$11,2,FALSE)*0.1)+(VLOOKUP(I8,$P$2:$Q$11,2,FALSE)*0.1),0) -> 73 | P8: 4 | Q8: 50
P9: 3 | Q9: 40
P10: 2 | Q10: 20
P11: 1 | Q11: 10

Sheet Overall
C1: CW1 | D1: CW2 | E1: TOTAL | F1: Notes
A2: Dyke | B2: Iwan | C2: ='CW1'!E2 -> 80 | D2: ='CW2'!$J$2 -> 72 | E2: =(C2+D2)/2 -> 76
A3: Gaylard | B3: Benjamin | C3: ='CW1'!E3 -> 50 | D3: ='CW2'!$J$3 -> 42 | E3: =(C3+D3)/2 -> 46
A4: Hudson | B4: Kyle | C4: ='CW1'!E4 -> 57 | D4: ='CW2'!$J$4 -> 63 | E4: =(C4+D4)/2 -> 60
A5: Raveenthiran | B5: Sameeran | C5: ='CW1'!E5 -> 54 | D5: ='CW2'!$J$5 -> 31 | E5: =(C5+D5)/2 -> 42.5
A6: Simons | B6: Ashleigh | C6: ='CW1'!E6 -> 74 | D6: ='CW2'!$J$6 -> 56 | E6: =(C6+D6)/2 -> 65
A7: Thomas | B7: Dylan | C7: ='CW1'!E7 -> 81 | D7: ='CW2'!$J$7 -> 74 | E7: =(C7+D7)/2 -> 77.5
A8: Windsor | B8: Karen | C8: ='CW1'!E8 -> 75 | D8: ='CW2'!$J$8 -> 73 | E8: =(C8+D8)/2 -> 74
B10: Mean | C10: =AVERAGE(C2:C7) -> 66 | D10: =AVERAGE(D2:D7) -> 56.333333 | E10: =AVERAGE(E2:E7) -> 61.166667
B11: SD | C11: =STDEV(C2:C7) -> 13.89964 | D11: =STDEV(D2:D7) -> 17.025471 | E11: =STDEV(E2:E7) -> 14.706008
