Workbook

Sheet Sheet1
B2: Alternative Propilsion Systems (ACHA5010)
B3: Kinetic Energy Rcovery
B4: 45305
B5: Audi SQ5 TDI quattro Diesel (FY 2021)
B13: Dynamic Vehicle Charicteristics
B14: Chosen Vehicle | F14: Audi Q5 (FY 2021) 40 TFSI quattro
B15: Kurb Mass | G15: 2102 | I15: kg
B16: Test Mass | G16: =G15+H26 -> 2202 | I16: kg
B17: Frontal Area | G17: 2.64 | I17: m^2
B18: Rated Power | G18: 251000 | I18: W
B19: Power/Curb Mass Ratio | G19: =G18/G15 -> 119.41009
B20: Top Speed | E20: V_Max | F20: 155mph | G20: 250 | I20: kph
B21: Drag Coefficient | G21: 0.3
B22: Rolling Resistance Coefficient from Tyres | G22: 0.013 | K22: Assumption - Page 20 in BOOK 'Car Tyres on Concrete or Asphalt Road'
B23: Required WLTP | G23: Class 2 (version 5)
G24: Class 3a
B26: Test Mass | F26: 75kg for driver + 25kg for Cargo | H26: 100 | I26: kg
B27: Actual MASS | G27: =G16/9.81 -> 224.46483

Sheet Formula
B2: All used equations/assumption for this Excel Document are here:
B4: Air Resitance | O4: Air Density (at sea level at 15C) | S4: 1.202 | T4: kg/m^3
O5: Gravity | S5: 9.81 | T5: m/s^2
B9: 1/2 * AirDensity * Car Frontal Area * AeroDragCoefficient * (VehicleVelocity)^2
B11: Rolling Resistance
B15: RollingResistanceCoefficient * (TestMass)
B17: Gradient Resistance
B18: Assuming No Gradient for WLTP
B20: Inertia Resistance
B26: MassofCar * Acceleration
B27: (MassofCar + MassofRotatingParts) * Acceleration
B29: Total Resistance
B33: RollingResistance + AeroResistance + IntertialResistance

Sheet Graphs
AO54: Updated Figures (without Discharging)
AP55: 30 Seconds | AR55: 30 Minutes | AT55: 300 Minutes (5 hours)
AP56: 1 Zone | AR56: All Zones | AT56: 'Real Life' | BA56: Efficiencies
AO57: kJ | AP57: 518 | AR57: 5832.2 | AT57: =AR57*10 -> 58322 | BA57: in | BC57: out | BE57: in/out | BF57: =6.6/(165*60) -> 0.00066666667
AO58: kWh | AP58: =AP57/3600 -> 0.14388889 | AR58: =AR57/3600 -> 1.6200556 | AT58: =AT57/3600 -> 16.200556 | BA58: Wheel | BB58: 1 | BC58: battery | BD58: 0.92
AO59: kW | BA59: Transmotor | BB59: 0.85 | BC59: controller | BD59: 0.95
AO60: V | AP60: 288 | AR60: 288 | AT60: 288 | BA60: controller | BB60: 0.95 | BC60: transmotor | BD60: 0.85
AO61: Ah | AP61: =(AP58*1000)/AP60 -> 0.4996142 | AR61: =(AR58*1000)/AR60 -> 5.6251929 | AT61: =(AT58*1000)/AT60 -> 56.251929 | BA61: battery | BB61: 0.66 | BC61: wheel | BD61: 1
BA62: % | BB62: =BB59*BB60*BB61 -> 0.53295 | BD62: =BD58*BD59*BD60 -> 0.7429 | BE62: =BB62*BD62 -> 0.39592856
AO63: Battery Specs
AO64: Module Spec | AR64: Whole Battery | AT64: Using Inverter
AO65: v | AP65: 9.6 | AR65: 288 | AT65: 650
AO66: Ah | AP66: 6.5 | AR66: 6.5 | AT66: 6.5
AO67: kWh | AP67: 0.0624 | AR67: 1.872 | AT67: 4.2276
AO68: kW | AP68: 45 | AR68: 45 | AT68: 45 | AV68: PRIUS
AO69: Estimated Motor Efficiency | AR69: 0.85 | AT69: Estimated Battery efficiency | AW69: 0.7 | AX69: Page 350
B127: Braking for 222 Seconds | N127: 369 | O127: =N127-222 -> 147 | Z127: 516 | AA127: =Z127-N127 -> 147 | AL127: 601 | AM127: =AL127-Z127 -> 85
B128: Cumulative 514.2kJ | N128: 1237.1 | O128: =N128-514.2 -> 722.9 | Z128: 1862.3 | AA128: =Z128-N128 -> 625.2 | AL128: 2332.9 | AM128: =AL128-Z128 -> 470.6
B129: % Time is Braking | D129: =222/589 -> 0.37691002 | O129: =O127/433 -> 0.33949192 | AA129: =AA127/455 -> 0.32307692 | AM129: =AM127/323 -> 0.26315789
N130: Goes over 45kW for a couple seconds so wouldn't be able to charge all that energy at that rate

Sheet Sheet2
B1: Phase | C1: Total elapsed time | D1: Phase elapsed time | E1: WLTC class 3, version 5, vehicle speed | F1: WLTC class 3, version 5, acceleration | G1: WLTC class 3, version 5, acceleration | I1: Velocity | J1: Inertia/Acceleration Resistance | K1: Rolling Resistance | L1: Aero Resistance | M1: Total Resistance | O1: Power Required | P1: Power Required | Q1: Power Required, ignoring braking | R1: Power Required, ignoring braking | S1: Cumulative Energy Required | T1: Cumulative Energy Required | U1: Deceleration Power? Braking Power | V1: Deceleration Power? Braking Power | W1: Available Energy per Braking Zone | X1: Possible Harvest and Discharge Amount (40%) | Y1: Cumulative Possible Harvest and Discharge Amount (40%) | Z1: Required Charge Rate | AA1: Duration of Braking Zone | AB1: Cumulative duration of Braking Zone | AC1: Braking? | AD1: Cumulative Deceleration Energy | AF1: Cumulative Total Resistance (Difference between Tractive and Braking) | AG1: Potential Deceleration Energy in Magnitude Order | AI1: Kinetic Energy | AJ1: Kinetic Energy | AK1: Possible Charge Kinetic Energy (53%) | AL1: Possible Discharge Kinetic Energy (74%) | AN1: Possible Harvest and Discharge Amount (40%)
B2: Phase | C2: s | D2: s | E2: km/h | F2: m/s² | G2: km/h/s | I2: m/s | J2: N | K2: N | L2: N | M2: N | O2: W | P2: kW | Q2: W | R2: kW | S2: J | T2: kJ | U2: W | V2: kW | W2: kJ | X2: kJ | Z2: kW | AA2: s | AB2: s | AD2: kJ | AF2: kJ | AG2: kJ | AI2: J | AJ2: kJ | AK2: kJ | AL2: kJ | AN2: kJ
AB3: =IF(AA4=0,AA3,0) -> 0
B4: Low | C4: 0 | D4: 0 | E4: 0 | F4: =($E5-0)/2/3.6 -> 0 | G4: =($E5-0)/2 -> 0 | I4: =E4 * (1000/3600) -> 0 | J4: =F4*2202 -> 0 | K4: =0.013*(2202) -> 28.626 | L4: =0.5*1.202*2.64*0.3*Sheet2!I4^2 -> 0 | M4: =J4+K4+L4 -> 28.626 | O4: =I4*M4 -> 0 | P4: =O4/1000 -> 0 | Q4: =IF(O4<=0,0,O4) -> 0 | R4: =Q4/1000 -> 0 | S4: =Q4+S3 -> 0 | T4: =S4/1000 -> 0 | U4: =IF(O4>=0,0,(O4*-1)) -> 0 | V4: =U4/1000 -> 0 | W4: =IF(V4=0,0,V4+W3) -> 0 | X4: =V4*0.4 -> 0 | Y4: =X4+Y3 -> 0 | Z4: =IF(AB4>0,W4/AB4,0) -> 0 | AA4: =IF(W4=0,0,AA3+1) -> 0 | AB4: =IF(AA5=0,AA4,0) -> 0 | AC4: =IF(AA4=0,AC3,AC3+1) -> 0 | AD4: =V4+AD3 -> 0 | AF4: =T4-AD4 -> 0 | AG4: 46.145331 | AH4: - | AI4: =0.5*((2022/9.81)*I4)^2 -> 0 | AJ4: =AI4/1000 -> 0 | AK4: =AJ4*0.53 -> 0 | AL4: =AK4*0.74 -> 0 | AN4: 18.458132
B5: Low | C5: 1 | D5: 1 | E5: 0 | F5: =($E6-$E4)/2/3.6 -> 0 | G5: =($E6-$E4)/2 -> 0 | I5: =E5 * (1000/3600) -> 0 | J5: =F5*2202 -> 0 | K5: =0.013*(2202) -> 28.626 | L5: =0.5*1.202*2.64*0.3*Sheet2!I5^2 -> 0 | M5: =J5+K5+L5 -> 28.626 | O5: =I5*M5 -> 0 | P5: =O5/1000 -> 0 | Q5: =IF(O5<=0,0,O5) -> 0 | R5: =Q5/1000 -> 0 | S5: =Q5+S4 -> 0 | T5: =S5/1000 -> 0 | U5: =IF(O5>=0,0,(O5*-1)) -> 0 | V5: =U5/1000 -> 0 | W5: =IF(V5=0,0,V5+W4) -> 0 | X5: =V5*0.4 -> 0 | Y5: =X5+Y4 -> 0 | Z5: =IF(AB5>0,W5/AB5,0) -> 0 | AA5: =IF(W5=0,0,AA4+1) -> 0 | AB5: =IF(AA6=0,AA5,0) -> 0 | AC5: =IF(AA5=0,AC4,AC4+1) -> 0 | AD5: =V5+AD4 -> 0 | AF5: =T5-AD5 -> 0 | AG5: 46.145331 | AH5: - | AI5: =0.5*((2022/9.81)*I5)^2 -> 0 | AJ5: =AI5/1000 -> 0 | AK5: =AJ5*0.53 -> 0 | AL5: =AK5*0.74 -> 0 | AN5: 18.458132
B6: Low | C6: 2 | D6: 2 | E6: 0 | F6: =($E7-$E5)/2/3.6 -> 0 | G6: =($E7-$E5)/2 -> 0 | I6: =E6 * (1000/3600) -> 0 | J6: =F6*2202 -> 0 | K6: =0.013*(2202) -> 28.626 | L6: =0.5*1.202*2.64*0.3*Sheet2!I6^2 -> 0 | M6: =J6+K6+L6 -> 28.626 | O6: =I6*M6 -> 0 | P6: =O6/1000 -> 0 | Q6: =IF(O6<=0,0,O6) -> 0 | R6: =Q6/1000 -> 0 | S6: =Q6+S5 -> 0 | T6: =S6/1000 -> 0 | U6: =IF(O6>=0,0,(O6*-1)) -> 0 | V6: =U6/1000 -> 0 | W6: =IF(V6=0,0,V6+W5) -> 0 | X6: =V6*0.4 -> 0 | Y6: =X6+Y5 -> 0 | Z6: =IF(AB6>0,W6/AB6,0) -> 0 | AA6: =IF(W6=0,0,AA5+1) -> 0 | AB6: =IF(AA7=0,AA6,0) -> 0 | AC6: =IF(AA6=0,AC5,AC5+1) -> 0 | AD6: =V6+AD5 -> 0 | AF6: =T6-AD6 -> 0 | AG6: 44.239846 | AH6: - | AI6: =0.5*((2022/9.81)*I6)^2 -> 0 | AJ6: =AI6/1000 -> 0 | AK6: =AJ6*0.53 -> 0 | AL6: =AK6*0.74 -> 0 | AN6: 17.695938
B7: Low | C7: 3 | D7: 3 | E7: 0 | F7: =($E8-$E6)/2/3.6 -> 0 | G7: =($E8-$E6)/2 -> 0 | I7: =E7 * (1000/3600) -> 0 | J7: =F7*2202 -> 0 | K7: =0.013*(2202) -> 28.626 | L7: =0.5*1.202*2.64*0.3*Sheet2!I7^2 -> 0 | M7: =J7+K7+L7 -> 28.626 | O7: =I7*M7 -> 0 | P7: =O7/1000 -> 0 | Q7: =IF(O7<=0,0,O7) -> 0 | R7: =Q7/1000 -> 0 | S7: =Q7+S6 -> 0 | T7: =S7/1000 -> 0 | U7: =IF(O7>=0,0,(O7*-1)) -> 0 | V7: =U7/1000 -> 0 | W7: =IF(V7=0,0,V7+W6) -> 0 | X7: =V7*0.4 -> 0 | Y7: =X7+Y6 -> 0 | Z7: =IF(AB7>0,W7/AB7,0) -> 0 | AA7: =IF(W7=0,0,AA6+1) -> 0 | AB7: =IF(AA8=0,AA7,0) -> 0 | AC7: =IF(AA7=0,AC6,AC6+1) -> 0 | AD7: =V7+AD6 -> 0 | AF7: =T7-AD7 -> 0 | AG7: 43.760246 | AH7: - | AI7: =0.5*((2022/9.81)*I7)^2 -> 0 | AJ7: =AI7/1000 -> 0 | AK7: =AJ7*0.53 -> 0 | AL7: =AK7*0.74 -> 0 | AN7: 17.504099
B8: Low | C8: 4 | D8: 4 | E8: 0 | F8: =($E9-$E7)/2/3.6 -> 0 | G8: =($E9-$E7)/2 -> 0 | I8: =E8 * (1000/3600) -> 0 | J8: =F8*2202 -> 0 | K8: =0.013*(2202) -> 28.626 | L8: =0.5*1.202*2.64*0.3*Sheet2!I8^2 -> 0 | M8: =J8+K8+L8 -> 28.626 | O8: =I8*M8 -> 0 | P8: =O8/1000 -> 0 | Q8: =IF(O8<=0,0,O8) -> 0 | R8: =Q8/1000 -> 0 | S8: =Q8+S7 -> 0 | T8: =S8/1000 -> 0 | U8: =IF(O8>=0,0,(O8*-1)) -> 0 | V8: =U8/1000 -> 0 | W8: =IF(V8=0,0,V8+W7) -> 0 | X8: =V8*0.4 -> 0 | Y8: =X8+Y7 -> 0 | Z8: =IF(AB8>0,W8/AB8,0) -> 0 | AA8: =IF(W8=0,0,AA7+1) -> 0 | AB8: =IF(AA9=0,AA8,0) -> 0 | AC8: =IF(AA8=0,AC7,AC7+1) -> 0 | AD8: =V8+AD7 -> 0 | AF8: =T8-AD8 -> 0 | AG8: 42.49296 | AH8: - | AI8: =0.5*((2022/9.81)*I8)^2 -> 0 | AJ8: =AI8/1000 -> 0 | AK8: =AJ8*0.53 -> 0 | AL8: =AK8*0.74 -> 0 | AN8: 16.997184
B9: Low | C9: 5 | D9: 5 | E9: 0 | F9: =($E10-$E8)/2/3.6 -> 0 | G9: =($E10-$E8)/2 -> 0 | I9: =E9 * (1000/3600) -> 0 | J9: =F9*2202 -> 0 | K9: =0.013*(2202) -> 28.626 | L9: =0.5*1.202*2.64*0.3*Sheet2!I9^2 -> 0 | M9: =J9+K9+L9 -> 28.626 | O9: =I9*M9 -> 0 | P9: =O9/1000 -> 0 | Q9: =IF(O9<=0,0,O9) -> 0 | R9: =Q9/1000 -> 0 | S9: =Q9+S8 -> 0 | T9: =S9/1000 -> 0 | U9: =IF(O9>=0,0,(O9*-1)) -> 0 | V9: =U9/1000 -> 0 | W9: =IF(V9=0,0,V9+W8) -> 0 | X9: =V9*0.4 -> 0 | Y9: =X9+Y8 -> 0 | Z9: =IF(AB9>0,W9/AB9,0) -> 0 | AA9: =IF(W9=0,0,AA8+1) -> 0 | AB9: =IF(AA10=0,AA9,0) -> 0 | AC9: =IF(AA9=0,AC8,AC8+1) -> 0 | AD9: =V9+AD8 -> 0 | AF9: =T9-AD9 -> 0 | AG9: 39.650364 | AH9: - | AI9: =0.5*((2022/9.81)*I9)^2 -> 0 | AJ9: =AI9/1000 -> 0 | AK9: =AJ9*0.53 -> 0 | AL9: =AK9*0.74 -> 0 | AN9: 15.860146
B10: Low | C10: 6 | D10: 6 | E10: 0 | F10: =($E11-$E9)/2/3.6 -> 0 | G10: =($E11-$E9)/2 -> 0 | I10: =E10 * (1000/3600) -> 0 | J10: =F10*2202 -> 0 | K10: =0.013*(2202) -> 28.626 | L10: =0.5*1.202*2.64*0.3*Sheet2!I10^2 -> 0 | M10: =J10+K10+L10 -> 28.626 | O10: =I10*M10 -> 0 | P10: =O10/1000 -> 0 | Q10: =IF(O10<=0,0,O10) -> 0 | R10: =Q10/1000 -> 0 | S10: =Q10+S9 -> 0 | T10: =S10/1000 -> 0 | U10: =IF(O10>=0,0,(O10*-1)) -> 0 | V10: =U10/1000 -> 0 | W10: =IF(V10=0,0,V10+W9) -> 0 | X10: =V10*0.4 -> 0 | Y10: =X10+Y9 -> 0 | Z10: =IF(AB10>0,W10/AB10,0) -> 0 | AA10: =IF(W10=0,0,AA9+1) -> 0 | AB10: =IF(AA11=0,AA10,0) -> 0 | AC10: =IF(AA10=0,AC9,AC9+1) -> 0 | AD10: =V10+AD9 -> 0 | AF10: =T10-AD10 -> 0 | AG10: 39.011238 | AH10: - | AI10: =0.5*((2022/9.81)*I10)^2 -> 0 | AJ10: =AI10/1000 -> 0 | AK10: =AJ10*0.53 -> 0 | AL10: =AK10*0.74 -> 0 | AN10: 15.604495
B11: Low | C11: 7 | D11: 7 | E11: 0 | F11: =($E12-$E10)/2/3.6 -> 0 | G11: =($E12-$E10)/2 -> 0 | I11: =E11 * (1000/3600) -> 0 | J11: =F11*2202 -> 0 | K11: =0.013*(2202) -> 28.626 | L11: =0.5*1.202*2.64*0.3*Sheet2!I11^2 -> 0 | M11: =J11+K11+L11 -> 28.626 | O11: =I11*M11 -> 0 | P11: =O11/1000 -> 0 | Q11: =IF(O11<=0,0,O11) -> 0 | R11: =Q11/1000 -> 0 | S11: =Q11+S10 -> 0 | T11: =S11/1000 -> 0 | U11: =IF(O11>=0,0,(O11*-1)) -> 0 | V11: =U11/1000 -> 0 | W11: =IF(V11=0,0,V11+W10) -> 0 | X11: =V11*0.4 -> 0 | Y11: =X11+Y10 -> 0 | Z11: =IF(AB11>0,W11/AB11,0) -> 0 | AA11: =IF(W11=0,0,AA10+1) -> 0 | AB11: =IF(AA12=0,AA11,0) -> 0 | AC11: =IF(AA11=0,AC10,AC10+1) -> 0 | AD11: =V11+AD10 -> 0 | AF11: =T11-AD11 -> 0 | AG11: 39.011238 | AH11: - | AI11: =0.5*((2022/9.81)*I11)^2 -> 0 | AJ11: =AI11/1000 -> 0 | AK11: =AJ11*0.53 -> 0 | AL11: =AK11*0.74 -> 0 | AN11: 15.604495
B12: Low | C12: 8 | D12: 8 | E12: 0 | F12: =($E13-$E11)/2/3.6 -> 0 | G12: =($E13-$E11)/2 -> 0 | I12: =E12 * (1000/3600) -> 0 | J12: =F12*2202 -> 0 | K12: =0.013*(2202) -> 28.626 | L12: =0.5*1.202*2.64*0.3*Sheet2!I12^2 -> 0 | M12: =J12+K12+L12 -> 28.626 | O12: =I12*M12 -> 0 | P12: =O12/1000 -> 0 | Q12: =IF(O12<=0,0,O12) -> 0 | R12: =Q12/1000 -> 0 | S12: =Q12+S11 -> 0 | T12: =S12/1000 -> 0 | U12: =IF(O12>=0,0,(O12*-1)) -> 0 | V12: =U12/1000 -> 0 | W12: =IF(V12=0,0,V12+W11) -> 0 | X12: =V12*0.4 -> 0 | Y12: =X12+Y11 -> 0 | Z12: =IF(AB12>0,W12/AB12,0) -> 0 | AA12: =IF(W12=0,0,AA11+1) -> 0 | AB12: =IF(AA13=0,AA12,0) -> 0 | AC12: =IF(AA12=0,AC11,AC11+1) -> 0 | AD12: =V12+AD11 -> 0 | AF12: =T12-AD12 -> 0 | AG12: 38.633499 | AH12: - | AI12: =0.5*((2022/9.81)*I12)^2 -> 0 | AJ12: =AI12/1000 -> 0 | AK12: =AJ12*0.53 -> 0 | AL12: =AK12*0.74 -> 0 | AN12: 15.4534
B13: Low | C13: 9 | D13: 9 | E13: 0 | F13: =($E14-$E12)/2/3.6 -> 0 | G13: =($E14-$E12)/2 -> 0 | I13: =E13 * (1000/3600) -> 0 | J13: =F13*2202 -> 0 | K13: =0.013*(2202) -> 28.626 | L13: =0.5*1.202*2.64*0.3*Sheet2!I13^2 -> 0 | M13: =J13+K13+L13 -> 28.626 | O13: =I13*M13 -> 0 | P13: =O13/1000 -> 0 | Q13: =IF(O13<=0,0,O13) -> 0 | R13: =Q13/1000 -> 0 | S13: =Q13+S12 -> 0 | T13: =S13/1000 -> 0 | U13: =IF(O13>=0,0,(O13*-1)) -> 0 | V13: =U13/1000 -> 0 | W13: =IF(V13=0,0,V13+W12) -> 0 | X13: =V13*0.4 -> 0 | Y13: =X13+Y12 -> 0 | Z13: =IF(AB13>0,W13/AB13,0) -> 0 | AA13: =IF(W13=0,0,AA12+1) -> 0 | AB13: =IF(AA14=0,AA13,0) -> 0 | AC13: =IF(AA13=0,AC12,AC12+1) -> 0 | AD13: =V13+AD12 -> 0 | AF13: =T13-AD13 -> 0 | AG13: 37.931308 | AH13: - | AI13: =0.5*((2022/9.81)*I13)^2 -> 0 | AJ13: =AI13/1000 -> 0 | AK13: =AJ13*0.53 -> 0 | AL13: =AK13*0.74 -> 0 | AN13: 15.172523
B14: Low | C14: 10 | D14: 10 | E14: 0 | F14: =($E15-$E13)/2/3.6 -> 0 | G14: =($E15-$E13)/2 -> 0 | I14: =E14 * (1000/3600) -> 0 | J14: =F14*2202 -> 0 | K14: =0.013*(2202) -> 28.626 | L14: =0.5*1.202*2.64*0.3*Sheet2!I14^2 -> 0 | M14: =J14+K14+L14 -> 28.626 | O14: =I14*M14 -> 0 | P14: =O14/1000 -> 0 | Q14: =IF(O14<=0,0,O14) -> 0 | R14: =Q14/1000 -> 0 | S14: =Q14+S13 -> 0 | T14: =S14/1000 -> 0 | U14: =IF(O14>=0,0,(O14*-1)) -> 0 | V14: =U14/1000 -> 0 | W14: =IF(V14=0,0,V14+W13) -> 0 | X14: =V14*0.4 -> 0 | Y14: =X14+Y13 -> 0 | Z14: =IF(AB14>0,W14/AB14,0) -> 0 | AA14: =IF(W14=0,0,AA13+1) -> 0 | AB14: =IF(AA15=0,AA14,0) -> 0 | AC14: =IF(AA14=0,AC13,AC13+1) -> 0 | AD14: =V14+AD13 -> 0 | AF14: =T14-AD14 -> 0 | AG14: 37.652417 | AH14: - | AI14: =0.5*((2022/9.81)*I14)^2 -> 0 | AJ14: =AI14/1000 -> 0 | AK14: =AJ14*0.53 -> 0 | AL14: =AK14*0.74 -> 0 | AN14: 15.060967
B15: Low | C15: 11 | D15: 11 | E15: 0 | F15: =($E16-$E14)/2/3.6 -> 0.027777778 | G15: =($E16-$E14)/2 -> 0.1 | I15: =E15 * (1000/3600) -> 0 | J15: =F15*2202 -> 61.166667 | K15: =0.013*(2202) -> 28.626 | L15: =0.5*1.202*2.64*0.3*Sheet2!I15^2 -> 0 | M15: =J15+K15+L15 -> 89.792667 | O15: =I15*M15 -> 0 | P15: =O15/1000 -> 0 | Q15: =IF(O15<=0,0,O15) -> 0 | R15: =Q15/1000 -> 0 | S15: =Q15+S14 -> 0 | T15: =S15/1000 -> 0 | U15: =IF(O15>=0,0,(O15*-1)) -> 0 | V15: =U15/1000 -> 0 | W15: =IF(V15=0,0,V15+W14) -> 0 | X15: =V15*0.4 -> 0 | Y15: =X15+Y14 -> 0 | Z15: =IF(AB15>0,W15/AB15,0) -> 0 | AA15: =IF(W15=0,0,AA14+1) -> 0 | AB15: =IF(AA16=0,AA15,0) -> 0 | AC15: =IF(AA15=0,AC14,AC14+1) -> 0 | AD15: =V15+AD14 -> 0 | AF15: =T15-AD15 -> 0 | AG15: 36.236291 | AH15: - | AI15: =0.5*((2022/9.81)*I15)^2 -> 0 | AJ15: =AI15/1000 -> 0 | AK15: =AJ15*0.53 -> 0 | AL15: =AK15*0.74 -> 0 | AN15: 14.494517
B16: Low | C16: 12 | D16: 12 | E16: 0.2 | F16: =($E17-$E15)/2/3.6 -> 0.23611111 | G16: =($E17-$E15)/2 -> 0.85 | I16: =E16 * (1000/3600) -> 0.055555556 | J16: =F16*2202 -> 519.91667 | K16: =0.013*(2202) -> 28.626 | L16: =0.5*1.202*2.64*0.3*Sheet2!I16^2 -> 0.0014691111 | M16: =J16+K16+L16 -> 548.54414 | O16: =I16*M16 -> 30.474674 | P16: =O16/1000 -> 0.030474674 | Q16: =IF(O16<=0,0,O16) -> 30.474674 | R16: =Q16/1000 -> 0.030474674 | S16: =Q16+S15 -> 30.474674 | T16: =S16/1000 -> 0.030474674 | U16: =IF(O16>=0,0,(O16*-1)) -> 0 | V16: =U16/1000 -> 0 | W16: =IF(V16=0,0,V16+W15) -> 0 | X16: =V16*0.4 -> 0 | Y16: =X16+Y15 -> 0 | Z16: =IF(AB16>0,W16/AB16,0) -> 0 | AA16: =IF(W16=0,0,AA15+1) -> 0 | AB16: =IF(AA17=0,AA16,0) -> 0 | AC16: =IF(AA16=0,AC15,AC15+1) -> 0 | AD16: =V16+AD15 -> 0 | AF16: =T16-AD16 -> 0.030474674 | AG16: 35.555075 | AH16: - | AI16: =0.5*((2022/9.81)*I16)^2 -> 65.56156 | AJ16: =AI16/1000 -> 0.06556156 | AK16: =AJ16*0.53 -> 0.034747627 | AL16: =AK16*0.74 -> 0.025713244 | AN16: 14.22203
... B1804: Extra-high | C1804: 1800 | D1804: 323 | E1804: 0 | F1804: =($E1805-$E1803)/2/3.6 -> 0 | G1804: =($E1805-$E1803)/2 -> 0 | I1804: =E1804 * (1000/3600) -> 0 | J1804: =F1804*2202 -> 0 | K1804: =0.013*(2202) -> 28.626 | L1804: =0.5*1.202*2.64*0.3*Sheet2!I1804^2 -> 0 | M1804: =J1804+K1804+L1804 -> 28.626 | O1804: =I1804*M1804 -> 0 | P1804: =O1804/1000 -> 0 | Q1804: =IF(O1804<=0,0,O1804) -> 0 | R1804: =Q1804/1000 -> 0 | S1804: =Q1804+S1803 -> 12175449 | T1804: =S1804/1000 -> 12175.449 | U1804: =IF(O1804>=0,0,(O1804*-1)) -> 0 | V1804: =U1804/1000 -> 0 | W1804: =IF(V1804=0,0,V1804+W1803) -> 0 | X1804: =V1804*0.4 -> 0 | Y1804: =X1804+Y1803 -> 2332.8856 | Z1804: =IF(AB1804>0,W1804/AB1804,0) -> 0 | AA1804: =IF(W1804=0,0,AA1803+1) -> 0 | AB1804: =IF(AA1805=0,AA1804,0) -> 0 | AC1804: =IF(AA1804=0,AC1803,AC1803+1) -> 601 | AD1804: =V1804+AD1803 -> 5832.2141 | AF1804: =T1804-AD1804 -> 6343.2354 | AG1804: 0 | AH1804: - | AI1804: =0.5*((2022/9.81)*I1804)^2 -> 0 | AJ1804: =AI1804/1000 -> 0 | AK1804: =AJ1804*0.53 -> 0 | AL1804: =AK1804*0.74 -> 0 | AN1804: 0
B1806: Phase | C1806: s | D1806: s | E1806: km/h | F1806: m/s² | G1806: km/h/s | I1806: m/s | J1806: N | K1806: N | L1806: N | M1806: N | O1806: W | P1806: kW | Q1806: W | R1806: kW | S1806: J | T1806: kJ | U1806: W | V1806: kW | Y1806: kJ | AD1806: kJ | AF1806: kJ
AB1807: =SUM(AB4:AB1804) -> 601
