Workbook

Sheet Grade
B1: Forename | C1: Surname | D1: Practical Component | E1: Written Component | F1: Total
B2: Ruzy | C2: Aktar | D2: 28 | E2: 22 | F2: =ROUND(D2+E2,0) -> 50
B3: Daniel | C3: Algie | D3: 29 | E3: 32 | F3: =ROUND(D3+E3,0) -> 61
B4: Samia | C4: Assebab | D4: 20 | E4: 37 | F4: =ROUND(D4+E4,0) -> 57
B5: Benjamin | C5: Atkins | D5: 30 | E5: 25 | F5: =ROUND(D5+E5,0) -> 55
B6: Patrick | C6: Atkinson | D6: 28 | E6: 48 | F6: =ROUND(D6+E6,0) -> 76
B7: James | C7: Ball | D7: 35 | E7: 40 | F7: =ROUND(D7+E7,0) -> 75
B8: Elliot | C8: Barnett | D8: 31 | E8: 32 | F8: =ROUND(D8+E8,0) -> 63
B9: Joshua | C9: Batchelor | D9: 28 | E9: 17 | F9: =ROUND(D9+E9,0) -> 45
B10: Nyakhama | C10: Bright | D10: 23 | E10: 20 | F10: =ROUND(D10+E10,0) -> 43
B11: Harry | C11: Byrne | D11: 29 | E11: 32 | F11: =ROUND(D11+E11,0) -> 61
B12: Michelle | C12: Chalmers | D12: 30 | E12: 42 | F12: =ROUND(D12+E12,0) -> 72
B13: Kristian | C13: Cole | D13: 37 | E13: 34 | F13: =ROUND(D13+E13,0) -> 71
... B37: Matthew | C37: James | D37: 23 | E37: 17 | F37: =ROUND(D37+E37,0) -> 40
B38: David | C38: Jeffery | D38: 27 | E38: 30 | F38: 40 | G38: LS
B39: Lloyd | C39: Johnson | D39: 33 | E39: 23 | F39: =ROUND(D39+E39,0) -> 56
B40: Richard | C40: Jones | D40: 36 | E40: 37 | F40: =ROUND(D40+E40,0) -> 73
B41: Lowri | C41: Jones | D41: 33 | E41: 30 | F41: =ROUND(D41+E41,0) -> 63
B42: Iwan | C42: Jones | D42: 30 | E42: 28 | F42: =ROUND(D42+E42,0) -> 58
B43: Scott | C43: Jones | D43: 25 | E43: 29 | F43: =ROUND(D43+E43,0) -> 54
B44: Marius | C44: Kalasz | D44: 30 | E44: 24 | F44: 40 | G44: LS
B45: Anne | C45: Kelly | D45: 24 | E45: 45 | F45: =ROUND(D45+E45,0) -> 69
B46: Benjamin | C46: Kiddie | D46: 24 | E46: 52 | F46: =ROUND(D46+E46,0) -> 76
B47: Rhys | C47: Lewis | D47: 30 | E47: 26 | F47: =ROUND(D47+E47,0) -> 56
B48: Kyle | C48: Lovell | D48: 31 | E48: 20 | F48: =ROUND(D48+E48,0) -> 51
B49: Edmund | C49: Mamiso | D49: 20 | E49: 23 | F49: 0 | G49: LS > 1 week
B50: Alexandru | C50: Mardare | D50: 17 | E50: 24 | F50: =ROUND(D50+E50,0) -> 41
B51: Adam | C51: Moore | D51: 25 | E51: 35 | F51: =ROUND(D51+E51,0) -> 60
B52: Ryan | C52: Morgan | D52: 25 | E52: 37 | F52: =ROUND(D52+E52,0) -> 62
B53: Nathan | C53: Morgan | D53: 25 | E53: 28 | F53: =ROUND(D53+E53,0) -> 53
B54: Brian | C54: Morris | D54: 36 | E54: 39 | F54: =ROUND(D54+E54,0) -> 75
B55: Jacob | C55: Moseley | D55: 26 | E55: 27 | F55: =ROUND(D55+E55,0) -> 53
B56: Habib | C56: Muin | D56: 29 | E56: 18 | F56: =ROUND(D56+E56,0) -> 47
B57: Daniel | C57: Odwyer | D57: 30 | E57: 30 | F57: =ROUND(D57+E57,0) -> 60
B58: Neil | C58: Omahoney | D58: 28 | E58: 38 | F58: =ROUND(D58+E58,0) -> 66
B59: Connor | C59: Osborne | D59: 25 | E59: 29 | F59: =ROUND(D59+E59,0) -> 54
B60: Edward | C60: Patch | D60: 21 | E60: 0 | F60: =ROUND(D60+E60,0) -> 21
B61: Katarzyna | C61: Pindel | D61: 34 | E61: 40 | F61: =ROUND(D61+E61,0) -> 74
B62: Joshua | C62: Preece | D62: 28 | E62: 13 | F62: 40 | G62: LS
B63: Thomas | C63: Pritchard | D63: 33 | E63: 26 | F63: =ROUND(D63+E63,0) -> 59
B64: Farhan | C64: Rahman | D64: 37 | E64: 29 | F64: =ROUND(D64+E64,0) -> 66
B65: Jake | C65: Russell | D65: 28 | E65: 18 | F65: 40 | G65: LS
B66: Rebecca | C66: Ryall | D66: 29 | E66: 15 | F66: =ROUND(D66+E66,0) -> 44
B67: Jaime | C67: Serodio | D67: 29 | E67: 0 | F67: =ROUND(D67+E67,0) -> 29
B68: Fathi | C68: Sharif | D68: 27 | E68: 15 | F68: =ROUND(D68+E68,0) -> 42
B69: Kaylie | C69: Shoulder | D69: 30 | E69: 30 | F69: =ROUND(D69+E69,0) -> 60
B70: Anthony | C70: Smith | D70: 30 | E70: 38 | F70: =ROUND(D70+E70,0) -> 68
B71: Siobhan | C71: Stephens | D71: 38 | E71: 50 | F71: =ROUND(D71+E71,0) -> 88
B72: Connor | C72: Stock | D72: 28 | E72: 26 | F72: =ROUND(D72+E72,0) -> 54
B73: Kai | C73: Strand-Regan | D73: 28 | E73: 14 | F73: =ROUND(D73+E73,0) -> 42
B74: Isobel | C74: Sutcliffe | D74: 32 | E74: 30 | F74: =ROUND(D74+E74,0) -> 62
B75: Brett | C75: Thomas | D75: 33 | E75: 33 | F75: =ROUND(D75+E75,0) -> 66
B76: Alex | C76: Thomas | D76: 34 | E76: 29 | F76: =ROUND(D76+E76,0) -> 63
B77: Adam | C77: Vimpany | D77: 27 | E77: 46 | F77: =ROUND(D77+E77,0) -> 73
... B79: Jessica | C79: Williams | D79: 25 | E79: 25 | F79: =ROUND(D79+E79,0) -> 50
B80: Ryan | C80: Williams | D80: 29 | E80: 10 | F80: 40
B81: Lloyd | C81: Willis | D81: 30 | E81: 32 | F81: =ROUND(D81+E81,0) -> 62
B82: Donna | C82: Wright | D82: 33 | E82: 31 | F82: =ROUND(D82+E82,0) -> 64

Sheet Statistics
A1: Stat | B1: Value
A2: Maximum | B2: =MAX(Grade!F2:F82) -> 88
A3: Minimum | B3: =MIN(Grade!F2:F82) -> 0
A4: Average | B4: =AVERAGE(Grade!F2:F82) -> 55.851852
A5: SD | B5: =STDEV(Grade!F2:F82) -> 14.428367
A6: 1 | B6: =COUNTIF(Grade!F2:F82,">=70") -> 13
A7: 2:1 | B7: =COUNTIF(Grade!F2:F82,">=60")-COUNTIF(Grade!F2:F82,">=69") -> 22
A8: 2:2 | B8: =COUNTIF(Grade!F2:F82,">=50")-COUNTIF(Grade!F2:F82,">=59") -> 21
A9: 3 | B9: =COUNTIF(Grade!F2:F82,">=40")-COUNTIF(Grade!F2:F82,">=49") -> 18
A10: F | B10: =COUNTIF(Grade!F2:F82,"<40") -> 5
