Workbook

Sheet Front

Sheet Status
B2: NRM1 Elemental Cost Plan Template
B4: 44867
B12: Document Status
B13: Revision | C13: Date | D13: Status | E13: Prepared by | F13: Checked by | G13: Authorised by
B23: DISCLAIMER
B25: This document and its contents have been prepared and are intended solely for [name of client] information and use in relation to [name of project]
B26: Faithful+Gould assumes no responsibility to any other party in respect of or arising out of or in connection with this document and/or its contents.
B28: COPYRIGHT
B30: The copyright of this document is vested in Faithful+Gould. This document may not be reproduced in whole or in part without their express written permission.

Sheet Information Used
B6: Information Used & Assumptions
B8: 1 | C8: Information Used
C10: Design Drawings;
C12: Innovation Matrix - Ground Floor Shell and Core
C13: Innovation Matrix - Proposed Landscape Plan
C14: Innovation Matrix - First Floor Shell and Core
C15: Innovation Matrix - Existing Site Plan
C16: Innovation Matrix - Roof Plan, Full Building
C17: Innovation Matrix - Elevations
C18: Innovation Matrix - Elevations Detail 1
C19: Innovation Matrix - Elevations Detail 2
C20: Innovation Matrix - Section
C21: Innovation Matrix - Ground Floor Layout, Full Building
C22: Innovation Matrix - First Floor Layout, Full Building
B24: 2 | C24: General Assumptions;
C26: External Works is excluded unless specifically identified within the cost plan.
C27: Cavity Wall with no insulation is assumed.
C28: Costs are based upon the information as provided by drawings or query sheets.
C29: We have assumed a project bank account will not be required for this scheme.
C30: We have assumed that the area of works will be decanted for the project. No allowance is made for throughways or dealing with building occupants.
C31: The exact nature of specification for internal doors, screens, folding partitions and finishes is assumed.
C32: All costs are provisional awaiting design development.
C33: All base costs are based on Q42022
C34: Assumed that WC Suite from spons included WC and hand wash station
C35: Assumed internal walls are timber stud partitions
B37: 3 | C37: General Notes and Exclusions;
C39: All included costs are subject to variation following design development.
C40: Land Costs
C41: A risk allowance of 10% is included for this estimate.
C42: VAT is excluded from the estimate.
C43: Works will be undertaken in a single phase.
C44: Local Authority Fees
C45: Building Regulation fees
C46: Party Wall Awards
C47: Acquisition & associated legals
C48: Provisional demolition cost of £35,000
C49: No foundation drawings, provisional sum of £350/m2
C50: Provisional sum for furnishings and fittings as usage and number of occupants are not known
C51: Provisional sum for services of £350/m2 as no drawings/information given

Sheet Summary Original
B2: Project details: Innovation Matrix
B5: Description: Innovation Matrix
B7: Building Works Estimate
B9: Based on GIA of: 3704.88m2 | G9: 3704.88
C11: Group Element | D11: Element Type | E11: Total | F11: £/m2
C13: Group element 0 | D13: FACILITATING WORKS - excluded from scope | E13: ='NRM1 CP template '!K19 -> 35000 | F13: =E13/G9 -> 9.4469996
C14: Group element 1 | D14: ='NRM1 CP template '!C22 -> SUBSTRUCTURE | E14: ='NRM1 CP template '!K22 -> 716625 | F14: =E14/G9 -> 193.42732
C15: Group element 2 | D15: ='NRM1 CP template '!C36 -> SUPERSTRUCTURE | E15: ='NRM1 CP template '!K36 -> 3275057.3 | F15: =E15/G9 -> 883.9847 | G15: =SUM(F12:F20) -> 3562.6623
C16: Group element 3 | D16: ='NRM1 CP template '!C290 -> INTERNAL FINISHES | E16: ='NRM1 CP template '!K290 -> 423343.37 | F16: =E16/G9 -> 114.26642
C17: Group element 4 | D17: ='NRM1 CP template '!C584 -> FITTINGS AND FURNISHINGS | E17: ='NRM1 CP template '!K584 -> 222292.8 | F17: =E17/G9 -> 60
C18: Group element 5 | D18: ='NRM1 CP template '!C593 -> SERVICES | E18: ='NRM1 CP template '!K593 -> 6518814 | F18: =E18/G9 -> 1759.521
C19: Group element 8 | D19: EXTERNAL WORKS - excluded from scope | E19: 0 | F19: =E19/G9 -> 0
C20: Group element 9 | D20: ='NRM1 CP template '!C629 -> MAIN CONTRACTOR'S PRELIMINARIES | E20: ='NRM1 CP template '!K634 -> 2008103.8 | F20: =E20/G9 -> 542.01589
B22: Works cost estimate (sub total A) | E22: =SUM(E12:E21) -> 13199236 | F22: =E22/G9 -> 3562.6623
B26: Project design team fees and other development costs (sub total B)
B29: Base cost estimate A + B (sub total C) | E29: =E22+E26 -> 13199236 | F29: =E29/G9 -> 3562.6623
C31: Group element 13
C33: Design Contingency | D33: Risk allowance @ 5% | E33: =E29*5% -> 659961.82 | F33: =E33/G9 -> 178.13312
C34: Construction Risk | D34: Risk allowance @ 2.50% | E34: =E29*2.5% -> 329980.91 | F34: =E34/G9 -> 89.066558
C35: Employers Change Risk | D35: Risk allowance @ 2.50% | E35: =E29*2.5% -> 329980.91 | F35: =E35/G9 -> 89.066558
C36: Other Mis. Risk | D36: Risk allowance @ 0% | E36: =E29*0% -> 0 | F36: =E36/G9 -> 0
B38: Total Risk allowances (sub total D) | E38: =SUM(E33:E37) -> 1319923.6 | F38: =E38/G9 -> 356.26623
B40: Total Construction Cost (C + D) | E40: =E29+E38 -> 14519160 | F40: =E40/G9 -> 3918.9285

Sheet NRM1 CP template 
A2: Cost Plan for XXXXXXX
A3: NRM 1 phaseologies
A4: Elemental Cost Plan
C8: Elements in red are NRM1 Phraseologies
A10: Ref. | C10: Element | D10: Timesing | E10: Quantity | G10: Unit | I10: Rate | J10: Sub-Total | K10: Group-Total | L10: Notes
I11: £ | J11: £ | K11: £
C12: GIFA
C13: GF | E13: 25.8
E14: 71.8 | F14: =E13*E14 -> 1852.44
C16: FF | E16: 25.8
E17: 71.8 | F17: =E16*E17 -> 1852.44
F18: =F14+F17 -> 3704.88 | G18: m2
A19: 0 | C19: FACILITATING WORKS - excluded from scope | K19: =J20 -> 35000
A20: 0.1 | C20: Demolition | I20: 35000 | J20: =I20 -> 35000 | L20: Sum stated in query sheet 1
A22: 1 | C22: SUBSTRUCTURE | K22: =J27+J31+J33 -> 716625
A24: 1.1 | C24: Foundations | D24: GF | E24: 27.5
E25: 73 | F25: =(E24*E25) -> 2007.5
F26: =F25 -> 2007.5 | G26: m2
A27: 1.1.1 | I27: 350 | J27: =F26*I27 -> 702625 | L27: Sum stated in query sheet 1
A29: 1.2 | C29: Extra Overs
A31: 1.2.1 | C31: Lift Bases | E31: 2 | F31: 2 | G31: Nr | I31: 2000 | J31: =I31*F31 -> 4000
A33: 1.2.2 | C33: Two Ends of cladding founds | E33: 2 | F33: 2 | G33: Nr | I33: 5000 | J33: =I33*F33 -> 10000
A36: 2 | C36: SUPERSTRUCTURE | K36: =SUM(J39:J288) -> 3275057.3
A38: 2.1 | C38: Frame
C40: Steel frame, composite beam and slab floors,
C41: Suspended slab, permanent steel shuttering with 130 mm thick concrete including steel frame. | F41: =F18 -> 3704.88 | G41: GIFA | I41: 225 | J41: =I41*F41 -> 833598 | L41: Sum stated in query sheet 2
A44: 2.2 | C44: Upper Floors | E44: 26.5
E45: 75 | F45: =(E44*E45) -> 1987.5
F46: =F45 -> 1987.5
D48: Void A | E48: 9
E49: 8.4 | F49: =E48*E49 -> 75.6
D51: Void B | E51: 7.5
E52: 7.5 | F52: =E51*E52 -> 56.25
D54: Void C | E54: 25.4
E55: 6 | F55: =E54*E55 -> 152.4
D57: Void D | E57: 18
E58: 6 | F58: =E57*E58 -> 108
D60: Void E | E60: 16.5
E61: 5.8 | F61: =E60*E61 -> 95.7
D63: Void F | E63: 8.8
E64: 8 | F64: =E63*E64 -> 70.4
D66: Lifts 2 | E66: 1.5
E67: 2 | F67: =(E66*E67)*2 -> 6
D69: Void G | E69: 9
E70: 1.5 | F70: =E69*E70 -> 13.5
F73: =F46-(F49+F52+F55+F58+F61+F64+F67+F70) -> 1409.65 | G73: m2
I76: 120 | J76: =F73*I76 -> 169158 | L76: Sum stated in Query sheet 3
A78: 2.3 | C78: Roof
E79: 27.2
C80: Metal cladding panel | E80: 76 | F80: =E79*E80 -> 2067.2 | G80: m2 | I80: 280 | J80: =F80*I80 -> 578816 | L80: Sum stated in query sheet 1, including over hang of building
A85: 2.4 | C85: Stairs & Ramps | E85: 5 | L85: Number of flights
A87: 2.4.1 | C87: Reinforced concrete construction Staircase; terrazzofinish; mild steel balustrades and handrails; plastered soffit;balustrades and staircase soffit decorated3.00m rise; dogleg | F87: =E85 -> 5 | G87: Nr | I87: ='TPI and Location Factor '!D5 -> 12005.4 | J87: =F87*I87 -> 60027 | L87: Updated TPI and Location Factor
A89: 2.4.2 | C89: Lifts
E90: 2
C91: Passenger lift, (standard brushed stainless steel finish; 2 panel centre opening doors) 8-person; 4 stops; 1.0 m/s speed including a lift car LCD TV | F91: 2 | G91: Nr | I91: ='TPI and Location Factor '!D6 -> 103683 | J91: =I91*F91 -> 207366 | L91: Updated TPI and Location Factor
A94: 2.5 | C94: External Walls
C97: Metal profiled cladding panel - Flat panel composite insulated roofing system; micro-rib panel; 60mm overall panel, thickness (U-value = 0.35W/m2K) | E97: =L138 -> 152 | L97: Definition from Spons Pg. 197
E98: 3.4 | F98: =E97*E98 -> 516.8
F99: =F98 -> 516.8
E102: 1.9
D103: 48 | E103: 3 | F103: =(E102*E103)*D103 -> 273.6
F104: =F103 -> 273.6
C106: GF | F106: =F99-F104 -> 243.2
E108: =L138 -> 152
E109: 3.4 | F109: =E108*E109 -> 516.8
F110: =F109 -> 516.8
E113: 1.9
D114: 48 | E114: 3 | F114: =(E113*E114)*D114 -> 273.6
F115: =F114 -> 273.6
C117: FF | F117: =F110-F115 -> 243.2
C122: SF | E122: =L138 -> 152
E123: 0.8 | F123: =E122*E123 -> 121.6
F126: =F106 -> 243.2
F127: =F117 -> 243.2
F128: =F123 -> 121.6
F130: =F126+F127+F128 -> 608 | G130: m2 | L130: Total of all external walls
I131: 280 | J131: =I131*F130 -> 170240 | L131: Sum stated in query sheet 1
L133: Perimeter Calculation
L135: 76
L136: 76
L138: =SUM(L134:L137) -> 152
A140: 2.6 | C140: Windows and external doors
A142: 2.6.1 | C142: Windows
C144: Composite aluminium/timber windows; U value = 1.5W/m2K | D144: 96 | E144: 3
C145: Purpose-made windows; stainless steel ironmongery; Velfac System 200 or similar, Fixed windows up to 1.50m2 | E145: 1.4
F146: =(E144*E145)*D144 -> 403.2 | G146: m2 | I146: ='TPI and Location Factor '!D7 -> 316.506 | J146: =I146*F146 -> 127615.22 | L146: Updated TPI and Location Factor
C148: Composite aluminium/timber windows; U value = 1.5W/m2K Purpose-made windows; stainless steel ironmongery; Velfac System 200 or similar, Fixed windows up to 1.50m2 | D148: 64 | E148: 0.5
E149: 1.4
F150: =(E148*E149)*D148 -> 44.8 | G150: m2
I151: ='TPI and Location Factor '!D8 -> 316.506 | J151: =I151*F150 -> 14179.469 | L151: Updated TPI and Location Factor
C157: Unitized curtain walling system with double glazed units, aluminium structural framing and sandal rails. Standard colour powered coated | E157: 21.7
D158: 2 | E158: 3.8 | F158: =(E157*E158)*D158 -> 164.92
E161: 25.7
D162: 2 | E162: 3.8 | F162: =(E161*E162)*D162 -> 195.32
D165: Triangels
D166: 2 | E166: =0.5*12.8*3.4 -> 21.76
F167: =E166*D166 -> 43.52
F171: =F167+F162+F158 -> 403.76 | G171: m2 | I171: ='TPI and Location Factor '!D9 -> 1309.68 | J171: =I171*F171 -> 528796.4 | L171: Updated TPI and Location Factor
A174: 2.6.2 | C174: External Doors
C176: Revolving door | E176: 2
...

Sheet TPI and Location Factor 
A1: TPI and Location Factor
B2: Cost | C2: TPI | D2: Location Factor | E2: Reference
A3: Spons | C3: 4Q2022 128.4 | D3: Wales 0.85
A5: Stairs | B5: 11000 | C5: =B5*1.284 -> 14124 | D5: =C5*0.85 -> 12005.4 | E5: Spons Pg. 194
A6: Lift | B6: 95000 | C6: =B6*1.284 -> 121980 | D6: =C6*0.85 -> 103683 | E6: Spons Pg. 215
A7: Windows - 3.4 x 1.4 | B7: 290 | C7: =B7*1.284 -> 372.36 | D7: =C7*0.85 -> 316.506 | E7: Spons Pg. 201
A8: Windows - 0.5 x 1.4 | B8: 290 | C8: =B8*1.284 -> 372.36 | D8: =C8*0.85 -> 316.506 | E8: Spons Pg. 201
A9: Curtain Wall | B9: 1200 | C9: =B9*1.284 -> 1540.8 | D9: =C9*0.85 -> 1309.68 | E9: Spons Pg. 198
A10: External Wheelchair Door | B10: 3000 | C10: =B10*1.284 -> 3852 | D10: =C10*0.85 -> 3274.2 | E10: Spons Pg. 202
A11: Internal Walls | B11: 70 | C11: =B11*1.284 -> 89.88 | D11: =C11*0.85 -> 76.398 | E11: Spons Pg. 203
A12: Toilet and plant internal Walls | B12: 70 | C12: =B12*1.284 -> 89.88 | D12: =C12*0.85 -> 76.398 | E12: Spons Pg. 203
A13: Fire Protection 30/60mins | B13: 90 | C13: =B13*1.284 -> 115.56 | D13: =C13*0.85 -> 98.226 | E13: Spons Pg. 102
A14: Toilet Doors | B14: 325 | C14: =B14*1.284 -> 417.3 | D14: =C14*0.85 -> 354.705 | E14: Spons Pg. 206
A15: GF doors | B15: 550 | C15: =B15*1.284 -> 706.2 | D15: =C15*0.85 -> 600.27 | E15: Spons Pg. 206
A16: FF doors | B16: 550 | C16: =B16*1.284 -> 706.2 | D16: =C16*0.85 -> 600.27 | E16: Spons Pg. 206
... A28: Sanitary - WC Suite | B28: 460 | C28: =B28*1.284 -> 590.64 | D28: =C28*0.85 -> 502.044 | E28: Spons Pg. 143

Sheet Finished Query Sheet 1
A3: Student name: | B3: Jenny Stroud
A5: Return email: | B5: 2008886@student.uwtsd.ac.uk
C9: Innovation Matrix - Cost Plan
G12: Query Sheet Nr. | H12: 1
G14: Date : 18/11/22
A16: QUERY | F16: Answer
A22: Are we starting on site in the fourth quarter of 2022? | F22: Yes, anticipate start on site 4Q22
A24: Are there any foundation drawings? | F24: No, please allow £350/m2 of the floor area, allowance for the provision of all works upto ground level.
A26: How thick would you like the floor slabs to be? | F26: As above. (inc found rate)
A28: What is the wall detail? | F28: As drawings issued.
A30: What material is going to be on the roof? | F30: Metal Cladding Panel; please allow £280/m2
A32: What are the ground conditions? | F32: As above. (inc found rate)
A34: Where is the site and is it clear or will it need demolition? | F34: The site is in SA1 the demolition allowance as below.
A36: Is there easy access for services? | F36: Yes
A38: Are there existing buildings in the area or works taking place? | F38: Please allow £35,000 for demolition and clearing existing structures from the proposed site.
A40: What is the cladding on the external walls? | F40: Metal Cladding Panel; please allow £280/m2

Sheet Finished Query Sheet 2
A3: Student name: Jenny Stroud
A5: Return email: 2008886@student.uwtsd.ac.uk
C9: Innovation Matrix - Cost Plan
G12: Query Sheet Nr. 2
G14: Date : 29th November 2022
A16: QUERY | F16: Answer
A22: What is the specification of the lifts? | F22: Passenger lift; (standard brushed stainless steel finish; 2 panel centre opening doors) 8-person; 4 stops; 1.0 m/s speed including a lift car LCD TV
A24: What’s the specification of the rotating doors? | F24: Please include a Prov. Sum of £45,000 for the revolving door.
A26: What is the mechanical and electrical plans? | F26: Please use £350.00 / m2 of GIFA of the provision of M+E instatllation
A28: What is the main structure material? | F28: Steel frame; composite beam and slab floors Suspended slab; permanent steel shuttering with 130 mm thick concrete including steel frame. Please use £225 / m2 GIFA
A30: What is the specification of the stairs and hand railings? | F30: Pre cast concrete
A32: What is the specification of the doors and windows? | F32: Suitable for education provision
A34: What is the finish to the internal walls? | F34: one mist and two coats emulsion paint ( to General areas) Ceramic wall tiles; including backing (In Wet Areas) economical quality
A36: What is the finish to the floors? | F36: Cement and sand (1:3) screeds; steel trowelled 50 mm thick ( to Ground Floor) vinyl flooring (To Wet Areas); Carpets to all other areas
A38: What is the finish to the ceilings? | F38: Armstrong suspended ceiling; mineral fibre; basic range; Cortega, Tatra, Academy; exposed grid

Sheet Finished Query Sheet 3
A3: Student name: Jenny Stroud
A5: Return email: 2008886@student.uwtsd.ac.uk
C9: Innovation Matrix - Cost Plan
G12: Query Sheet Nr. 3
G14: Date : 8th December 2022
A16: QUERY | F16: Answer
A22: Assuming £60 per m2 as a provisional sum for fittings and furnishings? | F22: Yes please
A24: Shall a provisional sum of £350 per m2 be used for Disposal Installations, Water installations, Heat source, Electrical installations and Power? | F24: Yes please
A26: Assuming a risk allowance of 10%? | F26: Yes please
A28: Assuming Main contractors preliminaries is 12% | F28: Yes please
A30: Assuming OHP is 6% | F30: Yes please
A32: What is the upper floor materials? | F32: Please assume a precast concrete suspended floors at £120/m2
