Workbook

Sheet VEHICLE
B2: VEHICLE | G2: RPM | H2: POWER | I2: POWER | J2: TORQUE | K2: FIRST | O2: SECOND | S2: THIRD
B3: NAME | C3: Renegade DX10-C | H3: BHP | I3: W | J3: NM | K3: VELOCITY | L3: VELOCITY | M3: FORCE | N3: ACCELERATION | O3: VELOCITY | P3: VELOCITY | Q3: FORCE | R3: ACCELERATION | S3: VELOCITY | T3: VELOCITY | U3: FORCE | V3: ACCELERATION
B4: ENGINE | C4: 4-Stroke Petrol ICE | K4: m/s | L4: mph | M4: N | N4: m/s² | O4: m/s | P4: mph | Q4: N | R4: m/s² | S4: m/s | T4: mph | U4: N | V4: m/s²
B5: TRANSMISSION | C5: Automatic CVT | G5: 750 | H5: =H6-0.75 -> 0.75 | I5: =H5*0.7457*1000 -> 559.275 | J5: =(I5)/((2*PI()*M31)/60) -> 7.1209105 | K5: =((($G5/$F$52)*($C$58))/(60))*2.24*0.44704 -> 0.82363514 | L5: =K5*2.237 -> 1.8424718 | M5: =(($H5*0.746)*1000)/K5 -> 679.30565 | N5: =M5/$C$68 -> 1.1418231 | O5: =((($G5/$F$53)*($C$58))/(60))*2.24*0.44704 -> 1.2083425 | P5: =O5*2.237 -> 2.7030621 | Q5: =(($H5*0.746)*1000)/O5 -> 463.03099 | R5: =Q5/$C$69 -> 0.78775981 | S5: =((($G5/$F$54)*($C$58))/(60))*2.24*0.44704 -> 1.5817538 | T5: =S5*2.237 -> 3.5383833 | U5: =(($H5*0.746)*1000)/S5 -> 353.72128 | V5: =U5/$C$70 -> 0.60444657
B6: DRIVE | C6: CVT Clutch | G6: 1000 | H6: =H7-0.75 -> 1.5 | I6: =H6*0.7457*1000 -> 1118.55 | J6: =(I6)/((2*PI()*M32)/60) -> 10.681366 | K6: =((($G6/$F$52)*($C$58))/(60))*2.24*0.44704 -> 1.0981802 | L6: =K6*2.237 -> 2.4566291 | M6: =(($H6*0.746)*1000)/K6 -> 1018.9585 | N6: =M6/$C$68 -> 1.7127346 | O6: =((($G6/$F$53)*($C$58))/(60))*2.24*0.44704 -> 1.6111233 | P6: =O6*2.237 -> 3.6040828 | Q6: =(($H6*0.746)*1000)/O6 -> 694.54648 | R6: =Q6/$C$69 -> 1.1816397 | S6: =((($G6/$F$54)*($C$58))/(60))*2.24*0.44704 -> 2.1090051 | T6: =S6*2.237 -> 4.7178445 | U6: =(($H6*0.746)*1000)/S6 -> 530.58193 | V6: =U6/$C$70 -> 0.90666985
B7: DIFFERENTIAL | C7: Locked Rear Axle | G7: 1250 | H7: =H8-0.75 -> 2.25 | I7: =H7*0.7457*1000 -> 1677.825 | J7: =(I7)/((2*PI()*M33)/60) -> 12.817639 | K7: =((($G7/$F$52)*($C$58))/(60))*2.24*0.44704 -> 1.3727252 | L7: =K7*2.237 -> 3.0707863 | M7: =(($H7*0.746)*1000)/K7 -> 1222.7502 | N7: =M7/$C$68 -> 2.0552816 | O7: =((($G7/$F$53)*($C$58))/(60))*2.24*0.44704 -> 2.0139041 | P7: =O7*2.237 -> 4.5051035 | Q7: =(($H7*0.746)*1000)/O7 -> 833.45577 | R7: =Q7/$C$69 -> 1.4179677 | S7: =((($G7/$F$54)*($C$58))/(60))*2.24*0.44704 -> 2.6362564 | T7: =S7*2.237 -> 5.8973056 | U7: =(($H7*0.746)*1000)/S7 -> 636.69831 | V7: =U7/$C$70 -> 1.0880038
G8: 1500 | H8: =H9-0.75 -> 3 | I8: =H8*0.7457*1000 -> 2237.1 | J8: =(I8)/((2*PI()*M34)/60) -> 14.241821 | K8: =((($G8/$F$52)*($C$58))/(60))*2.24*0.44704 -> 1.6472703 | L8: =K8*2.237 -> 3.6849436 | M8: =(($H8*0.746)*1000)/K8 -> 1358.6113 | N8: =M8/$C$68 -> 2.2836462 | O8: =((($G8/$F$53)*($C$58))/(60))*2.24*0.44704 -> 2.4166849 | P8: =O8*2.237 -> 5.4061242 | Q8: =(($H8*0.746)*1000)/O8 -> 926.06197 | R8: =Q8/$C$69 -> 1.5755196 | S8: =((($G8/$F$54)*($C$58))/(60))*2.24*0.44704 -> 3.1635077 | T8: =S8*2.237 -> 7.0767667 | U8: =(($H8*0.746)*1000)/S8 -> 707.44257 | V8: =U8/$C$70 -> 1.2088931
B9: ENGINE SPECIFICATION | G9: 1750 | H9: =H10-0.75 -> 3.75 | I9: =H9*0.7457*1000 -> 2796.375 | J9: =(I9)/((2*PI()*M35)/60) -> 15.259094 | K9: =((($G9/$F$52)*($C$58))/(60))*2.24*0.44704 -> 1.9218153 | L9: =K9*2.237 -> 4.2991009 | M9: =(($H9*0.746)*1000)/K9 -> 1455.655 | N9: =M9/$C$68 -> 2.4467638 | O9: =((($G9/$F$53)*($C$58))/(60))*2.24*0.44704 -> 2.8194657 | P9: =O9*2.237 -> 6.3071449 | Q9: =(($H9*0.746)*1000)/O9 -> 992.20926 | R9: =Q9/$C$69 -> 1.6880567 | S9: =((($G9/$F$54)*($C$58))/(60))*2.24*0.44704 -> 3.690759 | T9: =S9*2.237 -> 8.2562278 | U9: =(($H9*0.746)*1000)/S9 -> 757.97418 | V9: =U9/$C$70 -> 1.2952426
B10: VOLUME | C10: 278 | D10: cc | G10: 2000 | H10: =H11-0.75 -> 4.5 | I10: =H10*0.7457*1000 -> 3355.65 | J10: =(I10)/((2*PI()*M36)/60) -> 16.022049 | K10: =((($G10/$F$52)*($C$58))/(60))*2.24*0.44704 -> 2.1963604 | L10: =K10*2.237 -> 4.9132581 | M10: =(($H10*0.746)*1000)/K10 -> 1528.4377 | N10: =M10/$C$68 -> 2.569102 | O10: =((($G10/$F$53)*($C$58))/(60))*2.24*0.44704 -> 3.2222466 | P10: =O10*2.237 -> 7.2081656 | Q10: =(($H10*0.746)*1000)/O10 -> 1041.8197 | R10: =Q10/$C$69 -> 1.7724596 | S10: =((($G10/$F$54)*($C$58))/(60))*2.24*0.44704 -> 4.2180103 | T10: =S10*2.237 -> 9.4356889 | U10: =(($H10*0.746)*1000)/S10 -> 795.87289 | V10: =U10/$C$70 -> 1.3600048
B11: POWER | C11: 18 | D11: BHP @6500RPM | G11: 2250 | H11: =H12-0.75 -> 5.25 | I11: =H11*0.7457*1000 -> 3914.925 | J11: =(I11)/((2*PI()*M37)/60) -> 16.615458 | K11: =((($G11/$F$52)*($C$58))/(60))*2.24*0.44704 -> 2.4709054 | L11: =K11*2.237 -> 5.5274154 | M11: =(($H11*0.746)*1000)/K11 -> 1585.0465 | N11: =M11/$C$68 -> 2.6642539 | O11: =((($G11/$F$53)*($C$58))/(60))*2.24*0.44704 -> 3.6250274 | P11: =O11*2.237 -> 8.1091862 | Q11: =(($H11*0.746)*1000)/O11 -> 1080.4056 | R11: =Q11/$C$69 -> 1.8381062 | S11: =((($G11/$F$54)*($C$58))/(60))*2.24*0.44704 -> 4.7452615 | T11: =S11*2.237 -> 10.61515 | U11: =(($H11*0.746)*1000)/S11 -> 825.34966 | V11: =U11/$C$70 -> 1.4103753
B12: POWER | C12: =C11/1.341 -> 13.422819 | D12: Kw @5500RPM | G12: 2500 | H12: =H13-0.75 -> 6 | I12: =H12*0.7457*1000 -> 4474.2 | J12: =(I12)/((2*PI()*M38)/60) -> 17.090185 | K12: =((($G12/$F$52)*($C$58))/(60))*2.24*0.44704 -> 2.7454505 | L12: =K12*2.237 -> 6.1415727 | M12: =(($H12*0.746)*1000)/K12 -> 1630.3336 | N12: =M12/$C$68 -> 2.7403754 | O12: =((($G12/$F$53)*($C$58))/(60))*2.24*0.44704 -> 4.0278082 | P12: =O12*2.237 -> 9.0102069 | Q12: =(($H12*0.746)*1000)/O12 -> 1111.2744 | R12: =Q12/$C$69 -> 1.8906235 | S12: =((($G12/$F$54)*($C$58))/(60))*2.24*0.44704 -> 5.2725128 | T12: =S12*2.237 -> 11.794611 | U12: =(($H12*0.746)*1000)/S12 -> 848.93108 | V12: =U12/$C$70 -> 1.4506718
B13: TORQUE | C13: 22 | D13: NM | G13: 2750 | H13: =H14-0.75 -> 6.75 | I13: =H13*0.7457*1000 -> 5033.475 | J13: =(($J$24-$J$12)/12)+J12 -> 17.499336 | K13: =((($G13/$F$52)*($C$58))/(60))*2.24*0.44704 -> 3.0199955 | L13: =K13*2.237 -> 6.7557299 | M13: =(($H13*0.746)*1000)/K13 -> 1667.3866 | N13: =M13/$C$68 -> 2.8026567 | O13: =((($G13/$F$53)*($C$58))/(60))*2.24*0.44704 -> 4.430589 | P13: =O13*2.237 -> 9.9112276 | Q13: =(($H13*0.746)*1000)/O13 -> 1136.5306 | R13: =Q13/$C$69 -> 1.9335923 | S13: =((($G13/$F$54)*($C$58))/(60))*2.24*0.44704 -> 5.7997641 | T13: =S13*2.237 -> 12.974072 | U13: =(($H13*0.746)*1000)/S13 -> 868.22497 | V13: =U13/$C$70 -> 1.4836416
G14: 3000 | H14: =H15-0.75 -> 7.5 | I14: =H14*0.7457*1000 -> 5592.75 | J14: =(($J$24-$J$12)/12)+J13 -> 17.908488 | K14: =((($G14/$F$52)*($C$58))/(60))*2.24*0.44704 -> 3.2945406 | L14: =K14*2.237 -> 7.3698872 | M14: =(($H14*0.746)*1000)/K14 -> 1698.2641 | N14: =M14/$C$68 -> 2.8545577 | O14: =((($G14/$F$53)*($C$58))/(60))*2.24*0.44704 -> 4.8333698 | P14: =O14*2.237 -> 10.812248 | Q14: =(($H14*0.746)*1000)/O14 -> 1157.5775 | R14: =Q14/$C$69 -> 1.9693995 | S14: =((($G14/$F$54)*($C$58))/(60))*2.24*0.44704 -> 6.3270154 | T14: =S14*2.237 -> 14.153533 | U14: =(($H14*0.746)*1000)/S14 -> 884.30321 | V14: =U14/$C$70 -> 1.5111164
B15: VEHICLE DIMENSIONS | G15: 3250 | H15: =H16-0.75 -> 8.25 | I15: =H15*0.7457*1000 -> 6152.025 | J15: =(($J$24-$J$12)/12)+J14 -> 18.317639 | K15: =((($G15/$F$52)*($C$58))/(60))*2.24*0.44704 -> 3.5690856 | L15: =K15*2.237 -> 7.9840445 | M15: =(($H15*0.746)*1000)/K15 -> 1724.3913 | N15: =M15/$C$68 -> 2.898474 | O15: =((($G15/$F$53)*($C$58))/(60))*2.24*0.44704 -> 5.2361507 | P15: =O15*2.237 -> 11.713269 | Q15: =(($H15*0.746)*1000)/O15 -> 1175.3863 | R15: =Q15/$C$69 -> 1.999698 | S15: =((($G15/$F$54)*($C$58))/(60))*2.24*0.44704 -> 6.8542667 | T15: =S15*2.237 -> 15.332995 | U15: =(($H15*0.746)*1000)/S15 -> 897.90787 | V15: =U15/$C$70 -> 1.5343644
B16: LENGTH | C16: 2.62 | D16: m | G16: 3500 | H16: =H17-0.75 -> 9 | I16: =H16*0.7457*1000 -> 6711.3 | J16: =(($J$24-$J$12)/12)+J15 -> 18.72679 | K16: =((($G16/$F$52)*($C$58))/(60))*2.24*0.44704 -> 3.8436306 | L16: =K16*2.237 -> 8.5982017 | M16: =(($H16*0.746)*1000)/K16 -> 1746.7859 | N16: =M16/$C$68 -> 2.9361165 | O16: =((($G16/$F$53)*($C$58))/(60))*2.24*0.44704 -> 5.6389315 | P16: =O16*2.237 -> 12.61429 | Q16: =(($H16*0.746)*1000)/O16 -> 1190.6511 | R16: =Q16/$C$69 -> 2.0256681 | S16: =((($G16/$F$54)*($C$58))/(60))*2.24*0.44704 -> 7.3815179 | T16: =S16*2.237 -> 16.512456 | U16: =(($H16*0.746)*1000)/S16 -> 909.56901 | V16: =U16/$C$70 -> 1.5542912
B17: WIDTH | C17: 1.65 | D17: m | G17: 3750 | H17: =H18-0.75 -> 9.75 | I17: =H17*0.7457*1000 -> 7270.575 | J17: =(($J$24-$J$12)/12)+J16 -> 19.135941 | K17: =((($G17/$F$52)*($C$58))/(60))*2.24*0.44704 -> 4.1181757 | L17: =K17*2.237 -> 9.212359 | M17: =(($H17*0.746)*1000)/K17 -> 1766.1947 | N17: =M17/$C$68 -> 2.96874 | O17: =((($G17/$F$53)*($C$58))/(60))*2.24*0.44704 -> 6.0417123 | P17: =O17*2.237 -> 13.51531 | Q17: =(($H17*0.746)*1000)/O17 -> 1203.8806 | R17: =Q17/$C$69 -> 2.0481755 | S17: =((($G17/$F$54)*($C$58))/(60))*2.24*0.44704 -> 7.9087692 | T17: =S17*2.237 -> 17.691917 | U17: =(($H17*0.746)*1000)/S17 -> 919.67534 | V17: =U17/$C$70 -> 1.5715611
B18: HEIGHT | C18: 1.62 | D18: m | G18: 4000 | H18: =H19-0.75 -> 10.5 | I18: =H18*0.7457*1000 -> 7829.85 | J18: =(($J$24-$J$12)/12)+J17 -> 19.545093 | K18: =((($G18/$F$52)*($C$58))/(60))*2.24*0.44704 -> 4.3927207 | L18: =K18*2.237 -> 9.8265163 | M18: =(($H18*0.746)*1000)/K18 -> 1783.1773 | N18: =M18/$C$68 -> 2.9972856 | O18: =((($G18/$F$53)*($C$58))/(60))*2.24*0.44704 -> 6.4444931 | P18: =O18*2.237 -> 14.416331 | Q18: =(($H18*0.746)*1000)/O18 -> 1215.4563 | R18: =Q18/$C$69 -> 2.0678695 | S18: =((($G18/$F$54)*($C$58))/(60))*2.24*0.44704 -> 8.4360205 | T18: =S18*2.237 -> 18.871378 | U18: =(($H18*0.746)*1000)/S18 -> 928.51837 | V18: =U18/$C$70 -> 1.5866722
B19: GROUND CLEARANCE | C19: 0.3 | D19: m | G19: 4250 | H19: =H20-0.75 -> 11.25 | I19: =H19*0.7457*1000 -> 8389.125 | J19: =(($J$24-$J$12)/12)+J18 -> 19.954244 | K19: =((($G19/$F$52)*($C$58))/(60))*2.24*0.44704 -> 4.6672658 | L19: =K19*2.237 -> 10.440674 | M19: =(($H19*0.746)*1000)/K19 -> 1798.162 | N19: =M19/$C$68 -> 3.0224729 | O19: =((($G19/$F$53)*($C$58))/(60))*2.24*0.44704 -> 6.8472739 | P19: =O19*2.237 -> 15.317352 | Q19: =(($H19*0.746)*1000)/O19 -> 1225.6703 | R19: =Q19/$C$69 -> 2.0852465 | S19: =((($G19/$F$54)*($C$58))/(60))*2.24*0.44704 -> 8.9632718 | T19: =S19*2.237 -> 20.050839 | U19: =(($H19*0.746)*1000)/S19 -> 936.32104 | V19: =U19/$C$70 -> 1.6000056
B20: FRONTAL AREA | C20: =(C17*C18)*0.7 -> 1.8711 | D20: m² | G20: 4500 | H20: =H21-0.75 -> 12 | I20: =H20*0.7457*1000 -> 8948.4 | J20: =(($J$24-$J$12)/12)+J19 -> 20.363395 | K20: =((($G20/$F$52)*($C$58))/(60))*2.24*0.44704 -> 4.9418108 | L20: =K20*2.237 -> 11.054831 | M20: =(($H20*0.746)*1000)/K20 -> 1811.4817 | N20: =M20/$C$68 -> 3.0448616 | O20: =((($G20/$F$53)*($C$58))/(60))*2.24*0.44704 -> 7.2500548 | P20: =O20*2.237 -> 16.218372 | Q20: =(($H20*0.746)*1000)/O20 -> 1234.7493 | R20: =Q20/$C$69 -> 2.1006928 | S20: =((($G20/$F$54)*($C$58))/(60))*2.24*0.44704 -> 9.4905231 | T20: =S20*2.237 -> 21.2303 | U20: =(($H20*0.746)*1000)/S20 -> 943.25676 | V20: =U20/$C$70 -> 1.6118575
B21: C.o.G | C21: "Very Low" | G21: 4750 | H21: =H22-0.75 -> 12.75 | I21: =H21*0.7457*1000 -> 9507.675 | J21: =(($J$24-$J$12)/12)+J20 -> 20.772546 | K21: =((($G21/$F$52)*($C$58))/(60))*2.24*0.44704 -> 5.2163559 | L21: =K21*2.237 -> 11.668988 | M21: =(($H21*0.746)*1000)/K21 -> 1823.3994 | N21: =M21/$C$68 -> 3.0648936 | O21: =((($G21/$F$53)*($C$58))/(60))*2.24*0.44704 -> 7.6528356 | P21: =O21*2.237 -> 17.119393 | Q21: =(($H21*0.746)*1000)/O21 -> 1242.8726 | R21: =Q21/$C$69 -> 2.1145132 | S21: =((($G21/$F$54)*($C$58))/(60))*2.24*0.44704 -> 10.017774 | T21: =S21*2.237 -> 22.409761 | U21: =(($H21*0.746)*1000)/S21 -> 949.46239 | V21: =U21/$C$70 -> 1.6224618
B22: FUEL TANK | C22: 29 | D22: l | G22: 5000 | H22: =H23-0.75 -> 13.5 | I22: =H22*0.7457*1000 -> 10066.95 | J22: =(($J$24-$J$12)/12)+J21 -> 21.181698 | K22: =((($G22/$F$52)*($C$58))/(60))*2.24*0.44704 -> 5.4909009 | L22: =K22*2.237 -> 12.283145 | M22: =(($H22*0.746)*1000)/K22 -> 1834.1252 | N22: =M22/$C$68 -> 3.0829224 | O22: =((($G22/$F$53)*($C$58))/(60))*2.24*0.44704 -> 8.0556164 | P22: =O22*2.237 -> 18.020414 | Q22: =(($H22*0.746)*1000)/O22 -> 1250.1837 | R22: =Q22/$C$69 -> 2.1269515 | S22: =((($G22/$F$54)*($C$58))/(60))*2.24*0.44704 -> 10.545026 | T22: =S22*2.237 -> 23.589222 | U22: =(($H22*0.746)*1000)/S22 -> 955.04747 | V22: =U22/$C$70 -> 1.6320057
G23: 5250 | H23: =H24-0.75 -> 14.25 | I23: =H23*0.7457*1000 -> 10626.225 | J23: =(($J$24-$J$12)/12)+J22 -> 21.590849 | K23: =((($G23/$F$52)*($C$58))/(60))*2.24*0.44704 -> 5.765446 | L23: =K23*2.237 -> 12.897303 | M23: =(($H23*0.746)*1000)/K23 -> 1843.8296 | N23: =M23/$C$68 -> 3.0992341 | O23: =((($G23/$F$53)*($C$58))/(60))*2.24*0.44704 -> 8.4583972 | P23: =O23*2.237 -> 18.921435 | Q23: =(($H23*0.746)*1000)/O23 -> 1256.7984 | R23: =Q23/$C$69 -> 2.1382052 | S23: =((($G23/$F$54)*($C$58))/(60))*2.24*0.44704 -> 11.072277 | T23: =S23*2.237 -> 24.768683 | U23: =(($H23*0.746)*1000)/S23 -> 960.10063 | V23: =U23/$C$70 -> 1.6406407
B24: VEHICLE CHARACTERISTICS | G24: 5500 | H24: =H25-0.75 -> 15 | I24: =H24*0.7457*1000 -> 11185.5 | J24: 22 | K24: =((($G24/$F$52)*($C$58))/(60))*2.24*0.44704 -> 6.039991 | L24: =K24*2.237 -> 13.51146 | M24: =(($H24*0.746)*1000)/K24 -> 1852.6518 | N24: =M24/$C$68 -> 3.114063 | O24: =((($G24/$F$53)*($C$58))/(60))*2.24*0.44704 -> 8.861178 | P24: =O24*2.237 -> 19.822455 | Q24: =(($H24*0.746)*1000)/O24 -> 1262.8118 | R24: =Q24/$C$69 -> 2.1484358 | S24: =((($G24/$F$54)*($C$58))/(60))*2.24*0.44704 -> 11.599528 | T24: =S24*2.237 -> 25.948145 | U24: =(($H24*0.746)*1000)/S24 -> 964.69441 | V24: =U24/$C$70 -> 1.6484906
B25: MAX VELOCITY | C25: 30 | D25: mph | G25: 5750 | H25: =H26-0.75 -> 15.75 | I25: =H25*0.7457*1000 -> 11744.775 | J25: =J24-(($J$24-$J$18)/5) -> 21.509019 | K25: =((($G25/$F$52)*($C$58))/(60))*2.24*0.44704 -> 6.3145361 | L25: =K25*2.237 -> 14.125617 | M25: =(($H25*0.746)*1000)/K25 -> 1860.7068 | N25: =M25/$C$68 -> 3.1276024 | O25: =((($G25/$F$53)*($C$58))/(60))*2.24*0.44704 -> 9.2639589 | P25: =O25*2.237 -> 20.723476 | Q25: =(($H25*0.746)*1000)/O25 -> 1268.3023 | R25: =Q25/$C$69 -> 2.1577769 | S25: =((($G25/$F$54)*($C$58))/(60))*2.24*0.44704 -> 12.126779 | T25: =S25*2.237 -> 27.127606 | U25: =(($H25*0.746)*1000)/S25 -> 968.88873 | V25: =U25/$C$70 -> 1.655658
B26: MAX VELOCITY | C26: =C25/2.237 -> 13.410818 | D26: m/s | G26: 6000 | H26: =H27-0.75 -> 16.5 | I26: =H26*0.7457*1000 -> 12304.05 | J26: =J25-(($J$24-$J$18)/5) -> 21.018037 | K26: =((($G26/$F$52)*($C$58))/(60))*2.24*0.44704 -> 6.5890811 | L26: =K26*2.237 -> 14.739774 | M26: =(($H26*0.746)*1000)/K26 -> 1868.0905 | N26: =M26/$C$68 -> 3.1400135 | O26: =((($G26/$F$53)*($C$58))/(60))*2.24*0.44704 -> 9.6667397 | P26: =O26*2.237 -> 21.624497 | Q26: =(($H26*0.746)*1000)/O26 -> 1273.3352 | R26: =Q26/$C$69 -> 2.1663395 | S26: =((($G26/$F$54)*($C$58))/(60))*2.24*0.44704 -> 12.654031 | T26: =S26*2.237 -> 28.307067 | U26: =(($H26*0.746)*1000)/S26 -> 972.73353 | V26: =U26/$C$70 -> 1.6622281
B27: FRONTAL AERO AREA | C27: =(C18-C19)*C17 -> 2.178 | D27: m² | G27: 6250 | H27: =H28-0.75 -> 17.25 | I27: =H27*0.7457*1000 -> 12863.325 | J27: =J26-(($J$24-$J$18)/5) -> 20.527056 | K27: =((($G27/$F$52)*($C$58))/(60))*2.24*0.44704 -> 6.8636261 | L27: =K27*2.237 -> 15.353932 | M27: =(($H27*0.746)*1000)/K27 -> 1874.8836 | N27: =M27/$C$68 -> 3.1514317 | O27: =((($G27/$F$53)*($C$58))/(60))*2.24*0.44704 -> 10.06952 | P27: =O27*2.237 -> 22.525517 | Q27: =(($H27*0.746)*1000)/O27 -> 1277.9655 | R27: =Q27/$C$69 -> 2.1742171 | S27: =((($G27/$F$54)*($C$58))/(60))*2.24*0.44704 -> 13.181282 | T27: =S27*2.237 -> 29.486528 | U27: =(($H27*0.746)*1000)/S27 -> 976.27074 | V27: =U27/$C$70 -> 1.6682725
B28: COEFFICIENT OF DRAG | C28: 0.35 | D28: ASSUMPTION | G28: 6500 | H28: 18 | I28: =H28*0.7457*1000 -> 13422.6 | J28: =J27-(($J$24-$J$18)/5) -> 20.036074 | K28: =((($G28/$F$52)*($C$58))/(60))*2.24*0.44704 -> 7.1381712 | L28: =K28*2.237 -> 15.968089 | M28: =(($H28*0.746)*1000)/K28 -> 1881.1541 | N28: =M28/$C$68 -> 3.1619716 | O28: =((($G28/$F$53)*($C$58))/(60))*2.24*0.44704 -> 10.472301 | P28: =O28*2.237 -> 23.426538 | Q28: =(($H28*0.746)*1000)/O28 -> 1282.2397 | R28: =Q28/$C$69 -> 2.1814887 | S28: =((($G28/$F$54)*($C$58))/(60))*2.24*0.44704 -> 13.708533 | T28: =S28*2.237 -> 30.665989 | U28: =(($H28*0.746)*1000)/S28 -> 979.53586 | V28: =U28/$C$70 -> 1.673852
B30: WHEEL DIMENSIONS | J30: 1 | K30: 2 | L30: 3
B31: FRONT WHEEL SIZE | C31: 12 | D31: in | I31: 750 | J31: =((($I31/$F$52)*($C$58))/(60))*2.24*0.44704 -> 0.82363514 | K31: =((($I31/$F$53)*($C$58))/(60))*2.24*0.44704 -> 1.2083425 | L31: =((($I31/$F$54)*($C$58))/(60))*2.24*0.44704 -> 1.5817538 | M31: 750 | N31: =(I5)/((2*PI()*G5)/60) -> 7.1209105
B32: FRONT WHEEL SIZE | C32: =C31/39.37 -> 0.30480061 | D32: m | I32: 1000 | J32: =((($I32/$F$52)*($C$58))/(60))*2.24*0.44704 -> 1.0981802 | K32: =((($I32/$F$53)*($C$58))/(60))*2.24*0.44704 -> 1.6111233 | L32: =((($I32/$F$54)*($C$58))/(60))*2.24*0.44704 -> 2.1090051 | M32: 1000 | N32: =(I6)/((2*PI()*G6)/60) -> 10.681366
B33: FRONT TYRE SIDE WALL | C33: 0.1524 | D33: m | I33: 1250 | J33: =((($I33/$F$52)*($C$58))/(60))*2.24*0.44704 -> 1.3727252 | K33: =((($I33/$F$53)*($C$58))/(60))*2.24*0.44704 -> 2.0139041 | L33: =((($I33/$F$54)*($C$58))/(60))*2.24*0.44704 -> 2.6362564 | M33: 1250 | N33: =(I7)/((2*PI()*G7)/60) -> 12.817639
B34: REAR WHEEL SIZE | C34: 10 | D34: in | I34: 1500 | J34: =((($I34/$F$52)*($C$58))/(60))*2.24*0.44704 -> 1.6472703 | K34: =((($I34/$F$53)*($C$58))/(60))*2.24*0.44704 -> 2.4166849 | L34: =((($I34/$F$54)*($C$58))/(60))*2.24*0.44704 -> 3.1635077 | M34: 1500 | N34: =(I8)/((2*PI()*G8)/60) -> 14.241821
B35: REAR WHEEL SIZE | C35: =C34/39.37 -> 0.25400051 | D35: m | I35: 1750 | J35: =((($I35/$F$52)*($C$58))/(60))*2.24*0.44704 -> 1.9218153 | K35: =((($I35/$F$53)*($C$58))/(60))*2.24*0.44704 -> 2.8194657 | L35: =((($I35/$F$54)*($C$58))/(60))*2.24*0.44704 -> 3.690759 | M35: 1750 | N35: =(I9)/((2*PI()*G9)/60) -> 15.259094
B36: REAR TYRE SIDE WALL | C36: 0.1397 | D36: m | I36: 2000 | J36: =((($I36/$F$52)*($C$58))/(60))*2.24*0.44704 -> 2.1963604 | K36: =((($I36/$F$53)*($C$58))/(60))*2.24*0.44704 -> 3.2222466 | L36: =((($I36/$F$54)*($C$58))/(60))*2.24*0.44704 -> 4.2180103 | M36: 2000 | N36: =(I10)/((2*PI()*G10)/60) -> 16.022049
B37: ROLLING RADIUS | C37: =(C35/2)+C36 -> 0.26670025 | D37: m | I37: 2250 | J37: =((($I37/$F$52)*($C$58))/(60))*2.24*0.44704 -> 2.4709054 | K37: =((($I37/$F$53)*($C$58))/(60))*2.24*0.44704 -> 3.6250274 | L37: =((($I37/$F$54)*($C$58))/(60))*2.24*0.44704 -> 4.7452615 | M37: 2250 | N37: =(I11)/((2*PI()*G11)/60) -> 16.615458
B38: ROLLING CIRCUMFERENCE | C38: =C37*PI()*2 -> 1.6757271 | D38: m | I38: 2500 | J38: =((($I38/$F$52)*($C$58))/(60))*2.24*0.44704 -> 2.7454505 | K38: =((($I38/$F$53)*($C$58))/(60))*2.24*0.44704 -> 4.0278082 | L38: =((($I38/$F$54)*($C$58))/(60))*2.24*0.44704 -> 5.2725128 | M38: 2500 | N38: =(I12)/((2*PI()*G12)/60) -> 17.090185
I39: 2750 | J39: =((($I39/$F$52)*($C$58))/(60))*2.24*0.44704 -> 3.0199955 | K39: =((($I39/$F$53)*($C$58))/(60))*2.24*0.44704 -> 4.430589 | L39: =((($I39/$F$54)*($C$58))/(60))*2.24*0.44704 -> 5.7997641 | M39: 2750 | N39: =(($N$48-$N$38)/10)+N38 -> 17.109412
B40: WEIGHT | I40: 3000 | J40: =((($I40/$F$52)*($C$58))/(60))*2.24*0.44704 -> 3.2945406 | K40: =((($I40/$F$53)*($C$58))/(60))*2.24*0.44704 -> 4.8333698 | L40: =((($I40/$F$54)*($C$58))/(60))*2.24*0.44704 -> 6.3270154 | M40: 3000 | N40: =(($N$48-$N$38)/10)+N39 -> 17.128638
B41: CURB WEIGHT | C41: 365 | D41: kg | I41: 3250 | J41: =((($I41/$F$52)*($C$58))/(60))*2.24*0.44704 -> 3.5690856 | K41: =((($I41/$F$53)*($C$58))/(60))*2.24*0.44704 -> 5.2361507 | L41: =((($I41/$F$54)*($C$58))/(60))*2.24*0.44704 -> 6.8542667 | M41: 3250 | N41: =(($N$48-$N$38)/10)+N40 -> 17.147864
B42: DRIVER | C42: 80 | D42: kg | I42: 3500 | J42: =((($I42/$F$52)*($C$58))/(60))*2.24*0.44704 -> 3.8436306 | K42: =((($I42/$F$53)*($C$58))/(60))*2.24*0.44704 -> 5.6389315 | L42: =((($I42/$F$54)*($C$58))/(60))*2.24*0.44704 -> 7.3815179 | M42: 3500 | N42: =(($N$48-$N$38)/10)+N41 -> 17.167091
...

Sheet TRACK
B2: ROLLING RESISTANCE COEFFICIENTS
B3: TARMAC | C3: 0.013
B4: GRAVEL | C4: 0.02
B5: MUD | C5: 0.1
B8: START | C8: SURFACE | D8: DISTANCE | E8: TOTAL DISTANCE
B9: STRAIGHT 1 | C9: TARMAC | D9: 86.2 | E9: =SUM(D$9:D9) -> 86.2
B10: TURN 1 | C10: TARMAC | D10: 34.76 | E10: =SUM(D$9:D10) -> 120.96
B11: TURN 2 | C11: TARMAC | D11: 28.15 | E11: =SUM(D$9:D11) -> 149.11
B12: TURN 3 | C12: TARMAC | D12: 20.33 | E12: =SUM(D$9:D12) -> 169.44
B13: STRAIGHT 2 | C13: TARMAC | D13: 46.12 | E13: =SUM(D$9:D13) -> 215.56
B14: TURN 4 | C14: TARMAC | D14: 51.96 | E14: =SUM(D$9:D14) -> 267.52
B15: STRAIGHT 3 | C15: TARMAC | D15: 154 | E15: =SUM(D$9:D15) -> 421.52
B16: TURN 5 | C16: TARMAC | D16: 87.57 | E16: =SUM(D$9:D16) -> 509.09
B17: STRAIGHT 4 | C17: GRAVEL | D17: 83.13 | E17: =SUM(D$9:D17) -> 592.22
B18: TURN 6 | C18: GRAVEL | D18: 29.17 | E18: =SUM(D$9:D18) -> 621.39
B19: TURN 7 | C19: GRAVEL | D19: 19.59 | E19: =SUM(D$9:D19) -> 640.98
B20: STRAIGHT 5 | C20: GRAVEL | D20: 30.84 | E20: =SUM(D$9:D20) -> 671.82
... B35: TURN 15 | C35: MUD | D35: 27.74 | E35: =SUM(D$9:D35) -> 1255.25
B36: STRAIGHT 13 | C36: TARMAC | D36: =175.7-86.2 -> 89.5 | E36: =SUM(D$9:D36) -> 1344.75
B37: FINISH

Sheet BSFC
C2: Brake Specific Fuel Consumption (g/kwh)
C4: Torque (N/m)
C5: 22 | X5: 497.28698
C6: 21 | V6: 511.24716 | W6: 503.76524 | X6: 473.62523 | Y6: 499.52561
C7: 20 | T7: 523.32915 | U7: 515.71127 | V7: 501.69742 | W7: 494.2155 | X7: 449.96348 | Y7: 475.86386 | Z7: 509.82684
C8: 19 | S8: 531.16872 | T8: 517.77872 | U8: 510.16084 | V8: 481.41125 | W8: 473.92933 | X8: 426.30173 | Y8: 452.20211 | Z8: 496.75436 | AA8: 527.00031 | AB8: 548.15659
C9: 18 | P9: 535.4119 | Q9: 535.03854 | R9: 533.87537 | S9: 521.38539 | T9: 507.99539 | U9: 500.37751 | V9: 464.33013 | W9: 456.84821 | X9: 402.63998 | Y9: 428.54036 | Z9: 478.29965 | AA9: 508.5456 | AB9: 534.65428 | AC9: 554.22428
C10: 17 | O10: 549.11276 | P10: 539.23815 | Q10: 538.02119 | R10: 528.48339 | S10: 505.64048 | T10: 492.25048 | U10: 484.6326 | V10: 430.80173 | W10: 423.31981 | X10: 390.80911 | Y10: 416.70949 | Z10: 439.07286 | AA10: 469.31881 | AB10: 526.7024 | AC10: 546.2724 | AD10: 588.08808
C11: 16 | M11: 550.87927 | N11: 551.03468 | O11: 552.939 | P11: 543.06439 | Q11: 541.00385 | R11: 531.46605 | S11: 496.01522 | T11: 482.62522 | U11: 475.00734 | V11: 400.87394 | W11: 393.39202 | X11: 378.97824 | Y11: 404.87862 | Z11: 399.84608 | AA11: 430.09203 | AB11: 521.84343 | AC11: 541.41343 | AD11: 576.42111
C12: 15 | L12: 560.7138 | M12: 555.11884 | N12: 550.26743 | O12: 543.2521 | P12: 533.37749 | Q12: 543.98651 | R12: 534.44871 | S12: 490.88893 | T12: 477.49893 | U12: 469.88105 | V12: 379.8122 | W12: 372.33028 | X12: 353.29348 | Y12: 379.19386 | Z12: 364.39564 | AA12: 394.64159 | AB12: 478.75751 | AC12: 498.32751 | AD12: 524.27958
C13: 14 | K13: 588.17782 | L13: 564.95338 | M13: 559.35842 | N13: 554.46639 | O13: 533.5652 | P13: 523.69059 | Q13: 524.73783 | R13: 515.20003 | S13: 454.57581 | T13: 441.18581 | U13: 433.56793 | V13: 358.75046 | W13: 351.26854 | X13: 331.65474 | Y13: 357.55512 | Z13: 357.3613 | AA13: 387.60725 | AB13: 463.94702 | AC13: 483.51702 | AD13: 516.6133
C14: 13 | J14: 625.37673 | K14: 607.62736 | L14: 584.40292 | M14: 578.80796 | N14: 558.66534 | O14: 523.87829 | P14: 514.00368 | Q14: 505.48915 | R14: 495.95135 | S14: 430.06491 | T14: 416.67491 | U14: 409.05703 | V14: 337.68873 | W14: 330.20681 | X14: 307.99299 | Y14: 333.89337 | Z14: 352.0507 | AA14: 382.29665 | AB14: 489.82567 | AC14: 509.39567 | AD14: 565.12247
C15: 12 | I15: 626.40918 | J15: 642.16818 | K15: 627.07689 | L15: 603.85245 | M15: 598.25749 | N15: 565.53673 | O15: 542.54792 | P15: 532.67331 | Q15: 508.84779 | R15: 499.30999 | S15: 479.33667 | T15: 465.94667 | U15: 458.32879 | V15: 318.33697 | W15: 310.85505 | X15: 332.53854 | Y15: 358.43892 | Z15: 346.7401 | AA15: 376.98605 | AB15: 515.70432 | AC15: 535.27432 | AD15: 581.49344
C16: 11 | I16: 637.74178 | J16: 653.50078 | K16: 647.81314 | L16: 624.5887 | M16: 618.99374 | N16: 595.52992 | O16: 562.64721 | P16: 552.7726 | Q16: 522.14336 | R16: 512.60556 | S16: 485.82852 | T16: 472.43852 | U16: 464.82064 | V16: 382.00341 | W16: 374.52149 | X16: 373.40211 | Y16: 399.30249 | Z16: 341.42951 | AA16: 371.67546 | AB16: 541.58297 | AC16: 561.15297 | AD16: 586.98573
C17: 10 | H17: 651.71791 | I17: 646.69535 | J17: 662.45435 | K17: 668.54939 | L17: 645.32495 | M17: 639.72999 | N17: 628.19555 | O17: 576.60739 | P17: 566.73278 | Q17: 548.42498 | R17: 538.88718 | S17: 524.43158 | T17: 511.04158 | U17: 503.4237 | V17: 405.53356 | W17: 398.05164 | X17: 390.89438 | Y17: 416.79476 | Z17: 336.11891 | AA17: 366.36486 | AB17: 548.19163 | AC17: 567.76163 | AD17: 582.36556
C18: 9 | H18: 665.91481 | I18: 657.59064 | J18: 673.34964 | K18: 680.53571 | L18: 657.31127 | M18: 651.71631 | N18: 641.27289 | O18: 635.10913 | P18: 625.23452 | Q18: 589.19253 | R18: 579.65473 | S18: 547.46494 | T18: 534.07494 | U18: 526.45706 | V18: 429.06371 | W18: 421.58179 | X18: 436.10142 | Y18: 462.0018 | Z18: 455.61203 | AA18: 485.85798 | AB18: 554.80029 | AC18: 574.37029 | AD18: 600.87011
C19: 8 | G19: 704.5227 | H19: 680.1117 | I19: 688.88424 | J19: 704.64324 | K19: 704.48286 | L19: 681.25842 | M19: 675.66346 | N19: 657.8736 | O19: 644.36339 | P19: 634.48878 | Q19: 592.70665 | R19: 583.16885 | S19: 545.23891 | T19: 531.84891 | U19: 524.23103 | V19: 452.59386 | W19: 445.11194 | X19: 467.45108 | Y19: 493.35146 | Z19: 536.92958 | AA19: 567.17553 | AB19: 611.79032 | AC19: 631.36032 | AD19: 683.0629
C20: 7 | G20: 718.71959 | H20: 694.30859 | I20: 731.35344 | J20: 747.11244 | K20: 742.19694 | L20: 718.9725 | M20: 713.37754 | N20: 681.1053 | O20: 678.74681 | P20: 668.8722 | Q20: 643.23338 | R20: 633.69558 | S20: 583.97385 | T20: 570.58385 | U20: 562.96597 | V20: 498.96893 | W20: 491.48701 | X20: 505.04731 | Y20: 530.94769 | Z20: 585.8229 | AA20: 616.06885 | AB20: 647.37288 | AC20: 666.94288 | AD20: 721.73993
C21: 6 | F21: 665.58465 | G21: 724.45774 | H21: 736.89928 | I21: 774.67297 | J21: 790.43197 | K21: 766.42168 | L21: 743.19724 | M21: 737.60228 | N21: 690.90742 | O21: 713.13024 | P21: 703.25563 | Q21: 665.82501 | R21: 656.28721 | S21: 622.70879 | T21: 609.31879 | U21: 601.70091 | V21: 545.344 | W21: 537.86208 | X21: 530.98202 | Y21: 556.8824 | Z21: 638.72953 | AA21: 668.97548 | AB21: 657.4926 | AC21: 677.0626 | AD21: 735.57863
C22: 5 | E22: 752.77611 | F22: 738.76811 | G22: 774.7098 | H22: 750.2988 | I22: 794.12751 | J22: 809.88651 | K22: 812.62544 | L22: 789.401 | M22: 783.80604 | N22: 768.91548 | O22: 758.30458 | P22: 748.42997 | Q22: 717.60723 | R22: 708.06943 | S22: 687.38751 | T22: 673.99751 | U22: 666.37963 | V22: 639.92558 | W22: 632.44366 | X22: 621.12046 | Y22: 647.02084 | Z22: 680.37645 | AA22: 710.6224 | AB22: 737.57517 | AC22: 757.14517 | AD22: 796.1454
C23: 4 | D23: 727.72954 | E23: 787.55974 | F23: 773.55174 | G23: 795.93973 | H23: 771.52873 | I23: 825.51454 | J23: 841.27354 | K23: 867.09843 | L23: 843.87399 | M23: 838.27903 | N23: 822.36858 | O23: 789.28981 | P23: 779.4152 | Q23: 769.38945 | R23: 759.85165 | S23: 752.06622 | T23: 738.67622 | U23: 731.05834 | V23: 717.5008 | W23: 710.01888 | X23: 711.2589 | Y23: 737.15928 | Z23: 754.89146 | AA23: 785.13741 | AB23: 800.5112 | AC23: 820.0812 | AD23: 844.80615
C24: 3 | D24: 943.41702 | E24: 941.64027 | F24: 927.63227 | G24: 936.52262 | H24: 912.11162 | I24: 855.92667 | J24: 871.68567 | K24: 921.57142 | L24: 898.34698 | M24: 892.75202 | N24: 875.82167 | O24: 829.7874 | P24: 819.91279 | Q24: 821.17167 | R24: 811.63387 | S24: 816.74494 | T24: 803.35494 | U24: 795.73706 | V24: 795.07602 | W24: 787.5941 | X24: 786.79709 | Y24: 812.69747 | Z24: 829.40646 | AA24: 859.65241 | AB24: 847.52803 | AC24: 867.09803 | AD24: 881.9748
C25: 2 | D25: 1178.8245 | E25: 1095.7208 | F25: 1081.7128 | G25: 1017.0122 | H25: 992.60118 | I25: 960.60618 | J25: 976.36518 | K25: 976.04441 | L25: 952.81997 | M25: 947.22501 | N25: 929.27477 | O25: 915.60417 | P25: 905.72956 | Q25: 928.41771 | R25: 918.87991 | S25: 913.4217 | T25: 900.0317 | U25: 892.41382 | V25: 881.18349 | W25: 873.70157 | X25: 862.33528 | Y25: 888.23566 | Z25: 881.65329 | AA25: 911.89924 | AB25: 894.54486 | AC25: 914.11486 | AD25: 911.72072
C26: 1 | D26: 1317.0685 | E26: 1249.8013 | F26: 1235.7933 | G26: 1183.9446 | H26: 1159.5336 | I26: 1065.2857 | J26: 1081.0447 | K26: 1088.6579 | L26: 1065.4335 | M26: 1059.8385 | N26: 1049.8223 | O26: 1044.0857 | P26: 1034.2111 | Q26: 1035.6637 | R26: 1026.1259 | S26: 1010.0985 | T26: 996.70845 | U26: 989.09057 | V26: 967.29096 | W26: 959.80904 | X26: 937.87347 | Y26: 963.77385 | Z26: 933.90012 | AA26: 964.14607 | AB26: 925.64248 | AC26: 945.21248 | AD26: 920.24104
C27: 0.5 | D27: 1609.0852 | E27: 1534.8532 | F27: 1520.8452 | G27: 1457.0162 | H27: 1432.6052 | I27: 1328.6062 | J27: 1344.3652 | K27: 1279.3496 | L27: 1256.1252 | M27: 1250.5302 | N27: 1208.3765 | O27: 1170.5025 | P27: 1160.6279 | Q27: 1122.417 | R27: 1112.8792 | S27: 1086.0104 | T27: 1072.6204 | U27: 1065.0025 | V27: 1032.6336 | W27: 1025.1517 | X27: 992.64686 | Y27: 1018.5472 | Z27: 986.14696 | AA27: 1016.3929 | AB27: 956.74011 | AC27: 976.31011 | AD27: 942.60456
C28: Engine RPM | D28: 500 | E28: 750 | F28: 1000 | G28: 1250 | H28: 1500 | I28: 1750 | J28: 2000 | K28: 2250 | L28: 2500 | M28: 2750 | N28: 3000 | O28: 3250 | P28: 3500 | Q28: 3750 | R28: 4000 | S28: 4250 | T28: 4500 | U28: 4750 | V28: 5000 | W28: 5250 | X28: 5500 | Y28: 5750 | Z28: 6000 | AA28: 6250 | AB28: 6500 | AC28: 6750 | AD28: 7000
B33: FUEL CONSUMPTION | C33: PER LAP
B34: ='DUTY CYCLE'!AC140 -> 81.817132 | C34: G
B35: =B34/1000 -> 0.081817132 | C35: KG
B36: =B35/0.737 -> 0.11101375 | C36: L
B37: =B36/4.5 -> 0.024669722 | C37: GALLON
C38: PER HOUR
B39: =ROUNDUP((3600/'DUTY CYCLE'!B139),0) -> 27 | C39: TOTAL LAPS
B40: =(TRACK!E36*BSFC!B39)/1000 -> 36.30825 | C40: KM
B41: =B40/1.6 -> 22.692656 | C41: Mi
B42: =B37*B39 -> 0.66608248 | C42: GALLON
B43: =B41/B42 -> 34.068838 | C43: MPG

Sheet DUTY CYCLE
B2: TIME | C2: SECTOR | D2: SURFACE | E2: GRADIENT | F2: ELEVATION | G2: △ ELEVATION | H2: GRADIENT | I2: DISTANCE | J2: △ DISTANCE | K2: RPM | L2: GEAR | M2: VELOCITY | N2: ACCELERATION | O2: ACCELERATION FORCE | P2: RR COEFFICIENT | Q2: ROLLING DRAG | R2: AERO RESISTANCE | S2: GRADIENT RESISTANCE | T2: TOTAL RESISTANCE | U2: TOTAL RESISTIVE POWER | V2: POWER REMAINING | W2: POWER REQ PER SECOND | X2: TORQUE | Y2: CORRECTED TORQUE | Z2: WD | AA2: CUMULATIVE WD | AB2: FUEL CONSUMPTION | AC2: FUEL CONSUMTION | AD2: CO₂ PRODUCTION | AE2: KE | AF2: TOTAL ENERGY
B3: s | F3: m | H3: ° | I3: m | J3: m | M3: M/S | N3: M/S² | O3: N | Q3: N | R3: N | S3: N | T3: N | U3: Kw | V3: Kw | W3: Kw | X3: N/M | Y3: N/M | Z3: J | AA3: J | AB3: G/KwH | AC3: G/S | AD3: G/S | AE3: KJ | AF3: KJ | AI3: 1 | AJ3: 750
B4: 0 | C4: STRAIGHT 1 | D4: TARMAC | E4: =IF(H4>0,"UPHILL",IF(H4<0,"DOWNHILL",IF(H4=0,"FLAT",0))) -> FLAT | F4: 5 | G4: 0 | H4: 0 | I4: =SUM(M$4:M4) -> 0.82363514 | J4: 0 | K4: 750 | L4: 1 | M4: =VLOOKUP(K4,VEHICLE!I$30:L$54,MATCH(L4,VEHICLE!I$30:L$30,0),0) -> 0.82363514 | N4: 0 | O4: 0 | P4: 0.013 | Q4: 0 | R4: 0 | S4: =VEHICLE!C$47*9.81*SIN(RADIANS(G4)) -> 0 | T4: =SUM(Q4:S4)+O4 -> 0 | U4: =ABS(((+T4)*(+M4))/1000) -> 0 | V4: =((VEHICLE!C$12*1000)-U4*1000)/1000 -> 13.422819 | W4: =U4 -> 0 | X4: =ABS((W4*1000)/((2*PI()*K4)/60)) -> 0 | Y4: =ROUNDUP(X4,0) -> 0 | Z4: =T4 -> 0 | AA4: =Z4 -> 0 | AB4: =BSFC!E27 -> 1534.8532 | AC4: 0 | AD4: 0 | AE4: =0.5*VEHICLE!C$47*('DUTY CYCLE'!M4^2)/1000 -> 0.1924312 | AF4: =Z4+AE4 -> 0.1924312 | AI4: 2 | AJ4: 1000
B5: 1 | D5: TARMAC | E5: =IF(H5>0,"UPHILL",IF(H5<0,"DOWNHILL",IF(H5=0,"FLAT",0))) -> UPHILL | F5: 5.1 | G5: =F5-F4 -> 0.1 | H5: =DEGREES(ATAN(G5/J5)) -> 3.4739625 | I5: =SUM(M$4:M5) -> 2.4709054 | J5: =I5-I4 -> 1.6472703 | K5: 1500 | L5: 1 | M5: =VLOOKUP(K5,VEHICLE!I$30:L$54,MATCH(L5,VEHICLE!I$30:L$30,0),0) -> 1.6472703 | N5: =M5-M4 -> 0.82363514 | O5: =IF(L5=1,VEHICLE!C$68*'DUTY CYCLE'!N5,IF(L5=2,VEHICLE!C$69*'DUTY CYCLE'!N5,IF('DUTY CYCLE'!L5=3,VEHICLE!C$70*'DUTY CYCLE'!N5))) -> 490.00585 | P5: 0.013 | Q5: =P5*VEHICLE!C$47*9.81 -> 72.351595 | R5: =0.5*VEHICLE!C$20*VEHICLE!C$28*1.2*((M5)^2) -> 1.066218 | S5: =VEHICLE!C$47*9.81*SIN(RADIANS(H5)) -> 337.24158 | T5: =SUM(Q5:S5)+O5 -> 900.66525 | U5: =ABS(((+T5)*(+M5))/1000) -> 1.4836391 | V5: =((VEHICLE!C$12*1000)-U5*1000)/1000 -> 11.93918 | W5: =U5 -> 1.4836391 | X5: =ABS((W5*1000)/((2*PI()*K5)/60)) -> 9.4451398 | Y5: =ROUNDUP(X5,0) -> 10 | Z5: =T5 -> 900.66525 | AA5: =SUM(Z$4:Z5) -> 900.66525 | AB5: =INDEX(BSFC!D$5:AD$27,MATCH('DUTY CYCLE'!Y5,BSFC!C$5:C$27,0),MATCH('DUTY CYCLE'!K5,BSFC!D$28:AD$28,0)) -> 651.71791 | AC5: =U5*AB5/3600 -> 0.26858727 | AD5: =AC5*(3.09*1000) -> 829.93467 | AE5: =0.5*VEHICLE!C$47*('DUTY CYCLE'!M5^2)/1000 -> 0.7697248 | AF5: =Z5+AE5 -> 901.43497 | AI5: 3 | AJ5: 1250 | AK5: 21
B6: 2 | D6: TARMAC | E6: =IF(H6>0,"UPHILL",IF(H6<0,"DOWNHILL",IF(H6=0,"FLAT",0))) -> UPHILL | F6: 5.3 | G6: =F6-F5 -> 0.2 | H6: =DEGREES(ATAN(G6/J6)) -> 6.9225688 | I6: =SUM(M$4:M6) -> 4.1181757 | J6: =I6-I5 -> 1.6472703 | K6: 1500 | L6: 1 | M6: =VLOOKUP(K6,VEHICLE!I$30:L$54,MATCH(L6,VEHICLE!I$30:L$30,0),0) -> 1.6472703 | N6: =M6-M5 -> 0 | O6: =IF(L6=1,VEHICLE!C$68*'DUTY CYCLE'!N6,IF(L6=2,VEHICLE!C$69*'DUTY CYCLE'!N6,IF('DUTY CYCLE'!L6=3,VEHICLE!C$70*'DUTY CYCLE'!N6))) -> 0 | P6: 0.013 | Q6: =P6*VEHICLE!C$47*9.81 -> 72.351595 | R6: =0.5*VEHICLE!C$20*VEHICLE!C$28*1.2*((M6)^2) -> 1.066218 | S6: =VEHICLE!C$47*9.81*SIN(RADIANS(H6)) -> 670.79878 | T6: =SUM(Q6:S6)+O6 -> 744.21659 | U6: =ABS(((+T6)*(+M6))/1000) -> 1.2259259 | V6: =((VEHICLE!C$12*1000)-U6*1000)/1000 -> 12.196893 | W6: =U6 -> 1.2259259 | X6: =ABS((W6*1000)/((2*PI()*K6)/60)) -> 7.8044865 | Y6: =ROUNDUP(X6,0) -> 8 | Z6: =T6 -> 744.21659 | AA6: =SUM(Z$4:Z6) -> 1644.8818 | AB6: =INDEX(BSFC!D$5:AD$27,MATCH('DUTY CYCLE'!Y6,BSFC!C$5:C$27,0),MATCH('DUTY CYCLE'!K6,BSFC!D$28:AD$28,0)) -> 680.1117 | AC6: =U6*AB6/3600 -> 0.23160181 | AD6: =AC6*(3.09*1000) -> 715.6496 | AE6: =0.5*VEHICLE!C$47*('DUTY CYCLE'!M6^2)/1000 -> 0.7697248 | AF6: =Z6+AE6 -> 744.98632 | AJ6: 1500
B7: 3 | D7: TARMAC | E7: =IF(H7>0,"UPHILL",IF(H7<0,"DOWNHILL",IF(H7=0,"FLAT",0))) -> UPHILL | F7: 5.6 | G7: =F7-F6 -> 0.3 | H7: =DEGREES(ATAN(G7/J7)) -> 7.7778765 | I7: =SUM(M$4:M7) -> 6.3145361 | J7: =I7-I6 -> 2.1963604 | K7: 2000 | L7: 1 | M7: =VLOOKUP(K7,VEHICLE!I$30:L$54,MATCH(L7,VEHICLE!I$30:L$30,0),0) -> 2.1963604 | N7: =M7-M6 -> 0.54909009 | O7: =IF(L7=1,VEHICLE!C$68*'DUTY CYCLE'!N7,IF(L7=2,VEHICLE!C$69*'DUTY CYCLE'!N7,IF('DUTY CYCLE'!L7=3,VEHICLE!C$70*'DUTY CYCLE'!N7))) -> 326.67057 | P7: 0.013 | Q7: =P7*VEHICLE!C$47*9.81 -> 72.351595 | R7: =0.5*VEHICLE!C$20*VEHICLE!C$28*1.2*((M7)^2) -> 1.8954987 | S7: =VEHICLE!C$47*9.81*SIN(RADIANS(H7)) -> 753.19683 | T7: =SUM(Q7:S7)+O7 -> 1154.1145 | U7: =ABS(((+T7)*(+M7))/1000) -> 2.5348513 | V7: =((VEHICLE!C$12*1000)-U7*1000)/1000 -> 10.887967 | W7: =U7 -> 2.5348513 | X7: =ABS((W7*1000)/((2*PI()*K7)/60)) -> 12.103024 | Y7: =ROUNDUP(X7,0) -> 13 | Z7: =T7 -> 1154.1145 | AA7: =SUM(Z$4:Z7) -> 2798.9963 | AB7: =INDEX(BSFC!D$5:AD$27,MATCH('DUTY CYCLE'!Y7,BSFC!C$5:C$27,0),MATCH('DUTY CYCLE'!K7,BSFC!D$28:AD$28,0)) -> 625.37673 | AC7: =U7*AB7/3600 -> 0.44034362 | AD7: =AC7*(3.09*1000) -> 1360.6618 | AE7: =0.5*VEHICLE!C$47*('DUTY CYCLE'!M7^2)/1000 -> 1.3683996 | AF7: =Z7+AE7 -> 1155.4829 | AJ7: 1750
B8: 4 | D8: TARMAC | E8: =IF(H8>0,"UPHILL",IF(H8<0,"DOWNHILL",IF(H8=0,"FLAT",0))) -> UPHILL | F8: 6 | G8: =F8-F7 -> 0.4 | H8: =DEGREES(ATAN(G8/J8)) -> 8.2894166 | I8: =SUM(M$4:M8) -> 9.0599865 | J8: =I8-I7 -> 2.7454505 | K8: 2500 | L8: 1 | M8: =VLOOKUP(K8,VEHICLE!I$30:L$54,MATCH(L8,VEHICLE!I$30:L$30,0),0) -> 2.7454505 | N8: =M8-M7 -> 0.54909009 | O8: =IF(L8=1,VEHICLE!C$68*'DUTY CYCLE'!N8,IF(L8=2,VEHICLE!C$69*'DUTY CYCLE'!N8,IF('DUTY CYCLE'!L8=3,VEHICLE!C$70*'DUTY CYCLE'!N8))) -> 326.67057 | P8: 0.013 | Q8: =P8*VEHICLE!C$47*9.81 -> 72.351595 | R8: =0.5*VEHICLE!C$20*VEHICLE!C$28*1.2*((M8)^2) -> 2.9617167 | S8: =VEHICLE!C$47*9.81*SIN(RADIANS(H8)) -> 802.39821 | T8: =SUM(Q8:S8)+O8 -> 1204.3821 | U8: =ABS(((+T8)*(+M8))/1000) -> 3.3065714 | V8: =((VEHICLE!C$12*1000)-U8*1000)/1000 -> 10.116247 | W8: =U8 -> 3.3065714 | X8: =ABS((W8*1000)/((2*PI()*K8)/60)) -> 12.630172 | Y8: =ROUNDUP(X8,0) -> 13 | Z8: =T8 -> 1204.3821 | AA8: =SUM(Z$4:Z8) -> 4003.3784 | AB8: =INDEX(BSFC!D$5:AD$27,MATCH('DUTY CYCLE'!Y8,BSFC!C$5:C$27,0),MATCH('DUTY CYCLE'!K8,BSFC!D$28:AD$28,0)) -> 584.40292 | AC8: =U8*AB8/3600 -> 0.53676943 | AD8: =AC8*(3.09*1000) -> 1658.6175 | AE8: =0.5*VEHICLE!C$47*('DUTY CYCLE'!M8^2)/1000 -> 2.1381244 | AF8: =Z8+AE8 -> 1206.5202 | AJ8: 2000
B9: 5 | D9: TARMAC | E9: =IF(H9>0,"UPHILL",IF(H9<0,"DOWNHILL",IF(H9=0,"FLAT",0))) -> UPHILL | F9: 6.5 | G9: =F9-F8 -> 0.5 | H9: =DEGREES(ATAN(G9/J9)) -> 7.9747749 | I9: =SUM(M$4:M9) -> 12.629072 | J9: =I9-I8 -> 3.5690856 | K9: 3250 | L9: 1 | M9: =VLOOKUP(K9,VEHICLE!I$30:L$54,MATCH(L9,VEHICLE!I$30:L$30,0),0) -> 3.5690856 | N9: =M9-M8 -> 0.82363514 | O9: =IF(L9=1,VEHICLE!C$68*'DUTY CYCLE'!N9,IF(L9=2,VEHICLE!C$69*'DUTY CYCLE'!N9,IF('DUTY CYCLE'!L9=3,VEHICLE!C$70*'DUTY CYCLE'!N9))) -> 490.00585 | P9: 0.013 | Q9: =P9*VEHICLE!C$47*9.81 -> 72.351595 | R9: =0.5*VEHICLE!C$20*VEHICLE!C$28*1.2*((M9)^2) -> 5.0053012 | S9: =VEHICLE!C$47*9.81*SIN(RADIANS(H9)) -> 772.1424 | T9: =SUM(Q9:S9)+O9 -> 1339.5052 | U9: =ABS(((+T9)*(+M9))/1000) -> 4.7808085 | V9: =((VEHICLE!C$12*1000)-U9*1000)/1000 -> 8.6420102 | W9: =U9 -> 4.7808085 | X9: =ABS((W9*1000)/((2*PI()*K9)/60)) -> 14.047187 | Y9: =ROUNDUP(X9,0) -> 15 | Z9: =T9 -> 1339.5052 | AA9: =SUM(Z$4:Z9) -> 5342.8836 | AB9: =INDEX(BSFC!D$5:AD$27,MATCH('DUTY CYCLE'!Y9,BSFC!C$5:C$27,0),MATCH('DUTY CYCLE'!K9,BSFC!D$28:AD$28,0)) -> 543.2521 | AC9: =U9*AB9/3600 -> 0.72144008 | AD9: =AC9*(3.09*1000) -> 2229.2498 | AE9: =0.5*VEHICLE!C$47*('DUTY CYCLE'!M9^2)/1000 -> 3.6134303 | AF9: =Z9+AE9 -> 1343.1186 | AJ9: 2250
B10: 6 | D10: TARMAC | E10: =IF(H10>0,"UPHILL",IF(H10<0,"DOWNHILL",IF(H10=0,"FLAT",0))) -> UPHILL | F10: 7.1 | G10: =F10-F9 -> 0.6 | H10: =DEGREES(ATAN(G10/J10)) -> 8.2894166 | I10: =SUM(M$4:M10) -> 16.747248 | J10: =I10-I9 -> 4.1181757 | K10: 3750 | L10: 1 | M10: =VLOOKUP(K10,VEHICLE!I$30:L$54,MATCH(L10,VEHICLE!I$30:L$30,0),0) -> 4.1181757 | N10: =M10-M9 -> 0.54909009 | O10: =IF(L10=1,VEHICLE!C$68*'DUTY CYCLE'!N10,IF(L10=2,VEHICLE!C$69*'DUTY CYCLE'!N10,IF('DUTY CYCLE'!L10=3,VEHICLE!C$70*'DUTY CYCLE'!N10))) -> 326.67057 | P10: 0.013 | Q10: =P10*VEHICLE!C$47*9.81 -> 72.351595 | R10: =0.5*VEHICLE!C$20*VEHICLE!C$28*1.2*((M10)^2) -> 6.6638626 | S10: =VEHICLE!C$47*9.81*SIN(RADIANS(H10)) -> 802.39821 | T10: =SUM(Q10:S10)+O10 -> 1208.0842 | U10: =ABS(((+T10)*(+M10))/1000) -> 4.9751031 | V10: =((VEHICLE!C$12*1000)-U10*1000)/1000 -> 8.4477157 | W10: =U10 -> 4.9751031 | X10: =ABS((W10*1000)/((2*PI()*K10)/60)) -> 12.668996 | Y10: =ROUNDUP(X10,0) -> 13 | Z10: =T10 -> 1208.0842 | AA10: =SUM(Z$4:Z10) -> 6550.9678 | AB10: =INDEX(BSFC!D$5:AD$27,MATCH('DUTY CYCLE'!Y10,BSFC!C$5:C$27,0),MATCH('DUTY CYCLE'!K10,BSFC!D$28:AD$28,0)) -> 505.48915 | AC10: =U10*AB10/3600 -> 0.6985724 | AD10: =AC10*(3.09*1000) -> 2158.5887 | AE10: =0.5*VEHICLE!C$47*('DUTY CYCLE'!M10^2)/1000 -> 4.81078 | AF10: =Z10+AE10 -> 1212.895 | AJ10: 2500
B11: 7 | D11: TARMAC | E11: =IF(H11>0,"UPHILL",IF(H11<0,"DOWNHILL",IF(H11=0,"FLAT",0))) -> UPHILL | F11: 7.45 | G11: =F11-F10 -> 0.35 | H11: =DEGREES(ATAN(G11/J11)) -> 4.1417442 | I11: =SUM(M$4:M11) -> 21.580618 | J11: =I11-I10 -> 4.8333698 | K11: 3000 | L11: 2 | M11: =VLOOKUP(K11,VEHICLE!I$30:L$54,MATCH(L11,VEHICLE!I$30:L$30,0),0) -> 4.8333698 | N11: =M11-M10 -> 0.71519415 | O11: =IF(L11=1,VEHICLE!C$68*'DUTY CYCLE'!N11,IF(L11=2,VEHICLE!C$69*'DUTY CYCLE'!N11,IF('DUTY CYCLE'!L11=3,VEHICLE!C$70*'DUTY CYCLE'!N11))) -> 420.3782 | P11: 0.013 | Q11: =P11*VEHICLE!C$47*9.81 -> 72.351595 | R11: =0.5*VEHICLE!C$20*VEHICLE!C$28*1.2*((M11)^2) -> 9.1794434 | S11: =VEHICLE!C$47*9.81*SIN(RADIANS(H11)) -> 401.96394 | T11: =SUM(Q11:S11)+O11 -> 903.87318 | U11: =ABS(((+T11)*(+M11))/1000) -> 4.3687534 | V11: =((VEHICLE!C$12*1000)-U11*1000)/1000 -> 9.0540654 | W11: =U11 -> 4.3687534 | X11: =ABS((W11*1000)/((2*PI()*K11)/60)) -> 13.906174 | Y11: =ROUNDUP(X11,0) -> 14 | Z11: =T11 -> 903.87318 | AA11: =SUM(Z$4:Z11) -> 7454.841 | AB11: =INDEX(BSFC!D$5:AD$27,MATCH('DUTY CYCLE'!Y11,BSFC!C$5:C$27,0),MATCH('DUTY CYCLE'!K11,BSFC!D$28:AD$28,0)) -> 554.46639 | AC11: =U11*AB11/3600 -> 0.67286859 | AD11: =AC11*(3.09*1000) -> 2079.1639 | AE11: =0.5*VEHICLE!C$47*('DUTY CYCLE'!M11^2)/1000 -> 6.6268297 | AF11: =Z11+AE11 -> 910.50001 | AJ11: 2750
B12: 8 | D12: TARMAC | E12: =IF(H12>0,"UPHILL",IF(H12<0,"DOWNHILL",IF(H12=0,"FLAT",0))) -> UPHILL | F12: 7.8 | G12: =F12-F11 -> 0.35 | H12: =DEGREES(ATAN(G12/J12)) -> 3.5517066 | I12: =SUM(M$4:M12) -> 27.219549 | J12: =I12-I11 -> 5.6389315 | K12: 3500 | L12: 2 | M12: =VLOOKUP(K12,VEHICLE!I$30:L$54,MATCH(L12,VEHICLE!I$30:L$30,0),0) -> 5.6389315 | N12: =M12-M11 -> 0.80556164 | O12: =IF(L12=1,VEHICLE!C$68*'DUTY CYCLE'!N12,IF(L12=2,VEHICLE!C$69*'DUTY CYCLE'!N12,IF('DUTY CYCLE'!L12=3,VEHICLE!C$70*'DUTY CYCLE'!N12))) -> 473.49458 | P12: 0.013 | Q12: =P12*VEHICLE!C$47*9.81 -> 72.351595 | R12: =0.5*VEHICLE!C$20*VEHICLE!C$28*1.2*((M12)^2) -> 12.494242 | S12: =VEHICLE!C$47*9.81*SIN(RADIANS(H12)) -> 344.77918 | T12: =SUM(Q12:S12)+O12 -> 903.1196 | U12: =ABS(((+T12)*(+M12))/1000) -> 5.0926295 | V12: =((VEHICLE!C$12*1000)-U12*1000)/1000 -> 8.3301893 | W12: =U12 -> 5.0926295 | X12: =ABS((W12*1000)/((2*PI()*K12)/60)) -> 13.89458 | Y12: =ROUNDUP(X12,0) -> 14 | Z12: =T12 -> 903.1196 | AA12: =SUM(Z$4:Z12) -> 8357.9606 | AB12: =INDEX(BSFC!D$5:AD$27,MATCH('DUTY CYCLE'!Y12,BSFC!C$5:C$27,0),MATCH('DUTY CYCLE'!K12,BSFC!D$28:AD$28,0)) -> 523.69059 | AC12: =U12*AB12/3600 -> 0.74082282 | AD12: =AC12*(3.09*1000) -> 2289.1425 | AE12: =0.5*VEHICLE!C$47*('DUTY CYCLE'!M12^2)/1000 -> 9.0198515 | AF12: =Z12+AE12 -> 912.13945 | AJ12: 3000
B13: 9 | D13: TARMAC | E13: =IF(H13>0,"UPHILL",IF(H13<0,"DOWNHILL",IF(H13=0,"FLAT",0))) -> UPHILL | F13: 8.15 | G13: =F13-F12 -> 0.35 | H13: =DEGREES(ATAN(G13/J13)) -> 2.9261404 | I13: =SUM(M$4:M13) -> 34.066823 | J13: =I13-I12 -> 6.8472739 | K13: 4250 | L13: 2 | M13: =VLOOKUP(K13,VEHICLE!I$30:L$54,MATCH(L13,VEHICLE!I$30:L$30,0),0) -> 6.8472739 | N13: =M13-M12 -> 1.2083425 | O13: =IF(L13=1,VEHICLE!C$68*'DUTY CYCLE'!N13,IF(L13=2,VEHICLE!C$69*'DUTY CYCLE'!N13,IF('DUTY CYCLE'!L13=3,VEHICLE!C$70*'DUTY CYCLE'!N13))) -> 710.24187 | P13: 0.013 | Q13: =P13*VEHICLE!C$47*9.81 -> 72.351595 | R13: =0.5*VEHICLE!C$20*VEHICLE!C$28*1.2*((M13)^2) -> 18.422633 | S13: =VEHICLE!C$47*9.81*SIN(RADIANS(H13)) -> 284.11128 | T13: =SUM(Q13:S13)+O13 -> 1085.1274 | U13: =ABS(((+T13)*(+M13))/1000) -> 7.4301645 | V13: =((VEHICLE!C$12*1000)-U13*1000)/1000 -> 5.9926543 | W13: =U13 -> 7.4301645 | X13: =ABS((W13*1000)/((2*PI()*K13)/60)) -> 16.694787 | Y13: =ROUNDUP(X13,0) -> 17 | Z13: =T13 -> 1085.1274 | AA13: =SUM(Z$4:Z13) -> 9443.088 | AB13: =INDEX(BSFC!D$5:AD$27,MATCH('DUTY CYCLE'!Y13,BSFC!C$5:C$27,0),MATCH('DUTY CYCLE'!K13,BSFC!D$28:AD$28,0)) -> 505.64048 | AC13: =U13*AB13/3600 -> 1.0436089 | AD13: =AC13*(3.09*1000) -> 3224.7514 | AE13: =0.5*VEHICLE!C$47*('DUTY CYCLE'!M13^2)/1000 -> 13.299679 | AF13: =Z13+AE13 -> 1098.4271 | AJ13: 3250
B14: 10 | D14: TARMAC | E14: =IF(H14>0,"UPHILL",IF(H14<0,"DOWNHILL",IF(H14=0,"FLAT",0))) -> UPHILL | F14: 8.5 | G14: =F14-F13 -> 0.35 | H14: =DEGREES(ATAN(G14/J14)) -> 2.6185795 | I14: =SUM(M$4:M14) -> 41.719659 | J14: =I14-I13 -> 7.6528356 | K14: 4750 | L14: 2 | M14: =VLOOKUP(K14,VEHICLE!I$30:L$54,MATCH(L14,VEHICLE!I$30:L$30,0),0) -> 7.6528356 | N14: =M14-M13 -> 0.80556164 | O14: =IF(L14=1,VEHICLE!C$68*'DUTY CYCLE'!N14,IF(L14=2,VEHICLE!C$69*'DUTY CYCLE'!N14,IF('DUTY CYCLE'!L14=3,VEHICLE!C$70*'DUTY CYCLE'!N14))) -> 473.49458 | P14: 0.013 | Q14: =P14*VEHICLE!C$47*9.81 -> 72.351595 | R14: =0.5*VEHICLE!C$20*VEHICLE!C$28*1.2*((M14)^2) -> 23.012355 | S14: =VEHICLE!C$47*9.81*SIN(RADIANS(H14)) -> 254.27092 | T14: =SUM(Q14:S14)+O14 -> 823.12945 | U14: =ABS(((+T14)*(+M14))/1000) -> 6.2992743 | V14: =((VEHICLE!C$12*1000)-U14*1000)/1000 -> 7.1235444 | W14: =U14 -> 6.2992743 | X14: =ABS((W14*1000)/((2*PI()*K14)/60)) -> 12.663924 | Y14: =ROUNDUP(X14,0) -> 13 | Z14: =T14 -> 823.12945 | AA14: =SUM(Z$4:Z14) -> 10266.217 | AB14: =INDEX(BSFC!D$5:AD$27,MATCH('DUTY CYCLE'!Y14,BSFC!C$5:C$27,0),MATCH('DUTY CYCLE'!K14,BSFC!D$28:AD$28,0)) -> 409.05703 | AC14: =U14*AB14/3600 -> 0.71576735 | AD14: =AC14*(3.09*1000) -> 2211.7211 | AE14: =0.5*VEHICLE!C$47*('DUTY CYCLE'!M14^2)/1000 -> 16.613094 | AF14: =Z14+AE14 -> 839.74254 | AJ14: 3500
B15: 11 | D15: TARMAC | E15: =IF(H15>0,"UPHILL",IF(H15<0,"DOWNHILL",IF(H15=0,"FLAT",0))) -> DOWNHILL | F15: 8.35 | G15: =F15-F14 -> -0.15 | H15: =DEGREES(ATAN(G15/J15)) -> -1.253671 | I15: =SUM(M$4:M15) -> 48.573925 | J15: =I15-I14 -> 6.8542667 | K15: 3250 | L15: 3 | M15: =VLOOKUP(K15,VEHICLE!I$30:L$54,MATCH(L15,VEHICLE!I$30:L$30,0),0) -> 6.8542667 | N15: =M15-M14 -> -0.79856892 | O15: =IF(L15=1,VEHICLE!C$68*'DUTY CYCLE'!N15,IF(L15=2,VEHICLE!C$69*'DUTY CYCLE'!N15,IF('DUTY CYCLE'!L15=3,VEHICLE!C$70*'DUTY CYCLE'!N15))) -> -467.32141 | P15: 0.013 | Q15: =P15*VEHICLE!C$47*9.81 -> 72.351595 | R15: =0.5*VEHICLE!C$20*VEHICLE!C$28*1.2*((M15)^2) -> 18.46028 | S15: =VEHICLE!C$47*9.81*SIN(RADIANS(H15)) -> -121.7674 | T15: =SUM(Q15:S15)+O15 -> -498.27694 | U15: =ABS(((+T15)*(+M15))/1000) -> 3.415323 | V15: =((VEHICLE!C$12*1000)-U15*1000)/1000 -> 10.007496 | W15: =U15 -> 3.415323 | X15: =ABS((W15*1000)/((2*PI()*K15)/60)) -> 10.035056 | Y15: =ROUNDUP(X15,0) -> 11 | Z15: =T15 -> -498.27694 | AA15: =SUM(Z$4:Z15) -> 9767.9405 | AB15: =INDEX(BSFC!D$5:AD$27,MATCH('DUTY CYCLE'!Y15,BSFC!C$5:C$27,0),MATCH('DUTY CYCLE'!K15,BSFC!D$28:AD$28,0)) -> 562.64721 | AC15: =U15*AB15/3600 -> 0.53378388 | AD15: =AC15*(3.09*1000) -> 1649.3922 | AE15: =0.5*VEHICLE!C$47*('DUTY CYCLE'!M15^2)/1000 -> 13.326857 | AF15: =Z15+AE15 -> -484.95008 | AJ15: 3750
B16: 12 | D16: TARMAC | E16: =IF(H16>0,"UPHILL",IF(H16<0,"DOWNHILL",IF(H16=0,"FLAT",0))) -> UPHILL | F16: 9.2 | G16: =F16-F15 -> 0.85 | H16: =DEGREES(ATAN(G16/J16)) -> 7.0691791 | I16: =SUM(M$4:M16) -> 55.428192 | J16: =I16-I15 -> 6.8542667 | K16: 3250 | L16: 3 | M16: =VLOOKUP(K16,VEHICLE!I$30:L$54,MATCH(L16,VEHICLE!I$30:L$30,0),0) -> 6.8542667 | N16: =M16-M15 -> 0 | O16: =IF(L16=1,VEHICLE!C$68*'DUTY CYCLE'!N16,IF(L16=2,VEHICLE!C$69*'DUTY CYCLE'!N16,IF('DUTY CYCLE'!L16=3,VEHICLE!C$70*'DUTY CYCLE'!N16))) -> 0 | P16: 0.013 | Q16: =P16*VEHICLE!C$47*9.81 -> 72.351595 | R16: =0.5*VEHICLE!C$20*VEHICLE!C$28*1.2*((M16)^2) -> 18.46028 | S16: =VEHICLE!C$47*9.81*SIN(RADIANS(H16)) -> 684.93395 | T16: =SUM(Q16:S16)+O16 -> 775.74582 | U16: =ABS(((+T16)*(+M16))/1000) -> 5.3171687 | V16: =((VEHICLE!C$12*1000)-U16*1000)/1000 -> 8.1056501 | W16: =U16 -> 5.3171687 | X16: =ABS((W16*1000)/((2*PI()*K16)/60)) -> 15.623145 | Y16: =ROUNDUP(X16,0) -> 16 | Z16: =T16 -> 775.74582 | AA16: =SUM(Z$4:Z16) -> 10543.686 | AB16: =INDEX(BSFC!D$5:AD$27,MATCH('DUTY CYCLE'!Y16,BSFC!C$5:C$27,0),MATCH('DUTY CYCLE'!K16,BSFC!D$28:AD$28,0)) -> 552.939 | AC16: =U16*AB16/3600 -> 0.8166861 | AD16: =AC16*(3.09*1000) -> 2523.5601 | AE16: =0.5*VEHICLE!C$47*('DUTY CYCLE'!M16^2)/1000 -> 13.326857 | AF16: =Z16+AE16 -> 789.07268 | AJ16: 4000
B17: 13 | D17: TARMAC | E17: =IF(H17>0,"UPHILL",IF(H17<0,"DOWNHILL",IF(H17=0,"FLAT",0))) -> UPHILL | F17: 9.55 | G17: =F17-F16 -> 0.35 | H17: =DEGREES(ATAN(G17/J17)) -> 2.7146875 | I17: =SUM(M$4:M17) -> 62.80971 | J17: =I17-I16 -> 7.3815179 | K17: 3500 | L17: 3 | M17: =VLOOKUP(K17,VEHICLE!I$30:L$54,MATCH(L17,VEHICLE!I$30:L$30,0),0) -> 7.3815179 | N17: =M17-M16 -> 0.52725128 | O17: =IF(L17=1,VEHICLE!C$68*'DUTY CYCLE'!N17,IF(L17=2,VEHICLE!C$69*'DUTY CYCLE'!N17,IF('DUTY CYCLE'!L17=3,VEHICLE!C$70*'DUTY CYCLE'!N17))) -> 308.54671 | P17: 0.013 | Q17: =P17*VEHICLE!C$47*9.81 -> 72.351595 | R17: =0.5*VEHICLE!C$20*VEHICLE!C$28*1.2*((M17)^2) -> 21.409556 | S17: =VEHICLE!C$47*9.81*SIN(RADIANS(H17)) -> 263.5964 | T17: =SUM(Q17:S17)+O17 -> 665.90426 | U17: =ABS(((+T17)*(+M17))/1000) -> 4.9153842 | V17: =((VEHICLE!C$12*1000)-U17*1000)/1000 -> 8.5074346 | W17: =U17 -> 4.9153842 | X17: =ABS((W17*1000)/((2*PI()*K17)/60)) -> 13.410989 | Y17: =ROUNDUP(X17,0) -> 14 | Z17: =T17 -> 665.90426 | AA17: =SUM(Z$4:Z17) -> 11209.591 | AB17: =INDEX(BSFC!D$5:AD$27,MATCH('DUTY CYCLE'!Y17,BSFC!C$5:C$27,0),MATCH('DUTY CYCLE'!K17,BSFC!D$28:AD$28,0)) -> 523.69059 | AC17: =U17*AB17/3600 -> 0.71503901 | AD17: =AC17*(3.09*1000) -> 2209.4705 | AE17: =0.5*VEHICLE!C$47*('DUTY CYCLE'!M17^2)/1000 -> 15.456 | AF17: =Z17+AE17 -> 681.36026 | AJ17: 4250
... B19: 15 | D19: TARMAC | E19: =IF(H19>0,"UPHILL",IF(H19<0,"DOWNHILL",IF(H19=0,"FLAT",0))) -> UPHILL | F19: 10.25 | G19: =F19-F18 -> 0.35 | H19: =DEGREES(ATAN(G19/J19)) -> 2.6185795 | I19: =SUM(M$4:M19) -> 78.371315 | J19: =I19-I18 -> 7.6528356 | K19: 4750 | L19: 2 | M19: =VLOOKUP(K19,VEHICLE!I$30:L$54,MATCH(L19,VEHICLE!I$30:L$30,0),0) -> 7.6528356 | N19: =M19-M18 -> -0.25593365 | O19: =IF(L19=1,VEHICLE!C$68*'DUTY CYCLE'!N19,IF(L19=2,VEHICLE!C$69*'DUTY CYCLE'!N19,IF('DUTY CYCLE'!L19=3,VEHICLE!C$70*'DUTY CYCLE'!N19))) -> -150.43317 | P19: 0.013 | Q19: =P19*VEHICLE!C$47*9.81 -> 72.351595 | R19: =0.5*VEHICLE!C$20*VEHICLE!C$28*1.2*((M19)^2) -> 23.012355 | S19: =VEHICLE!C$47*9.81*SIN(RADIANS(H19)) -> 254.27092 | T19: =SUM(Q19:S19)+O19 -> 199.2017 | U19: =ABS(((+T19)*(+M19))/1000) -> 1.5244578 | V19: =((VEHICLE!C$12*1000)-U19*1000)/1000 -> 11.898361 | W19: =U19 -> 1.5244578 | X19: =ABS((W19*1000)/((2*PI()*K19)/60)) -> 3.0647368 | Y19: =ROUNDUP(X19,0) -> 4 | Z19: =T19 -> 199.2017 | AA19: =SUM(Z$4:Z19) -> 12060.327 | AB19: =INDEX(BSFC!D$5:AD$27,MATCH('DUTY CYCLE'!Y19,BSFC!C$5:C$27,0),MATCH('DUTY CYCLE'!K19,BSFC!D$28:AD$28,0)) -> 731.05834 | AC19: =U19*AB19/3600 -> 0.30957434 | AD19: =AC19*(3.09*1000) -> 956.5847 | AE19: =0.5*VEHICLE!C$47*('DUTY CYCLE'!M19^2)/1000 -> 16.613094 | AF19: =Z19+AE19 -> 215.81479 | AJ19: 4750
B20: 16 | C20: TURN 1 | D20: TARMAC | E20: =IF(H20>0,"UPHILL",IF(H20<0,"DOWNHILL",IF(H20=0,"FLAT",0))) -> UPHILL | F20: 10.6 | G20: =F20-F19 -> 0.35 | H20: =DEGREES(ATAN(G20/J20)) -> 3.108676 | I20: =SUM(M$4:M20) -> 84.815808 | J20: =I20-I19 -> 6.4444931 | K20: 4000 | L20: 2 | M20: =VLOOKUP(K20,VEHICLE!I$30:L$54,MATCH(L20,VEHICLE!I$30:L$30,0),0) -> 6.4444931 | N20: =M20-M19 -> -1.2083425 | O20: =IF(L20=1,VEHICLE!C$68*'DUTY CYCLE'!N20,IF(L20=2,VEHICLE!C$69*'DUTY CYCLE'!N20,IF('DUTY CYCLE'!L20=3,VEHICLE!C$70*'DUTY CYCLE'!N20))) -> -710.24187 | P20: 0.013 | Q20: =P20*VEHICLE!C$47*9.81 -> 72.351595 | R20: =0.5*VEHICLE!C$20*VEHICLE!C$28*1.2*((M20)^2) -> 16.31901 | S20: =VEHICLE!C$47*9.81*SIN(RADIANS(H20)) -> 301.81755 | T20: =SUM(Q20:S20)+O20 -> -319.75372 | U20: =ABS(((+T20)*(+M20))/1000) -> 2.0606506 | V20: =((VEHICLE!C$12*1000)-U20*1000)/1000 -> 11.362168 | W20: =U20 -> 2.0606506 | X20: =ABS((W20*1000)/((2*PI()*K20)/60)) -> 4.919441 | Y20: =ROUNDUP(X20,0) -> 5 | Z20: =T20 -> -319.75372 | AA20: =SUM(Z$4:Z20) -> 11740.573 | AB20: =INDEX(BSFC!D$5:AD$27,MATCH('DUTY CYCLE'!Y20,BSFC!C$5:C$27,0),MATCH('DUTY CYCLE'!K20,BSFC!D$28:AD$28,0)) -> 708.06943 | AC20: =U20*AB20/3600 -> 0.40530103 | AD20: =AC20*(3.09*1000) -> 1252.3802 | AE20: =0.5*VEHICLE!C$47*('DUTY CYCLE'!M20^2)/1000 -> 11.781031 | AF20: =Z20+AE20 -> -307.97269 | AJ20: 5000
B21: 17 | D21: TARMAC | E21: =IF(H21>0,"UPHILL",IF(H21<0,"DOWNHILL",IF(H21=0,"FLAT",0))) -> UPHILL | F21: 10.65 | G21: =F21-F20 -> 0.05 | H21: =DEGREES(ATAN(G21/J21)) -> 0.41837643 | I21: =SUM(M$4:M21) -> 91.663082 | J21: =I21-I20 -> 6.8472739 | K21: 4250 | L21: 2 | M21: =VLOOKUP(K21,VEHICLE!I$30:L$54,MATCH(L21,VEHICLE!I$30:L$30,0),0) -> 6.8472739 | N21: =M21-M20 -> 0.40278082 | O21: =IF(L21=1,VEHICLE!C$68*'DUTY CYCLE'!N21,IF(L21=2,VEHICLE!C$69*'DUTY CYCLE'!N21,IF('DUTY CYCLE'!L21=3,VEHICLE!C$70*'DUTY CYCLE'!N21))) -> 236.74729 | P21: 0.013 | Q21: =P21*VEHICLE!C$47*9.81 -> 72.351595 | R21: =0.5*VEHICLE!C$20*VEHICLE!C$28*1.2*((M21)^2) -> 18.422633 | S21: =VEHICLE!C$47*9.81*SIN(RADIANS(H21)) -> 40.639231 | T21: =SUM(Q21:S21)+O21 -> 368.16075 | U21: =ABS(((+T21)*(+M21))/1000) -> 2.5208975 | V21: =((VEHICLE!C$12*1000)-U21*1000)/1000 -> 10.901921 | W21: =U21 -> 2.5208975 | X21: =ABS((W21*1000)/((2*PI()*K21)/60)) -> 5.6641877 | Y21: =ROUNDUP(X21,0) -> 6 | Z21: =T21 -> 368.16075 | AA21: =SUM(Z$4:Z21) -> 12108.734 | AB21: =INDEX(BSFC!D$5:AD$27,MATCH('DUTY CYCLE'!Y21,BSFC!C$5:C$27,0),MATCH('DUTY CYCLE'!K21,BSFC!D$28:AD$28,0)) -> 622.70879 | AC21: =U21*AB21/3600 -> 0.4360514 | AD21: =AC21*(3.09*1000) -> 1347.3988 | AE21: =0.5*VEHICLE!C$47*('DUTY CYCLE'!M21^2)/1000 -> 13.299679 | AF21: =Z21+AE21 -> 381.46043 | AJ21: 5250
B22: 18 | D22: TARMAC | E22: =IF(H22>0,"UPHILL",IF(H22<0,"DOWNHILL",IF(H22=0,"FLAT",0))) -> UPHILL | F22: 11.1 | G22: =F22-F21 -> 0.45 | H22: =DEGREES(ATAN(G22/J22)) -> 3.5517066 | I22: =SUM(M$4:M22) -> 98.913136 | J22: =I22-I21 -> 7.2500548 | K22: 4500 | L22: 2 | M22: =VLOOKUP(K22,VEHICLE!I$30:L$54,MATCH(L22,VEHICLE!I$30:L$30,0),0) -> 7.2500548 | N22: =M22-M21 -> 0.40278082 | O22: =IF(L22=1,VEHICLE!C$68*'DUTY CYCLE'!N22,IF(L22=2,VEHICLE!C$69*'DUTY CYCLE'!N22,IF('DUTY CYCLE'!L22=3,VEHICLE!C$70*'DUTY CYCLE'!N22))) -> 236.74729 | P22: 0.013 | Q22: =P22*VEHICLE!C$47*9.81 -> 72.351595 | R22: =0.5*VEHICLE!C$20*VEHICLE!C$28*1.2*((M22)^2) -> 20.653748 | S22: =VEHICLE!C$47*9.81*SIN(RADIANS(H22)) -> 344.77918 | T22: =SUM(Q22:S22)+O22 -> 674.53181 | U22: =ABS(((+T22)*(+M22))/1000) -> 4.8903926 | V22: =((VEHICLE!C$12*1000)-U22*1000)/1000 -> 8.5324262 | W22: =U22 -> 4.8903926 | X22: =ABS((W22*1000)/((2*PI()*K22)/60)) -> 10.377735 | Y22: =ROUNDUP(X22,0) -> 11 | Z22: =T22 -> 674.53181 | AA22: =SUM(Z$4:Z22) -> 12783.266 | AB22: =INDEX(BSFC!D$5:AD$27,MATCH('DUTY CYCLE'!Y22,BSFC!C$5:C$27,0),MATCH('DUTY CYCLE'!K22,BSFC!D$28:AD$28,0)) -> 472.43852 | AC22: =U22*AB22/3600 -> 0.64178051 | AD22: =AC22*(3.09*1000) -> 1983.1018 | AE22: =0.5*VEHICLE!C$47*('DUTY CYCLE'!M22^2)/1000 -> 14.910367 | AF22: =Z22+AE22 -> 689.44218 | AJ22: 5500
B23: 19 | D23: TARMAC | E23: =IF(H23>0,"UPHILL",IF(H23<0,"DOWNHILL",IF(H23=0,"FLAT",0))) -> DOWNHILL | F23: 10.8 | G23: =F23-F22 -> -0.3 | H23: =DEGREES(ATAN(G23/J23)) -> -2.2449113 | I23: =SUM(M$4:M23) -> 106.56597 | J23: =I23-I22 -> 7.6528356 | K23: 4750 | L23: 2 | M23: =VLOOKUP(K23,VEHICLE!I$30:L$54,MATCH(L23,VEHICLE!I$30:L$30,0),0) -> 7.6528356 | N23: =M23-M22 -> 0.40278082 | O23: =IF(L23=1,VEHICLE!C$68*'DUTY CYCLE'!N23,IF(L23=2,VEHICLE!C$69*'DUTY CYCLE'!N23,IF('DUTY CYCLE'!L23=3,VEHICLE!C$70*'DUTY CYCLE'!N23))) -> 236.74729 | P23: 0.013 | Q23: =P23*VEHICLE!C$47*9.81 -> 72.351595 | R23: =0.5*VEHICLE!C$20*VEHICLE!C$28*1.2*((M23)^2) -> 23.012355 | S23: =VEHICLE!C$47*9.81*SIN(RADIANS(H23)) -> -218.00687 | T23: =SUM(Q23:S23)+O23 -> 114.10437 | U23: =ABS(((+T23)*(+M23))/1000) -> 0.87322195 | V23: =((VEHICLE!C$12*1000)-U23*1000)/1000 -> 12.549597 | W23: =U23 -> 0.87322195 | X23: =ABS((W23*1000)/((2*PI()*K23)/60)) -> 1.7555064 | Y23: =ROUNDUP(X23,0) -> 2 | Z23: =T23 -> 114.10437 | AA23: =SUM(Z$4:Z23) -> 12897.37 | AB23: =INDEX(BSFC!D$5:AD$27,MATCH('DUTY CYCLE'!Y23,BSFC!C$5:C$27,0),MATCH('DUTY CYCLE'!K23,BSFC!D$28:AD$28,0)) -> 892.41382 | AC23: =U23*AB23/3600 -> 0.21646537 | AD23: =AC23*(3.09*1000) -> 668.878 | AE23: =0.5*VEHICLE!C$47*('DUTY CYCLE'!M23^2)/1000 -> 16.613094 | AF23: =Z23+AE23 -> 130.71746 | AJ23: 5750
B24: 20 | D24: TARMAC | E24: =IF(H24>0,"UPHILL",IF(H24<0,"DOWNHILL",IF(H24=0,"FLAT",0))) -> DOWNHILL | F24: 10.5 | G24: =F24-F23 -> -0.3 | H24: =DEGREES(ATAN(G24/J24)) -> -2.1327721 | I24: =SUM(M$4:M24) -> 114.62159 | J24: =I24-I23 -> 8.0556164 | K24: 5000 | L24: 2 | M24: =VLOOKUP(K24,VEHICLE!I$30:L$54,MATCH(L24,VEHICLE!I$30:L$30,0),0) -> 8.0556164 | N24: =M24-M23 -> 0.40278082 | O24: =IF(L24=1,VEHICLE!C$68*'DUTY CYCLE'!N24,IF(L24=2,VEHICLE!C$69*'DUTY CYCLE'!N24,IF('DUTY CYCLE'!L24=3,VEHICLE!C$70*'DUTY CYCLE'!N24))) -> 236.74729 | P24: 0.013 | Q24: =P24*VEHICLE!C$47*9.81 -> 72.351595 | R24: =0.5*VEHICLE!C$20*VEHICLE!C$28*1.2*((M24)^2) -> 25.498454 | S24: =VEHICLE!C$47*9.81*SIN(RADIANS(H24)) -> -207.12202 | T24: =SUM(Q24:S24)+O24 -> 127.47532 | U24: =ABS(((+T24)*(+M24))/1000) -> 1.0268922 | V24: =((VEHICLE!C$12*1000)-U24*1000)/1000 -> 12.395927 | W24: =U24 -> 1.0268922 | X24: =ABS((W24*1000)/((2*PI()*K24)/60)) -> 1.9612197 | Y24: =ROUNDUP(X24,0) -> 2 | Z24: =T24 -> 127.47532 | AA24: =SUM(Z$4:Z24) -> 13024.845 | AB24: =INDEX(BSFC!D$5:AD$27,MATCH('DUTY CYCLE'!Y24,BSFC!C$5:C$27,0),MATCH('DUTY CYCLE'!K24,BSFC!D$28:AD$28,0)) -> 881.18349 | AC24: =U24*AB24/3600 -> 0.25135569 | AD24: =AC24*(3.09*1000) -> 776.68909 | AE24: =0.5*VEHICLE!C$47*('DUTY CYCLE'!M24^2)/1000 -> 18.40786 | AF24: =Z24+AE24 -> 145.88318 | AJ24: 6000
B25: 21 | C25: TURN 2 | D25: TARMAC | E25: =IF(H25>0,"UPHILL",IF(H25<0,"DOWNHILL",IF(H25=0,"FLAT",0))) -> DOWNHILL | F25: 10.2 | G25: =F25-F24 -> -0.3 | H25: =DEGREES(ATAN(G25/J25)) -> -2.0312988 | I25: =SUM(M$4:M25) -> 123.07999 | J25: =I25-I24 -> 8.4583972 | K25: 5250 | L25: 2 | M25: =VLOOKUP(K25,VEHICLE!I$30:L$54,MATCH(L25,VEHICLE!I$30:L$30,0),0) -> 8.4583972 | N25: =M25-M24 -> 0.40278082 | O25: =IF(L25=1,VEHICLE!C$68*'DUTY CYCLE'!N25,IF(L25=2,VEHICLE!C$69*'DUTY CYCLE'!N25,IF('DUTY CYCLE'!L25=3,VEHICLE!C$70*'DUTY CYCLE'!N25))) -> 236.74729 | P25: 0.013 | Q25: =P25*VEHICLE!C$47*9.81 -> 72.351595 | R25: =0.5*VEHICLE!C$20*VEHICLE!C$28*1.2*((M25)^2) -> 28.112045 | S25: =VEHICLE!C$47*9.81*SIN(RADIANS(H25)) -> -197.27177 | T25: =SUM(Q25:S25)+O25 -> 139.93916 | U25: =ABS(((+T25)*(+M25))/1000) -> 1.183661 | V25: =((VEHICLE!C$12*1000)-U25*1000)/1000 -> 12.239158 | W25: =U25 -> 1.183661 | X25: =ABS((W25*1000)/((2*PI()*K25)/60)) -> 2.1529771 | Y25: =ROUNDUP(X25,0) -> 3 | Z25: =T25 -> 139.93916 | AA25: =SUM(Z$4:Z25) -> 13164.784 | AB25: =INDEX(BSFC!D$5:AD$27,MATCH('DUTY CYCLE'!Y25,BSFC!C$5:C$27,0),MATCH('DUTY CYCLE'!K25,BSFC!D$28:AD$28,0)) -> 787.5941 | AC25: =U25*AB25/3600 -> 0.25895678 | AD25: =AC25*(3.09*1000) -> 800.17645 | AE25: =0.5*VEHICLE!C$47*('DUTY CYCLE'!M25^2)/1000 -> 20.294666 | AF25: =Z25+AE25 -> 160.23383 | AJ25: 6250
B26: 22 | D26: TARMAC | E26: =IF(H26>0,"UPHILL",IF(H26<0,"DOWNHILL",IF(H26=0,"FLAT",0))) -> DOWNHILL | F26: 9.9 | G26: =F26-F25 -> -0.3 | H26: =DEGREES(ATAN(G26/J26)) -> -1.715311 | I26: =SUM(M$4:M26) -> 133.09776 | J26: =I26-I25 -> 10.017774 | K26: 4750 | L26: 3 | M26: =VLOOKUP(K26,VEHICLE!I$30:L$54,MATCH(L26,VEHICLE!I$30:L$30,0),0) -> 10.017774 | N26: =M26-M25 -> 1.5593771 | O26: =IF(L26=1,VEHICLE!C$68*'DUTY CYCLE'!N26,IF(L26=2,VEHICLE!C$69*'DUTY CYCLE'!N26,IF('DUTY CYCLE'!L26=3,VEHICLE!C$70*'DUTY CYCLE'!N26))) -> 912.54531 | P26: 0.013 | Q26: =P26*VEHICLE!C$47*9.81 -> 72.351595 | R26: =0.5*VEHICLE!C$20*VEHICLE!C$28*1.2*((M26)^2) -> 39.432906 | S26: =VEHICLE!C$47*9.81*SIN(RADIANS(H26)) -> -166.59429 | T26: =SUM(Q26:S26)+O26 -> 857.73552 | U26: =ABS(((+T26)*(+M26))/1000) -> 8.5926009 | V26: =((VEHICLE!C$12*1000)-U26*1000)/1000 -> 4.8302179 | W26: =U26 -> 8.5926009 | X26: =ABS((W26*1000)/((2*PI()*K26)/60)) -> 17.274378 | Y26: =ROUNDUP(X26,0) -> 18 | Z26: =T26 -> 857.73552 | AA26: =SUM(Z$4:Z26) -> 14022.52 | AB26: =INDEX(BSFC!D$5:AD$27,MATCH('DUTY CYCLE'!Y26,BSFC!C$5:C$27,0),MATCH('DUTY CYCLE'!K26,BSFC!D$28:AD$28,0)) -> 500.37751 | AC26: =U26*AB26/3600 -> 1.1943178 | AD26: =AC26*(3.09*1000) -> 3690.4421 | AE26: =0.5*VEHICLE!C$47*('DUTY CYCLE'!M26^2)/1000 -> 28.467429 | AF26: =Z26+AE26 -> 886.20295 | AJ26: 6500
