Workbook

Sheet VEHICLE
B2: VEHICLE | G2: RPM | H2: POWER | I2: POWER | J2: TORQUE | K2: FIRST | O2: SECOND | S2: THIRD
B3: NAME | C3: Renegade DX10-C | H3: BHP | I3: W | J3: NM | K3: VELOCITY | L3: VELOCITY | M3: FORCE | N3: ACCELERATION | O3: VELOCITY | P3: VELOCITY | Q3: FORCE | R3: ACCELERATION | S3: VELOCITY | T3: VELOCITY | U3: FORCE | V3: ACCELERATION
B4: ENGINE | C4: 4-Stroke Petrol ICE | K4: m/s | L4: mph | M4: N | N4: m/s² | O4: m/s | P4: mph | Q4: N | R4: m/s² | S4: m/s | T4: mph | U4: N | V4: m/s²
B5: TRANSMISSION | C5: Automatic CVT | G5: 750 | H5: =H6-0.75 -> 0.75 | I5: =H5*0.7457*1000 -> 559.275 | J5: =(I5)/((2*PI()*M31)/60) -> 7.1209105 | K5: =((($G5/$F$52)*($C$58))/(60))*2.24*0.44704 -> 0.82363514 | L5: =K5*2.237 -> 1.8424718 | M5: =(($H5*0.746)*1000)/K5 -> 679.30565 | N5: =M5/$C$68 -> 1.1418231 | O5: =((($G5/$F$53)*($C$58))/(60))*2.24*0.44704 -> 1.2083425 | P5: =O5*2.237 -> 2.7030621 | Q5: =(($H5*0.746)*1000)/O5 -> 463.03099 | R5: =Q5/$C$69 -> 0.78775981 | S5: =((($G5/$F$54)*($C$58))/(60))*2.24*0.44704 -> 1.5817538 | T5: =S5*2.237 -> 3.5383833 | U5: =(($H5*0.746)*1000)/S5 -> 353.72128 | V5: =U5/$C$70 -> 0.60444657
B6: DRIVE | C6: CVT Clutch | G6: 1000 | H6: =H7-0.75 -> 1.5 | I6: =H6*0.7457*1000 -> 1118.55 | J6: =(I6)/((2*PI()*M32)/60) -> 10.681366 | K6: =((($G6/$F$52)*($C$58))/(60))*2.24*0.44704 -> 1.0981802 | L6: =K6*2.237 -> 2.4566291 | M6: =(($H6*0.746)*1000)/K6 -> 1018.9585 | N6: =M6/$C$68 -> 1.7127346 | O6: =((($G6/$F$53)*($C$58))/(60))*2.24*0.44704 -> 1.6111233 | P6: =O6*2.237 -> 3.6040828 | Q6: =(($H6*0.746)*1000)/O6 -> 694.54648 | R6: =Q6/$C$69 -> 1.1816397 | S6: =((($G6/$F$54)*($C$58))/(60))*2.24*0.44704 -> 2.1090051 | T6: =S6*2.237 -> 4.7178445 | U6: =(($H6*0.746)*1000)/S6 -> 530.58193 | V6: =U6/$C$70 -> 0.90666985
B7: DIFFERENTIAL | C7: Locked Rear Axle | G7: 1250 | H7: =H8-0.75 -> 2.25 | I7: =H7*0.7457*1000 -> 1677.825 | J7: =(I7)/((2*PI()*M33)/60) -> 12.817639 | K7: =((($G7/$F$52)*($C$58))/(60))*2.24*0.44704 -> 1.3727252 | L7: =K7*2.237 -> 3.0707863 | M7: =(($H7*0.746)*1000)/K7 -> 1222.7502 | N7: =M7/$C$68 -> 2.0552816 | O7: =((($G7/$F$53)*($C$58))/(60))*2.24*0.44704 -> 2.0139041 | P7: =O7*2.237 -> 4.5051035 | Q7: =(($H7*0.746)*1000)/O7 -> 833.45577 | R7: =Q7/$C$69 -> 1.4179677 | S7: =((($G7/$F$54)*($C$58))/(60))*2.24*0.44704 -> 2.6362564 | T7: =S7*2.237 -> 5.8973056 | U7: =(($H7*0.746)*1000)/S7 -> 636.69831 | V7: =U7/$C$70 -> 1.0880038
G8: 1500 | H8: =H9-0.75 -> 3 | I8: =H8*0.7457*1000 -> 2237.1 | J8: =(I8)/((2*PI()*M34)/60) -> 14.241821 | K8: =((($G8/$F$52)*($C$58))/(60))*2.24*0.44704 -> 1.6472703 | L8: =K8*2.237 -> 3.6849436 | M8: =(($H8*0.746)*1000)/K8 -> 1358.6113 | N8: =M8/$C$68 -> 2.2836462 | O8: =((($G8/$F$53)*($C$58))/(60))*2.24*0.44704 -> 2.4166849 | P8: =O8*2.237 -> 5.4061242 | Q8: =(($H8*0.746)*1000)/O8 -> 926.06197 | R8: =Q8/$C$69 -> 1.5755196 | S8: =((($G8/$F$54)*($C$58))/(60))*2.24*0.44704 -> 3.1635077 | T8: =S8*2.237 -> 7.0767667 | U8: =(($H8*0.746)*1000)/S8 -> 707.44257 | V8: =U8/$C$70 -> 1.2088931
B9: ENGINE SPECIFICATION | G9: 1750 | H9: =H10-0.75 -> 3.75 | I9: =H9*0.7457*1000 -> 2796.375 | J9: =(I9)/((2*PI()*M35)/60) -> 15.259094 | K9: =((($G9/$F$52)*($C$58))/(60))*2.24*0.44704 -> 1.9218153 | L9: =K9*2.237 -> 4.2991009 | M9: =(($H9*0.746)*1000)/K9 -> 1455.655 | N9: =M9/$C$68 -> 2.4467638 | O9: =((($G9/$F$53)*($C$58))/(60))*2.24*0.44704 -> 2.8194657 | P9: =O9*2.237 -> 6.3071449 | Q9: =(($H9*0.746)*1000)/O9 -> 992.20926 | R9: =Q9/$C$69 -> 1.6880567 | S9: =((($G9/$F$54)*($C$58))/(60))*2.24*0.44704 -> 3.690759 | T9: =S9*2.237 -> 8.2562278 | U9: =(($H9*0.746)*1000)/S9 -> 757.97418 | V9: =U9/$C$70 -> 1.2952426
B10: VOLUME | C10: 278 | D10: cc | G10: 2000 | H10: =H11-0.75 -> 4.5 | I10: =H10*0.7457*1000 -> 3355.65 | J10: =(I10)/((2*PI()*M36)/60) -> 16.022049 | K10: =((($G10/$F$52)*($C$58))/(60))*2.24*0.44704 -> 2.1963604 | L10: =K10*2.237 -> 4.9132581 | M10: =(($H10*0.746)*1000)/K10 -> 1528.4377 | N10: =M10/$C$68 -> 2.569102 | O10: =((($G10/$F$53)*($C$58))/(60))*2.24*0.44704 -> 3.2222466 | P10: =O10*2.237 -> 7.2081656 | Q10: =(($H10*0.746)*1000)/O10 -> 1041.8197 | R10: =Q10/$C$69 -> 1.7724596 | S10: =((($G10/$F$54)*($C$58))/(60))*2.24*0.44704 -> 4.2180103 | T10: =S10*2.237 -> 9.4356889 | U10: =(($H10*0.746)*1000)/S10 -> 795.87289 | V10: =U10/$C$70 -> 1.3600048
B11: POWER | C11: 18 | D11: BHP @6500RPM | G11: 2250 | H11: =H12-0.75 -> 5.25 | I11: =H11*0.7457*1000 -> 3914.925 | J11: =(I11)/((2*PI()*M37)/60) -> 16.615458 | K11: =((($G11/$F$52)*($C$58))/(60))*2.24*0.44704 -> 2.4709054 | L11: =K11*2.237 -> 5.5274154 | M11: =(($H11*0.746)*1000)/K11 -> 1585.0465 | N11: =M11/$C$68 -> 2.6642539 | O11: =((($G11/$F$53)*($C$58))/(60))*2.24*0.44704 -> 3.6250274 | P11: =O11*2.237 -> 8.1091862 | Q11: =(($H11*0.746)*1000)/O11 -> 1080.4056 | R11: =Q11/$C$69 -> 1.8381062 | S11: =((($G11/$F$54)*($C$58))/(60))*2.24*0.44704 -> 4.7452615 | T11: =S11*2.237 -> 10.61515 | U11: =(($H11*0.746)*1000)/S11 -> 825.34966 | V11: =U11/$C$70 -> 1.4103753
B12: POWER | C12: =C11/1.341 -> 13.422819 | D12: Kw @5500RPM | G12: 2500 | H12: =H13-0.75 -> 6 | I12: =H12*0.7457*1000 -> 4474.2 | J12: =(I12)/((2*PI()*M38)/60) -> 17.090185 | K12: =((($G12/$F$52)*($C$58))/(60))*2.24*0.44704 -> 2.7454505 | L12: =K12*2.237 -> 6.1415727 | M12: =(($H12*0.746)*1000)/K12 -> 1630.3336 | N12: =M12/$C$68 -> 2.7403754 | O12: =((($G12/$F$53)*($C$58))/(60))*2.24*0.44704 -> 4.0278082 | P12: =O12*2.237 -> 9.0102069 | Q12: =(($H12*0.746)*1000)/O12 -> 1111.2744 | R12: =Q12/$C$69 -> 1.8906235 | S12: =((($G12/$F$54)*($C$58))/(60))*2.24*0.44704 -> 5.2725128 | T12: =S12*2.237 -> 11.794611 | U12: =(($H12*0.746)*1000)/S12 -> 848.93108 | V12: =U12/$C$70 -> 1.4506718
B13: TORQUE | C13: 22 | D13: NM | G13: 2750 | H13: =H14-0.75 -> 6.75 | I13: =H13*0.7457*1000 -> 5033.475 | J13: =(($J$24-$J$12)/12)+J12 -> 17.499336 | K13: =((($G13/$F$52)*($C$58))/(60))*2.24*0.44704 -> 3.0199955 | L13: =K13*2.237 -> 6.7557299 | M13: =(($H13*0.746)*1000)/K13 -> 1667.3866 | N13: =M13/$C$68 -> 2.8026567 | O13: =((($G13/$F$53)*($C$58))/(60))*2.24*0.44704 -> 4.430589 | P13: =O13*2.237 -> 9.9112276 | Q13: =(($H13*0.746)*1000)/O13 -> 1136.5306 | R13: =Q13/$C$69 -> 1.9335923 | S13: =((($G13/$F$54)*($C$58))/(60))*2.24*0.44704 -> 5.7997641 | T13: =S13*2.237 -> 12.974072 | U13: =(($H13*0.746)*1000)/S13 -> 868.22497 | V13: =U13/$C$70 -> 1.4836416
G14: 3000 | H14: =H15-0.75 -> 7.5 | I14: =H14*0.7457*1000 -> 5592.75 | J14: =(($J$24-$J$12)/12)+J13 -> 17.908488 | K14: =((($G14/$F$52)*($C$58))/(60))*2.24*0.44704 -> 3.2945406 | L14: =K14*2.237 -> 7.3698872 | M14: =(($H14*0.746)*1000)/K14 -> 1698.2641 | N14: =M14/$C$68 -> 2.8545577 | O14: =((($G14/$F$53)*($C$58))/(60))*2.24*0.44704 -> 4.8333698 | P14: =O14*2.237 -> 10.812248 | Q14: =(($H14*0.746)*1000)/O14 -> 1157.5775 | R14: =Q14/$C$69 -> 1.9693995 | S14: =((($G14/$F$54)*($C$58))/(60))*2.24*0.44704 -> 6.3270154 | T14: =S14*2.237 -> 14.153533 | U14: =(($H14*0.746)*1000)/S14 -> 884.30321 | V14: =U14/$C$70 -> 1.5111164
B15: VEHICLE DIMENSIONS | G15: 3250 | H15: =H16-0.75 -> 8.25 | I15: =H15*0.7457*1000 -> 6152.025 | J15: =(($J$24-$J$12)/12)+J14 -> 18.317639 | K15: =((($G15/$F$52)*($C$58))/(60))*2.24*0.44704 -> 3.5690856 | L15: =K15*2.237 -> 7.9840445 | M15: =(($H15*0.746)*1000)/K15 -> 1724.3913 | N15: =M15/$C$68 -> 2.898474 | O15: =((($G15/$F$53)*($C$58))/(60))*2.24*0.44704 -> 5.2361507 | P15: =O15*2.237 -> 11.713269 | Q15: =(($H15*0.746)*1000)/O15 -> 1175.3863 | R15: =Q15/$C$69 -> 1.999698 | S15: =((($G15/$F$54)*($C$58))/(60))*2.24*0.44704 -> 6.8542667 | T15: =S15*2.237 -> 15.332995 | U15: =(($H15*0.746)*1000)/S15 -> 897.90787 | V15: =U15/$C$70 -> 1.5343644
B16: LENGTH | C16: 2.62 | D16: m | G16: 3500 | H16: =H17-0.75 -> 9 | I16: =H16*0.7457*1000 -> 6711.3 | J16: =(($J$24-$J$12)/12)+J15 -> 18.72679 | K16: =((($G16/$F$52)*($C$58))/(60))*2.24*0.44704 -> 3.8436306 | L16: =K16*2.237 -> 8.5982017 | M16: =(($H16*0.746)*1000)/K16 -> 1746.7859 | N16: =M16/$C$68 -> 2.9361165 | O16: =((($G16/$F$53)*($C$58))/(60))*2.24*0.44704 -> 5.6389315 | P16: =O16*2.237 -> 12.61429 | Q16: =(($H16*0.746)*1000)/O16 -> 1190.6511 | R16: =Q16/$C$69 -> 2.0256681 | S16: =((($G16/$F$54)*($C$58))/(60))*2.24*0.44704 -> 7.3815179 | T16: =S16*2.237 -> 16.512456 | U16: =(($H16*0.746)*1000)/S16 -> 909.56901 | V16: =U16/$C$70 -> 1.5542912
B17: WIDTH | C17: 1.65 | D17: m | G17: 3750 | H17: =H18-0.75 -> 9.75 | I17: =H17*0.7457*1000 -> 7270.575 | J17: =(($J$24-$J$12)/12)+J16 -> 19.135941 | K17: =((($G17/$F$52)*($C$58))/(60))*2.24*0.44704 -> 4.1181757 | L17: =K17*2.237 -> 9.212359 | M17: =(($H17*0.746)*1000)/K17 -> 1766.1947 | N17: =M17/$C$68 -> 2.96874 | O17: =((($G17/$F$53)*($C$58))/(60))*2.24*0.44704 -> 6.0417123 | P17: =O17*2.237 -> 13.51531 | Q17: =(($H17*0.746)*1000)/O17 -> 1203.8806 | R17: =Q17/$C$69 -> 2.0481755 | S17: =((($G17/$F$54)*($C$58))/(60))*2.24*0.44704 -> 7.9087692 | T17: =S17*2.237 -> 17.691917 | U17: =(($H17*0.746)*1000)/S17 -> 919.67534 | V17: =U17/$C$70 -> 1.5715611
B18: HEIGHT | C18: 1.62 | D18: m | G18: 4000 | H18: =H19-0.75 -> 10.5 | I18: =H18*0.7457*1000 -> 7829.85 | J18: =(($J$24-$J$12)/12)+J17 -> 19.545093 | K18: =((($G18/$F$52)*($C$58))/(60))*2.24*0.44704 -> 4.3927207 | L18: =K18*2.237 -> 9.8265163 | M18: =(($H18*0.746)*1000)/K18 -> 1783.1773 | N18: =M18/$C$68 -> 2.9972856 | O18: =((($G18/$F$53)*($C$58))/(60))*2.24*0.44704 -> 6.4444931 | P18: =O18*2.237 -> 14.416331 | Q18: =(($H18*0.746)*1000)/O18 -> 1215.4563 | R18: =Q18/$C$69 -> 2.0678695 | S18: =((($G18/$F$54)*($C$58))/(60))*2.24*0.44704 -> 8.4360205 | T18: =S18*2.237 -> 18.871378 | U18: =(($H18*0.746)*1000)/S18 -> 928.51837 | V18: =U18/$C$70 -> 1.5866722
B19: GROUND CLEARANCE | C19: 0.3 | D19: m | G19: 4250 | H19: =H20-0.75 -> 11.25 | I19: =H19*0.7457*1000 -> 8389.125 | J19: =(($J$24-$J$12)/12)+J18 -> 19.954244 | K19: =((($G19/$F$52)*($C$58))/(60))*2.24*0.44704 -> 4.6672658 | L19: =K19*2.237 -> 10.440674 | M19: =(($H19*0.746)*1000)/K19 -> 1798.162 | N19: =M19/$C$68 -> 3.0224729 | O19: =((($G19/$F$53)*($C$58))/(60))*2.24*0.44704 -> 6.8472739 | P19: =O19*2.237 -> 15.317352 | Q19: =(($H19*0.746)*1000)/O19 -> 1225.6703 | R19: =Q19/$C$69 -> 2.0852465 | S19: =((($G19/$F$54)*($C$58))/(60))*2.24*0.44704 -> 8.9632718 | T19: =S19*2.237 -> 20.050839 | U19: =(($H19*0.746)*1000)/S19 -> 936.32104 | V19: =U19/$C$70 -> 1.6000056
B20: FRONTAL AREA | C20: =(C17*C18)*0.7 -> 1.8711 | D20: m² | G20: 4500 | H20: =H21-0.75 -> 12 | I20: =H20*0.7457*1000 -> 8948.4 | J20: =(($J$24-$J$12)/12)+J19 -> 20.363395 | K20: =((($G20/$F$52)*($C$58))/(60))*2.24*0.44704 -> 4.9418108 | L20: =K20*2.237 -> 11.054831 | M20: =(($H20*0.746)*1000)/K20 -> 1811.4817 | N20: =M20/$C$68 -> 3.0448616 | O20: =((($G20/$F$53)*($C$58))/(60))*2.24*0.44704 -> 7.2500548 | P20: =O20*2.237 -> 16.218372 | Q20: =(($H20*0.746)*1000)/O20 -> 1234.7493 | R20: =Q20/$C$69 -> 2.1006928 | S20: =((($G20/$F$54)*($C$58))/(60))*2.24*0.44704 -> 9.4905231 | T20: =S20*2.237 -> 21.2303 | U20: =(($H20*0.746)*1000)/S20 -> 943.25676 | V20: =U20/$C$70 -> 1.6118575
B21: C.o.G | C21: "Very Low" | G21: 4750 | H21: =H22-0.75 -> 12.75 | I21: =H21*0.7457*1000 -> 9507.675 | J21: =(($J$24-$J$12)/12)+J20 -> 20.772546 | K21: =((($G21/$F$52)*($C$58))/(60))*2.24*0.44704 -> 5.2163559 | L21: =K21*2.237 -> 11.668988 | M21: =(($H21*0.746)*1000)/K21 -> 1823.3994 | N21: =M21/$C$68 -> 3.0648936 | O21: =((($G21/$F$53)*($C$58))/(60))*2.24*0.44704 -> 7.6528356 | P21: =O21*2.237 -> 17.119393 | Q21: =(($H21*0.746)*1000)/O21 -> 1242.8726 | R21: =Q21/$C$69 -> 2.1145132 | S21: =((($G21/$F$54)*($C$58))/(60))*2.24*0.44704 -> 10.017774 | T21: =S21*2.237 -> 22.409761 | U21: =(($H21*0.746)*1000)/S21 -> 949.46239 | V21: =U21/$C$70 -> 1.6224618
B22: FUEL TANK | C22: 29 | D22: l | G22: 5000 | H22: =H23-0.75 -> 13.5 | I22: =H22*0.7457*1000 -> 10066.95 | J22: =(($J$24-$J$12)/12)+J21 -> 21.181698 | K22: =((($G22/$F$52)*($C$58))/(60))*2.24*0.44704 -> 5.4909009 | L22: =K22*2.237 -> 12.283145 | M22: =(($H22*0.746)*1000)/K22 -> 1834.1252 | N22: =M22/$C$68 -> 3.0829224 | O22: =((($G22/$F$53)*($C$58))/(60))*2.24*0.44704 -> 8.0556164 | P22: =O22*2.237 -> 18.020414 | Q22: =(($H22*0.746)*1000)/O22 -> 1250.1837 | R22: =Q22/$C$69 -> 2.1269515 | S22: =((($G22/$F$54)*($C$58))/(60))*2.24*0.44704 -> 10.545026 | T22: =S22*2.237 -> 23.589222 | U22: =(($H22*0.746)*1000)/S22 -> 955.04747 | V22: =U22/$C$70 -> 1.6320057
G23: 5250 | H23: =H24-0.75 -> 14.25 | I23: =H23*0.7457*1000 -> 10626.225 | J23: =(($J$24-$J$12)/12)+J22 -> 21.590849 | K23: =((($G23/$F$52)*($C$58))/(60))*2.24*0.44704 -> 5.765446 | L23: =K23*2.237 -> 12.897303 | M23: =(($H23*0.746)*1000)/K23 -> 1843.8296 | N23: =M23/$C$68 -> 3.0992341 | O23: =((($G23/$F$53)*($C$58))/(60))*2.24*0.44704 -> 8.4583972 | P23: =O23*2.237 -> 18.921435 | Q23: =(($H23*0.746)*1000)/O23 -> 1256.7984 | R23: =Q23/$C$69 -> 2.1382052 | S23: =((($G23/$F$54)*($C$58))/(60))*2.24*0.44704 -> 11.072277 | T23: =S23*2.237 -> 24.768683 | U23: =(($H23*0.746)*1000)/S23 -> 960.10063 | V23: =U23/$C$70 -> 1.6406407
B24: VEHICLE CHARACTERISTICS | G24: 5500 | H24: =H25-0.75 -> 15 | I24: =H24*0.7457*1000 -> 11185.5 | J24: 22 | K24: =((($G24/$F$52)*($C$58))/(60))*2.24*0.44704 -> 6.039991 | L24: =K24*2.237 -> 13.51146 | M24: =(($H24*0.746)*1000)/K24 -> 1852.6518 | N24: =M24/$C$68 -> 3.114063 | O24: =((($G24/$F$53)*($C$58))/(60))*2.24*0.44704 -> 8.861178 | P24: =O24*2.237 -> 19.822455 | Q24: =(($H24*0.746)*1000)/O24 -> 1262.8118 | R24: =Q24/$C$69 -> 2.1484358 | S24: =((($G24/$F$54)*($C$58))/(60))*2.24*0.44704 -> 11.599528 | T24: =S24*2.237 -> 25.948145 | U24: =(($H24*0.746)*1000)/S24 -> 964.69441 | V24: =U24/$C$70 -> 1.6484906
B25: MAX VELOCITY | C25: 30 | D25: mph | G25: 5750 | H25: =H26-0.75 -> 15.75 | I25: =H25*0.7457*1000 -> 11744.775 | J25: =J24-(($J$24-$J$18)/5) -> 21.509019 | K25: =((($G25/$F$52)*($C$58))/(60))*2.24*0.44704 -> 6.3145361 | L25: =K25*2.237 -> 14.125617 | M25: =(($H25*0.746)*1000)/K25 -> 1860.7068 | N25: =M25/$C$68 -> 3.1276024 | O25: =((($G25/$F$53)*($C$58))/(60))*2.24*0.44704 -> 9.2639589 | P25: =O25*2.237 -> 20.723476 | Q25: =(($H25*0.746)*1000)/O25 -> 1268.3023 | R25: =Q25/$C$69 -> 2.1577769 | S25: =((($G25/$F$54)*($C$58))/(60))*2.24*0.44704 -> 12.126779 | T25: =S25*2.237 -> 27.127606 | U25: =(($H25*0.746)*1000)/S25 -> 968.88873 | V25: =U25/$C$70 -> 1.655658
B26: MAX VELOCITY | C26: =C25/2.237 -> 13.410818 | D26: m/s | G26: 6000 | H26: =H27-0.75 -> 16.5 | I26: =H26*0.7457*1000 -> 12304.05 | J26: =J25-(($J$24-$J$18)/5) -> 21.018037 | K26: =((($G26/$F$52)*($C$58))/(60))*2.24*0.44704 -> 6.5890811 | L26: =K26*2.237 -> 14.739774 | M26: =(($H26*0.746)*1000)/K26 -> 1868.0905 | N26: =M26/$C$68 -> 3.1400135 | O26: =((($G26/$F$53)*($C$58))/(60))*2.24*0.44704 -> 9.6667397 | P26: =O26*2.237 -> 21.624497 | Q26: =(($H26*0.746)*1000)/O26 -> 1273.3352 | R26: =Q26/$C$69 -> 2.1663395 | S26: =((($G26/$F$54)*($C$58))/(60))*2.24*0.44704 -> 12.654031 | T26: =S26*2.237 -> 28.307067 | U26: =(($H26*0.746)*1000)/S26 -> 972.73353 | V26: =U26/$C$70 -> 1.6622281
B27: FRONTAL AERO AREA | C27: =(C18-C19)*C17 -> 2.178 | D27: m² | G27: 6250 | H27: =H28-0.75 -> 17.25 | I27: =H27*0.7457*1000 -> 12863.325 | J27: =J26-(($J$24-$J$18)/5) -> 20.527056 | K27: =((($G27/$F$52)*($C$58))/(60))*2.24*0.44704 -> 6.8636261 | L27: =K27*2.237 -> 15.353932 | M27: =(($H27*0.746)*1000)/K27 -> 1874.8836 | N27: =M27/$C$68 -> 3.1514317 | O27: =((($G27/$F$53)*($C$58))/(60))*2.24*0.44704 -> 10.06952 | P27: =O27*2.237 -> 22.525517 | Q27: =(($H27*0.746)*1000)/O27 -> 1277.9655 | R27: =Q27/$C$69 -> 2.1742171 | S27: =((($G27/$F$54)*($C$58))/(60))*2.24*0.44704 -> 13.181282 | T27: =S27*2.237 -> 29.486528 | U27: =(($H27*0.746)*1000)/S27 -> 976.27074 | V27: =U27/$C$70 -> 1.6682725
B28: COEFFICIENT OF DRAG | C28: 0.35 | D28: ASSUMPTION | G28: 6500 | H28: 18 | I28: =H28*0.7457*1000 -> 13422.6 | J28: =J27-(($J$24-$J$18)/5) -> 20.036074 | K28: =((($G28/$F$52)*($C$58))/(60))*2.24*0.44704 -> 7.1381712 | L28: =K28*2.237 -> 15.968089 | M28: =(($H28*0.746)*1000)/K28 -> 1881.1541 | N28: =M28/$C$68 -> 3.1619716 | O28: =((($G28/$F$53)*($C$58))/(60))*2.24*0.44704 -> 10.472301 | P28: =O28*2.237 -> 23.426538 | Q28: =(($H28*0.746)*1000)/O28 -> 1282.2397 | R28: =Q28/$C$69 -> 2.1814887 | S28: =((($G28/$F$54)*($C$58))/(60))*2.24*0.44704 -> 13.708533 | T28: =S28*2.237 -> 30.665989 | U28: =(($H28*0.746)*1000)/S28 -> 979.53586 | V28: =U28/$C$70 -> 1.673852
B30: WHEEL DIMENSIONS | J30: 1 | K30: 2 | L30: 3
B31: FRONT WHEEL SIZE | C31: 12 | D31: in | I31: 750 | J31: =((($I31/$F$52)*($C$58))/(60))*2.24*0.44704 -> 0.82363514 | K31: =((($I31/$F$53)*($C$58))/(60))*2.24*0.44704 -> 1.2083425 | L31: =((($I31/$F$54)*($C$58))/(60))*2.24*0.44704 -> 1.5817538 | M31: 750 | N31: =(I5)/((2*PI()*G5)/60) -> 7.1209105
B32: FRONT WHEEL SIZE | C32: =C31/39.37 -> 0.30480061 | D32: m | I32: 1000 | J32: =((($I32/$F$52)*($C$58))/(60))*2.24*0.44704 -> 1.0981802 | K32: =((($I32/$F$53)*($C$58))/(60))*2.24*0.44704 -> 1.6111233 | L32: =((($I32/$F$54)*($C$58))/(60))*2.24*0.44704 -> 2.1090051 | M32: 1000 | N32: =(I6)/((2*PI()*G6)/60) -> 10.681366
B33: FRONT TYRE SIDE WALL | C33: 0.1524 | D33: m | I33: 1250 | J33: =((($I33/$F$52)*($C$58))/(60))*2.24*0.44704 -> 1.3727252 | K33: =((($I33/$F$53)*($C$58))/(60))*2.24*0.44704 -> 2.0139041 | L33: =((($I33/$F$54)*($C$58))/(60))*2.24*0.44704 -> 2.6362564 | M33: 1250 | N33: =(I7)/((2*PI()*G7)/60) -> 12.817639
B34: REAR WHEEL SIZE | C34: 10 | D34: in | I34: 1500 | J34: =((($I34/$F$52)*($C$58))/(60))*2.24*0.44704 -> 1.6472703 | K34: =((($I34/$F$53)*($C$58))/(60))*2.24*0.44704 -> 2.4166849 | L34: =((($I34/$F$54)*($C$58))/(60))*2.24*0.44704 -> 3.1635077 | M34: 1500 | N34: =(I8)/((2*PI()*G8)/60) -> 14.241821
B35: REAR WHEEL SIZE | C35: =C34/39.37 -> 0.25400051 | D35: m | I35: 1750 | J35: =((($I35/$F$52)*($C$58))/(60))*2.24*0.44704 -> 1.9218153 | K35: =((($I35/$F$53)*($C$58))/(60))*2.24*0.44704 -> 2.8194657 | L35: =((($I35/$F$54)*($C$58))/(60))*2.24*0.44704 -> 3.690759 | M35: 1750 | N35: =(I9)/((2*PI()*G9)/60) -> 15.259094
B36: REAR TYRE SIDE WALL | C36: 0.1397 | D36: m | I36: 2000 | J36: =((($I36/$F$52)*($C$58))/(60))*2.24*0.44704 -> 2.1963604 | K36: =((($I36/$F$53)*($C$58))/(60))*2.24*0.44704 -> 3.2222466 | L36: =((($I36/$F$54)*($C$58))/(60))*2.24*0.44704 -> 4.2180103 | M36: 2000 | N36: =(I10)/((2*PI()*G10)/60) -> 16.022049
B37: ROLLING RADIUS | C37: =(C35/2)+C36 -> 0.26670025 | D37: m | I37: 2250 | J37: =((($I37/$F$52)*($C$58))/(60))*2.24*0.44704 -> 2.4709054 | K37: =((($I37/$F$53)*($C$58))/(60))*2.24*0.44704 -> 3.6250274 | L37: =((($I37/$F$54)*($C$58))/(60))*2.24*0.44704 -> 4.7452615 | M37: 2250 | N37: =(I11)/((2*PI()*G11)/60) -> 16.615458
B38: ROLLING CIRCUMFERENCE | C38: =C37*PI()*2 -> 1.6757271 | D38: m | I38: 2500 | J38: =((($I38/$F$52)*($C$58))/(60))*2.24*0.44704 -> 2.7454505 | K38: =((($I38/$F$53)*($C$58))/(60))*2.24*0.44704 -> 4.0278082 | L38: =((($I38/$F$54)*($C$58))/(60))*2.24*0.44704 -> 5.2725128 | M38: 2500 | N38: =(I12)/((2*PI()*G12)/60) -> 17.090185
I39: 2750 | J39: =((($I39/$F$52)*($C$58))/(60))*2.24*0.44704 -> 3.0199955 | K39: =((($I39/$F$53)*($C$58))/(60))*2.24*0.44704 -> 4.430589 | L39: =((($I39/$F$54)*($C$58))/(60))*2.24*0.44704 -> 5.7997641 | M39: 2750 | N39: =(($N$48-$N$38)/10)+N38 -> 17.109412
B40: WEIGHT | I40: 3000 | J40: =((($I40/$F$52)*($C$58))/(60))*2.24*0.44704 -> 3.2945406 | K40: =((($I40/$F$53)*($C$58))/(60))*2.24*0.44704 -> 4.8333698 | L40: =((($I40/$F$54)*($C$58))/(60))*2.24*0.44704 -> 6.3270154 | M40: 3000 | N40: =(($N$48-$N$38)/10)+N39 -> 17.128638
B41: CURB WEIGHT | C41: 365 | D41: kg | I41: 3250 | J41: =((($I41/$F$52)*($C$58))/(60))*2.24*0.44704 -> 3.5690856 | K41: =((($I41/$F$53)*($C$58))/(60))*2.24*0.44704 -> 5.2361507 | L41: =((($I41/$F$54)*($C$58))/(60))*2.24*0.44704 -> 6.8542667 | M41: 3250 | N41: =(($N$48-$N$38)/10)+N40 -> 17.147864
B42: DRIVER | C42: 80 | D42: kg | I42: 3500 | J42: =((($I42/$F$52)*($C$58))/(60))*2.24*0.44704 -> 3.8436306 | K42: =((($I42/$F$53)*($C$58))/(60))*2.24*0.44704 -> 5.6389315 | L42: =((($I42/$F$54)*($C$58))/(60))*2.24*0.44704 -> 7.3815179 | M42: 3500 | N42: =(($N$48-$N$38)/10)+N41 -> 17.167091
B43: DRIVER KIT | C43: 10 | D43: kg | I43: 3750 | J43: =((($I43/$F$52)*($C$58))/(60))*2.24*0.44704 -> 4.1181757 | K43: =((($I43/$F$53)*($C$58))/(60))*2.24*0.44704 -> 6.0417123 | L43: =((($I43/$F$54)*($C$58))/(60))*2.24*0.44704 -> 7.9087692 | M43: 3750 | N43: =(($N$48-$N$38)/10)+N42 -> 17.186317
B44: PASSENGER | C44: 80 | D44: kg | I44: 4000 | J44: =((($I44/$F$52)*($C$58))/(60))*2.24*0.44704 -> 4.3927207 | K44: =((($I44/$F$53)*($C$58))/(60))*2.24*0.44704 -> 6.4444931 | L44: =((($I44/$F$54)*($C$58))/(60))*2.24*0.44704 -> 8.4360205 | M44: 4000 | N44: =(($N$48-$N$38)/10)+N43 -> 17.205544
B45: PASSENGER KIT | C45: 10 | D45: kg | I45: 4250 | J45: =((($I45/$F$52)*($C$58))/(60))*2.24*0.44704 -> 4.6672658 | K45: =((($I45/$F$53)*($C$58))/(60))*2.24*0.44704 -> 6.8472739 | L45: =((($I45/$F$54)*($C$58))/(60))*2.24*0.44704 -> 8.9632718 | M45: 4250 | N45: =(($N$48-$N$38)/10)+N44 -> 17.22477
B46: FUEL | C46: =C22*0.77 -> 22.33 | D46: kg | I46: 4500 | J46: =((($I46/$F$52)*($C$58))/(60))*2.24*0.44704 -> 4.9418108 | K46: =((($I46/$F$53)*($C$58))/(60))*2.24*0.44704 -> 7.2500548 | L46: =((($I46/$F$54)*($C$58))/(60))*2.24*0.44704 -> 9.4905231 | M46: 4500 | N46: =(($N$48-$N$38)/10)+N45 -> 17.243997
B47: TOTAL | C47: =SUM(C41:C46) -> 567.33 | D47: kg | I47: 4750 | J47: =((($I47/$F$52)*($C$58))/(60))*2.24*0.44704 -> 5.2163559 | K47: =((($I47/$F$53)*($C$58))/(60))*2.24*0.44704 -> 7.6528356 | L47: =((($I47/$F$54)*($C$58))/(60))*2.24*0.44704 -> 10.017774 | M47: 4750 | N47: =(($N$48-$N$38)/10)+N46 -> 17.263223
I48: 5000 | J48: =((($I48/$F$52)*($C$58))/(60))*2.24*0.44704 -> 5.4909009 | K48: =((($I48/$F$53)*($C$58))/(60))*2.24*0.44704 -> 8.0556164 | L48: =((($I48/$F$54)*($C$58))/(60))*2.24*0.44704 -> 10.545026 | M48: 5000 | N48: =(($N$48-$N$38)/10)+N47 -> 17.28245
B49: GEARING | I49: 5250 | J49: =((($I49/$F$52)*($C$58))/(60))*2.24*0.44704 -> 5.765446 | K49: =((($I49/$F$53)*($C$58))/(60))*2.24*0.44704 -> 8.4583972 | L49: =((($I49/$F$54)*($C$58))/(60))*2.24*0.44704 -> 11.072277 | M49: 5250 | N49: =(($N$48-$N$38)/10)+N48 -> 17.301676
B50: REDUCTION | C50: INPUT | D50: OUTPUT | E50: RATIO | F50: FINAL RATIO | I50: 5500 | J50: =((($I50/$F$52)*($C$58))/(60))*2.24*0.44704 -> 6.039991 | K50: =((($I50/$F$53)*($C$58))/(60))*2.24*0.44704 -> 8.861178 | L50: =((($I50/$F$54)*($C$58))/(60))*2.24*0.44704 -> 11.599528 | M50: 5500 | N50: 22
B51: PRIMARY | C51: 25 | D51: 84 | E51: =D51/C51 -> 3.36 | I51: 5750 | J51: =((($I51/$F$52)*($C$58))/(60))*2.24*0.44704 -> 6.3145361 | K51: =((($I51/$F$53)*($C$58))/(60))*2.24*0.44704 -> 9.2639589 | L51: =((($I51/$F$54)*($C$58))/(60))*2.24*0.44704 -> 12.126779 | M51: 5750 | N51: =(I25)/((2*PI()*G25)/60) -> 19.505103
B52: FIRST | C52: 26 | D52: 11 | E52: =C52/D52 -> 2.3636364 | F52: =$E$51*E52*$E$55 -> 29.601322 | I52: 6000 | J52: =((($I52/$F$52)*($C$58))/(60))*2.24*0.44704 -> 6.5890811 | K52: =((($I52/$F$53)*($C$58))/(60))*2.24*0.44704 -> 9.6667397 | L52: =((($I52/$F$54)*($C$58))/(60))*2.24*0.44704 -> 12.654031 | M52: 6000 | N52: =(I26)/((2*PI()*G26)/60) -> 19.582504
B53: SECOND | C53: 29 | D53: 18 | E53: =C53/D53 -> 1.6111111 | F53: =$E$51*E53*$E$55 -> 20.17697 | I53: 6250 | J53: =((($I53/$F$52)*($C$58))/(60))*2.24*0.44704 -> 6.8636261 | K53: =((($I53/$F$53)*($C$58))/(60))*2.24*0.44704 -> 10.06952 | L53: =((($I53/$F$54)*($C$58))/(60))*2.24*0.44704 -> 13.181282 | M53: 6250 | N53: =(I27)/((2*PI()*G27)/60) -> 19.653713
B54: THIRD | C54: 32 | D54: 26 | E54: =C54/D54 -> 1.2307692 | F54: =$E$51*E54*$E$55 -> 15.413706 | I54: 6500 | J54: =((($I54/$F$52)*($C$58))/(60))*2.24*0.44704 -> 7.1381712 | K54: =((($I54/$F$53)*($C$58))/(60))*2.24*0.44704 -> 10.472301 | L54: =((($I54/$F$54)*($C$58))/(60))*2.24*0.44704 -> 13.708533 | M54: 6500 | N54: =(I28)/((2*PI()*G28)/60) -> 19.719444
B55: FINAL | C55: 11 | D55: 41 | E55: =D55/C55 -> 3.7272727
B57: WHEEL TRAVEL
B58: φ | C58: =2*PI()*0.31 -> 1.9477874 | D58: m
B59: REAR WHEEL TRAVEL | C59: =C55/D55*0.607*PI() -> 0.51161986 | D59: m
C60: SPROCKET ROTATION | E60: WHEEL TRAVEL (m)
B61: FIRST | C61: 1 | E61: =$C$59/E52 -> 0.21645455
B62: SECOND | C62: 1 | E62: =$C$59/E53 -> 0.31755715
B63: THIRD | C63: 1 | E63: =$C$59/E54 -> 0.41569113
B65: INERTIA AND REDUCED MASSES
B66: WHEEL INERTIA | C66: 0.95 | D66: kgm²
B67: ENGINE INERTIA | C67: 0.17 | D67: kgm²
B68: 1 | C68: =$C$47+4*($C$66/$C$37)+$C$67*(E52^2/$C$37^2) -> 594.93073
B69: 2 | C69: =$C$47+4*($C$66/$C$37)+$C$67*(E53^2/$C$37^2) -> 587.78194
B70: 3 | C70: =$C$47+4*($C$66/$C$37)+$C$67*(E54^2/$C$37^2) -> 585.1986

Sheet TRACK
B2: ROLLING RESISTANCE COEFFICIENTS
B3: TARMAC | C3: 0.013
B4: GRAVEL | C4: 0.02
B5: MUD | C5: 0.1
B8: START | C8: SURFACE | D8: DISTANCE | E8: TOTAL DISTANCE
B9: STRAIGHT 1 | C9: TARMAC | D9: 86.2 | E9: =SUM(D$9:D9) -> 86.2
B10: TURN 1 | C10: TARMAC | D10: 34.76 | E10: =SUM(D$9:D10) -> 120.96
B11: TURN 2 | C11: TARMAC | D11: 28.15 | E11: =SUM(D$9:D11) -> 149.11
B12: TURN 3 | C12: TARMAC | D12: 20.33 | E12: =SUM(D$9:D12) -> 169.44
B13: STRAIGHT 2 | C13: TARMAC | D13: 46.12 | E13: =SUM(D$9:D13) -> 215.56
B14: TURN 4 | C14: TARMAC | D14: 51.96 | E14: =SUM(D$9:D14) -> 267.52
B15: STRAIGHT 3 | C15: TARMAC | D15: 154 | E15: =SUM(D$9:D15) -> 421.52
B16: TURN 5 | C16: TARMAC | D16: 87.57 | E16: =SUM(D$9:D16) -> 509.09
B17: STRAIGHT 4 | C17: GRAVEL | D17: 83.13 | E17: =SUM(D$9:D17) -> 592.22
B18: TURN 6 | C18: GRAVEL | D18: 29.17 | E18: =SUM(D$9:D18) -> 621.39
B19: TURN 7 | C19: GRAVEL | D19: 19.59 | E19: =SUM(D$9:D19) -> 640.98
B20: STRAIGHT 5 | C20: GRAVEL | D20: 30.84 | E20: =SUM(D$9:D20) -> 671.82
... B35: TURN 15 | C35: MUD | D35: 27.74 | E35: =SUM(D$9:D35) -> 1255.25
B36: STRAIGHT 13 | C36: TARMAC | D36: =175.7-86.2 -> 89.5 | E36: =SUM(D$9:D36) -> 1344.75
B37: FINISH

Sheet BSFC
C2: Brake Specific Fuel Consumption (g/kwh)
C4: Torque (N/m)
C5: 22 | X5: 497.28698
C6: 21 | V6: 511.24716 | W6: 503.76524 | X6: 473.62523 | Y6: 499.52561
C7: 20 | T7: 523.32915 | U7: 515.71127 | V7: 501.69742 | W7: 494.2155 | X7: 449.96348 | Y7: 475.86386 | Z7: 509.82684
C8: 19 | S8: 531.16872 | T8: 517.77872 | U8: 510.16084 | V8: 481.41125 | W8: 473.92933 | X8: 426.30173 | Y8: 452.20211 | Z8: 496.75436 | AA8: 527.00031 | AB8: 548.15659
C9: 18 | P9: 535.4119 | Q9: 535.03854 | R9: 533.87537 | S9: 521.38539 | T9: 507.99539 | U9: 500.37751 | V9: 464.33013 | W9: 456.84821 | X9: 402.63998 | Y9: 428.54036 | Z9: 478.29965 | AA9: 508.5456 | AB9: 534.65428 | AC9: 554.22428
C10: 17 | O10: 549.11276 | P10: 539.23815 | Q10: 538.02119 | R10: 528.48339 | S10: 505.64048 | T10: 492.25048 | U10: 484.6326 | V10: 430.80173 | W10: 423.31981 | X10: 390.80911 | Y10: 416.70949 | Z10: 439.07286 | AA10: 469.31881 | AB10: 526.7024 | AC10: 546.2724 | AD10: 588.08808
C11: 16 | M11: 550.87927 | N11: 551.03468 | O11: 552.939 | P11: 543.06439 | Q11: 541.00385 | R11: 531.46605 | S11: 496.01522 | T11: 482.62522 | U11: 475.00734 | V11: 400.87394 | W11: 393.39202 | X11: 378.97824 | Y11: 404.87862 | Z11: 399.84608 | AA11: 430.09203 | AB11: 521.84343 | AC11: 541.41343 | AD11: 576.42111
C12: 15 | L12: 560.7138 | M12: 555.11884 | N12: 550.26743 | O12: 543.2521 | P12: 533.37749 | Q12: 543.98651 | R12: 534.44871 | S12: 490.88893 | T12: 477.49893 | U12: 469.88105 | V12: 379.8122 | W12: 372.33028 | X12: 353.29348 | Y12: 379.19386 | Z12: 364.39564 | AA12: 394.64159 | AB12: 478.75751 | AC12: 498.32751 | AD12: 524.27958
C13: 14 | K13: 588.17782 | L13: 564.95338 | M13: 559.35842 | N13: 554.46639 | O13: 533.5652 | P13: 523.69059 | Q13: 524.73783 | R13: 515.20003 | S13: 454.57581 | T13: 441.18581 | U13: 433.56793 | V13: 358.75046 | W13: 351.26854 | X13: 331.65474 | Y13: 357.55512 | Z13: 357.3613 | AA13: 387.60725 | AB13: 463.94702 | AC13: 483.51702 | AD13: 516.6133
C14: 13 | J14: 625.37673 | K14: 607.62736 | L14: 584.40292 | M14: 578.80796 | N14: 558.66534 | O14: 523.87829 | P14: 514.00368 | Q14: 505.48915 | R14: 495.95135 | S14: 430.06491 | T14: 416.67491 | U14: 409.05703 | V14: 337.68873 | W14: 330.20681 | X14: 307.99299 | Y14: 333.89337 | Z14: 352.0507 | AA14: 382.29665 | AB14: 489.82567 | AC14: 509.39567 | AD14: 565.12247
C15: 12 | I15: 626.40918 | J15: 642.16818 | K15: 627.07689 | L15: 603.85245 | M15: 598.25749 | N15: 565.53673 | O15: 542.54792 | P15: 532.67331 | Q15: 508.84779 | R15: 499.30999 | S15: 479.33667 | T15: 465.94667 | U15: 458.32879 | V15: 318.33697 | W15: 310.85505 | X15: 332.53854 | Y15: 358.43892 | Z15: 346.7401 | AA15: 376.98605 | AB15: 515.70432 | AC15: 535.27432 | AD15: 581.49344
C16: 11 | I16: 637.74178 | J16: 653.50078 | K16: 647.81314 | L16: 624.5887 | M16: 618.99374 | N16: 595.52992 | O16: 562.64721 | P16: 552.7726 | Q16: 522.14336 | R16: 512.60556 | S16: 485.82852 | T16: 472.43852 | U16: 464.82064 | V16: 382.00341 | W16: 374.52149 | X16: 373.40211 | Y16: 399.30249 | Z16: 341.42951 | AA16: 371.67546 | AB16: 541.58297 | AC16: 561.15297 | AD16: 586.98573
C17: 10 | H17: 651.71791 | I17: 646.69535 | J17: 662.45435 | K17: 668.54939 | L17: 645.32495 | M17: 639.72999 | N17: 628.19555 | O17: 576.60739 | P17: 566.73278 | Q17: 548.42498 | R17: 538.88718 | S17: 524.43158 | T17: 511.04158 | U17: 503.4237 | V17: 405.53356 | W17: 398.05164 | X17: 390.89438 | Y17: 416.79476 | Z17: 336.11891 | AA17: 366.36486 | AB17: 548.19163 | AC17: 567.76163 | AD17: 582.36556
C18: 9 | H18: 665.91481 | I18: 657.59064 | J18: 673.34964 | K18: 680.53571 | L18: 657.31127 | M18: 651.71631 | N18: 641.27289 | O18: 635.10913 | P18: 625.23452 | Q18: 589.19253 | R18: 579.65473 | S18: 547.46494 | T18: 534.07494 | U18: 526.45706 | V18: 429.06371 | W18: 421.58179 | X18: 436.10142 | Y18: 462.0018 | Z18: 455.61203 | AA18: 485.85798 | AB18: 554.80029 | AC18: 574.37029 | AD18: 600.87011
C19: 8 | G19: 704.5227 | H19: 680.1117 | I19: 688.88424 | J19: 704.64324 | K19: 704.48286 | L19: 681.25842 | M19: 675.66346 | N19: 657.8736 | O19: 644.36339 | P19: 634.48878 | Q19: 592.70665 | R19: 583.16885 | S19: 545.23891 | T19: 531.84891 | U19: 524.23103 | V19: 452.59386 | W19: 445.11194 | X19: 467.45108 | Y19: 493.35146 | Z19: 536.92958 | AA19: 567.17553 | AB19: 611.79032 | AC19: 631.36032 | AD19: 683.0629
C20: 7 | G20: 718.71959 | H20: 694.30859 | I20: 731.35344 | J20: 747.11244 | K20: 742.19694 | L20: 718.9725 | M20: 713.37754 | N20: 681.1053 | O20: 678.74681 | P20: 668.8722 | Q20: 643.23338 | R20: 633.69558 | S20: 583.97385 | T20: 570.58385 | U20: 562.96597 | V20: 498.96893 | W20: 491.48701 | X20: 505.04731 | Y20: 530.94769 | Z20: 585.8229 | AA20: 616.06885 | AB20: 647.37288 | AC20: 666.94288 | AD20: 721.73993
C21: 6 | F21: 665.58465 | G21: 724.45774 | H21: 736.89928 | I21: 774.67297 | J21: 790.43197 | K21: 766.42168 | L21: 743.19724 | M21: 737.60228 | N21: 690.90742 | O21: 713.13024 | P21: 703.25563 | Q21: 665.82501 | R21: 656.28721 | S21: 622.70879 | T21: 609.31879 | U21: 601.70091 | V21: 545.344 | W21: 537.86208 | X21: 530.98202 | Y21: 556.8824 | Z21: 638.72953 | AA21: 668.97548 | AB21: 657.4926 | AC21: 677.0626 | AD21: 735.57863
C22: 5 | E22: 752.77611 | F22: 738.76811 | G22: 774.7098 | H22: 750.2988 | I22: 794.12751 | J22: 809.88651 | K22: 812.62544 | L22: 789.401 | M22: 783.80604 | N22: 768.91548 | O22: 758.30458 | P22: 748.42997 | Q22: 717.60723 | R22: 708.06943 | S22: 687.38751 | T22: 673.99751 | U22: 666.37963 | V22: 639.92558 | W22: 632.44366 | X22: 621.12046 | Y22: 647.02084 | Z22: 680.37645 | AA22: 710.6224 | AB22: 737.57517 | AC22: 757.14517 | AD22: 796.1454
C23: 4 | D23: 727.72954 | E23: 787.55974 | F23: 773.55174 | G23: 795.93973 | H23: 771.52873 | I23: 825.51454 | J23: 841.27354 | K23: 867.09843 | L23: 843.87399 | M23: 838.27903 | N23: 822.36858 | O23: 789.28981 | P23: 779.4152 | Q23: 769.38945 | R23: 759.85165 | S23: 752.06622 | T23: 738.67622 | U23: 731.05834 | V23: 717.5008 | W23: 710.01888 | X23: 711.2589 | Y23: 737.15928 | Z23: 754.89146 | AA23: 785.13741 | AB23: 800.5112 | AC23: 820.0812 | AD23: 844.80615
C24: 3 | D24: 943.41702 | E24: 941.64027 | F24: 927.63227 | G24: 936.52262 | H24: 912.11162 | I24: 855.92667 | J24: 871.68567 | K24: 921.57142 | L24: 898.34698 | M24: 892.75202 | N24: 875.82167 | O24: 829.7874 | P24: 819.91279 | Q24: 821.17167 | R24: 811.63387 | S24: 816.74494 | T24: 803.35494 | U24: 795.73706 | V24: 795.07602 | W24: 787.5941 | X24: 786.79709 | Y24: 812.69747 | Z24: 829.40646 | AA24: 859.65241 | AB24: 847.52803 | AC24: 867.09803 | AD24: 881.9748
C25: 2 | D25: 1178.8245 | E25: 1095.7208 | F25: 1081.7128 | G25: 1017.0122 | H25: 992.60118 | I25: 960.60618 | J25: 976.36518 | K25: 976.04441 | L25: 952.81997 | M25: 947.22501 | N25: 929.27477 | O25: 915.60417 | P25: 905.72956 | Q25: 928.41771 | R25: 918.87991 | S25: 913.4217 | T25: 900.0317 | U25: 892.41382 | V25: 881.18349 | W25: 873.70157 | X25: 862.33528 | Y25: 888.23566 | Z25: 881.65329 | AA25: 911.89924 | AB25: 894.54486 | AC25: 914.11486 | AD25: 911.72072
C26: 1 | D26: 1317.0685 | E26: 1249.8013 | F26: 1235.7933 | G26: 1183.9446 | H26: 1159.5336 | I26: 1065.2857 | J26: 1081.0447 | K26: 1088.6579 | L26: 1065.4335 | M26: 1059.8385 | N26: 1049.8223 | O26: 1044.0857 | P26: 1034.2111 | Q26: 1035.6637 | R26: 1026.1259 | S26: 1010.0985 | T26: 996.70845 | U26: 989.09057 | V26: 967.29096 | W26: 959.80904 | X26: 937.87347 | Y26: 963.77385 | Z26: 933.90012 | AA26: 964.14607 | AB26: 925.64248 | AC26: 945.21248 | AD26: 920.24104
C27: 0.5 | D27: 1609.0852 | E27: 1534.8532 | F27: 1520.8452 | G27: 1457.0162 | H27: 1432.6052 | I27: 1328.6062 | J27: 1344.3652 | K27: 1279.3496 | L27: 1256.1252 | M27: 1250.5302 | N27: 1208.3765 | O27: 1170.5025 | P27: 1160.6279 | Q27: 1122.417 | R27: 1112.8792 | S27: 1086.0104 | T27: 1072.6204 | U27: 1065.0025 | V27: 1032.6336 | W27: 1025.1517 | X27: 992.64686 | Y27: 1018.5472 | Z27: 986.14696 | AA27: 1016.3929 | AB27: 956.74011 | AC27: 976.31011 | AD27: 942.60456
C28: Engine RPM | D28: 500 | E28: 750 | F28: 1000 | G28: 1250 | H28: 1500 | I28: 1750 | J28: 2000 | K28: 2250 | L28: 2500 | M28: 2750 | N28: 3000 | O28: 3250 | P28: 3500 | Q28: 3750 | R28: 4000 | S28: 4250 | T28: 4500 | U28: 4750 | V28: 5000 | W28: 5250 | X28: 5500 | Y28: 5750 | Z28: 6000 | AA28: 6250 | AB28: 6500 | AC28: 6750 | AD28: 7000
B33: FUEL CONSUMPTION | C33: PER LAP
B34: ='DUTY CYCLE'!AC140 -> 81.817132 | C34: G
B35: =B34/1000 -> 0.081817132 | C35: KG
B36: =B35/0.737 -> 0.11101375 | C36: L
B37: =B36/4.5 -> 0.024669722 | C37: GALLON
C38: PER HOUR
B39: =ROUNDUP((3600/'DUTY CYCLE'!B139),0) -> 27 | C39: TOTAL LAPS
B40: =(TRACK!E36*BSFC!B39)/1000 -> 36.30825 | C40: KM
B41: =B40/1.6 -> 22.692656 | C41: Mi
B42: =B37*B39 -> 0.66608248 | C42: GALLON
B43: =B41/B42 -> 34.068838 | C43: MPG

Sheet DUTY CYCLE
B2: TIME | C2: SECTOR | D2: SURFACE | E2: GRADIENT | F2: ELEVATION | G2: △ ELEVATION | H2: GRADIENT | I2: DISTANCE | J2: △ DISTANCE | K2: RPM | L2: GEAR | M2: VELOCITY | N2: ACCELERATION | O2: ACCELERATION FORCE | P2: RR COEFFICIENT | Q2: ROLLING DRAG | R2: AERO RESISTANCE | S2: GRADIENT RESISTANCE | T2: TOTAL RESISTANCE | U2: TOTAL RESISTIVE POWER | V2: POWER REMAINING | W2: POWER REQ PER SECOND | X2: TORQUE | Y2: CORRECTED TORQUE | Z2: WD | AA2: CUMULATIVE WD | AB2: FUEL CONSUMPTION | AC2: FUEL CONSUMTION | AD2: CO₂ PRODUCTION | AE2: KE | AF2: TOTAL ENERGY
B3: s | F3: m | H3: ° | I3: m | J3: m | M3: M/S | N3: M/S² | O3: N | Q3: N | R3: N | S3: N | T3: N | U3: Kw | V3: Kw | W3: Kw | X3: N/M | Y3: N/M | Z3: J | AA3: J | AB3: G/KwH | AC3: G/S | AD3: G/S | AE3: KJ | AF3: KJ | AI3: 1 | AJ3: 750
B4: 0 | C4: STRAIGHT 1 | D4: TARMAC | E4: =IF(H4>0,"UPHILL",IF(H4<0,"DOWNHILL",IF(H4=0,"FLAT",0))) -> FLAT | F4: 5 | G4: 0 | H4: 0 | I4: =SUM(M$4:M4) -> 0.82363514 | J4: 0 | K4: 750 | L4: 1 | M4: =VLOOKUP(K4,VEHICLE!I$30:L$54,MATCH(L4,VEHICLE!I$30:L$30,0),0) -> 0.82363514 | N4: 0 | O4: 0 | P4: 0.013 | Q4: 0 | R4: 0 | S4: =VEHICLE!C$47*9.81*SIN(RADIANS(G4)) -> 0 | T4: =SUM(Q4:S4)+O4 -> 0 | U4: =ABS(((+T4)*(+M4))/1000) -> 0 | V4: =((VEHICLE!C$12*1000)-U4*1000)/1000 -> 13.422819 | W4: =U4 -> 0 | X4: =ABS((W4*1000)/((2*PI()*K4)/60)) -> 0 | Y4: =ROUNDUP(X4,0) -> 0 | Z4: =T4 -> 0 | AA4: =Z4 -> 0 | AB4: =BSFC!E27 -> 1534.8532 | AC4: 0 | AD4: 0 | AE4: =0.5*VEHICLE!C$47*('DUTY CYCLE'!M4^2)/1000 -> 0.1924312 | AF4: =Z4+AE4 -> 0.1924312 | AI4: 2 | AJ4: 1000
B5: 1 | D5: TARMAC | E5: =IF(H5>0,"UPHILL",IF(H5<0,"DOWNHILL",IF(H5=0,"FLAT",0))) -> UPHILL | F5: 5.1 | G5: =F5-F4 -> 0.1 | H5: =DEGREES(ATAN(G5/J5)) -> 3.4739625 | I5: =SUM(M$4:M5) -> 2.4709054 | J5: =I5-I4 -> 1.6472703 | K5: 1500 | L5: 1 | M5: =VLOOKUP(K5,VEHICLE!I$30:L$54,MATCH(L5,VEHICLE!I$30:L$30,0),0) -> 1.6472703 | N5: =M5-M4 -> 0.82363514 | O5: =IF(L5=1,VEHICLE!C$68*'DUTY CYCLE'!N5,IF(L5=2,VEHICLE!C$69*'DUTY CYCLE'!N5,IF('DUTY CYCLE'!L5=3,VEHICLE!C$70*'DUTY CYCLE'!N5))) -> 490.00585 | P5: 0.013 | Q5: =P5*VEHICLE!C$47*9.81 -> 72.351595 | R5: =0.5*VEHICLE!C$20*VEHICLE!C$28*1.2*((M5)^2) -> 1.066218 | S5: =VEHICLE!C$47*9.81*SIN(RADIANS(H5)) -> 337.24158 | T5: =SUM(Q5:S5)+O5 -> 900.66525 | U5: =ABS(((+T5)*(+M5))/1000) -> 1.4836391 | V5: =((VEHICLE!C$12*1000)-U5*1000)/1000 -> 11.93918 | W5: =U5 -> 1.4836391 | X5: =ABS((W5*1000)/((2*PI()*K5)/60)) -> 9.4451398 | Y5: =ROUNDUP(X5,0) -> 10 | Z5: =T5 -> 900.66525 | AA5: =SUM(Z$4:Z5) -> 900.66525 | AB5: =INDEX(BSFC!D$5:AD$27,MATCH('DUTY CYCLE'!Y5,BSFC!C$5:C$27,0),MATCH('DUTY CYCLE'!K5,BSFC!D$28:AD$28,0)) -> 651.71791 | AC5: =U5*AB5/3600 -> 0.26858727 | AD5: =AC5*(3.09*1000) -> 829.93467 | AE5: =0.5*VEHICLE!C$47*('DUTY CYCLE'!M5^2)/1000 -> 0.7697248 | AF5: =Z5+AE5 -> 901.43497 | AI5: 3 | AJ5: 1250 | AK5: 21
B6: 2 | D6: TARMAC | E6: =IF(H6>0,"UPHILL",IF(H6<0,"DOWNHILL",IF(H6=0,"FLAT",0))) -> UPHILL | F6: 5.3 | G6: =F6-F5 -> 0.2 | H6: =DEGREES(ATAN(G6/J6)) -> 6.9225688 | I6: =SUM(M$4:M6) -> 4.1181757 | J6: =I6-I5 -> 1.6472703 | K6: 1500 | L6: 1 | M6: =VLOOKUP(K6,VEHICLE!I$30:L$54,MATCH(L6,VEHICLE!I$30:L$30,0),0) -> 1.6472703 | N6: =M6-M5 -> 0 | O6: =IF(L6=1,VEHICLE!C$68*'DUTY CYCLE'!N6,IF(L6=2,VEHICLE!C$69*'DUTY CYCLE'!N6,IF('DUTY CYCLE'!L6=3,VEHICLE!C$70*'DUTY CYCLE'!N6))) -> 0 | P6: 0.013 | Q6: =P6*VEHICLE!C$47*9.81 -> 72.351595 | R6: =0.5*VEHICLE!C$20*VEHICLE!C$28*1.2*((M6)^2) -> 1.066218 | S6: =VEHICLE!C$47*9.81*SIN(RADIANS(H6)) -> 670.79878 | T6: =SUM(Q6:S6)+O6 -> 744.21659 | U6: =ABS(((+T6)*(+M6))/1000) -> 1.2259259 | V6: =((VEHICLE!C$12*1000)-U6*1000)/1000 -> 12.196893 | W6: =U6 -> 1.2259259 | X6: =ABS((W6*1000)/((2*PI()*K6)/60)) -> 7.8044865 | Y6: =ROUNDUP(X6,0) -> 8 | Z6: =T6 -> 744.21659 | AA6: =SUM(Z$4:Z6) -> 1644.8818 | AB6: =INDEX(BSFC!D$5:AD$27,MATCH('DUTY CYCLE'!Y6,BSFC!C$5:C$27,0),MATCH('DUTY CYCLE'!K6,BSFC!D$28:AD$28,0)) -> 680.1117 | AC6: =U6*AB6/3600 -> 0.23160181 | AD6: =AC6*(3.09*1000) -> 715.6496 | AE6: =0.5*VEHICLE!C$47*('DUTY CYCLE'!M6^2)/1000 -> 0.7697248 | AF6: =Z6+AE6 -> 744.98632 | AJ6: 1500
B7: 3 | D7: TARMAC | E7: =IF(H7>0,"UPHILL",IF(H7<0,"DOWNHILL",IF(H7=0,"FLAT",0))) -> UPHILL | F7: 5.6 | G7: =F7-F6 -> 0.3 | H7: =DEGREES(ATAN(G7/J7)) -> 7.7778765 | I7: =SUM(M$4:M7) -> 6.3145361 | J7: =I7-I6 -> 2.1963604 | K7: 2000 | L7: 1 | M7: =VLOOKUP(K7,VEHICLE!I$30:L$54,MATCH(L7,VEHICLE!I$30:L$30,0),0) -> 2.1963604 | N7: =M7-M6 -> 0.54909009 | O7: =IF(L7=1,VEHICLE!C$68*'DUTY CYCLE'!N7,IF(L7=2,VEHICLE!C$69*'DUTY CYCLE'!N7,IF('DUTY CYCLE'!L7=3,VEHICLE!C$70*'DUTY CYCLE'!N7))) -> 326.67057 | P7: 0.013 | Q7: =P7*VEHICLE!C$47*9.81 -> 72.351595 | R7: =0.5*VEHICLE!C$20*VEHICLE!C$28*1.2*((M7)^2) -> 1.8954987 | S7: =VEHICLE!C$47*9.81*SIN(RADIANS(H7)) -> 753.19683 | T7: =SUM(Q7:S7)+O7 -> 1154.1145 | U7: =ABS(((+T7)*(+M7))/1000) -> 2.5348513 | V7: =((VEHICLE!C$12*1000)-U7*1000)/1000 -> 10.887967 | W7: =U7 -> 2.5348513 | X7: =ABS((W7*1000)/((2*PI()*K7)/60)) -> 12.103024 | Y7: =ROUNDUP(X7,0) -> 13 | Z7: =T7 -> 1154.1145 | AA7: =SUM(Z$4:Z7) -> 2798.9963 | AB7: =INDEX(BSFC!D$5:AD$27,MATCH('DUTY CYCLE'!Y7,BSFC!C$5:C$27,0),MATCH('DUTY CYCLE'!K7,BSFC!D$28:AD$28,0)) -> 625.37673 | AC7: =U7*AB7/3600 -> 0.44034362 | AD7: =AC7*(3.09*1000) -> 1360.6618 | AE7: =0.5*VEHICLE!C$47*('DUTY CYCLE'!M7^2)/1000 -> 1.3683996 | AF7: =Z7+AE7 -> 1155.4829 | AJ7: 1750
B8: 4 | D8: TARMAC | E8: =IF(H8>0,"UPHILL",IF(H8<0,"DOWNHILL",IF(H8=0,"FLAT",0))) -> UPHILL | F8: 6 | G8: =F8-F7 -> 0.4 | H8: =DEGREES(ATAN(G8/J8)) -> 8.2894166 | I8: =SUM(M$4:M8) -> 9.0599865 | J8: =I8-I7 -> 2.7454505 | K8: 2500 | L8: 1 | M8: =VLOOKUP(K8,VEHICLE!I$30:L$54,MATCH(L8,VEHICLE!I$30:L$30,0),0) -> 2.7454505 | N8: =M8-M7 -> 0.54909009 | O8: =IF(L8=1,VEHICLE!C$68*'DUTY CYCLE'!N8,IF(L8=2,VEHICLE!C$69*'DUTY CYCLE'!N8,IF('DUTY CYCLE'!L8=3,VEHICLE!C$70*'DUTY CYCLE'!N8))) -> 326.67057 | P8: 0.013 | Q8: =P8*VEHICLE!C$47*9.81 -> 72.351595 | R8: =0.5*VEHICLE!C$20*VEHICLE!C$28*1.2*((M8)^2) -> 2.9617167 | S8: =VEHICLE!C$47*9.81*SIN(RADIANS(H8)) -> 802.39821 | T8: =SUM(Q8:S8)+O8 -> 1204.3821 | U8: =ABS(((+T8)*(+M8))/1000) -> 3.3065714 | V8: =((VEHICLE!C$12*1000)-U8*1000)/1000 -> 10.116247 | W8: =U8 -> 3.3065714 | X8: =ABS((W8*1000)/((2*PI()*K8)/60)) -> 12.630172 | Y8: =ROUNDUP(X8,0) -> 13 | Z8: =T8 -> 1204.3821 | AA8: =SUM(Z$4:Z8) -> 4003.3784 | AB8: =INDEX(BSFC!D$5:AD$27,MATCH('DUTY CYCLE'!Y8,BSFC!C$5:C$27,0),MATCH('DUTY CYCLE'!K8,BSFC!D$28:AD$28,0)) -> 584.40292 | AC8: =U8*AB8/3600 -> 0.53676943 | AD8: =AC8*(3.09*1000) -> 1658.6175 | AE8: =0.5*VEHICLE!C$47*('DUTY CYCLE'!M8^2)/1000 -> 2.1381244 | AF8: =Z8+AE8 -> 1206.5202 | AJ8: 2000
B9: 5 | D9: TARMAC | E9: =IF(H9>0,"UPHILL",IF(H9<0,"DOWNHILL",IF(H9=0,"FLAT",0))) -> UPHILL | F9: 6.5 | G9: =F9-F8 -> 0.5 | H9: =DEGREES(ATAN(G9/J9)) -> 7.9747749 | I9: =SUM(M$4:M9) -> 12.629072 | J9: =I9-I8 -> 3.5690856 | K9: 3250 | L9: 1 | M9: =VLOOKUP(K9,VEHICLE!I$30:L$54,MATCH(L9,VEHICLE!I$30:L$30,0),0) -> 3.5690856 | N9: =M9-M8 -> 0.82363514 | O9: =IF(L9=1,VEHICLE!C$68*'DUTY CYCLE'!N9,IF(L9=2,VEHICLE!C$69*'DUTY CYCLE'!N9,IF('DUTY CYCLE'!L9=3,VEHICLE!C$70*'DUTY CYCLE'!N9))) -> 490.00585 | P9: 0.013 | Q9: =P9*VEHICLE!C$47*9.81 -> 72.351595 | R9: =0.5*VEHICLE!C$20*VEHICLE!C$28*1.2*((M9)^2) -> 5.0053012 | S9: =VEHICLE!C$47*9.81*SIN(RADIANS(H9)) -> 772.1424 | T9: =SUM(Q9:S9)+O9 -> 1339.5052 | U9: =ABS(((+T9)*(+M9))/1000) -> 4.7808085 | V9: =((VEHICLE!C$12*1000)-U9*1000)/1000 -> 8.6420102 | W9: =U9 -> 4.7808085 | X9: =ABS((W9*1000)/((2*PI()*K9)/60)) -> 14.047187 | Y9: =ROUNDUP(X9,0) -> 15 | Z9: =T9 -> 1339.5052 | AA9: =SUM(Z$4:Z9) -> 5342.8836 | AB9: =INDEX(BSFC!D$5:AD$27,MATCH('DUTY CYCLE'!Y9,BSFC!C$5:C$27,0),MATCH('DUTY CYCLE'!K9,BSFC!D$28:AD$28,0)) -> 543.2521 | AC9: =U9*AB9/3600 -> 0.72144008 | AD9: =AC9*(3.09*1000) -> 2229.2498 | AE9: =0.5*VEHICLE!C$47*('DUTY CYCLE'!M9^2)/1000 -> 3.6134303 | AF9: =Z9+AE9 -> 1343.1186 | AJ9: 2250
B10: 6 | D10: TARMAC | E10: =IF(H10>0,"UPHILL",IF(H10<0,"DOWNHILL",IF(H10=0,"FLAT",0))) -> UPHILL | F10: 7.1 | G10: =F10-F9 -> 0.6 | H10: =DEGREES(ATAN(G10/J10)) -> 8.2894166 | I10: =SUM(M$4:M10) -> 16.747248 | J10: =I10-I9 -> 4.1181757 | K10: 3750 | L10: 1 | M10: =VLOOKUP(K10,VEHICLE!I$30:L$54,MATCH(L10,VEHICLE!I$30:L$30,0),0) -> 4.1181757 | N10: =M10-M9 -> 0.54909009 | O10: =IF(L10=1,VEHICLE!C$68*'DUTY CYCLE'!N10,IF(L10=2,VEHICLE!C$69*'DUTY CYCLE'!N10,IF('DUTY CYCLE'!L10=3,VEHICLE!C$70*'DUTY CYCLE'!N10))) -> 326.67057 | P10: 0.013 | Q10: =P10*VEHICLE!C$47*9.81 -> 72.351595 | R10: =0.5*VEHICLE!C$20*VEHICLE!C$28*1.2*((M10)^2) -> 6.6638626 | S10: =VEHICLE!C$47*9.81*SIN(RADIANS(H10)) -> 802.39821 | T10: =SUM(Q10:S10)+O10 -> 1208.0842 | U10: =ABS(((+T10)*(+M10))/1000) -> 4.9751031 | V10: =((VEHICLE!C$12*1000)-U10*1000)/1000 -> 8.4477157 | W10: =U10 -> 4.9751031 | X10: =ABS((W10*1000)/((2*PI()*K10)/60)) -> 12.668996 | Y10: =ROUNDUP(X10,0) -> 13 | Z10: =T10 -> 1208.0842 | AA10: =SUM(Z$4:Z10) -> 6550.9678 | AB10: =INDEX(BSFC!D$5:AD$27,MATCH('DUTY CYCLE'!Y10,BSFC!C$5:C$27,0),MATCH('DUTY CYCLE'!K10,BSFC!D$28:AD$28,0)) -> 505.48915 | AC10: =U10*AB10/3600 -> 0.6985724 | AD10: =AC10*(3.09*1000) -> 2158.5887 | AE10: =0.5*VEHICLE!C$47*('DUTY CYCLE'!M10^2)/1000 -> 4.81078 | AF10: =Z10+AE10 -> 1212.895 | AJ10: 2500
B11: 7 | D11: TARMAC | E11: =IF(H11>0,"UPHILL",IF(H11<0,"DOWNHILL",IF(H11=0,"FLAT",0))) -> UPHILL | F11: 7.45 | G11: =F11-F10 -> 0.35 | H11: =DEGREES(ATAN(G11/J11)) -> 4.1417442 | I11: =SUM(M$4:M11) -> 21.580618 | J11: =I11-I10 -> 4.8333698 | K11: 3000 | L11: 2 | M11: =VLOOKUP(K11,VEHICLE!I$30:L$54,MATCH(L11,VEHICLE!I$30:L$30,0),0) -> 4.8333698 | N11: =M11-M10 -> 0.71519415 | O11: =IF(L11=1,VEHICLE!C$68*'DUTY CYCLE'!N11,IF(L11=2,VEHICLE!C$69*'DUTY CYCLE'!N11,IF('DUTY CYCLE'!L11=3,VEHICLE!C$70*'DUTY CYCLE'!N11))) -> 420.3782 | P11: 0.013 | Q11: =P11*VEHICLE!C$47*9.81 -> 72.351595 | R11: =0.5*VEHICLE!C$20*VEHICLE!C$28*1.2*((M11)^2) -> 9.1794434 | S11: =VEHICLE!C$47*9.81*SIN(RADIANS(H11)) -> 401.96394 | T11: =SUM(Q11:S11)+O11 -> 903.87318 | U11: =ABS(((+T11)*(+M11))/1000) -> 4.3687534 | V11: =((VEHICLE!C$12*1000)-U11*1000)/1000 -> 9.0540654 | W11: =U11 -> 4.3687534 | X11: =ABS((W11*1000)/((2*PI()*K11)/60)) -> 13.906174 | Y11: =ROUNDUP(X11,0) -> 14 | Z11: =T11 -> 903.87318 | AA11: =SUM(Z$4:Z11) -> 7454.841 | AB11: =INDEX(BSFC!D$5:AD$27,MATCH('DUTY CYCLE'!Y11,BSFC!C$5:C$27,0),MATCH('DUTY CYCLE'!K11,BSFC!D$28:AD$28,0)) -> 554.46639 | AC11: =U11*AB11/3600 -> 0.67286859 | AD11: =AC11*(3.09*1000) -> 2079.1639 | AE11: =0.5*VEHICLE!C$47*('DUTY CYCLE'!M11^2)/1000 -> 6.6268297 | AF11: =Z11+AE11 -> 910.50001 | AJ11: 2750
B12: 8 | D12: TARMAC | E12: =IF(H12>0,"UPHILL",IF(H12<0,"DOWNHILL",IF(H12=0,"FLAT",0))) -> UPHILL | F12: 7.8 | G12: =F12-F11 -> 0.35 | H12: =DEGREES(ATAN(G12/J12)) -> 3.5517066 | I12: =SUM(M$4:M12) -> 27.219549 | J12: =I12-I11 -> 5.6389315 | K12: 3500 | L12: 2 | M12: =VLOOKUP(K12,VEHICLE!I$30:L$54,MATCH(L12,VEHICLE!I$30:L$30,0),0) -> 5.6389315 | N12: =M12-M11 -> 0.80556164 | O12: =IF(L12=1,VEHICLE!C$68*'DUTY CYCLE'!N12,IF(L12=2,VEHICLE!C$69*'DUTY CYCLE'!N12,IF('DUTY CYCLE'!L12=3,VEHICLE!C$70*'DUTY CYCLE'!N12))) -> 473.49458 | P12: 0.013 | Q12: =P12*VEHICLE!C$47*9.81 -> 72.351595 | R12: =0.5*VEHICLE!C$20*VEHICLE!C$28*1.2*((M12)^2) -> 12.494242 | S12: =VEHICLE!C$47*9.81*SIN(RADIANS(H12)) -> 344.77918 | T12: =SUM(Q12:S12)+O12 -> 903.1196 | U12: =ABS(((+T12)*(+M12))/1000) -> 5.0926295 | V12: =((VEHICLE!C$12*1000)-U12*1000)/1000 -> 8.3301893 | W12: =U12 -> 5.0926295 | X12: =ABS((W12*1000)/((2*PI()*K12)/60)) -> 13.89458 | Y12: =ROUNDUP(X12,0) -> 14 | Z12: =T12 -> 903.1196 | AA12: =SUM(Z$4:Z12) -> 8357.9606 | AB12: =INDEX(BSFC!D$5:AD$27,MATCH('DUTY CYCLE'!Y12,BSFC!C$5:C$27,0),MATCH('DUTY CYCLE'!K12,BSFC!D$28:AD$28,0)) -> 523.69059 | AC12: =U12*AB12/3600 -> 0.74082282 | AD12: =AC12*(3.09*1000) -> 2289.1425 | AE12: =0.5*VEHICLE!C$47*('DUTY CYCLE'!M12^2)/1000 -> 9.0198515 | AF12: =Z12+AE12 -> 912.13945 | AJ12: 3000
B13: 9 | D13: TARMAC | E13: =IF(H13>0,"UPHILL",IF(H13<0,"DOWNHILL",IF(H13=0,"FLAT",0))) -> UPHILL | F13: 8.15 | G13: =F13-F12 -> 0.35 | H13: =DEGREES(ATAN(G13/J13)) -> 2.9261404 | I13: =SUM(M$4:M13) -> 34.066823 | J13: =I13-I12 -> 6.8472739 | K13: 4250 | L13: 2 | M13: =VLOOKUP(K13,VEHICLE!I$30:L$54,MATCH(L13,VEHICLE!I$30:L$30,0),0) -> 6.8472739 | N13: =M13-M12 -> 1.2083425 | O13: =IF(L13=1,VEHICLE!C$68*'DUTY CYCLE'!N13,IF(L13=2,VEHICLE!C$69*'DUTY CYCLE'!N13,IF('DUTY CYCLE'!L13=3,VEHICLE!C$70*'DUTY CYCLE'!N13))) -> 710.24187 | P13: 0.013 | Q13: =P13*VEHICLE!C$47*9.81 -> 72.351595 | R13: =0.5*VEHICLE!C$20*VEHICLE!C$28*1.2*((M13)^2) -> 18.422633 | S13: =VEHICLE!C$47*9.81*SIN(RADIANS(H13)) -> 284.11128 | T13: =SUM(Q13:S13)+O13 -> 1085.1274 | U13: =ABS(((+T13)*(+M13))/1000) -> 7.4301645 | V13: =((VEHICLE!C$12*1000)-U13*1000)/1000 -> 5.9926543 | W13: =U13 -> 7.4301645 | X13: =ABS((W13*1000)/((2*PI()*K13)/60)) -> 16.694787 | Y13: =ROUNDUP(X13,0) -> 17 | Z13: =T13 -> 1085.1274 | AA13: =SUM(Z$4:Z13) -> 9443.088 | AB13: =INDEX(BSFC!D$5:AD$27,MATCH('DUTY CYCLE'!Y13,BSFC!C$5:C$27,0),MATCH('DUTY CYCLE'!K13,BSFC!D$28:AD$28,0)) -> 505.64048 | AC13: =U13*AB13/3600 -> 1.0436089 | AD13: =AC13*(3.09*1000) -> 3224.7514 | AE13: =0.5*VEHICLE!C$47*('DUTY CYCLE'!M13^2)/1000 -> 13.299679 | AF13: =Z13+AE13 -> 1098.4271 | AJ13: 3250
B14: 10 | D14: TARMAC | E14: =IF(H14>0,"UPHILL",IF(H14<0,"DOWNHILL",IF(H14=0,"FLAT",0))) -> UPHILL | F14: 8.5 | G14: =F14-F13 -> 0.35 | H14: =DEGREES(ATAN(G14/J14)) -> 2.6185795 | I14: =SUM(M$4:M14) -> 41.719659 | J14: =I14-I13 -> 7.6528356 | K14: 4750 | L14: 2 | M14: =VLOOKUP(K14,VEHICLE!I$30:L$54,MATCH(L14,VEHICLE!I$30:L$30,0),0) -> 7.6528356 | N14: =M14-M13 -> 0.80556164 | O14: =IF(L14=1,VEHICLE!C$68*'DUTY CYCLE'!N14,IF(L14=2,VEHICLE!C$69*'DUTY CYCLE'!N14,IF('DUTY CYCLE'!L14=3,VEHICLE!C$70*'DUTY CYCLE'!N14))) -> 473.49458 | P14: 0.013 | Q14: =P14*VEHICLE!C$47*9.81 -> 72.351595 | R14: =0.5*VEHICLE!C$20*VEHICLE!C$28*1.2*((M14)^2) -> 23.012355 | S14: =VEHICLE!C$47*9.81*SIN(RADIANS(H14)) -> 254.27092 | T14: =SUM(Q14:S14)+O14 -> 823.12945 | U14: =ABS(((+T14)*(+M14))/1000) -> 6.2992743 | V14: =((VEHICLE!C$12*1000)-U14*1000)/1000 -> 7.1235444 | W14: =U14 -> 6.2992743 | X14: =ABS((W14*1000)/((2*PI()*K14)/60)) -> 12.663924 | Y14: =ROUNDUP(X14,0) -> 13 | Z14: =T14 -> 823.12945 | AA14: =SUM(Z$4:Z14) -> 10266.217 | AB14: =INDEX(BSFC!D$5:AD$27,MATCH('DUTY CYCLE'!Y14,BSFC!C$5:C$27,0),MATCH('DUTY CYCLE'!K14,BSFC!D$28:AD$28,0)) -> 409.05703 | AC14: =U14*AB14/3600 -> 0.71576735 | AD14: =AC14*(3.09*1000) -> 2211.7211 | AE14: =0.5*VEHICLE!C$47*('DUTY CYCLE'!M14^2)/1000 -> 16.613094 | AF14: =Z14+AE14 -> 839.74254 | AJ14: 3500
B15: 11 | D15: TARMAC | E15: =IF(H15>0,"UPHILL",IF(H15<0,"DOWNHILL",IF(H15=0,"FLAT",0))) -> DOWNHILL | F15: 8.35 | G15: =F15-F14 -> -0.15 | H15: =DEGREES(ATAN(G15/J15)) -> -1.253671 | I15: =SUM(M$4:M15) -> 48.573925 | J15: =I15-I14 -> 6.8542667 | K15: 3250 | L15: 3 | M15: =VLOOKUP(K15,VEHICLE!I$30:L$54,MATCH(L15,VEHICLE!I$30:L$30,0),0) -> 6.8542667 | N15: =M15-M14 -> -0.79856892 | O15: =IF(L15=1,VEHICLE!C$68*'DUTY CYCLE'!N15,IF(L15=2,VEHICLE!C$69*'DUTY CYCLE'!N15,IF('DUTY CYCLE'!L15=3,VEHICLE!C$70*'DUTY CYCLE'!N15))) -> -467.32141 | P15: 0.013 | Q15: =P15*VEHICLE!C$47*9.81 -> 72.351595 | R15: =0.5*VEHICLE!C$20*VEHICLE!C$28*1.2*((M15)^2) -> 18.46028 | S15: =VEHICLE!C$47*9.81*SIN(RADIANS(H15)) -> -121.7674 | T15: =SUM(Q15:S15)+O15 -> -498.27694 | U15: =ABS(((+T15)*(+M15))/1000) -> 3.415323 | V15: =((VEHICLE!C$12*1000)-U15*1000)/1000 -> 10.007496 | W15: =U15 -> 3.415323 | X15: =ABS((W15*1000)/((2*PI()*K15)/60)) -> 10.035056 | Y15: =ROUNDUP(X15,0) -> 11 | Z15: =T15 -> -498.27694 | AA15: =SUM(Z$4:Z15) -> 9767.9405 | AB15: =INDEX(BSFC!D$5:AD$27,MATCH('DUTY CYCLE'!Y15,BSFC!C$5:C$27,0),MATCH('DUTY CYCLE'!K15,BSFC!D$28:AD$28,0)) -> 562.64721 | AC15: =U15*AB15/3600 -> 0.53378388 | AD15: =AC15*(3.09*1000) -> 1649.3922 | AE15: =0.5*VEHICLE!C$47*('DUTY CYCLE'!M15^2)/1000 -> 13.326857 | AF15: =Z15+AE15 -> -484.95008 | AJ15: 3750
B16: 12 | D16: TARMAC | E16: =IF(H16>0,"UPHILL",IF(H16<0,"DOWNHILL",IF(H16=0,"FLAT",0))) -> UPHILL | F16: 9.2 | G16: =F16-F15 -> 0.85 | H16: =DEGREES(ATAN(G16/J16)) -> 7.0691791 | I16: =SUM(M$4:M16) -> 55.428192 | J16: =I16-I15 -> 6.8542667 | K16: 3250 | L16: 3 | M16: =VLOOKUP(K16,VEHICLE!I$30:L$54,MATCH(L16,VEHICLE!I$30:L$30,0),0) -> 6.8542667 | N16: =M16-M15 -> 0 | O16: =IF(L16=1,VEHICLE!C$68*'DUTY CYCLE'!N16,IF(L16=2,VEHICLE!C$69*'DUTY CYCLE'!N16,IF('DUTY CYCLE'!L16=3,VEHICLE!C$70*'DUTY CYCLE'!N16))) -> 0 | P16: 0.013 | Q16: =P16*VEHICLE!C$47*9.81 -> 72.351595 | R16: =0.5*VEHICLE!C$20*VEHICLE!C$28*1.2*((M16)^2) -> 18.46028 | S16: =VEHICLE!C$47*9.81*SIN(RADIANS(H16)) -> 684.93395 | T16: =SUM(Q16:S16)+O16 -> 775.74582 | U16: =ABS(((+T16)*(+M16))/1000) -> 5.3171687 | V16: =((VEHICLE!C$12*1000)-U16*1000)/1000 -> 8.1056501 | W16: =U16 -> 5.3171687 | X16: =ABS((W16*1000)/((2*PI()*K16)/60)) -> 15.623145 | Y16: =ROUNDUP(X16,0) -> 16 | Z16: =T16 -> 775.74582 | AA16: =SUM(Z$4:Z16) -> 10543.686 | AB16: =INDEX(BSFC!D$5:AD$27,MATCH('DUTY CYCLE'!Y16,BSFC!C$5:C$27,0),MATCH('DUTY CYCLE'!K16,BSFC!D$28:AD$28,0)) -> 552.939 | AC16: =U16*AB16/3600 -> 0.8166861 | AD16: =AC16*(3.09*1000) -> 2523.5601 | AE16: =0.5*VEHICLE!C$47*('DUTY CYCLE'!M16^2)/1000 -> 13.326857 | AF16: =Z16+AE16 -> 789.07268 | AJ16: 4000
B17: 13 | D17: TARMAC | E17: =IF(H17>0,"UPHILL",IF(H17<0,"DOWNHILL",IF(H17=0,"FLAT",0))) -> UPHILL | F17: 9.55 | G17: =F17-F16 -> 0.35 | H17: =DEGREES(ATAN(G17/J17)) -> 2.7146875 | I17: =SUM(M$4:M17) -> 62.80971 | J17: =I17-I16 -> 7.3815179 | K17: 3500 | L17: 3 | M17: =VLOOKUP(K17,VEHICLE!I$30:L$54,MATCH(L17,VEHICLE!I$30:L$30,0),0) -> 7.3815179 | N17: =M17-M16 -> 0.52725128 | O17: =IF(L17=1,VEHICLE!C$68*'DUTY CYCLE'!N17,IF(L17=2,VEHICLE!C$69*'DUTY CYCLE'!N17,IF('DUTY CYCLE'!L17=3,VEHICLE!C$70*'DUTY CYCLE'!N17))) -> 308.54671 | P17: 0.013 | Q17: =P17*VEHICLE!C$47*9.81 -> 72.351595 | R17: =0.5*VEHICLE!C$20*VEHICLE!C$28*1.2*((M17)^2) -> 21.409556 | S17: =VEHICLE!C$47*9.81*SIN(RADIANS(H17)) -> 263.5964 | T17: =SUM(Q17:S17)+O17 -> 665.90426 | U17: =ABS(((+T17)*(+M17))/1000) -> 4.9153842 | V17: =((VEHICLE!C$12*1000)-U17*1000)/1000 -> 8.5074346 | W17: =U17 -> 4.9153842 | X17: =ABS((W17*1000)/((2*PI()*K17)/60)) -> 13.410989 | Y17: =ROUNDUP(X17,0) -> 14 | Z17: =T17 -> 665.90426 | AA17: =SUM(Z$4:Z17) -> 11209.591 | AB17: =INDEX(BSFC!D$5:AD$27,MATCH('DUTY CYCLE'!Y17,BSFC!C$5:C$27,0),MATCH('DUTY CYCLE'!K17,BSFC!D$28:AD$28,0)) -> 523.69059 | AC17: =U17*AB17/3600 -> 0.71503901 | AD17: =AC17*(3.09*1000) -> 2209.4705 | AE17: =0.5*VEHICLE!C$47*('DUTY CYCLE'!M17^2)/1000 -> 15.456 | AF17: =Z17+AE17 -> 681.36026 | AJ17: 4250
... B19: 15 | D19: TARMAC | E19: =IF(H19>0,"UPHILL",IF(H19<0,"DOWNHILL",IF(H19=0,"FLAT",0))) -> UPHILL | F19: 10.25 | G19: =F19-F18 -> 0.35 | H19: =DEGREES(ATAN(G19/J19)) -> 2.6185795 | I19: =SUM(M$4:M19) -> 78.371315 | J19: =I19-I18 -> 7.6528356 | K19: 4750 | L19: 2 | M19: =VLOOKUP(K19,VEHICLE!I$30:L$54,MATCH(L19,VEHICLE!I$30:L$30,0),0) -> 7.6528356 | N19: =M19-M18 -> -0.25593365 | O19: =IF(L19=1,VEHICLE!C$68*'DUTY CYCLE'!N19,IF(L19=2,VEHICLE!C$69*'DUTY CYCLE'!N19,IF('DUTY CYCLE'!L19=3,VEHICLE!C$70*'DUTY CYCLE'!N19))) -> -150.43317 | P19: 0.013 | Q19: =P19*VEHICLE!C$47*9.81 -> 72.351595 | R19: =0.5*VEHICLE!C$20*VEHICLE!C$28*1.2*((M19)^2) -> 23.012355 | S19: =VEHICLE!C$47*9.81*SIN(RADIANS(H19)) -> 254.27092 | T19: =SUM(Q19:S19)+O19 -> 199.2017 | U19: =ABS(((+T19)*(+M19))/1000) -> 1.5244578 | V19: =((VEHICLE!C$12*1000)-U19*1000)/1000 -> 11.898361 | W19: =U19 -> 1.5244578 | X19: =ABS((W19*1000)/((2*PI()*K19)/60)) -> 3.0647368 | Y19: =ROUNDUP(X19,0) -> 4 | Z19: =T19 -> 199.2017 | AA19: =SUM(Z$4:Z19) -> 12060.327 | AB19: =INDEX(BSFC!D$5:AD$27,MATCH('DUTY CYCLE'!Y19,BSFC!C$5:C$27,0),MATCH('DUTY CYCLE'!K19,BSFC!D$28:AD$28,0)) -> 731.05834 | AC19: =U19*AB19/3600 -> 0.30957434 | AD19: =AC19*(3.09*1000) -> 956.5847 | AE19: =0.5*VEHICLE!C$47*('DUTY CYCLE'!M19^2)/1000 -> 16.613094 | AF19: =Z19+AE19 -> 215.81479 | AJ19: 4750
B20: 16 | C20: TURN 1 | D20: TARMAC | E20: =IF(H20>0,"UPHILL",IF(H20<0,"DOWNHILL",IF(H20=0,"FLAT",0))) -> UPHILL | F20: 10.6 | G20: =F20-F19 -> 0.35 | H20: =DEGREES(ATAN(G20/J20)) -> 3.108676 | I20: =SUM(M$4:M20) -> 84.815808 | J20: =I20-I19 -> 6.4444931 | K20: 4000 | L20: 2 | M20: =VLOOKUP(K20,VEHICLE!I$30:L$54,MATCH(L20,VEHICLE!I$30:L$30,0),0) -> 6.4444931 | N20: =M20-M19 -> -1.2083425 | O20: =IF(L20=1,VEHICLE!C$68*'DUTY CYCLE'!N20,IF(L20=2,VEHICLE!C$69*'DUTY CYCLE'!N20,IF('DUTY CYCLE'!L20=3,VEHICLE!C$70*'DUTY CYCLE'!N20))) -> -710.24187 | P20: 0.013 | Q20: =P20*VEHICLE!C$47*9.81 -> 72.351595 | R20: =0.5*VEHICLE!C$20*VEHICLE!C$28*1.2*((M20)^2) -> 16.31901 | S20: =VEHICLE!C$47*9.81*SIN(RADIANS(H20)) -> 301.81755 | T20: =SUM(Q20:S20)+O20 -> -319.75372 | U20: =ABS(((+T20)*(+M20))/1000) -> 2.0606506 | V20: =((VEHICLE!C$12*1000)-U20*1000)/1000 -> 11.362168 | W20: =U20 -> 2.0606506 | X20: =ABS((W20*1000)/((2*PI()*K20)/60)) -> 4.919441 | Y20: =ROUNDUP(X20,0) -> 5 | Z20: =T20 -> -319.75372 | AA20: =SUM(Z$4:Z20) -> 11740.573 | AB20: =INDEX(BSFC!D$5:AD$27,MATCH('DUTY CYCLE'!Y20,BSFC!C$5:C$27,0),MATCH('DUTY CYCLE'!K20,BSFC!D$28:AD$28,0)) -> 708.06943 | AC20: =U20*AB20/3600 -> 0.40530103 | AD20: =AC20*(3.09*1000) -> 1252.3802 | AE20: =0.5*VEHICLE!C$47*('DUTY CYCLE'!M20^2)/1000 -> 11.781031 | AF20: =Z20+AE20 -> -307.97269 | AJ20: 5000
B21: 17 | D21: TARMAC | E21: =IF(H21>0,"UPHILL",IF(H21<0,"DOWNHILL",IF(H21=0,"FLAT",0))) -> UPHILL | F21: 10.65 | G21: =F21-F20 -> 0.05 | H21: =DEGREES(ATAN(G21/J21)) -> 0.41837643 | I21: =SUM(M$4:M21) -> 91.663082 | J21: =I21-I20 -> 6.8472739 | K21: 4250 | L21: 2 | M21: =VLOOKUP(K21,VEHICLE!I$30:L$54,MATCH(L21,VEHICLE!I$30:L$30,0),0) -> 6.8472739 | N21: =M21-M20 -> 0.40278082 | O21: =IF(L21=1,VEHICLE!C$68*'DUTY CYCLE'!N21,IF(L21=2,VEHICLE!C$69*'DUTY CYCLE'!N21,IF('DUTY CYCLE'!L21=3,VEHICLE!C$70*'DUTY CYCLE'!N21))) -> 236.74729 | P21: 0.013 | Q21: =P21*VEHICLE!C$47*9.81 -> 72.351595 | R21: =0.5*VEHICLE!C$20*VEHICLE!C$28*1.2*((M21)^2) -> 18.422633 | S21: =VEHICLE!C$47*9.81*SIN(RADIANS(H21)) -> 40.639231 | T21: =SUM(Q21:S21)+O21 -> 368.16075 | U21: =ABS(((+T21)*(+M21))/1000) -> 2.5208975 | V21: =((VEHICLE!C$12*1000)-U21*1000)/1000 -> 10.901921 | W21: =U21 -> 2.5208975 | X21: =ABS((W21*1000)/((2*PI()*K21)/60)) -> 5.6641877 | Y21: =ROUNDUP(X21,0) -> 6 | Z21: =T21 -> 368.16075 | AA21: =SUM(Z$4:Z21) -> 12108.734 | AB21: =INDEX(BSFC!D$5:AD$27,MATCH('DUTY CYCLE'!Y21,BSFC!C$5:C$27,0),MATCH('DUTY CYCLE'!K21,BSFC!D$28:AD$28,0)) -> 622.70879 | AC21: =U21*AB21/3600 -> 0.4360514 | AD21: =AC21*(3.09*1000) -> 1347.3988 | AE21: =0.5*VEHICLE!C$47*('DUTY CYCLE'!M21^2)/1000 -> 13.299679 | AF21: =Z21+AE21 -> 381.46043 | AJ21: 5250
B22: 18 | D22: TARMAC | E22: =IF(H22>0,"UPHILL",IF(H22<0,"DOWNHILL",IF(H22=0,"FLAT",0))) -> UPHILL | F22: 11.1 | G22: =F22-F21 -> 0.45 | H22: =DEGREES(ATAN(G22/J22)) -> 3.5517066 | I22: =SUM(M$4:M22) -> 98.913136 | J22: =I22-I21 -> 7.2500548 | K22: 4500 | L22: 2 | M22: =VLOOKUP(K22,VEHICLE!I$30:L$54,MATCH(L22,VEHICLE!I$30:L$30,0),0) -> 7.2500548 | N22: =M22-M21 -> 0.40278082 | O22: =IF(L22=1,VEHICLE!C$68*'DUTY CYCLE'!N22,IF(L22=2,VEHICLE!C$69*'DUTY CYCLE'!N22,IF('DUTY CYCLE'!L22=3,VEHICLE!C$70*'DUTY CYCLE'!N22))) -> 236.74729 | P22: 0.013 | Q22: =P22*VEHICLE!C$47*9.81 -> 72.351595 | R22: =0.5*VEHICLE!C$20*VEHICLE!C$28*1.2*((M22)^2) -> 20.653748 | S22: =VEHICLE!C$47*9.81*SIN(RADIANS(H22)) -> 344.77918 | T22: =SUM(Q22:S22)+O22 -> 674.53181 | U22: =ABS(((+T22)*(+M22))/1000) -> 4.8903926 | V22: =((VEHICLE!C$12*1000)-U22*1000)/1000 -> 8.5324262 | W22: =U22 -> 4.8903926 | X22: =ABS((W22*1000)/((2*PI()*K22)/60)) -> 10.377735 | Y22: =ROUNDUP(X22,0) -> 11 | Z22: =T22 -> 674.53181 | AA22: =SUM(Z$4:Z22) -> 12783.266 | AB22: =INDEX(BSFC!D$5:AD$27,MATCH('DUTY CYCLE'!Y22,BSFC!C$5:C$27,0),MATCH('DUTY CYCLE'!K22,BSFC!D$28:AD$28,0)) -> 472.43852 | AC22: =U22*AB22/3600 -> 0.64178051 | AD22: =AC22*(3.09*1000) -> 1983.1018 | AE22: =0.5*VEHICLE!C$47*('DUTY CYCLE'!M22^2)/1000 -> 14.910367 | AF22: =Z22+AE22 -> 689.44218 | AJ22: 5500
B23: 19 | D23: TARMAC | E23: =IF(H23>0,"UPHILL",IF(H23<0,"DOWNHILL",IF(H23=0,"FLAT",0))) -> DOWNHILL | F23: 10.8 | G23: =F23-F22 -> -0.3 | H23: =DEGREES(ATAN(G23/J23)) -> -2.2449113 | I23: =SUM(M$4:M23) -> 106.56597 | J23: =I23-I22 -> 7.6528356 | K23: 4750 | L23: 2 | M23: =VLOOKUP(K23,VEHICLE!I$30:L$54,MATCH(L23,VEHICLE!I$30:L$30,0),0) -> 7.6528356 | N23: =M23-M22 -> 0.40278082 | O23: =IF(L23=1,VEHICLE!C$68*'DUTY CYCLE'!N23,IF(L23=2,VEHICLE!C$69*'DUTY CYCLE'!N23,IF('DUTY CYCLE'!L23=3,VEHICLE!C$70*'DUTY CYCLE'!N23))) -> 236.74729 | P23: 0.013 | Q23: =P23*VEHICLE!C$47*9.81 -> 72.351595 | R23: =0.5*VEHICLE!C$20*VEHICLE!C$28*1.2*((M23)^2) -> 23.012355 | S23: =VEHICLE!C$47*9.81*SIN(RADIANS(H23)) -> -218.00687 | T23: =SUM(Q23:S23)+O23 -> 114.10437 | U23: =ABS(((+T23)*(+M23))/1000) -> 0.87322195 | V23: =((VEHICLE!C$12*1000)-U23*1000)/1000 -> 12.549597 | W23: =U23 -> 0.87322195 | X23: =ABS((W23*1000)/((2*PI()*K23)/60)) -> 1.7555064 | Y23: =ROUNDUP(X23,0) -> 2 | Z23: =T23 -> 114.10437 | AA23: =SUM(Z$4:Z23) -> 12897.37 | AB23: =INDEX(BSFC!D$5:AD$27,MATCH('DUTY CYCLE'!Y23,BSFC!C$5:C$27,0),MATCH('DUTY CYCLE'!K23,BSFC!D$28:AD$28,0)) -> 892.41382 | AC23: =U23*AB23/3600 -> 0.21646537 | AD23: =AC23*(3.09*1000) -> 668.878 | AE23: =0.5*VEHICLE!C$47*('DUTY CYCLE'!M23^2)/1000 -> 16.613094 | AF23: =Z23+AE23 -> 130.71746 | AJ23: 5750
B24: 20 | D24: TARMAC | E24: =IF(H24>0,"UPHILL",IF(H24<0,"DOWNHILL",IF(H24=0,"FLAT",0))) -> DOWNHILL | F24: 10.5 | G24: =F24-F23 -> -0.3 | H24: =DEGREES(ATAN(G24/J24)) -> -2.1327721 | I24: =SUM(M$4:M24) -> 114.62159 | J24: =I24-I23 -> 8.0556164 | K24: 5000 | L24: 2 | M24: =VLOOKUP(K24,VEHICLE!I$30:L$54,MATCH(L24,VEHICLE!I$30:L$30,0),0) -> 8.0556164 | N24: =M24-M23 -> 0.40278082 | O24: =IF(L24=1,VEHICLE!C$68*'DUTY CYCLE'!N24,IF(L24=2,VEHICLE!C$69*'DUTY CYCLE'!N24,IF('DUTY CYCLE'!L24=3,VEHICLE!C$70*'DUTY CYCLE'!N24))) -> 236.74729 | P24: 0.013 | Q24: =P24*VEHICLE!C$47*9.81 -> 72.351595 | R24: =0.5*VEHICLE!C$20*VEHICLE!C$28*1.2*((M24)^2) -> 25.498454 | S24: =VEHICLE!C$47*9.81*SIN(RADIANS(H24)) -> -207.12202 | T24: =SUM(Q24:S24)+O24 -> 127.47532 | U24: =ABS(((+T24)*(+M24))/1000) -> 1.0268922 | V24: =((VEHICLE!C$12*1000)-U24*1000)/1000 -> 12.395927 | W24: =U24 -> 1.0268922 | X24: =ABS((W24*1000)/((2*PI()*K24)/60)) -> 1.9612197 | Y24: =ROUNDUP(X24,0) -> 2 | Z24: =T24 -> 127.47532 | AA24: =SUM(Z$4:Z24) -> 13024.845 | AB24: =INDEX(BSFC!D$5:AD$27,MATCH('DUTY CYCLE'!Y24,BSFC!C$5:C$27,0),MATCH('DUTY CYCLE'!K24,BSFC!D$28:AD$28,0)) -> 881.18349 | AC24: =U24*AB24/3600 -> 0.25135569 | AD24: =AC24*(3.09*1000) -> 776.68909 | AE24: =0.5*VEHICLE!C$47*('DUTY CYCLE'!M24^2)/1000 -> 18.40786 | AF24: =Z24+AE24 -> 145.88318 | AJ24: 6000
B25: 21 | C25: TURN 2 | D25: TARMAC | E25: =IF(H25>0,"UPHILL",IF(H25<0,"DOWNHILL",IF(H25=0,"FLAT",0))) -> DOWNHILL | F25: 10.2 | G25: =F25-F24 -> -0.3 | H25: =DEGREES(ATAN(G25/J25)) -> -2.0312988 | I25: =SUM(M$4:M25) -> 123.07999 | J25: =I25-I24 -> 8.4583972 | K25: 5250 | L25: 2 | M25: =VLOOKUP(K25,VEHICLE!I$30:L$54,MATCH(L25,VEHICLE!I$30:L$30,0),0) -> 8.4583972 | N25: =M25-M24 -> 0.40278082 | O25: =IF(L25=1,VEHICLE!C$68*'DUTY CYCLE'!N25,IF(L25=2,VEHICLE!C$69*'DUTY CYCLE'!N25,IF('DUTY CYCLE'!L25=3,VEHICLE!C$70*'DUTY CYCLE'!N25))) -> 236.74729 | P25: 0.013 | Q25: =P25*VEHICLE!C$47*9.81 -> 72.351595 | R25: =0.5*VEHICLE!C$20*VEHICLE!C$28*1.2*((M25)^2) -> 28.112045 | S25: =VEHICLE!C$47*9.81*SIN(RADIANS(H25)) -> -197.27177 | T25: =SUM(Q25:S25)+O25 -> 139.93916 | U25: =ABS(((+T25)*(+M25))/1000) -> 1.183661 | V25: =((VEHICLE!C$12*1000)-U25*1000)/1000 -> 12.239158 | W25: =U25 -> 1.183661 | X25: =ABS((W25*1000)/((2*PI()*K25)/60)) -> 2.1529771 | Y25: =ROUNDUP(X25,0) -> 3 | Z25: =T25 -> 139.93916 | AA25: =SUM(Z$4:Z25) -> 13164.784 | AB25: =INDEX(BSFC!D$5:AD$27,MATCH('DUTY CYCLE'!Y25,BSFC!C$5:C$27,0),MATCH('DUTY CYCLE'!K25,BSFC!D$28:AD$28,0)) -> 787.5941 | AC25: =U25*AB25/3600 -> 0.25895678 | AD25: =AC25*(3.09*1000) -> 800.17645 | AE25: =0.5*VEHICLE!C$47*('DUTY CYCLE'!M25^2)/1000 -> 20.294666 | AF25: =Z25+AE25 -> 160.23383 | AJ25: 6250
B26: 22 | D26: TARMAC | E26: =IF(H26>0,"UPHILL",IF(H26<0,"DOWNHILL",IF(H26=0,"FLAT",0))) -> DOWNHILL | F26: 9.9 | G26: =F26-F25 -> -0.3 | H26: =DEGREES(ATAN(G26/J26)) -> -1.715311 | I26: =SUM(M$4:M26) -> 133.09776 | J26: =I26-I25 -> 10.017774 | K26: 4750 | L26: 3 | M26: =VLOOKUP(K26,VEHICLE!I$30:L$54,MATCH(L26,VEHICLE!I$30:L$30,0),0) -> 10.017774 | N26: =M26-M25 -> 1.5593771 | O26: =IF(L26=1,VEHICLE!C$68*'DUTY CYCLE'!N26,IF(L26=2,VEHICLE!C$69*'DUTY CYCLE'!N26,IF('DUTY CYCLE'!L26=3,VEHICLE!C$70*'DUTY CYCLE'!N26))) -> 912.54531 | P26: 0.013 | Q26: =P26*VEHICLE!C$47*9.81 -> 72.351595 | R26: =0.5*VEHICLE!C$20*VEHICLE!C$28*1.2*((M26)^2) -> 39.432906 | S26: =VEHICLE!C$47*9.81*SIN(RADIANS(H26)) -> -166.59429 | T26: =SUM(Q26:S26)+O26 -> 857.73552 | U26: =ABS(((+T26)*(+M26))/1000) -> 8.5926009 | V26: =((VEHICLE!C$12*1000)-U26*1000)/1000 -> 4.8302179 | W26: =U26 -> 8.5926009 | X26: =ABS((W26*1000)/((2*PI()*K26)/60)) -> 17.274378 | Y26: =ROUNDUP(X26,0) -> 18 | Z26: =T26 -> 857.73552 | AA26: =SUM(Z$4:Z26) -> 14022.52 | AB26: =INDEX(BSFC!D$5:AD$27,MATCH('DUTY CYCLE'!Y26,BSFC!C$5:C$27,0),MATCH('DUTY CYCLE'!K26,BSFC!D$28:AD$28,0)) -> 500.37751 | AC26: =U26*AB26/3600 -> 1.1943178 | AD26: =AC26*(3.09*1000) -> 3690.4421 | AE26: =0.5*VEHICLE!C$47*('DUTY CYCLE'!M26^2)/1000 -> 28.467429 | AF26: =Z26+AE26 -> 886.20295 | AJ26: 6500
B27: 23 | D27: TARMAC | E27: =IF(H27>0,"UPHILL",IF(H27<0,"DOWNHILL",IF(H27=0,"FLAT",0))) -> DOWNHILL | F27: 9.6 | G27: =F27-F26 -> -0.3 | H27: =DEGREES(ATAN(G27/J27)) -> -1.6295929 | I27: =SUM(M$4:M27) -> 143.64279 | J27: =I27-I26 -> 10.545026 | K27: 5000 | L27: 3 | M27: =VLOOKUP(K27,VEHICLE!I$30:L$54,MATCH(L27,VEHICLE!I$30:L$30,0),0) -> 10.545026 | N27: =M27-M26 -> 0.52725128 | O27: =IF(L27=1,VEHICLE!C$68*'DUTY CYCLE'!N27,IF(L27=2,VEHICLE!C$69*'DUTY CYCLE'!N27,IF('DUTY CYCLE'!L27=3,VEHICLE!C$70*'DUTY CYCLE'!N27))) -> 308.54671 | P27: 0.013 | Q27: =P27*VEHICLE!C$47*9.81 -> 72.351595 | R27: =0.5*VEHICLE!C$20*VEHICLE!C$28*1.2*((M27)^2) -> 43.692971 | S27: =VEHICLE!C$47*9.81*SIN(RADIANS(H27)) -> -158.27149 | T27: =SUM(Q27:S27)+O27 -> 266.31978 | U27: =ABS(((+T27)*(+M27))/1000) -> 2.808349 | V27: =((VEHICLE!C$12*1000)-U27*1000)/1000 -> 10.61447 | W27: =U27 -> 2.808349 | X27: =ABS((W27*1000)/((2*PI()*K27)/60)) -> 5.3635514 | Y27: =ROUNDUP(X27,0) -> 6 | Z27: =T27 -> 266.31978 | AA27: =SUM(Z$4:Z27) -> 14288.84 | AB27: =INDEX(BSFC!D$5:AD$27,MATCH('DUTY CYCLE'!Y27,BSFC!C$5:C$27,0),MATCH('DUTY CYCLE'!K27,BSFC!D$28:AD$28,0)) -> 545.344 | AC27: =U27*AB27/3600 -> 0.42542118 | AD27: =AC27*(3.09*1000) -> 1314.5514 | AE27: =0.5*VEHICLE!C$47*('DUTY CYCLE'!M27^2)/1000 -> 31.542857 | AF27: =Z27+AE27 -> 297.86264
B28: 24 | C28: TURN 3 | D28: TARMAC | E28: =IF(H28>0,"UPHILL",IF(H28<0,"DOWNHILL",IF(H28=0,"FLAT",0))) -> DOWNHILL | F28: 9.3 | G28: =F28-F27 -> -0.3 | H28: =DEGREES(ATAN(G28/J28)) -> -1.5520321 | I28: =SUM(M$4:M28) -> 154.71506 | J28: =I28-I27 -> 11.072277 | K28: 5250 | L28: 3 | M28: =VLOOKUP(K28,VEHICLE!I$30:L$54,MATCH(L28,VEHICLE!I$30:L$30,0),0) -> 11.072277 | N28: =M28-M27 -> 0.52725128 | O28: =IF(L28=1,VEHICLE!C$68*'DUTY CYCLE'!N28,IF(L28=2,VEHICLE!C$69*'DUTY CYCLE'!N28,IF('DUTY CYCLE'!L28=3,VEHICLE!C$70*'DUTY CYCLE'!N28))) -> 308.54671 | P28: 0.013 | Q28: =P28*VEHICLE!C$47*9.81 -> 72.351595 | R28: =0.5*VEHICLE!C$20*VEHICLE!C$28*1.2*((M28)^2) -> 48.1715 | S28: =VEHICLE!C$47*9.81*SIN(RADIANS(H28)) -> -150.74042 | T28: =SUM(Q28:S28)+O28 -> 278.32939 | U28: =ABS(((+T28)*(+M28))/1000) -> 3.08174 | V28: =((VEHICLE!C$12*1000)-U28*1000)/1000 -> 10.341079 | W28: =U28 -> 3.08174 | X28: =ABS((W28*1000)/((2*PI()*K28)/60)) -> 5.6054189 | Y28: =ROUNDUP(X28,0) -> 6 | Z28: =T28 -> 278.32939 | AA28: =SUM(Z$4:Z28) -> 14567.169 | AB28: =INDEX(BSFC!D$5:AD$27,MATCH('DUTY CYCLE'!Y28,BSFC!C$5:C$27,0),MATCH('DUTY CYCLE'!K28,BSFC!D$28:AD$28,0)) -> 537.86208 | AC28: =U28*AB28/3600 -> 0.46043086 | AD28: =AC28*(3.09*1000) -> 1422.7313 | AE28: =0.5*VEHICLE!C$47*('DUTY CYCLE'!M28^2)/1000 -> 34.776 | AF28: =Z28+AE28 -> 313.10539
B29: 25 | C29: STRAIGHT 2 | D29: TARMAC | E29: =IF(H29>0,"UPHILL",IF(H29<0,"DOWNHILL",IF(H29=0,"FLAT",0))) -> DOWNHILL | F29: 9 | G29: =F29-F28 -> -0.3 | H29: =DEGREES(ATAN(G29/J29)) -> -1.5520321 | I29: =SUM(M$4:M29) -> 165.78734 | J29: =I29-I28 -> 11.072277 | K29: 5250 | L29: 3 | M29: =VLOOKUP(K29,VEHICLE!I$30:L$54,MATCH(L29,VEHICLE!I$30:L$30,0),0) -> 11.072277 | N29: =M29-M28 -> 0 | O29: =IF(L29=1,VEHICLE!C$68*'DUTY CYCLE'!N29,IF(L29=2,VEHICLE!C$69*'DUTY CYCLE'!N29,IF('DUTY CYCLE'!L29=3,VEHICLE!C$70*'DUTY CYCLE'!N29))) -> 0 | P29: 0.013 | Q29: =P29*VEHICLE!C$47*9.81 -> 72.351595 | R29: =0.5*VEHICLE!C$20*VEHICLE!C$28*1.2*((M29)^2) -> 48.1715 | S29: =VEHICLE!C$47*9.81*SIN(RADIANS(H29)) -> -150.74042 | T29: =SUM(Q29:S29)+O29 -> -30.217324 | U29: =ABS(((+T29)*(+M29))/1000) -> 0.33457458 | V29: =((VEHICLE!C$12*1000)-U29*1000)/1000 -> 13.088244 | W29: =U29 -> 0.33457458 | X29: =ABS((W29*1000)/((2*PI()*K29)/60)) -> 0.60856227 | Y29: =ROUNDUP(X29,0) -> 1 | Z29: =T29 -> -30.217324 | AA29: =SUM(Z$4:Z29) -> 14536.952 | AB29: =INDEX(BSFC!D$5:AD$27,MATCH('DUTY CYCLE'!Y29,BSFC!C$5:C$27,0),MATCH('DUTY CYCLE'!K29,BSFC!D$28:AD$28,0)) -> 959.80904 | AC29: =U29*AB29/3600 -> 0.089202141 | AD29: =AC29*(3.09*1000) -> 275.63462 | AE29: =0.5*VEHICLE!C$47*('DUTY CYCLE'!M29^2)/1000 -> 34.776 | AF29: =Z29+AE29 -> 4.5586762
B30: 26 | D30: TARMAC | E30: =IF(H30>0,"UPHILL",IF(H30<0,"DOWNHILL",IF(H30=0,"FLAT",0))) -> DOWNHILL | F30: 8.7 | G30: =F30-F29 -> -0.3 | H30: =DEGREES(ATAN(G30/J30)) -> -1.5520321 | I30: =SUM(M$4:M30) -> 176.85962 | J30: =I30-I29 -> 11.072277 | K30: 5250 | L30: 3 | M30: =VLOOKUP(K30,VEHICLE!I$30:L$54,MATCH(L30,VEHICLE!I$30:L$30,0),0) -> 11.072277 | N30: =M30-M29 -> 0 | O30: =IF(L30=1,VEHICLE!C$68*'DUTY CYCLE'!N30,IF(L30=2,VEHICLE!C$69*'DUTY CYCLE'!N30,IF('DUTY CYCLE'!L30=3,VEHICLE!C$70*'DUTY CYCLE'!N30))) -> 0 | P30: 0.013 | Q30: =P30*VEHICLE!C$47*9.81 -> 72.351595 | R30: =0.5*VEHICLE!C$20*VEHICLE!C$28*1.2*((M30)^2) -> 48.1715 | S30: =VEHICLE!C$47*9.81*SIN(RADIANS(H30)) -> -150.74042 | T30: =SUM(Q30:S30)+O30 -> -30.217324 | U30: =ABS(((+T30)*(+M30))/1000) -> 0.33457458 | V30: =((VEHICLE!C$12*1000)-U30*1000)/1000 -> 13.088244 | W30: =U30 -> 0.33457458 | X30: =ABS((W30*1000)/((2*PI()*K30)/60)) -> 0.60856227 | Y30: =ROUNDUP(X30,0) -> 1 | Z30: =T30 -> -30.217324 | AA30: =SUM(Z$4:Z30) -> 14506.734 | AB30: =INDEX(BSFC!D$5:AD$27,MATCH('DUTY CYCLE'!Y30,BSFC!C$5:C$27,0),MATCH('DUTY CYCLE'!K30,BSFC!D$28:AD$28,0)) -> 959.80904 | AC30: =U30*AB30/3600 -> 0.089202141 | AD30: =AC30*(3.09*1000) -> 275.63462 | AE30: =0.5*VEHICLE!C$47*('DUTY CYCLE'!M30^2)/1000 -> 34.776 | AF30: =Z30+AE30 -> 4.5586762
B31: 27 | D31: TARMAC | E31: =IF(H31>0,"UPHILL",IF(H31<0,"DOWNHILL",IF(H31=0,"FLAT",0))) -> DOWNHILL | F31: 8.4 | G31: =F31-F30 -> -0.3 | H31: =DEGREES(ATAN(G31/J31)) -> -1.4815174 | I31: =SUM(M$4:M31) -> 188.45914 | J31: =I31-I30 -> 11.599528 | K31: 5500 | L31: 3 | M31: =VLOOKUP(K31,VEHICLE!I$30:L$54,MATCH(L31,VEHICLE!I$30:L$30,0),0) -> 11.599528 | N31: =M31-M30 -> 0.52725128 | O31: =IF(L31=1,VEHICLE!C$68*'DUTY CYCLE'!N31,IF(L31=2,VEHICLE!C$69*'DUTY CYCLE'!N31,IF('DUTY CYCLE'!L31=3,VEHICLE!C$70*'DUTY CYCLE'!N31))) -> 308.54671 | P31: 0.013 | Q31: =P31*VEHICLE!C$47*9.81 -> 72.351595 | R31: =0.5*VEHICLE!C$20*VEHICLE!C$28*1.2*((M31)^2) -> 52.868494 | S31: =VEHICLE!C$47*9.81*SIN(RADIANS(H31)) -> -143.89327 | T31: =SUM(Q31:S31)+O31 -> 289.87353 | U31: =ABS(((+T31)*(+M31))/1000) -> 3.3623962 | V31: =((VEHICLE!C$12*1000)-U31*1000)/1000 -> 10.060423 | W31: =U31 -> 3.3623962 | X31: =ABS((W31*1000)/((2*PI()*K31)/60)) -> 5.8379124 | Y31: =ROUNDUP(X31,0) -> 6 | Z31: =T31 -> 289.87353 | AA31: =SUM(Z$4:Z31) -> 14796.608 | AB31: =INDEX(BSFC!D$5:AD$27,MATCH('DUTY CYCLE'!Y31,BSFC!C$5:C$27,0),MATCH('DUTY CYCLE'!K31,BSFC!D$28:AD$28,0)) -> 530.98202 | AC31: =U31*AB31/3600 -> 0.49593664 | AD31: =AC31*(3.09*1000) -> 1532.4442 | AE31: =0.5*VEHICLE!C$47*('DUTY CYCLE'!M31^2)/1000 -> 38.166857 | AF31: =Z31+AE31 -> 328.04038
B32: 28 | D32: TARMAC | E32: =IF(H32>0,"UPHILL",IF(H32<0,"DOWNHILL",IF(H32=0,"FLAT",0))) -> DOWNHILL | F32: 8.1 | G32: =F32-F31 -> -0.3 | H32: =DEGREES(ATAN(G32/J32)) -> -1.4815174 | I32: =SUM(M$4:M32) -> 200.05867 | J32: =I32-I31 -> 11.599528 | K32: 5500 | L32: 3 | M32: =VLOOKUP(K32,VEHICLE!I$30:L$54,MATCH(L32,VEHICLE!I$30:L$30,0),0) -> 11.599528 | N32: =M32-M31 -> 0 | O32: =IF(L32=1,VEHICLE!C$68*'DUTY CYCLE'!N32,IF(L32=2,VEHICLE!C$69*'DUTY CYCLE'!N32,IF('DUTY CYCLE'!L32=3,VEHICLE!C$70*'DUTY CYCLE'!N32))) -> 0 | P32: 0.013 | Q32: =P32*VEHICLE!C$47*9.81 -> 72.351595 | R32: =0.5*VEHICLE!C$20*VEHICLE!C$28*1.2*((M32)^2) -> 52.868494 | S32: =VEHICLE!C$47*9.81*SIN(RADIANS(H32)) -> -143.89327 | T32: =SUM(Q32:S32)+O32 -> -18.673182 | U32: =ABS(((+T32)*(+M32))/1000) -> 0.2166001 | V32: =((VEHICLE!C$12*1000)-U32*1000)/1000 -> 13.206219 | W32: =U32 -> 0.2166001 | X32: =ABS((W32*1000)/((2*PI()*K32)/60)) -> 0.37606883 | Y32: =ROUNDUP(X32,0) -> 1 | Z32: =T32 -> -18.673182 | AA32: =SUM(Z$4:Z32) -> 14777.935 | AB32: =INDEX(BSFC!D$5:AD$27,MATCH('DUTY CYCLE'!Y32,BSFC!C$5:C$27,0),MATCH('DUTY CYCLE'!K32,BSFC!D$28:AD$28,0)) -> 937.87347 | AC32: =U32*AB32/3600 -> 0.056428746 | AD32: =AC32*(3.09*1000) -> 174.36482 | AE32: =0.5*VEHICLE!C$47*('DUTY CYCLE'!M32^2)/1000 -> 38.166857 | AF32: =Z32+AE32 -> 19.493676
B33: 29 | D33: TARMAC | E33: =IF(H33>0,"UPHILL",IF(H33<0,"DOWNHILL",IF(H33=0,"FLAT",0))) -> DOWNHILL | F33: 7.8 | G33: =F33-F32 -> -0.3 | H33: =DEGREES(ATAN(G33/J33)) -> -1.4815174 | I33: =SUM(M$4:M33) -> 211.6582 | J33: =I33-I32 -> 11.599528 | K33: 5500 | L33: 3 | M33: =VLOOKUP(K33,VEHICLE!I$30:L$54,MATCH(L33,VEHICLE!I$30:L$30,0),0) -> 11.599528 | N33: =M33-M32 -> 0 | O33: =IF(L33=1,VEHICLE!C$68*'DUTY CYCLE'!N33,IF(L33=2,VEHICLE!C$69*'DUTY CYCLE'!N33,IF('DUTY CYCLE'!L33=3,VEHICLE!C$70*'DUTY CYCLE'!N33))) -> 0 | P33: 0.013 | Q33: =P33*VEHICLE!C$47*9.81 -> 72.351595 | R33: =0.5*VEHICLE!C$20*VEHICLE!C$28*1.2*((M33)^2) -> 52.868494 | S33: =VEHICLE!C$47*9.81*SIN(RADIANS(H33)) -> -143.89327 | T33: =SUM(Q33:S33)+O33 -> -18.673182 | U33: =ABS(((+T33)*(+M33))/1000) -> 0.2166001 | V33: =((VEHICLE!C$12*1000)-U33*1000)/1000 -> 13.206219 | W33: =U33 -> 0.2166001 | X33: =ABS((W33*1000)/((2*PI()*K33)/60)) -> 0.37606883 | Y33: =ROUNDUP(X33,0) -> 1 | Z33: =T33 -> -18.673182 | AA33: =SUM(Z$4:Z33) -> 14759.262 | AB33: =INDEX(BSFC!D$5:AD$27,MATCH('DUTY CYCLE'!Y33,BSFC!C$5:C$27,0),MATCH('DUTY CYCLE'!K33,BSFC!D$28:AD$28,0)) -> 937.87347 | AC33: =U33*AB33/3600 -> 0.056428746 | AD33: =AC33*(3.09*1000) -> 174.36482 | AE33: =0.5*VEHICLE!C$47*('DUTY CYCLE'!M33^2)/1000 -> 38.166857 | AF33: =Z33+AE33 -> 19.493676
B34: 30 | C34: TURN 4 | D34: TARMAC | E34: =IF(H34>0,"UPHILL",IF(H34<0,"DOWNHILL",IF(H34=0,"FLAT",0))) -> DOWNHILL | F34: 7.5 | G34: =F34-F33 -> -0.3 | H34: =DEGREES(ATAN(G34/J34)) -> -1.6295929 | I34: =SUM(M$4:M34) -> 222.20323 | J34: =I34-I33 -> 10.545026 | K34: 5000 | L34: 3 | M34: =VLOOKUP(K34,VEHICLE!I$30:L$54,MATCH(L34,VEHICLE!I$30:L$30,0),0) -> 10.545026 | N34: =M34-M33 -> -1.0545026 | O34: =IF(L34=1,VEHICLE!C$68*'DUTY CYCLE'!N34,IF(L34=2,VEHICLE!C$69*'DUTY CYCLE'!N34,IF('DUTY CYCLE'!L34=3,VEHICLE!C$70*'DUTY CYCLE'!N34))) -> -617.09342 | P34: 0.013 | Q34: =P34*VEHICLE!C$47*9.81 -> 72.351595 | R34: =0.5*VEHICLE!C$20*VEHICLE!C$28*1.2*((M34)^2) -> 43.692971 | S34: =VEHICLE!C$47*9.81*SIN(RADIANS(H34)) -> -158.27149 | T34: =SUM(Q34:S34)+O34 -> -659.32034 | U34: =ABS(((+T34)*(+M34))/1000) -> 6.9525499 | V34: =((VEHICLE!C$12*1000)-U34*1000)/1000 -> 6.4702689 | W34: =U34 -> 6.9525499 | X34: =ABS((W34*1000)/((2*PI()*K34)/60)) -> 13.278392 | Y34: =ROUNDUP(X34,0) -> 14 | Z34: =T34 -> -659.32034 | AA34: =SUM(Z$4:Z34) -> 14099.941 | AB34: =INDEX(BSFC!D$5:AD$27,MATCH('DUTY CYCLE'!Y34,BSFC!C$5:C$27,0),MATCH('DUTY CYCLE'!K34,BSFC!D$28:AD$28,0)) -> 358.75046 | AC34: =U34*AB34/3600 -> 0.69284181 | AD34: =AC34*(3.09*1000) -> 2140.8812 | AE34: =0.5*VEHICLE!C$47*('DUTY CYCLE'!M34^2)/1000 -> 31.542857 | AF34: =Z34+AE34 -> -627.77749
B35: 31 | D35: TARMAC | E35: =IF(H35>0,"UPHILL",IF(H35<0,"DOWNHILL",IF(H35=0,"FLAT",0))) -> DOWNHILL | F35: 7.2 | G35: =F35-F34 -> -0.3 | H35: =DEGREES(ATAN(G35/J35)) -> -1.715311 | I35: =SUM(M$4:M35) -> 232.221 | J35: =I35-I34 -> 10.017774 | K35: 4750 | L35: 3 | M35: =VLOOKUP(K35,VEHICLE!I$30:L$54,MATCH(L35,VEHICLE!I$30:L$30,0),0) -> 10.017774 | N35: =M35-M34 -> -0.52725128 | O35: =IF(L35=1,VEHICLE!C$68*'DUTY CYCLE'!N35,IF(L35=2,VEHICLE!C$69*'DUTY CYCLE'!N35,IF('DUTY CYCLE'!L35=3,VEHICLE!C$70*'DUTY CYCLE'!N35))) -> -308.54671 | P35: 0.013 | Q35: =P35*VEHICLE!C$47*9.81 -> 72.351595 | R35: =0.5*VEHICLE!C$20*VEHICLE!C$28*1.2*((M35)^2) -> 39.432906 | S35: =VEHICLE!C$47*9.81*SIN(RADIANS(H35)) -> -166.59429 | T35: =SUM(Q35:S35)+O35 -> -363.3565 | U35: =ABS(((+T35)*(+M35))/1000) -> 3.6400234 | V35: =((VEHICLE!C$12*1000)-U35*1000)/1000 -> 9.7827954 | W35: =U35 -> 3.6400234 | X35: =ABS((W35*1000)/((2*PI()*K35)/60)) -> 7.3178238 | Y35: =ROUNDUP(X35,0) -> 8 | Z35: =T35 -> -363.3565 | AA35: =SUM(Z$4:Z35) -> 13736.585 | AB35: =INDEX(BSFC!D$5:AD$27,MATCH('DUTY CYCLE'!Y35,BSFC!C$5:C$27,0),MATCH('DUTY CYCLE'!K35,BSFC!D$28:AD$28,0)) -> 524.23103 | AC35: =U35*AB35/3600 -> 0.53005923 | AD35: =AC35*(3.09*1000) -> 1637.883 | AE35: =0.5*VEHICLE!C$47*('DUTY CYCLE'!M35^2)/1000 -> 28.467429 | AF35: =Z35+AE35 -> -334.88907
B36: 32 | D36: TARMAC | E36: =IF(H36>0,"UPHILL",IF(H36<0,"DOWNHILL",IF(H36=0,"FLAT",0))) -> DOWNHILL | F36: 6.9 | G36: =F36-F35 -> -0.3 | H36: =DEGREES(ATAN(G36/J36)) -> -2.1327721 | I36: =SUM(M$4:M36) -> 240.27662 | J36: =I36-I35 -> 8.0556164 | K36: 5000 | L36: 2 | M36: =VLOOKUP(K36,VEHICLE!I$30:L$54,MATCH(L36,VEHICLE!I$30:L$30,0),0) -> 8.0556164 | N36: =M36-M35 -> -1.962158 | O36: =IF(L36=1,VEHICLE!C$68*'DUTY CYCLE'!N36,IF(L36=2,VEHICLE!C$69*'DUTY CYCLE'!N36,IF('DUTY CYCLE'!L36=3,VEHICLE!C$70*'DUTY CYCLE'!N36))) -> -1153.321 | P36: 0.013 | Q36: =P36*VEHICLE!C$47*9.81 -> 72.351595 | R36: =0.5*VEHICLE!C$20*VEHICLE!C$28*1.2*((M36)^2) -> 25.498454 | S36: =VEHICLE!C$47*9.81*SIN(RADIANS(H36)) -> -207.12202 | T36: =SUM(Q36:S36)+O36 -> -1262.593 | U36: =ABS(((+T36)*(+M36))/1000) -> 10.170965 | V36: =((VEHICLE!C$12*1000)-U36*1000)/1000 -> 3.2518541 | W36: =U36 -> 10.170965 | X36: =ABS((W36*1000)/((2*PI()*K36)/60)) -> 19.425112 | Y36: =ROUNDUP(X36,0) -> 20 | Z36: =T36 -> -1262.593 | AA36: =SUM(Z$4:Z36) -> 12473.992 | AB36: =INDEX(BSFC!D$5:AD$27,MATCH('DUTY CYCLE'!Y36,BSFC!C$5:C$27,0),MATCH('DUTY CYCLE'!K36,BSFC!D$28:AD$28,0)) -> 501.69742 | AC36: =U36*AB36/3600 -> 1.4174297 | AD36: =AC36*(3.09*1000) -> 4379.8577 | AE36: =0.5*VEHICLE!C$47*('DUTY CYCLE'!M36^2)/1000 -> 18.40786 | AF36: =Z36+AE36 -> -1244.1851
B37: 33 | D37: TARMAC | E37: =IF(H37>0,"UPHILL",IF(H37<0,"DOWNHILL",IF(H37=0,"FLAT",0))) -> DOWNHILL | F37: 6.6 | G37: =F37-F36 -> -0.3 | H37: =DEGREES(ATAN(G37/J37)) -> -2.1327721 | I37: =SUM(M$4:M37) -> 248.33223 | J37: =I37-I36 -> 8.0556164 | K37: 5000 | L37: 2 | M37: =VLOOKUP(K37,VEHICLE!I$30:L$54,MATCH(L37,VEHICLE!I$30:L$30,0),0) -> 8.0556164 | N37: =M37-M36 -> 0 | O37: =IF(L37=1,VEHICLE!C$68*'DUTY CYCLE'!N37,IF(L37=2,VEHICLE!C$69*'DUTY CYCLE'!N37,IF('DUTY CYCLE'!L37=3,VEHICLE!C$70*'DUTY CYCLE'!N37))) -> 0 | P37: 0.013 | Q37: =P37*VEHICLE!C$47*9.81 -> 72.351595 | R37: =0.5*VEHICLE!C$20*VEHICLE!C$28*1.2*((M37)^2) -> 25.498454 | S37: =VEHICLE!C$47*9.81*SIN(RADIANS(H37)) -> -207.12202 | T37: =SUM(Q37:S37)+O37 -> -109.27198 | U37: =ABS(((+T37)*(+M37))/1000) -> 0.88025312 | V37: =((VEHICLE!C$12*1000)-U37*1000)/1000 -> 12.542566 | W37: =U37 -> 0.88025312 | X37: =ABS((W37*1000)/((2*PI()*K37)/60)) -> 1.6811596 | Y37: =ROUNDUP(X37,0) -> 2 | Z37: =T37 -> -109.27198 | AA37: =SUM(Z$4:Z37) -> 12364.72 | AB37: =INDEX(BSFC!D$5:AD$27,MATCH('DUTY CYCLE'!Y37,BSFC!C$5:C$27,0),MATCH('DUTY CYCLE'!K37,BSFC!D$28:AD$28,0)) -> 881.18349 | AC37: =U37*AB37/3600 -> 0.21546236 | AD37: =AC37*(3.09*1000) -> 665.77871 | AE37: =0.5*VEHICLE!C$47*('DUTY CYCLE'!M37^2)/1000 -> 18.40786 | AF37: =Z37+AE37 -> -90.864115
B38: 34 | D38: TARMAC | E38: =IF(H38>0,"UPHILL",IF(H38<0,"DOWNHILL",IF(H38=0,"FLAT",0))) -> DOWNHILL | F38: 6.3 | G38: =F38-F37 -> -0.3 | H38: =DEGREES(ATAN(G38/J38)) -> -2.1327721 | I38: =SUM(M$4:M38) -> 256.38785 | J38: =I38-I37 -> 8.0556164 | K38: 5000 | L38: 2 | M38: =VLOOKUP(K38,VEHICLE!I$30:L$54,MATCH(L38,VEHICLE!I$30:L$30,0),0) -> 8.0556164 | N38: =M38-M37 -> 0 | O38: =IF(L38=1,VEHICLE!C$68*'DUTY CYCLE'!N38,IF(L38=2,VEHICLE!C$69*'DUTY CYCLE'!N38,IF('DUTY CYCLE'!L38=3,VEHICLE!C$70*'DUTY CYCLE'!N38))) -> 0 | P38: 0.013 | Q38: =P38*VEHICLE!C$47*9.81 -> 72.351595 | R38: =0.5*VEHICLE!C$20*VEHICLE!C$28*1.2*((M38)^2) -> 25.498454 | S38: =VEHICLE!C$47*9.81*SIN(RADIANS(H38)) -> -207.12202 | T38: =SUM(Q38:S38)+O38 -> -109.27198 | U38: =ABS(((+T38)*(+M38))/1000) -> 0.88025312 | V38: =((VEHICLE!C$12*1000)-U38*1000)/1000 -> 12.542566 | W38: =U38 -> 0.88025312 | X38: =ABS((W38*1000)/((2*PI()*K38)/60)) -> 1.6811596 | Y38: =ROUNDUP(X38,0) -> 2 | Z38: =T38 -> -109.27198 | AA38: =SUM(Z$4:Z38) -> 12255.448 | AB38: =INDEX(BSFC!D$5:AD$27,MATCH('DUTY CYCLE'!Y38,BSFC!C$5:C$27,0),MATCH('DUTY CYCLE'!K38,BSFC!D$28:AD$28,0)) -> 881.18349 | AC38: =U38*AB38/3600 -> 0.21546236 | AD38: =AC38*(3.09*1000) -> 665.77871 | AE38: =0.5*VEHICLE!C$47*('DUTY CYCLE'!M38^2)/1000 -> 18.40786 | AF38: =Z38+AE38 -> -90.864115
B39: 35 | D39: TARMAC | E39: =IF(H39>0,"UPHILL",IF(H39<0,"DOWNHILL",IF(H39=0,"FLAT",0))) -> DOWNHILL | F39: 6 | G39: =F39-F38 -> -0.3 | H39: =DEGREES(ATAN(G39/J39)) -> -2.0312988 | I39: =SUM(M$4:M39) -> 264.84625 | J39: =I39-I38 -> 8.4583972 | K39: 5250 | L39: 2 | M39: =VLOOKUP(K39,VEHICLE!I$30:L$54,MATCH(L39,VEHICLE!I$30:L$30,0),0) -> 8.4583972 | N39: =M39-M38 -> 0.40278082 | O39: =IF(L39=1,VEHICLE!C$68*'DUTY CYCLE'!N39,IF(L39=2,VEHICLE!C$69*'DUTY CYCLE'!N39,IF('DUTY CYCLE'!L39=3,VEHICLE!C$70*'DUTY CYCLE'!N39))) -> 236.74729 | P39: 0.013 | Q39: =P39*VEHICLE!C$47*9.81 -> 72.351595 | R39: =0.5*VEHICLE!C$20*VEHICLE!C$28*1.2*((M39)^2) -> 28.112045 | S39: =VEHICLE!C$47*9.81*SIN(RADIANS(H39)) -> -197.27177 | T39: =SUM(Q39:S39)+O39 -> 139.93916 | U39: =ABS(((+T39)*(+M39))/1000) -> 1.183661 | V39: =((VEHICLE!C$12*1000)-U39*1000)/1000 -> 12.239158 | W39: =U39 -> 1.183661 | X39: =ABS((W39*1000)/((2*PI()*K39)/60)) -> 2.1529771 | Y39: =ROUNDUP(X39,0) -> 3 | Z39: =T39 -> 139.93916 | AA39: =SUM(Z$4:Z39) -> 12395.387 | AB39: =INDEX(BSFC!D$5:AD$27,MATCH('DUTY CYCLE'!Y39,BSFC!C$5:C$27,0),MATCH('DUTY CYCLE'!K39,BSFC!D$28:AD$28,0)) -> 787.5941 | AC39: =U39*AB39/3600 -> 0.25895678 | AD39: =AC39*(3.09*1000) -> 800.17645 | AE39: =0.5*VEHICLE!C$47*('DUTY CYCLE'!M39^2)/1000 -> 20.294666 | AF39: =Z39+AE39 -> 160.23383
B40: 36 | C40: STRAIGHT 3 | D40: TARMAC | E40: =IF(H40>0,"UPHILL",IF(H40<0,"DOWNHILL",IF(H40=0,"FLAT",0))) -> DOWNHILL | F40: 5.7 | G40: =F40-F39 -> -0.3 | H40: =DEGREES(ATAN(G40/J40)) -> -1.8105443 | I40: =SUM(M$4:M40) -> 274.33677 | J40: =I40-I39 -> 9.4905231 | K40: 4500 | L40: 3 | M40: =VLOOKUP(K40,VEHICLE!I$30:L$54,MATCH(L40,VEHICLE!I$30:L$30,0),0) -> 9.4905231 | N40: =M40-M39 -> 1.0321259 | O40: =IF(L40=1,VEHICLE!C$68*'DUTY CYCLE'!N40,IF(L40=2,VEHICLE!C$69*'DUTY CYCLE'!N40,IF('DUTY CYCLE'!L40=3,VEHICLE!C$70*'DUTY CYCLE'!N40))) -> 603.9986 | P40: 0.013 | Q40: =P40*VEHICLE!C$47*9.81 -> 72.351595 | R40: =0.5*VEHICLE!C$20*VEHICLE!C$28*1.2*((M40)^2) -> 35.391306 | S40: =VEHICLE!C$47*9.81*SIN(RADIANS(H40)) -> -175.84053 | T40: =SUM(Q40:S40)+O40 -> 535.90097 | U40: =ABS(((+T40)*(+M40))/1000) -> 5.0859805 | V40: =((VEHICLE!C$12*1000)-U40*1000)/1000 -> 8.3368383 | W40: =U40 -> 5.0859805 | X40: =ABS((W40*1000)/((2*PI()*K40)/60)) -> 10.792786 | Y40: =ROUNDUP(X40,0) -> 11 | Z40: =T40 -> 535.90097 | AA40: =SUM(Z$4:Z40) -> 12931.288 | AB40: =INDEX(BSFC!D$5:AD$27,MATCH('DUTY CYCLE'!Y40,BSFC!C$5:C$27,0),MATCH('DUTY CYCLE'!K40,BSFC!D$28:AD$28,0)) -> 472.43852 | AC40: =U40*AB40/3600 -> 0.66744809 | AD40: =AC40*(3.09*1000) -> 2062.4146 | AE40: =0.5*VEHICLE!C$47*('DUTY CYCLE'!M40^2)/1000 -> 25.549715 | AF40: =Z40+AE40 -> 561.45068
B41: 37 | D41: TARMAC | E41: =IF(H41>0,"UPHILL",IF(H41<0,"DOWNHILL",IF(H41=0,"FLAT",0))) -> DOWNHILL | F41: 5.4 | G41: =F41-F40 -> -0.3 | H41: =DEGREES(ATAN(G41/J41)) -> -1.8105443 | I41: =SUM(M$4:M41) -> 283.82729 | J41: =I41-I40 -> 9.4905231 | K41: 4500 | L41: 3 | M41: =VLOOKUP(K41,VEHICLE!I$30:L$54,MATCH(L41,VEHICLE!I$30:L$30,0),0) -> 9.4905231 | N41: =M41-M40 -> 0 | O41: =IF(L41=1,VEHICLE!C$68*'DUTY CYCLE'!N41,IF(L41=2,VEHICLE!C$69*'DUTY CYCLE'!N41,IF('DUTY CYCLE'!L41=3,VEHICLE!C$70*'DUTY CYCLE'!N41))) -> 0 | P41: 0.013 | Q41: =P41*VEHICLE!C$47*9.81 -> 72.351595 | R41: =0.5*VEHICLE!C$20*VEHICLE!C$28*1.2*((M41)^2) -> 35.391306 | S41: =VEHICLE!C$47*9.81*SIN(RADIANS(H41)) -> -175.84053 | T41: =SUM(Q41:S41)+O41 -> -68.097632 | U41: =ABS(((+T41)*(+M41))/1000) -> 0.64628215 | V41: =((VEHICLE!C$12*1000)-U41*1000)/1000 -> 12.776537 | W41: =U41 -> 0.64628215 | X41: =ABS((W41*1000)/((2*PI()*K41)/60)) -> 1.3714533 | Y41: =ROUNDUP(X41,0) -> 2 | Z41: =T41 -> -68.097632 | AA41: =SUM(Z$4:Z41) -> 12863.19 | AB41: =INDEX(BSFC!D$5:AD$27,MATCH('DUTY CYCLE'!Y41,BSFC!C$5:C$27,0),MATCH('DUTY CYCLE'!K41,BSFC!D$28:AD$28,0)) -> 900.0317 | AC41: =U41*AB41/3600 -> 0.16157623 | AD41: =AC41*(3.09*1000) -> 499.27054 | AE41: =0.5*VEHICLE!C$47*('DUTY CYCLE'!M41^2)/1000 -> 25.549715 | AF41: =Z41+AE41 -> -42.547918
B42: 38 | D42: TARMAC | E42: =IF(H42>0,"UPHILL",IF(H42<0,"DOWNHILL",IF(H42=0,"FLAT",0))) -> DOWNHILL | F42: 5.1 | G42: =F42-F41 -> -0.3 | H42: =DEGREES(ATAN(G42/J42)) -> -1.715311 | I42: =SUM(M$4:M42) -> 293.84507 | J42: =I42-I41 -> 10.017774 | K42: 4750 | L42: 3 | M42: =VLOOKUP(K42,VEHICLE!I$30:L$54,MATCH(L42,VEHICLE!I$30:L$30,0),0) -> 10.017774 | N42: =M42-M41 -> 0.52725128 | O42: =IF(L42=1,VEHICLE!C$68*'DUTY CYCLE'!N42,IF(L42=2,VEHICLE!C$69*'DUTY CYCLE'!N42,IF('DUTY CYCLE'!L42=3,VEHICLE!C$70*'DUTY CYCLE'!N42))) -> 308.54671 | P42: 0.013 | Q42: =P42*VEHICLE!C$47*9.81 -> 72.351595 | R42: =0.5*VEHICLE!C$20*VEHICLE!C$28*1.2*((M42)^2) -> 39.432906 | S42: =VEHICLE!C$47*9.81*SIN(RADIANS(H42)) -> -166.59429 | T42: =SUM(Q42:S42)+O42 -> 253.73692 | U42: =ABS(((+T42)*(+M42))/1000) -> 2.5418792 | V42: =((VEHICLE!C$12*1000)-U42*1000)/1000 -> 10.88094 | W42: =U42 -> 2.5418792 | X42: =ABS((W42*1000)/((2*PI()*K42)/60)) -> 5.1101386 | Y42: =ROUNDUP(X42,0) -> 6 | Z42: =T42 -> 253.73692 | AA42: =SUM(Z$4:Z42) -> 13116.927 | AB42: =INDEX(BSFC!D$5:AD$27,MATCH('DUTY CYCLE'!Y42,BSFC!C$5:C$27,0),MATCH('DUTY CYCLE'!K42,BSFC!D$28:AD$28,0)) -> 601.70091 | AC42: =U42*AB42/3600 -> 0.42484751 | AD42: =AC42*(3.09*1000) -> 1312.7788 | AE42: =0.5*VEHICLE!C$47*('DUTY CYCLE'!M42^2)/1000 -> 28.467429 | AF42: =Z42+AE42 -> 282.20435
B43: 39 | D43: TARMAC | E43: =IF(H43>0,"UPHILL",IF(H43<0,"DOWNHILL",IF(H43=0,"FLAT",0))) -> DOWNHILL | F43: 4.8 | G43: =F43-F42 -> -0.3 | H43: =DEGREES(ATAN(G43/J43)) -> -1.715311 | I43: =SUM(M$4:M43) -> 303.86284 | J43: =I43-I42 -> 10.017774 | K43: 4750 | L43: 3 | M43: =VLOOKUP(K43,VEHICLE!I$30:L$54,MATCH(L43,VEHICLE!I$30:L$30,0),0) -> 10.017774 | N43: =M43-M42 -> 0 | O43: =IF(L43=1,VEHICLE!C$68*'DUTY CYCLE'!N43,IF(L43=2,VEHICLE!C$69*'DUTY CYCLE'!N43,IF('DUTY CYCLE'!L43=3,VEHICLE!C$70*'DUTY CYCLE'!N43))) -> 0 | P43: 0.013 | Q43: =P43*VEHICLE!C$47*9.81 -> 72.351595 | R43: =0.5*VEHICLE!C$20*VEHICLE!C$28*1.2*((M43)^2) -> 39.432906 | S43: =VEHICLE!C$47*9.81*SIN(RADIANS(H43)) -> -166.59429 | T43: =SUM(Q43:S43)+O43 -> -54.80979 | U43: =ABS(((+T43)*(+M43))/1000) -> 0.54907211 | V43: =((VEHICLE!C$12*1000)-U43*1000)/1000 -> 12.873747 | W43: =U43 -> 0.54907211 | X43: =ABS((W43*1000)/((2*PI()*K43)/60)) -> 1.1038426 | Y43: =ROUNDUP(X43,0) -> 2 | Z43: =T43 -> -54.80979 | AA43: =SUM(Z$4:Z43) -> 13062.117 | AB43: =INDEX(BSFC!D$5:AD$27,MATCH('DUTY CYCLE'!Y43,BSFC!C$5:C$27,0),MATCH('DUTY CYCLE'!K43,BSFC!D$28:AD$28,0)) -> 892.41382 | AC43: =U43*AB43/3600 -> 0.13611098 | AD43: =AC43*(3.09*1000) -> 420.58294 | AE43: =0.5*VEHICLE!C$47*('DUTY CYCLE'!M43^2)/1000 -> 28.467429 | AF43: =Z43+AE43 -> -26.342361
B44: 40 | D44: TARMAC | E44: =IF(H44>0,"UPHILL",IF(H44<0,"DOWNHILL",IF(H44=0,"FLAT",0))) -> DOWNHILL | F44: 4.5 | G44: =F44-F43 -> -0.3 | H44: =DEGREES(ATAN(G44/J44)) -> -1.6295929 | I44: =SUM(M$4:M44) -> 314.40787 | J44: =I44-I43 -> 10.545026 | K44: 5000 | L44: 3 | M44: =VLOOKUP(K44,VEHICLE!I$30:L$54,MATCH(L44,VEHICLE!I$30:L$30,0),0) -> 10.545026 | N44: =M44-M43 -> 0.52725128 | O44: =IF(L44=1,VEHICLE!C$68*'DUTY CYCLE'!N44,IF(L44=2,VEHICLE!C$69*'DUTY CYCLE'!N44,IF('DUTY CYCLE'!L44=3,VEHICLE!C$70*'DUTY CYCLE'!N44))) -> 308.54671 | P44: 0.013 | Q44: =P44*VEHICLE!C$47*9.81 -> 72.351595 | R44: =0.5*VEHICLE!C$20*VEHICLE!C$28*1.2*((M44)^2) -> 43.692971 | S44: =VEHICLE!C$47*9.81*SIN(RADIANS(H44)) -> -158.27149 | T44: =SUM(Q44:S44)+O44 -> 266.31978 | U44: =ABS(((+T44)*(+M44))/1000) -> 2.808349 | V44: =((VEHICLE!C$12*1000)-U44*1000)/1000 -> 10.61447 | W44: =U44 -> 2.808349 | X44: =ABS((W44*1000)/((2*PI()*K44)/60)) -> 5.3635514 | Y44: =ROUNDUP(X44,0) -> 6 | Z44: =T44 -> 266.31978 | AA44: =SUM(Z$4:Z44) -> 13328.437 | AB44: =INDEX(BSFC!D$5:AD$27,MATCH('DUTY CYCLE'!Y44,BSFC!C$5:C$27,0),MATCH('DUTY CYCLE'!K44,BSFC!D$28:AD$28,0)) -> 545.344 | AC44: =U44*AB44/3600 -> 0.42542118 | AD44: =AC44*(3.09*1000) -> 1314.5514 | AE44: =0.5*VEHICLE!C$47*('DUTY CYCLE'!M44^2)/1000 -> 31.542857 | AF44: =Z44+AE44 -> 297.86264
B45: 41 | D45: TARMAC | E45: =IF(H45>0,"UPHILL",IF(H45<0,"DOWNHILL",IF(H45=0,"FLAT",0))) -> DOWNHILL | F45: 4.2 | G45: =F45-F44 -> -0.3 | H45: =DEGREES(ATAN(G45/J45)) -> -1.6295929 | I45: =SUM(M$4:M45) -> 324.95289 | J45: =I45-I44 -> 10.545026 | K45: 5000 | L45: 3 | M45: =VLOOKUP(K45,VEHICLE!I$30:L$54,MATCH(L45,VEHICLE!I$30:L$30,0),0) -> 10.545026 | N45: =M45-M44 -> 0 | O45: =IF(L45=1,VEHICLE!C$68*'DUTY CYCLE'!N45,IF(L45=2,VEHICLE!C$69*'DUTY CYCLE'!N45,IF('DUTY CYCLE'!L45=3,VEHICLE!C$70*'DUTY CYCLE'!N45))) -> 0 | P45: 0.013 | Q45: =P45*VEHICLE!C$47*9.81 -> 72.351595 | R45: =0.5*VEHICLE!C$20*VEHICLE!C$28*1.2*((M45)^2) -> 43.692971 | S45: =VEHICLE!C$47*9.81*SIN(RADIANS(H45)) -> -158.27149 | T45: =SUM(Q45:S45)+O45 -> -42.226924 | U45: =ABS(((+T45)*(+M45))/1000) -> 0.445284 | V45: =((VEHICLE!C$12*1000)-U45*1000)/1000 -> 12.977535 | W45: =U45 -> 0.445284 | X45: =ABS((W45*1000)/((2*PI()*K45)/60)) -> 0.85042979 | Y45: =ROUNDUP(X45,0) -> 1 | Z45: =T45 -> -42.226924 | AA45: =SUM(Z$4:Z45) -> 13286.21 | AB45: =INDEX(BSFC!D$5:AD$27,MATCH('DUTY CYCLE'!Y45,BSFC!C$5:C$27,0),MATCH('DUTY CYCLE'!K45,BSFC!D$28:AD$28,0)) -> 967.29096 | AC45: =U45*AB45/3600 -> 0.11964422 | AD45: =AC45*(3.09*1000) -> 369.70064 | AE45: =0.5*VEHICLE!C$47*('DUTY CYCLE'!M45^2)/1000 -> 31.542857 | AF45: =Z45+AE45 -> -10.684067
B46: 42 | D46: TARMAC | E46: =IF(H46>0,"UPHILL",IF(H46<0,"DOWNHILL",IF(H46=0,"FLAT",0))) -> DOWNHILL | F46: 3.9 | G46: =F46-F45 -> -0.3 | H46: =DEGREES(ATAN(G46/J46)) -> -1.5520321 | I46: =SUM(M$4:M46) -> 336.02517 | J46: =I46-I45 -> 11.072277 | K46: 5250 | L46: 3 | M46: =VLOOKUP(K46,VEHICLE!I$30:L$54,MATCH(L46,VEHICLE!I$30:L$30,0),0) -> 11.072277 | N46: =M46-M45 -> 0.52725128 | O46: =IF(L46=1,VEHICLE!C$68*'DUTY CYCLE'!N46,IF(L46=2,VEHICLE!C$69*'DUTY CYCLE'!N46,IF('DUTY CYCLE'!L46=3,VEHICLE!C$70*'DUTY CYCLE'!N46))) -> 308.54671 | P46: 0.013 | Q46: =P46*VEHICLE!C$47*9.81 -> 72.351595 | R46: =0.5*VEHICLE!C$20*VEHICLE!C$28*1.2*((M46)^2) -> 48.1715 | S46: =VEHICLE!C$47*9.81*SIN(RADIANS(H46)) -> -150.74042 | T46: =SUM(Q46:S46)+O46 -> 278.32939 | U46: =ABS(((+T46)*(+M46))/1000) -> 3.08174 | V46: =((VEHICLE!C$12*1000)-U46*1000)/1000 -> 10.341079 | W46: =U46 -> 3.08174 | X46: =ABS((W46*1000)/((2*PI()*K46)/60)) -> 5.6054189 | Y46: =ROUNDUP(X46,0) -> 6 | Z46: =T46 -> 278.32939 | AA46: =SUM(Z$4:Z46) -> 13564.54 | AB46: =INDEX(BSFC!D$5:AD$27,MATCH('DUTY CYCLE'!Y46,BSFC!C$5:C$27,0),MATCH('DUTY CYCLE'!K46,BSFC!D$28:AD$28,0)) -> 537.86208 | AC46: =U46*AB46/3600 -> 0.46043086 | AD46: =AC46*(3.09*1000) -> 1422.7313 | AE46: =0.5*VEHICLE!C$47*('DUTY CYCLE'!M46^2)/1000 -> 34.776 | AF46: =Z46+AE46 -> 313.10539
B47: 43 | D47: TARMAC | E47: =IF(H47>0,"UPHILL",IF(H47<0,"DOWNHILL",IF(H47=0,"FLAT",0))) -> DOWNHILL | F47: 3.6 | G47: =F47-F46 -> -0.3 | H47: =DEGREES(ATAN(G47/J47)) -> -1.5520321 | I47: =SUM(M$4:M47) -> 347.09745 | J47: =I47-I46 -> 11.072277 | K47: 5250 | L47: 3 | M47: =VLOOKUP(K47,VEHICLE!I$30:L$54,MATCH(L47,VEHICLE!I$30:L$30,0),0) -> 11.072277 | N47: =M47-M46 -> 0 | O47: =IF(L47=1,VEHICLE!C$68*'DUTY CYCLE'!N47,IF(L47=2,VEHICLE!C$69*'DUTY CYCLE'!N47,IF('DUTY CYCLE'!L47=3,VEHICLE!C$70*'DUTY CYCLE'!N47))) -> 0 | P47: 0.013 | Q47: =P47*VEHICLE!C$47*9.81 -> 72.351595 | R47: =0.5*VEHICLE!C$20*VEHICLE!C$28*1.2*((M47)^2) -> 48.1715 | S47: =VEHICLE!C$47*9.81*SIN(RADIANS(H47)) -> -150.74042 | T47: =SUM(Q47:S47)+O47 -> -30.217324 | U47: =ABS(((+T47)*(+M47))/1000) -> 0.33457458 | V47: =((VEHICLE!C$12*1000)-U47*1000)/1000 -> 13.088244 | W47: =U47 -> 0.33457458 | X47: =ABS((W47*1000)/((2*PI()*K47)/60)) -> 0.60856227 | Y47: =ROUNDUP(X47,0) -> 1 | Z47: =T47 -> -30.217324 | AA47: =SUM(Z$4:Z47) -> 13534.322 | AB47: =INDEX(BSFC!D$5:AD$27,MATCH('DUTY CYCLE'!Y47,BSFC!C$5:C$27,0),MATCH('DUTY CYCLE'!K47,BSFC!D$28:AD$28,0)) -> 959.80904 | AC47: =U47*AB47/3600 -> 0.089202141 | AD47: =AC47*(3.09*1000) -> 275.63462 | AE47: =0.5*VEHICLE!C$47*('DUTY CYCLE'!M47^2)/1000 -> 34.776 | AF47: =Z47+AE47 -> 4.5586762
B48: 44 | D48: TARMAC | E48: =IF(H48>0,"UPHILL",IF(H48<0,"DOWNHILL",IF(H48=0,"FLAT",0))) -> DOWNHILL | F48: 3.3 | G48: =F48-F47 -> -0.3 | H48: =DEGREES(ATAN(G48/J48)) -> -1.5520321 | I48: =SUM(M$4:M48) -> 358.16972 | J48: =I48-I47 -> 11.072277 | K48: 5250 | L48: 3 | M48: =VLOOKUP(K48,VEHICLE!I$30:L$54,MATCH(L48,VEHICLE!I$30:L$30,0),0) -> 11.072277 | N48: =M48-M47 -> 0 | O48: =IF(L48=1,VEHICLE!C$68*'DUTY CYCLE'!N48,IF(L48=2,VEHICLE!C$69*'DUTY CYCLE'!N48,IF('DUTY CYCLE'!L48=3,VEHICLE!C$70*'DUTY CYCLE'!N48))) -> 0 | P48: 0.013 | Q48: =P48*VEHICLE!C$47*9.81 -> 72.351595 | R48: =0.5*VEHICLE!C$20*VEHICLE!C$28*1.2*((M48)^2) -> 48.1715 | S48: =VEHICLE!C$47*9.81*SIN(RADIANS(H48)) -> -150.74042 | T48: =SUM(Q48:S48)+O48 -> -30.217324 | U48: =ABS(((+T48)*(+M48))/1000) -> 0.33457458 | V48: =((VEHICLE!C$12*1000)-U48*1000)/1000 -> 13.088244 | W48: =U48 -> 0.33457458 | X48: =ABS((W48*1000)/((2*PI()*K48)/60)) -> 0.60856227 | Y48: =ROUNDUP(X48,0) -> 1 | Z48: =T48 -> -30.217324 | AA48: =SUM(Z$4:Z48) -> 13504.105 | AB48: =INDEX(BSFC!D$5:AD$27,MATCH('DUTY CYCLE'!Y48,BSFC!C$5:C$27,0),MATCH('DUTY CYCLE'!K48,BSFC!D$28:AD$28,0)) -> 959.80904 | AC48: =U48*AB48/3600 -> 0.089202141 | AD48: =AC48*(3.09*1000) -> 275.63462 | AE48: =0.5*VEHICLE!C$47*('DUTY CYCLE'!M48^2)/1000 -> 34.776 | AF48: =Z48+AE48 -> 4.5586762
B49: 45 | D49: TARMAC | E49: =IF(H49>0,"UPHILL",IF(H49<0,"DOWNHILL",IF(H49=0,"FLAT",0))) -> DOWNHILL | F49: 3 | G49: =F49-F48 -> -0.3 | H49: =DEGREES(ATAN(G49/J49)) -> -1.4815174 | I49: =SUM(M$4:M49) -> 369.76925 | J49: =I49-I48 -> 11.599528 | K49: 5500 | L49: 3 | M49: =VLOOKUP(K49,VEHICLE!I$30:L$54,MATCH(L49,VEHICLE!I$30:L$30,0),0) -> 11.599528 | N49: =M49-M48 -> 0.52725128 | O49: =IF(L49=1,VEHICLE!C$68*'DUTY CYCLE'!N49,IF(L49=2,VEHICLE!C$69*'DUTY CYCLE'!N49,IF('DUTY CYCLE'!L49=3,VEHICLE!C$70*'DUTY CYCLE'!N49))) -> 308.54671 | P49: 0.013 | Q49: =P49*VEHICLE!C$47*9.81 -> 72.351595 | R49: =0.5*VEHICLE!C$20*VEHICLE!C$28*1.2*((M49)^2) -> 52.868494 | S49: =VEHICLE!C$47*9.81*SIN(RADIANS(H49)) -> -143.89327 | T49: =SUM(Q49:S49)+O49 -> 289.87353 | U49: =ABS(((+T49)*(+M49))/1000) -> 3.3623962 | V49: =((VEHICLE!C$12*1000)-U49*1000)/1000 -> 10.060423 | W49: =U49 -> 3.3623962 | X49: =ABS((W49*1000)/((2*PI()*K49)/60)) -> 5.8379124 | Y49: =ROUNDUP(X49,0) -> 6 | Z49: =T49 -> 289.87353 | AA49: =SUM(Z$4:Z49) -> 13793.979 | AB49: =INDEX(BSFC!D$5:AD$27,MATCH('DUTY CYCLE'!Y49,BSFC!C$5:C$27,0),MATCH('DUTY CYCLE'!K49,BSFC!D$28:AD$28,0)) -> 530.98202 | AC49: =U49*AB49/3600 -> 0.49593664 | AD49: =AC49*(3.09*1000) -> 1532.4442 | AE49: =0.5*VEHICLE!C$47*('DUTY CYCLE'!M49^2)/1000 -> 38.166857 | AF49: =Z49+AE49 -> 328.04038
B50: 46 | D50: TARMAC | E50: =IF(H50>0,"UPHILL",IF(H50<0,"DOWNHILL",IF(H50=0,"FLAT",0))) -> DOWNHILL | F50: 2.7 | G50: =F50-F49 -> -0.3 | H50: =DEGREES(ATAN(G50/J50)) -> -1.4815174 | I50: =SUM(M$4:M50) -> 381.36878 | J50: =I50-I49 -> 11.599528 | K50: 5500 | L50: 3 | M50: =VLOOKUP(K50,VEHICLE!I$30:L$54,MATCH(L50,VEHICLE!I$30:L$30,0),0) -> 11.599528 | N50: =M50-M49 -> 0 | O50: =IF(L50=1,VEHICLE!C$68*'DUTY CYCLE'!N50,IF(L50=2,VEHICLE!C$69*'DUTY CYCLE'!N50,IF('DUTY CYCLE'!L50=3,VEHICLE!C$70*'DUTY CYCLE'!N50))) -> 0 | P50: 0.013 | Q50: =P50*VEHICLE!C$47*9.81 -> 72.351595 | R50: =0.5*VEHICLE!C$20*VEHICLE!C$28*1.2*((M50)^2) -> 52.868494 | S50: =VEHICLE!C$47*9.81*SIN(RADIANS(H50)) -> -143.89327 | T50: =SUM(Q50:S50)+O50 -> -18.673182 | U50: =ABS(((+T50)*(+M50))/1000) -> 0.2166001 | V50: =((VEHICLE!C$12*1000)-U50*1000)/1000 -> 13.206219 | W50: =U50 -> 0.2166001 | X50: =ABS((W50*1000)/((2*PI()*K50)/60)) -> 0.37606883 | Y50: =ROUNDUP(X50,0) -> 1 | Z50: =T50 -> -18.673182 | AA50: =SUM(Z$4:Z50) -> 13775.305 | AB50: =INDEX(BSFC!D$5:AD$27,MATCH('DUTY CYCLE'!Y50,BSFC!C$5:C$27,0),MATCH('DUTY CYCLE'!K50,BSFC!D$28:AD$28,0)) -> 937.87347 | AC50: =U50*AB50/3600 -> 0.056428746 | AD50: =AC50*(3.09*1000) -> 174.36482 | AE50: =0.5*VEHICLE!C$47*('DUTY CYCLE'!M50^2)/1000 -> 38.166857 | AF50: =Z50+AE50 -> 19.493676
B51: 47 | D51: TARMAC | E51: =IF(H51>0,"UPHILL",IF(H51<0,"DOWNHILL",IF(H51=0,"FLAT",0))) -> DOWNHILL | F51: 2.4 | G51: =F51-F50 -> -0.3 | H51: =DEGREES(ATAN(G51/J51)) -> -1.4171305 | I51: =SUM(M$4:M51) -> 393.49556 | J51: =I51-I50 -> 12.126779 | K51: 5750 | L51: 3 | M51: =VLOOKUP(K51,VEHICLE!I$30:L$54,MATCH(L51,VEHICLE!I$30:L$30,0),0) -> 12.126779 | N51: =M51-M50 -> 0.52725128 | O51: =IF(L51=1,VEHICLE!C$68*'DUTY CYCLE'!N51,IF(L51=2,VEHICLE!C$69*'DUTY CYCLE'!N51,IF('DUTY CYCLE'!L51=3,VEHICLE!C$70*'DUTY CYCLE'!N51))) -> 308.54671 | P51: 0.013 | Q51: =P51*VEHICLE!C$47*9.81 -> 72.351595 | R51: =0.5*VEHICLE!C$20*VEHICLE!C$28*1.2*((M51)^2) -> 57.783954 | S51: =VEHICLE!C$47*9.81*SIN(RADIANS(H51)) -> -137.64096 | T51: =SUM(Q51:S51)+O51 -> 301.0413 | U51: =ABS(((+T51)*(+M51))/1000) -> 3.6506615 | V51: =((VEHICLE!C$12*1000)-U51*1000)/1000 -> 9.7721573 | W51: =U51 -> 3.6506615 | X51: =ABS((W51*1000)/((2*PI()*K51)/60)) -> 6.062826 | Y51: =ROUNDUP(X51,0) -> 7 | Z51: =T51 -> 301.0413 | AA51: =SUM(Z$4:Z51) -> 14076.347 | AB51: =INDEX(BSFC!D$5:AD$27,MATCH('DUTY CYCLE'!Y51,BSFC!C$5:C$27,0),MATCH('DUTY CYCLE'!K51,BSFC!D$28:AD$28,0)) -> 530.94769 | AC51: =U51*AB51/3600 -> 0.53841952 | AD51: =AC51*(3.09*1000) -> 1663.7163 | AE51: =0.5*VEHICLE!C$47*('DUTY CYCLE'!M51^2)/1000 -> 41.715429 | AF51: =Z51+AE51 -> 342.75673
B52: 48 | D52: TARMAC | E52: =IF(H52>0,"UPHILL",IF(H52<0,"DOWNHILL",IF(H52=0,"FLAT",0))) -> DOWNHILL | F52: 2.1 | G52: =F52-F51 -> -0.3 | H52: =DEGREES(ATAN(G52/J52)) -> -1.4171305 | I52: =SUM(M$4:M52) -> 405.62234 | J52: =I52-I51 -> 12.126779 | K52: 5750 | L52: 3 | M52: =VLOOKUP(K52,VEHICLE!I$30:L$54,MATCH(L52,VEHICLE!I$30:L$30,0),0) -> 12.126779 | N52: =M52-M51 -> 0 | O52: =IF(L52=1,VEHICLE!C$68*'DUTY CYCLE'!N52,IF(L52=2,VEHICLE!C$69*'DUTY CYCLE'!N52,IF('DUTY CYCLE'!L52=3,VEHICLE!C$70*'DUTY CYCLE'!N52))) -> 0 | P52: 0.013 | Q52: =P52*VEHICLE!C$47*9.81 -> 72.351595 | R52: =0.5*VEHICLE!C$20*VEHICLE!C$28*1.2*((M52)^2) -> 57.783954 | S52: =VEHICLE!C$47*9.81*SIN(RADIANS(H52)) -> -137.64096 | T52: =SUM(Q52:S52)+O52 -> -7.5054067 | U52: =ABS(((+T52)*(+M52))/1000) -> 0.091016412 | V52: =((VEHICLE!C$12*1000)-U52*1000)/1000 -> 13.331802 | W52: =U52 -> 0.091016412 | X52: =ABS((W52*1000)/((2*PI()*K52)/60)) -> 0.15115525 | Y52: =ROUNDUP(X52,0) -> 1 | Z52: =T52 -> -7.5054067 | AA52: =SUM(Z$4:Z52) -> 14068.841 | AB52: =INDEX(BSFC!D$5:AD$27,MATCH('DUTY CYCLE'!Y52,BSFC!C$5:C$27,0),MATCH('DUTY CYCLE'!K52,BSFC!D$28:AD$28,0)) -> 963.77385 | AC52: =U52*AB52/3600 -> 0.024366455 | AD52: =AC52*(3.09*1000) -> 75.292346 | AE52: =0.5*VEHICLE!C$47*('DUTY CYCLE'!M52^2)/1000 -> 41.715429 | AF52: =Z52+AE52 -> 34.210022
B53: 49 | D53: TARMAC | E53: =IF(H53>0,"UPHILL",IF(H53<0,"DOWNHILL",IF(H53=0,"FLAT",0))) -> DOWNHILL | F53: 1.8 | G53: =F53-F52 -> -0.3 | H53: =DEGREES(ATAN(G53/J53)) -> -1.358106 | I53: =SUM(M$4:M53) -> 418.27637 | J53: =I53-I52 -> 12.654031 | K53: 6000 | L53: 3 | M53: =VLOOKUP(K53,VEHICLE!I$30:L$54,MATCH(L53,VEHICLE!I$30:L$30,0),0) -> 12.654031 | N53: =M53-M52 -> 0.52725128 | O53: =IF(L53=1,VEHICLE!C$68*'DUTY CYCLE'!N53,IF(L53=2,VEHICLE!C$69*'DUTY CYCLE'!N53,IF('DUTY CYCLE'!L53=3,VEHICLE!C$70*'DUTY CYCLE'!N53))) -> 308.54671 | P53: 0.013 | Q53: =P53*VEHICLE!C$47*9.81 -> 72.351595 | R53: =0.5*VEHICLE!C$20*VEHICLE!C$28*1.2*((M53)^2) -> 62.917878 | S53: =VEHICLE!C$47*9.81*SIN(RADIANS(H53)) -> -131.90921 | T53: =SUM(Q53:S53)+O53 -> 311.90697 | U53: =ABS(((+T53)*(+M53))/1000) -> 3.9468805 | V53: =((VEHICLE!C$12*1000)-U53*1000)/1000 -> 9.4759383 | W53: =U53 -> 3.9468805 | X53: =ABS((W53*1000)/((2*PI()*K53)/60)) -> 6.2816553 | Y53: =ROUNDUP(X53,0) -> 7 | Z53: =T53 -> 311.90697 | AA53: =SUM(Z$4:Z53) -> 14380.748 | AB53: =INDEX(BSFC!D$5:AD$27,MATCH('DUTY CYCLE'!Y53,BSFC!C$5:C$27,0),MATCH('DUTY CYCLE'!K53,BSFC!D$28:AD$28,0)) -> 585.8229 | AC53: =U53*AB53/3600 -> 0.64227026 | AD53: =AC53*(3.09*1000) -> 1984.6151 | AE53: =0.5*VEHICLE!C$47*('DUTY CYCLE'!M53^2)/1000 -> 45.421715 | AF53: =Z53+AE53 -> 357.32869
B54: 50 | C54: TURN 5 | D54: TARMAC | E54: =IF(H54>0,"UPHILL",IF(H54<0,"DOWNHILL",IF(H54=0,"FLAT",0))) -> DOWNHILL | F54: 1.5 | G54: =F54-F53 -> -0.3 | H54: =DEGREES(ATAN(G54/J54)) -> -1.4815174 | I54: =SUM(M$4:M54) -> 429.8759 | J54: =I54-I53 -> 11.599528 | K54: 5500 | L54: 3 | M54: =VLOOKUP(K54,VEHICLE!I$30:L$54,MATCH(L54,VEHICLE!I$30:L$30,0),0) -> 11.599528 | N54: =M54-M53 -> -1.0545026 | O54: =IF(L54=1,VEHICLE!C$68*'DUTY CYCLE'!N54,IF(L54=2,VEHICLE!C$69*'DUTY CYCLE'!N54,IF('DUTY CYCLE'!L54=3,VEHICLE!C$70*'DUTY CYCLE'!N54))) -> -617.09342 | P54: 0.013 | Q54: =P54*VEHICLE!C$47*9.81 -> 72.351595 | R54: =0.5*VEHICLE!C$20*VEHICLE!C$28*1.2*((M54)^2) -> 52.868494 | S54: =VEHICLE!C$47*9.81*SIN(RADIANS(H54)) -> -143.89327 | T54: =SUM(Q54:S54)+O54 -> -635.7666 | U54: =ABS(((+T54)*(+M54))/1000) -> 7.3745926 | V54: =((VEHICLE!C$12*1000)-U54*1000)/1000 -> 6.0482262 | W54: =U54 -> 7.3745926 | X54: =ABS((W54*1000)/((2*PI()*K54)/60)) -> 12.804031 | Y54: =ROUNDUP(X54,0) -> 13 | Z54: =T54 -> -635.7666 | AA54: =SUM(Z$4:Z54) -> 13744.982 | AB54: =INDEX(BSFC!D$5:AD$27,MATCH('DUTY CYCLE'!Y54,BSFC!C$5:C$27,0),MATCH('DUTY CYCLE'!K54,BSFC!D$28:AD$28,0)) -> 307.99299 | AC54: =U54*AB54/3600 -> 0.630923 | AD54: =AC54*(3.09*1000) -> 1949.5521 | AE54: =0.5*VEHICLE!C$47*('DUTY CYCLE'!M54^2)/1000 -> 38.166857 | AF54: =Z54+AE54 -> -597.59974
B55: 51 | D55: TARMAC | E55: =IF(H55>0,"UPHILL",IF(H55<0,"DOWNHILL",IF(H55=0,"FLAT",0))) -> DOWNHILL | F55: 1.2 | G55: =F55-F54 -> -0.3 | H55: =DEGREES(ATAN(G55/J55)) -> -1.6295929 | I55: =SUM(M$4:M55) -> 440.42092 | J55: =I55-I54 -> 10.545026 | K55: 5000 | L55: 3 | M55: =VLOOKUP(K55,VEHICLE!I$30:L$54,MATCH(L55,VEHICLE!I$30:L$30,0),0) -> 10.545026 | N55: =M55-M54 -> -1.0545026 | O55: =IF(L55=1,VEHICLE!C$68*'DUTY CYCLE'!N55,IF(L55=2,VEHICLE!C$69*'DUTY CYCLE'!N55,IF('DUTY CYCLE'!L55=3,VEHICLE!C$70*'DUTY CYCLE'!N55))) -> -617.09342 | P55: 0.013 | Q55: =P55*VEHICLE!C$47*9.81 -> 72.351595 | R55: =0.5*VEHICLE!C$20*VEHICLE!C$28*1.2*((M55)^2) -> 43.692971 | S55: =VEHICLE!C$47*9.81*SIN(RADIANS(H55)) -> -158.27149 | T55: =SUM(Q55:S55)+O55 -> -659.32034 | U55: =ABS(((+T55)*(+M55))/1000) -> 6.9525499 | V55: =((VEHICLE!C$12*1000)-U55*1000)/1000 -> 6.4702689 | W55: =U55 -> 6.9525499 | X55: =ABS((W55*1000)/((2*PI()*K55)/60)) -> 13.278392 | Y55: =ROUNDUP(X55,0) -> 14 | Z55: =T55 -> -659.32034 | AA55: =SUM(Z$4:Z55) -> 13085.661 | AB55: =INDEX(BSFC!D$5:AD$27,MATCH('DUTY CYCLE'!Y55,BSFC!C$5:C$27,0),MATCH('DUTY CYCLE'!K55,BSFC!D$28:AD$28,0)) -> 358.75046 | AC55: =U55*AB55/3600 -> 0.69284181 | AD55: =AC55*(3.09*1000) -> 2140.8812 | AE55: =0.5*VEHICLE!C$47*('DUTY CYCLE'!M55^2)/1000 -> 31.542857 | AF55: =Z55+AE55 -> -627.77749
B56: 52 | D56: TARMAC | E56: =IF(H56>0,"UPHILL",IF(H56<0,"DOWNHILL",IF(H56=0,"FLAT",0))) -> DOWNHILL | F56: 0.9 | G56: =F56-F55 -> -0.3 | H56: =DEGREES(ATAN(G56/J56)) -> -1.8105443 | I56: =SUM(M$4:M56) -> 449.91145 | J56: =I56-I55 -> 9.4905231 | K56: 4500 | L56: 3 | M56: =VLOOKUP(K56,VEHICLE!I$30:L$54,MATCH(L56,VEHICLE!I$30:L$30,0),0) -> 9.4905231 | N56: =M56-M55 -> -1.0545026 | O56: =IF(L56=1,VEHICLE!C$68*'DUTY CYCLE'!N56,IF(L56=2,VEHICLE!C$69*'DUTY CYCLE'!N56,IF('DUTY CYCLE'!L56=3,VEHICLE!C$70*'DUTY CYCLE'!N56))) -> -617.09342 | P56: 0.013 | Q56: =P56*VEHICLE!C$47*9.81 -> 72.351595 | R56: =0.5*VEHICLE!C$20*VEHICLE!C$28*1.2*((M56)^2) -> 35.391306 | S56: =VEHICLE!C$47*9.81*SIN(RADIANS(H56)) -> -175.84053 | T56: =SUM(Q56:S56)+O56 -> -685.19105 | U56: =ABS(((+T56)*(+M56))/1000) -> 6.5028215 | V56: =((VEHICLE!C$12*1000)-U56*1000)/1000 -> 6.9199973 | W56: =U56 -> 6.5028215 | X56: =ABS((W56*1000)/((2*PI()*K56)/60)) -> 13.799416 | Y56: =ROUNDUP(X56,0) -> 14 | Z56: =T56 -> -685.19105 | AA56: =SUM(Z$4:Z56) -> 12400.47 | AB56: =INDEX(BSFC!D$5:AD$27,MATCH('DUTY CYCLE'!Y56,BSFC!C$5:C$27,0),MATCH('DUTY CYCLE'!K56,BSFC!D$28:AD$28,0)) -> 441.18581 | AC56: =U56*AB56/3600 -> 0.79693127 | AD56: =AC56*(3.09*1000) -> 2462.5176 | AE56: =0.5*VEHICLE!C$47*('DUTY CYCLE'!M56^2)/1000 -> 25.549715 | AF56: =Z56+AE56 -> -659.64134
B57: 53 | D57: TARMAC | E57: =IF(H57>0,"UPHILL",IF(H57<0,"DOWNHILL",IF(H57=0,"FLAT",0))) -> DOWNHILL | F57: 0.6 | G57: =F57-F56 -> -0.3 | H57: =DEGREES(ATAN(G57/J57)) -> -2.2449113 | I57: =SUM(M$4:M57) -> 457.56428 | J57: =I57-I56 -> 7.6528356 | K57: 4750 | L57: 2 | M57: =VLOOKUP(K57,VEHICLE!I$30:L$54,MATCH(L57,VEHICLE!I$30:L$30,0),0) -> 7.6528356 | N57: =M57-M56 -> -1.8376875 | O57: =IF(L57=1,VEHICLE!C$68*'DUTY CYCLE'!N57,IF(L57=2,VEHICLE!C$69*'DUTY CYCLE'!N57,IF('DUTY CYCLE'!L57=3,VEHICLE!C$70*'DUTY CYCLE'!N57))) -> -1080.1595 | P57: 0.013 | Q57: =P57*VEHICLE!C$47*9.81 -> 72.351595 | R57: =0.5*VEHICLE!C$20*VEHICLE!C$28*1.2*((M57)^2) -> 23.012355 | S57: =VEHICLE!C$47*9.81*SIN(RADIANS(H57)) -> -218.00687 | T57: =SUM(Q57:S57)+O57 -> -1202.8024 | U57: =ABS(((+T57)*(+M57))/1000) -> 9.2048493 | V57: =((VEHICLE!C$12*1000)-U57*1000)/1000 -> 4.2179695 | W57: =U57 -> 9.2048493 | X57: =ABS((W57*1000)/((2*PI()*K57)/60)) -> 18.505229 | Y57: =ROUNDUP(X57,0) -> 19 | Z57: =T57 -> -1202.8024 | AA57: =SUM(Z$4:Z57) -> 11197.668 | AB57: =INDEX(BSFC!D$5:AD$27,MATCH('DUTY CYCLE'!Y57,BSFC!C$5:C$27,0),MATCH('DUTY CYCLE'!K57,BSFC!D$28:AD$28,0)) -> 510.16084 | AC57: =U57*AB57/3600 -> 1.3044316 | AD57: =AC57*(3.09*1000) -> 4030.6936 | AE57: =0.5*VEHICLE!C$47*('DUTY CYCLE'!M57^2)/1000 -> 16.613094 | AF57: =Z57+AE57 -> -1186.1893
B58: 54 | D58: TARMAC | E58: =IF(H58>0,"UPHILL",IF(H58<0,"DOWNHILL",IF(H58=0,"FLAT",0))) -> DOWNHILL | F58: 0.3 | G58: =F58-F57 -> -0.3 | H58: =DEGREES(ATAN(G58/J58)) -> -2.1327721 | I58: =SUM(M$4:M58) -> 465.6199 | J58: =I58-I57 -> 8.0556164 | K58: 5000 | L58: 2 | M58: =VLOOKUP(K58,VEHICLE!I$30:L$54,MATCH(L58,VEHICLE!I$30:L$30,0),0) -> 8.0556164 | N58: =M58-M57 -> 0.40278082 | O58: =IF(L58=1,VEHICLE!C$68*'DUTY CYCLE'!N58,IF(L58=2,VEHICLE!C$69*'DUTY CYCLE'!N58,IF('DUTY CYCLE'!L58=3,VEHICLE!C$70*'DUTY CYCLE'!N58))) -> 236.74729 | P58: 0.013 | Q58: =P58*VEHICLE!C$47*9.81 -> 72.351595 | R58: =0.5*VEHICLE!C$20*VEHICLE!C$28*1.2*((M58)^2) -> 25.498454 | S58: =VEHICLE!C$47*9.81*SIN(RADIANS(H58)) -> -207.12202 | T58: =SUM(Q58:S58)+O58 -> 127.47532 | U58: =ABS(((+T58)*(+M58))/1000) -> 1.0268922 | V58: =((VEHICLE!C$12*1000)-U58*1000)/1000 -> 12.395927 | W58: =U58 -> 1.0268922 | X58: =ABS((W58*1000)/((2*PI()*K58)/60)) -> 1.9612197 | Y58: =ROUNDUP(X58,0) -> 2 | Z58: =T58 -> 127.47532 | AA58: =SUM(Z$4:Z58) -> 11325.143 | AB58: =INDEX(BSFC!D$5:AD$27,MATCH('DUTY CYCLE'!Y58,BSFC!C$5:C$27,0),MATCH('DUTY CYCLE'!K58,BSFC!D$28:AD$28,0)) -> 881.18349 | AC58: =U58*AB58/3600 -> 0.25135569 | AD58: =AC58*(3.09*1000) -> 776.68909 | AE58: =0.5*VEHICLE!C$47*('DUTY CYCLE'!M58^2)/1000 -> 18.40786 | AF58: =Z58+AE58 -> 145.88318
B59: 55 | D59: TARMAC | E59: =IF(H59>0,"UPHILL",IF(H59<0,"DOWNHILL",IF(H59=0,"FLAT",0))) -> DOWNHILL | F59: 0 | G59: =F59-F58 -> -0.3 | H59: =DEGREES(ATAN(G59/J59)) -> -2.1327721 | I59: =SUM(M$4:M59) -> 473.67552 | J59: =I59-I58 -> 8.0556164 | K59: 5000 | L59: 2 | M59: =VLOOKUP(K59,VEHICLE!I$30:L$54,MATCH(L59,VEHICLE!I$30:L$30,0),0) -> 8.0556164 | N59: =M59-M58 -> 0 | O59: =IF(L59=1,VEHICLE!C$68*'DUTY CYCLE'!N59,IF(L59=2,VEHICLE!C$69*'DUTY CYCLE'!N59,IF('DUTY CYCLE'!L59=3,VEHICLE!C$70*'DUTY CYCLE'!N59))) -> 0 | P59: 0.013 | Q59: =P59*VEHICLE!C$47*9.81 -> 72.351595 | R59: =0.5*VEHICLE!C$20*VEHICLE!C$28*1.2*((M59)^2) -> 25.498454 | S59: =VEHICLE!C$47*9.81*SIN(RADIANS(H59)) -> -207.12202 | T59: =SUM(Q59:S59)+O59 -> -109.27198 | U59: =ABS(((+T59)*(+M59))/1000) -> 0.88025312 | V59: =((VEHICLE!C$12*1000)-U59*1000)/1000 -> 12.542566 | W59: =U59 -> 0.88025312 | X59: =ABS((W59*1000)/((2*PI()*K59)/60)) -> 1.6811596 | Y59: =ROUNDUP(X59,0) -> 2 | Z59: =T59 -> -109.27198 | AA59: =SUM(Z$4:Z59) -> 11215.871 | AB59: =INDEX(BSFC!D$5:AD$27,MATCH('DUTY CYCLE'!Y59,BSFC!C$5:C$27,0),MATCH('DUTY CYCLE'!K59,BSFC!D$28:AD$28,0)) -> 881.18349 | AC59: =U59*AB59/3600 -> 0.21546236 | AD59: =AC59*(3.09*1000) -> 665.77871 | AE59: =0.5*VEHICLE!C$47*('DUTY CYCLE'!M59^2)/1000 -> 18.40786 | AF59: =Z59+AE59 -> -90.864115
B60: 56 | D60: TARMAC | E60: =IF(H60>0,"UPHILL",IF(H60<0,"DOWNHILL",IF(H60=0,"FLAT",0))) -> FLAT | F60: 0 | G60: =F60-F59 -> 0 | H60: =DEGREES(ATAN(G60/J60)) -> 0 | I60: =SUM(M$4:M60) -> 482.13391 | J60: =I60-I59 -> 8.4583972 | K60: 5250 | L60: 2 | M60: =VLOOKUP(K60,VEHICLE!I$30:L$54,MATCH(L60,VEHICLE!I$30:L$30,0),0) -> 8.4583972 | N60: =M60-M59 -> 0.40278082 | O60: =IF(L60=1,VEHICLE!C$68*'DUTY CYCLE'!N60,IF(L60=2,VEHICLE!C$69*'DUTY CYCLE'!N60,IF('DUTY CYCLE'!L60=3,VEHICLE!C$70*'DUTY CYCLE'!N60))) -> 236.74729 | P60: 0.013 | Q60: =P60*VEHICLE!C$47*9.81 -> 72.351595 | R60: =0.5*VEHICLE!C$20*VEHICLE!C$28*1.2*((M60)^2) -> 28.112045 | S60: =VEHICLE!C$47*9.81*SIN(RADIANS(H60)) -> 0 | T60: =SUM(Q60:S60)+O60 -> 337.21093 | U60: =ABS(((+T60)*(+M60))/1000) -> 2.852264 | V60: =((VEHICLE!C$12*1000)-U60*1000)/1000 -> 10.570555 | W60: =U60 -> 2.852264 | X60: =ABS((W60*1000)/((2*PI()*K60)/60)) -> 5.1880219 | Y60: =ROUNDUP(X60,0) -> 6 | Z60: =T60 -> 337.21093 | AA60: =SUM(Z$4:Z60) -> 11553.082 | AB60: =INDEX(BSFC!D$5:AD$27,MATCH('DUTY CYCLE'!Y60,BSFC!C$5:C$27,0),MATCH('DUTY CYCLE'!K60,BSFC!D$28:AD$28,0)) -> 537.86208 | AC60: =U60*AB60/3600 -> 0.42614573 | AD60: =AC60*(3.09*1000) -> 1316.7903 | AE60: =0.5*VEHICLE!C$47*('DUTY CYCLE'!M60^2)/1000 -> 20.294666 | AF60: =Z60+AE60 -> 357.5056
B61: 57 | D61: TARMAC | E61: =IF(H61>0,"UPHILL",IF(H61<0,"DOWNHILL",IF(H61=0,"FLAT",0))) -> FLAT | F61: 0 | G61: =F61-F60 -> 0 | H61: =DEGREES(ATAN(G61/J61)) -> 0 | I61: =SUM(M$4:M61) -> 490.59231 | J61: =I61-I60 -> 8.4583972 | K61: 5250 | L61: 2 | M61: =VLOOKUP(K61,VEHICLE!I$30:L$54,MATCH(L61,VEHICLE!I$30:L$30,0),0) -> 8.4583972 | N61: =M61-M60 -> 0 | O61: =IF(L61=1,VEHICLE!C$68*'DUTY CYCLE'!N61,IF(L61=2,VEHICLE!C$69*'DUTY CYCLE'!N61,IF('DUTY CYCLE'!L61=3,VEHICLE!C$70*'DUTY CYCLE'!N61))) -> 0 | P61: 0.013 | Q61: =P61*VEHICLE!C$47*9.81 -> 72.351595 | R61: =0.5*VEHICLE!C$20*VEHICLE!C$28*1.2*((M61)^2) -> 28.112045 | S61: =VEHICLE!C$47*9.81*SIN(RADIANS(H61)) -> 0 | T61: =SUM(Q61:S61)+O61 -> 100.46364 | U61: =ABS(((+T61)*(+M61))/1000) -> 0.84976138 | V61: =((VEHICLE!C$12*1000)-U61*1000)/1000 -> 12.573057 | W61: =U61 -> 0.84976138 | X61: =ABS((W61*1000)/((2*PI()*K61)/60)) -> 1.5456426 | Y61: =ROUNDUP(X61,0) -> 2 | Z61: =T61 -> 100.46364 | AA61: =SUM(Z$4:Z61) -> 11653.546 | AB61: =INDEX(BSFC!D$5:AD$27,MATCH('DUTY CYCLE'!Y61,BSFC!C$5:C$27,0),MATCH('DUTY CYCLE'!K61,BSFC!D$28:AD$28,0)) -> 873.70157 | AC61: =U61*AB61/3600 -> 0.20623274 | AD61: =AC61*(3.09*1000) -> 637.25915 | AE61: =0.5*VEHICLE!C$47*('DUTY CYCLE'!M61^2)/1000 -> 20.294666 | AF61: =Z61+AE61 -> 120.75831
B62: 58 | D62: TARMAC | E62: =IF(H62>0,"UPHILL",IF(H62<0,"DOWNHILL",IF(H62=0,"FLAT",0))) -> FLAT | F62: 0 | G62: =F62-F61 -> 0 | H62: =DEGREES(ATAN(G62/J62)) -> 0 | I62: =SUM(M$4:M62) -> 499.45349 | J62: =I62-I61 -> 8.861178 | K62: 5500 | L62: 2 | M62: =VLOOKUP(K62,VEHICLE!I$30:L$54,MATCH(L62,VEHICLE!I$30:L$30,0),0) -> 8.861178 | N62: =M62-M61 -> 0.40278082 | O62: =IF(L62=1,VEHICLE!C$68*'DUTY CYCLE'!N62,IF(L62=2,VEHICLE!C$69*'DUTY CYCLE'!N62,IF('DUTY CYCLE'!L62=3,VEHICLE!C$70*'DUTY CYCLE'!N62))) -> 236.74729 | P62: 0.013 | Q62: =P62*VEHICLE!C$47*9.81 -> 72.351595 | R62: =0.5*VEHICLE!C$20*VEHICLE!C$28*1.2*((M62)^2) -> 30.853129 | S62: =VEHICLE!C$47*9.81*SIN(RADIANS(H62)) -> 0 | T62: =SUM(Q62:S62)+O62 -> 339.95201 | U62: =ABS(((+T62)*(+M62))/1000) -> 3.0123753 | V62: =((VEHICLE!C$12*1000)-U62*1000)/1000 -> 10.410443 | W62: =U62 -> 3.0123753 | X62: =ABS((W62*1000)/((2*PI()*K62)/60)) -> 5.2301937 | Y62: =ROUNDUP(X62,0) -> 6 | Z62: =T62 -> 339.95201 | AA62: =SUM(Z$4:Z62) -> 11993.498 | AB62: =INDEX(BSFC!D$5:AD$27,MATCH('DUTY CYCLE'!Y62,BSFC!C$5:C$27,0),MATCH('DUTY CYCLE'!K62,BSFC!D$28:AD$28,0)) -> 530.98202 | AC62: =U62*AB62/3600 -> 0.44431032 | AD62: =AC62*(3.09*1000) -> 1372.9189 | AE62: =0.5*VEHICLE!C$47*('DUTY CYCLE'!M62^2)/1000 -> 22.273511 | AF62: =Z62+AE62 -> 362.22553
B63: 59 | D63: TARMAC | E63: =IF(H63>0,"UPHILL",IF(H63<0,"DOWNHILL",IF(H63=0,"FLAT",0))) -> FLAT | F63: 0 | G63: =F63-F62 -> 0 | H63: =DEGREES(ATAN(G63/J63)) -> 0 | I63: =SUM(M$4:M63) -> 508.31467 | J63: =I63-I62 -> 8.861178 | K63: 5500 | L63: 2 | M63: =VLOOKUP(K63,VEHICLE!I$30:L$54,MATCH(L63,VEHICLE!I$30:L$30,0),0) -> 8.861178 | N63: =M63-M62 -> 0 | O63: =IF(L63=1,VEHICLE!C$68*'DUTY CYCLE'!N63,IF(L63=2,VEHICLE!C$69*'DUTY CYCLE'!N63,IF('DUTY CYCLE'!L63=3,VEHICLE!C$70*'DUTY CYCLE'!N63))) -> 0 | P63: 0.02 | Q63: =P63*VEHICLE!C$47*9.81 -> 111.31015 | R63: =0.5*VEHICLE!C$20*VEHICLE!C$28*1.2*((M63)^2) -> 30.853129 | S63: =VEHICLE!C$47*9.81*SIN(RADIANS(H63)) -> 0 | T63: =SUM(Q63:S63)+O63 -> 142.16328 | U63: =ABS(((+T63)*(+M63))/1000) -> 1.2597341 | V63: =((VEHICLE!C$12*1000)-U63*1000)/1000 -> 12.163085 | W63: =U63 -> 1.2597341 | X63: =ABS((W63*1000)/((2*PI()*K63)/60)) -> 2.1871954 | Y63: =ROUNDUP(X63,0) -> 3 | Z63: =T63 -> 142.16328 | AA63: =SUM(Z$4:Z63) -> 12135.661 | AB63: =INDEX(BSFC!D$5:AD$27,MATCH('DUTY CYCLE'!Y63,BSFC!C$5:C$27,0),MATCH('DUTY CYCLE'!K63,BSFC!D$28:AD$28,0)) -> 786.79709 | AC63: =U63*AB63/3600 -> 0.27532087 | AD63: =AC63*(3.09*1000) -> 850.74148 | AE63: =0.5*VEHICLE!C$47*('DUTY CYCLE'!M63^2)/1000 -> 22.273511 | AF63: =Z63+AE63 -> 164.43679
B64: 60 | C64: STRAIGHT 4 | D64: GRAVEL | E64: =IF(H64>0,"UPHILL",IF(H64<0,"DOWNHILL",IF(H64=0,"FLAT",0))) -> FLAT | F64: 0 | G64: =F64-F63 -> 0 | H64: =DEGREES(ATAN(G64/J64)) -> 0 | I64: =SUM(M$4:M64) -> 517.57862 | J64: =I64-I63 -> 9.2639589 | K64: 5750 | L64: 2 | M64: =VLOOKUP(K64,VEHICLE!I$30:L$54,MATCH(L64,VEHICLE!I$30:L$30,0),0) -> 9.2639589 | N64: =M64-M63 -> 0.40278082 | O64: =IF(L64=1,VEHICLE!C$68*'DUTY CYCLE'!N64,IF(L64=2,VEHICLE!C$69*'DUTY CYCLE'!N64,IF('DUTY CYCLE'!L64=3,VEHICLE!C$70*'DUTY CYCLE'!N64))) -> 236.74729 | P64: 0.02 | Q64: =P64*VEHICLE!C$47*9.81 -> 111.31015 | R64: =0.5*VEHICLE!C$20*VEHICLE!C$28*1.2*((M64)^2) -> 33.721705 | S64: =VEHICLE!C$47*9.81*SIN(RADIANS(H64)) -> 0 | T64: =SUM(Q64:S64)+O64 -> 381.77914 | U64: =ABS(((+T64)*(+M64))/1000) -> 3.5367863 | V64: =((VEHICLE!C$12*1000)-U64*1000)/1000 -> 9.8860325 | W64: =U64 -> 3.5367863 | X64: =ABS((W64*1000)/((2*PI()*K64)/60)) -> 5.873708 | Y64: =ROUNDUP(X64,0) -> 6 | Z64: =T64 -> 381.77914 | AA64: =SUM(Z$4:Z64) -> 12517.44 | AB64: =INDEX(BSFC!D$5:AD$27,MATCH('DUTY CYCLE'!Y64,BSFC!C$5:C$27,0),MATCH('DUTY CYCLE'!K64,BSFC!D$28:AD$28,0)) -> 556.8824 | AC64: =U64*AB64/3600 -> 0.5471039 | AD64: =AC64*(3.09*1000) -> 1690.551 | AE64: =0.5*VEHICLE!C$47*('DUTY CYCLE'!M64^2)/1000 -> 24.344395 | AF64: =Z64+AE64 -> 406.12354
B65: 61 | D65: GRAVEL | E65: =IF(H65>0,"UPHILL",IF(H65<0,"DOWNHILL",IF(H65=0,"FLAT",0))) -> FLAT | F65: 0 | G65: =F65-F64 -> 0 | H65: =DEGREES(ATAN(G65/J65)) -> 0 | I65: =SUM(M$4:M65) -> 526.84258 | J65: =I65-I64 -> 9.2639589 | K65: 5750 | L65: 2 | M65: =VLOOKUP(K65,VEHICLE!I$30:L$54,MATCH(L65,VEHICLE!I$30:L$30,0),0) -> 9.2639589 | N65: =M65-M64 -> 0 | O65: =IF(L65=1,VEHICLE!C$68*'DUTY CYCLE'!N65,IF(L65=2,VEHICLE!C$69*'DUTY CYCLE'!N65,IF('DUTY CYCLE'!L65=3,VEHICLE!C$70*'DUTY CYCLE'!N65))) -> 0 | P65: 0.02 | Q65: =P65*VEHICLE!C$47*9.81 -> 111.31015 | R65: =0.5*VEHICLE!C$20*VEHICLE!C$28*1.2*((M65)^2) -> 33.721705 | S65: =VEHICLE!C$47*9.81*SIN(RADIANS(H65)) -> 0 | T65: =SUM(Q65:S65)+O65 -> 145.03185 | U65: =ABS(((+T65)*(+M65))/1000) -> 1.3435691 | V65: =((VEHICLE!C$12*1000)-U65*1000)/1000 -> 12.07925 | W65: =U65 -> 1.3435691 | X65: =ABS((W65*1000)/((2*PI()*K65)/60)) -> 2.2313287 | Y65: =ROUNDUP(X65,0) -> 3 | Z65: =T65 -> 145.03185 | AA65: =SUM(Z$4:Z65) -> 12662.472 | AB65: =INDEX(BSFC!D$5:AD$27,MATCH('DUTY CYCLE'!Y65,BSFC!C$5:C$27,0),MATCH('DUTY CYCLE'!K65,BSFC!D$28:AD$28,0)) -> 812.69747 | AC65: =U65*AB65/3600 -> 0.30330978 | AD65: =AC65*(3.09*1000) -> 937.22722 | AE65: =0.5*VEHICLE!C$47*('DUTY CYCLE'!M65^2)/1000 -> 24.344395 | AF65: =Z65+AE65 -> 169.37625
B66: 62 | D66: GRAVEL | E66: =IF(H66>0,"UPHILL",IF(H66<0,"DOWNHILL",IF(H66=0,"FLAT",0))) -> FLAT | F66: 0 | G66: =F66-F65 -> 0 | H66: =DEGREES(ATAN(G66/J66)) -> 0 | I66: =SUM(M$4:M66) -> 536.86036 | J66: =I66-I65 -> 10.017774 | K66: 4750 | L66: 3 | M66: =VLOOKUP(K66,VEHICLE!I$30:L$54,MATCH(L66,VEHICLE!I$30:L$30,0),0) -> 10.017774 | N66: =M66-M65 -> 0.75381549 | O66: =IF(L66=1,VEHICLE!C$68*'DUTY CYCLE'!N66,IF(L66=2,VEHICLE!C$69*'DUTY CYCLE'!N66,IF('DUTY CYCLE'!L66=3,VEHICLE!C$70*'DUTY CYCLE'!N66))) -> 441.13177 | P66: 0.02 | Q66: =P66*VEHICLE!C$47*9.81 -> 111.31015 | R66: =0.5*VEHICLE!C$20*VEHICLE!C$28*1.2*((M66)^2) -> 39.432906 | S66: =VEHICLE!C$47*9.81*SIN(RADIANS(H66)) -> 0 | T66: =SUM(Q66:S66)+O66 -> 591.87482 | U66: =ABS(((+T66)*(+M66))/1000) -> 5.9292684 | V66: =((VEHICLE!C$12*1000)-U66*1000)/1000 -> 7.4935504 | W66: =U66 -> 5.9292684 | X66: =ABS((W66*1000)/((2*PI()*K66)/60)) -> 11.920072 | Y66: =ROUNDUP(X66,0) -> 12 | Z66: =T66 -> 591.87482 | AA66: =SUM(Z$4:Z66) -> 13254.347 | AB66: =INDEX(BSFC!D$5:AD$27,MATCH('DUTY CYCLE'!Y66,BSFC!C$5:C$27,0),MATCH('DUTY CYCLE'!K66,BSFC!D$28:AD$28,0)) -> 458.32879 | AC66: =U66*AB66/3600 -> 0.75487622 | AD66: =AC66*(3.09*1000) -> 2332.5675 | AE66: =0.5*VEHICLE!C$47*('DUTY CYCLE'!M66^2)/1000 -> 28.467429 | AF66: =Z66+AE66 -> 620.34225
B67: 63 | D67: GRAVEL | E67: =IF(H67>0,"UPHILL",IF(H67<0,"DOWNHILL",IF(H67=0,"FLAT",0))) -> FLAT | F67: 0 | G67: =F67-F66 -> 0 | H67: =DEGREES(ATAN(G67/J67)) -> 0 | I67: =SUM(M$4:M67) -> 546.87813 | J67: =I67-I66 -> 10.017774 | K67: 4750 | L67: 3 | M67: =VLOOKUP(K67,VEHICLE!I$30:L$54,MATCH(L67,VEHICLE!I$30:L$30,0),0) -> 10.017774 | N67: =M67-M66 -> 0 | O67: =IF(L67=1,VEHICLE!C$68*'DUTY CYCLE'!N67,IF(L67=2,VEHICLE!C$69*'DUTY CYCLE'!N67,IF('DUTY CYCLE'!L67=3,VEHICLE!C$70*'DUTY CYCLE'!N67))) -> 0 | P67: 0.02 | Q67: =P67*VEHICLE!C$47*9.81 -> 111.31015 | R67: =0.5*VEHICLE!C$20*VEHICLE!C$28*1.2*((M67)^2) -> 39.432906 | S67: =VEHICLE!C$47*9.81*SIN(RADIANS(H67)) -> 0 | T67: =SUM(Q67:S67)+O67 -> 150.74305 | U67: =ABS(((+T67)*(+M67))/1000) -> 1.5101099 | V67: =((VEHICLE!C$12*1000)-U67*1000)/1000 -> 11.912709 | W67: =U67 -> 1.5101099 | X67: =ABS((W67*1000)/((2*PI()*K67)/60)) -> 3.035892 | Y67: =ROUNDUP(X67,0) -> 4 | Z67: =T67 -> 150.74305 | AA67: =SUM(Z$4:Z67) -> 13405.09 | AB67: =INDEX(BSFC!D$5:AD$27,MATCH('DUTY CYCLE'!Y67,BSFC!C$5:C$27,0),MATCH('DUTY CYCLE'!K67,BSFC!D$28:AD$28,0)) -> 731.05834 | AC67: =U67*AB67/3600 -> 0.30666067 | AD67: =AC67*(3.09*1000) -> 947.58148 | AE67: =0.5*VEHICLE!C$47*('DUTY CYCLE'!M67^2)/1000 -> 28.467429 | AF67: =Z67+AE67 -> 179.21048
B68: 64 | D68: GRAVEL | E68: =IF(H68>0,"UPHILL",IF(H68<0,"DOWNHILL",IF(H68=0,"FLAT",0))) -> FLAT | F68: 0 | G68: =F68-F67 -> 0 | H68: =DEGREES(ATAN(G68/J68)) -> 0 | I68: =SUM(M$4:M68) -> 557.42316 | J68: =I68-I67 -> 10.545026 | K68: 5000 | L68: 3 | M68: =VLOOKUP(K68,VEHICLE!I$30:L$54,MATCH(L68,VEHICLE!I$30:L$30,0),0) -> 10.545026 | N68: =M68-M67 -> 0.52725128 | O68: =IF(L68=1,VEHICLE!C$68*'DUTY CYCLE'!N68,IF(L68=2,VEHICLE!C$69*'DUTY CYCLE'!N68,IF('DUTY CYCLE'!L68=3,VEHICLE!C$70*'DUTY CYCLE'!N68))) -> 308.54671 | P68: 0.02 | Q68: =P68*VEHICLE!C$47*9.81 -> 111.31015 | R68: =0.5*VEHICLE!C$20*VEHICLE!C$28*1.2*((M68)^2) -> 43.692971 | S68: =VEHICLE!C$47*9.81*SIN(RADIANS(H68)) -> 0 | T68: =SUM(Q68:S68)+O68 -> 463.54983 | U68: =ABS(((+T68)*(+M68))/1000) -> 4.8881448 | V68: =((VEHICLE!C$12*1000)-U68*1000)/1000 -> 8.534674 | W68: =U68 -> 4.8881448 | X68: =ABS((W68*1000)/((2*PI()*K68)/60)) -> 9.3356689 | Y68: =ROUNDUP(X68,0) -> 10 | Z68: =T68 -> 463.54983 | AA68: =SUM(Z$4:Z68) -> 13868.64 | AB68: =INDEX(BSFC!D$5:AD$27,MATCH('DUTY CYCLE'!Y68,BSFC!C$5:C$27,0),MATCH('DUTY CYCLE'!K68,BSFC!D$28:AD$28,0)) -> 405.53356 | AC68: =U68*AB68/3600 -> 0.55064077 | AD68: =AC68*(3.09*1000) -> 1701.48 | AE68: =0.5*VEHICLE!C$47*('DUTY CYCLE'!M68^2)/1000 -> 31.542857 | AF68: =Z68+AE68 -> 495.09268
B69: 65 | D69: GRAVEL | E69: =IF(H69>0,"UPHILL",IF(H69<0,"DOWNHILL",IF(H69=0,"FLAT",0))) -> FLAT | F69: 0 | G69: =F69-F68 -> 0 | H69: =DEGREES(ATAN(G69/J69)) -> 0 | I69: =SUM(M$4:M69) -> 567.96818 | J69: =I69-I68 -> 10.545026 | K69: 5000 | L69: 3 | M69: =VLOOKUP(K69,VEHICLE!I$30:L$54,MATCH(L69,VEHICLE!I$30:L$30,0),0) -> 10.545026 | N69: =M69-M68 -> 0 | O69: =IF(L69=1,VEHICLE!C$68*'DUTY CYCLE'!N69,IF(L69=2,VEHICLE!C$69*'DUTY CYCLE'!N69,IF('DUTY CYCLE'!L69=3,VEHICLE!C$70*'DUTY CYCLE'!N69))) -> 0 | P69: 0.02 | Q69: =P69*VEHICLE!C$47*9.81 -> 111.31015 | R69: =0.5*VEHICLE!C$20*VEHICLE!C$28*1.2*((M69)^2) -> 43.692971 | S69: =VEHICLE!C$47*9.81*SIN(RADIANS(H69)) -> 0 | T69: =SUM(Q69:S69)+O69 -> 155.00312 | U69: =ABS(((+T69)*(+M69))/1000) -> 1.6345118 | V69: =((VEHICLE!C$12*1000)-U69*1000)/1000 -> 11.788307 | W69: =U69 -> 1.6345118 | X69: =ABS((W69*1000)/((2*PI()*K69)/60)) -> 3.1216877 | Y69: =ROUNDUP(X69,0) -> 4 | Z69: =T69 -> 155.00312 | AA69: =SUM(Z$4:Z69) -> 14023.643 | AB69: =INDEX(BSFC!D$5:AD$27,MATCH('DUTY CYCLE'!Y69,BSFC!C$5:C$27,0),MATCH('DUTY CYCLE'!K69,BSFC!D$28:AD$28,0)) -> 717.5008 | AC69: =U69*AB69/3600 -> 0.32576765 | AD69: =AC69*(3.09*1000) -> 1006.622 | AE69: =0.5*VEHICLE!C$47*('DUTY CYCLE'!M69^2)/1000 -> 31.542857 | AF69: =Z69+AE69 -> 186.54597
B70: 66 | D70: GRAVEL | E70: =IF(H70>0,"UPHILL",IF(H70<0,"DOWNHILL",IF(H70=0,"FLAT",0))) -> FLAT | F70: 0 | G70: =F70-F69 -> 0 | H70: =DEGREES(ATAN(G70/J70)) -> 0 | I70: =SUM(M$4:M70) -> 579.04046 | J70: =I70-I69 -> 11.072277 | K70: 5250 | L70: 3 | M70: =VLOOKUP(K70,VEHICLE!I$30:L$54,MATCH(L70,VEHICLE!I$30:L$30,0),0) -> 11.072277 | N70: =M70-M69 -> 0.52725128 | O70: =IF(L70=1,VEHICLE!C$68*'DUTY CYCLE'!N70,IF(L70=2,VEHICLE!C$69*'DUTY CYCLE'!N70,IF('DUTY CYCLE'!L70=3,VEHICLE!C$70*'DUTY CYCLE'!N70))) -> 308.54671 | P70: =VLOOKUP(D70,TRACK!B$3:C$5,2) -> 0.02 | Q70: =P70*VEHICLE!C$47*9.81 -> 111.31015 | R70: =0.5*VEHICLE!C$20*VEHICLE!C$28*1.2*((M70)^2) -> 48.1715 | S70: =VEHICLE!C$47*9.81*SIN(RADIANS(H70)) -> 0 | T70: =SUM(Q70:S70)+O70 -> 468.02836 | U70: =ABS(((+T70)*(+M70))/1000) -> 5.1821396 | V70: =((VEHICLE!C$12*1000)-U70*1000)/1000 -> 8.2406792 | W70: =U70 -> 5.1821396 | X70: =ABS((W70*1000)/((2*PI()*K70)/60)) -> 9.4258643 | Y70: =ROUNDUP(X70,0) -> 10 | Z70: =T70 -> 468.02836 | AA70: =SUM(Z$4:Z70) -> 14491.671 | AB70: =INDEX(BSFC!D$5:AD$27,MATCH('DUTY CYCLE'!Y70,BSFC!C$5:C$27,0),MATCH('DUTY CYCLE'!K70,BSFC!D$28:AD$28,0)) -> 398.05164 | AC70: =U70*AB70/3600 -> 0.57298865 | AD70: =AC70*(3.09*1000) -> 1770.5349 | AE70: =0.5*VEHICLE!C$47*('DUTY CYCLE'!M70^2)/1000 -> 34.776 | AF70: =Z70+AE70 -> 502.80436
B71: 67 | D71: GRAVEL | E71: =IF(H71>0,"UPHILL",IF(H71<0,"DOWNHILL",IF(H71=0,"FLAT",0))) -> FLAT | F71: 0 | G71: =F71-F70 -> 0 | H71: =DEGREES(ATAN(G71/J71)) -> 0 | I71: =SUM(M$4:M71) -> 590.63999 | J71: =I71-I70 -> 11.599528 | K71: 5500 | L71: 3 | M71: =VLOOKUP(K71,VEHICLE!I$30:L$54,MATCH(L71,VEHICLE!I$30:L$30,0),0) -> 11.599528 | N71: =M71-M70 -> 0.52725128 | O71: =IF(L71=1,VEHICLE!C$68*'DUTY CYCLE'!N71,IF(L71=2,VEHICLE!C$69*'DUTY CYCLE'!N71,IF('DUTY CYCLE'!L71=3,VEHICLE!C$70*'DUTY CYCLE'!N71))) -> 308.54671 | P71: =VLOOKUP(D71,TRACK!B$3:C$5,2) -> 0.02 | Q71: =P71*VEHICLE!C$47*9.81 -> 111.31015 | R71: =0.5*VEHICLE!C$20*VEHICLE!C$28*1.2*((M71)^2) -> 52.868494 | S71: =VEHICLE!C$47*9.81*SIN(RADIANS(H71)) -> 0 | T71: =SUM(Q71:S71)+O71 -> 472.72535 | U71: =ABS(((+T71)*(+M71))/1000) -> 5.483391 | V71: =((VEHICLE!C$12*1000)-U71*1000)/1000 -> 7.9394278 | W71: =U71 -> 5.483391 | X71: =ABS((W71*1000)/((2*PI()*K71)/60)) -> 9.5204595 | Y71: =ROUNDUP(X71,0) -> 10 | Z71: =T71 -> 472.72535 | AA71: =SUM(Z$4:Z71) -> 14964.397 | AB71: =INDEX(BSFC!D$5:AD$27,MATCH('DUTY CYCLE'!Y71,BSFC!C$5:C$27,0),MATCH('DUTY CYCLE'!K71,BSFC!D$28:AD$28,0)) -> 390.89438 | AC71: =U71*AB71/3600 -> 0.59539631 | AD71: =AC71*(3.09*1000) -> 1839.7746 | AE71: =0.5*VEHICLE!C$47*('DUTY CYCLE'!M71^2)/1000 -> 38.166857 | AF71: =Z71+AE71 -> 510.89221
B72: 68 | C72: TURN 6 | D72: GRAVEL | E72: =IF(H72>0,"UPHILL",IF(H72<0,"DOWNHILL",IF(H72=0,"FLAT",0))) -> FLAT | F72: 0 | G72: =F72-F71 -> 0 | H72: =DEGREES(ATAN(G72/J72)) -> 0 | I72: =SUM(M$4:M72) -> 602.76677 | J72: =I72-I71 -> 12.126779 | K72: 5750 | L72: 3 | M72: =VLOOKUP(K72,VEHICLE!I$30:L$54,MATCH(L72,VEHICLE!I$30:L$30,0),0) -> 12.126779 | N72: =M72-M71 -> 0.52725128 | O72: =IF(L72=1,VEHICLE!C$68*'DUTY CYCLE'!N72,IF(L72=2,VEHICLE!C$69*'DUTY CYCLE'!N72,IF('DUTY CYCLE'!L72=3,VEHICLE!C$70*'DUTY CYCLE'!N72))) -> 308.54671 | P72: =VLOOKUP(D72,TRACK!B$3:C$5,2) -> 0.02 | Q72: =P72*VEHICLE!C$47*9.81 -> 111.31015 | R72: =0.5*VEHICLE!C$20*VEHICLE!C$28*1.2*((M72)^2) -> 57.783954 | S72: =VEHICLE!C$47*9.81*SIN(RADIANS(H72)) -> 0 | T72: =SUM(Q72:S72)+O72 -> 477.64081 | U72: =ABS(((+T72)*(+M72))/1000) -> 5.7922448 | V72: =((VEHICLE!C$12*1000)-U72*1000)/1000 -> 7.630574 | W72: =U72 -> 5.7922448 | X72: =ABS((W72*1000)/((2*PI()*K72)/60)) -> 9.6194544 | Y72: =ROUNDUP(X72,0) -> 10 | Z72: =T72 -> 477.64081 | AA72: =SUM(Z$4:Z72) -> 15442.037 | AB72: =INDEX(BSFC!D$5:AD$27,MATCH('DUTY CYCLE'!Y72,BSFC!C$5:C$27,0),MATCH('DUTY CYCLE'!K72,BSFC!D$28:AD$28,0)) -> 416.79476 | AC72: =U72*AB72/3600 -> 0.67060479 | AD72: =AC72*(3.09*1000) -> 2072.1688 | AE72: =0.5*VEHICLE!C$47*('DUTY CYCLE'!M72^2)/1000 -> 41.715429 | AF72: =Z72+AE72 -> 519.35624
B73: 69 | D73: GRAVEL | E73: =IF(H73>0,"UPHILL",IF(H73<0,"DOWNHILL",IF(H73=0,"FLAT",0))) -> FLAT | F73: 0 | G73: =F73-F72 -> 0 | H73: =DEGREES(ATAN(G73/J73)) -> 0 | I73: =SUM(M$4:M73) -> 613.83905 | J73: =I73-I72 -> 11.072277 | K73: 5250 | L73: 3 | M73: =VLOOKUP(K73,VEHICLE!I$30:L$54,MATCH(L73,VEHICLE!I$30:L$30,0),0) -> 11.072277 | N73: =M73-M72 -> -1.0545026 | O73: =IF(L73=1,VEHICLE!C$68*'DUTY CYCLE'!N73,IF(L73=2,VEHICLE!C$69*'DUTY CYCLE'!N73,IF('DUTY CYCLE'!L73=3,VEHICLE!C$70*'DUTY CYCLE'!N73))) -> -617.09342 | P73: =VLOOKUP(D73,TRACK!B$3:C$5,2) -> 0.02 | Q73: =P73*VEHICLE!C$47*9.81 -> 111.31015 | R73: =0.5*VEHICLE!C$20*VEHICLE!C$28*1.2*((M73)^2) -> 48.1715 | S73: =VEHICLE!C$47*9.81*SIN(RADIANS(H73)) -> 0 | T73: =SUM(Q73:S73)+O73 -> -457.61177 | U73: =ABS(((+T73)*(+M73))/1000) -> 5.0668043 | V73: =((VEHICLE!C$12*1000)-U73*1000)/1000 -> 8.3560145 | W73: =U73 -> 5.0668043 | X73: =ABS((W73*1000)/((2*PI()*K73)/60)) -> 9.2160794 | Y73: =ROUNDUP(X73,0) -> 10 | Z73: =T73 -> -457.61177 | AA73: =SUM(Z$4:Z73) -> 14984.426 | AB73: =INDEX(BSFC!D$5:AD$27,MATCH('DUTY CYCLE'!Y73,BSFC!C$5:C$27,0),MATCH('DUTY CYCLE'!K73,BSFC!D$28:AD$28,0)) -> 398.05164 | AC73: =U73*AB73/3600 -> 0.56023604 | AD73: =AC73*(3.09*1000) -> 1731.1294 | AE73: =0.5*VEHICLE!C$47*('DUTY CYCLE'!M73^2)/1000 -> 34.776 | AF73: =Z73+AE73 -> -422.83577
B74: 70 | D74: GRAVEL | E74: =IF(H74>0,"UPHILL",IF(H74<0,"DOWNHILL",IF(H74=0,"FLAT",0))) -> UPHILL | F74: 0.2 | G74: =F74-F73 -> 0.2 | H74: =DEGREES(ATAN(G74/J74)) -> 1.3545144 | I74: =SUM(M$4:M74) -> 622.29744 | J74: =I74-I73 -> 8.4583972 | K74: 5250 | L74: 2 | M74: =VLOOKUP(K74,VEHICLE!I$30:L$54,MATCH(L74,VEHICLE!I$30:L$30,0),0) -> 8.4583972 | N74: =M74-M73 -> -2.6138797 | O74: =IF(L74=1,VEHICLE!C$68*'DUTY CYCLE'!N74,IF(L74=2,VEHICLE!C$69*'DUTY CYCLE'!N74,IF('DUTY CYCLE'!L74=3,VEHICLE!C$70*'DUTY CYCLE'!N74))) -> -1536.3913 | P74: =VLOOKUP(D74,TRACK!B$3:C$5,2) -> 0.02 | Q74: =P74*VEHICLE!C$47*9.81 -> 111.31015 | R74: =0.5*VEHICLE!C$20*VEHICLE!C$28*1.2*((M74)^2) -> 28.112045 | S74: =VEHICLE!C$47*9.81*SIN(RADIANS(H74)) -> 131.56044 | T74: =SUM(Q74:S74)+O74 -> -1265.4086 | U74: =ABS(((+T74)*(+M74))/1000) -> 10.703329 | V74: =((VEHICLE!C$12*1000)-U74*1000)/1000 -> 2.7194898 | W74: =U74 -> 10.703329 | X74: =ABS((W74*1000)/((2*PI()*K74)/60)) -> 19.468431 | Y74: =ROUNDUP(X74,0) -> 20 | Z74: =T74 -> -1265.4086 | AA74: =SUM(Z$4:Z74) -> 13719.017 | AB74: =INDEX(BSFC!D$5:AD$27,MATCH('DUTY CYCLE'!Y74,BSFC!C$5:C$27,0),MATCH('DUTY CYCLE'!K74,BSFC!D$28:AD$28,0)) -> 494.2155 | AC74: =U74*AB74/3600 -> 1.4693753 | AD74: =AC74*(3.09*1000) -> 4540.3697 | AE74: =0.5*VEHICLE!C$47*('DUTY CYCLE'!M74^2)/1000 -> 20.294666 | AF74: =Z74+AE74 -> -1245.114
B75: 71 | D75: GRAVEL | E75: =IF(H75>0,"UPHILL",IF(H75<0,"DOWNHILL",IF(H75=0,"FLAT",0))) -> UPHILL | F75: 0.4 | G75: =F75-F74 -> 0.2 | H75: =DEGREES(ATAN(G75/J75)) -> 1.422213 | I75: =SUM(M$4:M75) -> 630.35306 | J75: =I75-I74 -> 8.0556164 | K75: 5000 | L75: 2 | M75: =VLOOKUP(K75,VEHICLE!I$30:L$54,MATCH(L75,VEHICLE!I$30:L$30,0),0) -> 8.0556164 | N75: =M75-M74 -> -0.40278082 | O75: =IF(L75=1,VEHICLE!C$68*'DUTY CYCLE'!N75,IF(L75=2,VEHICLE!C$69*'DUTY CYCLE'!N75,IF('DUTY CYCLE'!L75=3,VEHICLE!C$70*'DUTY CYCLE'!N75))) -> -236.74729 | P75: =VLOOKUP(D75,TRACK!B$3:C$5,2) -> 0.02 | Q75: =P75*VEHICLE!C$47*9.81 -> 111.31015 | R75: =0.5*VEHICLE!C$20*VEHICLE!C$28*1.2*((M75)^2) -> 25.498454 | S75: =VEHICLE!C$47*9.81*SIN(RADIANS(H75)) -> 138.1345 | T75: =SUM(Q75:S75)+O75 -> 38.195811 | U75: =ABS(((+T75)*(+M75))/1000) -> 0.3076908 | V75: =((VEHICLE!C$12*1000)-U75*1000)/1000 -> 13.115128 | W75: =U75 -> 0.3076908 | X75: =ABS((W75*1000)/((2*PI()*K75)/60)) -> 0.58764615 | Y75: =ROUNDUP(X75,0) -> 1 | Z75: =T75 -> 38.195811 | AA75: =SUM(Z$4:Z75) -> 13757.213 | AB75: =INDEX(BSFC!D$5:AD$27,MATCH('DUTY CYCLE'!Y75,BSFC!C$5:C$27,0),MATCH('DUTY CYCLE'!K75,BSFC!D$28:AD$28,0)) -> 967.29096 | AC75: =U75*AB75/3600 -> 0.082674037 | AD75: =AC75*(3.09*1000) -> 255.46278 | AE75: =0.5*VEHICLE!C$47*('DUTY CYCLE'!M75^2)/1000 -> 18.40786 | AF75: =Z75+AE75 -> 56.603672
B76: 72 | C76: TURN 7 | D76: GRAVEL | E76: =IF(H76>0,"UPHILL",IF(H76<0,"DOWNHILL",IF(H76=0,"FLAT",0))) -> UPHILL | F76: 0.6 | G76: =F76-F75 -> 0.2 | H76: =DEGREES(ATAN(G76/J76)) -> 1.422213 | I76: =SUM(M$4:M76) -> 638.40868 | J76: =I76-I75 -> 8.0556164 | K76: 5000 | L76: 2 | M76: =VLOOKUP(K76,VEHICLE!I$30:L$54,MATCH(L76,VEHICLE!I$30:L$30,0),0) -> 8.0556164 | N76: =M76-M75 -> 0 | O76: =IF(L76=1,VEHICLE!C$68*'DUTY CYCLE'!N76,IF(L76=2,VEHICLE!C$69*'DUTY CYCLE'!N76,IF('DUTY CYCLE'!L76=3,VEHICLE!C$70*'DUTY CYCLE'!N76))) -> 0 | P76: =VLOOKUP(D76,TRACK!B$3:C$5,2) -> 0.02 | Q76: =P76*VEHICLE!C$47*9.81 -> 111.31015 | R76: =0.5*VEHICLE!C$20*VEHICLE!C$28*1.2*((M76)^2) -> 25.498454 | S76: =VEHICLE!C$47*9.81*SIN(RADIANS(H76)) -> 138.1345 | T76: =SUM(Q76:S76)+O76 -> 274.9431 | U76: =ABS(((+T76)*(+M76))/1000) -> 2.2148362 | V76: =((VEHICLE!C$12*1000)-U76*1000)/1000 -> 11.207983 | W76: =U76 -> 2.2148362 | X76: =ABS((W76*1000)/((2*PI()*K76)/60)) -> 4.2300255 | Y76: =ROUNDUP(X76,0) -> 5 | Z76: =T76 -> 274.9431 | AA76: =SUM(Z$4:Z76) -> 14032.156 | AB76: =INDEX(BSFC!D$5:AD$27,MATCH('DUTY CYCLE'!Y76,BSFC!C$5:C$27,0),MATCH('DUTY CYCLE'!K76,BSFC!D$28:AD$28,0)) -> 639.92558 | AC76: =U76*AB76/3600 -> 0.39370287 | AD76: =AC76*(3.09*1000) -> 1216.5419 | AE76: =0.5*VEHICLE!C$47*('DUTY CYCLE'!M76^2)/1000 -> 18.40786 | AF76: =Z76+AE76 -> 293.35096
B77: 73 | D77: GRAVEL | E77: =IF(H77>0,"UPHILL",IF(H77<0,"DOWNHILL",IF(H77=0,"FLAT",0))) -> UPHILL | F77: 0.8 | G77: =F77-F76 -> 0.2 | H77: =DEGREES(ATAN(G77/J77)) -> 1.3545144 | I77: =SUM(M$4:M77) -> 646.86707 | J77: =I77-I76 -> 8.4583972 | K77: 5250 | L77: 2 | M77: =VLOOKUP(K77,VEHICLE!I$30:L$54,MATCH(L77,VEHICLE!I$30:L$30,0),0) -> 8.4583972 | N77: =M77-M76 -> 0.40278082 | O77: =IF(L77=1,VEHICLE!C$68*'DUTY CYCLE'!N77,IF(L77=2,VEHICLE!C$69*'DUTY CYCLE'!N77,IF('DUTY CYCLE'!L77=3,VEHICLE!C$70*'DUTY CYCLE'!N77))) -> 236.74729 | P77: =VLOOKUP(D77,TRACK!B$3:C$5,2) -> 0.02 | Q77: =P77*VEHICLE!C$47*9.81 -> 111.31015 | R77: =0.5*VEHICLE!C$20*VEHICLE!C$28*1.2*((M77)^2) -> 28.112045 | S77: =VEHICLE!C$47*9.81*SIN(RADIANS(H77)) -> 131.56044 | T77: =SUM(Q77:S77)+O77 -> 507.72992 | U77: =ABS(((+T77)*(+M77))/1000) -> 4.2945813 | V77: =((VEHICLE!C$12*1000)-U77*1000)/1000 -> 9.1282375 | W77: =U77 -> 4.2945813 | X77: =ABS((W77*1000)/((2*PI()*K77)/60)) -> 7.8114725 | Y77: =ROUNDUP(X77,0) -> 8 | Z77: =T77 -> 507.72992 | AA77: =SUM(Z$4:Z77) -> 14539.886 | AB77: =INDEX(BSFC!D$5:AD$27,MATCH('DUTY CYCLE'!Y77,BSFC!C$5:C$27,0),MATCH('DUTY CYCLE'!K77,BSFC!D$28:AD$28,0)) -> 445.11194 | AC77: =U77*AB77/3600 -> 0.53099151 | AD77: =AC77*(3.09*1000) -> 1640.7638 | AE77: =0.5*VEHICLE!C$47*('DUTY CYCLE'!M77^2)/1000 -> 20.294666 | AF77: =Z77+AE77 -> 528.02458
B78: 74 | C78: STRAIGHT 5 | D78: GRAVEL | E78: =IF(H78>0,"UPHILL",IF(H78<0,"DOWNHILL",IF(H78=0,"FLAT",0))) -> UPHILL | F78: 1 | G78: =F78-F77 -> 0.2 | H78: =DEGREES(ATAN(G78/J78)) -> 1.2782447 | I78: =SUM(M$4:M78) -> 655.83034 | J78: =I78-I77 -> 8.9632718 | K78: 4250 | L78: 3 | M78: =VLOOKUP(K78,VEHICLE!I$30:L$54,MATCH(L78,VEHICLE!I$30:L$30,0),0) -> 8.9632718 | N78: =M78-M77 -> 0.50487457 | O78: =IF(L78=1,VEHICLE!C$68*'DUTY CYCLE'!N78,IF(L78=2,VEHICLE!C$69*'DUTY CYCLE'!N78,IF('DUTY CYCLE'!L78=3,VEHICLE!C$70*'DUTY CYCLE'!N78))) -> 295.45189 | P78: =VLOOKUP(D78,TRACK!B$3:C$5,2) -> 0.02 | Q78: =P78*VEHICLE!C$47*9.81 -> 111.31015 | R78: =0.5*VEHICLE!C$20*VEHICLE!C$28*1.2*((M78)^2) -> 31.568171 | S78: =VEHICLE!C$47*9.81*SIN(RADIANS(H78)) -> 124.15382 | T78: =SUM(Q78:S78)+O78 -> 562.48403 | U78: =ABS(((+T78)*(+M78))/1000) -> 5.0416972 | V78: =((VEHICLE!C$12*1000)-U78*1000)/1000 -> 8.3811216 | W78: =U78 -> 5.0416972 | X78: =ABS((W78*1000)/((2*PI()*K78)/60)) -> 11.328156 | Y78: =ROUNDUP(X78,0) -> 12 | Z78: =T78 -> 562.48403 | AA78: =SUM(Z$4:Z78) -> 15102.37 | AB78: =INDEX(BSFC!D$5:AD$27,MATCH('DUTY CYCLE'!Y78,BSFC!C$5:C$27,0),MATCH('DUTY CYCLE'!K78,BSFC!D$28:AD$28,0)) -> 479.33667 | AC78: =U78*AB78/3600 -> 0.67129732 | AD78: =AC78*(3.09*1000) -> 2074.3087 | AE78: =0.5*VEHICLE!C$47*('DUTY CYCLE'!M78^2)/1000 -> 22.789714 | AF78: =Z78+AE78 -> 585.27374
B79: 75 | D79: GRAVEL | E79: =IF(H79>0,"UPHILL",IF(H79<0,"DOWNHILL",IF(H79=0,"FLAT",0))) -> UPHILL | F79: 1.2 | G79: =F79-F78 -> 0.2 | H79: =DEGREES(ATAN(G79/J79)) -> 1.2072527 | I79: =SUM(M$4:M79) -> 665.32087 | J79: =I79-I78 -> 9.4905231 | K79: 4500 | L79: 3 | M79: =VLOOKUP(K79,VEHICLE!I$30:L$54,MATCH(L79,VEHICLE!I$30:L$30,0),0) -> 9.4905231 | N79: =M79-M78 -> 0.52725128 | O79: =IF(L79=1,VEHICLE!C$68*'DUTY CYCLE'!N79,IF(L79=2,VEHICLE!C$69*'DUTY CYCLE'!N79,IF('DUTY CYCLE'!L79=3,VEHICLE!C$70*'DUTY CYCLE'!N79))) -> 308.54671 | P79: =VLOOKUP(D79,TRACK!B$3:C$5,2) -> 0.02 | Q79: =P79*VEHICLE!C$47*9.81 -> 111.31015 | R79: =0.5*VEHICLE!C$20*VEHICLE!C$28*1.2*((M79)^2) -> 35.391306 | S79: =VEHICLE!C$47*9.81*SIN(RADIANS(H79)) -> 117.25954 | T79: =SUM(Q79:S79)+O79 -> 572.5077 | U79: =ABS(((+T79)*(+M79))/1000) -> 5.4333976 | V79: =((VEHICLE!C$12*1000)-U79*1000)/1000 -> 7.9894212 | W79: =U79 -> 5.4333976 | X79: =ABS((W79*1000)/((2*PI()*K79)/60)) -> 11.530028 | Y79: =ROUNDUP(X79,0) -> 12 | Z79: =T79 -> 572.5077 | AA79: =SUM(Z$4:Z79) -> 15674.878 | AB79: =INDEX(BSFC!D$5:AD$27,MATCH('DUTY CYCLE'!Y79,BSFC!C$5:C$27,0),MATCH('DUTY CYCLE'!K79,BSFC!D$28:AD$28,0)) -> 465.94667 | AC79: =U79*AB79/3600 -> 0.70324264 | AD79: =AC79*(3.09*1000) -> 2173.0197 | AE79: =0.5*VEHICLE!C$47*('DUTY CYCLE'!M79^2)/1000 -> 25.549715 | AF79: =Z79+AE79 -> 598.05742
B80: 76 | D80: GRAVEL | E80: =IF(H80>0,"UPHILL",IF(H80<0,"DOWNHILL",IF(H80=0,"FLAT",0))) -> UPHILL | F80: 1.4 | G80: =F80-F79 -> 0.2 | H80: =DEGREES(ATAN(G80/J80)) -> 1.1437305 | I80: =SUM(M$4:M80) -> 675.33864 | J80: =I80-I79 -> 10.017774 | K80: 4750 | L80: 3 | M80: =VLOOKUP(K80,VEHICLE!I$30:L$54,MATCH(L80,VEHICLE!I$30:L$30,0),0) -> 10.017774 | N80: =M80-M79 -> 0.52725128 | O80: =IF(L80=1,VEHICLE!C$68*'DUTY CYCLE'!N80,IF(L80=2,VEHICLE!C$69*'DUTY CYCLE'!N80,IF('DUTY CYCLE'!L80=3,VEHICLE!C$70*'DUTY CYCLE'!N80))) -> 308.54671 | P80: =VLOOKUP(D80,TRACK!B$3:C$5,2) -> 0.02 | Q80: =P80*VEHICLE!C$47*9.81 -> 111.31015 | R80: =0.5*VEHICLE!C$20*VEHICLE!C$28*1.2*((M80)^2) -> 39.432906 | S80: =VEHICLE!C$47*9.81*SIN(RADIANS(H80)) -> 111.09051 | T80: =SUM(Q80:S80)+O80 -> 570.38027 | U80: =ABS(((+T80)*(+M80))/1000) -> 5.7139409 | V80: =((VEHICLE!C$12*1000)-U80*1000)/1000 -> 7.7088779 | W80: =U80 -> 5.7139409 | X80: =ABS((W80*1000)/((2*PI()*K80)/60)) -> 11.487182 | Y80: =ROUNDUP(X80,0) -> 12 | Z80: =T80 -> 570.38027 | AA80: =SUM(Z$4:Z80) -> 16245.258 | AB80: =INDEX(BSFC!D$5:AD$27,MATCH('DUTY CYCLE'!Y80,BSFC!C$5:C$27,0),MATCH('DUTY CYCLE'!K80,BSFC!D$28:AD$28,0)) -> 458.32879 | AC80: =U80*AB80/3600 -> 0.72746211 | AD80: =AC80*(3.09*1000) -> 2247.8579 | AE80: =0.5*VEHICLE!C$47*('DUTY CYCLE'!M80^2)/1000 -> 28.467429 | AF80: =Z80+AE80 -> 598.8477
B81: 77 | D81: GRAVEL | E81: =IF(H81>0,"UPHILL",IF(H81<0,"DOWNHILL",IF(H81=0,"FLAT",0))) -> UPHILL | F81: 1.6 | G81: =F81-F80 -> 0.2 | H81: =DEGREES(ATAN(G81/J81)) -> 1.086558 | I81: =SUM(M$4:M81) -> 685.88367 | J81: =I81-I80 -> 10.545026 | K81: 5000 | L81: 3 | M81: =VLOOKUP(K81,VEHICLE!I$30:L$54,MATCH(L81,VEHICLE!I$30:L$30,0),0) -> 10.545026 | N81: =M81-M80 -> 0.52725128 | O81: =IF(L81=1,VEHICLE!C$68*'DUTY CYCLE'!N81,IF(L81=2,VEHICLE!C$69*'DUTY CYCLE'!N81,IF('DUTY CYCLE'!L81=3,VEHICLE!C$70*'DUTY CYCLE'!N81))) -> 308.54671 | P81: =VLOOKUP(D81,TRACK!B$3:C$5,2) -> 0.02 | Q81: =P81*VEHICLE!C$47*9.81 -> 111.31015 | R81: =0.5*VEHICLE!C$20*VEHICLE!C$28*1.2*((M81)^2) -> 43.692971 | S81: =VEHICLE!C$47*9.81*SIN(RADIANS(H81)) -> 105.53804 | T81: =SUM(Q81:S81)+O81 -> 569.08786 | U81: =ABS(((+T81)*(+M81))/1000) -> 6.0010461 | V81: =((VEHICLE!C$12*1000)-U81*1000)/1000 -> 7.4217727 | W81: =U81 -> 6.0010461 | X81: =ABS((W81*1000)/((2*PI()*K81)/60)) -> 11.461154 | Y81: =ROUNDUP(X81,0) -> 12 | Z81: =T81 -> 569.08786 | AA81: =SUM(Z$4:Z81) -> 16814.346 | AB81: =INDEX(BSFC!D$5:AD$27,MATCH('DUTY CYCLE'!Y81,BSFC!C$5:C$27,0),MATCH('DUTY CYCLE'!K81,BSFC!D$28:AD$28,0)) -> 318.33697 | AC81: =U81*AB81/3600 -> 0.53065413 | AD81: =AC81*(3.09*1000) -> 1639.7212 | AE81: =0.5*VEHICLE!C$47*('DUTY CYCLE'!M81^2)/1000 -> 31.542857 | AF81: =Z81+AE81 -> 600.63072
B82: 78 | C82: TURN 8 | D82: GRAVEL | E82: =IF(H82>0,"UPHILL",IF(H82<0,"DOWNHILL",IF(H82=0,"FLAT",0))) -> UPHILL | F82: 1.8 | G82: =F82-F81 -> 0.2 | H82: =DEGREES(ATAN(G82/J82)) -> 1.0348287 | I82: =SUM(M$4:M82) -> 696.95594 | J82: =I82-I81 -> 11.072277 | K82: 5250 | L82: 3 | M82: =VLOOKUP(K82,VEHICLE!I$30:L$54,MATCH(L82,VEHICLE!I$30:L$30,0),0) -> 11.072277 | N82: =M82-M81 -> 0.52725128 | O82: =IF(L82=1,VEHICLE!C$68*'DUTY CYCLE'!N82,IF(L82=2,VEHICLE!C$69*'DUTY CYCLE'!N82,IF('DUTY CYCLE'!L82=3,VEHICLE!C$70*'DUTY CYCLE'!N82))) -> 308.54671 | P82: =VLOOKUP(D82,TRACK!B$3:C$5,2) -> 0.02 | Q82: =P82*VEHICLE!C$47*9.81 -> 111.31015 | R82: =0.5*VEHICLE!C$20*VEHICLE!C$28*1.2*((M82)^2) -> 48.1715 | S82: =VEHICLE!C$47*9.81*SIN(RADIANS(H82)) -> 100.5141 | T82: =SUM(Q82:S82)+O82 -> 568.54245 | U82: =ABS(((+T82)*(+M82))/1000) -> 6.2950595 | V82: =((VEHICLE!C$12*1000)-U82*1000)/1000 -> 7.1277593 | W82: =U82 -> 6.2950595 | X82: =ABS((W82*1000)/((2*PI()*K82)/60)) -> 11.450169 | Y82: =ROUNDUP(X82,0) -> 12 | Z82: =T82 -> 568.54245 | AA82: =SUM(Z$4:Z82) -> 17382.888 | AB82: =INDEX(BSFC!D$5:AD$27,MATCH('DUTY CYCLE'!Y82,BSFC!C$5:C$27,0),MATCH('DUTY CYCLE'!K82,BSFC!D$28:AD$28,0)) -> 310.85505 | AC82: =U82*AB82/3600 -> 0.54356973 | AD82: =AC82*(3.09*1000) -> 1679.6305 | AE82: =0.5*VEHICLE!C$47*('DUTY CYCLE'!M82^2)/1000 -> 34.776 | AF82: =Z82+AE82 -> 603.31845
B83: 79 | C83: STRAIGHT 6 | D83: GRAVEL | E83: =IF(H83>0,"UPHILL",IF(H83<0,"DOWNHILL",IF(H83=0,"FLAT",0))) -> UPHILL | F83: 2 | G83: =F83-F82 -> 0.2 | H83: =DEGREES(ATAN(G83/J83)) -> 1.0348287 | I83: =SUM(M$4:M83) -> 708.02822 | J83: =I83-I82 -> 11.072277 | K83: 5250 | L83: 3 | M83: =VLOOKUP(K83,VEHICLE!I$30:L$54,MATCH(L83,VEHICLE!I$30:L$30,0),0) -> 11.072277 | N83: =M83-M82 -> 0 | O83: =IF(L83=1,VEHICLE!C$68*'DUTY CYCLE'!N83,IF(L83=2,VEHICLE!C$69*'DUTY CYCLE'!N83,IF('DUTY CYCLE'!L83=3,VEHICLE!C$70*'DUTY CYCLE'!N83))) -> 0 | P83: =VLOOKUP(D83,TRACK!B$3:C$5,2) -> 0.02 | Q83: =P83*VEHICLE!C$47*9.81 -> 111.31015 | R83: =0.5*VEHICLE!C$20*VEHICLE!C$28*1.2*((M83)^2) -> 48.1715 | S83: =VEHICLE!C$47*9.81*SIN(RADIANS(H83)) -> 100.5141 | T83: =SUM(Q83:S83)+O83 -> 259.99574 | U83: =ABS(((+T83)*(+M83))/1000) -> 2.8787449 | V83: =((VEHICLE!C$12*1000)-U83*1000)/1000 -> 10.544074 | W83: =U83 -> 2.8787449 | X83: =ABS((W83*1000)/((2*PI()*K83)/60)) -> 5.2361883 | Y83: =ROUNDUP(X83,0) -> 6 | Z83: =T83 -> 259.99574 | AA83: =SUM(Z$4:Z83) -> 17642.884 | AB83: =INDEX(BSFC!D$5:AD$27,MATCH('DUTY CYCLE'!Y83,BSFC!C$5:C$27,0),MATCH('DUTY CYCLE'!K83,BSFC!D$28:AD$28,0)) -> 537.86208 | AC83: =U83*AB83/3600 -> 0.43010214 | AD83: =AC83*(3.09*1000) -> 1329.0156 | AE83: =0.5*VEHICLE!C$47*('DUTY CYCLE'!M83^2)/1000 -> 34.776 | AF83: =Z83+AE83 -> 294.77174
B84: 80 | D84: GRAVEL | E84: =IF(H84>0,"UPHILL",IF(H84<0,"DOWNHILL",IF(H84=0,"FLAT",0))) -> UPHILL | F84: 2.2 | G84: =F84-F83 -> 0.2 | H84: =DEGREES(ATAN(G84/J84)) -> 0.98780057 | I84: =SUM(M$4:M84) -> 719.62775 | J84: =I84-I83 -> 11.599528 | K84: 5500 | L84: 3 | M84: =VLOOKUP(K84,VEHICLE!I$30:L$54,MATCH(L84,VEHICLE!I$30:L$30,0),0) -> 11.599528 | N84: =M84-M83 -> 0.52725128 | O84: =IF(L84=1,VEHICLE!C$68*'DUTY CYCLE'!N84,IF(L84=2,VEHICLE!C$69*'DUTY CYCLE'!N84,IF('DUTY CYCLE'!L84=3,VEHICLE!C$70*'DUTY CYCLE'!N84))) -> 308.54671 | P84: =VLOOKUP(D84,TRACK!B$3:C$5,2) -> 0.02 | Q84: =P84*VEHICLE!C$47*9.81 -> 111.31015 | R84: =0.5*VEHICLE!C$20*VEHICLE!C$28*1.2*((M84)^2) -> 52.868494 | S84: =VEHICLE!C$47*9.81*SIN(RADIANS(H84)) -> 95.946665 | T84: =SUM(Q84:S84)+O84 -> 568.67201 | U84: =ABS(((+T84)*(+M84))/1000) -> 6.5963271 | V84: =((VEHICLE!C$12*1000)-U84*1000)/1000 -> 6.8264917 | W84: =U84 -> 6.5963271 | X84: =ABS((W84*1000)/((2*PI()*K84)/60)) -> 11.452779 | Y84: =ROUNDUP(X84,0) -> 12 | Z84: =T84 -> 568.67201 | AA84: =SUM(Z$4:Z84) -> 18211.556 | AB84: =INDEX(BSFC!D$5:AD$27,MATCH('DUTY CYCLE'!Y84,BSFC!C$5:C$27,0),MATCH('DUTY CYCLE'!K84,BSFC!D$28:AD$28,0)) -> 332.53854 | AC84: =U84*AB84/3600 -> 0.60931471 | AD84: =AC84*(3.09*1000) -> 1882.7825 | AE84: =0.5*VEHICLE!C$47*('DUTY CYCLE'!M84^2)/1000 -> 38.166857 | AF84: =Z84+AE84 -> 606.83887
B85: 81 | D85: GRAVEL | E85: =IF(H85>0,"UPHILL",IF(H85<0,"DOWNHILL",IF(H85=0,"FLAT",0))) -> UPHILL | F85: 2.4 | G85: =F85-F84 -> 0.2 | H85: =DEGREES(ATAN(G85/J85)) -> 0.94486068 | I85: =SUM(M$4:M85) -> 731.75453 | J85: =I85-I84 -> 12.126779 | K85: 5750 | L85: 3 | M85: =VLOOKUP(K85,VEHICLE!I$30:L$54,MATCH(L85,VEHICLE!I$30:L$30,0),0) -> 12.126779 | N85: =M85-M84 -> 0.52725128 | O85: =IF(L85=1,VEHICLE!C$68*'DUTY CYCLE'!N85,IF(L85=2,VEHICLE!C$69*'DUTY CYCLE'!N85,IF('DUTY CYCLE'!L85=3,VEHICLE!C$70*'DUTY CYCLE'!N85))) -> 308.54671 | P85: =VLOOKUP(D85,TRACK!B$3:C$5,2) -> 0.02 | Q85: =P85*VEHICLE!C$47*9.81 -> 111.31015 | R85: =0.5*VEHICLE!C$20*VEHICLE!C$28*1.2*((M85)^2) -> 57.783954 | S85: =VEHICLE!C$47*9.81*SIN(RADIANS(H85)) -> 91.776231 | T85: =SUM(Q85:S85)+O85 -> 569.41704 | U85: =ABS(((+T85)*(+M85))/1000) -> 6.9051949 | V85: =((VEHICLE!C$12*1000)-U85*1000)/1000 -> 6.5176239 | W85: =U85 -> 6.9051949 | X85: =ABS((W85*1000)/((2*PI()*K85)/60)) -> 11.467783 | Y85: =ROUNDUP(X85,0) -> 12 | Z85: =T85 -> 569.41704 | AA85: =SUM(Z$4:Z85) -> 18780.973 | AB85: =INDEX(BSFC!D$5:AD$27,MATCH('DUTY CYCLE'!Y85,BSFC!C$5:C$27,0),MATCH('DUTY CYCLE'!K85,BSFC!D$28:AD$28,0)) -> 358.43892 | AC85: =U85*AB85/3600 -> 0.68752516 | AD85: =AC85*(3.09*1000) -> 2124.4527 | AE85: =0.5*VEHICLE!C$47*('DUTY CYCLE'!M85^2)/1000 -> 41.715429 | AF85: =Z85+AE85 -> 611.13247
B86: 82 | D86: GRAVEL | E86: =IF(H86>0,"UPHILL",IF(H86<0,"DOWNHILL",IF(H86=0,"FLAT",0))) -> UPHILL | F86: 2.6 | G86: =F86-F85 -> 0.2 | H86: =DEGREES(ATAN(G86/J86)) -> 0.90549818 | I86: =SUM(M$4:M86) -> 744.40856 | J86: =I86-I85 -> 12.654031 | K86: 6000 | L86: 3 | M86: =VLOOKUP(K86,VEHICLE!I$30:L$54,MATCH(L86,VEHICLE!I$30:L$30,0),0) -> 12.654031 | N86: =M86-M85 -> 0.52725128 | O86: =IF(L86=1,VEHICLE!C$68*'DUTY CYCLE'!N86,IF(L86=2,VEHICLE!C$69*'DUTY CYCLE'!N86,IF('DUTY CYCLE'!L86=3,VEHICLE!C$70*'DUTY CYCLE'!N86))) -> 308.54671 | P86: =VLOOKUP(D86,TRACK!B$3:C$5,2) -> 0.02 | Q86: =P86*VEHICLE!C$47*9.81 -> 111.31015 | R86: =0.5*VEHICLE!C$20*VEHICLE!C$28*1.2*((M86)^2) -> 62.917878 | S86: =VEHICLE!C$47*9.81*SIN(RADIANS(H86)) -> 87.953197 | T86: =SUM(Q86:S86)+O86 -> 570.72793 | U86: =ABS(((+T86)*(+M86))/1000) -> 7.2220088 | V86: =((VEHICLE!C$12*1000)-U86*1000)/1000 -> 6.20081 | W86: =U86 -> 7.2220088 | X86: =ABS((W86*1000)/((2*PI()*K86)/60)) -> 11.494184 | Y86: =ROUNDUP(X86,0) -> 12 | Z86: =T86 -> 570.72793 | AA86: =SUM(Z$4:Z86) -> 19351.701 | AB86: =INDEX(BSFC!D$5:AD$27,MATCH('DUTY CYCLE'!Y86,BSFC!C$5:C$27,0),MATCH('DUTY CYCLE'!K86,BSFC!D$28:AD$28,0)) -> 346.7401 | AC86: =U86*AB86/3600 -> 0.69560002 | AD86: =AC86*(3.09*1000) -> 2149.4041 | AE86: =0.5*VEHICLE!C$47*('DUTY CYCLE'!M86^2)/1000 -> 45.421715 | AF86: =Z86+AE86 -> 616.14964
B87: 83 | C87: TURN 9 | D87: MUD | E87: =IF(H87>0,"UPHILL",IF(H87<0,"DOWNHILL",IF(H87=0,"FLAT",0))) -> UPHILL | F87: 2.8 | G87: =F87-F86 -> 0.2 | H87: =DEGREES(ATAN(G87/J87)) -> 0.90549818 | I87: =SUM(M$4:M87) -> 757.06259 | J87: =I87-I86 -> 12.654031 | K87: 6000 | L87: 3 | M87: =VLOOKUP(K87,VEHICLE!I$30:L$54,MATCH(L87,VEHICLE!I$30:L$30,0),0) -> 12.654031 | N87: =M87-M86 -> 0 | O87: =IF(L87=1,VEHICLE!C$68*'DUTY CYCLE'!N87,IF(L87=2,VEHICLE!C$69*'DUTY CYCLE'!N87,IF('DUTY CYCLE'!L87=3,VEHICLE!C$70*'DUTY CYCLE'!N87))) -> 0 | P87: =VLOOKUP(D87,TRACK!B$3:C$5,2) -> 0.1 | Q87: =P87*VEHICLE!C$47*9.81 -> 556.55073 | R87: =0.5*VEHICLE!C$20*VEHICLE!C$28*1.2*((M87)^2) -> 62.917878 | S87: =VEHICLE!C$47*9.81*SIN(RADIANS(H87)) -> 87.953197 | T87: =SUM(Q87:S87)+O87 -> 707.4218 | U87: =ABS(((+T87)*(+M87))/1000) -> 8.9517373 | V87: =((VEHICLE!C$12*1000)-U87*1000)/1000 -> 4.4710815 | W87: =U87 -> 8.9517373 | X87: =ABS((W87*1000)/((2*PI()*K87)/60)) -> 14.247132 | Y87: =ROUNDUP(X87,0) -> 15 | Z87: =T87 -> 707.4218 | AA87: =SUM(Z$4:Z87) -> 20059.123 | AB87: =INDEX(BSFC!D$5:AD$27,MATCH('DUTY CYCLE'!Y87,BSFC!C$5:C$27,0),MATCH('DUTY CYCLE'!K87,BSFC!D$28:AD$28,0)) -> 364.39564 | AC87: =U87*AB87/3600 -> 0.9061039 | AD87: =AC87*(3.09*1000) -> 2799.8611 | AE87: =0.5*VEHICLE!C$47*('DUTY CYCLE'!M87^2)/1000 -> 45.421715 | AF87: =Z87+AE87 -> 752.84352
B88: 84 | D88: MUD | E88: =IF(H88>0,"UPHILL",IF(H88<0,"DOWNHILL",IF(H88=0,"FLAT",0))) -> UPHILL | F88: 3 | G88: =F88-F87 -> 0.2 | H88: =DEGREES(ATAN(G88/J88)) -> 0.90549818 | I88: =SUM(M$4:M88) -> 769.71662 | J88: =I88-I87 -> 12.654031 | K88: 6000 | L88: 3 | M88: =VLOOKUP(K88,VEHICLE!I$30:L$54,MATCH(L88,VEHICLE!I$30:L$30,0),0) -> 12.654031 | N88: =M88-M87 -> 0 | O88: =IF(L88=1,VEHICLE!C$68*'DUTY CYCLE'!N88,IF(L88=2,VEHICLE!C$69*'DUTY CYCLE'!N88,IF('DUTY CYCLE'!L88=3,VEHICLE!C$70*'DUTY CYCLE'!N88))) -> 0 | P88: =VLOOKUP(D88,TRACK!B$3:C$5,2) -> 0.1 | Q88: =P88*VEHICLE!C$47*9.81 -> 556.55073 | R88: =0.5*VEHICLE!C$20*VEHICLE!C$28*1.2*((M88)^2) -> 62.917878 | S88: =VEHICLE!C$47*9.81*SIN(RADIANS(H88)) -> 87.953197 | T88: =SUM(Q88:S88)+O88 -> 707.4218 | U88: =ABS(((+T88)*(+M88))/1000) -> 8.9517373 | V88: =((VEHICLE!C$12*1000)-U88*1000)/1000 -> 4.4710815 | W88: =U88 -> 8.9517373 | X88: =ABS((W88*1000)/((2*PI()*K88)/60)) -> 14.247132 | Y88: =ROUNDUP(X88,0) -> 15 | Z88: =T88 -> 707.4218 | AA88: =SUM(Z$4:Z88) -> 20766.544 | AB88: =INDEX(BSFC!D$5:AD$27,MATCH('DUTY CYCLE'!Y88,BSFC!C$5:C$27,0),MATCH('DUTY CYCLE'!K88,BSFC!D$28:AD$28,0)) -> 364.39564 | AC88: =U88*AB88/3600 -> 0.9061039 | AD88: =AC88*(3.09*1000) -> 2799.8611 | AE88: =0.5*VEHICLE!C$47*('DUTY CYCLE'!M88^2)/1000 -> 45.421715 | AF88: =Z88+AE88 -> 752.84352
B89: 85 | D89: MUD | E89: =IF(H89>0,"UPHILL",IF(H89<0,"DOWNHILL",IF(H89=0,"FLAT",0))) -> UPHILL | F89: 3.2 | G89: =F89-F88 -> 0.2 | H89: =DEGREES(ATAN(G89/J89)) -> 0.90549818 | I89: =SUM(M$4:M89) -> 782.37065 | J89: =I89-I88 -> 12.654031 | K89: 6000 | L89: 3 | M89: =VLOOKUP(K89,VEHICLE!I$30:L$54,MATCH(L89,VEHICLE!I$30:L$30,0),0) -> 12.654031 | N89: =M89-M88 -> 0 | O89: =IF(L89=1,VEHICLE!C$68*'DUTY CYCLE'!N89,IF(L89=2,VEHICLE!C$69*'DUTY CYCLE'!N89,IF('DUTY CYCLE'!L89=3,VEHICLE!C$70*'DUTY CYCLE'!N89))) -> 0 | P89: =VLOOKUP(D89,TRACK!B$3:C$5,2) -> 0.1 | Q89: =P89*VEHICLE!C$47*9.81 -> 556.55073 | R89: =0.5*VEHICLE!C$20*VEHICLE!C$28*1.2*((M89)^2) -> 62.917878 | S89: =VEHICLE!C$47*9.81*SIN(RADIANS(H89)) -> 87.953197 | T89: =SUM(Q89:S89)+O89 -> 707.4218 | U89: =ABS(((+T89)*(+M89))/1000) -> 8.9517373 | V89: =((VEHICLE!C$12*1000)-U89*1000)/1000 -> 4.4710815 | W89: =U89 -> 8.9517373 | X89: =ABS((W89*1000)/((2*PI()*K89)/60)) -> 14.247132 | Y89: =ROUNDUP(X89,0) -> 15 | Z89: =T89 -> 707.4218 | AA89: =SUM(Z$4:Z89) -> 21473.966 | AB89: =INDEX(BSFC!D$5:AD$27,MATCH('DUTY CYCLE'!Y89,BSFC!C$5:C$27,0),MATCH('DUTY CYCLE'!K89,BSFC!D$28:AD$28,0)) -> 364.39564 | AC89: =U89*AB89/3600 -> 0.9061039 | AD89: =AC89*(3.09*1000) -> 2799.8611 | AE89: =0.5*VEHICLE!C$47*('DUTY CYCLE'!M89^2)/1000 -> 45.421715 | AF89: =Z89+AE89 -> 752.84352
B90: 86 | C90: STRAIGHT 7 | D90: MUD | E90: =IF(H90>0,"UPHILL",IF(H90<0,"DOWNHILL",IF(H90=0,"FLAT",0))) -> UPHILL | F90: 3.4 | G90: =F90-F89 -> 0.2 | H90: =DEGREES(ATAN(G90/J90)) -> 0.90549818 | I90: =SUM(M$4:M90) -> 795.02468 | J90: =I90-I89 -> 12.654031 | K90: 6000 | L90: 3 | M90: =VLOOKUP(K90,VEHICLE!I$30:L$54,MATCH(L90,VEHICLE!I$30:L$30,0),0) -> 12.654031 | N90: =M90-M89 -> 0 | O90: =IF(L90=1,VEHICLE!C$68*'DUTY CYCLE'!N90,IF(L90=2,VEHICLE!C$69*'DUTY CYCLE'!N90,IF('DUTY CYCLE'!L90=3,VEHICLE!C$70*'DUTY CYCLE'!N90))) -> 0 | P90: =VLOOKUP(D90,TRACK!B$3:C$5,2) -> 0.1 | Q90: =P90*VEHICLE!C$47*9.81 -> 556.55073 | R90: =0.5*VEHICLE!C$20*VEHICLE!C$28*1.2*((M90)^2) -> 62.917878 | S90: =VEHICLE!C$47*9.81*SIN(RADIANS(H90)) -> 87.953197 | T90: =SUM(Q90:S90)+O90 -> 707.4218 | U90: =ABS(((+T90)*(+M90))/1000) -> 8.9517373 | V90: =((VEHICLE!C$12*1000)-U90*1000)/1000 -> 4.4710815 | W90: =U90 -> 8.9517373 | X90: =ABS((W90*1000)/((2*PI()*K90)/60)) -> 14.247132 | Y90: =ROUNDUP(X90,0) -> 15 | Z90: =T90 -> 707.4218 | AA90: =SUM(Z$4:Z90) -> 22181.388 | AB90: =INDEX(BSFC!D$5:AD$27,MATCH('DUTY CYCLE'!Y90,BSFC!C$5:C$27,0),MATCH('DUTY CYCLE'!K90,BSFC!D$28:AD$28,0)) -> 364.39564 | AC90: =U90*AB90/3600 -> 0.9061039 | AD90: =AC90*(3.09*1000) -> 2799.8611 | AE90: =0.5*VEHICLE!C$47*('DUTY CYCLE'!M90^2)/1000 -> 45.421715 | AF90: =Z90+AE90 -> 752.84352
B91: 87 | D91: MUD | E91: =IF(H91>0,"UPHILL",IF(H91<0,"DOWNHILL",IF(H91=0,"FLAT",0))) -> UPHILL | F91: 3.6 | G91: =F91-F90 -> 0.2 | H91: =DEGREES(ATAN(G91/J91)) -> 0.90549818 | I91: =SUM(M$4:M91) -> 807.67871 | J91: =I91-I90 -> 12.654031 | K91: 6000 | L91: 3 | M91: =VLOOKUP(K91,VEHICLE!I$30:L$54,MATCH(L91,VEHICLE!I$30:L$30,0),0) -> 12.654031 | N91: =M91-M90 -> 0 | O91: =IF(L91=1,VEHICLE!C$68*'DUTY CYCLE'!N91,IF(L91=2,VEHICLE!C$69*'DUTY CYCLE'!N91,IF('DUTY CYCLE'!L91=3,VEHICLE!C$70*'DUTY CYCLE'!N91))) -> 0 | P91: =VLOOKUP(D91,TRACK!B$3:C$5,2) -> 0.1 | Q91: =P91*VEHICLE!C$47*9.81 -> 556.55073 | R91: =0.5*VEHICLE!C$20*VEHICLE!C$28*1.2*((M91)^2) -> 62.917878 | S91: =VEHICLE!C$47*9.81*SIN(RADIANS(H91)) -> 87.953197 | T91: =SUM(Q91:S91)+O91 -> 707.4218 | U91: =ABS(((+T91)*(+M91))/1000) -> 8.9517373 | V91: =((VEHICLE!C$12*1000)-U91*1000)/1000 -> 4.4710815 | W91: =U91 -> 8.9517373 | X91: =ABS((W91*1000)/((2*PI()*K91)/60)) -> 14.247132 | Y91: =ROUNDUP(X91,0) -> 15 | Z91: =T91 -> 707.4218 | AA91: =SUM(Z$4:Z91) -> 22888.81 | AB91: =INDEX(BSFC!D$5:AD$27,MATCH('DUTY CYCLE'!Y91,BSFC!C$5:C$27,0),MATCH('DUTY CYCLE'!K91,BSFC!D$28:AD$28,0)) -> 364.39564 | AC91: =U91*AB91/3600 -> 0.9061039 | AD91: =AC91*(3.09*1000) -> 2799.8611 | AE91: =0.5*VEHICLE!C$47*('DUTY CYCLE'!M91^2)/1000 -> 45.421715 | AF91: =Z91+AE91 -> 752.84352
B92: 88 | D92: MUD | E92: =IF(H92>0,"UPHILL",IF(H92<0,"DOWNHILL",IF(H92=0,"FLAT",0))) -> UPHILL | F92: 3.8 | G92: =F92-F91 -> 0.2 | H92: =DEGREES(ATAN(G92/J92)) -> 0.90549818 | I92: =SUM(M$4:M92) -> 820.33274 | J92: =I92-I91 -> 12.654031 | K92: 6000 | L92: 3 | M92: =VLOOKUP(K92,VEHICLE!I$30:L$54,MATCH(L92,VEHICLE!I$30:L$30,0),0) -> 12.654031 | N92: =M92-M91 -> 0 | O92: =IF(L92=1,VEHICLE!C$68*'DUTY CYCLE'!N92,IF(L92=2,VEHICLE!C$69*'DUTY CYCLE'!N92,IF('DUTY CYCLE'!L92=3,VEHICLE!C$70*'DUTY CYCLE'!N92))) -> 0 | P92: =VLOOKUP(D92,TRACK!B$3:C$5,2) -> 0.1 | Q92: =P92*VEHICLE!C$47*9.81 -> 556.55073 | R92: =0.5*VEHICLE!C$20*VEHICLE!C$28*1.2*((M92)^2) -> 62.917878 | S92: =VEHICLE!C$47*9.81*SIN(RADIANS(H92)) -> 87.953197 | T92: =SUM(Q92:S92)+O92 -> 707.4218 | U92: =ABS(((+T92)*(+M92))/1000) -> 8.9517373 | V92: =((VEHICLE!C$12*1000)-U92*1000)/1000 -> 4.4710815 | W92: =U92 -> 8.9517373 | X92: =ABS((W92*1000)/((2*PI()*K92)/60)) -> 14.247132 | Y92: =ROUNDUP(X92,0) -> 15 | Z92: =T92 -> 707.4218 | AA92: =SUM(Z$4:Z92) -> 23596.232 | AB92: =INDEX(BSFC!D$5:AD$27,MATCH('DUTY CYCLE'!Y92,BSFC!C$5:C$27,0),MATCH('DUTY CYCLE'!K92,BSFC!D$28:AD$28,0)) -> 364.39564 | AC92: =U92*AB92/3600 -> 0.9061039 | AD92: =AC92*(3.09*1000) -> 2799.8611 | AE92: =0.5*VEHICLE!C$47*('DUTY CYCLE'!M92^2)/1000 -> 45.421715 | AF92: =Z92+AE92 -> 752.84352
B93: 89 | D93: MUD | E93: =IF(H93>0,"UPHILL",IF(H93<0,"DOWNHILL",IF(H93=0,"FLAT",0))) -> UPHILL | F93: 4 | G93: =F93-F92 -> 0.2 | H93: =DEGREES(ATAN(G93/J93)) -> 0.90549818 | I93: =SUM(M$4:M93) -> 832.98677 | J93: =I93-I92 -> 12.654031 | K93: 6000 | L93: 3 | M93: =VLOOKUP(K93,VEHICLE!I$30:L$54,MATCH(L93,VEHICLE!I$30:L$30,0),0) -> 12.654031 | N93: =M93-M92 -> 0 | O93: =IF(L93=1,VEHICLE!C$68*'DUTY CYCLE'!N93,IF(L93=2,VEHICLE!C$69*'DUTY CYCLE'!N93,IF('DUTY CYCLE'!L93=3,VEHICLE!C$70*'DUTY CYCLE'!N93))) -> 0 | P93: =VLOOKUP(D93,TRACK!B$3:C$5,2) -> 0.1 | Q93: =P93*VEHICLE!C$47*9.81 -> 556.55073 | R93: =0.5*VEHICLE!C$20*VEHICLE!C$28*1.2*((M93)^2) -> 62.917878 | S93: =VEHICLE!C$47*9.81*SIN(RADIANS(H93)) -> 87.953197 | T93: =SUM(Q93:S93)+O93 -> 707.4218 | U93: =ABS(((+T93)*(+M93))/1000) -> 8.9517373 | V93: =((VEHICLE!C$12*1000)-U93*1000)/1000 -> 4.4710815 | W93: =U93 -> 8.9517373 | X93: =ABS((W93*1000)/((2*PI()*K93)/60)) -> 14.247132 | Y93: =ROUNDUP(X93,0) -> 15 | Z93: =T93 -> 707.4218 | AA93: =SUM(Z$4:Z93) -> 24303.653 | AB93: =INDEX(BSFC!D$5:AD$27,MATCH('DUTY CYCLE'!Y93,BSFC!C$5:C$27,0),MATCH('DUTY CYCLE'!K93,BSFC!D$28:AD$28,0)) -> 364.39564 | AC93: =U93*AB93/3600 -> 0.9061039 | AD93: =AC93*(3.09*1000) -> 2799.8611 | AE93: =0.5*VEHICLE!C$47*('DUTY CYCLE'!M93^2)/1000 -> 45.421715 | AF93: =Z93+AE93 -> 752.84352
B94: 90 | D94: MUD | E94: =IF(H94>0,"UPHILL",IF(H94<0,"DOWNHILL",IF(H94=0,"FLAT",0))) -> UPHILL | F94: 4.2 | G94: =F94-F93 -> 0.2 | H94: =DEGREES(ATAN(G94/J94)) -> 0.90549818 | I94: =SUM(M$4:M94) -> 845.64081 | J94: =I94-I93 -> 12.654031 | K94: 6000 | L94: 3 | M94: =VLOOKUP(K94,VEHICLE!I$30:L$54,MATCH(L94,VEHICLE!I$30:L$30,0),0) -> 12.654031 | N94: =M94-M93 -> 0 | O94: =IF(L94=1,VEHICLE!C$68*'DUTY CYCLE'!N94,IF(L94=2,VEHICLE!C$69*'DUTY CYCLE'!N94,IF('DUTY CYCLE'!L94=3,VEHICLE!C$70*'DUTY CYCLE'!N94))) -> 0 | P94: =VLOOKUP(D94,TRACK!B$3:C$5,2) -> 0.1 | Q94: =P94*VEHICLE!C$47*9.81 -> 556.55073 | R94: =0.5*VEHICLE!C$20*VEHICLE!C$28*1.2*((M94)^2) -> 62.917878 | S94: =VEHICLE!C$47*9.81*SIN(RADIANS(H94)) -> 87.953197 | T94: =SUM(Q94:S94)+O94 -> 707.4218 | U94: =ABS(((+T94)*(+M94))/1000) -> 8.9517373 | V94: =((VEHICLE!C$12*1000)-U94*1000)/1000 -> 4.4710815 | W94: =U94 -> 8.9517373 | X94: =ABS((W94*1000)/((2*PI()*K94)/60)) -> 14.247132 | Y94: =ROUNDUP(X94,0) -> 15 | Z94: =T94 -> 707.4218 | AA94: =SUM(Z$4:Z94) -> 25011.075 | AB94: =INDEX(BSFC!D$5:AD$27,MATCH('DUTY CYCLE'!Y94,BSFC!C$5:C$27,0),MATCH('DUTY CYCLE'!K94,BSFC!D$28:AD$28,0)) -> 364.39564 | AC94: =U94*AB94/3600 -> 0.9061039 | AD94: =AC94*(3.09*1000) -> 2799.8611 | AE94: =0.5*VEHICLE!C$47*('DUTY CYCLE'!M94^2)/1000 -> 45.421715 | AF94: =Z94+AE94 -> 752.84352
B95: 91 | D95: MUD | E95: =IF(H95>0,"UPHILL",IF(H95<0,"DOWNHILL",IF(H95=0,"FLAT",0))) -> UPHILL | F95: 4.4 | G95: =F95-F94 -> 0.2 | H95: =DEGREES(ATAN(G95/J95)) -> 0.90549818 | I95: =SUM(M$4:M95) -> 858.29484 | J95: =I95-I94 -> 12.654031 | K95: 6000 | L95: 3 | M95: =VLOOKUP(K95,VEHICLE!I$30:L$54,MATCH(L95,VEHICLE!I$30:L$30,0),0) -> 12.654031 | N95: =M95-M94 -> 0 | O95: =IF(L95=1,VEHICLE!C$68*'DUTY CYCLE'!N95,IF(L95=2,VEHICLE!C$69*'DUTY CYCLE'!N95,IF('DUTY CYCLE'!L95=3,VEHICLE!C$70*'DUTY CYCLE'!N95))) -> 0 | P95: =VLOOKUP(D95,TRACK!B$3:C$5,2) -> 0.1 | Q95: =P95*VEHICLE!C$47*9.81 -> 556.55073 | R95: =0.5*VEHICLE!C$20*VEHICLE!C$28*1.2*((M95)^2) -> 62.917878 | S95: =VEHICLE!C$47*9.81*SIN(RADIANS(H95)) -> 87.953197 | T95: =SUM(Q95:S95)+O95 -> 707.4218 | U95: =ABS(((+T95)*(+M95))/1000) -> 8.9517373 | V95: =((VEHICLE!C$12*1000)-U95*1000)/1000 -> 4.4710815 | W95: =U95 -> 8.9517373 | X95: =ABS((W95*1000)/((2*PI()*K95)/60)) -> 14.247132 | Y95: =ROUNDUP(X95,0) -> 15 | Z95: =T95 -> 707.4218 | AA95: =SUM(Z$4:Z95) -> 25718.497 | AB95: =INDEX(BSFC!D$5:AD$27,MATCH('DUTY CYCLE'!Y95,BSFC!C$5:C$27,0),MATCH('DUTY CYCLE'!K95,BSFC!D$28:AD$28,0)) -> 364.39564 | AC95: =U95*AB95/3600 -> 0.9061039 | AD95: =AC95*(3.09*1000) -> 2799.8611 | AE95: =0.5*VEHICLE!C$47*('DUTY CYCLE'!M95^2)/1000 -> 45.421715 | AF95: =Z95+AE95 -> 752.84352
B96: 92 | D96: MUD | E96: =IF(H96>0,"UPHILL",IF(H96<0,"DOWNHILL",IF(H96=0,"FLAT",0))) -> UPHILL | F96: 4.6 | G96: =F96-F95 -> 0.2 | H96: =DEGREES(ATAN(G96/J96)) -> 0.90549818 | I96: =SUM(M$4:M96) -> 870.94887 | J96: =I96-I95 -> 12.654031 | K96: 6000 | L96: 3 | M96: =VLOOKUP(K96,VEHICLE!I$30:L$54,MATCH(L96,VEHICLE!I$30:L$30,0),0) -> 12.654031 | N96: =M96-M95 -> 0 | O96: =IF(L96=1,VEHICLE!C$68*'DUTY CYCLE'!N96,IF(L96=2,VEHICLE!C$69*'DUTY CYCLE'!N96,IF('DUTY CYCLE'!L96=3,VEHICLE!C$70*'DUTY CYCLE'!N96))) -> 0 | P96: =VLOOKUP(D96,TRACK!B$3:C$5,2) -> 0.1 | Q96: =P96*VEHICLE!C$47*9.81 -> 556.55073 | R96: =0.5*VEHICLE!C$20*VEHICLE!C$28*1.2*((M96)^2) -> 62.917878 | S96: =VEHICLE!C$47*9.81*SIN(RADIANS(H96)) -> 87.953197 | T96: =SUM(Q96:S96)+O96 -> 707.4218 | U96: =ABS(((+T96)*(+M96))/1000) -> 8.9517373 | V96: =((VEHICLE!C$12*1000)-U96*1000)/1000 -> 4.4710815 | W96: =U96 -> 8.9517373 | X96: =ABS((W96*1000)/((2*PI()*K96)/60)) -> 14.247132 | Y96: =ROUNDUP(X96,0) -> 15 | Z96: =T96 -> 707.4218 | AA96: =SUM(Z$4:Z96) -> 26425.919 | AB96: =INDEX(BSFC!D$5:AD$27,MATCH('DUTY CYCLE'!Y96,BSFC!C$5:C$27,0),MATCH('DUTY CYCLE'!K96,BSFC!D$28:AD$28,0)) -> 364.39564 | AC96: =U96*AB96/3600 -> 0.9061039 | AD96: =AC96*(3.09*1000) -> 2799.8611 | AE96: =0.5*VEHICLE!C$47*('DUTY CYCLE'!M96^2)/1000 -> 45.421715 | AF96: =Z96+AE96 -> 752.84352
B97: 93 | C97: TURN 10 | D97: MUD | E97: =IF(H97>0,"UPHILL",IF(H97<0,"DOWNHILL",IF(H97=0,"FLAT",0))) -> FLAT | F97: 4.6 | G97: =F97-F96 -> 0 | H97: =DEGREES(ATAN(G97/J97)) -> 0 | I97: =SUM(M$4:M97) -> 881.42117 | J97: =I97-I96 -> 10.472301 | K97: 6500 | L97: 2 | M97: =VLOOKUP(K97,VEHICLE!I$30:L$54,MATCH(L97,VEHICLE!I$30:L$30,0),0) -> 10.472301 | N97: =M97-M96 -> -2.1817294 | O97: =IF(L97=1,VEHICLE!C$68*'DUTY CYCLE'!N97,IF(L97=2,VEHICLE!C$69*'DUTY CYCLE'!N97,IF('DUTY CYCLE'!L97=3,VEHICLE!C$70*'DUTY CYCLE'!N97))) -> -1282.3812 | P97: =VLOOKUP(D97,TRACK!B$3:C$5,2) -> 0.1 | Q97: =P97*VEHICLE!C$47*9.81 -> 556.55073 | R97: =0.5*VEHICLE!C$20*VEHICLE!C$28*1.2*((M97)^2) -> 43.092387 | S97: =VEHICLE!C$47*9.81*SIN(RADIANS(H97)) -> 0 | T97: =SUM(Q97:S97)+O97 -> -682.73804 | U97: =ABS(((+T97)*(+M97))/1000) -> 7.1498385 | V97: =((VEHICLE!C$12*1000)-U97*1000)/1000 -> 6.2729803 | W97: =U97 -> 7.1498385 | X97: =ABS((W97*1000)/((2*PI()*K97)/60)) -> 10.503989 | Y97: =ROUNDUP(X97,0) -> 11 | Z97: =T97 -> -682.73804 | AA97: =SUM(Z$4:Z97) -> 25743.181 | AB97: =INDEX(BSFC!D$5:AD$27,MATCH('DUTY CYCLE'!Y97,BSFC!C$5:C$27,0),MATCH('DUTY CYCLE'!K97,BSFC!D$28:AD$28,0)) -> 541.58297 | AC97: =U97*AB97/3600 -> 1.0756197 | AD97: =AC97*(3.09*1000) -> 3323.6647 | AE97: =0.5*VEHICLE!C$47*('DUTY CYCLE'!M97^2)/1000 -> 31.109284 | AF97: =Z97+AE97 -> -651.62876
B98: 94 | D98: MUD | E98: =IF(H98>0,"UPHILL",IF(H98<0,"DOWNHILL",IF(H98=0,"FLAT",0))) -> FLAT | F98: 4.6 | G98: =F98-F97 -> 0 | H98: =DEGREES(ATAN(G98/J98)) -> 0 | I98: =SUM(M$4:M98) -> 890.68513 | J98: =I98-I97 -> 9.2639589 | K98: 5750 | L98: 2 | M98: =VLOOKUP(K98,VEHICLE!I$30:L$54,MATCH(L98,VEHICLE!I$30:L$30,0),0) -> 9.2639589 | N98: =M98-M97 -> -1.2083425 | O98: =IF(L98=1,VEHICLE!C$68*'DUTY CYCLE'!N98,IF(L98=2,VEHICLE!C$69*'DUTY CYCLE'!N98,IF('DUTY CYCLE'!L98=3,VEHICLE!C$70*'DUTY CYCLE'!N98))) -> -710.24187 | P98: =VLOOKUP(D98,TRACK!B$3:C$5,2) -> 0.1 | Q98: =P98*VEHICLE!C$47*9.81 -> 556.55073 | R98: =0.5*VEHICLE!C$20*VEHICLE!C$28*1.2*((M98)^2) -> 33.721705 | S98: =VEHICLE!C$47*9.81*SIN(RADIANS(H98)) -> 0 | T98: =SUM(Q98:S98)+O98 -> -119.96944 | U98: =ABS(((+T98)*(+M98))/1000) -> 1.1113919 | V98: =((VEHICLE!C$12*1000)-U98*1000)/1000 -> 12.311427 | W98: =U98 -> 1.1113919 | X98: =ABS((W98*1000)/((2*PI()*K98)/60)) -> 1.8457411 | Y98: =ROUNDUP(X98,0) -> 2 | Z98: =T98 -> -119.96944 | AA98: =SUM(Z$4:Z98) -> 25623.211 | AB98: =INDEX(BSFC!D$5:AD$27,MATCH('DUTY CYCLE'!Y98,BSFC!C$5:C$27,0),MATCH('DUTY CYCLE'!K98,BSFC!D$28:AD$28,0)) -> 888.23566 | AC98: =U98*AB98/3600 -> 0.27421609 | AD98: =AC98*(3.09*1000) -> 847.32773 | AE98: =0.5*VEHICLE!C$47*('DUTY CYCLE'!M98^2)/1000 -> 24.344395 | AF98: =Z98+AE98 -> -95.625042
B99: 95 | D99: MUD | E99: =IF(H99>0,"UPHILL",IF(H99<0,"DOWNHILL",IF(H99=0,"FLAT",0))) -> FLAT | F99: 4.6 | G99: =F99-F98 -> 0 | H99: =DEGREES(ATAN(G99/J99)) -> 0 | I99: =SUM(M$4:M99) -> 899.94909 | J99: =I99-I98 -> 9.2639589 | K99: 5750 | L99: 2 | M99: =VLOOKUP(K99,VEHICLE!I$30:L$54,MATCH(L99,VEHICLE!I$30:L$30,0),0) -> 9.2639589 | N99: =M99-M98 -> 0 | O99: =IF(L99=1,VEHICLE!C$68*'DUTY CYCLE'!N99,IF(L99=2,VEHICLE!C$69*'DUTY CYCLE'!N99,IF('DUTY CYCLE'!L99=3,VEHICLE!C$70*'DUTY CYCLE'!N99))) -> 0 | P99: =VLOOKUP(D99,TRACK!B$3:C$5,2) -> 0.1 | Q99: =P99*VEHICLE!C$47*9.81 -> 556.55073 | R99: =0.5*VEHICLE!C$20*VEHICLE!C$28*1.2*((M99)^2) -> 33.721705 | S99: =VEHICLE!C$47*9.81*SIN(RADIANS(H99)) -> 0 | T99: =SUM(Q99:S99)+O99 -> 590.27244 | U99: =ABS(((+T99)*(+M99))/1000) -> 5.4682596 | V99: =((VEHICLE!C$12*1000)-U99*1000)/1000 -> 7.9545592 | W99: =U99 -> 5.4682596 | X99: =ABS((W99*1000)/((2*PI()*K99)/60)) -> 9.0813969 | Y99: =ROUNDUP(X99,0) -> 10 | Z99: =T99 -> 590.27244 | AA99: =SUM(Z$4:Z99) -> 26213.484 | AB99: =INDEX(BSFC!D$5:AD$27,MATCH('DUTY CYCLE'!Y99,BSFC!C$5:C$27,0),MATCH('DUTY CYCLE'!K99,BSFC!D$28:AD$28,0)) -> 416.79476 | AC99: =U99*AB99/3600 -> 0.63309497 | AD99: =AC99*(3.09*1000) -> 1956.2635 | AE99: =0.5*VEHICLE!C$47*('DUTY CYCLE'!M99^2)/1000 -> 24.344395 | AF99: =Z99+AE99 -> 614.61683
B100: 96 | D100: MUD | E100: =IF(H100>0,"UPHILL",IF(H100<0,"DOWNHILL",IF(H100=0,"FLAT",0))) -> FLAT | F100: 4.6 | G100: =F100-F99 -> 0 | H100: =DEGREES(ATAN(G100/J100)) -> 0 | I100: =SUM(M$4:M100) -> 908.81026 | J100: =I100-I99 -> 8.861178 | K100: 5500 | L100: 2 | M100: =VLOOKUP(K100,VEHICLE!I$30:L$54,MATCH(L100,VEHICLE!I$30:L$30,0),0) -> 8.861178 | N100: =M100-M99 -> -0.40278082 | O100: =IF(L100=1,VEHICLE!C$68*'DUTY CYCLE'!N100,IF(L100=2,VEHICLE!C$69*'DUTY CYCLE'!N100,IF('DUTY CYCLE'!L100=3,VEHICLE!C$70*'DUTY CYCLE'!N100))) -> -236.74729 | P100: =VLOOKUP(D100,TRACK!B$3:C$5,2) -> 0.1 | Q100: =P100*VEHICLE!C$47*9.81 -> 556.55073 | R100: =0.5*VEHICLE!C$20*VEHICLE!C$28*1.2*((M100)^2) -> 30.853129 | S100: =VEHICLE!C$47*9.81*SIN(RADIANS(H100)) -> 0 | T100: =SUM(Q100:S100)+O100 -> 350.65657 | U100: =ABS(((+T100)*(+M100))/1000) -> 3.1072303 | V100: =((VEHICLE!C$12*1000)-U100*1000)/1000 -> 10.315589 | W100: =U100 -> 3.1072303 | X100: =ABS((W100*1000)/((2*PI()*K100)/60)) -> 5.3948843 | Y100: =ROUNDUP(X100,0) -> 6 | Z100: =T100 -> 350.65657 | AA100: =SUM(Z$4:Z100) -> 26564.14 | AB100: =INDEX(BSFC!D$5:AD$27,MATCH('DUTY CYCLE'!Y100,BSFC!C$5:C$27,0),MATCH('DUTY CYCLE'!K100,BSFC!D$28:AD$28,0)) -> 530.98202 | AC100: =U100*AB100/3600 -> 0.45830095 | AD100: =AC100*(3.09*1000) -> 1416.1499 | AE100: =0.5*VEHICLE!C$47*('DUTY CYCLE'!M100^2)/1000 -> 22.273511 | AF100: =Z100+AE100 -> 372.93008
B101: 97 | D101: MUD | E101: =IF(H101>0,"UPHILL",IF(H101<0,"DOWNHILL",IF(H101=0,"FLAT",0))) -> FLAT | F101: 4.6 | G101: =F101-F100 -> 0 | H101: =DEGREES(ATAN(G101/J101)) -> 0 | I101: =SUM(M$4:M101) -> 917.26866 | J101: =I101-I100 -> 8.4583972 | K101: 5250 | L101: 2 | M101: =VLOOKUP(K101,VEHICLE!I$30:L$54,MATCH(L101,VEHICLE!I$30:L$30,0),0) -> 8.4583972 | N101: =M101-M100 -> -0.40278082 | O101: =IF(L101=1,VEHICLE!C$68*'DUTY CYCLE'!N101,IF(L101=2,VEHICLE!C$69*'DUTY CYCLE'!N101,IF('DUTY CYCLE'!L101=3,VEHICLE!C$70*'DUTY CYCLE'!N101))) -> -236.74729 | P101: =VLOOKUP(D101,TRACK!B$3:C$5,2) -> 0.1 | Q101: =P101*VEHICLE!C$47*9.81 -> 556.55073 | R101: =0.5*VEHICLE!C$20*VEHICLE!C$28*1.2*((M101)^2) -> 28.112045 | S101: =VEHICLE!C$47*9.81*SIN(RADIANS(H101)) -> 0 | T101: =SUM(Q101:S101)+O101 -> 347.91548 | U101: =ABS(((+T101)*(+M101))/1000) -> 2.9428074 | V101: =((VEHICLE!C$12*1000)-U101*1000)/1000 -> 10.480011 | W101: =U101 -> 2.9428074 | X101: =ABS((W101*1000)/((2*PI()*K101)/60)) -> 5.3527124 | Y101: =ROUNDUP(X101,0) -> 6 | Z101: =T101 -> 347.91548 | AA101: =SUM(Z$4:Z101) -> 26912.056 | AB101: =INDEX(BSFC!D$5:AD$27,MATCH('DUTY CYCLE'!Y101,BSFC!C$5:C$27,0),MATCH('DUTY CYCLE'!K101,BSFC!D$28:AD$28,0)) -> 537.86208 | AC101: =U101*AB101/3600 -> 0.43967347 | AD101: =AC101*(3.09*1000) -> 1358.591 | AE101: =0.5*VEHICLE!C$47*('DUTY CYCLE'!M101^2)/1000 -> 20.294666 | AF101: =Z101+AE101 -> 368.21015
B102: 98 | C102: STRAIGHT 8 | D102: MUD | E102: =IF(H102>0,"UPHILL",IF(H102<0,"DOWNHILL",IF(H102=0,"FLAT",0))) -> UPHILL | F102: 4.9 | G102: =F102-F101 -> 0.3 | H102: =DEGREES(ATAN(G102/J102)) -> 1.9390392 | I102: =SUM(M$4:M102) -> 926.12984 | J102: =I102-I101 -> 8.861178 | K102: 5500 | L102: 2 | M102: =VLOOKUP(K102,VEHICLE!I$30:L$54,MATCH(L102,VEHICLE!I$30:L$30,0),0) -> 8.861178 | N102: =M102-M101 -> 0.40278082 | O102: =IF(L102=1,VEHICLE!C$68*'DUTY CYCLE'!N102,IF(L102=2,VEHICLE!C$69*'DUTY CYCLE'!N102,IF('DUTY CYCLE'!L102=3,VEHICLE!C$70*'DUTY CYCLE'!N102))) -> 236.74729 | P102: =VLOOKUP(D102,TRACK!B$3:C$5,2) -> 0.1 | Q102: =P102*VEHICLE!C$47*9.81 -> 556.55073 | R102: =0.5*VEHICLE!C$20*VEHICLE!C$28*1.2*((M102)^2) -> 30.853129 | S102: =VEHICLE!C$47*9.81*SIN(RADIANS(H102)) -> 188.31538 | T102: =SUM(Q102:S102)+O102 -> 1012.4665 | U102: =ABS(((+T102)*(+M102))/1000) -> 8.9716462 | V102: =((VEHICLE!C$12*1000)-U102*1000)/1000 -> 4.4511726 | W102: =U102 -> 8.9716462 | X102: =ABS((W102*1000)/((2*PI()*K102)/60)) -> 15.576893 | Y102: =ROUNDUP(X102,0) -> 16 | Z102: =T102 -> 1012.4665 | AA102: =SUM(Z$4:Z102) -> 27924.522 | AB102: =INDEX(BSFC!D$5:AD$27,MATCH('DUTY CYCLE'!Y102,BSFC!C$5:C$27,0),MATCH('DUTY CYCLE'!K102,BSFC!D$28:AD$28,0)) -> 378.97824 | AC102: =U102*AB102/3600 -> 0.94446073 | AD102: =AC102*(3.09*1000) -> 2918.3837 | AE102: =0.5*VEHICLE!C$47*('DUTY CYCLE'!M102^2)/1000 -> 22.273511 | AF102: =Z102+AE102 -> 1034.74
...

Sheet GRAPHS
