Workbook

Sheet 1 Actual Cash Flows
B3: ACTUAL CASH FLOWS: SIX-MONTHS
B5: Enter your full name | I5: Key:
B6: Enter your company name | J6: These cells auto-calculate and are locked so you can't edit them.
B7: Enter date | J7: Insert your own text/numbers into these cells as relevant.
B10: Select your starting month:
E11: MONTHS
B12: Cash in-flows | C12: Description (as required) | D12: Starting point | E12: 1 | F12: 2 | G12: 3 | H12: 4 | I12: 5 | J12: 6 | K12: TOTAL
B13: Total sales revenue | D13: 0 | E13: 0 | F13: 0 | G13: 0 | H13: 0 | I13: 0 | J13: 0 | K13: =SUM(D13:J13) -> 0
B14: Sources of investment | D14: 0 | E14: 0 | F14: 0 | G14: 0 | H14: 0 | I14: 0 | J14: 0 | K14: =SUM(D14:J14) -> 0
B15: Debt-based finance | D15: 0 | E15: 0 | F15: 0 | G15: 0 | H15: 0 | I15: 0 | J15: 0 | K15: =SUM(D15:J15) -> 0
B16: Enter other | D16: 0 | E16: 0 | F16: 0 | G16: 0 | H16: 0 | I16: 0 | J16: 0 | K16: =SUM(D16:J16) -> 0
B17: Enter other | D17: 0 | E17: 0 | F17: 0 | G17: 0 | H17: 0 | I17: 0 | J17: 0 | K17: =SUM(D17:J17) -> 0
B18: Enter other | D18: 0 | E18: 0 | F18: 0 | G18: 0 | H18: 0 | I18: 0 | J18: 0 | K18: =SUM(D18:J18) -> 0
B19: Total cash in-flows (A) | D19: =SUM(D13:D18) -> 0 | E19: =SUM(E13:E18) -> 0 | F19: =SUM(F13:F18) -> 0 | G19: =SUM(G13:G18) -> 0 | H19: =SUM(H13:H18) -> 0 | I19: =SUM(I13:I18) -> 0 | J19: =SUM(J13:J18) -> 0 | K19: =SUM(D19:J19) -> 0
E21: MONTHS
B22: Cash out-flows | C22: Description (as required) | D22: Starting point | E22: 1 | F22: 2 | G22: 3 | H22: 4 | I22: 5 | J22: 6 | K22: TOTAL
B23: Cost of sales | D23: 0 | E23: 0 | F23: 0 | G23: 0 | H23: 0 | I23: 0 | J23: 0 | K23: =SUM(D23:J23) -> 0
B24: Rent or premises costs | D24: 0 | E24: 0 | F24: 0 | G24: 0 | H24: 0 | I24: 0 | J24: 0 | K24: =SUM(D24:J24) -> 0
B25: Business rates for your business premises | D25: 0 | E25: 0 | F25: 0 | G25: 0 | H25: 0 | I25: 0 | J25: 0 | K25: =SUM(D25:J25) -> 0
B26: Utilities (gas, electricity, water) | D26: 0 | E26: 0 | F26: 0 | G26: 0 | H26: 0 | I26: 0 | J26: 0 | K26: =SUM(D26:J26) -> 0
B27: Insurance | D27: 0 | E27: 0 | F27: 0 | G27: 0 | H27: 0 | I27: 0 | J27: 0 | K27: =SUM(D27:J27) -> 0
B28: Telephone and internet | D28: 0 | E28: 0 | F28: 0 | G28: 0 | H28: 0 | I28: 0 | J28: 0 | K28: =SUM(D28:J28) -> 0
B29: Marketing and advertising expenses | D29: 0 | E29: 0 | F29: 0 | G29: 0 | H29: 0 | I29: 0 | J29: 0 | K29: =SUM(D29:J29) -> 0
B30: Vehicle running costs | D30: 0 | E30: 0 | F30: 0 | G30: 0 | H30: 0 | I30: 0 | J30: 0 | K30: =SUM(D30:J30) -> 0
B31: Equipment purchase or leasing | D31: 0 | E31: 0 | F31: 0 | G31: 0 | H31: 0 | I31: 0 | J31: 0 | K31: =SUM(D31:J31) -> 0
B32: Postage, printing, stationery | D32: 0 | E32: 0 | F32: 0 | G32: 0 | H32: 0 | I32: 0 | J32: 0 | K32: =SUM(D32:J32) -> 0
B33: Transport and delivery | D33: 0 | E33: 0 | F33: 0 | G33: 0 | H33: 0 | I33: 0 | J33: 0 | K33: =SUM(D33:J33) -> 0
B34: Professional fees (legal, accounting etc.) | D34: 0 | E34: 0 | F34: 0 | G34: 0 | H34: 0 | I34: 0 | J34: 0 | K34: =SUM(D34:J34) -> 0
B35: Your salary | D35: n/a | E35: 0 | F35: 0 | G35: 0 | H35: 0 | I35: 0 | J35: 0 | K35: =SUM(D35:J35) -> 0
B36: Staff costs | D36: 0 | E36: 0 | F36: 0 | G36: 0 | H36: 0 | I36: 0 | J36: 0 | K36: =SUM(D36:J36) -> 0
B37: Start Up Loan monthly repayment* | D37: n/a | E37: 0 | F37: =E37 -> 0 | G37: =E37 -> 0 | H37: =E37 -> 0 | I37: =E37 -> 0 | J37: =E37 -> 0 | K37: =SUM(D37:J37) -> 0
B38: Enter other | D38: 0 | E38: 0 | F38: 0 | G38: 0 | H38: 0 | I38: 0 | J38: 0 | K38: =SUM(D38:J38) -> 0
B39: Enter other | D39: 0 | E39: 0 | F39: 0 | G39: 0 | H39: 0 | I39: 0 | J39: 0 | K39: =SUM(D39:J39) -> 0
B40: Enter other | D40: 0 | E40: 0 | F40: 0 | G40: 0 | H40: 0 | I40: 0 | J40: 0 | K40: =SUM(D40:J40) -> 0
B41: Enter other | D41: 0 | E41: 0 | F41: 0 | G41: 0 | H41: 0 | I41: 0 | J41: 0 | K41: =SUM(D41:J41) -> 0
B42: Enter other | D42: 0 | E42: 0 | F42: 0 | G42: 0 | H42: 0 | I42: 0 | J42: 0 | K42: =SUM(D42:J42) -> 0
B43: Total cash out-flows (B) | D43: =SUM(D23:D42) -> 0 | E43: =SUM(E23:E42) -> 0 | F43: =SUM(F23:F42) -> 0 | G43: =SUM(G23:G42) -> 0 | H43: =SUM(H23:H42) -> 0 | I43: =SUM(I23:I42) -> 0 | J43: =SUM(J23:J42) -> 0 | K43: =SUM(D43:J43) -> 0
C45: Your net cash flow (A-B) | D45: =D19-D43 -> 0 | E45: =E19-E43 -> 0 | F45: =F19-F43 -> 0 | G45: =G19-G43 -> 0 | H45: =H19-H43 -> 0 | I45: =I19-I43 -> 0 | J45: =J19-J43 -> 0 | K45: =K19-K43 -> 0
C47: Your monthly opening business bank account balance | D47: 0 | E47: =D49 -> 0 | F47: =E49 -> 0 | G47: =F49 -> 0 | H47: =G49 -> 0 | I47: =H49 -> 0 | J47: =I49 -> 0 | K47: =J49 -> 0
C49: Your closing cash position | D49: =D45+D47 -> 0 | E49: =E45+E47 -> 0 | F49: =F45+F47 -> 0 | G49: =G45+G47 -> 0 | H49: =H45+H47 -> 0 | I49: =I45+I47 -> 0 | J49: =J45+J47 -> 0 | K49: =K47 -> 0
...

Sheet Cash Flow Forecast
B3: 12-MONTH CASH FLOW FORECAST
E5: MONTHS
B6: Cash in | C6: Description (as required) | D6: Starting point | E6: 1 | F6: 2 | G6: 3 | H6: 4 | I6: 5 | J6: 6 | K6: 7 | L6: 8 | M6: 9 | N6: 10 | O6: 11 | P6: 12 | Q6: TOTAL
B7: Loan- start up capital | D7: 0 | E7: 0 | F7: 0 | G7: 0 | H7: 0 | I7: 0 | J7: 0 | K7: 0 | L7: 0 | M7: 0 | N7: 0 | O7: 0 | P7: 0 | Q7: =SUM(D7:P7) -> 0
B8: Sales (total sales of product and/or services) | D8: 0 | E8: 0 | F8: 0 | G8: 0 | H8: 0 | I8: 0 | J8: 0 | K8: 0 | L8: 0 | M8: 0 | N8: 0 | O8: 0 | P8: 0 | Q8: =SUM(D8:P8) -> 0
B9: Other | D9: 0 | E9: 0 | F9: 0 | G9: 0 | H9: 0 | I9: 0 | J9: 0 | K9: 0 | L9: 0 | M9: 0 | N9: 0 | O9: 0 | P9: 0 | Q9: =SUM(D9:P9) -> 0
B10: Total cash in-flows (A) | D10: 0 | E10: =SUM(E7:E9) -> 0 | F10: =SUM(F7:F9) -> 0 | G10: =SUM(G7:G9) -> 0 | H10: =SUM(H7:H9) -> 0 | I10: =SUM(I7:I9) -> 0 | J10: =SUM(J7:J9) -> 0 | K10: =SUM(K7:K9) -> 0 | L10: =SUM(L7:L9) -> 0 | ... P10: =SUM(P7:P9) -> 0 | Q10: =SUM(D10:P10) -> 0
E13: MONTHS
B14: Cash out-expenses | C14: Description (as required) | E14: 1 | F14: 2 | G14: 3 | H14: 4 | I14: 5 | J14: 6 | K14: 7 | L14: 8 | M14: 9 | N14: 10 | O14: 11 | P14: 12 | Q14: TOTAL
B15: Rent or premises costs | E15: 0 | F15: 0 | G15: 0 | H15: 0 | I15: 0 | J15: 0 | K15: 0 | L15: 0 | M15: 0 | N15: 0 | O15: 0 | P15: 0 | Q15: =SUM(D15:P15) -> 0
B16: Business rates for your business premises | E16: 0 | F16: 0 | G16: 0 | H16: 0 | I16: 0 | J16: 0 | K16: 0 | L16: 0 | M16: 0 | N16: 0 | O16: 0 | P16: 0 | Q16: =SUM(D16:P16) -> 0
B17: Utilities (gas, electricity, water) | E17: 0 | F17: 0 | G17: 0 | H17: 0 | I17: 0 | J17: 0 | K17: 0 | L17: 0 | M17: 0 | N17: 0 | O17: 0 | P17: 0 | Q17: =SUM(D17:P17) -> 0
B18: Insurance | E18: 0 | F18: 0 | G18: 0 | H18: 0 | I18: 0 | J18: 0 | K18: 0 | L18: 0 | M18: 0 | N18: 0 | O18: 0 | P18: 0 | Q18: =SUM(D18:P18) -> 0
B19: Telephone and internet | E19: 0 | F19: 0 | G19: 0 | H19: 0 | I19: 0 | J19: 0 | K19: 0 | L19: 0 | M19: 0 | N19: 0 | O19: 0 | P19: 0 | Q19: =SUM(D19:P19) -> 0
B20: Marketing and advertising expenses | E20: 0 | F20: 0 | G20: 0 | H20: 0 | I20: 0 | J20: 0 | K20: 0 | L20: 0 | M20: 0 | N20: 0 | O20: 0 | P20: 0 | Q20: =SUM(D20:P20) -> 0
B21: Vehicle running costs | E21: 0 | F21: 0 | G21: 0 | H21: 0 | I21: 0 | J21: 0 | K21: 0 | L21: 0 | M21: 0 | N21: 0 | O21: 0 | P21: 0 | Q21: =SUM(D21:P21) -> 0
B22: Equipment purchase or leasing | E22: 0 | F22: 0 | G22: 0 | H22: 0 | I22: 0 | J22: 0 | K22: 0 | L22: 0 | M22: 0 | N22: 0 | O22: 0 | P22: 0 | Q22: =SUM(D22:P22) -> 0
B23: Postage, printing, stationery | E23: 0 | F23: 0 | G23: 0 | H23: 0 | I23: 0 | J23: 0 | K23: 0 | L23: 0 | M23: 0 | N23: 0 | O23: 0 | P23: 0 | Q23: =SUM(D23:P23) -> 0
B24: Transport and delivery | E24: 0 | F24: 0 | G24: 0 | H24: 0 | I24: 0 | J24: 0 | K24: 0 | L24: 0 | M24: 0 | N24: 0 | O24: 0 | P24: 0 | Q24: =SUM(D24:P24) -> 0
B25: Professional fees (legal, accounting etc.) | E25: 0 | F25: 0 | G25: 0 | H25: 0 | I25: 0 | J25: 0 | K25: 0 | L25: 0 | M25: 0 | N25: 0 | O25: 0 | P25: 0 | Q25: =SUM(D25:P25) -> 0
B26: Cost of sales (Cost of product) | E26: 0 | F26: 0 | G26: 0 | H26: 0 | I26: 0 | J26: 0 | K26: 0 | L26: 0 | M26: 0 | N26: 0 | O26: 0 | P26: 0 | Q26: 0
B27: Wages your own | E27: 0 | F27: 0 | G27: 0 | H27: 0 | I27: 0 | J27: 0 | K27: 0 | L27: 0 | M27: 0 | N27: 0 | O27: 0 | P27: 0 | Q27: 0
B28: Staff wages | E28: 0 | F28: 0 | G28: 0 | H28: 0 | I28: 0 | J28: 0 | K28: 0 | L28: 0 | M28: 0 | N28: 0 | O28: 0 | P28: 0 | Q28: 0
B29: Any other | E29: 0 | F29: 0 | G29: 0 | H29: 0 | I29: 0 | J29: 0 | K29: 0 | L29: 0 | M29: 0 | N29: 0 | O29: 0 | P29: 0 | Q29: =SUM(D29:P29) -> 0
B30: Any other | E30: 0 | F30: 0 | G30: 0 | H30: 0 | I30: 0 | J30: 0 | K30: 0 | L30: 0 | M30: 0 | N30: 0 | O30: 0 | P30: 0 | Q30: =SUM(D30:P30) -> 0
B31: Total cash out-flows (B) | E31: =SUM(E15:E30) -> 0 | F31: =SUM(F15:F30) -> 0 | G31: =SUM(G15:G30) -> 0 | H31: =SUM(H15:H30) -> 0 | I31: =SUM(I15:I30) -> 0 | J31: =SUM(J15:J30) -> 0 | K31: =SUM(K15:K30) -> 0 | L31: =SUM(L15:L30) -> 0 | ... P31: =SUM(P15:P30) -> 0 | Q31: =SUM(D31:P31) -> 0
C33: Your net cash flow (A-B) | D33: =D10-D31 -> 0 | E33: =E10-E31 -> 0 | F33: =F10-F31 -> 0 | G33: =G10-G31 -> 0 | H33: =H10-H31 -> 0 | I33: =I10-I31 -> 0 | J33: =J10-J31 -> 0 | K33: =K10-K31 -> 0 | ... Q33: =Q10-Q31 -> 0

Sheet Months
A1: January
A2: February
A3: March
A4: April
A5: May
A6: June
A7: July
A8: August
A9: September
A10: October
A11: November
A12: December

Sheet STRESS TESTING (internal use)
B1: Stress Test (internal use only)
D3: Starting point | E3: 1 | F3: 2 | G3: 3 | H3: 4 | I3: 5 | J3: 6 | K3: 7 | L3: 8 | M3: 9 | N3: 10 | O3: 11 | P3: 12 | Q3: TOTAL
B4: 0 | C4: Total cash in-flows STRESS TEST | D4: N/A | E4: =$B$4*'Cash Flow Forecast'!E7 -> 0 | F4: =$B$4*'Cash Flow Forecast'!F7 -> 0 | G4: =$B$4*'Cash Flow Forecast'!G7 -> 0 | H4: =$B$4*'Cash Flow Forecast'!H7 -> 0 | I4: =$B$4*'Cash Flow Forecast'!I7 -> 0 | J4: =$B$4*'Cash Flow Forecast'!J7 -> 0 | K4: =$B$4*'Cash Flow Forecast'!K7 -> 0 | L4: =$B$4*'Cash Flow Forecast'!L7 -> 0 | ... P4: =$B$4*'Cash Flow Forecast'!P7 -> 0 | Q4: =SUM(E4:P4) -> 0
B5: 0 | C5: Total COGS STRESS TEST | D5: N/A | E5: =$B$5*'Cash Flow Forecast'!#REF! -> #REF! | F5: =$B$5*'Cash Flow Forecast'!#REF! -> #REF! | G5: =$B$5*'Cash Flow Forecast'!#REF! -> #REF! | H5: =$B$5*'Cash Flow Forecast'!#REF! -> #REF! | I5: =$B$5*'Cash Flow Forecast'!#REF! -> #REF! | J5: =$B$5*'Cash Flow Forecast'!#REF! -> #REF! | K5: =$B$5*'Cash Flow Forecast'!#REF! -> #REF! | L5: =$B$5*'Cash Flow Forecast'!#REF! -> #REF! | ... P5: =$B$5*'Cash Flow Forecast'!#REF! -> #REF! | Q5: =SUM(E5:P5) -> #REF!
B6: Other Costs | D6: N/A | E6: =SUM('Cash Flow Forecast'!E15:E30) -> 0 | F6: =SUM('Cash Flow Forecast'!F15:F30) -> 0 | G6: =SUM('Cash Flow Forecast'!G15:G30) -> 0 | H6: =SUM('Cash Flow Forecast'!H15:H30) -> 0 | I6: =SUM('Cash Flow Forecast'!I15:I30) -> 0 | J6: =SUM('Cash Flow Forecast'!J15:J30) -> 0 | K6: =SUM('Cash Flow Forecast'!K15:K30) -> 0 | L6: =SUM('Cash Flow Forecast'!L15:L30) -> 0 | ... P6: =SUM('Cash Flow Forecast'!P15:P30) -> 0 | Q6: =SUM(E6:P6) -> 0
B7: Net CashFlow | D7: N/A | E7: =E4-E5-E6 -> #REF! | F7: =F4-F5-F6 -> #REF! | G7: =G4-G5-G6 -> #REF! | H7: =H4-H5-H6 -> #REF! | I7: =I4-I5-I6 -> #REF! | J7: =J4-J5-J6 -> #REF! | K7: =K4-K5-K6 -> #REF! | L7: =L4-L5-L6 -> #REF! | ... P7: =P4-P5-P6 -> #REF! | Q7: =SUM(E7:P7) -> #REF!
B8: Your closing cash position STRESS TEST | D8: ='Cash Flow Forecast'!D10 -> 0 | E8: =D8++E7 -> #REF! | F8: =E8++F7 -> #REF! | G8: =F8++G7 -> #REF! | H8: =G8++H7 -> #REF! | I8: =H8++I7 -> #REF! | J8: =I8++J7 -> #REF! | K8: =J8++K7 -> #REF! | L8: =K8++L7 -> #REF! | ... Q8: =P8++Q7 -> #REF!
