Workbook

Sheet yamaha r6 gearbox wheelspeed
B2: =Geometry!B2 -> Yamaha R6 2008
G4: gearbox wheelspeed calculator | Q4: tyre diamter size calculator
G5: gear | H5: input teeth | I5: output teeth | J5: ratio | K5: Max Speed Km/h | L5: Max Speed m/s | M5: dropped revs | N5: actual revs drop | O5: max rpm | Q5: rear tyre width (mm) | R5: =Geometry!I6 -> 180
G6: 1 | H6: 12 | I6: 31 | J6: =I6/H6 -> 2.5833333 | K6: =((O6*60*(H6/I6)*$R$10*($H$13/$I$13))*PI()/1000)*($H$14/$I$14) -> 124.12987 | O6: 15750 | Q6: rear tyre width (in) | R6: =R5/25.4 -> 7.0866142
G7: 2 | H7: 16 | I7: 32 | J7: =I7/H7 -> 2 | K7: =((O7*60*(H7/I7)*$R$10*($H$13/$I$13))*PI()/1000)*($H$14/$I$14) -> 160.33441 | M7: =O7*(H6/I6)*(I7/H7) -> 12193.548 | N7: =O6-M7 -> 3556.4516 | O7: 15750 | Q7: rear aspect ratio | R7: =Geometry!I8 -> 55
G8: 3 | H8: 18 | I8: 30 | J8: =I8/H8 -> 1.6666667 | K8: =((O8*60*(H8/I8)*$R$10*($H$13/$I$13))*PI()/1000)*($H$14/$I$14) -> 192.40129 | M8: =O8*(H7/I7)*(I8/H8) -> 13125 | N8: =O7-M8 -> 2625 | O8: 15750 | Q8: rear rim size (in) | R8: =Geometry!I9 -> 17
C9: bike image | G9: 4 | H9: 18 | I9: 26 | J9: =I9/H9 -> 1.4444444 | K9: =((O9*60*(H9/I9)*$R$10*($H$13/$I$13))*PI()/1000)*($H$14/$I$14) -> 222.00149 | M9: =O9*(H8/I8)*(I9/H9) -> 13650 | N9: =O8-M9 -> 2100 | O9: 15750 | Q9: rear rim radius (in) | R9: =R8/2 -> 8.5
G10: 5 | H10: 21 | I10: 27 | J10: =I10/H10 -> 1.2857143 | K10: =((O10*60*(H10/I10)*$R$10*($H$13/$I$13))*PI()/1000)*($H$14/$I$14) -> 249.40908 | M10: =O10*(H9/I9)*(I10/H10) -> 14019.231 | N10: =O9-M10 -> 1730.7692 | O10: 15750 | Q10: rear tyre diamter (m) | R10: =(((((R5/25.4)*(R7/100)+(R8/2))*2*PI())*25.4)/PI())/1000 -> 0.6298
G11: 6 | H11: 20 | I11: 23 | J11: =I11/H11 -> 1.15 | K11: =((O11*60*(H11/I11)*$R$10*($H$13/$I$13))*PI()/1000)*($H$14/$I$14) -> 278.84245 | M11: =O11*(H10/I10)*(I11/H11) -> 14087.5 | N11: =O10-M11 -> 1662.5 | O11: 15750 | Q11: rear tyre diameter (in) | R11: =R10*39.3701 -> 24.795289
G13: primary | H13: 41 | I13: 85 | J13: =I13/H13 -> 2.0731707
G14: final | H14: 16 | I14: 45 | J14: =I14/H14 -> 2.8125

Sheet Yamaha r6 shift point data
C2: =Geometry!B2 -> Yamaha R6 2008
C4: Power and Torque | I4: Wheel Speed (KM/H) | P4: Driving Force (N)
C5: RPM | D5: power (HP) | E5: torque (Lb.Ft) | F5: Power (KW) | G5: Torque (NM) | I5: gear 1 | J5: gear 2 | K5: gear 3 | L5: gear 4 | M5: gear 5 | N5: gear 6 | P5: gear 1 | Q5: gear 2 | R5: gear 3 | S5: gear 4 | T5: gear 5 | U5: gear 6
C6: 1000 | D6: 0 | E6: 0 | F6: =D6*0.7457 -> 0 | G6: =E6*1.356 -> 0 | I6: =($C6*60*('yamaha r6 gearbox wheelspeed'!$H$6/'yamaha r6 gearbox wheelspeed'!$I$6)*'yamaha r6 gearbox wheelspeed'!$R$10*PI()*('yamaha r6 gearbox wheelspeed'!$H$13/'yamaha r6 gearbox wheelspeed'!$I$13)/1000)*('yamaha r6 gearbox wheelspeed'!$H$14/'yamaha r6 gearbox wheelspeed'!$I$14) -> 7.8812614 | J6: =($C6*60*('yamaha r6 gearbox wheelspeed'!$H$7/'yamaha r6 gearbox wheelspeed'!$I$7)*'yamaha r6 gearbox wheelspeed'!$R$10*PI()*('yamaha r6 gearbox wheelspeed'!$H$13/'yamaha r6 gearbox wheelspeed'!$I$13)/1000)*('yamaha r6 gearbox wheelspeed'!$H$14/'yamaha r6 gearbox wheelspeed'!$I$14) -> 10.179963 | K6: =($C6*60*('yamaha r6 gearbox wheelspeed'!$H$8/'yamaha r6 gearbox wheelspeed'!$I$8)*'yamaha r6 gearbox wheelspeed'!$R$10*PI()*('yamaha r6 gearbox wheelspeed'!$H$13/'yamaha r6 gearbox wheelspeed'!$I$13)/1000)*('yamaha r6 gearbox wheelspeed'!$H$14/'yamaha r6 gearbox wheelspeed'!$I$14) -> 12.215955 | L6: =($C6*60*('yamaha r6 gearbox wheelspeed'!$H$9/'yamaha r6 gearbox wheelspeed'!$I$9)*'yamaha r6 gearbox wheelspeed'!$R$10*PI()*('yamaha r6 gearbox wheelspeed'!$H$13/'yamaha r6 gearbox wheelspeed'!$I$13)/1000)*('yamaha r6 gearbox wheelspeed'!$H$14/'yamaha r6 gearbox wheelspeed'!$I$14) -> 14.095333 | M6: =($C6*60*('yamaha r6 gearbox wheelspeed'!$H$10/'yamaha r6 gearbox wheelspeed'!$I$10)*'yamaha r6 gearbox wheelspeed'!$R$10*PI()*('yamaha r6 gearbox wheelspeed'!$H$13/'yamaha r6 gearbox wheelspeed'!$I$13)/1000)*('yamaha r6 gearbox wheelspeed'!$H$14/'yamaha r6 gearbox wheelspeed'!$I$14) -> 15.835497 | N6: =($C6*60*('yamaha r6 gearbox wheelspeed'!$H$11/'yamaha r6 gearbox wheelspeed'!$I$11)*'yamaha r6 gearbox wheelspeed'!$R$10*PI()*('yamaha r6 gearbox wheelspeed'!$H$13/'yamaha r6 gearbox wheelspeed'!$I$13)/1000)*('yamaha r6 gearbox wheelspeed'!$H$14/'yamaha r6 gearbox wheelspeed'!$I$14) -> 17.704283 | P6: =($F6*1000)/(I6*(1000/3600)) -> 0 | Q6: =($F6*1000)/(J6*(1000/3600)) -> 0 | R6: =($F6*1000)/(K6*(1000/3600)) -> 0 | S6: =($F6*1000)/(L6*(1000/3600)) -> 0 | T6: =($F6*1000)/(M6*(1000/3600)) -> 0 | U6: =($F6*1000)/(N6*(1000/3600)) -> 0
C7: =C6+1000 -> 2000 | D7: 0 | E7: 0 | F7: =D7*0.7457 -> 0 | G7: =E7*1.356 -> 0 | I7: =(C7*60*('yamaha r6 gearbox wheelspeed'!$H$6/'yamaha r6 gearbox wheelspeed'!$I$6)*'yamaha r6 gearbox wheelspeed'!$R$10*PI()*('yamaha r6 gearbox wheelspeed'!$H$13/'yamaha r6 gearbox wheelspeed'!$I$13)/1000)*('yamaha r6 gearbox wheelspeed'!$H$14/'yamaha r6 gearbox wheelspeed'!$I$14) -> 15.762523 | J7: =($C7*60*('yamaha r6 gearbox wheelspeed'!$H$7/'yamaha r6 gearbox wheelspeed'!$I$7)*'yamaha r6 gearbox wheelspeed'!$R$10*PI()*('yamaha r6 gearbox wheelspeed'!$H$13/'yamaha r6 gearbox wheelspeed'!$I$13)/1000)*('yamaha r6 gearbox wheelspeed'!$H$14/'yamaha r6 gearbox wheelspeed'!$I$14) -> 20.359925 | K7: =($C7*60*('yamaha r6 gearbox wheelspeed'!$H$8/'yamaha r6 gearbox wheelspeed'!$I$8)*'yamaha r6 gearbox wheelspeed'!$R$10*PI()*('yamaha r6 gearbox wheelspeed'!$H$13/'yamaha r6 gearbox wheelspeed'!$I$13)/1000)*('yamaha r6 gearbox wheelspeed'!$H$14/'yamaha r6 gearbox wheelspeed'!$I$14) -> 24.43191 | L7: =($C7*60*('yamaha r6 gearbox wheelspeed'!$H$9/'yamaha r6 gearbox wheelspeed'!$I$9)*'yamaha r6 gearbox wheelspeed'!$R$10*PI()*('yamaha r6 gearbox wheelspeed'!$H$13/'yamaha r6 gearbox wheelspeed'!$I$13)/1000)*('yamaha r6 gearbox wheelspeed'!$H$14/'yamaha r6 gearbox wheelspeed'!$I$14) -> 28.190666 | M7: =($C7*60*('yamaha r6 gearbox wheelspeed'!$H$10/'yamaha r6 gearbox wheelspeed'!$I$10)*'yamaha r6 gearbox wheelspeed'!$R$10*PI()*('yamaha r6 gearbox wheelspeed'!$H$13/'yamaha r6 gearbox wheelspeed'!$I$13)/1000)*('yamaha r6 gearbox wheelspeed'!$H$14/'yamaha r6 gearbox wheelspeed'!$I$14) -> 31.670995 | N7: =($C7*60*('yamaha r6 gearbox wheelspeed'!$H$11/'yamaha r6 gearbox wheelspeed'!$I$11)*'yamaha r6 gearbox wheelspeed'!$R$10*PI()*('yamaha r6 gearbox wheelspeed'!$H$13/'yamaha r6 gearbox wheelspeed'!$I$13)/1000)*('yamaha r6 gearbox wheelspeed'!$H$14/'yamaha r6 gearbox wheelspeed'!$I$14) -> 35.408566 | P7: =($F7*1000)/(I7*(1000/3600)) -> 0 | Q7: =($F7*1000)/(J7*(1000/3600)) -> 0 | R7: =($F7*1000)/(K7*(1000/3600)) -> 0 | S7: =($F7*1000)/(L7*(1000/3600)) -> 0 | T7: =($F7*1000)/(M7*(1000/3600)) -> 0 | U7: =($F7*1000)/(N7*(1000/3600)) -> 0
C8: =C7+1000 -> 3000 | D8: 10 | E8: 10 | F8: =D8*0.7457 -> 7.457 | G8: =E8*1.356 -> 13.56 | I8: =(C8*60*('yamaha r6 gearbox wheelspeed'!$H$6/'yamaha r6 gearbox wheelspeed'!$I$6)*'yamaha r6 gearbox wheelspeed'!$R$10*PI()*('yamaha r6 gearbox wheelspeed'!$H$13/'yamaha r6 gearbox wheelspeed'!$I$13)/1000)*('yamaha r6 gearbox wheelspeed'!$H$14/'yamaha r6 gearbox wheelspeed'!$I$14) -> 23.643784 | J8: =($C8*60*('yamaha r6 gearbox wheelspeed'!$H$7/'yamaha r6 gearbox wheelspeed'!$I$7)*'yamaha r6 gearbox wheelspeed'!$R$10*PI()*('yamaha r6 gearbox wheelspeed'!$H$13/'yamaha r6 gearbox wheelspeed'!$I$13)/1000)*('yamaha r6 gearbox wheelspeed'!$H$14/'yamaha r6 gearbox wheelspeed'!$I$14) -> 30.539888 | K8: =($C8*60*('yamaha r6 gearbox wheelspeed'!$H$8/'yamaha r6 gearbox wheelspeed'!$I$8)*'yamaha r6 gearbox wheelspeed'!$R$10*PI()*('yamaha r6 gearbox wheelspeed'!$H$13/'yamaha r6 gearbox wheelspeed'!$I$13)/1000)*('yamaha r6 gearbox wheelspeed'!$H$14/'yamaha r6 gearbox wheelspeed'!$I$14) -> 36.647865 | L8: =($C8*60*('yamaha r6 gearbox wheelspeed'!$H$9/'yamaha r6 gearbox wheelspeed'!$I$9)*'yamaha r6 gearbox wheelspeed'!$R$10*PI()*('yamaha r6 gearbox wheelspeed'!$H$13/'yamaha r6 gearbox wheelspeed'!$I$13)/1000)*('yamaha r6 gearbox wheelspeed'!$H$14/'yamaha r6 gearbox wheelspeed'!$I$14) -> 42.285999 | M8: =($C8*60*('yamaha r6 gearbox wheelspeed'!$H$10/'yamaha r6 gearbox wheelspeed'!$I$10)*'yamaha r6 gearbox wheelspeed'!$R$10*PI()*('yamaha r6 gearbox wheelspeed'!$H$13/'yamaha r6 gearbox wheelspeed'!$I$13)/1000)*('yamaha r6 gearbox wheelspeed'!$H$14/'yamaha r6 gearbox wheelspeed'!$I$14) -> 47.506492 | N8: =($C8*60*('yamaha r6 gearbox wheelspeed'!$H$11/'yamaha r6 gearbox wheelspeed'!$I$11)*'yamaha r6 gearbox wheelspeed'!$R$10*PI()*('yamaha r6 gearbox wheelspeed'!$H$13/'yamaha r6 gearbox wheelspeed'!$I$13)/1000)*('yamaha r6 gearbox wheelspeed'!$H$14/'yamaha r6 gearbox wheelspeed'!$I$14) -> 53.112848 | P8: =($F8*1000)/(I8*(1000/3600)) -> 1135.402 | Q8: =($F8*1000)/(J8*(1000/3600)) -> 879.02091 | R8: =($F8*1000)/(K8*(1000/3600)) -> 732.51742 | S8: =($F8*1000)/(L8*(1000/3600)) -> 634.84843 | T8: =($F8*1000)/(M8*(1000/3600)) -> 565.08487 | U8: =($F8*1000)/(N8*(1000/3600)) -> 505.43702
C9: =C8+1000 -> 4000 | D9: 20 | E9: 20 | F9: =D9*0.7457 -> 14.914 | G9: =E9*1.356 -> 27.12 | I9: =(C9*60*('yamaha r6 gearbox wheelspeed'!$H$6/'yamaha r6 gearbox wheelspeed'!$I$6)*'yamaha r6 gearbox wheelspeed'!$R$10*PI()*('yamaha r6 gearbox wheelspeed'!$H$13/'yamaha r6 gearbox wheelspeed'!$I$13)/1000)*('yamaha r6 gearbox wheelspeed'!$H$14/'yamaha r6 gearbox wheelspeed'!$I$14) -> 31.525046 | J9: =($C9*60*('yamaha r6 gearbox wheelspeed'!$H$7/'yamaha r6 gearbox wheelspeed'!$I$7)*'yamaha r6 gearbox wheelspeed'!$R$10*PI()*('yamaha r6 gearbox wheelspeed'!$H$13/'yamaha r6 gearbox wheelspeed'!$I$13)/1000)*('yamaha r6 gearbox wheelspeed'!$H$14/'yamaha r6 gearbox wheelspeed'!$I$14) -> 40.719851 | K9: =($C9*60*('yamaha r6 gearbox wheelspeed'!$H$8/'yamaha r6 gearbox wheelspeed'!$I$8)*'yamaha r6 gearbox wheelspeed'!$R$10*PI()*('yamaha r6 gearbox wheelspeed'!$H$13/'yamaha r6 gearbox wheelspeed'!$I$13)/1000)*('yamaha r6 gearbox wheelspeed'!$H$14/'yamaha r6 gearbox wheelspeed'!$I$14) -> 48.863821 | L9: =($C9*60*('yamaha r6 gearbox wheelspeed'!$H$9/'yamaha r6 gearbox wheelspeed'!$I$9)*'yamaha r6 gearbox wheelspeed'!$R$10*PI()*('yamaha r6 gearbox wheelspeed'!$H$13/'yamaha r6 gearbox wheelspeed'!$I$13)/1000)*('yamaha r6 gearbox wheelspeed'!$H$14/'yamaha r6 gearbox wheelspeed'!$I$14) -> 56.381331 | M9: =($C9*60*('yamaha r6 gearbox wheelspeed'!$H$10/'yamaha r6 gearbox wheelspeed'!$I$10)*'yamaha r6 gearbox wheelspeed'!$R$10*PI()*('yamaha r6 gearbox wheelspeed'!$H$13/'yamaha r6 gearbox wheelspeed'!$I$13)/1000)*('yamaha r6 gearbox wheelspeed'!$H$14/'yamaha r6 gearbox wheelspeed'!$I$14) -> 63.34199 | N9: =($C9*60*('yamaha r6 gearbox wheelspeed'!$H$11/'yamaha r6 gearbox wheelspeed'!$I$11)*'yamaha r6 gearbox wheelspeed'!$R$10*PI()*('yamaha r6 gearbox wheelspeed'!$H$13/'yamaha r6 gearbox wheelspeed'!$I$13)/1000)*('yamaha r6 gearbox wheelspeed'!$H$14/'yamaha r6 gearbox wheelspeed'!$I$14) -> 70.817131 | P9: =($F9*1000)/(I9*(1000/3600)) -> 1703.103 | Q9: =($F9*1000)/(J9*(1000/3600)) -> 1318.5314 | R9: =($F9*1000)/(K9*(1000/3600)) -> 1098.7761 | S9: =($F9*1000)/(L9*(1000/3600)) -> 952.27265 | T9: =($F9*1000)/(M9*(1000/3600)) -> 847.6273 | U9: =($F9*1000)/(N9*(1000/3600)) -> 758.15553
C10: =C9+1000 -> 5000 | D10: 26 | E10: 26 | F10: =D10*0.7457 -> 19.3882 | G10: =E10*1.356 -> 35.256 | I10: =(C10*60*('yamaha r6 gearbox wheelspeed'!$H$6/'yamaha r6 gearbox wheelspeed'!$I$6)*'yamaha r6 gearbox wheelspeed'!$R$10*PI()*('yamaha r6 gearbox wheelspeed'!$H$13/'yamaha r6 gearbox wheelspeed'!$I$13)/1000)*('yamaha r6 gearbox wheelspeed'!$H$14/'yamaha r6 gearbox wheelspeed'!$I$14) -> 39.406307 | J10: =($C10*60*('yamaha r6 gearbox wheelspeed'!$H$7/'yamaha r6 gearbox wheelspeed'!$I$7)*'yamaha r6 gearbox wheelspeed'!$R$10*PI()*('yamaha r6 gearbox wheelspeed'!$H$13/'yamaha r6 gearbox wheelspeed'!$I$13)/1000)*('yamaha r6 gearbox wheelspeed'!$H$14/'yamaha r6 gearbox wheelspeed'!$I$14) -> 50.899813 | K10: =($C10*60*('yamaha r6 gearbox wheelspeed'!$H$8/'yamaha r6 gearbox wheelspeed'!$I$8)*'yamaha r6 gearbox wheelspeed'!$R$10*PI()*('yamaha r6 gearbox wheelspeed'!$H$13/'yamaha r6 gearbox wheelspeed'!$I$13)/1000)*('yamaha r6 gearbox wheelspeed'!$H$14/'yamaha r6 gearbox wheelspeed'!$I$14) -> 61.079776 | L10: =($C10*60*('yamaha r6 gearbox wheelspeed'!$H$9/'yamaha r6 gearbox wheelspeed'!$I$9)*'yamaha r6 gearbox wheelspeed'!$R$10*PI()*('yamaha r6 gearbox wheelspeed'!$H$13/'yamaha r6 gearbox wheelspeed'!$I$13)/1000)*('yamaha r6 gearbox wheelspeed'!$H$14/'yamaha r6 gearbox wheelspeed'!$I$14) -> 70.476664 | M10: =($C10*60*('yamaha r6 gearbox wheelspeed'!$H$10/'yamaha r6 gearbox wheelspeed'!$I$10)*'yamaha r6 gearbox wheelspeed'!$R$10*PI()*('yamaha r6 gearbox wheelspeed'!$H$13/'yamaha r6 gearbox wheelspeed'!$I$13)/1000)*('yamaha r6 gearbox wheelspeed'!$H$14/'yamaha r6 gearbox wheelspeed'!$I$14) -> 79.177487 | N10: =($C10*60*('yamaha r6 gearbox wheelspeed'!$H$11/'yamaha r6 gearbox wheelspeed'!$I$11)*'yamaha r6 gearbox wheelspeed'!$R$10*PI()*('yamaha r6 gearbox wheelspeed'!$H$13/'yamaha r6 gearbox wheelspeed'!$I$13)/1000)*('yamaha r6 gearbox wheelspeed'!$H$14/'yamaha r6 gearbox wheelspeed'!$I$14) -> 88.521414 | P10: =($F10*1000)/(I10*(1000/3600)) -> 1771.2271 | Q10: =($F10*1000)/(J10*(1000/3600)) -> 1371.2726 | R10: =($F10*1000)/(K10*(1000/3600)) -> 1142.7272 | S10: =($F10*1000)/(L10*(1000/3600)) -> 990.36356 | T10: =($F10*1000)/(M10*(1000/3600)) -> 881.5324 | U10: =($F10*1000)/(N10*(1000/3600)) -> 788.48176
C11: =C10+1000 -> 6000 | D11: 38 | E11: 32 | F11: =D11*0.7457 -> 28.3366 | G11: =E11*1.356 -> 43.392 | I11: =(C11*60*('yamaha r6 gearbox wheelspeed'!$H$6/'yamaha r6 gearbox wheelspeed'!$I$6)*'yamaha r6 gearbox wheelspeed'!$R$10*PI()*('yamaha r6 gearbox wheelspeed'!$H$13/'yamaha r6 gearbox wheelspeed'!$I$13)/1000)*('yamaha r6 gearbox wheelspeed'!$H$14/'yamaha r6 gearbox wheelspeed'!$I$14) -> 47.287568 | J11: =($C11*60*('yamaha r6 gearbox wheelspeed'!$H$7/'yamaha r6 gearbox wheelspeed'!$I$7)*'yamaha r6 gearbox wheelspeed'!$R$10*PI()*('yamaha r6 gearbox wheelspeed'!$H$13/'yamaha r6 gearbox wheelspeed'!$I$13)/1000)*('yamaha r6 gearbox wheelspeed'!$H$14/'yamaha r6 gearbox wheelspeed'!$I$14) -> 61.079776 | K11: =($C11*60*('yamaha r6 gearbox wheelspeed'!$H$8/'yamaha r6 gearbox wheelspeed'!$I$8)*'yamaha r6 gearbox wheelspeed'!$R$10*PI()*('yamaha r6 gearbox wheelspeed'!$H$13/'yamaha r6 gearbox wheelspeed'!$I$13)/1000)*('yamaha r6 gearbox wheelspeed'!$H$14/'yamaha r6 gearbox wheelspeed'!$I$14) -> 73.295731 | L11: =($C11*60*('yamaha r6 gearbox wheelspeed'!$H$9/'yamaha r6 gearbox wheelspeed'!$I$9)*'yamaha r6 gearbox wheelspeed'!$R$10*PI()*('yamaha r6 gearbox wheelspeed'!$H$13/'yamaha r6 gearbox wheelspeed'!$I$13)/1000)*('yamaha r6 gearbox wheelspeed'!$H$14/'yamaha r6 gearbox wheelspeed'!$I$14) -> 84.571997 | M11: =($C11*60*('yamaha r6 gearbox wheelspeed'!$H$10/'yamaha r6 gearbox wheelspeed'!$I$10)*'yamaha r6 gearbox wheelspeed'!$R$10*PI()*('yamaha r6 gearbox wheelspeed'!$H$13/'yamaha r6 gearbox wheelspeed'!$I$13)/1000)*('yamaha r6 gearbox wheelspeed'!$H$14/'yamaha r6 gearbox wheelspeed'!$I$14) -> 95.012985 | N11: =($C11*60*('yamaha r6 gearbox wheelspeed'!$H$11/'yamaha r6 gearbox wheelspeed'!$I$11)*'yamaha r6 gearbox wheelspeed'!$R$10*PI()*('yamaha r6 gearbox wheelspeed'!$H$13/'yamaha r6 gearbox wheelspeed'!$I$13)/1000)*('yamaha r6 gearbox wheelspeed'!$H$14/'yamaha r6 gearbox wheelspeed'!$I$14) -> 106.2257 | P11: =($F11*1000)/(I11*(1000/3600)) -> 2157.2638 | Q11: =($F11*1000)/(J11*(1000/3600)) -> 1670.1397 | R11: =($F11*1000)/(K11*(1000/3600)) -> 1391.7831 | S11: =($F11*1000)/(L11*(1000/3600)) -> 1206.212 | T11: =($F11*1000)/(M11*(1000/3600)) -> 1073.6613 | U11: =($F11*1000)/(N11*(1000/3600)) -> 960.33034
C12: =C11+1000 -> 7000 | D12: 45 | E12: 33 | F12: =D12*0.7457 -> 33.5565 | G12: =E12*1.356 -> 44.748 | I12: =(C12*60*('yamaha r6 gearbox wheelspeed'!$H$6/'yamaha r6 gearbox wheelspeed'!$I$6)*'yamaha r6 gearbox wheelspeed'!$R$10*PI()*('yamaha r6 gearbox wheelspeed'!$H$13/'yamaha r6 gearbox wheelspeed'!$I$13)/1000)*('yamaha r6 gearbox wheelspeed'!$H$14/'yamaha r6 gearbox wheelspeed'!$I$14) -> 55.16883 | J12: =($C12*60*('yamaha r6 gearbox wheelspeed'!$H$7/'yamaha r6 gearbox wheelspeed'!$I$7)*'yamaha r6 gearbox wheelspeed'!$R$10*PI()*('yamaha r6 gearbox wheelspeed'!$H$13/'yamaha r6 gearbox wheelspeed'!$I$13)/1000)*('yamaha r6 gearbox wheelspeed'!$H$14/'yamaha r6 gearbox wheelspeed'!$I$14) -> 71.259738 | K12: =($C12*60*('yamaha r6 gearbox wheelspeed'!$H$8/'yamaha r6 gearbox wheelspeed'!$I$8)*'yamaha r6 gearbox wheelspeed'!$R$10*PI()*('yamaha r6 gearbox wheelspeed'!$H$13/'yamaha r6 gearbox wheelspeed'!$I$13)/1000)*('yamaha r6 gearbox wheelspeed'!$H$14/'yamaha r6 gearbox wheelspeed'!$I$14) -> 85.511686 | L12: =($C12*60*('yamaha r6 gearbox wheelspeed'!$H$9/'yamaha r6 gearbox wheelspeed'!$I$9)*'yamaha r6 gearbox wheelspeed'!$R$10*PI()*('yamaha r6 gearbox wheelspeed'!$H$13/'yamaha r6 gearbox wheelspeed'!$I$13)/1000)*('yamaha r6 gearbox wheelspeed'!$H$14/'yamaha r6 gearbox wheelspeed'!$I$14) -> 98.66733 | M12: =($C12*60*('yamaha r6 gearbox wheelspeed'!$H$10/'yamaha r6 gearbox wheelspeed'!$I$10)*'yamaha r6 gearbox wheelspeed'!$R$10*PI()*('yamaha r6 gearbox wheelspeed'!$H$13/'yamaha r6 gearbox wheelspeed'!$I$13)/1000)*('yamaha r6 gearbox wheelspeed'!$H$14/'yamaha r6 gearbox wheelspeed'!$I$14) -> 110.84848 | N12: =($C12*60*('yamaha r6 gearbox wheelspeed'!$H$11/'yamaha r6 gearbox wheelspeed'!$I$11)*'yamaha r6 gearbox wheelspeed'!$R$10*PI()*('yamaha r6 gearbox wheelspeed'!$H$13/'yamaha r6 gearbox wheelspeed'!$I$13)/1000)*('yamaha r6 gearbox wheelspeed'!$H$14/'yamaha r6 gearbox wheelspeed'!$I$14) -> 123.92998 | P12: =($F12*1000)/(I12*(1000/3600)) -> 2189.7039 | Q12: =($F12*1000)/(J12*(1000/3600)) -> 1695.2546 | R12: =($F12*1000)/(K12*(1000/3600)) -> 1412.7122 | S12: =($F12*1000)/(L12*(1000/3600)) -> 1224.3506 | T12: =($F12*1000)/(M12*(1000/3600)) -> 1089.8065 | U12: =($F12*1000)/(N12*(1000/3600)) -> 974.7714
C13: =C12+1000 -> 8000 | D13: 57 | E13: 36 | F13: =D13*0.7457 -> 42.5049 | G13: =E13*1.356 -> 48.816 | I13: =(C13*60*('yamaha r6 gearbox wheelspeed'!$H$6/'yamaha r6 gearbox wheelspeed'!$I$6)*'yamaha r6 gearbox wheelspeed'!$R$10*PI()*('yamaha r6 gearbox wheelspeed'!$H$13/'yamaha r6 gearbox wheelspeed'!$I$13)/1000)*('yamaha r6 gearbox wheelspeed'!$H$14/'yamaha r6 gearbox wheelspeed'!$I$14) -> 63.050091 | J13: =($C13*60*('yamaha r6 gearbox wheelspeed'!$H$7/'yamaha r6 gearbox wheelspeed'!$I$7)*'yamaha r6 gearbox wheelspeed'!$R$10*PI()*('yamaha r6 gearbox wheelspeed'!$H$13/'yamaha r6 gearbox wheelspeed'!$I$13)/1000)*('yamaha r6 gearbox wheelspeed'!$H$14/'yamaha r6 gearbox wheelspeed'!$I$14) -> 81.439701 | K13: =($C13*60*('yamaha r6 gearbox wheelspeed'!$H$8/'yamaha r6 gearbox wheelspeed'!$I$8)*'yamaha r6 gearbox wheelspeed'!$R$10*PI()*('yamaha r6 gearbox wheelspeed'!$H$13/'yamaha r6 gearbox wheelspeed'!$I$13)/1000)*('yamaha r6 gearbox wheelspeed'!$H$14/'yamaha r6 gearbox wheelspeed'!$I$14) -> 97.727641 | L13: =($C13*60*('yamaha r6 gearbox wheelspeed'!$H$9/'yamaha r6 gearbox wheelspeed'!$I$9)*'yamaha r6 gearbox wheelspeed'!$R$10*PI()*('yamaha r6 gearbox wheelspeed'!$H$13/'yamaha r6 gearbox wheelspeed'!$I$13)/1000)*('yamaha r6 gearbox wheelspeed'!$H$14/'yamaha r6 gearbox wheelspeed'!$I$14) -> 112.76266 | M13: =($C13*60*('yamaha r6 gearbox wheelspeed'!$H$10/'yamaha r6 gearbox wheelspeed'!$I$10)*'yamaha r6 gearbox wheelspeed'!$R$10*PI()*('yamaha r6 gearbox wheelspeed'!$H$13/'yamaha r6 gearbox wheelspeed'!$I$13)/1000)*('yamaha r6 gearbox wheelspeed'!$H$14/'yamaha r6 gearbox wheelspeed'!$I$14) -> 126.68398 | N13: =($C13*60*('yamaha r6 gearbox wheelspeed'!$H$11/'yamaha r6 gearbox wheelspeed'!$I$11)*'yamaha r6 gearbox wheelspeed'!$R$10*PI()*('yamaha r6 gearbox wheelspeed'!$H$13/'yamaha r6 gearbox wheelspeed'!$I$13)/1000)*('yamaha r6 gearbox wheelspeed'!$H$14/'yamaha r6 gearbox wheelspeed'!$I$14) -> 141.63426 | P13: =($F13*1000)/(I13*(1000/3600)) -> 2426.9218 | Q13: =($F13*1000)/(J13*(1000/3600)) -> 1878.9072 | R13: =($F13*1000)/(K13*(1000/3600)) -> 1565.756 | S13: =($F13*1000)/(L13*(1000/3600)) -> 1356.9885 | T13: =($F13*1000)/(M13*(1000/3600)) -> 1207.8689 | U13: =($F13*1000)/(N13*(1000/3600)) -> 1080.3716
C14: =C13+1000 -> 9000 | D14: 67 | E14: 40 | F14: =D14*0.7457 -> 49.9619 | G14: =E14*1.356 -> 54.24 | I14: =(C14*60*('yamaha r6 gearbox wheelspeed'!$H$6/'yamaha r6 gearbox wheelspeed'!$I$6)*'yamaha r6 gearbox wheelspeed'!$R$10*PI()*('yamaha r6 gearbox wheelspeed'!$H$13/'yamaha r6 gearbox wheelspeed'!$I$13)/1000)*('yamaha r6 gearbox wheelspeed'!$H$14/'yamaha r6 gearbox wheelspeed'!$I$14) -> 70.931352 | J14: =($C14*60*('yamaha r6 gearbox wheelspeed'!$H$7/'yamaha r6 gearbox wheelspeed'!$I$7)*'yamaha r6 gearbox wheelspeed'!$R$10*PI()*('yamaha r6 gearbox wheelspeed'!$H$13/'yamaha r6 gearbox wheelspeed'!$I$13)/1000)*('yamaha r6 gearbox wheelspeed'!$H$14/'yamaha r6 gearbox wheelspeed'!$I$14) -> 91.619664 | K14: =($C14*60*('yamaha r6 gearbox wheelspeed'!$H$8/'yamaha r6 gearbox wheelspeed'!$I$8)*'yamaha r6 gearbox wheelspeed'!$R$10*PI()*('yamaha r6 gearbox wheelspeed'!$H$13/'yamaha r6 gearbox wheelspeed'!$I$13)/1000)*('yamaha r6 gearbox wheelspeed'!$H$14/'yamaha r6 gearbox wheelspeed'!$I$14) -> 109.9436 | L14: =($C14*60*('yamaha r6 gearbox wheelspeed'!$H$9/'yamaha r6 gearbox wheelspeed'!$I$9)*'yamaha r6 gearbox wheelspeed'!$R$10*PI()*('yamaha r6 gearbox wheelspeed'!$H$13/'yamaha r6 gearbox wheelspeed'!$I$13)/1000)*('yamaha r6 gearbox wheelspeed'!$H$14/'yamaha r6 gearbox wheelspeed'!$I$14) -> 126.858 | M14: =($C14*60*('yamaha r6 gearbox wheelspeed'!$H$10/'yamaha r6 gearbox wheelspeed'!$I$10)*'yamaha r6 gearbox wheelspeed'!$R$10*PI()*('yamaha r6 gearbox wheelspeed'!$H$13/'yamaha r6 gearbox wheelspeed'!$I$13)/1000)*('yamaha r6 gearbox wheelspeed'!$H$14/'yamaha r6 gearbox wheelspeed'!$I$14) -> 142.51948 | N14: =($C14*60*('yamaha r6 gearbox wheelspeed'!$H$11/'yamaha r6 gearbox wheelspeed'!$I$11)*'yamaha r6 gearbox wheelspeed'!$R$10*PI()*('yamaha r6 gearbox wheelspeed'!$H$13/'yamaha r6 gearbox wheelspeed'!$I$13)/1000)*('yamaha r6 gearbox wheelspeed'!$H$14/'yamaha r6 gearbox wheelspeed'!$I$14) -> 159.33855 | P14: =($F14*1000)/(I14*(1000/3600)) -> 2535.7311 | Q14: =($F14*1000)/(J14*(1000/3600)) -> 1963.1467 | R14: =($F14*1000)/(K14*(1000/3600)) -> 1635.9556 | S14: =($F14*1000)/(L14*(1000/3600)) -> 1417.8282 | T14: =($F14*1000)/(M14*(1000/3600)) -> 1262.0229 | U14: =($F14*1000)/(N14*(1000/3600)) -> 1128.8094
C15: =C14+1000 -> 10000 | D15: 82 | E15: 44 | F15: =D15*0.7457 -> 61.1474 | G15: =E15*1.356 -> 59.664 | I15: =(C15*60*('yamaha r6 gearbox wheelspeed'!$H$6/'yamaha r6 gearbox wheelspeed'!$I$6)*'yamaha r6 gearbox wheelspeed'!$R$10*PI()*('yamaha r6 gearbox wheelspeed'!$H$13/'yamaha r6 gearbox wheelspeed'!$I$13)/1000)*('yamaha r6 gearbox wheelspeed'!$H$14/'yamaha r6 gearbox wheelspeed'!$I$14) -> 78.812614 | J15: =($C15*60*('yamaha r6 gearbox wheelspeed'!$H$7/'yamaha r6 gearbox wheelspeed'!$I$7)*'yamaha r6 gearbox wheelspeed'!$R$10*PI()*('yamaha r6 gearbox wheelspeed'!$H$13/'yamaha r6 gearbox wheelspeed'!$I$13)/1000)*('yamaha r6 gearbox wheelspeed'!$H$14/'yamaha r6 gearbox wheelspeed'!$I$14) -> 101.79963 | K15: =($C15*60*('yamaha r6 gearbox wheelspeed'!$H$8/'yamaha r6 gearbox wheelspeed'!$I$8)*'yamaha r6 gearbox wheelspeed'!$R$10*PI()*('yamaha r6 gearbox wheelspeed'!$H$13/'yamaha r6 gearbox wheelspeed'!$I$13)/1000)*('yamaha r6 gearbox wheelspeed'!$H$14/'yamaha r6 gearbox wheelspeed'!$I$14) -> 122.15955 | L15: =($C15*60*('yamaha r6 gearbox wheelspeed'!$H$9/'yamaha r6 gearbox wheelspeed'!$I$9)*'yamaha r6 gearbox wheelspeed'!$R$10*PI()*('yamaha r6 gearbox wheelspeed'!$H$13/'yamaha r6 gearbox wheelspeed'!$I$13)/1000)*('yamaha r6 gearbox wheelspeed'!$H$14/'yamaha r6 gearbox wheelspeed'!$I$14) -> 140.95333 | M15: =($C15*60*('yamaha r6 gearbox wheelspeed'!$H$10/'yamaha r6 gearbox wheelspeed'!$I$10)*'yamaha r6 gearbox wheelspeed'!$R$10*PI()*('yamaha r6 gearbox wheelspeed'!$H$13/'yamaha r6 gearbox wheelspeed'!$I$13)/1000)*('yamaha r6 gearbox wheelspeed'!$H$14/'yamaha r6 gearbox wheelspeed'!$I$14) -> 158.35497 | N15: =($C15*60*('yamaha r6 gearbox wheelspeed'!$H$11/'yamaha r6 gearbox wheelspeed'!$I$11)*'yamaha r6 gearbox wheelspeed'!$R$10*PI()*('yamaha r6 gearbox wheelspeed'!$H$13/'yamaha r6 gearbox wheelspeed'!$I$13)/1000)*('yamaha r6 gearbox wheelspeed'!$H$14/'yamaha r6 gearbox wheelspeed'!$I$14) -> 177.04283 | P15: =($F15*1000)/(I15*(1000/3600)) -> 2793.0889 | Q15: =($F15*1000)/(J15*(1000/3600)) -> 2162.3914 | R15: =($F15*1000)/(K15*(1000/3600)) -> 1801.9929 | S15: =($F15*1000)/(L15*(1000/3600)) -> 1561.7271 | T15: =($F15*1000)/(M15*(1000/3600)) -> 1390.1088 | U15: =($F15*1000)/(N15*(1000/3600)) -> 1243.3751
C16: =C15+1000 -> 11000 | D16: 75 | E16: 46 | F16: =D16*0.7457 -> 55.9275 | G16: =E16*1.356 -> 62.376 | I16: =(C16*60*('yamaha r6 gearbox wheelspeed'!$H$6/'yamaha r6 gearbox wheelspeed'!$I$6)*'yamaha r6 gearbox wheelspeed'!$R$10*PI()*('yamaha r6 gearbox wheelspeed'!$H$13/'yamaha r6 gearbox wheelspeed'!$I$13)/1000)*('yamaha r6 gearbox wheelspeed'!$H$14/'yamaha r6 gearbox wheelspeed'!$I$14) -> 86.693875 | J16: =($C16*60*('yamaha r6 gearbox wheelspeed'!$H$7/'yamaha r6 gearbox wheelspeed'!$I$7)*'yamaha r6 gearbox wheelspeed'!$R$10*PI()*('yamaha r6 gearbox wheelspeed'!$H$13/'yamaha r6 gearbox wheelspeed'!$I$13)/1000)*('yamaha r6 gearbox wheelspeed'!$H$14/'yamaha r6 gearbox wheelspeed'!$I$14) -> 111.97959 | K16: =($C16*60*('yamaha r6 gearbox wheelspeed'!$H$8/'yamaha r6 gearbox wheelspeed'!$I$8)*'yamaha r6 gearbox wheelspeed'!$R$10*PI()*('yamaha r6 gearbox wheelspeed'!$H$13/'yamaha r6 gearbox wheelspeed'!$I$13)/1000)*('yamaha r6 gearbox wheelspeed'!$H$14/'yamaha r6 gearbox wheelspeed'!$I$14) -> 134.37551 | L16: =($C16*60*('yamaha r6 gearbox wheelspeed'!$H$9/'yamaha r6 gearbox wheelspeed'!$I$9)*'yamaha r6 gearbox wheelspeed'!$R$10*PI()*('yamaha r6 gearbox wheelspeed'!$H$13/'yamaha r6 gearbox wheelspeed'!$I$13)/1000)*('yamaha r6 gearbox wheelspeed'!$H$14/'yamaha r6 gearbox wheelspeed'!$I$14) -> 155.04866 | M16: =($C16*60*('yamaha r6 gearbox wheelspeed'!$H$10/'yamaha r6 gearbox wheelspeed'!$I$10)*'yamaha r6 gearbox wheelspeed'!$R$10*PI()*('yamaha r6 gearbox wheelspeed'!$H$13/'yamaha r6 gearbox wheelspeed'!$I$13)/1000)*('yamaha r6 gearbox wheelspeed'!$H$14/'yamaha r6 gearbox wheelspeed'!$I$14) -> 174.19047 | N16: =($C16*60*('yamaha r6 gearbox wheelspeed'!$H$11/'yamaha r6 gearbox wheelspeed'!$I$11)*'yamaha r6 gearbox wheelspeed'!$R$10*PI()*('yamaha r6 gearbox wheelspeed'!$H$13/'yamaha r6 gearbox wheelspeed'!$I$13)/1000)*('yamaha r6 gearbox wheelspeed'!$H$14/'yamaha r6 gearbox wheelspeed'!$I$14) -> 194.74711 | P16: =($F16*1000)/(I16*(1000/3600)) -> 2322.4132 | Q16: =($F16*1000)/(J16*(1000/3600)) -> 1797.9973 | R16: =($F16*1000)/(K16*(1000/3600)) -> 1498.3311 | S16: =($F16*1000)/(L16*(1000/3600)) -> 1298.5536 | T16: =($F16*1000)/(M16*(1000/3600)) -> 1155.8554 | U16: =($F16*1000)/(N16*(1000/3600)) -> 1033.8485
C17: =C16+1000 -> 12000 | D17: 101 | E17: 45 | F17: =D17*0.7457 -> 75.3157 | G17: =E17*1.356 -> 61.02 | I17: =(C17*60*('yamaha r6 gearbox wheelspeed'!$H$6/'yamaha r6 gearbox wheelspeed'!$I$6)*'yamaha r6 gearbox wheelspeed'!$R$10*PI()*('yamaha r6 gearbox wheelspeed'!$H$13/'yamaha r6 gearbox wheelspeed'!$I$13)/1000)*('yamaha r6 gearbox wheelspeed'!$H$14/'yamaha r6 gearbox wheelspeed'!$I$14) -> 94.575137 | J17: =($C17*60*('yamaha r6 gearbox wheelspeed'!$H$7/'yamaha r6 gearbox wheelspeed'!$I$7)*'yamaha r6 gearbox wheelspeed'!$R$10*PI()*('yamaha r6 gearbox wheelspeed'!$H$13/'yamaha r6 gearbox wheelspeed'!$I$13)/1000)*('yamaha r6 gearbox wheelspeed'!$H$14/'yamaha r6 gearbox wheelspeed'!$I$14) -> 122.15955 | K17: =($C17*60*('yamaha r6 gearbox wheelspeed'!$H$8/'yamaha r6 gearbox wheelspeed'!$I$8)*'yamaha r6 gearbox wheelspeed'!$R$10*PI()*('yamaha r6 gearbox wheelspeed'!$H$13/'yamaha r6 gearbox wheelspeed'!$I$13)/1000)*('yamaha r6 gearbox wheelspeed'!$H$14/'yamaha r6 gearbox wheelspeed'!$I$14) -> 146.59146 | L17: =($C17*60*('yamaha r6 gearbox wheelspeed'!$H$9/'yamaha r6 gearbox wheelspeed'!$I$9)*'yamaha r6 gearbox wheelspeed'!$R$10*PI()*('yamaha r6 gearbox wheelspeed'!$H$13/'yamaha r6 gearbox wheelspeed'!$I$13)/1000)*('yamaha r6 gearbox wheelspeed'!$H$14/'yamaha r6 gearbox wheelspeed'!$I$14) -> 169.14399 | M17: =($C17*60*('yamaha r6 gearbox wheelspeed'!$H$10/'yamaha r6 gearbox wheelspeed'!$I$10)*'yamaha r6 gearbox wheelspeed'!$R$10*PI()*('yamaha r6 gearbox wheelspeed'!$H$13/'yamaha r6 gearbox wheelspeed'!$I$13)/1000)*('yamaha r6 gearbox wheelspeed'!$H$14/'yamaha r6 gearbox wheelspeed'!$I$14) -> 190.02597 | N17: =($C17*60*('yamaha r6 gearbox wheelspeed'!$H$11/'yamaha r6 gearbox wheelspeed'!$I$11)*'yamaha r6 gearbox wheelspeed'!$R$10*PI()*('yamaha r6 gearbox wheelspeed'!$H$13/'yamaha r6 gearbox wheelspeed'!$I$13)/1000)*('yamaha r6 gearbox wheelspeed'!$H$14/'yamaha r6 gearbox wheelspeed'!$I$14) -> 212.45139 | P17: =($F17*1000)/(I17*(1000/3600)) -> 2866.8901 | Q17: =($F17*1000)/(J17*(1000/3600)) -> 2219.5278 | R17: =($F17*1000)/(K17*(1000/3600)) -> 1849.6065 | S17: =($F17*1000)/(L17*(1000/3600)) -> 1602.9923 | T17: =($F17*1000)/(M17*(1000/3600)) -> 1426.8393 | U17: =($F17*1000)/(N17*(1000/3600)) -> 1276.2285
C18: =C17+1000 -> 13000 | D18: 110 | E18: 45 | F18: =D18*0.7457 -> 82.027 | G18: =E18*1.356 -> 61.02 | I18: =(C18*60*('yamaha r6 gearbox wheelspeed'!$H$6/'yamaha r6 gearbox wheelspeed'!$I$6)*'yamaha r6 gearbox wheelspeed'!$R$10*PI()*('yamaha r6 gearbox wheelspeed'!$H$13/'yamaha r6 gearbox wheelspeed'!$I$13)/1000)*('yamaha r6 gearbox wheelspeed'!$H$14/'yamaha r6 gearbox wheelspeed'!$I$14) -> 102.4564 | J18: =($C18*60*('yamaha r6 gearbox wheelspeed'!$H$7/'yamaha r6 gearbox wheelspeed'!$I$7)*'yamaha r6 gearbox wheelspeed'!$R$10*PI()*('yamaha r6 gearbox wheelspeed'!$H$13/'yamaha r6 gearbox wheelspeed'!$I$13)/1000)*('yamaha r6 gearbox wheelspeed'!$H$14/'yamaha r6 gearbox wheelspeed'!$I$14) -> 132.33951 | K18: =($C18*60*('yamaha r6 gearbox wheelspeed'!$H$8/'yamaha r6 gearbox wheelspeed'!$I$8)*'yamaha r6 gearbox wheelspeed'!$R$10*PI()*('yamaha r6 gearbox wheelspeed'!$H$13/'yamaha r6 gearbox wheelspeed'!$I$13)/1000)*('yamaha r6 gearbox wheelspeed'!$H$14/'yamaha r6 gearbox wheelspeed'!$I$14) -> 158.80742 | L18: =($C18*60*('yamaha r6 gearbox wheelspeed'!$H$9/'yamaha r6 gearbox wheelspeed'!$I$9)*'yamaha r6 gearbox wheelspeed'!$R$10*PI()*('yamaha r6 gearbox wheelspeed'!$H$13/'yamaha r6 gearbox wheelspeed'!$I$13)/1000)*('yamaha r6 gearbox wheelspeed'!$H$14/'yamaha r6 gearbox wheelspeed'!$I$14) -> 183.23933 | M18: =($C18*60*('yamaha r6 gearbox wheelspeed'!$H$10/'yamaha r6 gearbox wheelspeed'!$I$10)*'yamaha r6 gearbox wheelspeed'!$R$10*PI()*('yamaha r6 gearbox wheelspeed'!$H$13/'yamaha r6 gearbox wheelspeed'!$I$13)/1000)*('yamaha r6 gearbox wheelspeed'!$H$14/'yamaha r6 gearbox wheelspeed'!$I$14) -> 205.86147 | N18: =($C18*60*('yamaha r6 gearbox wheelspeed'!$H$11/'yamaha r6 gearbox wheelspeed'!$I$11)*'yamaha r6 gearbox wheelspeed'!$R$10*PI()*('yamaha r6 gearbox wheelspeed'!$H$13/'yamaha r6 gearbox wheelspeed'!$I$13)/1000)*('yamaha r6 gearbox wheelspeed'!$H$14/'yamaha r6 gearbox wheelspeed'!$I$14) -> 230.15568 | P18: =($F18*1000)/(I18*(1000/3600)) -> 2882.1743 | Q18: =($F18*1000)/(J18*(1000/3600)) -> 2231.3608 | R18: =($F18*1000)/(K18*(1000/3600)) -> 1859.4673 | S18: =($F18*1000)/(L18*(1000/3600)) -> 1611.5383 | T18: =($F18*1000)/(M18*(1000/3600)) -> 1434.4462 | U18: =($F18*1000)/(N18*(1000/3600)) -> 1283.0324
... C21: =C20+1000 -> 16000 | D21: 110 | E21: 35 | F21: =D21*0.7457 -> 82.027 | G21: =E21*1.356 -> 47.46 | I21: =(C21*60*('yamaha r6 gearbox wheelspeed'!$H$6/'yamaha r6 gearbox wheelspeed'!$I$6)*'yamaha r6 gearbox wheelspeed'!$R$10*PI()*('yamaha r6 gearbox wheelspeed'!$H$13/'yamaha r6 gearbox wheelspeed'!$I$13)/1000)*('yamaha r6 gearbox wheelspeed'!$H$14/'yamaha r6 gearbox wheelspeed'!$I$14) -> 126.10018 | J21: =($C21*60*('yamaha r6 gearbox wheelspeed'!$H$7/'yamaha r6 gearbox wheelspeed'!$I$7)*'yamaha r6 gearbox wheelspeed'!$R$10*PI()*('yamaha r6 gearbox wheelspeed'!$H$13/'yamaha r6 gearbox wheelspeed'!$I$13)/1000)*('yamaha r6 gearbox wheelspeed'!$H$14/'yamaha r6 gearbox wheelspeed'!$I$14) -> 162.8794 | K21: =($C21*60*('yamaha r6 gearbox wheelspeed'!$H$8/'yamaha r6 gearbox wheelspeed'!$I$8)*'yamaha r6 gearbox wheelspeed'!$R$10*PI()*('yamaha r6 gearbox wheelspeed'!$H$13/'yamaha r6 gearbox wheelspeed'!$I$13)/1000)*('yamaha r6 gearbox wheelspeed'!$H$14/'yamaha r6 gearbox wheelspeed'!$I$14) -> 195.45528 | L21: =($C21*60*('yamaha r6 gearbox wheelspeed'!$H$9/'yamaha r6 gearbox wheelspeed'!$I$9)*'yamaha r6 gearbox wheelspeed'!$R$10*PI()*('yamaha r6 gearbox wheelspeed'!$H$13/'yamaha r6 gearbox wheelspeed'!$I$13)/1000)*('yamaha r6 gearbox wheelspeed'!$H$14/'yamaha r6 gearbox wheelspeed'!$I$14) -> 225.52533 | M21: =($C21*60*('yamaha r6 gearbox wheelspeed'!$H$10/'yamaha r6 gearbox wheelspeed'!$I$10)*'yamaha r6 gearbox wheelspeed'!$R$10*PI()*('yamaha r6 gearbox wheelspeed'!$H$13/'yamaha r6 gearbox wheelspeed'!$I$13)/1000)*('yamaha r6 gearbox wheelspeed'!$H$14/'yamaha r6 gearbox wheelspeed'!$I$14) -> 253.36796 | N21: =($C21*60*('yamaha r6 gearbox wheelspeed'!$H$11/'yamaha r6 gearbox wheelspeed'!$I$11)*'yamaha r6 gearbox wheelspeed'!$R$10*PI()*('yamaha r6 gearbox wheelspeed'!$H$13/'yamaha r6 gearbox wheelspeed'!$I$13)/1000)*('yamaha r6 gearbox wheelspeed'!$H$14/'yamaha r6 gearbox wheelspeed'!$I$14) -> 283.26853 | P21: =($F21*1000)/(I21*(1000/3600)) -> 2341.7666 | Q21: =($F21*1000)/(J21*(1000/3600)) -> 1812.9806 | R21: =($F21*1000)/(K21*(1000/3600)) -> 1510.8172 | S21: =($F21*1000)/(L21*(1000/3600)) -> 1309.3749 | T21: =($F21*1000)/(M21*(1000/3600)) -> 1165.4875 | U21: =($F21*1000)/(N21*(1000/3600)) -> 1042.4639

Sheet Geometry
B2: Yamaha R6 2008
B4: geometry | F4: tyre diamter size calculator
B5: wheelbase (mm) | C5: 1375 | H5: front | I5: rear
B6: rake (caster angle) | C6: 24 | F6: tyre width (mm) | H6: 120 | I6: 180
B7: trail (mm) | C7: 97 | F7: tyre width (in) | H7: =SUM(H6/25.4) -> 4.7244094 | I7: =SUM(I6/25.4) -> 7.0866142
F8: aspect ratio | H8: 70 | I8: 55
F9: rim size (in) | H9: 17 | I9: 17
F10: rim radius (in) | H10: =H9/2 -> 8.5 | I10: =I9/2 -> 8.5
F11: overall tyre diamter (m) | H11: =(((((H6/25.4)*(H8/100)+(H9/2))*2*PI())*25.4)/PI())/1000 -> 0.5998 | I11: =(((((I6/25.4)*(I8/100)+(I9/2))*2*PI())*25.4)/PI())/1000 -> 0.6298
F12: overall tyre diamter (in) | H12: =(H11*1000)/25.4 -> 23.614173 | I12: =(I11*1000)/25.4 -> 24.795276
B14: chain length
B15: chain size | C15: front sprocket | D15: rear sprocket | E15: number of links | G15: distance from front sprocket and pivot | H15: swing arm length

Sheet CoG
B2: CoG Calculator | L2: CoG Calculator
B3: Honda CBR 600 F3 | L3: Ducati Panigale 1299
B5: wheelbase (m) | C5: 1.405 | F5: tyre diamter size calculator | L5: wheelbase (m) | M5: 1.437 | P5: tyre diamter size calculator
B6: wheel Radius F (m) | C6: =H12/2 -> 0.2879 | H6: front | I6: rear | L6: wheel Radius F (m) | M6: =R12/2 -> 0.2999 | R6: front | S6: rear
B7: wheel Radius R (m) | C7: =I12/2 -> 0.3119 | F7: tyre width (mm) | H7: 120 | I7: 160 | L7: wheel Radius R (m) | M7: =S12/2 -> 0.3259 | P7: tyre width (mm) | R7: 120 | S7: 200
B8: Average Wheel Radius (m) | C8: =AVERAGE(C7,C6) -> 0.2999 | F8: tyre width (in) | H8: =SUM(H7/25.4) -> 4.7244094 | I8: =SUM(I7/25.4) -> 6.2992126 | L8: Average Wheel Radius (m) | M8: =AVERAGE(M7,M6) -> 0.3129 | P8: tyre width (in) | R8: =SUM(R7/25.4) -> 4.7244094 | S8: =SUM(S7/25.4) -> 7.8740157
B9: Rider Weight (Kg) | C9: 75.5 | F9: aspect ratio | H9: 60 | I9: 60 | L9: Rider Weight (Kg) | M9: 72.85 | P9: aspect ratio | R9: 70 | S9: 55
B10: Stool height (m) | C10: 0.345 | F10: rim size (in) | H10: 17 | I10: 17 | L10: Stool height (m) | M10: 0.345 | P10: rim size (in) | R10: 17 | S10: 17
B11: θ (o) | C11: =DEGREES(IMSIN(C10/C5)) -> 13.928112 | F11: rim radius (in) | H11: =H10/2 -> 8.5 | I11: =I10/2 -> 8.5 | L11: θ (o) | M11: =DEGREES(IMSIN(M10/M5)) -> 13.624005 | P11: rim radius (in) | R11: =R10/2 -> 8.5 | S11: =S10/2 -> 8.5
F12: overall tyre diamter (m) | H12: =(((((H7/25.4)*(H9/100)+(H10/2))*2*PI())*25.4)/PI())/1000 -> 0.5758 | I12: =(((((I7/25.4)*(I9/100)+(I10/2))*2*PI())*25.4)/PI())/1000 -> 0.6238 | P12: overall tyre diamter (m) | R12: =(((((R7/25.4)*(R9/100)+(R10/2))*2*PI())*25.4)/PI())/1000 -> 0.5998 | S12: =(((((S7/25.4)*(S9/100)+(S10/2))*2*PI())*25.4)/PI())/1000 -> 0.6518
C13: no rider | F13: overall tyre diamter (in) | H13: =(H12*1000)/25.4 -> 22.669291 | I13: =(I12*1000)/25.4 -> 24.559055 | M13: no rider | P13: overall tyre diamter (in) | R13: =(R12*1000)/25.4 -> 23.614173 | S13: =(S12*1000)/25.4 -> 25.661417
C14: front | D14: rear | M14: front | N14: rear
B15: level weight (Kg) | C15: 94 | D15: 82 | L15: level weight (Kg) | M15: 102.2 | N15: 88.3
B16: Lifted Weight (Kg) | C16: 98.5 | D16: 80 | L16: Lifted Weight (Kg) | M16: 106.1 | N16: 81
B17: total level weight (Kg) | C17: =SUM(C15,D15) -> 176 | L17: total level weight (Kg) | M17: =SUM(M15,N15) -> 190.5
B18: total lifted weight (Kg) | C18: =SUM(C16,D16) -> 178.5 | L18: total lifted weight (Kg) | M18: =SUM(M16,N16) -> 187.1
C19: with rider | M19: with rider
C20: front | D20: rear | M20: front | N20: rear
B21: level weight (Kg) | C21: 169.5 | D21: 137 | L21: level weight (Kg) | M21: 129.1 | N21: 130.75
B22: Lifted Weight (Kg) | C22: 126.5 | D22: 126.5 | G22: X CoG | H22: Y CoG | I22: weight on front % | J22: weight on rear % | L22: Lifted Weight (Kg) | M22: 144.1 | N22: 115 | Q22: X CoG | R22: Y CoG | S22: weight on front % | T22: weight on rear %
B23: total level weight with rider (Kg) | C23: 251 | F23: no rider | G23: =(D15*C5)/C17 -> 0.65460227 | H23: =(C5*(D15-D16)/C17*TAN(C11))+C8 -> 0.37515608 | I23: =(C15/C17)*100 -> 53.409091 | J23: =(D15/C17)*100 -> 46.590909 | L23: total level weight with rider (Kg) | M23: 251 | P23: no rider | Q23: =(N15*M5)/M17 -> 0.66607402 | R23: =(M5*(N15-N16)/M17*TAN(M11))+M8 -> 0.41061856 | S23: =(M15/M17)*100 -> 53.648294 | T23: =(N15/M17)*100 -> 46.351706
B24: total lifted weight with rider (Kg) | C24: =SUM(C22:D22) -> 253 | F24: with rider | G24: =(D21*C5)/C23 -> 0.76687251 | H24: =(C5*(D21-D22)/C23*TAN(C11))+C8 -> 0.57693831 | I24: =(C21/C23)*100 -> 67.52988 | J24: =(D21/C23)*100 -> 54.581673 | L24: total lifted weight with rider (Kg) | M24: =SUM(M22:N22) -> 259.1 | P24: with rider | Q24: =(N21*M5)/M23 -> 0.74855677 | R24: =(M5*(N21-N22)/M23*TAN(M11))+M8 -> 0.47291328 | S24: =(M21/M23)*100 -> 51.434263 | T24: =(N21/M23)*100 -> 52.091633
