Workbook

Sheet Vehicle Specs
B2: VEHICLE | F2: WHEEL DIMENSIONS
B3: NAME | C3: Renegade DX10-C | F3: FRONT WHEEL SIZE | G3: 12 | H3: in
B4: ENGINE | C4: 4-Stroke Petrol ICE | F4: FRONT WHEEL SIZE | G4: =G3/39.37 -> 0.30480061 | H4: m
B5: TRANSMISSION | C5: Automatic CVT | F5: FRONT TYRE SIDE WALL | G5: 0.1524 | H5: m
B6: DRIVE | C6: CVT Clutch | F6: REAR WHEEL SIZE | G6: 10 | H6: in
B7: DIFFERENTIAL | C7: Locked Rear Axle | F7: REAR WHEEL SIZE | G7: =G6/39.37 -> 0.25400051 | H7: m
F8: REAR TYRE SIDE WALL | G8: 0.1397 | H8: m
B9: ENGINE SPECIFICATION | F9: ROLLING RADIUS | G9: =(G7/2)+G8 -> 0.26670025 | H9: m
B10: VOLUME | C10: 278 | D10: cc | F10: ROLLING CIRCUMFERENCE | G10: =G9*PI()*2 -> 1.6757271 | H10: m
B11: POWER | C11: 18 | D11: BHP
B12: POWER | C12: =C11/1.341 -> 13.422819 | D12: Kw | F12: WEIGHT
B13: TORQUE | C13: 22 | D13: NM | F13: CURB WEIGHT | G13: 365 | H13: kg
F14: DRIVER | G14: 80 | H14: kg
B15: VEHICLE DIMENSIONS | F15: DRIVER KIT | G15: 10 | H15: kg
B16: LENGTH | C16: 2.62 | D16: m | F16: PASSENGER | G16: 80 | H16: kg
B17: WIDTH | C17: 1.65 | D17: m | F17: PASSENGER KIT | G17: 10 | H17: kg
B18: HEIGHT | C18: 1.62 | D18: m | F18: FUEL | G18: =C22*0.77 -> 22.33 | H18: kg
B19: GROUND CLEARANCE | C19: 0.3 | D19: m | F19: Series Hybrid System | G19: 61.5 | H19: kg
B20: FRONTAL AREA | C20: =(C17*C18)*0.7 -> 1.8711 | D20: m² | F20: TOTAL | G20: =SUM(G13:G19) -> 628.83 | H20: kg
B21: C of G Height, Didtance from Front Wheel Centre | C21: 0.3 | D21: 0.5
B22: FUEL TANK | C22: 29 | D22: l | F22: INERTIA AND REDUCED MASSES
F23: WHEEL INERTIA | G23: 0.95 | H23: kgm²
B24: VEHICLE CHARACTERISTICS | F24: ENGINE INERTIA | G24: 0.17 | H24: kgm²
B25: MAX VELOCITY | C25: 30 | D25: mph | F25: Air Density | G25: 1.167 | H25: kg/m^3
B26: MAX VELOCITY | C26: =C25/2.237 -> 13.410818 | D26: m/s
B27: FRONTAL AERO AREA | C27: =(C18-C19)*C17 -> 2.178 | D27: m²
B28: COEFFICIENT OF DRAG | C28: 0.7 | D28: Value Taken from Book
B30: Fuel Usage Throughout Full Lap
B31: Fuel Consumption (g) | C31: =SUM('Drive Cycle'!X2:X1113) -> 32.044029
B32: Fuel Consumption (kg) | C32: =C31/1000 -> 0.032044029
B34: Rolling Resistance (Gravel) | C34: Rolling Resistance (Dirt) | D34: Rolling Resistance (Grass) | E34: Rolling Resistance (Ashphalt)
B35: N | C35: N | D35: N | E35: N
B36: =0.02*9.81*($G$13+$G$14+$G$15+$G$16+$G$17+$G$18) -> 111.31015 | C36: =0.05*9.81*($G$13+$G$14+$G$15+$G$16+$G$17+$G$18) -> 278.27537 | D36: =0.1*9.81*($G$13+$G$14+$G$15+$G$16+$G$17+$G$18) -> 556.55073 | E36: =0.013*9.81*$G$20 -> 80.19469
B38: Total Resistant Forces (Gravel) | C38: Net Driving Force (Ashphalt) | D38: Available Engine Acceleration | E38: Traction Limited Acceleration (Gravel)
B39: N | C39: N | D39: m/s² | E39: m/s²
B40: =O4+B36+J8 -> 111.31015 | C40: =N4-D44 -> -80.19469 | D40: 0 | E40: =((((0.6)*($G$20)*(9.81)*(COS(0))*(($D$21)-(0.02)*(($C$21)-($G$9))))/($C$16))/(((1)-((0.6)*($C$21)))/($C$16)))*(10^-3) -> 2.2538801
B42: Total Resistant Forces (Dirt) | C42: Total Resistant Forces (Grass) | D42: Total Resistant Forces (Ashphalt) | E42: Net Driving Force (Gravel)
B43: N | C43: N | D43: N | E43: N
B44: =O4+C36+J8 -> 278.27537 | C44: =O4+D36+J8 -> 556.55073 | D44: =O4+E36+J8 -> 80.19469 | E44: =N4-B40 -> -111.31015
B46: Traction Limited Acceleration (Ashphalt) | C46: Traction Limited Deceleration (Gravel) | D46: Traction Limited Deceleration (Dirt) | E46: Traction Limited Deceleration (Grass)
...

Sheet Track Map
C2: Surface | D2: Distance | E2: Radius
B3: S1 | C3: Ashphalt | D3: 166.45 | E3: N/A
B4: T1 | C4: Ashphalt | D4: 12.71 | E4: 17.38
B5: S2 | C5: Ashphalt | D5: 47.27 | E5: N/A
B6: T2 | C6: Ashphalt | D6: 17.13 | E6: 5.45
B7: S3 | C7: Ashphalt | D7: 57.6 | E7: N/A
B8: T3 | C8: Ashphalt | D8: 13.89 | E8: 16.23
B9: S4 | C9: Ashphalt | D9: 16.29 | E9: N/A
B10: T4 | C10: Dirt | D10: 13.97 | E10: 8.89
B11: S5 | C11: Dirt | D11: 30.01 | E11: N/A
B12: T5 | C12: Dirt | D12: 12.1 | E12: 7.68
B13: S6 | C13: Dirt | D13: 16.26 | E13: N/A
B14: T6 | C14: Dirt | D14: 11.1 | E14: 6.74
B15: S7 | C15: Dirt | D15: 62.16 | E15: N/A
B16: T7 | C16: Dirt | D16: 10.6 | E16: 7.17
B17: S8 | C17: Dirt | D17: 38.61 | E17: N/A
B18: T8 | C18: Dirt | D18: 11.26 | E18: 4.73
B19: S9 | C19: Dirt | D19: 23.1 | E19: N/A
B20: T9 | C20: Dirt | D20: 14.87 | E20: 11.76
B21: S10 | C21: Grass | D21: 123.24 | E21: N/A
B22: T10 | C22: Grass | D22: 18.47 | E22: 4.31
B23: S11 | C23: Grass | D23: 40.85 | E23: N/A
B24: T11 | C24: Grass | D24: 13.6 | E24: 12.52
B25: S12 | C25: Grass | D25: 48.07 | E25: N/A
B26: T12 | C26: Gravel | D26: 44.98 | E26: 16
B27: T13 | C27: Gravel | D27: 54.61 | E27: 9.5
B28: S13 | C28: Gravel | D28: 39.64 | E28: N/A
B29: T14 | C29: Gravel | D29: 14.91 | E29: 4.16
B30: S14 | C30: Gravel | D30: 16.92 | E30: N/A
B31: T15 | C31: Gravel | D31: 6.53 | E31: 6.41
B32: S15 | C32: Gravel | D32: 28.18 | E32: N/A
B33: T16 | C33: Gravel | D33: 10.07 | E33: 9.21
B34: S16 | C34: Gravel | D34: 30.45 | E34: N/A
B35: T17 | C35: Ashphalt | D35: 14.46 | E35: 9.25
B36: Total Distance | D36: =SUM(D3:D35) -> 1080.36

Sheet BSFC
B2: BSFC (g/Kwh) | C2: RPM | D2: 500 | E2: 750 | F2: 1000 | G2: 1250 | H2: 1500 | I2: 1750 | J2: 2000 | K2: 2250 | L2: 2500 | M2: 2750 | N2: 3000 | O2: 3250 | P2: 3500 | Q2: 3750 | R2: 4000 | S2: 4250 | T2: 4500 | U2: 4750 | V2: 5000 | W2: 5250 | X2: 5500 | Y2: 5750 | Z2: 6000 | AA2: 6250 | AB2: 6500 | AC2: 6750 | AD2: 7000
B3: Torque Demand (Nm) | D3: 0 | E3: 0 | F3: 0 | G3: 0 | H3: 0 | I3: 0 | J3: 0 | K3: 0 | L3: 0 | M3: 0 | N3: 0 | O3: 0 | P3: 0 | Q3: 0 | R3: 0 | S3: 0 | T3: 0 | U3: 0 | V3: 0 | W3: 0 | X3: 0 | Y3: 0 | Z3: 0 | AA3: 0 | AB3: 0 | AC3: 0 | AD3: 0
B4: 22 | D4: 0 | E4: 0 | F4: 0 | G4: 0 | H4: 0 | I4: 0 | J4: 0 | K4: 0 | L4: 0 | M4: 0 | N4: 0 | O4: 0 | P4: 0 | Q4: 0 | R4: 0 | S4: 0 | T4: 0 | U4: 0 | V4: 0 | W4: 0 | X4: 497.30185 | Y4: 0 | Z4: 0 | AA4: 0 | AB4: 0 | AC4: 0 | AD4: 0
B5: 21 | D5: 0 | E5: 0 | F5: 0 | G5: 0 | H5: 0 | I5: 0 | J5: 0 | K5: 0 | L5: 0 | M5: 0 | N5: 0 | O5: 0 | P5: 0 | Q5: 0 | R5: 0 | S5: 0 | T5: 0 | U5: 0 | V5: 511.26203 | W5: 503.78011 | X5: 473.6401 | Y5: 499.54048 | Z5: 0 | AA5: 0 | AB5: 0 | AC5: 0 | AD5: 0
B6: 20 | D6: 0 | E6: 0 | F6: 0 | G6: 0 | H6: 0 | I6: 0 | J6: 0 | K6: 0 | L6: 0 | M6: 0 | N6: 0 | O6: 0 | P6: 0 | Q6: 0 | R6: 0 | S6: 0 | T6: 523.34402 | U6: 515.72614 | V6: 501.71229 | W6: 494.23037 | X6: 449.97835 | Y6: 475.87873 | Z6: 509.84171 | AA6: 0 | AB6: 0 | AC6: 0 | AD6: 0
B7: 19 | D7: 0 | E7: 0 | F7: 0 | G7: 0 | H7: 0 | I7: 0 | J7: 0 | K7: 0 | L7: 0 | M7: 0 | N7: 0 | O7: 0 | P7: 0 | Q7: 0 | R7: 0 | S7: 531.18359 | T7: 517.79359 | U7: 510.17571 | V7: 481.42612 | W7: 473.9442 | X7: 426.3166 | Y7: 452.21698 | Z7: 496.76923 | AA7: 527.01518 | AB7: 548.17146 | AC7: 0 | AD7: 0
B8: 18 | D8: 0 | E8: 0 | F8: 0 | G8: 0 | H8: 0 | I8: 0 | J8: 0 | K8: 0 | L8: 0 | M8: 0 | N8: 0 | O8: 0 | P8: 535.42677 | Q8: 535.05341 | R8: 533.89024 | S8: 521.40026 | T8: 508.01026 | U8: 500.39238 | V8: 464.345 | W8: 456.86308 | X8: 402.65485 | Y8: 428.55523 | Z8: 478.31452 | AA8: 508.56047 | AB8: 534.66915 | AC8: 554.23915 | AD8: 0
B9: 17 | D9: 0 | E9: 0 | F9: 0 | G9: 0 | H9: 0 | I9: 0 | J9: 0 | K9: 0 | L9: 0 | M9: 0 | N9: 0 | O9: 549.12763 | P9: 539.25302 | Q9: 538.03606 | R9: 528.49826 | S9: 505.65535 | T9: 492.26535 | U9: 484.64747 | V9: 430.8166 | W9: 423.33468 | X9: 390.82398 | Y9: 416.72436 | Z9: 439.08773 | AA9: 469.33368 | AB9: 526.71727 | AC9: 546.28727 | AD9: 588.10295
B10: 16 | D10: 0 | E10: 0 | F10: 0 | G10: 0 | H10: 0 | I10: 0 | J10: 0 | K10: 0 | L10: 0 | M10: 550.89414 | N10: 551.04955 | O10: 552.95387 | P10: 543.07926 | Q10: 541.01872 | R10: 531.48092 | S10: 496.03009 | T10: 482.64009 | U10: 475.02221 | V10: 400.88881 | W10: 393.40689 | X10: 378.99311 | Y10: 404.89349 | Z10: 399.86095 | AA10: 430.1069 | AB10: 521.8583 | AC10: 541.4283 | AD10: 576.43598
B11: 15 | D11: 0 | E11: 0 | F11: 0 | G11: 0 | H11: 0 | I11: 0 | J11: 0 | K11: 0 | L11: 560.72867 | M11: 555.13371 | N11: 550.2823 | O11: 543.26697 | P11: 533.39236 | Q11: 544.00138 | R11: 534.46358 | S11: 490.9038 | T11: 477.5138 | U11: 469.89592 | V11: 379.82707 | W11: 372.34515 | X11: 353.30835 | Y11: 379.20873 | Z11: 364.41051 | AA11: 394.65646 | AB11: 478.77238 | AC11: 498.34238 | AD11: 524.29445
B12: 14 | D12: 0 | E12: 0 | F12: 0 | G12: 0 | H12: 0 | I12: 0 | J12: 0 | K12: 588.19269 | L12: 564.96825 | M12: 559.37329 | N12: 554.48126 | O12: 533.58007 | P12: 523.70546 | Q12: 524.7527 | R12: 515.2149 | S12: 454.59068 | T12: 441.20068 | U12: 433.5828 | V12: 358.76533 | W12: 351.28341 | X12: 331.66961 | Y12: 357.56999 | Z12: 357.37617 | AA12: 387.62212 | AB12: 463.96189 | AC12: 483.53189 | AD12: 516.62817
B13: 13 | D13: 0 | E13: 0 | F13: 0 | G13: 0 | H13: 0 | I13: 0 | J13: 625.3916 | K13: 607.64223 | L13: 584.41779 | M13: 578.82283 | N13: 558.68021 | O13: 523.89316 | P13: 514.01855 | Q13: 505.50402 | R13: 495.96622 | S13: 430.07978 | T13: 416.68978 | U13: 409.0719 | V13: 337.7036 | W13: 330.22168 | X13: 308.00786 | Y13: 333.90824 | Z13: 352.06557 | AA13: 382.31152 | AB13: 489.84054 | AC13: 509.41054 | AD13: 565.13734
B14: 12 | D14: 0 | E14: 0 | F14: 0 | G14: 0 | H14: 0 | I14: 626.42405 | J14: 642.18305 | K14: 627.09176 | L14: 603.86732 | M14: 598.27236 | N14: 565.5516 | O14: 542.56279 | P14: 532.68818 | Q14: 508.86266 | R14: 499.32486 | S14: 479.35154 | T14: 465.96154 | U14: 458.34366 | V14: 318.35184 | W14: 310.86992 | X14: 332.55341 | Y14: 358.45379 | Z14: 346.75497 | AA14: 377.00092 | AB14: 515.71919 | AC14: 535.28919 | AD14: 581.50831
B15: 11 | D15: 0 | E15: 0 | F15: 0 | G15: 0 | H15: 0 | I15: 637.75665 | J15: 653.51565 | K15: 647.82801 | L15: 624.60357 | M15: 619.00861 | N15: 595.54479 | O15: 562.66208 | P15: 552.78747 | Q15: 522.15823 | R15: 512.62043 | S15: 485.84339 | T15: 472.45339 | U15: 464.83551 | V15: 382.01828 | W15: 374.53636 | X15: 373.41698 | Y15: 399.31736 | Z15: 341.44438 | AA15: 371.69033 | AB15: 541.59784 | AC15: 561.16784 | AD15: 587.0006
... B26: 0.5 | D26: 1609.1001 | E26: 1534.8681 | F26: 1520.8601 | G26: 1457.0311 | H26: 1432.6201 | I26: 1328.6211 | J26: 1344.3801 | K26: 1279.3645 | L26: 1256.14 | M26: 1250.5451 | N26: 1208.3914 | O26: 1170.5173 | P26: 1160.6427 | Q26: 1122.4319 | R26: 1112.8941 | S26: 1086.0253 | T26: 1072.6353 | U26: 1065.0174 | V26: 1032.6485 | W26: 1025.1666 | X26: 992.66173 | Y26: 1018.5621 | Z26: 986.16183 | AA26: 1016.4078 | AB26: 956.75498 | AC26: 976.32498 | AD26: 942.61943

Sheet Drive Cycle
C1: Distance | D1: Speed (mph) | E1: Speed (m/s) | F1: Time (s) | I1: Vehicle Acceleration (m/s^2) | J1: Aero Resistance (N) | K1: Rolling Resistance (N) | L1: Elevation (m) | M1: Elevation Change (m) | N1: Gradient (Degrees) | O1: Gradient Resistance (N) | P1: Total Resistive Forces (N) | Q1: Force From Acceleration (N) | R1: Power Required (W) | S1: Power Required Corrected (W) | T1: Resistive Power (kw) | W1: BSFC (g/Kwh) | X1: Fuel Used (g) | Y1: Fuel Used 2 (g) | Z1: Carbon Dioxide Emited (g) | AA1: KE (Kj) | AB1: Work Done (j) | AC1: Culmative Work Done (J) | AD1: TOTAL Fuel Usage (g) | AE1: CO2 Released (g) | AF1: Average Power Required (Kw) | AG1: Maximum Power Required (kw)
A2: 1 | B2: S1 | C2: 0 | D2: =E2*2.237 -> 0 | E2: 0 | F2: 0 | I2: 0 | J2: =(0.5*'Vehicle Specs'!$G$25*'Vehicle Specs'!$C$28*'Vehicle Specs'!$C$27*'Drive Cycle'!E2^2) -> 0 | K2: 0 | L2: 0 | M2: 0 | N2: =DEGREES(ATAN(M2/$C$3)) -> 0 | O2: =9.81*SIN(RADIANS(N2))*($C$46) -> 0 | P2: =J2+K2+O2 -> 0 | Q2: =IF(H2=1,I2*'Vehicle Specs'!#REF!,IF(H2=2,'Vehicle Specs'!#REF!*I2,IF(H2=3,'Vehicle Specs'!#REF!*I2,0))) -> 0 | R2: =(J2+K2+O2+Q2) -> 0 | S2: =ABS(R2) -> 0 | T2: =ABS((+P2+Q2)*(+E2))/1000 -> 0 | W2: 0 | X2: =R2*W2/3600 -> 0 | Y2: =ABS(X2) -> 0 | Z2: =X2*3.09 -> 0 | AA2: =(0.5*'Vehicle Specs'!$G$20*'Drive Cycle'!E2^2) -> 0 | AB2: =P2+Q2 -> 0 | AC2: =AB2 -> 0 | AD2: =SUM(X2:X1110) -> 32.044029 | AE2: =(SUM(Z2:Z1110)) -> 99.016049 | AF2: =AVERAGE(T2:T1110) -> 3.5482051 | AG2: =MAX(T2:T1110) -> 12.197224
A3: 1 | B3: S1 | C3: =C2+1 -> 1 | D3: =E3*2.237 -> 2.237 | E3: 1 | F3: =$C$3/E3 -> 1 | I3: =E3-E2 -> 1 | J3: =(0.5*'Vehicle Specs'!$G$25*'Vehicle Specs'!$C$28*'Vehicle Specs'!$C$27*'Drive Cycle'!E3^2) -> 0.8896041 | K3: =IF(A3=1,'Vehicle Specs'!$E$36,IF(A3=2,'Vehicle Specs'!$C$36,IF(A3=3,'Vehicle Specs'!$D$36,IF(A3=4,'Vehicle Specs'!$B$36,1)))) -> 80.19469 | L3: 0 | M3: =L3-L2 -> 0 | N3: =DEGREES(ATAN(M3/$C$3)) -> 0 | O3: =9.81*SIN(RADIANS(N3))*($C$46) -> 0 | P3: =J3+K3+O3 -> 81.084294 | Q3: =IF(H3=1,I3*'Vehicle Specs'!#REF!,IF(H3=2,'Vehicle Specs'!#REF!*I3,IF(H3=3,'Vehicle Specs'!$G$25*I3,0))) -> 0 | R3: =(J3+K3+O3+Q3) -> 81.084294 | S3: =ABS(R3) -> 81.084294 | T3: =ABS((+P3+Q3)*(+E3))/1000 -> 0.081084294 | W3: 308.00786 | X3: =(R3*W3/3600)/1000 -> 0.0069373888 | Y3: =ABS(X3) -> 0.0069373888 | Z3: =X3*3.09 -> 0.021436531 | AA3: =(0.5*'Vehicle Specs'!$G$20*'Drive Cycle'!E3^2) -> 314.415 | AB3: =P3+Q3 -> 81.084294 | AC3: =SUM(AB$2:AB3) -> 81.084294
A4: 1 | B4: S1 | C4: =C3+1 -> 2 | D4: =E4*2.237 -> 4.474 | E4: 2 | F4: =($C$3/E4)+F3 -> 1.5 | I4: =E4-E3 -> 1 | J4: =(0.5*'Vehicle Specs'!$G$25*'Vehicle Specs'!$C$28*'Vehicle Specs'!$C$27*'Drive Cycle'!E4^2) -> 3.5584164 | K4: =IF(A4=1,'Vehicle Specs'!$E$36,IF(A4=2,'Vehicle Specs'!$C$36,IF(A4=3,'Vehicle Specs'!$D$36,IF(A4=4,'Vehicle Specs'!$B$36,1)))) -> 80.19469 | L4: 0 | M4: =L4-L3 -> 0 | N4: =DEGREES(ATAN(M4/$C$3)) -> 0 | O4: =9.81*SIN(RADIANS(N4))*($C$46) -> 0 | P4: =J4+K4+O4 -> 83.753106 | Q4: =IF(H4=1,I4*'Vehicle Specs'!#REF!,IF(H4=2,'Vehicle Specs'!#REF!*I4,IF(H4=3,'Vehicle Specs'!$G$25*I4,0))) -> 0 | R4: =(J4+K4+O4+Q4) -> 83.753106 | S4: =ABS(R4) -> 83.753106 | T4: =ABS((+P4+Q4)*(+E4))/1000 -> 0.16750621 | W4: 308.00786 | X4: =(R4*W4/3600)/1000 -> 0.0071657263 | Y4: =ABS(X4) -> 0.0071657263 | Z4: =X4*3.09 -> 0.022142094 | AA4: =(0.5*'Vehicle Specs'!$G$20*'Drive Cycle'!E4^2) -> 1257.66 | AB4: =P4+Q4 -> 83.753106 | AC4: =SUM(AB$2:AB4) -> 164.8374
A5: 1 | B5: S1 | C5: =C4+1 -> 3 | D5: =E5*2.237 -> 6.711 | E5: 3 | F5: =($C$3/E5)+F4 -> 1.8333333 | I5: =E5-E4 -> 1 | J5: =(0.5*'Vehicle Specs'!$G$25*'Vehicle Specs'!$C$28*'Vehicle Specs'!$C$27*'Drive Cycle'!E5^2) -> 8.0064369 | K5: =IF(A5=1,'Vehicle Specs'!$E$36,IF(A5=2,'Vehicle Specs'!$C$36,IF(A5=3,'Vehicle Specs'!$D$36,IF(A5=4,'Vehicle Specs'!$B$36,1)))) -> 80.19469 | L5: 0 | M5: =L5-L4 -> 0 | N5: =DEGREES(ATAN(M5/$C$3)) -> 0 | O5: =9.81*SIN(RADIANS(N5))*($C$46) -> 0 | P5: =J5+K5+O5 -> 88.201127 | Q5: =IF(H5=1,I5*'Vehicle Specs'!#REF!,IF(H5=2,'Vehicle Specs'!#REF!*I5,IF(H5=3,'Vehicle Specs'!$G$25*I5,0))) -> 0 | R5: =(J5+K5+O5+Q5) -> 88.201127 | S5: =ABS(R5) -> 88.201127 | T5: =ABS((+P5+Q5)*(+E5))/1000 -> 0.26460338 | W5: 308.00786 | X5: =(R5*W5/3600)/1000 -> 0.0075462889 | Y5: =ABS(X5) -> 0.0075462889 | Z5: =X5*3.09 -> 0.023318033 | AA5: =(0.5*'Vehicle Specs'!$G$20*'Drive Cycle'!E5^2) -> 2829.735 | AB5: =P5+Q5 -> 88.201127 | AC5: =SUM(AB$2:AB5) -> 253.03853
A6: 1 | B6: S1 | C6: =C5+1 -> 4 | D6: =E6*2.237 -> 8.948 | E6: 4 | F6: =($C$3/E6)+F5 -> 2.0833333 | I6: =E6-E5 -> 1 | J6: =(0.5*'Vehicle Specs'!$G$25*'Vehicle Specs'!$C$28*'Vehicle Specs'!$C$27*'Drive Cycle'!E6^2) -> 14.233666 | K6: =IF(A6=1,'Vehicle Specs'!$E$36,IF(A6=2,'Vehicle Specs'!$C$36,IF(A6=3,'Vehicle Specs'!$D$36,IF(A6=4,'Vehicle Specs'!$B$36,1)))) -> 80.19469 | L6: 0 | M6: =L6-L5 -> 0 | N6: =DEGREES(ATAN(M6/$C$3)) -> 0 | O6: =9.81*SIN(RADIANS(N6))*($C$46) -> 0 | P6: =J6+K6+O6 -> 94.428356 | Q6: =IF(H6=1,I6*'Vehicle Specs'!#REF!,IF(H6=2,'Vehicle Specs'!#REF!*I6,IF(H6=3,'Vehicle Specs'!$G$25*I6,0))) -> 0 | R6: =(J6+K6+O6+Q6) -> 94.428356 | S6: =ABS(R6) -> 94.428356 | T6: =ABS((+P6+Q6)*(+E6))/1000 -> 0.37771342 | W6: 308.00786 | X6: =(R6*W6/3600)/1000 -> 0.0080790765 | Y6: =ABS(X6) -> 0.0080790765 | Z6: =X6*3.09 -> 0.024964346 | AA6: =(0.5*'Vehicle Specs'!$G$20*'Drive Cycle'!E6^2) -> 5030.64 | AB6: =P6+Q6 -> 94.428356 | AC6: =SUM(AB$2:AB6) -> 347.46688
A7: 1 | B7: S1 | C7: =C6+1 -> 5 | D7: =E7*2.237 -> 11.185 | E7: 5 | F7: =($C$3/E7)+F6 -> 2.2833333 | I7: =E7-E6 -> 1 | J7: =(0.5*'Vehicle Specs'!$G$25*'Vehicle Specs'!$C$28*'Vehicle Specs'!$C$27*'Drive Cycle'!E7^2) -> 22.240102 | K7: =IF(A7=1,'Vehicle Specs'!$E$36,IF(A7=2,'Vehicle Specs'!$C$36,IF(A7=3,'Vehicle Specs'!$D$36,IF(A7=4,'Vehicle Specs'!$B$36,1)))) -> 80.19469 | L7: 0 | M7: =L7-L6 -> 0 | N7: =DEGREES(ATAN(M7/$C$3)) -> 0 | O7: =9.81*SIN(RADIANS(N7))*($C$46) -> 0 | P7: =J7+K7+O7 -> 102.43479 | Q7: =IF(H7=1,I7*'Vehicle Specs'!#REF!,IF(H7=2,'Vehicle Specs'!#REF!*I7,IF(H7=3,'Vehicle Specs'!$G$25*I7,0))) -> 0 | R7: =(J7+K7+O7+Q7) -> 102.43479 | S7: =ABS(R7) -> 102.43479 | T7: =ABS((+P7+Q7)*(+E7))/1000 -> 0.51217396 | W7: 308.00786 | X7: =(R7*W7/3600)/1000 -> 0.0087640892 | Y7: =ABS(X7) -> 0.0087640892 | Z7: =X7*3.09 -> 0.027081035 | AA7: =(0.5*'Vehicle Specs'!$G$20*'Drive Cycle'!E7^2) -> 7860.375 | AB7: =P7+Q7 -> 102.43479 | AC7: =SUM(AB$2:AB7) -> 449.90168
A8: 1 | B8: S1 | C8: =C7+1 -> 6 | D8: =E8*2.237 -> 13.422 | E8: 6 | F8: =($C$3/E8)+F7 -> 2.45 | I8: =E8-E7 -> 1 | J8: =(0.5*'Vehicle Specs'!$G$25*'Vehicle Specs'!$C$28*'Vehicle Specs'!$C$27*'Drive Cycle'!E8^2) -> 32.025748 | K8: =IF(A8=1,'Vehicle Specs'!$E$36,IF(A8=2,'Vehicle Specs'!$C$36,IF(A8=3,'Vehicle Specs'!$D$36,IF(A8=4,'Vehicle Specs'!$B$36,1)))) -> 80.19469 | L8: 0 | M8: =L8-L7 -> 0 | N8: =DEGREES(ATAN(M8/$C$3)) -> 0 | O8: =9.81*SIN(RADIANS(N8))*($C$46) -> 0 | P8: =J8+K8+O8 -> 112.22044 | Q8: =IF(H8=1,I8*'Vehicle Specs'!#REF!,IF(H8=2,'Vehicle Specs'!#REF!*I8,IF(H8=3,'Vehicle Specs'!$G$25*I8,0))) -> 0 | R8: =(J8+K8+O8+Q8) -> 112.22044 | S8: =ABS(R8) -> 112.22044 | T8: =ABS((+P8+Q8)*(+E8))/1000 -> 0.67332263 | W8: 308.00786 | X8: =(R8*W8/3600)/1000 -> 0.0096013268 | Y8: =ABS(X8) -> 0.0096013268 | Z8: =X8*3.09 -> 0.0296681 | AA8: =(0.5*'Vehicle Specs'!$G$20*'Drive Cycle'!E8^2) -> 11318.94 | AB8: =P8+Q8 -> 112.22044 | AC8: =SUM(AB$2:AB8) -> 562.12211
A9: 1 | B9: S1 | C9: =C8+1 -> 7 | D9: =E9*2.237 -> 15.659 | E9: 7 | F9: =($C$3/E9)+F8 -> 2.5928571 | I9: =E9-E8 -> 1 | J9: =(0.5*'Vehicle Specs'!$G$25*'Vehicle Specs'!$C$28*'Vehicle Specs'!$C$27*'Drive Cycle'!E9^2) -> 43.590601 | K9: =IF(A9=1,'Vehicle Specs'!$E$36,IF(A9=2,'Vehicle Specs'!$C$36,IF(A9=3,'Vehicle Specs'!$D$36,IF(A9=4,'Vehicle Specs'!$B$36,1)))) -> 80.19469 | L9: 0 | M9: =L9-L8 -> 0 | N9: =DEGREES(ATAN(M9/$C$3)) -> 0 | O9: =9.81*SIN(RADIANS(N9))*($C$46) -> 0 | P9: =J9+K9+O9 -> 123.78529 | Q9: =IF(H9=1,I9*'Vehicle Specs'!#REF!,IF(H9=2,'Vehicle Specs'!#REF!*I9,IF(H9=3,'Vehicle Specs'!$G$25*I9,0))) -> 0 | R9: =(J9+K9+O9+Q9) -> 123.78529 | S9: =ABS(R9) -> 123.78529 | T9: =ABS((+P9+Q9)*(+E9))/1000 -> 0.86649704 | W9: 308.00786 | X9: =(R9*W9/3600)/1000 -> 0.01059079 | Y9: =ABS(X9) -> 0.01059079 | Z9: =X9*3.09 -> 0.03272554 | AA9: =(0.5*'Vehicle Specs'!$G$20*'Drive Cycle'!E9^2) -> 15406.335 | AB9: =P9+Q9 -> 123.78529 | AC9: =SUM(AB$2:AB9) -> 685.9074
A10: 1 | B10: S1 | C10: =C9+1 -> 8 | D10: =E10*2.237 -> 17.896 | E10: 8 | F10: =($C$3/E10)+F9 -> 2.7178571 | I10: =E10-E9 -> 1 | J10: =(0.5*'Vehicle Specs'!$G$25*'Vehicle Specs'!$C$28*'Vehicle Specs'!$C$27*'Drive Cycle'!E10^2) -> 56.934662 | K10: =IF(A10=1,'Vehicle Specs'!$E$36,IF(A10=2,'Vehicle Specs'!$C$36,IF(A10=3,'Vehicle Specs'!$D$36,IF(A10=4,'Vehicle Specs'!$B$36,1)))) -> 80.19469 | L10: 0 | M10: =L10-L9 -> 0 | N10: =DEGREES(ATAN(M10/$C$3)) -> 0 | O10: =9.81*SIN(RADIANS(N10))*($C$46) -> 0 | P10: =J10+K10+O10 -> 137.12935 | Q10: =IF(H10=1,I10*'Vehicle Specs'!#REF!,IF(H10=2,'Vehicle Specs'!#REF!*I10,IF(H10=3,'Vehicle Specs'!$G$25*I10,0))) -> 0 | R10: =(J10+K10+O10+Q10) -> 137.12935 | S10: =ABS(R10) -> 137.12935 | T10: =ABS((+P10+Q10)*(+E10))/1000 -> 1.0970348 | W10: 308.00786 | X10: =(R10*W10/3600)/1000 -> 0.011732477 | Y10: =ABS(X10) -> 0.011732477 | Z10: =X10*3.09 -> 0.036253355 | AA10: =(0.5*'Vehicle Specs'!$G$20*'Drive Cycle'!E10^2) -> 20122.56 | AB10: =P10+Q10 -> 137.12935 | AC10: =SUM(AB$2:AB10) -> 823.03676
A11: 1 | B11: S1 | C11: =C10+1 -> 9 | D11: =E11*2.237 -> 20.133 | E11: 9 | F11: =($C$3/E11)+F10 -> 2.8289683 | I11: =E11-E10 -> 1 | J11: =(0.5*'Vehicle Specs'!$G$25*'Vehicle Specs'!$C$28*'Vehicle Specs'!$C$27*'Drive Cycle'!E11^2) -> 72.057932 | K11: =IF(A11=1,'Vehicle Specs'!$E$36,IF(A11=2,'Vehicle Specs'!$C$36,IF(A11=3,'Vehicle Specs'!$D$36,IF(A11=4,'Vehicle Specs'!$B$36,1)))) -> 80.19469 | L11: 0 | M11: =L11-L10 -> 0 | N11: =DEGREES(ATAN(M11/$C$3)) -> 0 | O11: =9.81*SIN(RADIANS(N11))*($C$46) -> 0 | P11: =J11+K11+O11 -> 152.25262 | Q11: =IF(H11=1,I11*'Vehicle Specs'!#REF!,IF(H11=2,'Vehicle Specs'!#REF!*I11,IF(H11=3,'Vehicle Specs'!$G$25*I11,0))) -> 0 | R11: =(J11+K11+O11+Q11) -> 152.25262 | S11: =ABS(R11) -> 152.25262 | T11: =ABS((+P11+Q11)*(+E11))/1000 -> 1.3702736 | W11: 308.00786 | X11: =(R11*W11/3600)/1000 -> 0.01302639 | Y11: =ABS(X11) -> 0.01302639 | Z11: =X11*3.09 -> 0.040251545 | AA11: =(0.5*'Vehicle Specs'!$G$20*'Drive Cycle'!E11^2) -> 25467.615 | AB11: =P11+Q11 -> 152.25262 | AC11: =SUM(AB$2:AB11) -> 975.28938
A12: 1 | B12: S1 | C12: =C11+1 -> 10 | D12: =E12*2.237 -> 22.37 | E12: 10 | F12: =($C$3/E12)+F11 -> 2.9289683 | I12: =E12-E11 -> 1 | J12: =(0.5*'Vehicle Specs'!$G$25*'Vehicle Specs'!$C$28*'Vehicle Specs'!$C$27*'Drive Cycle'!E12^2) -> 88.96041 | K12: =IF(A12=1,'Vehicle Specs'!$E$36,IF(A12=2,'Vehicle Specs'!$C$36,IF(A12=3,'Vehicle Specs'!$D$36,IF(A12=4,'Vehicle Specs'!$B$36,1)))) -> 80.19469 | L12: 0 | M12: =L12-L11 -> 0 | N12: =DEGREES(ATAN(M12/$C$3)) -> 0 | O12: =9.81*SIN(RADIANS(N12))*($C$46) -> 0 | P12: =J12+K12+O12 -> 169.1551 | Q12: =IF(H12=1,I12*'Vehicle Specs'!#REF!,IF(H12=2,'Vehicle Specs'!#REF!*I12,IF(H12=3,'Vehicle Specs'!$G$25*I12,0))) -> 0 | R12: =(J12+K12+O12+Q12) -> 169.1551 | S12: =ABS(R12) -> 169.1551 | T12: =ABS((+P12+Q12)*(+E12))/1000 -> 1.691551 | W12: 308.00786 | X12: =(R12*W12/3600)/1000 -> 0.014472528 | Y12: =ABS(X12) -> 0.014472528 | Z12: =X12*3.09 -> 0.044720111 | AA12: =(0.5*'Vehicle Specs'!$G$20*'Drive Cycle'!E12^2) -> 31441.5 | AB12: =P12+Q12 -> 169.1551 | AC12: =SUM(AB$2:AB12) -> 1144.4445
A13: 1 | B13: S1 | C13: =C12+1 -> 11 | D13: =E13*2.237 -> 24.607 | E13: 11 | F13: =($C$3/E13)+F12 -> 3.0198773 | I13: =E13-E12 -> 1 | J13: =(0.5*'Vehicle Specs'!$G$25*'Vehicle Specs'!$C$28*'Vehicle Specs'!$C$27*'Drive Cycle'!E13^2) -> 107.6421 | K13: =IF(A13=1,'Vehicle Specs'!$E$36,IF(A13=2,'Vehicle Specs'!$C$36,IF(A13=3,'Vehicle Specs'!$D$36,IF(A13=4,'Vehicle Specs'!$B$36,1)))) -> 80.19469 | L13: 0 | M13: =L13-L12 -> 0 | N13: =DEGREES(ATAN(M13/$C$3)) -> 0 | O13: =9.81*SIN(RADIANS(N13))*($C$46) -> 0 | P13: =J13+K13+O13 -> 187.83679 | Q13: =IF(H13=1,I13*'Vehicle Specs'!#REF!,IF(H13=2,'Vehicle Specs'!#REF!*I13,IF(H13=3,'Vehicle Specs'!$G$25*I13,0))) -> 0 | R13: =(J13+K13+O13+Q13) -> 187.83679 | S13: =ABS(R13) -> 187.83679 | T13: =ABS((+P13+Q13)*(+E13))/1000 -> 2.0662046 | W13: 308.00786 | X13: =(R13*W13/3600)/1000 -> 0.016070891 | Y13: =ABS(X13) -> 0.016070891 | Z13: =X13*3.09 -> 0.049659052 | AA13: =(0.5*'Vehicle Specs'!$G$20*'Drive Cycle'!E13^2) -> 38044.215 | AB13: =P13+Q13 -> 187.83679 | AC13: =SUM(AB$2:AB13) -> 1332.2813
A14: 1 | B14: S1 | C14: =C13+1 -> 12 | D14: =E14*2.237 -> 26.844 | E14: 12 | F14: =($C$3/E14)+F13 -> 3.1032107 | I14: =E14-E13 -> 1 | J14: =(0.5*'Vehicle Specs'!$G$25*'Vehicle Specs'!$C$28*'Vehicle Specs'!$C$27*'Drive Cycle'!E14^2) -> 128.10299 | K14: =IF(A14=1,'Vehicle Specs'!$E$36,IF(A14=2,'Vehicle Specs'!$C$36,IF(A14=3,'Vehicle Specs'!$D$36,IF(A14=4,'Vehicle Specs'!$B$36,1)))) -> 80.19469 | L14: 0 | M14: =L14-L13 -> 0 | N14: =DEGREES(ATAN(M14/$C$3)) -> 0 | O14: =9.81*SIN(RADIANS(N14))*($C$46) -> 0 | P14: =J14+K14+O14 -> 208.29768 | Q14: =IF(H14=1,I14*'Vehicle Specs'!#REF!,IF(H14=2,'Vehicle Specs'!#REF!*I14,IF(H14=3,'Vehicle Specs'!$G$25*I14,0))) -> 0 | R14: =(J14+K14+O14+Q14) -> 208.29768 | S14: =ABS(R14) -> 208.29768 | T14: =ABS((+P14+Q14)*(+E14))/1000 -> 2.4995722 | W14: 308.00786 | X14: =(R14*W14/3600)/1000 -> 0.017821478 | Y14: =ABS(X14) -> 0.017821478 | Z14: =X14*3.09 -> 0.055068368 | AA14: =(0.5*'Vehicle Specs'!$G$20*'Drive Cycle'!E14^2) -> 45275.76 | AB14: =P14+Q14 -> 208.29768 | AC14: =SUM(AB$2:AB14) -> 1540.5789
A15: 1 | B15: S1 | C15: =C14+1 -> 13 | D15: =E15*2.237 -> 29.081 | E15: 13 | F15: =($C$3/E15)+F14 -> 3.1801338 | I15: =E15-E14 -> 1 | J15: =(0.5*'Vehicle Specs'!$G$25*'Vehicle Specs'!$C$28*'Vehicle Specs'!$C$27*'Drive Cycle'!E15^2) -> 150.34309 | K15: =IF(A15=1,'Vehicle Specs'!$E$36,IF(A15=2,'Vehicle Specs'!$C$36,IF(A15=3,'Vehicle Specs'!$D$36,IF(A15=4,'Vehicle Specs'!$B$36,1)))) -> 80.19469 | L15: 0 | M15: =L15-L14 -> 0 | N15: =DEGREES(ATAN(M15/$C$3)) -> 0 | O15: =9.81*SIN(RADIANS(N15))*($C$46) -> 0 | P15: =J15+K15+O15 -> 230.53778 | Q15: =IF(H15=1,I15*'Vehicle Specs'!#REF!,IF(H15=2,'Vehicle Specs'!#REF!*I15,IF(H15=3,'Vehicle Specs'!$G$25*I15,0))) -> 0 | R15: =(J15+K15+O15+Q15) -> 230.53778 | S15: =ABS(R15) -> 230.53778 | T15: =ABS((+P15+Q15)*(+E15))/1000 -> 2.9969912 | W15: 308.00786 | X15: =(R15*W15/3600)/1000 -> 0.019724291 | Y15: =ABS(X15) -> 0.019724291 | Z15: =X15*3.09 -> 0.06094806 | AA15: =(0.5*'Vehicle Specs'!$G$20*'Drive Cycle'!E15^2) -> 53136.135 | AB15: =P15+Q15 -> 230.53778 | AC15: =SUM(AB$2:AB15) -> 1771.1167
... A94: 1 | B94: S1 | C94: =C93+1 -> 92 | D94: =E94*2.237 -> 29.99817 | E94: 13.41 | F94: =($C$3/E94)+F93 -> 9.0712598 | I94: =E94-E93 -> 0 | J94: =(0.5*'Vehicle Specs'!$G$25*'Vehicle Specs'!$C$28*'Vehicle Specs'!$C$27*'Drive Cycle'!E94^2) -> 159.97582 | K94: =IF(A94=1,'Vehicle Specs'!$E$36,IF(A94=2,'Vehicle Specs'!$C$36,IF(A94=3,'Vehicle Specs'!$D$36,IF(A94=4,'Vehicle Specs'!$B$36,1)))) -> 80.19469 | L94: 0 | M94: =L94-L93 -> 0 | N94: =DEGREES(ATAN(M94/$C$3)) -> 0 | O94: =9.81*SIN(RADIANS(N94))*($C$46) -> 0 | P94: =J94+K94+O94 -> 240.1705 | Q94: =IF(H94=1,I94*'Vehicle Specs'!#REF!,IF(H94=2,'Vehicle Specs'!#REF!*I94,IF(H94=3,'Vehicle Specs'!$G$25*I94,0))) -> 0 | R94: =(J94+K94+O94+Q94) -> 240.1705 | S94: =ABS(R94) -> 240.1705 | T94: =ABS((+P94+Q94)*(+E94))/1000 -> 3.2206865 | W94: 308.00786 | X94: =(R94*W94/3600)/1000 -> 0.020548445 | Y94: =ABS(X94) -> 0.020548445 | Z94: =X94*3.09 -> 0.063494696 | AA94: =(0.5*'Vehicle Specs'!$G$20*'Drive Cycle'!E94^2) -> 56540.652 | AB94: =P94+Q94 -> 240.1705 | AC94: =SUM(AB$2:AB94) -> 20744.587
A95: 1 | B95: S1 | C95: =C94+1 -> 93 | D95: =E95*2.237 -> 29.081 | E95: 13 | F95: =($C$3/E95)+F94 -> 9.1481829 | I95: =E95-E94 -> -0.41 | J95: =(0.5*'Vehicle Specs'!$G$25*'Vehicle Specs'!$C$28*'Vehicle Specs'!$C$27*'Drive Cycle'!E95^2) -> 150.34309 | K95: =IF(A95=1,'Vehicle Specs'!$E$36,IF(A95=2,'Vehicle Specs'!$C$36,IF(A95=3,'Vehicle Specs'!$D$36,IF(A95=4,'Vehicle Specs'!$B$36,1)))) -> 80.19469 | L95: =L94+0.5 -> 0.5 | M95: =L95-L94 -> 0.5 | N95: =DEGREES(ATAN(M95/$C$3)) -> 26.565051 | O95: =9.81*SIN(RADIANS(N95))*($C$46) -> 193.03528 | P95: =J95+K95+O95 -> 423.57306 | Q95: =IF(H95=1,I95*'Vehicle Specs'!#REF!,IF(H95=2,'Vehicle Specs'!#REF!*I95,IF(H95=3,'Vehicle Specs'!$G$25*I95,0))) -> 0 | R95: =(J95+K95+O95+Q95) -> 423.57306 | S95: =ABS(R95) -> 423.57306 | T95: =ABS((+P95+Q95)*(+E95))/1000 -> 5.5064498 | W95: 308.00786 | X95: =(R95*W95/3600)/1000 -> 0.036239953 | Y95: =ABS(X95) -> 0.036239953 | Z95: =X95*3.09 -> 0.11198145 | AA95: =(0.5*'Vehicle Specs'!$G$20*'Drive Cycle'!E95^2) -> 53136.135 | AB95: =P95+Q95 -> 423.57306 | AC95: =SUM(AB$2:AB95) -> 21168.16
A96: 1 | B96: S1 | C96: =C95+1 -> 94 | D96: =E96*2.237 -> 27.9625 | E96: 12.5 | F96: =($C$3/E96)+F95 -> 9.2281829 | I96: =E96-E95 -> -0.5 | J96: =(0.5*'Vehicle Specs'!$G$25*'Vehicle Specs'!$C$28*'Vehicle Specs'!$C$27*'Drive Cycle'!E96^2) -> 139.00064 | K96: =IF(A96=1,'Vehicle Specs'!$E$36,IF(A96=2,'Vehicle Specs'!$C$36,IF(A96=3,'Vehicle Specs'!$D$36,IF(A96=4,'Vehicle Specs'!$B$36,1)))) -> 80.19469 | L96: =L95+0.5 -> 1 | M96: =L96-L95 -> 0.5 | N96: =DEGREES(ATAN(M96/$C$3)) -> 26.565051 | O96: =9.81*SIN(RADIANS(N96))*($C$46) -> 193.03528 | P96: =J96+K96+O96 -> 412.23061 | Q96: =IF(H96=1,I96*'Vehicle Specs'!#REF!,IF(H96=2,'Vehicle Specs'!#REF!*I96,IF(H96=3,'Vehicle Specs'!$G$25*I96,0))) -> 0 | R96: =(J96+K96+O96+Q96) -> 412.23061 | S96: =ABS(R96) -> 412.23061 | T96: =ABS((+P96+Q96)*(+E96))/1000 -> 5.1528826 | W96: 308.00786 | X96: =(R96*W96/3600)/1000 -> 0.035269518 | Y96: =ABS(X96) -> 0.035269518 | Z96: =X96*3.09 -> 0.10898281 | AA96: =(0.5*'Vehicle Specs'!$G$20*'Drive Cycle'!E96^2) -> 49127.344 | AB96: =P96+Q96 -> 412.23061 | AC96: =SUM(AB$2:AB96) -> 21580.39
A97: 1 | B97: S1 | C97: =C96+1 -> 95 | D97: =E97*2.237 -> 26.844 | E97: 12 | F97: =($C$3/E97)+F96 -> 9.3115162 | I97: =E97-E96 -> -0.5 | J97: =(0.5*'Vehicle Specs'!$G$25*'Vehicle Specs'!$C$28*'Vehicle Specs'!$C$27*'Drive Cycle'!E97^2) -> 128.10299 | K97: =IF(A97=1,'Vehicle Specs'!$E$36,IF(A97=2,'Vehicle Specs'!$C$36,IF(A97=3,'Vehicle Specs'!$D$36,IF(A97=4,'Vehicle Specs'!$B$36,1)))) -> 80.19469 | L97: =L96+0.5 -> 1.5 | M97: =L97-L96 -> 0.5 | N97: =DEGREES(ATAN(M97/$C$3)) -> 26.565051 | O97: =9.81*SIN(RADIANS(N97))*($C$46) -> 193.03528 | P97: =J97+K97+O97 -> 401.33296 | Q97: =IF(H97=1,I97*'Vehicle Specs'!#REF!,IF(H97=2,'Vehicle Specs'!#REF!*I97,IF(H97=3,'Vehicle Specs'!$G$25*I97,0))) -> 0 | R97: =(J97+K97+O97+Q97) -> 401.33296 | S97: =ABS(R97) -> 401.33296 | T97: =ABS((+P97+Q97)*(+E97))/1000 -> 4.8159955 | W97: 308.00786 | X97: =(R97*W97/3600)/1000 -> 0.03433714 | Y97: =ABS(X97) -> 0.03433714 | Z97: =X97*3.09 -> 0.10610176 | AA97: =(0.5*'Vehicle Specs'!$G$20*'Drive Cycle'!E97^2) -> 45275.76 | AB97: =P97+Q97 -> 401.33296 | AC97: =SUM(AB$2:AB97) -> 21981.723
A98: 1 | B98: S1 | C98: =C97+1 -> 96 | D98: =E98*2.237 -> 25.7255 | E98: 11.5 | F98: =($C$3/E98)+F97 -> 9.3984727 | I98: =E98-E97 -> -0.5 | J98: =(0.5*'Vehicle Specs'!$G$25*'Vehicle Specs'!$C$28*'Vehicle Specs'!$C$27*'Drive Cycle'!E98^2) -> 117.65014 | K98: =IF(A98=1,'Vehicle Specs'!$E$36,IF(A98=2,'Vehicle Specs'!$C$36,IF(A98=3,'Vehicle Specs'!$D$36,IF(A98=4,'Vehicle Specs'!$B$36,1)))) -> 80.19469 | L98: =L97+0.5 -> 2 | M98: =L98-L97 -> 0.5 | N98: =DEGREES(ATAN(M98/$C$3)) -> 26.565051 | O98: =9.81*SIN(RADIANS(N98))*($C$46) -> 193.03528 | P98: =J98+K98+O98 -> 390.88011 | Q98: =IF(H98=1,I98*'Vehicle Specs'!#REF!,IF(H98=2,'Vehicle Specs'!#REF!*I98,IF(H98=3,'Vehicle Specs'!$G$25*I98,0))) -> 0 | R98: =(J98+K98+O98+Q98) -> 390.88011 | S98: =ABS(R98) -> 390.88011 | T98: =ABS((+P98+Q98)*(+E98))/1000 -> 4.4951212 | W98: 308.00786 | X98: =(R98*W98/3600)/1000 -> 0.033442818 | Y98: =ABS(X98) -> 0.033442818 | Z98: =X98*3.09 -> 0.10333831 | AA98: =(0.5*'Vehicle Specs'!$G$20*'Drive Cycle'!E98^2) -> 41581.384 | AB98: =P98+Q98 -> 390.88011 | AC98: =SUM(AB$2:AB98) -> 22372.603
A99: 1 | B99: S1 | C99: =C98+1 -> 97 | D99: =E99*2.237 -> 24.607 | E99: 11 | F99: =($C$3/E99)+F98 -> 9.4893818 | I99: =E99-E98 -> -0.5 | J99: =(0.5*'Vehicle Specs'!$G$25*'Vehicle Specs'!$C$28*'Vehicle Specs'!$C$27*'Drive Cycle'!E99^2) -> 107.6421 | K99: =IF(A99=1,'Vehicle Specs'!$E$36,IF(A99=2,'Vehicle Specs'!$C$36,IF(A99=3,'Vehicle Specs'!$D$36,IF(A99=4,'Vehicle Specs'!$B$36,1)))) -> 80.19469 | L99: =L98+0.5 -> 2.5 | M99: =L99-L98 -> 0.5 | N99: =DEGREES(ATAN(M99/$C$3)) -> 26.565051 | O99: =9.81*SIN(RADIANS(N99))*($C$46) -> 193.03528 | P99: =J99+K99+O99 -> 380.87206 | Q99: =IF(H99=1,I99*'Vehicle Specs'!#REF!,IF(H99=2,'Vehicle Specs'!#REF!*I99,IF(H99=3,'Vehicle Specs'!$G$25*I99,0))) -> 0 | R99: =(J99+K99+O99+Q99) -> 380.87206 | S99: =ABS(R99) -> 380.87206 | T99: =ABS((+P99+Q99)*(+E99))/1000 -> 4.1895927 | W99: 308.00786 | X99: =(R99*W99/3600)/1000 -> 0.032586552 | Y99: =ABS(X99) -> 0.032586552 | Z99: =X99*3.09 -> 0.10069245 | AA99: =(0.5*'Vehicle Specs'!$G$20*'Drive Cycle'!E99^2) -> 38044.215 | AB99: =P99+Q99 -> 380.87206 | AC99: =SUM(AB$2:AB99) -> 22753.475
A100: 1 | B100: S1 | C100: =C99+1 -> 98 | D100: =E100*2.237 -> 24.607 | E100: 11 | F100: =($C$3/E100)+F99 -> 9.5802909 | I100: =E100-E99 -> 0 | J100: =(0.5*'Vehicle Specs'!$G$25*'Vehicle Specs'!$C$28*'Vehicle Specs'!$C$27*'Drive Cycle'!E100^2) -> 107.6421 | K100: =IF(A100=1,'Vehicle Specs'!$E$36,IF(A100=2,'Vehicle Specs'!$C$36,IF(A100=3,'Vehicle Specs'!$D$36,IF(A100=4,'Vehicle Specs'!$B$36,1)))) -> 80.19469 | L100: =L99+0.5 -> 3 | M100: =L100-L99 -> 0.5 | N100: =DEGREES(ATAN(M100/$C$3)) -> 26.565051 | O100: =9.81*SIN(RADIANS(N100))*($C$46) -> 193.03528 | P100: =J100+K100+O100 -> 380.87206 | Q100: =IF(H100=1,I100*'Vehicle Specs'!#REF!,IF(H100=2,'Vehicle Specs'!#REF!*I100,IF(H100=3,'Vehicle Specs'!$G$25*I100,0))) -> 0 | R100: =(J100+K100+O100+Q100) -> 380.87206 | S100: =ABS(R100) -> 380.87206 | T100: =ABS((+P100+Q100)*(+E100))/1000 -> 4.1895927 | W100: 308.00786 | X100: =(R100*W100/3600)/1000 -> 0.032586552 | Y100: =ABS(X100) -> 0.032586552 | Z100: =X100*3.09 -> 0.10069245 | AA100: =(0.5*'Vehicle Specs'!$G$20*'Drive Cycle'!E100^2) -> 38044.215 | AB100: =P100+Q100 -> 380.87206 | AC100: =SUM(AB$2:AB100) -> 23134.347
A101: 1 | B101: S1 | C101: =C100+1 -> 99 | D101: =E101*2.237 -> 24.607 | E101: 11 | F101: =($C$3/E101)+F100 -> 9.6712 | I101: =E101-E100 -> 0 | J101: =(0.5*'Vehicle Specs'!$G$25*'Vehicle Specs'!$C$28*'Vehicle Specs'!$C$27*'Drive Cycle'!E101^2) -> 107.6421 | K101: =IF(A101=1,'Vehicle Specs'!$E$36,IF(A101=2,'Vehicle Specs'!$C$36,IF(A101=3,'Vehicle Specs'!$D$36,IF(A101=4,'Vehicle Specs'!$B$36,1)))) -> 80.19469 | L101: =L100+0.5 -> 3.5 | M101: =L101-L100 -> 0.5 | N101: =DEGREES(ATAN(M101/$C$3)) -> 26.565051 | O101: =9.81*SIN(RADIANS(N101))*($C$46) -> 193.03528 | P101: =J101+K101+O101 -> 380.87206 | Q101: =IF(H101=1,I101*'Vehicle Specs'!#REF!,IF(H101=2,'Vehicle Specs'!#REF!*I101,IF(H101=3,'Vehicle Specs'!$G$25*I101,0))) -> 0 | R101: =(J101+K101+O101+Q101) -> 380.87206 | S101: =ABS(R101) -> 380.87206 | T101: =ABS((+P101+Q101)*(+E101))/1000 -> 4.1895927 | W101: 308.00786 | X101: =(R101*W101/3600)/1000 -> 0.032586552 | Y101: =ABS(X101) -> 0.032586552 | Z101: =X101*3.09 -> 0.10069245 | AA101: =(0.5*'Vehicle Specs'!$G$20*'Drive Cycle'!E101^2) -> 38044.215 | AB101: =P101+Q101 -> 380.87206 | AC101: =SUM(AB$2:AB101) -> 23515.22
A102: 1 | B102: S1 | C102: =C101+1 -> 100 | D102: =E102*2.237 -> 24.607 | E102: 11 | F102: =($C$3/E102)+F101 -> 9.7621091 | I102: =E102-E101 -> 0 | J102: =(0.5*'Vehicle Specs'!$G$25*'Vehicle Specs'!$C$28*'Vehicle Specs'!$C$27*'Drive Cycle'!E102^2) -> 107.6421 | K102: =IF(A102=1,'Vehicle Specs'!$E$36,IF(A102=2,'Vehicle Specs'!$C$36,IF(A102=3,'Vehicle Specs'!$D$36,IF(A102=4,'Vehicle Specs'!$B$36,1)))) -> 80.19469 | L102: =L101+0.5 -> 4 | M102: =L102-L101 -> 0.5 | N102: =DEGREES(ATAN(M102/$C$3)) -> 26.565051 | O102: =9.81*SIN(RADIANS(N102))*($C$46) -> 193.03528 | P102: =J102+K102+O102 -> 380.87206 | Q102: =IF(H102=1,I102*'Vehicle Specs'!#REF!,IF(H102=2,'Vehicle Specs'!#REF!*I102,IF(H102=3,'Vehicle Specs'!$G$25*I102,0))) -> 0 | R102: =(J102+K102+O102+Q102) -> 380.87206 | S102: =ABS(R102) -> 380.87206 | T102: =ABS((+P102+Q102)*(+E102))/1000 -> 4.1895927 | W102: 308.00786 | X102: =(R102*W102/3600)/1000 -> 0.032586552 | Y102: =ABS(X102) -> 0.032586552 | Z102: =X102*3.09 -> 0.10069245 | AA102: =(0.5*'Vehicle Specs'!$G$20*'Drive Cycle'!E102^2) -> 38044.215 | AB102: =P102+Q102 -> 380.87206 | AC102: =SUM(AB$2:AB102) -> 23896.092
A103: 1 | B103: S1 | C103: =C102+1 -> 101 | D103: =E103*2.237 -> 24.607 | E103: 11 | F103: =($C$3/E103)+F102 -> 9.8530182 | I103: =E103-E102 -> 0 | J103: =(0.5*'Vehicle Specs'!$G$25*'Vehicle Specs'!$C$28*'Vehicle Specs'!$C$27*'Drive Cycle'!E103^2) -> 107.6421 | K103: =IF(A103=1,'Vehicle Specs'!$E$36,IF(A103=2,'Vehicle Specs'!$C$36,IF(A103=3,'Vehicle Specs'!$D$36,IF(A103=4,'Vehicle Specs'!$B$36,1)))) -> 80.19469 | L103: =L102+0.5 -> 4.5 | M103: =L103-L102 -> 0.5 | N103: =DEGREES(ATAN(M103/$C$3)) -> 26.565051 | O103: =9.81*SIN(RADIANS(N103))*($C$46) -> 193.03528 | P103: =J103+K103+O103 -> 380.87206 | Q103: =IF(H103=1,I103*'Vehicle Specs'!#REF!,IF(H103=2,'Vehicle Specs'!#REF!*I103,IF(H103=3,'Vehicle Specs'!$G$25*I103,0))) -> 0 | R103: =(J103+K103+O103+Q103) -> 380.87206 | S103: =ABS(R103) -> 380.87206 | T103: =ABS((+P103+Q103)*(+E103))/1000 -> 4.1895927 | W103: 308.00786 | X103: =(R103*W103/3600)/1000 -> 0.032586552 | Y103: =ABS(X103) -> 0.032586552 | Z103: =X103*3.09 -> 0.10069245 | AA103: =(0.5*'Vehicle Specs'!$G$20*'Drive Cycle'!E103^2) -> 38044.215 | AB103: =P103+Q103 -> 380.87206 | AC103: =SUM(AB$2:AB103) -> 24276.964
A104: 1 | B104: S1 | C104: =C103+1 -> 102 | D104: =E104*2.237 -> 24.607 | E104: 11 | F104: =($C$3/E104)+F103 -> 9.9439273 | I104: =E104-E103 -> 0 | J104: =(0.5*'Vehicle Specs'!$G$25*'Vehicle Specs'!$C$28*'Vehicle Specs'!$C$27*'Drive Cycle'!E104^2) -> 107.6421 | K104: =IF(A104=1,'Vehicle Specs'!$E$36,IF(A104=2,'Vehicle Specs'!$C$36,IF(A104=3,'Vehicle Specs'!$D$36,IF(A104=4,'Vehicle Specs'!$B$36,1)))) -> 80.19469 | L104: =L103+0.5 -> 5 | M104: =L104-L103 -> 0.5 | N104: =DEGREES(ATAN(M104/$C$3)) -> 26.565051 | O104: =9.81*SIN(RADIANS(N104))*($C$46) -> 193.03528 | P104: =J104+K104+O104 -> 380.87206 | Q104: =IF(H104=1,I104*'Vehicle Specs'!#REF!,IF(H104=2,'Vehicle Specs'!#REF!*I104,IF(H104=3,'Vehicle Specs'!$G$25*I104,0))) -> 0 | R104: =(J104+K104+O104+Q104) -> 380.87206 | S104: =ABS(R104) -> 380.87206 | T104: =ABS((+P104+Q104)*(+E104))/1000 -> 4.1895927 | W104: 308.00786 | X104: =(R104*W104/3600)/1000 -> 0.032586552 | Y104: =ABS(X104) -> 0.032586552 | Z104: =X104*3.09 -> 0.10069245 | AA104: =(0.5*'Vehicle Specs'!$G$20*'Drive Cycle'!E104^2) -> 38044.215 | AB104: =P104+Q104 -> 380.87206 | AC104: =SUM(AB$2:AB104) -> 24657.836
A105: 1 | B105: S1 | C105: =C104+1 -> 103 | D105: =E105*2.237 -> 24.607 | E105: 11 | F105: =($C$3/E105)+F104 -> 10.034836 | I105: =E105-E104 -> 0 | J105: =(0.5*'Vehicle Specs'!$G$25*'Vehicle Specs'!$C$28*'Vehicle Specs'!$C$27*'Drive Cycle'!E105^2) -> 107.6421 | K105: =IF(A105=1,'Vehicle Specs'!$E$36,IF(A105=2,'Vehicle Specs'!$C$36,IF(A105=3,'Vehicle Specs'!$D$36,IF(A105=4,'Vehicle Specs'!$B$36,1)))) -> 80.19469 | L105: =L104+0.5 -> 5.5 | M105: =L105-L104 -> 0.5 | N105: =DEGREES(ATAN(M105/$C$3)) -> 26.565051 | O105: =9.81*SIN(RADIANS(N105))*($C$46) -> 193.03528 | P105: =J105+K105+O105 -> 380.87206 | Q105: =IF(H105=1,I105*'Vehicle Specs'!#REF!,IF(H105=2,'Vehicle Specs'!#REF!*I105,IF(H105=3,'Vehicle Specs'!$G$25*I105,0))) -> 0 | R105: =(J105+K105+O105+Q105) -> 380.87206 | S105: =ABS(R105) -> 380.87206 | T105: =ABS((+P105+Q105)*(+E105))/1000 -> 4.1895927 | W105: 308.00786 | X105: =(R105*W105/3600)/1000 -> 0.032586552 | Y105: =ABS(X105) -> 0.032586552 | Z105: =X105*3.09 -> 0.10069245 | AA105: =(0.5*'Vehicle Specs'!$G$20*'Drive Cycle'!E105^2) -> 38044.215 | AB105: =P105+Q105 -> 380.87206 | AC105: =SUM(AB$2:AB105) -> 25038.708
A106: 1 | B106: S1 | C106: =C105+1 -> 104 | D106: =E106*2.237 -> 24.607 | E106: 11 | F106: =($C$3/E106)+F105 -> 10.125745 | I106: =E106-E105 -> 0 | J106: =(0.5*'Vehicle Specs'!$G$25*'Vehicle Specs'!$C$28*'Vehicle Specs'!$C$27*'Drive Cycle'!E106^2) -> 107.6421 | K106: =IF(A106=1,'Vehicle Specs'!$E$36,IF(A106=2,'Vehicle Specs'!$C$36,IF(A106=3,'Vehicle Specs'!$D$36,IF(A106=4,'Vehicle Specs'!$B$36,1)))) -> 80.19469 | L106: =L105+0.5 -> 6 | M106: =L106-L105 -> 0.5 | N106: =DEGREES(ATAN(M106/$C$3)) -> 26.565051 | O106: =9.81*SIN(RADIANS(N106))*($C$46) -> 193.03528 | P106: =J106+K106+O106 -> 380.87206 | Q106: =IF(H106=1,I106*'Vehicle Specs'!#REF!,IF(H106=2,'Vehicle Specs'!#REF!*I106,IF(H106=3,'Vehicle Specs'!$G$25*I106,0))) -> 0 | R106: =(J106+K106+O106+Q106) -> 380.87206 | S106: =ABS(R106) -> 380.87206 | T106: =ABS((+P106+Q106)*(+E106))/1000 -> 4.1895927 | W106: 308.00786 | X106: =(R106*W106/3600)/1000 -> 0.032586552 | Y106: =ABS(X106) -> 0.032586552 | Z106: =X106*3.09 -> 0.10069245 | AA106: =(0.5*'Vehicle Specs'!$G$20*'Drive Cycle'!E106^2) -> 38044.215 | AB106: =P106+Q106 -> 380.87206 | AC106: =SUM(AB$2:AB106) -> 25419.58
... A111: 1 | B111: S1 | C111: =C110+1 -> 109 | D111: =E111*2.237 -> 24.607 | E111: 11 | F111: =($C$3/E111)+F110 -> 10.580291 | I111: =E111-E110 -> 0 | J111: =(0.5*'Vehicle Specs'!$G$25*'Vehicle Specs'!$C$28*'Vehicle Specs'!$C$27*'Drive Cycle'!E111^2) -> 107.6421 | K111: =IF(A111=1,'Vehicle Specs'!$E$36,IF(A111=2,'Vehicle Specs'!$C$36,IF(A111=3,'Vehicle Specs'!$D$36,IF(A111=4,'Vehicle Specs'!$B$36,1)))) -> 80.19469 | L111: =L110+0.5 -> 8.5 | M111: =L111-L110 -> 0.5 | N111: =DEGREES(ATAN(M111/$C$3)) -> 26.565051 | O111: =9.81*SIN(RADIANS(N111))*($C$46) -> 193.03528 | P111: =J111+K111+O111 -> 380.87206 | Q111: =IF(H111=1,I111*'Vehicle Specs'!#REF!,IF(H111=2,'Vehicle Specs'!#REF!*I111,IF(H111=3,'Vehicle Specs'!$G$25*I111,0))) -> 0 | R111: =(J111+K111+O111+Q111) -> 380.87206 | S111: =ABS(R111) -> 380.87206 | T111: =ABS((+P111+Q111)*(+E111))/1000 -> 4.1895927 | W111: 308.00786 | X111: =(R111*W111/3600)/1000 -> 0.032586552 | Y111: =ABS(X111) -> 0.032586552 | Z111: =X111*3.09 -> 0.10069245 | AA111: =(0.5*'Vehicle Specs'!$G$20*'Drive Cycle'!E111^2) -> 38044.215 | AB111: =P111+Q111 -> 380.87206 | AC111: =SUM(AB$2:AB111) -> 27323.94
A112: 1 | B112: S1 | C112: =C111+1 -> 110 | D112: =E112*2.237 -> 26.844 | E112: 12 | F112: =($C$3/E112)+F111 -> 10.663624 | I112: =E112-E111 -> 1 | J112: =(0.5*'Vehicle Specs'!$G$25*'Vehicle Specs'!$C$28*'Vehicle Specs'!$C$27*'Drive Cycle'!E112^2) -> 128.10299 | K112: =IF(A112=1,'Vehicle Specs'!$E$36,IF(A112=2,'Vehicle Specs'!$C$36,IF(A112=3,'Vehicle Specs'!$D$36,IF(A112=4,'Vehicle Specs'!$B$36,1)))) -> 80.19469 | L112: =L111 -> 8.5 | M112: =L112-L111 -> 0 | N112: =DEGREES(ATAN(M112/$C$3)) -> 0 | O112: =9.81*SIN(RADIANS(N112))*($C$46) -> 0 | P112: =J112+K112+O112 -> 208.29768 | Q112: =IF(H112=1,I112*'Vehicle Specs'!#REF!,IF(H112=2,'Vehicle Specs'!#REF!*I112,IF(H112=3,'Vehicle Specs'!$G$25*I112,0))) -> 0 | R112: =(J112+K112+O112+Q112) -> 208.29768 | S112: =ABS(R112) -> 208.29768 | T112: =ABS((+P112+Q112)*(+E112))/1000 -> 2.4995722 | W112: 308.00786 | X112: =(R112*W112/3600)/1000 -> 0.017821478 | Y112: =ABS(X112) -> 0.017821478 | Z112: =X112*3.09 -> 0.055068368 | AA112: =(0.5*'Vehicle Specs'!$G$20*'Drive Cycle'!E112^2) -> 45275.76 | AB112: =P112+Q112 -> 208.29768 | AC112: =SUM(AB$2:AB112) -> 27532.238
A113: 1 | B113: S1 | C113: =C112+1 -> 111 | D113: =E113*2.237 -> 29.081 | E113: 13 | F113: =($C$3/E113)+F112 -> 10.740547 | I113: =E113-E112 -> 1 | J113: =(0.5*'Vehicle Specs'!$G$25*'Vehicle Specs'!$C$28*'Vehicle Specs'!$C$27*'Drive Cycle'!E113^2) -> 150.34309 | K113: =IF(A113=1,'Vehicle Specs'!$E$36,IF(A113=2,'Vehicle Specs'!$C$36,IF(A113=3,'Vehicle Specs'!$D$36,IF(A113=4,'Vehicle Specs'!$B$36,1)))) -> 80.19469 | L113: =L112 -> 8.5 | M113: =L113-L112 -> 0 | N113: =DEGREES(ATAN(M113/$C$3)) -> 0 | O113: =9.81*SIN(RADIANS(N113))*($C$46) -> 0 | P113: =J113+K113+O113 -> 230.53778 | Q113: =IF(H113=1,I113*'Vehicle Specs'!#REF!,IF(H113=2,'Vehicle Specs'!#REF!*I113,IF(H113=3,'Vehicle Specs'!$G$25*I113,0))) -> 0 | R113: =(J113+K113+O113+Q113) -> 230.53778 | S113: =ABS(R113) -> 230.53778 | T113: =ABS((+P113+Q113)*(+E113))/1000 -> 2.9969912 | W113: 308.00786 | X113: =(R113*W113/3600)/1000 -> 0.019724291 | Y113: =ABS(X113) -> 0.019724291 | Z113: =X113*3.09 -> 0.06094806 | AA113: =(0.5*'Vehicle Specs'!$G$20*'Drive Cycle'!E113^2) -> 53136.135 | AB113: =P113+Q113 -> 230.53778 | AC113: =SUM(AB$2:AB113) -> 27762.776
A114: 1 | B114: S1 | C114: =C113+1 -> 112 | D114: =E114*2.237 -> 29.99817 | E114: 13.41 | F114: =($C$3/E114)+F113 -> 10.815119 | I114: =E114-E113 -> 0.41 | J114: =(0.5*'Vehicle Specs'!$G$25*'Vehicle Specs'!$C$28*'Vehicle Specs'!$C$27*'Drive Cycle'!E114^2) -> 159.97582 | K114: =IF(A114=1,'Vehicle Specs'!$E$36,IF(A114=2,'Vehicle Specs'!$C$36,IF(A114=3,'Vehicle Specs'!$D$36,IF(A114=4,'Vehicle Specs'!$B$36,1)))) -> 80.19469 | L114: =L113 -> 8.5 | M114: =L114-L113 -> 0 | N114: =DEGREES(ATAN(M114/$C$3)) -> 0 | O114: =9.81*SIN(RADIANS(N114))*($C$46) -> 0 | P114: =J114+K114+O114 -> 240.1705 | Q114: =IF(H114=1,I114*'Vehicle Specs'!#REF!,IF(H114=2,'Vehicle Specs'!#REF!*I114,IF(H114=3,'Vehicle Specs'!$G$25*I114,0))) -> 0 | R114: =(J114+K114+O114+Q114) -> 240.1705 | S114: =ABS(R114) -> 240.1705 | T114: =ABS((+P114+Q114)*(+E114))/1000 -> 3.2206865 | W114: 308.00786 | X114: =(R114*W114/3600)/1000 -> 0.020548445 | Y114: =ABS(X114) -> 0.020548445 | Z114: =X114*3.09 -> 0.063494696 | AA114: =(0.5*'Vehicle Specs'!$G$20*'Drive Cycle'!E114^2) -> 56540.652 | AB114: =P114+Q114 -> 240.1705 | AC114: =SUM(AB$2:AB114) -> 28002.946
A115: 1 | B115: S1 | C115: =C114+1 -> 113 | D115: =E115*2.237 -> 29.99817 | E115: 13.41 | F115: =($C$3/E115)+F114 -> 10.88969 | I115: =E115-E114 -> 0 | J115: =(0.5*'Vehicle Specs'!$G$25*'Vehicle Specs'!$C$28*'Vehicle Specs'!$C$27*'Drive Cycle'!E115^2) -> 159.97582 | K115: =IF(A115=1,'Vehicle Specs'!$E$36,IF(A115=2,'Vehicle Specs'!$C$36,IF(A115=3,'Vehicle Specs'!$D$36,IF(A115=4,'Vehicle Specs'!$B$36,1)))) -> 80.19469 | L115: =L114 -> 8.5 | M115: =L115-L114 -> 0 | N115: =DEGREES(ATAN(M115/$C$3)) -> 0 | O115: =9.81*SIN(RADIANS(N115))*($C$46) -> 0 | P115: =J115+K115+O115 -> 240.1705 | Q115: =IF(H115=1,I115*'Vehicle Specs'!#REF!,IF(H115=2,'Vehicle Specs'!#REF!*I115,IF(H115=3,'Vehicle Specs'!$G$25*I115,0))) -> 0 | R115: =(J115+K115+O115+Q115) -> 240.1705 | S115: =ABS(R115) -> 240.1705 | T115: =ABS((+P115+Q115)*(+E115))/1000 -> 3.2206865 | W115: 308.00786 | X115: =(R115*W115/3600)/1000 -> 0.020548445 | Y115: =ABS(X115) -> 0.020548445 | Z115: =X115*3.09 -> 0.063494696 | AA115: =(0.5*'Vehicle Specs'!$G$20*'Drive Cycle'!E115^2) -> 56540.652 | AB115: =P115+Q115 -> 240.1705 | AC115: =SUM(AB$2:AB115) -> 28243.117
A116: 1 | B116: S1 | C116: =C115+1 -> 114 | D116: =E116*2.237 -> 29.99817 | E116: 13.41 | F116: =($C$3/E116)+F115 -> 10.964261 | I116: =E116-E115 -> 0 | J116: =(0.5*'Vehicle Specs'!$G$25*'Vehicle Specs'!$C$28*'Vehicle Specs'!$C$27*'Drive Cycle'!E116^2) -> 159.97582 | K116: =IF(A116=1,'Vehicle Specs'!$E$36,IF(A116=2,'Vehicle Specs'!$C$36,IF(A116=3,'Vehicle Specs'!$D$36,IF(A116=4,'Vehicle Specs'!$B$36,1)))) -> 80.19469 | L116: =L115 -> 8.5 | M116: =L116-L115 -> 0 | N116: =DEGREES(ATAN(M116/$C$3)) -> 0 | O116: =9.81*SIN(RADIANS(N116))*($C$46) -> 0 | P116: =J116+K116+O116 -> 240.1705 | Q116: =IF(H116=1,I116*'Vehicle Specs'!#REF!,IF(H116=2,'Vehicle Specs'!#REF!*I116,IF(H116=3,'Vehicle Specs'!$G$25*I116,0))) -> 0 | R116: =(J116+K116+O116+Q116) -> 240.1705 | S116: =ABS(R116) -> 240.1705 | T116: =ABS((+P116+Q116)*(+E116))/1000 -> 3.2206865 | W116: 308.00786 | X116: =(R116*W116/3600)/1000 -> 0.020548445 | Y116: =ABS(X116) -> 0.020548445 | Z116: =X116*3.09 -> 0.063494696 | AA116: =(0.5*'Vehicle Specs'!$G$20*'Drive Cycle'!E116^2) -> 56540.652 | AB116: =P116+Q116 -> 240.1705 | AC116: =SUM(AB$2:AB116) -> 28483.287
A117: 1 | B117: S1 | C117: =C116+1 -> 115 | D117: =E117*2.237 -> 29.99817 | E117: 13.41 | F117: =($C$3/E117)+F116 -> 11.038832 | I117: =E117-E116 -> 0 | J117: =(0.5*'Vehicle Specs'!$G$25*'Vehicle Specs'!$C$28*'Vehicle Specs'!$C$27*'Drive Cycle'!E117^2) -> 159.97582 | K117: =IF(A117=1,'Vehicle Specs'!$E$36,IF(A117=2,'Vehicle Specs'!$C$36,IF(A117=3,'Vehicle Specs'!$D$36,IF(A117=4,'Vehicle Specs'!$B$36,1)))) -> 80.19469 | L117: =L116 -> 8.5 | M117: =L117-L116 -> 0 | N117: =DEGREES(ATAN(M117/$C$3)) -> 0 | O117: =9.81*SIN(RADIANS(N117))*($C$46) -> 0 | P117: =J117+K117+O117 -> 240.1705 | Q117: =IF(H117=1,I117*'Vehicle Specs'!#REF!,IF(H117=2,'Vehicle Specs'!#REF!*I117,IF(H117=3,'Vehicle Specs'!$G$25*I117,0))) -> 0 | R117: =(J117+K117+O117+Q117) -> 240.1705 | S117: =ABS(R117) -> 240.1705 | T117: =ABS((+P117+Q117)*(+E117))/1000 -> 3.2206865 | W117: 308.00786 | X117: =(R117*W117/3600)/1000 -> 0.020548445 | Y117: =ABS(X117) -> 0.020548445 | Z117: =X117*3.09 -> 0.063494696 | AA117: =(0.5*'Vehicle Specs'!$G$20*'Drive Cycle'!E117^2) -> 56540.652 | AB117: =P117+Q117 -> 240.1705 | AC117: =SUM(AB$2:AB117) -> 28723.458
A118: 1 | B118: S1 | C118: =C117+1 -> 116 | D118: =E118*2.237 -> 22.37 | E118: 10 | F118: =($C$3/E118)+F117 -> 11.138832 | I118: =E118-E117 -> -3.41 | J118: =(0.5*'Vehicle Specs'!$G$25*'Vehicle Specs'!$C$28*'Vehicle Specs'!$C$27*'Drive Cycle'!E118^2) -> 88.96041 | K118: =IF(A118=1,'Vehicle Specs'!$E$36,IF(A118=2,'Vehicle Specs'!$C$36,IF(A118=3,'Vehicle Specs'!$D$36,IF(A118=4,'Vehicle Specs'!$B$36,1)))) -> 80.19469 | L118: =L117 -> 8.5 | M118: =L118-L117 -> 0 | N118: =DEGREES(ATAN(M118/$C$3)) -> 0 | O118: =9.81*SIN(RADIANS(N118))*($C$46) -> 0 | P118: =J118+K118+O118 -> 169.1551 | Q118: =IF(H118=1,I118*'Vehicle Specs'!#REF!,IF(H118=2,'Vehicle Specs'!#REF!*I118,IF(H118=3,'Vehicle Specs'!$G$25*I118,0))) -> 0 | R118: =(J118+K118+O118+Q118) -> 169.1551 | S118: =ABS(R118) -> 169.1551 | T118: =ABS((+P118+Q118)*(+E118))/1000 -> 1.691551 | W118: 308.00786 | X118: =(R118*W118/3600)/1000 -> 0.014472528 | Y118: =ABS(X118) -> 0.014472528 | Z118: =X118*3.09 -> 0.044720111 | AA118: =(0.5*'Vehicle Specs'!$G$20*'Drive Cycle'!E118^2) -> 31441.5 | AB118: =P118+Q118 -> 169.1551 | AC118: =SUM(AB$2:AB118) -> 28892.613
A119: 1 | B119: S1 | C119: =C118+1 -> 117 | D119: =E119*2.237 -> 22.37 | E119: 10 | F119: =($C$3/E119)+F118 -> 11.238832 | I119: =E119-E118 -> 0 | J119: =(0.5*'Vehicle Specs'!$G$25*'Vehicle Specs'!$C$28*'Vehicle Specs'!$C$27*'Drive Cycle'!E119^2) -> 88.96041 | K119: =IF(A119=1,'Vehicle Specs'!$E$36,IF(A119=2,'Vehicle Specs'!$C$36,IF(A119=3,'Vehicle Specs'!$D$36,IF(A119=4,'Vehicle Specs'!$B$36,1)))) -> 80.19469 | L119: =L118 -> 8.5 | M119: =L119-L118 -> 0 | N119: =DEGREES(ATAN(M119/$C$3)) -> 0 | O119: =9.81*SIN(RADIANS(N119))*($C$46) -> 0 | P119: =J119+K119+O119 -> 169.1551 | Q119: =IF(H119=1,I119*'Vehicle Specs'!#REF!,IF(H119=2,'Vehicle Specs'!#REF!*I119,IF(H119=3,'Vehicle Specs'!$G$25*I119,0))) -> 0 | R119: =(J119+K119+O119+Q119) -> 169.1551 | S119: =ABS(R119) -> 169.1551 | T119: =ABS((+P119+Q119)*(+E119))/1000 -> 1.691551 | W119: 308.00786 | X119: =(R119*W119/3600)/1000 -> 0.014472528 | Y119: =ABS(X119) -> 0.014472528 | Z119: =X119*3.09 -> 0.044720111 | AA119: =(0.5*'Vehicle Specs'!$G$20*'Drive Cycle'!E119^2) -> 31441.5 | AB119: =P119+Q119 -> 169.1551 | AC119: =SUM(AB$2:AB119) -> 29061.768
A120: 1 | B120: S1 | C120: =C119+1 -> 118 | D120: =E120*2.237 -> 23.4885 | E120: 10.5 | F120: =($C$3/E120)+F119 -> 11.33407 | I120: =E120-E119 -> 0.5 | J120: =(0.5*'Vehicle Specs'!$G$25*'Vehicle Specs'!$C$28*'Vehicle Specs'!$C$27*'Drive Cycle'!E120^2) -> 98.078852 | K120: =IF(A120=1,'Vehicle Specs'!$E$36,IF(A120=2,'Vehicle Specs'!$C$36,IF(A120=3,'Vehicle Specs'!$D$36,IF(A120=4,'Vehicle Specs'!$B$36,1)))) -> 80.19469 | L120: =L119 -> 8.5 | M120: =L120-L119 -> 0 | N120: =DEGREES(ATAN(M120/$C$3)) -> 0 | O120: =9.81*SIN(RADIANS(N120))*($C$46) -> 0 | P120: =J120+K120+O120 -> 178.27354 | Q120: =IF(H120=1,I120*'Vehicle Specs'!#REF!,IF(H120=2,'Vehicle Specs'!#REF!*I120,IF(H120=3,'Vehicle Specs'!$G$25*I120,0))) -> 0 | R120: =(J120+K120+O120+Q120) -> 178.27354 | S120: =ABS(R120) -> 178.27354 | T120: =ABS((+P120+Q120)*(+E120))/1000 -> 1.8718722 | W120: 308.00786 | X120: =(R120*W120/3600)/1000 -> 0.015252681 | Y120: =ABS(X120) -> 0.015252681 | Z120: =X120*3.09 -> 0.047130784 | AA120: =(0.5*'Vehicle Specs'!$G$20*'Drive Cycle'!E120^2) -> 34664.254 | AB120: =P120+Q120 -> 178.27354 | AC120: =SUM(AB$2:AB120) -> 29240.041
A121: 1 | B121: S1 | C121: =C120+1 -> 119 | D121: =E121*2.237 -> 23.4885 | E121: 10.5 | F121: =($C$3/E121)+F120 -> 11.429308 | I121: =E121-E120 -> 0 | J121: =(0.5*'Vehicle Specs'!$G$25*'Vehicle Specs'!$C$28*'Vehicle Specs'!$C$27*'Drive Cycle'!E121^2) -> 98.078852 | K121: =IF(A121=1,'Vehicle Specs'!$E$36,IF(A121=2,'Vehicle Specs'!$C$36,IF(A121=3,'Vehicle Specs'!$D$36,IF(A121=4,'Vehicle Specs'!$B$36,1)))) -> 80.19469 | L121: =L120 -> 8.5 | M121: =L121-L120 -> 0 | N121: =DEGREES(ATAN(M121/$C$3)) -> 0 | O121: =9.81*SIN(RADIANS(N121))*($C$46) -> 0 | P121: =J121+K121+O121 -> 178.27354 | Q121: =IF(H121=1,I121*'Vehicle Specs'!#REF!,IF(H121=2,'Vehicle Specs'!#REF!*I121,IF(H121=3,'Vehicle Specs'!$G$25*I121,0))) -> 0 | R121: =(J121+K121+O121+Q121) -> 178.27354 | S121: =ABS(R121) -> 178.27354 | T121: =ABS((+P121+Q121)*(+E121))/1000 -> 1.8718722 | W121: 308.00786 | X121: =(R121*W121/3600)/1000 -> 0.015252681 | Y121: =ABS(X121) -> 0.015252681 | Z121: =X121*3.09 -> 0.047130784 | AA121: =(0.5*'Vehicle Specs'!$G$20*'Drive Cycle'!E121^2) -> 34664.254 | AB121: =P121+Q121 -> 178.27354 | AC121: =SUM(AB$2:AB121) -> 29418.315
A122: 1 | B122: S1 | C122: =C121+1 -> 120 | D122: =E122*2.237 -> 25.7255 | E122: 11.5 | F122: =($C$3/E122)+F121 -> 11.516265 | I122: =E122-E121 -> 1 | J122: =(0.5*'Vehicle Specs'!$G$25*'Vehicle Specs'!$C$28*'Vehicle Specs'!$C$27*'Drive Cycle'!E122^2) -> 117.65014 | K122: =IF(A122=1,'Vehicle Specs'!$E$36,IF(A122=2,'Vehicle Specs'!$C$36,IF(A122=3,'Vehicle Specs'!$D$36,IF(A122=4,'Vehicle Specs'!$B$36,1)))) -> 80.19469 | L122: 8.5 | M122: =L122-L121 -> 0 | N122: =DEGREES(ATAN(M122/$C$3)) -> 0 | O122: =9.81*SIN(RADIANS(N122))*($C$46) -> 0 | P122: =J122+K122+O122 -> 197.84483 | Q122: =IF(H122=1,I122*'Vehicle Specs'!#REF!,IF(H122=2,'Vehicle Specs'!#REF!*I122,IF(H122=3,'Vehicle Specs'!$G$25*I122,0))) -> 0 | R122: =(J122+K122+O122+Q122) -> 197.84483 | S122: =ABS(R122) -> 197.84483 | T122: =ABS((+P122+Q122)*(+E122))/1000 -> 2.2752156 | W122: 308.00786 | X122: =(R122*W122/3600)/1000 -> 0.016927156 | Y122: =ABS(X122) -> 0.016927156 | Z122: =X122*3.09 -> 0.052304913 | AA122: =(0.5*'Vehicle Specs'!$G$20*'Drive Cycle'!E122^2) -> 41581.384 | AB122: =P122+Q122 -> 197.84483 | AC122: =SUM(AB$2:AB122) -> 29616.16
...

Sheet Tractive Effort
B2: Road Surface | C2: Friction Co-Eff | D2: Tractive Effort (N) | E2: Max Acceleration (m/s^2)
B3: Grass | C3: 0.55 | D3: =2*(C3*(('Vehicle Specs'!$G$20*9.81)/4)) -> 1696.4261 | E3: =D3/'Vehicle Specs'!$G$20 -> 2.69775
B4: Gravel | C4: 0.6 | D4: =2*(C4*(('Vehicle Specs'!$G$20*9.81)/4)) -> 1850.6467 | E4: =D4/'Vehicle Specs'!$G$20 -> 2.943
B5: Dirt | C5: 0.68 | D5: =2*(C5*(('Vehicle Specs'!$G$20*9.81)/4)) -> 2097.3996 | E5: =D5/'Vehicle Specs'!$G$20 -> 3.3354
B6: Ashphalt | C6: 0.85 | D6: =2*(C6*(('Vehicle Specs'!$G$20*9.81)/4)) -> 2621.7495 | E6: =D6/'Vehicle Specs'!$G$20 -> 4.16925

Sheet Graphs
