Workbook

Sheet Vehicle Specs
B2: VEHICLE | F2: WHEEL DIMENSIONS
B3: NAME | C3: Renegade DX10-C | F3: FRONT WHEEL SIZE | G3: 12 | H3: in
B4: ENGINE | C4: 4-Stroke Petrol ICE | F4: FRONT WHEEL SIZE | G4: =G3/39.37 -> 0.30480061 | H4: m
B5: TRANSMISSION | C5: Automatic CVT | F5: FRONT TYRE SIDE WALL | G5: 0.1524 | H5: m
B6: DRIVE | C6: CVT Clutch | F6: REAR WHEEL SIZE | G6: 10 | H6: in
B7: DIFFERENTIAL | C7: Locked Rear Axle | F7: REAR WHEEL SIZE | G7: =G6/39.37 -> 0.25400051 | H7: m
F8: REAR TYRE SIDE WALL | G8: 0.1397 | H8: m
B9: ENGINE SPECIFICATION | F9: ROLLING RADIUS | G9: =(G7/2)+G8 -> 0.26670025 | H9: m
B10: VOLUME | C10: 278 | D10: cc | F10: ROLLING CIRCUMFERENCE | G10: =G9*PI()*2 -> 1.6757271 | H10: m
B11: POWER | C11: 18 | D11: BHP
B12: POWER | C12: =C11/1.341 -> 13.422819 | D12: Kw | F12: WEIGHT
B13: TORQUE | C13: 22 | D13: NM | F13: CURB WEIGHT | G13: 365 | H13: kg
F14: DRIVER | G14: 80 | H14: kg
B15: VEHICLE DIMENSIONS | F15: DRIVER KIT | G15: 10 | H15: kg
B16: LENGTH | C16: 2.62 | D16: m | F16: PASSENGER | G16: 80 | H16: kg
B17: WIDTH | C17: 1.65 | D17: m | F17: PASSENGER KIT | G17: 10 | H17: kg
B18: HEIGHT | C18: 1.62 | D18: m | F18: FUEL | G18: =C22*0.77 -> 22.33 | H18: kg
B19: GROUND CLEARANCE | C19: 0.3 | D19: m | F19: Series Hybrid System | G19: 61.5 | H19: kg
B20: FRONTAL AREA | C20: =(C17*C18)*0.7 -> 1.8711 | D20: m² | F20: TOTAL | G20: =SUM(G13:G19) -> 628.83 | H20: kg
B21: C of G Height, Didtance from Front Wheel Centre | C21: 0.3 | D21: 0.5
B22: FUEL TANK | C22: 29 | D22: l | F22: INERTIA AND REDUCED MASSES
F23: WHEEL INERTIA | G23: 0.95 | H23: kgm²
B24: VEHICLE CHARACTERISTICS | F24: ENGINE INERTIA | G24: 0.17 | H24: kgm²
B25: MAX VELOCITY | C25: 30 | D25: mph | F25: Air Density | G25: 1.167 | H25: kg/m^3
B26: MAX VELOCITY | C26: =C25/2.237 -> 13.410818 | D26: m/s
B27: FRONTAL AERO AREA | C27: =(C18-C19)*C17 -> 2.178 | D27: m²
B28: COEFFICIENT OF DRAG | C28: 0.7 | D28: Value Taken from Book
B30: Fuel Usage Throughout Full Lap
B31: Fuel Consumption (g) | C31: =SUM('Drive Cycle'!X2:X1113) -> 32.044029
B32: Fuel Consumption (kg) | C32: =C31/1000 -> 0.032044029
B34: Rolling Resistance (Gravel) | C34: Rolling Resistance (Dirt) | D34: Rolling Resistance (Grass) | E34: Rolling Resistance (Ashphalt)
B35: N | C35: N | D35: N | E35: N
B36: =0.02*9.81*($G$13+$G$14+$G$15+$G$16+$G$17+$G$18) -> 111.31015 | C36: =0.05*9.81*($G$13+$G$14+$G$15+$G$16+$G$17+$G$18) -> 278.27537 | D36: =0.1*9.81*($G$13+$G$14+$G$15+$G$16+$G$17+$G$18) -> 556.55073 | E36: =0.013*9.81*$G$20 -> 80.19469
B38: Total Resistant Forces (Gravel) | C38: Net Driving Force (Ashphalt) | D38: Available Engine Acceleration | E38: Traction Limited Acceleration (Gravel)
B39: N | C39: N | D39: m/s² | E39: m/s²
B40: =O4+B36+J8 -> 111.31015 | C40: =N4-D44 -> -80.19469 | D40: 0 | E40: =((((0.6)*($G$20)*(9.81)*(COS(0))*(($D$21)-(0.02)*(($C$21)-($G$9))))/($C$16))/(((1)-((0.6)*($C$21)))/($C$16)))*(10^-3) -> 2.2538801
B42: Total Resistant Forces (Dirt) | C42: Total Resistant Forces (Grass) | D42: Total Resistant Forces (Ashphalt) | E42: Net Driving Force (Gravel)
B43: N | C43: N | D43: N | E43: N
B44: =O4+C36+J8 -> 278.27537 | C44: =O4+D36+J8 -> 556.55073 | D44: =O4+E36+J8 -> 80.19469 | E44: =N4-B40 -> -111.31015
B46: Traction Limited Acceleration (Ashphalt) | C46: Traction Limited Deceleration (Gravel) | D46: Traction Limited Deceleration (Dirt) | E46: Traction Limited Deceleration (Grass)
B47: m/s² | C47: m/s² | D47: m/s² | E47: m/s²
B48: =((((0.85)*($G$20)*(9.81)*(COS(0))*(($D$21)-(0.013)*(($C$21)-($G$9))))/($C$16))/(((1)-((0.85)*($C$21)))/($C$16)))*(10^-3) -> 3.51608 | C48: =0.6*9.81 -> 5.886 | D48: =0.68*9.81 -> 6.6708 | E48: =0.55*9.81 -> 5.3955
B50: Traction Limited Acceleration (Grass) | C50: Traction Limited Acceleration (Dirt) | D50: Net Driving Force (Dirt) | E50: Traction Limited Deceleration (Ashphalt)
B51: m/s² | C51: m/s² | D51: N | E51: m/s²
B52: =((((0.55)*($G$20)*(9.81)*(COS(0))*(($D$21)-(0.1)*(($C$21)-($G$9))))/($C$16))/(((1)-((0.55)*($C$21)))/($C$16)))*(10^-3) -> 2.0181174 | C52: =((((0.68)*($G$20)*(9.81)*(COS(0))*(($D$21)-(0.05)*(($C$21)-($G$9))))/($C$16))/(((1)-((0.68)*($C$21)))/($C$16)))*(10^-3) -> 2.6261499 | D52: =N4-B44 -> -278.27537 | E52: =0.85*9.81 -> 8.3385

Sheet Track Map
C2: Surface | D2: Distance | E2: Radius
B3: S1 | C3: Ashphalt | D3: 166.45 | E3: N/A
B4: T1 | C4: Ashphalt | D4: 12.71 | E4: 17.38
B5: S2 | C5: Ashphalt | D5: 47.27 | E5: N/A
B6: T2 | C6: Ashphalt | D6: 17.13 | E6: 5.45
B7: S3 | C7: Ashphalt | D7: 57.6 | E7: N/A
B8: T3 | C8: Ashphalt | D8: 13.89 | E8: 16.23
B9: S4 | C9: Ashphalt | D9: 16.29 | E9: N/A
B10: T4 | C10: Dirt | D10: 13.97 | E10: 8.89
B11: S5 | C11: Dirt | D11: 30.01 | E11: N/A
B12: T5 | C12: Dirt | D12: 12.1 | E12: 7.68
B13: S6 | C13: Dirt | D13: 16.26 | E13: N/A
B14: T6 | C14: Dirt | D14: 11.1 | E14: 6.74
B15: S7 | C15: Dirt | D15: 62.16 | E15: N/A
B16: T7 | C16: Dirt | D16: 10.6 | E16: 7.17
B17: S8 | C17: Dirt | D17: 38.61 | E17: N/A
B18: T8 | C18: Dirt | D18: 11.26 | E18: 4.73
B19: S9 | C19: Dirt | D19: 23.1 | E19: N/A
B20: T9 | C20: Dirt | D20: 14.87 | E20: 11.76
B21: S10 | C21: Grass | D21: 123.24 | E21: N/A
B22: T10 | C22: Grass | D22: 18.47 | E22: 4.31
B23: S11 | C23: Grass | D23: 40.85 | E23: N/A
B24: T11 | C24: Grass | D24: 13.6 | E24: 12.52
B25: S12 | C25: Grass | D25: 48.07 | E25: N/A
B26: T12 | C26: Gravel | D26: 44.98 | E26: 16
B27: T13 | C27: Gravel | D27: 54.61 | E27: 9.5
B28: S13 | C28: Gravel | D28: 39.64 | E28: N/A
B29: T14 | C29: Gravel | D29: 14.91 | E29: 4.16
B30: S14 | C30: Gravel | D30: 16.92 | E30: N/A
B31: T15 | C31: Gravel | D31: 6.53 | E31: 6.41
B32: S15 | C32: Gravel | D32: 28.18 | E32: N/A
B33: T16 | C33: Gravel | D33: 10.07 | E33: 9.21
B34: S16 | C34: Gravel | D34: 30.45 | E34: N/A
B35: T17 | C35: Ashphalt | D35: 14.46 | E35: 9.25
B36: Total Distance | D36: =SUM(D3:D35) -> 1080.36

Sheet BSFC
B2: BSFC (g/Kwh) | C2: RPM | D2: 500 | E2: 750 | F2: 1000 | G2: 1250 | H2: 1500 | I2: 1750 | J2: 2000 | K2: 2250 | L2: 2500 | M2: 2750 | N2: 3000 | O2: 3250 | P2: 3500 | Q2: 3750 | R2: 4000 | S2: 4250 | T2: 4500 | U2: 4750 | V2: 5000 | W2: 5250 | X2: 5500 | Y2: 5750 | Z2: 6000 | AA2: 6250 | AB2: 6500 | AC2: 6750 | AD2: 7000
B3: Torque Demand (Nm) | D3: 0 | E3: 0 | F3: 0 | G3: 0 | H3: 0 | I3: 0 | J3: 0 | K3: 0 | L3: 0 | M3: 0 | N3: 0 | O3: 0 | P3: 0 | Q3: 0 | R3: 0 | S3: 0 | T3: 0 | U3: 0 | V3: 0 | W3: 0 | X3: 0 | Y3: 0 | Z3: 0 | AA3: 0 | AB3: 0 | AC3: 0 | AD3: 0
B4: 22 | D4: 0 | E4: 0 | F4: 0 | G4: 0 | H4: 0 | I4: 0 | J4: 0 | K4: 0 | L4: 0 | M4: 0 | N4: 0 | O4: 0 | P4: 0 | Q4: 0 | R4: 0 | S4: 0 | T4: 0 | U4: 0 | V4: 0 | W4: 0 | X4: 497.30185 | Y4: 0 | Z4: 0 | AA4: 0 | AB4: 0 | AC4: 0 | AD4: 0
B5: 21 | D5: 0 | E5: 0 | F5: 0 | G5: 0 | H5: 0 | I5: 0 | J5: 0 | K5: 0 | L5: 0 | M5: 0 | N5: 0 | O5: 0 | P5: 0 | Q5: 0 | R5: 0 | S5: 0 | T5: 0 | U5: 0 | V5: 511.26203 | W5: 503.78011 | X5: 473.6401 | Y5: 499.54048 | Z5: 0 | AA5: 0 | AB5: 0 | AC5: 0 | AD5: 0
B6: 20 | D6: 0 | E6: 0 | F6: 0 | G6: 0 | H6: 0 | I6: 0 | J6: 0 | K6: 0 | L6: 0 | M6: 0 | N6: 0 | O6: 0 | P6: 0 | Q6: 0 | R6: 0 | S6: 0 | T6: 523.34402 | U6: 515.72614 | V6: 501.71229 | W6: 494.23037 | X6: 449.97835 | Y6: 475.87873 | Z6: 509.84171 | AA6: 0 | AB6: 0 | AC6: 0 | AD6: 0
B7: 19 | D7: 0 | E7: 0 | F7: 0 | G7: 0 | H7: 0 | I7: 0 | J7: 0 | K7: 0 | L7: 0 | M7: 0 | N7: 0 | O7: 0 | P7: 0 | Q7: 0 | R7: 0 | S7: 531.18359 | T7: 517.79359 | U7: 510.17571 | V7: 481.42612 | W7: 473.9442 | X7: 426.3166 | Y7: 452.21698 | Z7: 496.76923 | AA7: 527.01518 | AB7: 548.17146 | AC7: 0 | AD7: 0
B8: 18 | D8: 0 | E8: 0 | F8: 0 | G8: 0 | H8: 0 | I8: 0 | J8: 0 | K8: 0 | L8: 0 | M8: 0 | N8: 0 | O8: 0 | P8: 535.42677 | Q8: 535.05341 | R8: 533.89024 | S8: 521.40026 | T8: 508.01026 | U8: 500.39238 | V8: 464.345 | W8: 456.86308 | X8: 402.65485 | Y8: 428.55523 | Z8: 478.31452 | AA8: 508.56047 | AB8: 534.66915 | AC8: 554.23915 | AD8: 0
B9: 17 | D9: 0 | E9: 0 | F9: 0 | G9: 0 | H9: 0 | I9: 0 | J9: 0 | K9: 0 | L9: 0 | M9: 0 | N9: 0 | O9: 549.12763 | P9: 539.25302 | Q9: 538.03606 | R9: 528.49826 | S9: 505.65535 | T9: 492.26535 | U9: 484.64747 | V9: 430.8166 | W9: 423.33468 | X9: 390.82398 | Y9: 416.72436 | Z9: 439.08773 | AA9: 469.33368 | AB9: 526.71727 | AC9: 546.28727 | AD9: 588.10295
B10: 16 | D10: 0 | E10: 0 | F10: 0 | G10: 0 | H10: 0 | I10: 0 | J10: 0 | K10: 0 | L10: 0 | M10: 550.89414 | N10: 551.04955 | O10: 552.95387 | P10: 543.07926 | Q10: 541.01872 | R10: 531.48092 | S10: 496.03009 | T10: 482.64009 | U10: 475.02221 | V10: 400.88881 | W10: 393.40689 | X10: 378.99311 | Y10: 404.89349 | Z10: 399.86095 | AA10: 430.1069 | AB10: 521.8583 | AC10: 541.4283 | AD10: 576.43598
B11: 15 | D11: 0 | E11: 0 | F11: 0 | G11: 0 | H11: 0 | I11: 0 | J11: 0 | K11: 0 | L11: 560.72867 | M11: 555.13371 | N11: 550.2823 | O11: 543.26697 | P11: 533.39236 | Q11: 544.00138 | R11: 534.46358 | S11: 490.9038 | T11: 477.5138 | U11: 469.89592 | V11: 379.82707 | W11: 372.34515 | X11: 353.30835 | Y11: 379.20873 | Z11: 364.41051 | AA11: 394.65646 | AB11: 478.77238 | AC11: 498.34238 | AD11: 524.29445
B12: 14 | D12: 0 | E12: 0 | F12: 0 | G12: 0 | H12: 0 | I12: 0 | J12: 0 | K12: 588.19269 | L12: 564.96825 | M12: 559.37329 | N12: 554.48126 | O12: 533.58007 | P12: 523.70546 | Q12: 524.7527 | R12: 515.2149 | S12: 454.59068 | T12: 441.20068 | U12: 433.5828 | V12: 358.76533 | W12: 351.28341 | X12: 331.66961 | Y12: 357.56999 | Z12: 357.37617 | AA12: 387.62212 | AB12: 463.96189 | AC12: 483.53189 | AD12: 516.62817
B13: 13 | D13: 0 | E13: 0 | F13: 0 | G13: 0 | H13: 0 | I13: 0 | J13: 625.3916 | K13: 607.64223 | L13: 584.41779 | M13: 578.82283 | N13: 558.68021 | O13: 523.89316 | P13: 514.01855 | Q13: 505.50402 | R13: 495.96622 | S13: 430.07978 | T13: 416.68978 | U13: 409.0719 | V13: 337.7036 | W13: 330.22168 | X13: 308.00786 | Y13: 333.90824 | Z13: 352.06557 | AA13: 382.31152 | AB13: 489.84054 | AC13: 509.41054 | AD13: 565.13734
B14: 12 | D14: 0 | E14: 0 | F14: 0 | G14: 0 | H14: 0 | I14: 626.42405 | J14: 642.18305 | K14: 627.09176 | L14: 603.86732 | M14: 598.27236 | N14: 565.5516 | O14: 542.56279 | P14: 532.68818 | Q14: 508.86266 | R14: 499.32486 | S14: 479.35154 | T14: 465.96154 | U14: 458.34366 | V14: 318.35184 | W14: 310.86992 | X14: 332.55341 | Y14: 358.45379 | Z14: 346.75497 | AA14: 377.00092 | AB14: 515.71919 | AC14: 535.28919 | AD14: 581.50831
B15: 11 | D15: 0 | E15: 0 | F15: 0 | G15: 0 | H15: 0 | I15: 637.75665 | J15: 653.51565 | K15: 647.82801 | L15: 624.60357 | M15: 619.00861 | N15: 595.54479 | O15: 562.66208 | P15: 552.78747 | Q15: 522.15823 | R15: 512.62043 | S15: 485.84339 | T15: 472.45339 | U15: 464.83551 | V15: 382.01828 | W15: 374.53636 | X15: 373.41698 | Y15: 399.31736 | Z15: 341.44438 | AA15: 371.69033 | AB15: 541.59784 | AC15: 561.16784 | AD15: 587.0006
... B26: 0.5 | D26: 1609.1001 | E26: 1534.8681 | F26: 1520.8601 | G26: 1457.0311 | H26: 1432.6201 | I26: 1328.6211 | J26: 1344.3801 | K26: 1279.3645 | L26: 1256.14 | M26: 1250.5451 | N26: 1208.3914 | O26: 1170.5173 | P26: 1160.6427 | Q26: 1122.4319 | R26: 1112.8941 | S26: 1086.0253 | T26: 1072.6353 | U26: 1065.0174 | V26: 1032.6485 | W26: 1025.1666 | X26: 992.66173 | Y26: 1018.5621 | Z26: 986.16183 | AA26: 1016.4078 | AB26: 956.75498 | AC26: 976.32498 | AD26: 942.61943

Sheet Drive Cycle
C1: Distance | D1: Speed (mph) | E1: Speed (m/s) | F1: Time (s) | I1: Vehicle Acceleration (m/s^2) | J1: Aero Resistance (N) | K1: Rolling Resistance (N) | L1: Elevation (m) | M1: Elevation Change (m) | N1: Gradient (Degrees) | O1: Gradient Resistance (N) | P1: Total Resistive Forces (N) | Q1: Force From Acceleration (N) | R1: Power Required (W) | S1: Power Required Corrected (W) | T1: Resistive Power (kw) | W1: BSFC (g/Kwh) | X1: Fuel Used (g) | Y1: Fuel Used 2 (g) | Z1: Carbon Dioxide Emited (g) | AA1: KE (Kj) | AB1: Work Done (j) | AC1: Culmative Work Done (J) | AD1: TOTAL Fuel Usage (g) | AE1: CO2 Released (g) | AF1: Average Power Required (Kw) | AG1: Maximum Power Required (kw)
A2: 1 | B2: S1 | C2: 0 | D2: =E2*2.237 -> 0 | E2: 0 | F2: 0 | I2: 0 | J2: =(0.5*'Vehicle Specs'!$G$25*'Vehicle Specs'!$C$28*'Vehicle Specs'!$C$27*'Drive Cycle'!E2^2) -> 0 | K2: 0 | L2: 0 | M2: 0 | N2: =DEGREES(ATAN(M2/$C$3)) -> 0 | O2: =9.81*SIN(RADIANS(N2))*($C$46) -> 0 | P2: =J2+K2+O2 -> 0 | Q2: =IF(H2=1,I2*'Vehicle Specs'!#REF!,IF(H2=2,'Vehicle Specs'!#REF!*I2,IF(H2=3,'Vehicle Specs'!#REF!*I2,0))) -> 0 | R2: =(J2+K2+O2+Q2) -> 0 | S2: =ABS(R2) -> 0 | T2: =ABS((+P2+Q2)*(+E2))/1000 -> 0 | W2: 0 | X2: =R2*W2/3600 -> 0 | Y2: =ABS(X2) -> 0 | Z2: =X2*3.09 -> 0 | AA2: =(0.5*'Vehicle Specs'!$G$20*'Drive Cycle'!E2^2) -> 0 | AB2: =P2+Q2 -> 0 | AC2: =AB2 -> 0 | AD2: =SUM(X2:X1110) -> 32.044029 | AE2: =(SUM(Z2:Z1110)) -> 99.016049 | AF2: =AVERAGE(T2:T1110) -> 3.5482051 | AG2: =MAX(T2:T1110) -> 12.197224
A3: 1 | B3: S1 | C3: =C2+1 -> 1 | D3: =E3*2.237 -> 2.237 | E3: 1 | F3: =$C$3/E3 -> 1 | I3: =E3-E2 -> 1 | J3: =(0.5*'Vehicle Specs'!$G$25*'Vehicle Specs'!$C$28*'Vehicle Specs'!$C$27*'Drive Cycle'!E3^2) -> 0.8896041 | K3: =IF(A3=1,'Vehicle Specs'!$E$36,IF(A3=2,'Vehicle Specs'!$C$36,IF(A3=3,'Vehicle Specs'!$D$36,IF(A3=4,'Vehicle Specs'!$B$36,1)))) -> 80.19469 | L3: 0 | M3: =L3-L2 -> 0 | N3: =DEGREES(ATAN(M3/$C$3)) -> 0 | O3: =9.81*SIN(RADIANS(N3))*($C$46) -> 0 | P3: =J3+K3+O3 -> 81.084294 | Q3: =IF(H3=1,I3*'Vehicle Specs'!#REF!,IF(H3=2,'Vehicle Specs'!#REF!*I3,IF(H3=3,'Vehicle Specs'!$G$25*I3,0))) -> 0 | R3: =(J3+K3+O3+Q3) -> 81.084294 | S3: =ABS(R3) -> 81.084294 | T3: =ABS((+P3+Q3)*(+E3))/1000 -> 0.081084294 | W3: 308.00786 | X3: =(R3*W3/3600)/1000 -> 0.0069373888 | Y3: =ABS(X3) -> 0.0069373888 | Z3: =X3*3.09 -> 0.021436531 | AA3: =(0.5*'Vehicle Specs'!$G$20*'Drive Cycle'!E3^2) -> 314.415 | AB3: =P3+Q3 -> 81.084294 | AC3: =SUM(AB$2:AB3) -> 81.084294
A4: 1 | B4: S1 | C4: =C3+1 -> 2 | D4: =E4*2.237 -> 4.474 | E4: 2 | F4: =($C$3/E4)+F3 -> 1.5 | I4: =E4-E3 -> 1 | J4: =(0.5*'Vehicle Specs'!$G$25*'Vehicle Specs'!$C$28*'Vehicle Specs'!$C$27*'Drive Cycle'!E4^2) -> 3.5584164 | K4: =IF(A4=1,'Vehicle Specs'!$E$36,IF(A4=2,'Vehicle Specs'!$C$36,IF(A4=3,'Vehicle Specs'!$D$36,IF(A4=4,'Vehicle Specs'!$B$36,1)))) -> 80.19469 | L4: 0 | M4: =L4-L3 -> 0 | N4: =DEGREES(ATAN(M4/$C$3)) -> 0 | O4: =9.81*SIN(RADIANS(N4))*($C$46) -> 0 | P4: =J4+K4+O4 -> 83.753106 | Q4: =IF(H4=1,I4*'Vehicle Specs'!#REF!,IF(H4=2,'Vehicle Specs'!#REF!*I4,IF(H4=3,'Vehicle Specs'!$G$25*I4,0))) -> 0 | R4: =(J4+K4+O4+Q4) -> 83.753106 | S4: =ABS(R4) -> 83.753106 | T4: =ABS((+P4+Q4)*(+E4))/1000 -> 0.16750621 | W4: 308.00786 | X4: =(R4*W4/3600)/1000 -> 0.0071657263 | Y4: =ABS(X4) -> 0.0071657263 | Z4: =X4*3.09 -> 0.022142094 | AA4: =(0.5*'Vehicle Specs'!$G$20*'Drive Cycle'!E4^2) -> 1257.66 | AB4: =P4+Q4 -> 83.753106 | AC4: =SUM(AB$2:AB4) -> 164.8374
A5: 1 | B5: S1 | C5: =C4+1 -> 3 | D5: =E5*2.237 -> 6.711 | E5: 3 | F5: =($C$3/E5)+F4 -> 1.8333333 | I5: =E5-E4 -> 1 | J5: =(0.5*'Vehicle Specs'!$G$25*'Vehicle Specs'!$C$28*'Vehicle Specs'!$C$27*'Drive Cycle'!E5^2) -> 8.0064369 | K5: =IF(A5=1,'Vehicle Specs'!$E$36,IF(A5=2,'Vehicle Specs'!$C$36,IF(A5=3,'Vehicle Specs'!$D$36,IF(A5=4,'Vehicle Specs'!$B$36,1)))) -> 80.19469 | L5: 0 | M5: =L5-L4 -> 0 | N5: =DEGREES(ATAN(M5/$C$3)) -> 0 | O5: =9.81*SIN(RADIANS(N5))*($C$46) -> 0 | P5: =J5+K5+O5 -> 88.201127 | Q5: =IF(H5=1,I5*'Vehicle Specs'!#REF!,IF(H5=2,'Vehicle Specs'!#REF!*I5,IF(H5=3,'Vehicle Specs'!$G$25*I5,0))) -> 0 | R5: =(J5+K5+O5+Q5) -> 88.201127 | S5: =ABS(R5) -> 88.201127 | T5: =ABS((+P5+Q5)*(+E5))/1000 -> 0.26460338 | W5: 308.00786 | X5: =(R5*W5/3600)/1000 -> 0.0075462889 | Y5: =ABS(X5) -> 0.0075462889 | Z5: =X5*3.09 -> 0.023318033 | AA5: =(0.5*'Vehicle Specs'!$G$20*'Drive Cycle'!E5^2) -> 2829.735 | AB5: =P5+Q5 -> 88.201127 | AC5: =SUM(AB$2:AB5) -> 253.03853
A6: 1 | B6: S1 | C6: =C5+1 -> 4 | D6: =E6*2.237 -> 8.948 | E6: 4 | F6: =($C$3/E6)+F5 -> 2.0833333 | I6: =E6-E5 -> 1 | J6: =(0.5*'Vehicle Specs'!$G$25*'Vehicle Specs'!$C$28*'Vehicle Specs'!$C$27*'Drive Cycle'!E6^2) -> 14.233666 | K6: =IF(A6=1,'Vehicle Specs'!$E$36,IF(A6=2,'Vehicle Specs'!$C$36,IF(A6=3,'Vehicle Specs'!$D$36,IF(A6=4,'Vehicle Specs'!$B$36,1)))) -> 80.19469 | L6: 0 | M6: =L6-L5 -> 0 | N6: =DEGREES(ATAN(M6/$C$3)) -> 0 | O6: =9.81*SIN(RADIANS(N6))*($C$46) -> 0 | P6: =J6+K6+O6 -> 94.428356 | Q6: =IF(H6=1,I6*'Vehicle Specs'!#REF!,IF(H6=2,'Vehicle Specs'!#REF!*I6,IF(H6=3,'Vehicle Specs'!$G$25*I6,0))) -> 0 | R6: =(J6+K6+O6+Q6) -> 94.428356 | S6: =ABS(R6) -> 94.428356 | T6: =ABS((+P6+Q6)*(+E6))/1000 -> 0.37771342 | W6: 308.00786 | X6: =(R6*W6/3600)/1000 -> 0.0080790765 | Y6: =ABS(X6) -> 0.0080790765 | Z6: =X6*3.09 -> 0.024964346 | AA6: =(0.5*'Vehicle Specs'!$G$20*'Drive Cycle'!E6^2) -> 5030.64 | AB6: =P6+Q6 -> 94.428356 | AC6: =SUM(AB$2:AB6) -> 347.46688
A7: 1 | B7: S1 | C7: =C6+1 -> 5 | D7: =E7*2.237 -> 11.185 | E7: 5 | F7: =($C$3/E7)+F6 -> 2.2833333 | I7: =E7-E6 -> 1 | J7: =(0.5*'Vehicle Specs'!$G$25*'Vehicle Specs'!$C$28*'Vehicle Specs'!$C$27*'Drive Cycle'!E7^2) -> 22.240102 | K7: =IF(A7=1,'Vehicle Specs'!$E$36,IF(A7=2,'Vehicle Specs'!$C$36,IF(A7=3,'Vehicle Specs'!$D$36,IF(A7=4,'Vehicle Specs'!$B$36,1)))) -> 80.19469 | L7: 0 | M7: =L7-L6 -> 0 | N7: =DEGREES(ATAN(M7/$C$3)) -> 0 | O7: =9.81*SIN(RADIANS(N7))*($C$46) -> 0 | P7: =J7+K7+O7 -> 102.43479 | Q7: =IF(H7=1,I7*'Vehicle Specs'!#REF!,IF(H7=2,'Vehicle Specs'!#REF!*I7,IF(H7=3,'Vehicle Specs'!$G$25*I7,0))) -> 0 | R7: =(J7+K7+O7+Q7) -> 102.43479 | S7: =ABS(R7) -> 102.43479 | T7: =ABS((+P7+Q7)*(+E7))/1000 -> 0.51217396 | W7: 308.00786 | X7: =(R7*W7/3600)/1000 -> 0.0087640892 | Y7: =ABS(X7) -> 0.0087640892 | Z7: =X7*3.09 -> 0.027081035 | AA7: =(0.5*'Vehicle Specs'!$G$20*'Drive Cycle'!E7^2) -> 7860.375 | AB7: =P7+Q7 -> 102.43479 | AC7: =SUM(AB$2:AB7) -> 449.90168
A8: 1 | B8: S1 | C8: =C7+1 -> 6 | D8: =E8*2.237 -> 13.422 | E8: 6 | F8: =($C$3/E8)+F7 -> 2.45 | I8: =E8-E7 -> 1 | J8: =(0.5*'Vehicle Specs'!$G$25*'Vehicle Specs'!$C$28*'Vehicle Specs'!$C$27*'Drive Cycle'!E8^2) -> 32.025748 | K8: =IF(A8=1,'Vehicle Specs'!$E$36,IF(A8=2,'Vehicle Specs'!$C$36,IF(A8=3,'Vehicle Specs'!$D$36,IF(A8=4,'Vehicle Specs'!$B$36,1)))) -> 80.19469 | L8: 0 | M8: =L8-L7 -> 0 | N8: =DEGREES(ATAN(M8/$C$3)) -> 0 | O8: =9.81*SIN(RADIANS(N8))*($C$46) -> 0 | P8: =J8+K8+O8 -> 112.22044 | Q8: =IF(H8=1,I8*'Vehicle Specs'!#REF!,IF(H8=2,'Vehicle Specs'!#REF!*I8,IF(H8=3,'Vehicle Specs'!$G$25*I8,0))) -> 0 | R8: =(J8+K8+O8+Q8) -> 112.22044 | S8: =ABS(R8) -> 112.22044 | T8: =ABS((+P8+Q8)*(+E8))/1000 -> 0.67332263 | W8: 308.00786 | X8: =(R8*W8/3600)/1000 -> 0.0096013268 | Y8: =ABS(X8) -> 0.0096013268 | Z8: =X8*3.09 -> 0.0296681 | AA8: =(0.5*'Vehicle Specs'!$G$20*'Drive Cycle'!E8^2) -> 11318.94 | AB8: =P8+Q8 -> 112.22044 | AC8: =SUM(AB$2:AB8) -> 562.12211
A9: 1 | B9: S1 | C9: =C8+1 -> 7 | D9: =E9*2.237 -> 15.659 | E9: 7 | F9: =($C$3/E9)+F8 -> 2.5928571 | I9: =E9-E8 -> 1 | J9: =(0.5*'Vehicle Specs'!$G$25*'Vehicle Specs'!$C$28*'Vehicle Specs'!$C$27*'Drive Cycle'!E9^2) -> 43.590601 | K9: =IF(A9=1,'Vehicle Specs'!$E$36,IF(A9=2,'Vehicle Specs'!$C$36,IF(A9=3,'Vehicle Specs'!$D$36,IF(A9=4,'Vehicle Specs'!$B$36,1)))) -> 80.19469 | L9: 0 | M9: =L9-L8 -> 0 | N9: =DEGREES(ATAN(M9/$C$3)) -> 0 | O9: =9.81*SIN(RADIANS(N9))*($C$46) -> 0 | P9: =J9+K9+O9 -> 123.78529 | Q9: =IF(H9=1,I9*'Vehicle Specs'!#REF!,IF(H9=2,'Vehicle Specs'!#REF!*I9,IF(H9=3,'Vehicle Specs'!$G$25*I9,0))) -> 0 | R9: =(J9+K9+O9+Q9) -> 123.78529 | S9: =ABS(R9) -> 123.78529 | T9: =ABS((+P9+Q9)*(+E9))/1000 -> 0.86649704 | W9: 308.00786 | X9: =(R9*W9/3600)/1000 -> 0.01059079 | Y9: =ABS(X9) -> 0.01059079 | Z9: =X9*3.09 -> 0.03272554 | AA9: =(0.5*'Vehicle Specs'!$G$20*'Drive Cycle'!E9^2) -> 15406.335 | AB9: =P9+Q9 -> 123.78529 | AC9: =SUM(AB$2:AB9) -> 685.9074
A10: 1 | B10: S1 | C10: =C9+1 -> 8 | D10: =E10*2.237 -> 17.896 | E10: 8 | F10: =($C$3/E10)+F9 -> 2.7178571 | I10: =E10-E9 -> 1 | J10: =(0.5*'Vehicle Specs'!$G$25*'Vehicle Specs'!$C$28*'Vehicle Specs'!$C$27*'Drive Cycle'!E10^2) -> 56.934662 | K10: =IF(A10=1,'Vehicle Specs'!$E$36,IF(A10=2,'Vehicle Specs'!$C$36,IF(A10=3,'Vehicle Specs'!$D$36,IF(A10=4,'Vehicle Specs'!$B$36,1)))) -> 80.19469 | L10: 0 | M10: =L10-L9 -> 0 | N10: =DEGREES(ATAN(M10/$C$3)) -> 0 | O10: =9.81*SIN(RADIANS(N10))*($C$46) -> 0 | P10: =J10+K10+O10 -> 137.12935 | Q10: =IF(H10=1,I10*'Vehicle Specs'!#REF!,IF(H10=2,'Vehicle Specs'!#REF!*I10,IF(H10=3,'Vehicle Specs'!$G$25*I10,0))) -> 0 | R10: =(J10+K10+O10+Q10) -> 137.12935 | S10: =ABS(R10) -> 137.12935 | T10: =ABS((+P10+Q10)*(+E10))/1000 -> 1.0970348 | W10: 308.00786 | X10: =(R10*W10/3600)/1000 -> 0.011732477 | Y10: =ABS(X10) -> 0.011732477 | Z10: =X10*3.09 -> 0.036253355 | AA10: =(0.5*'Vehicle Specs'!$G$20*'Drive Cycle'!E10^2) -> 20122.56 | AB10: =P10+Q10 -> 137.12935 | AC10: =SUM(AB$2:AB10) -> 823.03676
A11: 1 | B11: S1 | C11: =C10+1 -> 9 | D11: =E11*2.237 -> 20.133 | E11: 9 | F11: =($C$3/E11)+F10 -> 2.8289683 | I11: =E11-E10 -> 1 | J11: =(0.5*'Vehicle Specs'!$G$25*'Vehicle Specs'!$C$28*'Vehicle Specs'!$C$27*'Drive Cycle'!E11^2) -> 72.057932 | K11: =IF(A11=1,'Vehicle Specs'!$E$36,IF(A11=2,'Vehicle Specs'!$C$36,IF(A11=3,'Vehicle Specs'!$D$36,IF(A11=4,'Vehicle Specs'!$B$36,1)))) -> 80.19469 | L11: 0 | M11: =L11-L10 -> 0 | N11: =DEGREES(ATAN(M11/$C$3)) -> 0 | O11: =9.81*SIN(RADIANS(N11))*($C$46) -> 0 | P11: =J11+K11+O11 -> 152.25262 | Q11: =IF(H11=1,I11*'Vehicle Specs'!#REF!,IF(H11=2,'Vehicle Specs'!#REF!*I11,IF(H11=3,'Vehicle Specs'!$G$25*I11,0))) -> 0 | R11: =(J11+K11+O11+Q11) -> 152.25262 | S11: =ABS(R11) -> 152.25262 | T11: =ABS((+P11+Q11)*(+E11))/1000 -> 1.3702736 | W11: 308.00786 | X11: =(R11*W11/3600)/1000 -> 0.01302639 | Y11: =ABS(X11) -> 0.01302639 | Z11: =X11*3.09 -> 0.040251545 | AA11: =(0.5*'Vehicle Specs'!$G$20*'Drive Cycle'!E11^2) -> 25467.615 | AB11: =P11+Q11 -> 152.25262 | AC11: =SUM(AB$2:AB11) -> 975.28938
A12: 1 | B12: S1 | C12: =C11+1 -> 10 | D12: =E12*2.237 -> 22.37 | E12: 10 | F12: =($C$3/E12)+F11 -> 2.9289683 | I12: =E12-E11 -> 1 | J12: =(0.5*'Vehicle Specs'!$G$25*'Vehicle Specs'!$C$28*'Vehicle Specs'!$C$27*'Drive Cycle'!E12^2) -> 88.96041 | K12: =IF(A12=1,'Vehicle Specs'!$E$36,IF(A12=2,'Vehicle Specs'!$C$36,IF(A12=3,'Vehicle Specs'!$D$36,IF(A12=4,'Vehicle Specs'!$B$36,1)))) -> 80.19469 | L12: 0 | M12: =L12-L11 -> 0 | N12: =DEGREES(ATAN(M12/$C$3)) -> 0 | O12: =9.81*SIN(RADIANS(N12))*($C$46) -> 0 | P12: =J12+K12+O12 -> 169.1551 | Q12: =IF(H12=1,I12*'Vehicle Specs'!#REF!,IF(H12=2,'Vehicle Specs'!#REF!*I12,IF(H12=3,'Vehicle Specs'!$G$25*I12,0))) -> 0 | R12: =(J12+K12+O12+Q12) -> 169.1551 | S12: =ABS(R12) -> 169.1551 | T12: =ABS((+P12+Q12)*(+E12))/1000 -> 1.691551 | W12: 308.00786 | X12: =(R12*W12/3600)/1000 -> 0.014472528 | Y12: =ABS(X12) -> 0.014472528 | Z12: =X12*3.09 -> 0.044720111 | AA12: =(0.5*'Vehicle Specs'!$G$20*'Drive Cycle'!E12^2) -> 31441.5 | AB12: =P12+Q12 -> 169.1551 | AC12: =SUM(AB$2:AB12) -> 1144.4445
A13: 1 | B13: S1 | C13: =C12+1 -> 11 | D13: =E13*2.237 -> 24.607 | E13: 11 | F13: =($C$3/E13)+F12 -> 3.0198773 | I13: =E13-E12 -> 1 | J13: =(0.5*'Vehicle Specs'!$G$25*'Vehicle Specs'!$C$28*'Vehicle Specs'!$C$27*'Drive Cycle'!E13^2) -> 107.6421 | K13: =IF(A13=1,'Vehicle Specs'!$E$36,IF(A13=2,'Vehicle Specs'!$C$36,IF(A13=3,'Vehicle Specs'!$D$36,IF(A13=4,'Vehicle Specs'!$B$36,1)))) -> 80.19469 | L13: 0 | M13: =L13-L12 -> 0 | N13: =DEGREES(ATAN(M13/$C$3)) -> 0 | O13: =9.81*SIN(RADIANS(N13))*($C$46) -> 0 | P13: =J13+K13+O13 -> 187.83679 | Q13: =IF(H13=1,I13*'Vehicle Specs'!#REF!,IF(H13=2,'Vehicle Specs'!#REF!*I13,IF(H13=3,'Vehicle Specs'!$G$25*I13,0))) -> 0 | R13: =(J13+K13+O13+Q13) -> 187.83679 | S13: =ABS(R13) -> 187.83679 | T13: =ABS((+P13+Q13)*(+E13))/1000 -> 2.0662046 | W13: 308.00786 | X13: =(R13*W13/3600)/1000 -> 0.016070891 | Y13: =ABS(X13) -> 0.016070891 | Z13: =X13*3.09 -> 0.049659052 | AA13: =(0.5*'Vehicle Specs'!$G$20*'Drive Cycle'!E13^2) -> 38044.215 | AB13: =P13+Q13 -> 187.83679 | AC13: =SUM(AB$2:AB13) -> 1332.2813
A14: 1 | B14: S1 | C14: =C13+1 -> 12 | D14: =E14*2.237 -> 26.844 | E14: 12 | F14: =($C$3/E14)+F13 -> 3.1032107 | I14: =E14-E13 -> 1 | J14: =(0.5*'Vehicle Specs'!$G$25*'Vehicle Specs'!$C$28*'Vehicle Specs'!$C$27*'Drive Cycle'!E14^2) -> 128.10299 | K14: =IF(A14=1,'Vehicle Specs'!$E$36,IF(A14=2,'Vehicle Specs'!$C$36,IF(A14=3,'Vehicle Specs'!$D$36,IF(A14=4,'Vehicle Specs'!$B$36,1)))) -> 80.19469 | L14: 0 | M14: =L14-L13 -> 0 | N14: =DEGREES(ATAN(M14/$C$3)) -> 0 | O14: =9.81*SIN(RADIANS(N14))*($C$46) -> 0 | P14: =J14+K14+O14 -> 208.29768 | Q14: =IF(H14=1,I14*'Vehicle Specs'!#REF!,IF(H14=2,'Vehicle Specs'!#REF!*I14,IF(H14=3,'Vehicle Specs'!$G$25*I14,0))) -> 0 | R14: =(J14+K14+O14+Q14) -> 208.29768 | S14: =ABS(R14) -> 208.29768 | T14: =ABS((+P14+Q14)*(+E14))/1000 -> 2.4995722 | W14: 308.00786 | X14: =(R14*W14/3600)/1000 -> 0.017821478 | Y14: =ABS(X14) -> 0.017821478 | Z14: =X14*3.09 -> 0.055068368 | AA14: =(0.5*'Vehicle Specs'!$G$20*'Drive Cycle'!E14^2) -> 45275.76 | AB14: =P14+Q14 -> 208.29768 | AC14: =SUM(AB$2:AB14) -> 1540.5789
A15: 1 | B15: S1 | C15: =C14+1 -> 13 | D15: =E15*2.237 -> 29.081 | E15: 13 | F15: =($C$3/E15)+F14 -> 3.1801338 | I15: =E15-E14 -> 1 | J15: =(0.5*'Vehicle Specs'!$G$25*'Vehicle Specs'!$C$28*'Vehicle Specs'!$C$27*'Drive Cycle'!E15^2) -> 150.34309 | K15: =IF(A15=1,'Vehicle Specs'!$E$36,IF(A15=2,'Vehicle Specs'!$C$36,IF(A15=3,'Vehicle Specs'!$D$36,IF(A15=4,'Vehicle Specs'!$B$36,1)))) -> 80.19469 | L15: 0 | M15: =L15-L14 -> 0 | N15: =DEGREES(ATAN(M15/$C$3)) -> 0 | O15: =9.81*SIN(RADIANS(N15))*($C$46) -> 0 | P15: =J15+K15+O15 -> 230.53778 | Q15: =IF(H15=1,I15*'Vehicle Specs'!#REF!,IF(H15=2,'Vehicle Specs'!#REF!*I15,IF(H15=3,'Vehicle Specs'!$G$25*I15,0))) -> 0 | R15: =(J15+K15+O15+Q15) -> 230.53778 | S15: =ABS(R15) -> 230.53778 | T15: =ABS((+P15+Q15)*(+E15))/1000 -> 2.9969912 | W15: 308.00786 | X15: =(R15*W15/3600)/1000 -> 0.019724291 | Y15: =ABS(X15) -> 0.019724291 | Z15: =X15*3.09 -> 0.06094806 | AA15: =(0.5*'Vehicle Specs'!$G$20*'Drive Cycle'!E15^2) -> 53136.135 | AB15: =P15+Q15 -> 230.53778 | AC15: =SUM(AB$2:AB15) -> 1771.1167
... A94: 1 | B94: S1 | C94: =C93+1 -> 92 | D94: =E94*2.237 -> 29.99817 | E94: 13.41 | F94: =($C$3/E94)+F93 -> 9.0712598 | I94: =E94-E93 -> 0 | J94: =(0.5*'Vehicle Specs'!$G$25*'Vehicle Specs'!$C$28*'Vehicle Specs'!$C$27*'Drive Cycle'!E94^2) -> 159.97582 | K94: =IF(A94=1,'Vehicle Specs'!$E$36,IF(A94=2,'Vehicle Specs'!$C$36,IF(A94=3,'Vehicle Specs'!$D$36,IF(A94=4,'Vehicle Specs'!$B$36,1)))) -> 80.19469 | L94: 0 | M94: =L94-L93 -> 0 | N94: =DEGREES(ATAN(M94/$C$3)) -> 0 | O94: =9.81*SIN(RADIANS(N94))*($C$46) -> 0 | P94: =J94+K94+O94 -> 240.1705 | Q94: =IF(H94=1,I94*'Vehicle Specs'!#REF!,IF(H94=2,'Vehicle Specs'!#REF!*I94,IF(H94=3,'Vehicle Specs'!$G$25*I94,0))) -> 0 | R94: =(J94+K94+O94+Q94) -> 240.1705 | S94: =ABS(R94) -> 240.1705 | T94: =ABS((+P94+Q94)*(+E94))/1000 -> 3.2206865 | W94: 308.00786 | X94: =(R94*W94/3600)/1000 -> 0.020548445 | Y94: =ABS(X94) -> 0.020548445 | Z94: =X94*3.09 -> 0.063494696 | AA94: =(0.5*'Vehicle Specs'!$G$20*'Drive Cycle'!E94^2) -> 56540.652 | AB94: =P94+Q94 -> 240.1705 | AC94: =SUM(AB$2:AB94) -> 20744.587
A95: 1 | B95: S1 | C95: =C94+1 -> 93 | D95: =E95*2.237 -> 29.081 | E95: 13 | F95: =($C$3/E95)+F94 -> 9.1481829 | I95: =E95-E94 -> -0.41 | J95: =(0.5*'Vehicle Specs'!$G$25*'Vehicle Specs'!$C$28*'Vehicle Specs'!$C$27*'Drive Cycle'!E95^2) -> 150.34309 | K95: =IF(A95=1,'Vehicle Specs'!$E$36,IF(A95=2,'Vehicle Specs'!$C$36,IF(A95=3,'Vehicle Specs'!$D$36,IF(A95=4,'Vehicle Specs'!$B$36,1)))) -> 80.19469 | L95: =L94+0.5 -> 0.5 | M95: =L95-L94 -> 0.5 | N95: =DEGREES(ATAN(M95/$C$3)) -> 26.565051 | O95: =9.81*SIN(RADIANS(N95))*($C$46) -> 193.03528 | P95: =J95+K95+O95 -> 423.57306 | Q95: =IF(H95=1,I95*'Vehicle Specs'!#REF!,IF(H95=2,'Vehicle Specs'!#REF!*I95,IF(H95=3,'Vehicle Specs'!$G$25*I95,0))) -> 0 | R95: =(J95+K95+O95+Q95) -> 423.57306 | S95: =ABS(R95) -> 423.57306 | T95: =ABS((+P95+Q95)*(+E95))/1000 -> 5.5064498 | W95: 308.00786 | X95: =(R95*W95/3600)/1000 -> 0.036239953 | Y95: =ABS(X95) -> 0.036239953 | Z95: =X95*3.09 -> 0.11198145 | AA95: =(0.5*'Vehicle Specs'!$G$20*'Drive Cycle'!E95^2) -> 53136.135 | AB95: =P95+Q95 -> 423.57306 | AC95: =SUM(AB$2:AB95) -> 21168.16
A96: 1 | B96: S1 | C96: =C95+1 -> 94 | D96: =E96*2.237 -> 27.9625 | E96: 12.5 | F96: =($C$3/E96)+F95 -> 9.2281829 | I96: =E96-E95 -> -0.5 | J96: =(0.5*'Vehicle Specs'!$G$25*'Vehicle Specs'!$C$28*'Vehicle Specs'!$C$27*'Drive Cycle'!E96^2) -> 139.00064 | K96: =IF(A96=1,'Vehicle Specs'!$E$36,IF(A96=2,'Vehicle Specs'!$C$36,IF(A96=3,'Vehicle Specs'!$D$36,IF(A96=4,'Vehicle Specs'!$B$36,1)))) -> 80.19469 | L96: =L95+0.5 -> 1 | M96: =L96-L95 -> 0.5 | N96: =DEGREES(ATAN(M96/$C$3)) -> 26.565051 | O96: =9.81*SIN(RADIANS(N96))*($C$46) -> 193.03528 | P96: =J96+K96+O96 -> 412.23061 | Q96: =IF(H96=1,I96*'Vehicle Specs'!#REF!,IF(H96=2,'Vehicle Specs'!#REF!*I96,IF(H96=3,'Vehicle Specs'!$G$25*I96,0))) -> 0 | R96: =(J96+K96+O96+Q96) -> 412.23061 | S96: =ABS(R96) -> 412.23061 | T96: =ABS((+P96+Q96)*(+E96))/1000 -> 5.1528826 | W96: 308.00786 | X96: =(R96*W96/3600)/1000 -> 0.035269518 | Y96: =ABS(X96) -> 0.035269518 | Z96: =X96*3.09 -> 0.10898281 | AA96: =(0.5*'Vehicle Specs'!$G$20*'Drive Cycle'!E96^2) -> 49127.344 | AB96: =P96+Q96 -> 412.23061 | AC96: =SUM(AB$2:AB96) -> 21580.39
A97: 1 | B97: S1 | C97: =C96+1 -> 95 | D97: =E97*2.237 -> 26.844 | E97: 12 | F97: =($C$3/E97)+F96 -> 9.3115162 | I97: =E97-E96 -> -0.5 | J97: =(0.5*'Vehicle Specs'!$G$25*'Vehicle Specs'!$C$28*'Vehicle Specs'!$C$27*'Drive Cycle'!E97^2) -> 128.10299 | K97: =IF(A97=1,'Vehicle Specs'!$E$36,IF(A97=2,'Vehicle Specs'!$C$36,IF(A97=3,'Vehicle Specs'!$D$36,IF(A97=4,'Vehicle Specs'!$B$36,1)))) -> 80.19469 | L97: =L96+0.5 -> 1.5 | M97: =L97-L96 -> 0.5 | N97: =DEGREES(ATAN(M97/$C$3)) -> 26.565051 | O97: =9.81*SIN(RADIANS(N97))*($C$46) -> 193.03528 | P97: =J97+K97+O97 -> 401.33296 | Q97: =IF(H97=1,I97*'Vehicle Specs'!#REF!,IF(H97=2,'Vehicle Specs'!#REF!*I97,IF(H97=3,'Vehicle Specs'!$G$25*I97,0))) -> 0 | R97: =(J97+K97+O97+Q97) -> 401.33296 | S97: =ABS(R97) -> 401.33296 | T97: =ABS((+P97+Q97)*(+E97))/1000 -> 4.8159955 | W97: 308.00786 | X97: =(R97*W97/3600)/1000 -> 0.03433714 | Y97: =ABS(X97) -> 0.03433714 | Z97: =X97*3.09 -> 0.10610176 | AA97: =(0.5*'Vehicle Specs'!$G$20*'Drive Cycle'!E97^2) -> 45275.76 | AB97: =P97+Q97 -> 401.33296 | AC97: =SUM(AB$2:AB97) -> 21981.723
A98: 1 | B98: S1 | C98: =C97+1 -> 96 | D98: =E98*2.237 -> 25.7255 | E98: 11.5 | F98: =($C$3/E98)+F97 -> 9.3984727 | I98: =E98-E97 -> -0.5 | J98: =(0.5*'Vehicle Specs'!$G$25*'Vehicle Specs'!$C$28*'Vehicle Specs'!$C$27*'Drive Cycle'!E98^2) -> 117.65014 | K98: =IF(A98=1,'Vehicle Specs'!$E$36,IF(A98=2,'Vehicle Specs'!$C$36,IF(A98=3,'Vehicle Specs'!$D$36,IF(A98=4,'Vehicle Specs'!$B$36,1)))) -> 80.19469 | L98: =L97+0.5 -> 2 | M98: =L98-L97 -> 0.5 | N98: =DEGREES(ATAN(M98/$C$3)) -> 26.565051 | O98: =9.81*SIN(RADIANS(N98))*($C$46) -> 193.03528 | P98: =J98+K98+O98 -> 390.88011 | Q98: =IF(H98=1,I98*'Vehicle Specs'!#REF!,IF(H98=2,'Vehicle Specs'!#REF!*I98,IF(H98=3,'Vehicle Specs'!$G$25*I98,0))) -> 0 | R98: =(J98+K98+O98+Q98) -> 390.88011 | S98: =ABS(R98) -> 390.88011 | T98: =ABS((+P98+Q98)*(+E98))/1000 -> 4.4951212 | W98: 308.00786 | X98: =(R98*W98/3600)/1000 -> 0.033442818 | Y98: =ABS(X98) -> 0.033442818 | Z98: =X98*3.09 -> 0.10333831 | AA98: =(0.5*'Vehicle Specs'!$G$20*'Drive Cycle'!E98^2) -> 41581.384 | AB98: =P98+Q98 -> 390.88011 | AC98: =SUM(AB$2:AB98) -> 22372.603
A99: 1 | B99: S1 | C99: =C98+1 -> 97 | D99: =E99*2.237 -> 24.607 | E99: 11 | F99: =($C$3/E99)+F98 -> 9.4893818 | I99: =E99-E98 -> -0.5 | J99: =(0.5*'Vehicle Specs'!$G$25*'Vehicle Specs'!$C$28*'Vehicle Specs'!$C$27*'Drive Cycle'!E99^2) -> 107.6421 | K99: =IF(A99=1,'Vehicle Specs'!$E$36,IF(A99=2,'Vehicle Specs'!$C$36,IF(A99=3,'Vehicle Specs'!$D$36,IF(A99=4,'Vehicle Specs'!$B$36,1)))) -> 80.19469 | L99: =L98+0.5 -> 2.5 | M99: =L99-L98 -> 0.5 | N99: =DEGREES(ATAN(M99/$C$3)) -> 26.565051 | O99: =9.81*SIN(RADIANS(N99))*($C$46) -> 193.03528 | P99: =J99+K99+O99 -> 380.87206 | Q99: =IF(H99=1,I99*'Vehicle Specs'!#REF!,IF(H99=2,'Vehicle Specs'!#REF!*I99,IF(H99=3,'Vehicle Specs'!$G$25*I99,0))) -> 0 | R99: =(J99+K99+O99+Q99) -> 380.87206 | S99: =ABS(R99) -> 380.87206 | T99: =ABS((+P99+Q99)*(+E99))/1000 -> 4.1895927 | W99: 308.00786 | X99: =(R99*W99/3600)/1000 -> 0.032586552 | Y99: =ABS(X99) -> 0.032586552 | Z99: =X99*3.09 -> 0.10069245 | AA99: =(0.5*'Vehicle Specs'!$G$20*'Drive Cycle'!E99^2) -> 38044.215 | AB99: =P99+Q99 -> 380.87206 | AC99: =SUM(AB$2:AB99) -> 22753.475
A100: 1 | B100: S1 | C100: =C99+1 -> 98 | D100: =E100*2.237 -> 24.607 | E100: 11 | F100: =($C$3/E100)+F99 -> 9.5802909 | I100: =E100-E99 -> 0 | J100: =(0.5*'Vehicle Specs'!$G$25*'Vehicle Specs'!$C$28*'Vehicle Specs'!$C$27*'Drive Cycle'!E100^2) -> 107.6421 | K100: =IF(A100=1,'Vehicle Specs'!$E$36,IF(A100=2,'Vehicle Specs'!$C$36,IF(A100=3,'Vehicle Specs'!$D$36,IF(A100=4,'Vehicle Specs'!$B$36,1)))) -> 80.19469 | L100: =L99+0.5 -> 3 | M100: =L100-L99 -> 0.5 | N100: =DEGREES(ATAN(M100/$C$3)) -> 26.565051 | O100: =9.81*SIN(RADIANS(N100))*($C$46) -> 193.03528 | P100: =J100+K100+O100 -> 380.87206 | Q100: =IF(H100=1,I100*'Vehicle Specs'!#REF!,IF(H100=2,'Vehicle Specs'!#REF!*I100,IF(H100=3,'Vehicle Specs'!$G$25*I100,0))) -> 0 | R100: =(J100+K100+O100+Q100) -> 380.87206 | S100: =ABS(R100) -> 380.87206 | T100: =ABS((+P100+Q100)*(+E100))/1000 -> 4.1895927 | W100: 308.00786 | X100: =(R100*W100/3600)/1000 -> 0.032586552 | Y100: =ABS(X100) -> 0.032586552 | Z100: =X100*3.09 -> 0.10069245 | AA100: =(0.5*'Vehicle Specs'!$G$20*'Drive Cycle'!E100^2) -> 38044.215 | AB100: =P100+Q100 -> 380.87206 | AC100: =SUM(AB$2:AB100) -> 23134.347
A101: 1 | B101: S1 | C101: =C100+1 -> 99 | D101: =E101*2.237 -> 24.607 | E101: 11 | F101: =($C$3/E101)+F100 -> 9.6712 | I101: =E101-E100 -> 0 | J101: =(0.5*'Vehicle Specs'!$G$25*'Vehicle Specs'!$C$28*'Vehicle Specs'!$C$27*'Drive Cycle'!E101^2) -> 107.6421 | K101: =IF(A101=1,'Vehicle Specs'!$E$36,IF(A101=2,'Vehicle Specs'!$C$36,IF(A101=3,'Vehicle Specs'!$D$36,IF(A101=4,'Vehicle Specs'!$B$36,1)))) -> 80.19469 | L101: =L100+0.5 -> 3.5 | M101: =L101-L100 -> 0.5 | N101: =DEGREES(ATAN(M101/$C$3)) -> 26.565051 | O101: =9.81*SIN(RADIANS(N101))*($C$46) -> 193.03528 | P101: =J101+K101+O101 -> 380.87206 | Q101: =IF(H101=1,I101*'Vehicle Specs'!#REF!,IF(H101=2,'Vehicle Specs'!#REF!*I101,IF(H101=3,'Vehicle Specs'!$G$25*I101,0))) -> 0 | R101: =(J101+K101+O101+Q101) -> 380.87206 | S101: =ABS(R101) -> 380.87206 | T101: =ABS((+P101+Q101)*(+E101))/1000 -> 4.1895927 | W101: 308.00786 | X101: =(R101*W101/3600)/1000 -> 0.032586552 | Y101: =ABS(X101) -> 0.032586552 | Z101: =X101*3.09 -> 0.10069245 | AA101: =(0.5*'Vehicle Specs'!$G$20*'Drive Cycle'!E101^2) -> 38044.215 | AB101: =P101+Q101 -> 380.87206 | AC101: =SUM(AB$2:AB101) -> 23515.22
A102: 1 | B102: S1 | C102: =C101+1 -> 100 | D102: =E102*2.237 -> 24.607 | E102: 11 | F102: =($C$3/E102)+F101 -> 9.7621091 | I102: =E102-E101 -> 0 | J102: =(0.5*'Vehicle Specs'!$G$25*'Vehicle Specs'!$C$28*'Vehicle Specs'!$C$27*'Drive Cycle'!E102^2) -> 107.6421 | K102: =IF(A102=1,'Vehicle Specs'!$E$36,IF(A102=2,'Vehicle Specs'!$C$36,IF(A102=3,'Vehicle Specs'!$D$36,IF(A102=4,'Vehicle Specs'!$B$36,1)))) -> 80.19469 | L102: =L101+0.5 -> 4 | M102: =L102-L101 -> 0.5 | N102: =DEGREES(ATAN(M102/$C$3)) -> 26.565051 | O102: =9.81*SIN(RADIANS(N102))*($C$46) -> 193.03528 | P102: =J102+K102+O102 -> 380.87206 | Q102: =IF(H102=1,I102*'Vehicle Specs'!#REF!,IF(H102=2,'Vehicle Specs'!#REF!*I102,IF(H102=3,'Vehicle Specs'!$G$25*I102,0))) -> 0 | R102: =(J102+K102+O102+Q102) -> 380.87206 | S102: =ABS(R102) -> 380.87206 | T102: =ABS((+P102+Q102)*(+E102))/1000 -> 4.1895927 | W102: 308.00786 | X102: =(R102*W102/3600)/1000 -> 0.032586552 | Y102: =ABS(X102) -> 0.032586552 | Z102: =X102*3.09 -> 0.10069245 | AA102: =(0.5*'Vehicle Specs'!$G$20*'Drive Cycle'!E102^2) -> 38044.215 | AB102: =P102+Q102 -> 380.87206 | AC102: =SUM(AB$2:AB102) -> 23896.092
A103: 1 | B103: S1 | C103: =C102+1 -> 101 | D103: =E103*2.237 -> 24.607 | E103: 11 | F103: =($C$3/E103)+F102 -> 9.8530182 | I103: =E103-E102 -> 0 | J103: =(0.5*'Vehicle Specs'!$G$25*'Vehicle Specs'!$C$28*'Vehicle Specs'!$C$27*'Drive Cycle'!E103^2) -> 107.6421 | K103: =IF(A103=1,'Vehicle Specs'!$E$36,IF(A103=2,'Vehicle Specs'!$C$36,IF(A103=3,'Vehicle Specs'!$D$36,IF(A103=4,'Vehicle Specs'!$B$36,1)))) -> 80.19469 | L103: =L102+0.5 -> 4.5 | M103: =L103-L102 -> 0.5 | N103: =DEGREES(ATAN(M103/$C$3)) -> 26.565051 | O103: =9.81*SIN(RADIANS(N103))*($C$46) -> 193.03528 | P103: =J103+K103+O103 -> 380.87206 | Q103: =IF(H103=1,I103*'Vehicle Specs'!#REF!,IF(H103=2,'Vehicle Specs'!#REF!*I103,IF(H103=3,'Vehicle Specs'!$G$25*I103,0))) -> 0 | R103: =(J103+K103+O103+Q103) -> 380.87206 | S103: =ABS(R103) -> 380.87206 | T103: =ABS((+P103+Q103)*(+E103))/1000 -> 4.1895927 | W103: 308.00786 | X103: =(R103*W103/3600)/1000 -> 0.032586552 | Y103: =ABS(X103) -> 0.032586552 | Z103: =X103*3.09 -> 0.10069245 | AA103: =(0.5*'Vehicle Specs'!$G$20*'Drive Cycle'!E103^2) -> 38044.215 | AB103: =P103+Q103 -> 380.87206 | AC103: =SUM(AB$2:AB103) -> 24276.964
A104: 1 | B104: S1 | C104: =C103+1 -> 102 | D104: =E104*2.237 -> 24.607 | E104: 11 | F104: =($C$3/E104)+F103 -> 9.9439273 | I104: =E104-E103 -> 0 | J104: =(0.5*'Vehicle Specs'!$G$25*'Vehicle Specs'!$C$28*'Vehicle Specs'!$C$27*'Drive Cycle'!E104^2) -> 107.6421 | K104: =IF(A104=1,'Vehicle Specs'!$E$36,IF(A104=2,'Vehicle Specs'!$C$36,IF(A104=3,'Vehicle Specs'!$D$36,IF(A104=4,'Vehicle Specs'!$B$36,1)))) -> 80.19469 | L104: =L103+0.5 -> 5 | M104: =L104-L103 -> 0.5 | N104: =DEGREES(ATAN(M104/$C$3)) -> 26.565051 | O104: =9.81*SIN(RADIANS(N104))*($C$46) -> 193.03528 | P104: =J104+K104+O104 -> 380.87206 | Q104: =IF(H104=1,I104*'Vehicle Specs'!#REF!,IF(H104=2,'Vehicle Specs'!#REF!*I104,IF(H104=3,'Vehicle Specs'!$G$25*I104,0))) -> 0 | R104: =(J104+K104+O104+Q104) -> 380.87206 | S104: =ABS(R104) -> 380.87206 | T104: =ABS((+P104+Q104)*(+E104))/1000 -> 4.1895927 | W104: 308.00786 | X104: =(R104*W104/3600)/1000 -> 0.032586552 | Y104: =ABS(X104) -> 0.032586552 | Z104: =X104*3.09 -> 0.10069245 | AA104: =(0.5*'Vehicle Specs'!$G$20*'Drive Cycle'!E104^2) -> 38044.215 | AB104: =P104+Q104 -> 380.87206 | AC104: =SUM(AB$2:AB104) -> 24657.836
A105: 1 | B105: S1 | C105: =C104+1 -> 103 | D105: =E105*2.237 -> 24.607 | E105: 11 | F105: =($C$3/E105)+F104 -> 10.034836 | I105: =E105-E104 -> 0 | J105: =(0.5*'Vehicle Specs'!$G$25*'Vehicle Specs'!$C$28*'Vehicle Specs'!$C$27*'Drive Cycle'!E105^2) -> 107.6421 | K105: =IF(A105=1,'Vehicle Specs'!$E$36,IF(A105=2,'Vehicle Specs'!$C$36,IF(A105=3,'Vehicle Specs'!$D$36,IF(A105=4,'Vehicle Specs'!$B$36,1)))) -> 80.19469 | L105: =L104+0.5 -> 5.5 | M105: =L105-L104 -> 0.5 | N105: =DEGREES(ATAN(M105/$C$3)) -> 26.565051 | O105: =9.81*SIN(RADIANS(N105))*($C$46) -> 193.03528 | P105: =J105+K105+O105 -> 380.87206 | Q105: =IF(H105=1,I105*'Vehicle Specs'!#REF!,IF(H105=2,'Vehicle Specs'!#REF!*I105,IF(H105=3,'Vehicle Specs'!$G$25*I105,0))) -> 0 | R105: =(J105+K105+O105+Q105) -> 380.87206 | S105: =ABS(R105) -> 380.87206 | T105: =ABS((+P105+Q105)*(+E105))/1000 -> 4.1895927 | W105: 308.00786 | X105: =(R105*W105/3600)/1000 -> 0.032586552 | Y105: =ABS(X105) -> 0.032586552 | Z105: =X105*3.09 -> 0.10069245 | AA105: =(0.5*'Vehicle Specs'!$G$20*'Drive Cycle'!E105^2) -> 38044.215 | AB105: =P105+Q105 -> 380.87206 | AC105: =SUM(AB$2:AB105) -> 25038.708
A106: 1 | B106: S1 | C106: =C105+1 -> 104 | D106: =E106*2.237 -> 24.607 | E106: 11 | F106: =($C$3/E106)+F105 -> 10.125745 | I106: =E106-E105 -> 0 | J106: =(0.5*'Vehicle Specs'!$G$25*'Vehicle Specs'!$C$28*'Vehicle Specs'!$C$27*'Drive Cycle'!E106^2) -> 107.6421 | K106: =IF(A106=1,'Vehicle Specs'!$E$36,IF(A106=2,'Vehicle Specs'!$C$36,IF(A106=3,'Vehicle Specs'!$D$36,IF(A106=4,'Vehicle Specs'!$B$36,1)))) -> 80.19469 | L106: =L105+0.5 -> 6 | M106: =L106-L105 -> 0.5 | N106: =DEGREES(ATAN(M106/$C$3)) -> 26.565051 | O106: =9.81*SIN(RADIANS(N106))*($C$46) -> 193.03528 | P106: =J106+K106+O106 -> 380.87206 | Q106: =IF(H106=1,I106*'Vehicle Specs'!#REF!,IF(H106=2,'Vehicle Specs'!#REF!*I106,IF(H106=3,'Vehicle Specs'!$G$25*I106,0))) -> 0 | R106: =(J106+K106+O106+Q106) -> 380.87206 | S106: =ABS(R106) -> 380.87206 | T106: =ABS((+P106+Q106)*(+E106))/1000 -> 4.1895927 | W106: 308.00786 | X106: =(R106*W106/3600)/1000 -> 0.032586552 | Y106: =ABS(X106) -> 0.032586552 | Z106: =X106*3.09 -> 0.10069245 | AA106: =(0.5*'Vehicle Specs'!$G$20*'Drive Cycle'!E106^2) -> 38044.215 | AB106: =P106+Q106 -> 380.87206 | AC106: =SUM(AB$2:AB106) -> 25419.58
... A111: 1 | B111: S1 | C111: =C110+1 -> 109 | D111: =E111*2.237 -> 24.607 | E111: 11 | F111: =($C$3/E111)+F110 -> 10.580291 | I111: =E111-E110 -> 0 | J111: =(0.5*'Vehicle Specs'!$G$25*'Vehicle Specs'!$C$28*'Vehicle Specs'!$C$27*'Drive Cycle'!E111^2) -> 107.6421 | K111: =IF(A111=1,'Vehicle Specs'!$E$36,IF(A111=2,'Vehicle Specs'!$C$36,IF(A111=3,'Vehicle Specs'!$D$36,IF(A111=4,'Vehicle Specs'!$B$36,1)))) -> 80.19469 | L111: =L110+0.5 -> 8.5 | M111: =L111-L110 -> 0.5 | N111: =DEGREES(ATAN(M111/$C$3)) -> 26.565051 | O111: =9.81*SIN(RADIANS(N111))*($C$46) -> 193.03528 | P111: =J111+K111+O111 -> 380.87206 | Q111: =IF(H111=1,I111*'Vehicle Specs'!#REF!,IF(H111=2,'Vehicle Specs'!#REF!*I111,IF(H111=3,'Vehicle Specs'!$G$25*I111,0))) -> 0 | R111: =(J111+K111+O111+Q111) -> 380.87206 | S111: =ABS(R111) -> 380.87206 | T111: =ABS((+P111+Q111)*(+E111))/1000 -> 4.1895927 | W111: 308.00786 | X111: =(R111*W111/3600)/1000 -> 0.032586552 | Y111: =ABS(X111) -> 0.032586552 | Z111: =X111*3.09 -> 0.10069245 | AA111: =(0.5*'Vehicle Specs'!$G$20*'Drive Cycle'!E111^2) -> 38044.215 | AB111: =P111+Q111 -> 380.87206 | AC111: =SUM(AB$2:AB111) -> 27323.94
A112: 1 | B112: S1 | C112: =C111+1 -> 110 | D112: =E112*2.237 -> 26.844 | E112: 12 | F112: =($C$3/E112)+F111 -> 10.663624 | I112: =E112-E111 -> 1 | J112: =(0.5*'Vehicle Specs'!$G$25*'Vehicle Specs'!$C$28*'Vehicle Specs'!$C$27*'Drive Cycle'!E112^2) -> 128.10299 | K112: =IF(A112=1,'Vehicle Specs'!$E$36,IF(A112=2,'Vehicle Specs'!$C$36,IF(A112=3,'Vehicle Specs'!$D$36,IF(A112=4,'Vehicle Specs'!$B$36,1)))) -> 80.19469 | L112: =L111 -> 8.5 | M112: =L112-L111 -> 0 | N112: =DEGREES(ATAN(M112/$C$3)) -> 0 | O112: =9.81*SIN(RADIANS(N112))*($C$46) -> 0 | P112: =J112+K112+O112 -> 208.29768 | Q112: =IF(H112=1,I112*'Vehicle Specs'!#REF!,IF(H112=2,'Vehicle Specs'!#REF!*I112,IF(H112=3,'Vehicle Specs'!$G$25*I112,0))) -> 0 | R112: =(J112+K112+O112+Q112) -> 208.29768 | S112: =ABS(R112) -> 208.29768 | T112: =ABS((+P112+Q112)*(+E112))/1000 -> 2.4995722 | W112: 308.00786 | X112: =(R112*W112/3600)/1000 -> 0.017821478 | Y112: =ABS(X112) -> 0.017821478 | Z112: =X112*3.09 -> 0.055068368 | AA112: =(0.5*'Vehicle Specs'!$G$20*'Drive Cycle'!E112^2) -> 45275.76 | AB112: =P112+Q112 -> 208.29768 | AC112: =SUM(AB$2:AB112) -> 27532.238
A113: 1 | B113: S1 | C113: =C112+1 -> 111 | D113: =E113*2.237 -> 29.081 | E113: 13 | F113: =($C$3/E113)+F112 -> 10.740547 | I113: =E113-E112 -> 1 | J113: =(0.5*'Vehicle Specs'!$G$25*'Vehicle Specs'!$C$28*'Vehicle Specs'!$C$27*'Drive Cycle'!E113^2) -> 150.34309 | K113: =IF(A113=1,'Vehicle Specs'!$E$36,IF(A113=2,'Vehicle Specs'!$C$36,IF(A113=3,'Vehicle Specs'!$D$36,IF(A113=4,'Vehicle Specs'!$B$36,1)))) -> 80.19469 | L113: =L112 -> 8.5 | M113: =L113-L112 -> 0 | N113: =DEGREES(ATAN(M113/$C$3)) -> 0 | O113: =9.81*SIN(RADIANS(N113))*($C$46) -> 0 | P113: =J113+K113+O113 -> 230.53778 | Q113: =IF(H113=1,I113*'Vehicle Specs'!#REF!,IF(H113=2,'Vehicle Specs'!#REF!*I113,IF(H113=3,'Vehicle Specs'!$G$25*I113,0))) -> 0 | R113: =(J113+K113+O113+Q113) -> 230.53778 | S113: =ABS(R113) -> 230.53778 | T113: =ABS((+P113+Q113)*(+E113))/1000 -> 2.9969912 | W113: 308.00786 | X113: =(R113*W113/3600)/1000 -> 0.019724291 | Y113: =ABS(X113) -> 0.019724291 | Z113: =X113*3.09 -> 0.06094806 | AA113: =(0.5*'Vehicle Specs'!$G$20*'Drive Cycle'!E113^2) -> 53136.135 | AB113: =P113+Q113 -> 230.53778 | AC113: =SUM(AB$2:AB113) -> 27762.776
A114: 1 | B114: S1 | C114: =C113+1 -> 112 | D114: =E114*2.237 -> 29.99817 | E114: 13.41 | F114: =($C$3/E114)+F113 -> 10.815119 | I114: =E114-E113 -> 0.41 | J114: =(0.5*'Vehicle Specs'!$G$25*'Vehicle Specs'!$C$28*'Vehicle Specs'!$C$27*'Drive Cycle'!E114^2) -> 159.97582 | K114: =IF(A114=1,'Vehicle Specs'!$E$36,IF(A114=2,'Vehicle Specs'!$C$36,IF(A114=3,'Vehicle Specs'!$D$36,IF(A114=4,'Vehicle Specs'!$B$36,1)))) -> 80.19469 | L114: =L113 -> 8.5 | M114: =L114-L113 -> 0 | N114: =DEGREES(ATAN(M114/$C$3)) -> 0 | O114: =9.81*SIN(RADIANS(N114))*($C$46) -> 0 | P114: =J114+K114+O114 -> 240.1705 | Q114: =IF(H114=1,I114*'Vehicle Specs'!#REF!,IF(H114=2,'Vehicle Specs'!#REF!*I114,IF(H114=3,'Vehicle Specs'!$G$25*I114,0))) -> 0 | R114: =(J114+K114+O114+Q114) -> 240.1705 | S114: =ABS(R114) -> 240.1705 | T114: =ABS((+P114+Q114)*(+E114))/1000 -> 3.2206865 | W114: 308.00786 | X114: =(R114*W114/3600)/1000 -> 0.020548445 | Y114: =ABS(X114) -> 0.020548445 | Z114: =X114*3.09 -> 0.063494696 | AA114: =(0.5*'Vehicle Specs'!$G$20*'Drive Cycle'!E114^2) -> 56540.652 | AB114: =P114+Q114 -> 240.1705 | AC114: =SUM(AB$2:AB114) -> 28002.946
A115: 1 | B115: S1 | C115: =C114+1 -> 113 | D115: =E115*2.237 -> 29.99817 | E115: 13.41 | F115: =($C$3/E115)+F114 -> 10.88969 | I115: =E115-E114 -> 0 | J115: =(0.5*'Vehicle Specs'!$G$25*'Vehicle Specs'!$C$28*'Vehicle Specs'!$C$27*'Drive Cycle'!E115^2) -> 159.97582 | K115: =IF(A115=1,'Vehicle Specs'!$E$36,IF(A115=2,'Vehicle Specs'!$C$36,IF(A115=3,'Vehicle Specs'!$D$36,IF(A115=4,'Vehicle Specs'!$B$36,1)))) -> 80.19469 | L115: =L114 -> 8.5 | M115: =L115-L114 -> 0 | N115: =DEGREES(ATAN(M115/$C$3)) -> 0 | O115: =9.81*SIN(RADIANS(N115))*($C$46) -> 0 | P115: =J115+K115+O115 -> 240.1705 | Q115: =IF(H115=1,I115*'Vehicle Specs'!#REF!,IF(H115=2,'Vehicle Specs'!#REF!*I115,IF(H115=3,'Vehicle Specs'!$G$25*I115,0))) -> 0 | R115: =(J115+K115+O115+Q115) -> 240.1705 | S115: =ABS(R115) -> 240.1705 | T115: =ABS((+P115+Q115)*(+E115))/1000 -> 3.2206865 | W115: 308.00786 | X115: =(R115*W115/3600)/1000 -> 0.020548445 | Y115: =ABS(X115) -> 0.020548445 | Z115: =X115*3.09 -> 0.063494696 | AA115: =(0.5*'Vehicle Specs'!$G$20*'Drive Cycle'!E115^2) -> 56540.652 | AB115: =P115+Q115 -> 240.1705 | AC115: =SUM(AB$2:AB115) -> 28243.117
A116: 1 | B116: S1 | C116: =C115+1 -> 114 | D116: =E116*2.237 -> 29.99817 | E116: 13.41 | F116: =($C$3/E116)+F115 -> 10.964261 | I116: =E116-E115 -> 0 | J116: =(0.5*'Vehicle Specs'!$G$25*'Vehicle Specs'!$C$28*'Vehicle Specs'!$C$27*'Drive Cycle'!E116^2) -> 159.97582 | K116: =IF(A116=1,'Vehicle Specs'!$E$36,IF(A116=2,'Vehicle Specs'!$C$36,IF(A116=3,'Vehicle Specs'!$D$36,IF(A116=4,'Vehicle Specs'!$B$36,1)))) -> 80.19469 | L116: =L115 -> 8.5 | M116: =L116-L115 -> 0 | N116: =DEGREES(ATAN(M116/$C$3)) -> 0 | O116: =9.81*SIN(RADIANS(N116))*($C$46) -> 0 | P116: =J116+K116+O116 -> 240.1705 | Q116: =IF(H116=1,I116*'Vehicle Specs'!#REF!,IF(H116=2,'Vehicle Specs'!#REF!*I116,IF(H116=3,'Vehicle Specs'!$G$25*I116,0))) -> 0 | R116: =(J116+K116+O116+Q116) -> 240.1705 | S116: =ABS(R116) -> 240.1705 | T116: =ABS((+P116+Q116)*(+E116))/1000 -> 3.2206865 | W116: 308.00786 | X116: =(R116*W116/3600)/1000 -> 0.020548445 | Y116: =ABS(X116) -> 0.020548445 | Z116: =X116*3.09 -> 0.063494696 | AA116: =(0.5*'Vehicle Specs'!$G$20*'Drive Cycle'!E116^2) -> 56540.652 | AB116: =P116+Q116 -> 240.1705 | AC116: =SUM(AB$2:AB116) -> 28483.287
A117: 1 | B117: S1 | C117: =C116+1 -> 115 | D117: =E117*2.237 -> 29.99817 | E117: 13.41 | F117: =($C$3/E117)+F116 -> 11.038832 | I117: =E117-E116 -> 0 | J117: =(0.5*'Vehicle Specs'!$G$25*'Vehicle Specs'!$C$28*'Vehicle Specs'!$C$27*'Drive Cycle'!E117^2) -> 159.97582 | K117: =IF(A117=1,'Vehicle Specs'!$E$36,IF(A117=2,'Vehicle Specs'!$C$36,IF(A117=3,'Vehicle Specs'!$D$36,IF(A117=4,'Vehicle Specs'!$B$36,1)))) -> 80.19469 | L117: =L116 -> 8.5 | M117: =L117-L116 -> 0 | N117: =DEGREES(ATAN(M117/$C$3)) -> 0 | O117: =9.81*SIN(RADIANS(N117))*($C$46) -> 0 | P117: =J117+K117+O117 -> 240.1705 | Q117: =IF(H117=1,I117*'Vehicle Specs'!#REF!,IF(H117=2,'Vehicle Specs'!#REF!*I117,IF(H117=3,'Vehicle Specs'!$G$25*I117,0))) -> 0 | R117: =(J117+K117+O117+Q117) -> 240.1705 | S117: =ABS(R117) -> 240.1705 | T117: =ABS((+P117+Q117)*(+E117))/1000 -> 3.2206865 | W117: 308.00786 | X117: =(R117*W117/3600)/1000 -> 0.020548445 | Y117: =ABS(X117) -> 0.020548445 | Z117: =X117*3.09 -> 0.063494696 | AA117: =(0.5*'Vehicle Specs'!$G$20*'Drive Cycle'!E117^2) -> 56540.652 | AB117: =P117+Q117 -> 240.1705 | AC117: =SUM(AB$2:AB117) -> 28723.458
A118: 1 | B118: S1 | C118: =C117+1 -> 116 | D118: =E118*2.237 -> 22.37 | E118: 10 | F118: =($C$3/E118)+F117 -> 11.138832 | I118: =E118-E117 -> -3.41 | J118: =(0.5*'Vehicle Specs'!$G$25*'Vehicle Specs'!$C$28*'Vehicle Specs'!$C$27*'Drive Cycle'!E118^2) -> 88.96041 | K118: =IF(A118=1,'Vehicle Specs'!$E$36,IF(A118=2,'Vehicle Specs'!$C$36,IF(A118=3,'Vehicle Specs'!$D$36,IF(A118=4,'Vehicle Specs'!$B$36,1)))) -> 80.19469 | L118: =L117 -> 8.5 | M118: =L118-L117 -> 0 | N118: =DEGREES(ATAN(M118/$C$3)) -> 0 | O118: =9.81*SIN(RADIANS(N118))*($C$46) -> 0 | P118: =J118+K118+O118 -> 169.1551 | Q118: =IF(H118=1,I118*'Vehicle Specs'!#REF!,IF(H118=2,'Vehicle Specs'!#REF!*I118,IF(H118=3,'Vehicle Specs'!$G$25*I118,0))) -> 0 | R118: =(J118+K118+O118+Q118) -> 169.1551 | S118: =ABS(R118) -> 169.1551 | T118: =ABS((+P118+Q118)*(+E118))/1000 -> 1.691551 | W118: 308.00786 | X118: =(R118*W118/3600)/1000 -> 0.014472528 | Y118: =ABS(X118) -> 0.014472528 | Z118: =X118*3.09 -> 0.044720111 | AA118: =(0.5*'Vehicle Specs'!$G$20*'Drive Cycle'!E118^2) -> 31441.5 | AB118: =P118+Q118 -> 169.1551 | AC118: =SUM(AB$2:AB118) -> 28892.613
A119: 1 | B119: S1 | C119: =C118+1 -> 117 | D119: =E119*2.237 -> 22.37 | E119: 10 | F119: =($C$3/E119)+F118 -> 11.238832 | I119: =E119-E118 -> 0 | J119: =(0.5*'Vehicle Specs'!$G$25*'Vehicle Specs'!$C$28*'Vehicle Specs'!$C$27*'Drive Cycle'!E119^2) -> 88.96041 | K119: =IF(A119=1,'Vehicle Specs'!$E$36,IF(A119=2,'Vehicle Specs'!$C$36,IF(A119=3,'Vehicle Specs'!$D$36,IF(A119=4,'Vehicle Specs'!$B$36,1)))) -> 80.19469 | L119: =L118 -> 8.5 | M119: =L119-L118 -> 0 | N119: =DEGREES(ATAN(M119/$C$3)) -> 0 | O119: =9.81*SIN(RADIANS(N119))*($C$46) -> 0 | P119: =J119+K119+O119 -> 169.1551 | Q119: =IF(H119=1,I119*'Vehicle Specs'!#REF!,IF(H119=2,'Vehicle Specs'!#REF!*I119,IF(H119=3,'Vehicle Specs'!$G$25*I119,0))) -> 0 | R119: =(J119+K119+O119+Q119) -> 169.1551 | S119: =ABS(R119) -> 169.1551 | T119: =ABS((+P119+Q119)*(+E119))/1000 -> 1.691551 | W119: 308.00786 | X119: =(R119*W119/3600)/1000 -> 0.014472528 | Y119: =ABS(X119) -> 0.014472528 | Z119: =X119*3.09 -> 0.044720111 | AA119: =(0.5*'Vehicle Specs'!$G$20*'Drive Cycle'!E119^2) -> 31441.5 | AB119: =P119+Q119 -> 169.1551 | AC119: =SUM(AB$2:AB119) -> 29061.768
A120: 1 | B120: S1 | C120: =C119+1 -> 118 | D120: =E120*2.237 -> 23.4885 | E120: 10.5 | F120: =($C$3/E120)+F119 -> 11.33407 | I120: =E120-E119 -> 0.5 | J120: =(0.5*'Vehicle Specs'!$G$25*'Vehicle Specs'!$C$28*'Vehicle Specs'!$C$27*'Drive Cycle'!E120^2) -> 98.078852 | K120: =IF(A120=1,'Vehicle Specs'!$E$36,IF(A120=2,'Vehicle Specs'!$C$36,IF(A120=3,'Vehicle Specs'!$D$36,IF(A120=4,'Vehicle Specs'!$B$36,1)))) -> 80.19469 | L120: =L119 -> 8.5 | M120: =L120-L119 -> 0 | N120: =DEGREES(ATAN(M120/$C$3)) -> 0 | O120: =9.81*SIN(RADIANS(N120))*($C$46) -> 0 | P120: =J120+K120+O120 -> 178.27354 | Q120: =IF(H120=1,I120*'Vehicle Specs'!#REF!,IF(H120=2,'Vehicle Specs'!#REF!*I120,IF(H120=3,'Vehicle Specs'!$G$25*I120,0))) -> 0 | R120: =(J120+K120+O120+Q120) -> 178.27354 | S120: =ABS(R120) -> 178.27354 | T120: =ABS((+P120+Q120)*(+E120))/1000 -> 1.8718722 | W120: 308.00786 | X120: =(R120*W120/3600)/1000 -> 0.015252681 | Y120: =ABS(X120) -> 0.015252681 | Z120: =X120*3.09 -> 0.047130784 | AA120: =(0.5*'Vehicle Specs'!$G$20*'Drive Cycle'!E120^2) -> 34664.254 | AB120: =P120+Q120 -> 178.27354 | AC120: =SUM(AB$2:AB120) -> 29240.041
A121: 1 | B121: S1 | C121: =C120+1 -> 119 | D121: =E121*2.237 -> 23.4885 | E121: 10.5 | F121: =($C$3/E121)+F120 -> 11.429308 | I121: =E121-E120 -> 0 | J121: =(0.5*'Vehicle Specs'!$G$25*'Vehicle Specs'!$C$28*'Vehicle Specs'!$C$27*'Drive Cycle'!E121^2) -> 98.078852 | K121: =IF(A121=1,'Vehicle Specs'!$E$36,IF(A121=2,'Vehicle Specs'!$C$36,IF(A121=3,'Vehicle Specs'!$D$36,IF(A121=4,'Vehicle Specs'!$B$36,1)))) -> 80.19469 | L121: =L120 -> 8.5 | M121: =L121-L120 -> 0 | N121: =DEGREES(ATAN(M121/$C$3)) -> 0 | O121: =9.81*SIN(RADIANS(N121))*($C$46) -> 0 | P121: =J121+K121+O121 -> 178.27354 | Q121: =IF(H121=1,I121*'Vehicle Specs'!#REF!,IF(H121=2,'Vehicle Specs'!#REF!*I121,IF(H121=3,'Vehicle Specs'!$G$25*I121,0))) -> 0 | R121: =(J121+K121+O121+Q121) -> 178.27354 | S121: =ABS(R121) -> 178.27354 | T121: =ABS((+P121+Q121)*(+E121))/1000 -> 1.8718722 | W121: 308.00786 | X121: =(R121*W121/3600)/1000 -> 0.015252681 | Y121: =ABS(X121) -> 0.015252681 | Z121: =X121*3.09 -> 0.047130784 | AA121: =(0.5*'Vehicle Specs'!$G$20*'Drive Cycle'!E121^2) -> 34664.254 | AB121: =P121+Q121 -> 178.27354 | AC121: =SUM(AB$2:AB121) -> 29418.315
A122: 1 | B122: S1 | C122: =C121+1 -> 120 | D122: =E122*2.237 -> 25.7255 | E122: 11.5 | F122: =($C$3/E122)+F121 -> 11.516265 | I122: =E122-E121 -> 1 | J122: =(0.5*'Vehicle Specs'!$G$25*'Vehicle Specs'!$C$28*'Vehicle Specs'!$C$27*'Drive Cycle'!E122^2) -> 117.65014 | K122: =IF(A122=1,'Vehicle Specs'!$E$36,IF(A122=2,'Vehicle Specs'!$C$36,IF(A122=3,'Vehicle Specs'!$D$36,IF(A122=4,'Vehicle Specs'!$B$36,1)))) -> 80.19469 | L122: 8.5 | M122: =L122-L121 -> 0 | N122: =DEGREES(ATAN(M122/$C$3)) -> 0 | O122: =9.81*SIN(RADIANS(N122))*($C$46) -> 0 | P122: =J122+K122+O122 -> 197.84483 | Q122: =IF(H122=1,I122*'Vehicle Specs'!#REF!,IF(H122=2,'Vehicle Specs'!#REF!*I122,IF(H122=3,'Vehicle Specs'!$G$25*I122,0))) -> 0 | R122: =(J122+K122+O122+Q122) -> 197.84483 | S122: =ABS(R122) -> 197.84483 | T122: =ABS((+P122+Q122)*(+E122))/1000 -> 2.2752156 | W122: 308.00786 | X122: =(R122*W122/3600)/1000 -> 0.016927156 | Y122: =ABS(X122) -> 0.016927156 | Z122: =X122*3.09 -> 0.052304913 | AA122: =(0.5*'Vehicle Specs'!$G$20*'Drive Cycle'!E122^2) -> 41581.384 | AB122: =P122+Q122 -> 197.84483 | AC122: =SUM(AB$2:AB122) -> 29616.16
A123: 1 | B123: S1 | C123: =C122+1 -> 121 | D123: =E123*2.237 -> 27.9625 | E123: 12.5 | F123: =($C$3/E123)+F122 -> 11.596265 | I123: =E123-E122 -> 1 | J123: =(0.5*'Vehicle Specs'!$G$25*'Vehicle Specs'!$C$28*'Vehicle Specs'!$C$27*'Drive Cycle'!E123^2) -> 139.00064 | K123: =IF(A123=1,'Vehicle Specs'!$E$36,IF(A123=2,'Vehicle Specs'!$C$36,IF(A123=3,'Vehicle Specs'!$D$36,IF(A123=4,'Vehicle Specs'!$B$36,1)))) -> 80.19469 | L123: =L122-0.35 -> 8.15 | M123: =L123-L122 -> -0.35 | N123: =DEGREES(ATAN(M123/$C$3)) -> -19.290046 | O123: =9.81*SIN(RADIANS(N123))*($C$46) -> -142.59246 | P123: =J123+K123+O123 -> 76.602873 | Q123: =IF(H123=1,I123*'Vehicle Specs'!#REF!,IF(H123=2,'Vehicle Specs'!#REF!*I123,IF(H123=3,'Vehicle Specs'!$G$25*I123,0))) -> 0 | R123: =(J123+K123+O123+Q123) -> 76.602873 | S123: =ABS(R123) -> 76.602873 | T123: =ABS((+P123+Q123)*(+E123))/1000 -> 0.95753591 | W123: 308.00786 | X123: =(R123*W123/3600)/1000 -> 0.0065539686 | Y123: =ABS(X123) -> 0.0065539686 | Z123: =X123*3.09 -> 0.020251763 | AA123: =(0.5*'Vehicle Specs'!$G$20*'Drive Cycle'!E123^2) -> 49127.344 | AB123: =P123+Q123 -> 76.602873 | AC123: =SUM(AB$2:AB123) -> 29692.763
A124: 1 | B124: S1 | C124: =C123+1 -> 122 | D124: =E124*2.237 -> 29.99817 | E124: 13.41 | F124: =($C$3/E124)+F123 -> 11.670836 | I124: =E124-E123 -> 0.91 | J124: =(0.5*'Vehicle Specs'!$G$25*'Vehicle Specs'!$C$28*'Vehicle Specs'!$C$27*'Drive Cycle'!E124^2) -> 159.97582 | K124: =IF(A124=1,'Vehicle Specs'!$E$36,IF(A124=2,'Vehicle Specs'!$C$36,IF(A124=3,'Vehicle Specs'!$D$36,IF(A124=4,'Vehicle Specs'!$B$36,1)))) -> 80.19469 | L124: =L123-0.35 -> 7.8 | M124: =L124-L123 -> -0.35 | N124: =DEGREES(ATAN(M124/$C$3)) -> -19.290046 | O124: =9.81*SIN(RADIANS(N124))*($C$46) -> -142.59246 | P124: =J124+K124+O124 -> 97.578048 | Q124: =IF(H124=1,I124*'Vehicle Specs'!#REF!,IF(H124=2,'Vehicle Specs'!#REF!*I124,IF(H124=3,'Vehicle Specs'!$G$25*I124,0))) -> 0 | R124: =(J124+K124+O124+Q124) -> 97.578048 | S124: =ABS(R124) -> 97.578048 | T124: =ABS((+P124+Q124)*(+E124))/1000 -> 1.3085216 | W124: 308.00786 | X124: =(R124*W124/3600)/1000 -> 0.0083485571 | Y124: =ABS(X124) -> 0.0083485571 | Z124: =X124*3.09 -> 0.025797041 | AA124: =(0.5*'Vehicle Specs'!$G$20*'Drive Cycle'!E124^2) -> 56540.652 | AB124: =P124+Q124 -> 97.578048 | AC124: =SUM(AB$2:AB124) -> 29790.341
A125: 1 | B125: S1 | C125: =C124+1 -> 123 | D125: =E125*2.237 -> 29.99817 | E125: 13.41 | F125: =($C$3/E125)+F124 -> 11.745407 | I125: =E125-E124 -> 0 | J125: =(0.5*'Vehicle Specs'!$G$25*'Vehicle Specs'!$C$28*'Vehicle Specs'!$C$27*'Drive Cycle'!E125^2) -> 159.97582 | K125: =IF(A125=1,'Vehicle Specs'!$E$36,IF(A125=2,'Vehicle Specs'!$C$36,IF(A125=3,'Vehicle Specs'!$D$36,IF(A125=4,'Vehicle Specs'!$B$36,1)))) -> 80.19469 | L125: =L124-0.35 -> 7.45 | M125: =L125-L124 -> -0.35 | N125: =DEGREES(ATAN(M125/$C$3)) -> -19.290046 | O125: =9.81*SIN(RADIANS(N125))*($C$46) -> -142.59246 | P125: =J125+K125+O125 -> 97.578048 | Q125: =IF(H125=1,I125*'Vehicle Specs'!#REF!,IF(H125=2,'Vehicle Specs'!#REF!*I125,IF(H125=3,'Vehicle Specs'!$G$25*I125,0))) -> 0 | R125: =(J125+K125+O125+Q125) -> 97.578048 | S125: =ABS(R125) -> 97.578048 | T125: =ABS((+P125+Q125)*(+E125))/1000 -> 1.3085216 | W125: 308.00786 | X125: =(R125*W125/3600)/1000 -> 0.0083485571 | Y125: =ABS(X125) -> 0.0083485571 | Z125: =X125*3.09 -> 0.025797041 | AA125: =(0.5*'Vehicle Specs'!$G$20*'Drive Cycle'!E125^2) -> 56540.652 | AB125: =P125+Q125 -> 97.578048 | AC125: =SUM(AB$2:AB125) -> 29887.919
A126: 1 | B126: S1 | C126: =C125+1 -> 124 | D126: =E126*2.237 -> 29.99817 | E126: 13.41 | F126: =($C$3/E126)+F125 -> 11.819979 | I126: =E126-E125 -> 0 | J126: =(0.5*'Vehicle Specs'!$G$25*'Vehicle Specs'!$C$28*'Vehicle Specs'!$C$27*'Drive Cycle'!E126^2) -> 159.97582 | K126: =IF(A126=1,'Vehicle Specs'!$E$36,IF(A126=2,'Vehicle Specs'!$C$36,IF(A126=3,'Vehicle Specs'!$D$36,IF(A126=4,'Vehicle Specs'!$B$36,1)))) -> 80.19469 | L126: =L125-0.35 -> 7.1 | M126: =L126-L125 -> -0.35 | N126: =DEGREES(ATAN(M126/$C$3)) -> -19.290046 | O126: =9.81*SIN(RADIANS(N126))*($C$46) -> -142.59246 | P126: =J126+K126+O126 -> 97.578048 | Q126: =IF(H126=1,I126*'Vehicle Specs'!#REF!,IF(H126=2,'Vehicle Specs'!#REF!*I126,IF(H126=3,'Vehicle Specs'!$G$25*I126,0))) -> 0 | R126: =(J126+K126+O126+Q126) -> 97.578048 | S126: =ABS(R126) -> 97.578048 | T126: =ABS((+P126+Q126)*(+E126))/1000 -> 1.3085216 | W126: 308.00786 | X126: =(R126*W126/3600)/1000 -> 0.0083485571 | Y126: =ABS(X126) -> 0.0083485571 | Z126: =X126*3.09 -> 0.025797041 | AA126: =(0.5*'Vehicle Specs'!$G$20*'Drive Cycle'!E126^2) -> 56540.652 | AB126: =P126+Q126 -> 97.578048 | AC126: =SUM(AB$2:AB126) -> 29985.497
A127: 1 | B127: S1 | C127: =C126+1 -> 125 | D127: =E127*2.237 -> 29.99817 | E127: 13.41 | F127: =($C$3/E127)+F126 -> 11.89455 | I127: =E127-E126 -> 0 | J127: =(0.5*'Vehicle Specs'!$G$25*'Vehicle Specs'!$C$28*'Vehicle Specs'!$C$27*'Drive Cycle'!E127^2) -> 159.97582 | K127: =IF(A127=1,'Vehicle Specs'!$E$36,IF(A127=2,'Vehicle Specs'!$C$36,IF(A127=3,'Vehicle Specs'!$D$36,IF(A127=4,'Vehicle Specs'!$B$36,1)))) -> 80.19469 | L127: =L126-0.35 -> 6.75 | M127: =L127-L126 -> -0.35 | N127: =DEGREES(ATAN(M127/$C$3)) -> -19.290046 | O127: =9.81*SIN(RADIANS(N127))*($C$46) -> -142.59246 | P127: =J127+K127+O127 -> 97.578048 | Q127: =IF(H127=1,I127*'Vehicle Specs'!#REF!,IF(H127=2,'Vehicle Specs'!#REF!*I127,IF(H127=3,'Vehicle Specs'!$G$25*I127,0))) -> 0 | R127: =(J127+K127+O127+Q127) -> 97.578048 | S127: =ABS(R127) -> 97.578048 | T127: =ABS((+P127+Q127)*(+E127))/1000 -> 1.3085216 | W127: 308.00786 | X127: =(R127*W127/3600)/1000 -> 0.0083485571 | Y127: =ABS(X127) -> 0.0083485571 | Z127: =X127*3.09 -> 0.025797041 | AA127: =(0.5*'Vehicle Specs'!$G$20*'Drive Cycle'!E127^2) -> 56540.652 | AB127: =P127+Q127 -> 97.578048 | AC127: =SUM(AB$2:AB127) -> 30083.075
A128: 1 | B128: S1 | C128: =C127+1 -> 126 | D128: =E128*2.237 -> 29.99817 | E128: 13.41 | F128: =($C$3/E128)+F127 -> 11.969121 | I128: =E128-E127 -> 0 | J128: =(0.5*'Vehicle Specs'!$G$25*'Vehicle Specs'!$C$28*'Vehicle Specs'!$C$27*'Drive Cycle'!E128^2) -> 159.97582 | K128: =IF(A128=1,'Vehicle Specs'!$E$36,IF(A128=2,'Vehicle Specs'!$C$36,IF(A128=3,'Vehicle Specs'!$D$36,IF(A128=4,'Vehicle Specs'!$B$36,1)))) -> 80.19469 | L128: =L127-0.35 -> 6.4 | M128: =L128-L127 -> -0.35 | N128: =DEGREES(ATAN(M128/$C$3)) -> -19.290046 | O128: =9.81*SIN(RADIANS(N128))*($C$46) -> -142.59246 | P128: =J128+K128+O128 -> 97.578048 | Q128: =IF(H128=1,I128*'Vehicle Specs'!#REF!,IF(H128=2,'Vehicle Specs'!#REF!*I128,IF(H128=3,'Vehicle Specs'!$G$25*I128,0))) -> 0 | R128: =(J128+K128+O128+Q128) -> 97.578048 | S128: =ABS(R128) -> 97.578048 | T128: =ABS((+P128+Q128)*(+E128))/1000 -> 1.3085216 | W128: 308.00786 | X128: =(R128*W128/3600)/1000 -> 0.0083485571 | Y128: =ABS(X128) -> 0.0083485571 | Z128: =X128*3.09 -> 0.025797041 | AA128: =(0.5*'Vehicle Specs'!$G$20*'Drive Cycle'!E128^2) -> 56540.652 | AB128: =P128+Q128 -> 97.578048 | AC128: =SUM(AB$2:AB128) -> 30180.653
A129: 1 | B129: S1 | C129: =C128+1 -> 127 | D129: =E129*2.237 -> 29.99817 | E129: 13.41 | F129: =($C$3/E129)+F128 -> 12.043692 | I129: =E129-E128 -> 0 | J129: =(0.5*'Vehicle Specs'!$G$25*'Vehicle Specs'!$C$28*'Vehicle Specs'!$C$27*'Drive Cycle'!E129^2) -> 159.97582 | K129: =IF(A129=1,'Vehicle Specs'!$E$36,IF(A129=2,'Vehicle Specs'!$C$36,IF(A129=3,'Vehicle Specs'!$D$36,IF(A129=4,'Vehicle Specs'!$B$36,1)))) -> 80.19469 | L129: =L128-0.35 -> 6.05 | M129: =L129-L128 -> -0.35 | N129: =DEGREES(ATAN(M129/$C$3)) -> -19.290046 | O129: =9.81*SIN(RADIANS(N129))*($C$46) -> -142.59246 | P129: =J129+K129+O129 -> 97.578048 | Q129: =IF(H129=1,I129*'Vehicle Specs'!#REF!,IF(H129=2,'Vehicle Specs'!#REF!*I129,IF(H129=3,'Vehicle Specs'!$G$25*I129,0))) -> 0 | R129: =(J129+K129+O129+Q129) -> 97.578048 | S129: =ABS(R129) -> 97.578048 | T129: =ABS((+P129+Q129)*(+E129))/1000 -> 1.3085216 | W129: 308.00786 | X129: =(R129*W129/3600)/1000 -> 0.0083485571 | Y129: =ABS(X129) -> 0.0083485571 | Z129: =X129*3.09 -> 0.025797041 | AA129: =(0.5*'Vehicle Specs'!$G$20*'Drive Cycle'!E129^2) -> 56540.652 | AB129: =P129+Q129 -> 97.578048 | AC129: =SUM(AB$2:AB129) -> 30278.231
A130: 1 | B130: S1 | C130: =C129+1 -> 128 | D130: =E130*2.237 -> 29.99817 | E130: 13.41 | F130: =($C$3/E130)+F129 -> 12.118263 | I130: =E130-E129 -> 0 | J130: =(0.5*'Vehicle Specs'!$G$25*'Vehicle Specs'!$C$28*'Vehicle Specs'!$C$27*'Drive Cycle'!E130^2) -> 159.97582 | K130: =IF(A130=1,'Vehicle Specs'!$E$36,IF(A130=2,'Vehicle Specs'!$C$36,IF(A130=3,'Vehicle Specs'!$D$36,IF(A130=4,'Vehicle Specs'!$B$36,1)))) -> 80.19469 | L130: =L129-0.35 -> 5.7 | M130: =L130-L129 -> -0.35 | N130: =DEGREES(ATAN(M130/$C$3)) -> -19.290046 | O130: =9.81*SIN(RADIANS(N130))*($C$46) -> -142.59246 | P130: =J130+K130+O130 -> 97.578048 | Q130: =IF(H130=1,I130*'Vehicle Specs'!#REF!,IF(H130=2,'Vehicle Specs'!#REF!*I130,IF(H130=3,'Vehicle Specs'!$G$25*I130,0))) -> 0 | R130: =(J130+K130+O130+Q130) -> 97.578048 | S130: =ABS(R130) -> 97.578048 | T130: =ABS((+P130+Q130)*(+E130))/1000 -> 1.3085216 | W130: 308.00786 | X130: =(R130*W130/3600)/1000 -> 0.0083485571 | Y130: =ABS(X130) -> 0.0083485571 | Z130: =X130*3.09 -> 0.025797041 | AA130: =(0.5*'Vehicle Specs'!$G$20*'Drive Cycle'!E130^2) -> 56540.652 | AB130: =P130+Q130 -> 97.578048 | AC130: =SUM(AB$2:AB130) -> 30375.809
A131: 1 | B131: S1 | C131: =C130+1 -> 129 | D131: =E131*2.237 -> 29.99817 | E131: 13.41 | F131: =($C$3/E131)+F130 -> 12.192835 | I131: =E131-E130 -> 0 | J131: =(0.5*'Vehicle Specs'!$G$25*'Vehicle Specs'!$C$28*'Vehicle Specs'!$C$27*'Drive Cycle'!E131^2) -> 159.97582 | K131: =IF(A131=1,'Vehicle Specs'!$E$36,IF(A131=2,'Vehicle Specs'!$C$36,IF(A131=3,'Vehicle Specs'!$D$36,IF(A131=4,'Vehicle Specs'!$B$36,1)))) -> 80.19469 | L131: =L130-0.35 -> 5.35 | M131: =L131-L130 -> -0.35 | N131: =DEGREES(ATAN(M131/$C$3)) -> -19.290046 | O131: =9.81*SIN(RADIANS(N131))*($C$46) -> -142.59246 | P131: =J131+K131+O131 -> 97.578048 | Q131: =IF(H131=1,I131*'Vehicle Specs'!#REF!,IF(H131=2,'Vehicle Specs'!#REF!*I131,IF(H131=3,'Vehicle Specs'!$G$25*I131,0))) -> 0 | R131: =(J131+K131+O131+Q131) -> 97.578048 | S131: =ABS(R131) -> 97.578048 | T131: =ABS((+P131+Q131)*(+E131))/1000 -> 1.3085216 | W131: 308.00786 | X131: =(R131*W131/3600)/1000 -> 0.0083485571 | Y131: =ABS(X131) -> 0.0083485571 | Z131: =X131*3.09 -> 0.025797041 | AA131: =(0.5*'Vehicle Specs'!$G$20*'Drive Cycle'!E131^2) -> 56540.652 | AB131: =P131+Q131 -> 97.578048 | AC131: =SUM(AB$2:AB131) -> 30473.387
A132: 1 | B132: S1 | C132: =C131+1 -> 130 | D132: =E132*2.237 -> 29.99817 | E132: 13.41 | F132: =($C$3/E132)+F131 -> 12.267406 | I132: =E132-E131 -> 0 | J132: =(0.5*'Vehicle Specs'!$G$25*'Vehicle Specs'!$C$28*'Vehicle Specs'!$C$27*'Drive Cycle'!E132^2) -> 159.97582 | K132: =IF(A132=1,'Vehicle Specs'!$E$36,IF(A132=2,'Vehicle Specs'!$C$36,IF(A132=3,'Vehicle Specs'!$D$36,IF(A132=4,'Vehicle Specs'!$B$36,1)))) -> 80.19469 | L132: =L131-0.35 -> 5 | M132: =L132-L131 -> -0.35 | N132: =DEGREES(ATAN(M132/$C$3)) -> -19.290046 | O132: =9.81*SIN(RADIANS(N132))*($C$46) -> -142.59246 | P132: =J132+K132+O132 -> 97.578048 | Q132: =IF(H132=1,I132*'Vehicle Specs'!#REF!,IF(H132=2,'Vehicle Specs'!#REF!*I132,IF(H132=3,'Vehicle Specs'!$G$25*I132,0))) -> 0 | R132: =(J132+K132+O132+Q132) -> 97.578048 | S132: =ABS(R132) -> 97.578048 | T132: =ABS((+P132+Q132)*(+E132))/1000 -> 1.3085216 | W132: 308.00786 | X132: =(R132*W132/3600)/1000 -> 0.0083485571 | Y132: =ABS(X132) -> 0.0083485571 | Z132: =X132*3.09 -> 0.025797041 | AA132: =(0.5*'Vehicle Specs'!$G$20*'Drive Cycle'!E132^2) -> 56540.652 | AB132: =P132+Q132 -> 97.578048 | AC132: =SUM(AB$2:AB132) -> 30570.965
A133: 1 | B133: S1 | C133: =C132+1 -> 131 | D133: =E133*2.237 -> 29.99817 | E133: 13.41 | F133: =($C$3/E133)+F132 -> 12.341977 | I133: =E133-E132 -> 0 | J133: =(0.5*'Vehicle Specs'!$G$25*'Vehicle Specs'!$C$28*'Vehicle Specs'!$C$27*'Drive Cycle'!E133^2) -> 159.97582 | K133: =IF(A133=1,'Vehicle Specs'!$E$36,IF(A133=2,'Vehicle Specs'!$C$36,IF(A133=3,'Vehicle Specs'!$D$36,IF(A133=4,'Vehicle Specs'!$B$36,1)))) -> 80.19469 | L133: =L132-0.35 -> 4.65 | M133: =L133-L132 -> -0.35 | N133: =DEGREES(ATAN(M133/$C$3)) -> -19.290046 | O133: =9.81*SIN(RADIANS(N133))*($C$46) -> -142.59246 | P133: =J133+K133+O133 -> 97.578048 | Q133: =IF(H133=1,I133*'Vehicle Specs'!#REF!,IF(H133=2,'Vehicle Specs'!#REF!*I133,IF(H133=3,'Vehicle Specs'!$G$25*I133,0))) -> 0 | R133: =(J133+K133+O133+Q133) -> 97.578048 | S133: =ABS(R133) -> 97.578048 | T133: =ABS((+P133+Q133)*(+E133))/1000 -> 1.3085216 | W133: 308.00786 | X133: =(R133*W133/3600)/1000 -> 0.0083485571 | Y133: =ABS(X133) -> 0.0083485571 | Z133: =X133*3.09 -> 0.025797041 | AA133: =(0.5*'Vehicle Specs'!$G$20*'Drive Cycle'!E133^2) -> 56540.652 | AB133: =P133+Q133 -> 97.578048 | AC133: =SUM(AB$2:AB133) -> 30668.543
A134: 1 | B134: S1 | C134: =C133+1 -> 132 | D134: =E134*2.237 -> 29.99817 | E134: 13.41 | F134: =($C$3/E134)+F133 -> 12.416548 | I134: =E134-E133 -> 0 | J134: =(0.5*'Vehicle Specs'!$G$25*'Vehicle Specs'!$C$28*'Vehicle Specs'!$C$27*'Drive Cycle'!E134^2) -> 159.97582 | K134: =IF(A134=1,'Vehicle Specs'!$E$36,IF(A134=2,'Vehicle Specs'!$C$36,IF(A134=3,'Vehicle Specs'!$D$36,IF(A134=4,'Vehicle Specs'!$B$36,1)))) -> 80.19469 | L134: =L133-0.35 -> 4.3 | M134: =L134-L133 -> -0.35 | N134: =DEGREES(ATAN(M134/$C$3)) -> -19.290046 | O134: =9.81*SIN(RADIANS(N134))*($C$46) -> -142.59246 | P134: =J134+K134+O134 -> 97.578048 | Q134: =IF(H134=1,I134*'Vehicle Specs'!#REF!,IF(H134=2,'Vehicle Specs'!#REF!*I134,IF(H134=3,'Vehicle Specs'!$G$25*I134,0))) -> 0 | R134: =(J134+K134+O134+Q134) -> 97.578048 | S134: =ABS(R134) -> 97.578048 | T134: =ABS((+P134+Q134)*(+E134))/1000 -> 1.3085216 | W134: 308.00786 | X134: =(R134*W134/3600)/1000 -> 0.0083485571 | Y134: =ABS(X134) -> 0.0083485571 | Z134: =X134*3.09 -> 0.025797041 | AA134: =(0.5*'Vehicle Specs'!$G$20*'Drive Cycle'!E134^2) -> 56540.652 | AB134: =P134+Q134 -> 97.578048 | AC134: =SUM(AB$2:AB134) -> 30766.121
... A146: 1 | B146: S1 | C146: =C145+1 -> 144 | D146: =E146*2.237 -> 29.99817 | E146: 13.41 | F146: =($C$3/E146)+F145 -> 13.311403 | I146: =E146-E145 -> 0 | J146: =(0.5*'Vehicle Specs'!$G$25*'Vehicle Specs'!$C$28*'Vehicle Specs'!$C$27*'Drive Cycle'!E146^2) -> 159.97582 | K146: =IF(A146=1,'Vehicle Specs'!$E$36,IF(A146=2,'Vehicle Specs'!$C$36,IF(A146=3,'Vehicle Specs'!$D$36,IF(A146=4,'Vehicle Specs'!$B$36,1)))) -> 80.19469 | L146: =L145-0.35 -> 0.1 | M146: =L146-L145 -> -0.35 | N146: =DEGREES(ATAN(M146/$C$3)) -> -19.290046 | O146: =9.81*SIN(RADIANS(N146))*($C$46) -> -142.59246 | P146: =J146+K146+O146 -> 97.578048 | Q146: =IF(H146=1,I146*'Vehicle Specs'!#REF!,IF(H146=2,'Vehicle Specs'!#REF!*I146,IF(H146=3,'Vehicle Specs'!$G$25*I146,0))) -> 0 | R146: =(J146+K146+O146+Q146) -> 97.578048 | S146: =ABS(R146) -> 97.578048 | T146: =ABS((+P146+Q146)*(+E146))/1000 -> 1.3085216 | W146: 308.00786 | X146: =(R146*W146/3600)/1000 -> 0.0083485571 | Y146: =ABS(X146) -> 0.0083485571 | Z146: =X146*3.09 -> 0.025797041 | AA146: =(0.5*'Vehicle Specs'!$G$20*'Drive Cycle'!E146^2) -> 56540.652 | AB146: =P146+Q146 -> 97.578048 | AC146: =SUM(AB$2:AB146) -> 31937.058
A147: 1 | B147: S1 | C147: =C146+1 -> 145 | D147: =E147*2.237 -> 29.99817 | E147: 13.41 | F147: =($C$3/E147)+F146 -> 13.385974 | I147: =E147-E146 -> 0 | J147: =(0.5*'Vehicle Specs'!$G$25*'Vehicle Specs'!$C$28*'Vehicle Specs'!$C$27*'Drive Cycle'!E147^2) -> 159.97582 | K147: =IF(A147=1,'Vehicle Specs'!$E$36,IF(A147=2,'Vehicle Specs'!$C$36,IF(A147=3,'Vehicle Specs'!$D$36,IF(A147=4,'Vehicle Specs'!$B$36,1)))) -> 80.19469 | L147: 0 | M147: =L147-L146 -> -0.1 | N147: =DEGREES(ATAN(M147/$C$3)) -> -5.7105931 | O147: =9.81*SIN(RADIANS(N147))*($C$46) -> -42.949785 | P147: =J147+K147+O147 -> 197.22072 | Q147: =IF(H147=1,I147*'Vehicle Specs'!#REF!,IF(H147=2,'Vehicle Specs'!#REF!*I147,IF(H147=3,'Vehicle Specs'!$G$25*I147,0))) -> 0 | R147: =(J147+K147+O147+Q147) -> 197.22072 | S147: =ABS(R147) -> 197.22072 | T147: =ABS((+P147+Q147)*(+E147))/1000 -> 2.6447299 | W147: 308.00786 | X147: =(R147*W147/3600)/1000 -> 0.016873759 | Y147: =ABS(X147) -> 0.016873759 | Z147: =X147*3.09 -> 0.052139914 | AA147: =(0.5*'Vehicle Specs'!$G$20*'Drive Cycle'!E147^2) -> 56540.652 | AB147: =P147+Q147 -> 197.22072 | AC147: =SUM(AB$2:AB147) -> 32134.278
A148: 1 | B148: S1 | C148: =C147+1 -> 146 | D148: =E148*2.237 -> 29.99817 | E148: 13.41 | F148: =($C$3/E148)+F147 -> 13.460545 | I148: =E148-E147 -> 0 | J148: =(0.5*'Vehicle Specs'!$G$25*'Vehicle Specs'!$C$28*'Vehicle Specs'!$C$27*'Drive Cycle'!E148^2) -> 159.97582 | K148: =IF(A148=1,'Vehicle Specs'!$E$36,IF(A148=2,'Vehicle Specs'!$C$36,IF(A148=3,'Vehicle Specs'!$D$36,IF(A148=4,'Vehicle Specs'!$B$36,1)))) -> 80.19469 | L148: 0 | M148: =L148-L147 -> 0 | N148: =DEGREES(ATAN(M148/$C$3)) -> 0 | O148: =9.81*SIN(RADIANS(N148))*($C$46) -> 0 | P148: =J148+K148+O148 -> 240.1705 | Q148: =IF(H148=1,I148*'Vehicle Specs'!#REF!,IF(H148=2,'Vehicle Specs'!#REF!*I148,IF(H148=3,'Vehicle Specs'!$G$25*I148,0))) -> 0 | R148: =(J148+K148+O148+Q148) -> 240.1705 | S148: =ABS(R148) -> 240.1705 | T148: =ABS((+P148+Q148)*(+E148))/1000 -> 3.2206865 | W148: 308.00786 | X148: =(R148*W148/3600)/1000 -> 0.020548445 | Y148: =ABS(X148) -> 0.020548445 | Z148: =X148*3.09 -> 0.063494696 | AA148: =(0.5*'Vehicle Specs'!$G$20*'Drive Cycle'!E148^2) -> 56540.652 | AB148: =P148+Q148 -> 240.1705 | AC148: =SUM(AB$2:AB148) -> 32374.449
A149: 1 | B149: S1 | C149: =C148+1 -> 147 | D149: =E149*2.237 -> 29.99817 | E149: 13.41 | F149: =($C$3/E149)+F148 -> 13.535116 | I149: =E149-E148 -> 0 | J149: =(0.5*'Vehicle Specs'!$G$25*'Vehicle Specs'!$C$28*'Vehicle Specs'!$C$27*'Drive Cycle'!E149^2) -> 159.97582 | K149: =IF(A149=1,'Vehicle Specs'!$E$36,IF(A149=2,'Vehicle Specs'!$C$36,IF(A149=3,'Vehicle Specs'!$D$36,IF(A149=4,'Vehicle Specs'!$B$36,1)))) -> 80.19469 | L149: 0 | M149: =L149-L148 -> 0 | N149: =DEGREES(ATAN(M149/$C$3)) -> 0 | O149: =9.81*SIN(RADIANS(N149))*($C$46) -> 0 | P149: =J149+K149+O149 -> 240.1705 | Q149: =IF(H149=1,I149*'Vehicle Specs'!#REF!,IF(H149=2,'Vehicle Specs'!#REF!*I149,IF(H149=3,'Vehicle Specs'!$G$25*I149,0))) -> 0 | R149: =(J149+K149+O149+Q149) -> 240.1705 | S149: =ABS(R149) -> 240.1705 | T149: =ABS((+P149+Q149)*(+E149))/1000 -> 3.2206865 | W149: 308.00786 | X149: =(R149*W149/3600)/1000 -> 0.020548445 | Y149: =ABS(X149) -> 0.020548445 | Z149: =X149*3.09 -> 0.063494696 | AA149: =(0.5*'Vehicle Specs'!$G$20*'Drive Cycle'!E149^2) -> 56540.652 | AB149: =P149+Q149 -> 240.1705 | AC149: =SUM(AB$2:AB149) -> 32614.619
A150: 1 | B150: S1 | C150: =C149+1 -> 148 | D150: =E150*2.237 -> 29.99817 | E150: 13.41 | F150: =($C$3/E150)+F149 -> 13.609688 | I150: =E150-E149 -> 0 | J150: =(0.5*'Vehicle Specs'!$G$25*'Vehicle Specs'!$C$28*'Vehicle Specs'!$C$27*'Drive Cycle'!E150^2) -> 159.97582 | K150: =IF(A150=1,'Vehicle Specs'!$E$36,IF(A150=2,'Vehicle Specs'!$C$36,IF(A150=3,'Vehicle Specs'!$D$36,IF(A150=4,'Vehicle Specs'!$B$36,1)))) -> 80.19469 | L150: 0 | M150: =L150-L149 -> 0 | N150: =DEGREES(ATAN(M150/$C$3)) -> 0 | O150: =9.81*SIN(RADIANS(N150))*($C$46) -> 0 | P150: =J150+K150+O150 -> 240.1705 | Q150: =IF(H150=1,I150*'Vehicle Specs'!#REF!,IF(H150=2,'Vehicle Specs'!#REF!*I150,IF(H150=3,'Vehicle Specs'!$G$25*I150,0))) -> 0 | R150: =(J150+K150+O150+Q150) -> 240.1705 | S150: =ABS(R150) -> 240.1705 | T150: =ABS((+P150+Q150)*(+E150))/1000 -> 3.2206865 | W150: 308.00786 | X150: =(R150*W150/3600)/1000 -> 0.020548445 | Y150: =ABS(X150) -> 0.020548445 | Z150: =X150*3.09 -> 0.063494696 | AA150: =(0.5*'Vehicle Specs'!$G$20*'Drive Cycle'!E150^2) -> 56540.652 | AB150: =P150+Q150 -> 240.1705 | AC150: =SUM(AB$2:AB150) -> 32854.79
A151: 1 | B151: S1 | C151: =C150+1 -> 149 | D151: =E151*2.237 -> 29.99817 | E151: 13.41 | F151: =($C$3/E151)+F150 -> 13.684259 | I151: =E151-E150 -> 0 | J151: =(0.5*'Vehicle Specs'!$G$25*'Vehicle Specs'!$C$28*'Vehicle Specs'!$C$27*'Drive Cycle'!E151^2) -> 159.97582 | K151: =IF(A151=1,'Vehicle Specs'!$E$36,IF(A151=2,'Vehicle Specs'!$C$36,IF(A151=3,'Vehicle Specs'!$D$36,IF(A151=4,'Vehicle Specs'!$B$36,1)))) -> 80.19469 | L151: 0 | M151: =L151-L150 -> 0 | N151: =DEGREES(ATAN(M151/$C$3)) -> 0 | O151: =9.81*SIN(RADIANS(N151))*($C$46) -> 0 | P151: =J151+K151+O151 -> 240.1705 | Q151: =IF(H151=1,I151*'Vehicle Specs'!#REF!,IF(H151=2,'Vehicle Specs'!#REF!*I151,IF(H151=3,'Vehicle Specs'!$G$25*I151,0))) -> 0 | R151: =(J151+K151+O151+Q151) -> 240.1705 | S151: =ABS(R151) -> 240.1705 | T151: =ABS((+P151+Q151)*(+E151))/1000 -> 3.2206865 | W151: 308.00786 | X151: =(R151*W151/3600)/1000 -> 0.020548445 | Y151: =ABS(X151) -> 0.020548445 | Z151: =X151*3.09 -> 0.063494696 | AA151: =(0.5*'Vehicle Specs'!$G$20*'Drive Cycle'!E151^2) -> 56540.652 | AB151: =P151+Q151 -> 240.1705 | AC151: =SUM(AB$2:AB151) -> 33094.96
A152: 1 | B152: S1 | C152: =C151+1 -> 150 | D152: =E152*2.237 -> 29.99817 | E152: 13.41 | F152: =($C$3/E152)+F151 -> 13.75883 | I152: =E152-E151 -> 0 | J152: =(0.5*'Vehicle Specs'!$G$25*'Vehicle Specs'!$C$28*'Vehicle Specs'!$C$27*'Drive Cycle'!E152^2) -> 159.97582 | K152: =IF(A152=1,'Vehicle Specs'!$E$36,IF(A152=2,'Vehicle Specs'!$C$36,IF(A152=3,'Vehicle Specs'!$D$36,IF(A152=4,'Vehicle Specs'!$B$36,1)))) -> 80.19469 | L152: 0 | M152: =L152-L151 -> 0 | N152: =DEGREES(ATAN(M152/$C$3)) -> 0 | O152: =9.81*SIN(RADIANS(N152))*($C$46) -> 0 | P152: =J152+K152+O152 -> 240.1705 | Q152: =IF(H152=1,I152*'Vehicle Specs'!#REF!,IF(H152=2,'Vehicle Specs'!#REF!*I152,IF(H152=3,'Vehicle Specs'!$G$25*I152,0))) -> 0 | R152: =(J152+K152+O152+Q152) -> 240.1705 | S152: =ABS(R152) -> 240.1705 | T152: =ABS((+P152+Q152)*(+E152))/1000 -> 3.2206865 | W152: 308.00786 | X152: =(R152*W152/3600)/1000 -> 0.020548445 | Y152: =ABS(X152) -> 0.020548445 | Z152: =X152*3.09 -> 0.063494696 | AA152: =(0.5*'Vehicle Specs'!$G$20*'Drive Cycle'!E152^2) -> 56540.652 | AB152: =P152+Q152 -> 240.1705 | AC152: =SUM(AB$2:AB152) -> 33335.131
A153: 1 | B153: S1 | C153: =C152+1 -> 151 | D153: =E153*2.237 -> 29.99817 | E153: 13.41 | F153: =($C$3/E153)+F152 -> 13.833401 | I153: =E153-E152 -> 0 | J153: =(0.5*'Vehicle Specs'!$G$25*'Vehicle Specs'!$C$28*'Vehicle Specs'!$C$27*'Drive Cycle'!E153^2) -> 159.97582 | K153: =IF(A153=1,'Vehicle Specs'!$E$36,IF(A153=2,'Vehicle Specs'!$C$36,IF(A153=3,'Vehicle Specs'!$D$36,IF(A153=4,'Vehicle Specs'!$B$36,1)))) -> 80.19469 | L153: 0 | M153: =L153-L152 -> 0 | N153: =DEGREES(ATAN(M153/$C$3)) -> 0 | O153: =9.81*SIN(RADIANS(N153))*($C$46) -> 0 | P153: =J153+K153+O153 -> 240.1705 | Q153: =IF(H153=1,I153*'Vehicle Specs'!#REF!,IF(H153=2,'Vehicle Specs'!#REF!*I153,IF(H153=3,'Vehicle Specs'!$G$25*I153,0))) -> 0 | R153: =(J153+K153+O153+Q153) -> 240.1705 | S153: =ABS(R153) -> 240.1705 | T153: =ABS((+P153+Q153)*(+E153))/1000 -> 3.2206865 | W153: 308.00786 | X153: =(R153*W153/3600)/1000 -> 0.020548445 | Y153: =ABS(X153) -> 0.020548445 | Z153: =X153*3.09 -> 0.063494696 | AA153: =(0.5*'Vehicle Specs'!$G$20*'Drive Cycle'!E153^2) -> 56540.652 | AB153: =P153+Q153 -> 240.1705 | AC153: =SUM(AB$2:AB153) -> 33575.301
A154: 1 | B154: S1 | C154: =C153+1 -> 152 | D154: =E154*2.237 -> 29.99817 | E154: 13.41 | F154: =($C$3/E154)+F153 -> 13.907973 | I154: =E154-E153 -> 0 | J154: =(0.5*'Vehicle Specs'!$G$25*'Vehicle Specs'!$C$28*'Vehicle Specs'!$C$27*'Drive Cycle'!E154^2) -> 159.97582 | K154: =IF(A154=1,'Vehicle Specs'!$E$36,IF(A154=2,'Vehicle Specs'!$C$36,IF(A154=3,'Vehicle Specs'!$D$36,IF(A154=4,'Vehicle Specs'!$B$36,1)))) -> 80.19469 | L154: 0 | M154: =L154-L153 -> 0 | N154: =DEGREES(ATAN(M154/$C$3)) -> 0 | O154: =9.81*SIN(RADIANS(N154))*($C$46) -> 0 | P154: =J154+K154+O154 -> 240.1705 | Q154: =IF(H154=1,I154*'Vehicle Specs'!#REF!,IF(H154=2,'Vehicle Specs'!#REF!*I154,IF(H154=3,'Vehicle Specs'!$G$25*I154,0))) -> 0 | R154: =(J154+K154+O154+Q154) -> 240.1705 | S154: =ABS(R154) -> 240.1705 | T154: =ABS((+P154+Q154)*(+E154))/1000 -> 3.2206865 | W154: 308.00786 | X154: =(R154*W154/3600)/1000 -> 0.020548445 | Y154: =ABS(X154) -> 0.020548445 | Z154: =X154*3.09 -> 0.063494696 | AA154: =(0.5*'Vehicle Specs'!$G$20*'Drive Cycle'!E154^2) -> 56540.652 | AB154: =P154+Q154 -> 240.1705 | AC154: =SUM(AB$2:AB154) -> 33815.472
A155: 1 | B155: S1 | C155: =C154+1 -> 153 | D155: =E155*2.237 -> 29.99817 | E155: 13.41 | F155: =($C$3/E155)+F154 -> 13.982544 | I155: =E155-E154 -> 0 | J155: =(0.5*'Vehicle Specs'!$G$25*'Vehicle Specs'!$C$28*'Vehicle Specs'!$C$27*'Drive Cycle'!E155^2) -> 159.97582 | K155: =IF(A155=1,'Vehicle Specs'!$E$36,IF(A155=2,'Vehicle Specs'!$C$36,IF(A155=3,'Vehicle Specs'!$D$36,IF(A155=4,'Vehicle Specs'!$B$36,1)))) -> 80.19469 | L155: 0 | M155: =L155-L154 -> 0 | N155: =DEGREES(ATAN(M155/$C$3)) -> 0 | O155: =9.81*SIN(RADIANS(N155))*($C$46) -> 0 | P155: =J155+K155+O155 -> 240.1705 | Q155: =IF(H155=1,I155*'Vehicle Specs'!#REF!,IF(H155=2,'Vehicle Specs'!#REF!*I155,IF(H155=3,'Vehicle Specs'!$G$25*I155,0))) -> 0 | R155: =(J155+K155+O155+Q155) -> 240.1705 | S155: =ABS(R155) -> 240.1705 | T155: =ABS((+P155+Q155)*(+E155))/1000 -> 3.2206865 | W155: 308.00786 | X155: =(R155*W155/3600)/1000 -> 0.020548445 | Y155: =ABS(X155) -> 0.020548445 | Z155: =X155*3.09 -> 0.063494696 | AA155: =(0.5*'Vehicle Specs'!$G$20*'Drive Cycle'!E155^2) -> 56540.652 | AB155: =P155+Q155 -> 240.1705 | AC155: =SUM(AB$2:AB155) -> 34055.642
A156: 1 | B156: S1 | C156: =C155+1 -> 154 | D156: =E156*2.237 -> 29.99817 | E156: 13.41 | F156: =($C$3/E156)+F155 -> 14.057115 | I156: =E156-E155 -> 0 | J156: =(0.5*'Vehicle Specs'!$G$25*'Vehicle Specs'!$C$28*'Vehicle Specs'!$C$27*'Drive Cycle'!E156^2) -> 159.97582 | K156: =IF(A156=1,'Vehicle Specs'!$E$36,IF(A156=2,'Vehicle Specs'!$C$36,IF(A156=3,'Vehicle Specs'!$D$36,IF(A156=4,'Vehicle Specs'!$B$36,1)))) -> 80.19469 | L156: 0 | M156: =L156-L155 -> 0 | N156: =DEGREES(ATAN(M156/$C$3)) -> 0 | O156: =9.81*SIN(RADIANS(N156))*($C$46) -> 0 | P156: =J156+K156+O156 -> 240.1705 | Q156: =IF(H156=1,I156*'Vehicle Specs'!#REF!,IF(H156=2,'Vehicle Specs'!#REF!*I156,IF(H156=3,'Vehicle Specs'!$G$25*I156,0))) -> 0 | R156: =(J156+K156+O156+Q156) -> 240.1705 | S156: =ABS(R156) -> 240.1705 | T156: =ABS((+P156+Q156)*(+E156))/1000 -> 3.2206865 | W156: 308.00786 | X156: =(R156*W156/3600)/1000 -> 0.020548445 | Y156: =ABS(X156) -> 0.020548445 | Z156: =X156*3.09 -> 0.063494696 | AA156: =(0.5*'Vehicle Specs'!$G$20*'Drive Cycle'!E156^2) -> 56540.652 | AB156: =P156+Q156 -> 240.1705 | AC156: =SUM(AB$2:AB156) -> 34295.813
A157: 1 | B157: S1 | C157: =C156+1 -> 155 | D157: =E157*2.237 -> 29.99817 | E157: 13.41 | F157: =($C$3/E157)+F156 -> 14.131686 | I157: =E157-E156 -> 0 | J157: =(0.5*'Vehicle Specs'!$G$25*'Vehicle Specs'!$C$28*'Vehicle Specs'!$C$27*'Drive Cycle'!E157^2) -> 159.97582 | K157: =IF(A157=1,'Vehicle Specs'!$E$36,IF(A157=2,'Vehicle Specs'!$C$36,IF(A157=3,'Vehicle Specs'!$D$36,IF(A157=4,'Vehicle Specs'!$B$36,1)))) -> 80.19469 | L157: 0 | M157: =L157-L156 -> 0 | N157: =DEGREES(ATAN(M157/$C$3)) -> 0 | O157: =9.81*SIN(RADIANS(N157))*($C$46) -> 0 | P157: =J157+K157+O157 -> 240.1705 | Q157: =IF(H157=1,I157*'Vehicle Specs'!#REF!,IF(H157=2,'Vehicle Specs'!#REF!*I157,IF(H157=3,'Vehicle Specs'!$G$25*I157,0))) -> 0 | R157: =(J157+K157+O157+Q157) -> 240.1705 | S157: =ABS(R157) -> 240.1705 | T157: =ABS((+P157+Q157)*(+E157))/1000 -> 3.2206865 | W157: 308.00786 | X157: =(R157*W157/3600)/1000 -> 0.020548445 | Y157: =ABS(X157) -> 0.020548445 | Z157: =X157*3.09 -> 0.063494696 | AA157: =(0.5*'Vehicle Specs'!$G$20*'Drive Cycle'!E157^2) -> 56540.652 | AB157: =P157+Q157 -> 240.1705 | AC157: =SUM(AB$2:AB157) -> 34535.983
A158: 1 | B158: S1 | C158: =C157+1 -> 156 | D158: =E158*2.237 -> 29.99817 | E158: 13.41 | F158: =($C$3/E158)+F157 -> 14.206257 | I158: =E158-E157 -> 0 | J158: =(0.5*'Vehicle Specs'!$G$25*'Vehicle Specs'!$C$28*'Vehicle Specs'!$C$27*'Drive Cycle'!E158^2) -> 159.97582 | K158: =IF(A158=1,'Vehicle Specs'!$E$36,IF(A158=2,'Vehicle Specs'!$C$36,IF(A158=3,'Vehicle Specs'!$D$36,IF(A158=4,'Vehicle Specs'!$B$36,1)))) -> 80.19469 | L158: 0 | M158: =L158-L157 -> 0 | N158: =DEGREES(ATAN(M158/$C$3)) -> 0 | O158: =9.81*SIN(RADIANS(N158))*($C$46) -> 0 | P158: =J158+K158+O158 -> 240.1705 | Q158: =IF(H158=1,I158*'Vehicle Specs'!#REF!,IF(H158=2,'Vehicle Specs'!#REF!*I158,IF(H158=3,'Vehicle Specs'!$G$25*I158,0))) -> 0 | R158: =(J158+K158+O158+Q158) -> 240.1705 | S158: =ABS(R158) -> 240.1705 | T158: =ABS((+P158+Q158)*(+E158))/1000 -> 3.2206865 | W158: 308.00786 | X158: =(R158*W158/3600)/1000 -> 0.020548445 | Y158: =ABS(X158) -> 0.020548445 | Z158: =X158*3.09 -> 0.063494696 | AA158: =(0.5*'Vehicle Specs'!$G$20*'Drive Cycle'!E158^2) -> 56540.652 | AB158: =P158+Q158 -> 240.1705 | AC158: =SUM(AB$2:AB158) -> 34776.154
A159: 1 | B159: S1 | C159: =C158+1 -> 157 | D159: =E159*2.237 -> 27.76117 | E159: =E158-1 -> 12.41 | F159: =($C$3/E159)+F158 -> 14.286838 | I159: =E159-E158 -> -1 | J159: =(0.5*'Vehicle Specs'!$G$25*'Vehicle Specs'!$C$28*'Vehicle Specs'!$C$27*'Drive Cycle'!E159^2) -> 137.00624 | K159: =IF(A159=1,'Vehicle Specs'!$E$36,IF(A159=2,'Vehicle Specs'!$C$36,IF(A159=3,'Vehicle Specs'!$D$36,IF(A159=4,'Vehicle Specs'!$B$36,1)))) -> 80.19469 | L159: 0 | M159: =L159-L158 -> 0 | N159: =DEGREES(ATAN(M159/$C$3)) -> 0 | O159: =9.81*SIN(RADIANS(N159))*($C$46) -> 0 | P159: =J159+K159+O159 -> 217.20093 | Q159: =IF(H159=1,I159*'Vehicle Specs'!#REF!,IF(H159=2,'Vehicle Specs'!#REF!*I159,IF(H159=3,'Vehicle Specs'!$G$25*I159,0))) -> 0 | R159: =(J159+K159+O159+Q159) -> 217.20093 | S159: =ABS(R159) -> 217.20093 | T159: =ABS((+P159+Q159)*(+E159))/1000 -> 2.6954635 | W159: 308.00786 | X159: =(R159*W159/3600)/1000 -> 0.01858322 | Y159: =ABS(X159) -> 0.01858322 | Z159: =X159*3.09 -> 0.05742215 | AA159: =(0.5*'Vehicle Specs'!$G$20*'Drive Cycle'!E159^2) -> 48422.457 | AB159: =P159+Q159 -> 217.20093 | AC159: =SUM(AB$2:AB159) -> 34993.355
A160: 1 | B160: S1 | C160: =C159+1 -> 158 | D160: =E160*2.237 -> 25.52417 | E160: =E159-1 -> 11.41 | F160: =($C$3/E160)+F159 -> 14.37448 | I160: =E160-E159 -> -1 | J160: =(0.5*'Vehicle Specs'!$G$25*'Vehicle Specs'!$C$28*'Vehicle Specs'!$C$27*'Drive Cycle'!E160^2) -> 115.81587 | K160: =IF(A160=1,'Vehicle Specs'!$E$36,IF(A160=2,'Vehicle Specs'!$C$36,IF(A160=3,'Vehicle Specs'!$D$36,IF(A160=4,'Vehicle Specs'!$B$36,1)))) -> 80.19469 | L160: 0 | M160: =L160-L159 -> 0 | N160: =DEGREES(ATAN(M160/$C$3)) -> 0 | O160: =9.81*SIN(RADIANS(N160))*($C$46) -> 0 | P160: =J160+K160+O160 -> 196.01056 | Q160: =IF(H160=1,I160*'Vehicle Specs'!#REF!,IF(H160=2,'Vehicle Specs'!#REF!*I160,IF(H160=3,'Vehicle Specs'!$G$25*I160,0))) -> 0 | R160: =(J160+K160+O160+Q160) -> 196.01056 | S160: =ABS(R160) -> 196.01056 | T160: =ABS((+P160+Q160)*(+E160))/1000 -> 2.2364805 | W160: 308.00786 | X160: =(R160*W160/3600)/1000 -> 0.01677022 | Y160: =ABS(X160) -> 0.01677022 | Z160: =X160*3.09 -> 0.05181998 | AA160: =(0.5*'Vehicle Specs'!$G$20*'Drive Cycle'!E160^2) -> 40933.091 | AB160: =P160+Q160 -> 196.01056 | AC160: =SUM(AB$2:AB160) -> 35189.365
A161: 1 | B161: S1 | C161: =C160+1 -> 159 | D161: =E161*2.237 -> 23.28717 | E161: =E160-1 -> 10.41 | F161: =($C$3/E161)+F160 -> 14.470541 | I161: =E161-E160 -> -1 | J161: =(0.5*'Vehicle Specs'!$G$25*'Vehicle Specs'!$C$28*'Vehicle Specs'!$C$27*'Drive Cycle'!E161^2) -> 96.404706 | K161: =IF(A161=1,'Vehicle Specs'!$E$36,IF(A161=2,'Vehicle Specs'!$C$36,IF(A161=3,'Vehicle Specs'!$D$36,IF(A161=4,'Vehicle Specs'!$B$36,1)))) -> 80.19469 | L161: 0 | M161: =L161-L160 -> 0 | N161: =DEGREES(ATAN(M161/$C$3)) -> 0 | O161: =9.81*SIN(RADIANS(N161))*($C$46) -> 0 | P161: =J161+K161+O161 -> 176.5994 | Q161: =IF(H161=1,I161*'Vehicle Specs'!#REF!,IF(H161=2,'Vehicle Specs'!#REF!*I161,IF(H161=3,'Vehicle Specs'!$G$25*I161,0))) -> 0 | R161: =(J161+K161+O161+Q161) -> 176.5994 | S161: =ABS(R161) -> 176.5994 | T161: =ABS((+P161+Q161)*(+E161))/1000 -> 1.8383997 | W161: 308.00786 | X161: =(R161*W161/3600)/1000 -> 0.015109445 | Y161: =ABS(X161) -> 0.015109445 | Z161: =X161*3.09 -> 0.046688185 | AA161: =(0.5*'Vehicle Specs'!$G$20*'Drive Cycle'!E161^2) -> 34072.556 | AB161: =P161+Q161 -> 176.5994 | AC161: =SUM(AB$2:AB161) -> 35365.965
A162: 1 | B162: S1 | C162: =C161+1 -> 160 | D162: =E162*2.237 -> 21.05017 | E162: =E161-1 -> 9.41 | F162: =($C$3/E162)+F161 -> 14.576811 | I162: =E162-E161 -> -1 | J162: =(0.5*'Vehicle Specs'!$G$25*'Vehicle Specs'!$C$28*'Vehicle Specs'!$C$27*'Drive Cycle'!E162^2) -> 78.772753 | K162: =IF(A162=1,'Vehicle Specs'!$E$36,IF(A162=2,'Vehicle Specs'!$C$36,IF(A162=3,'Vehicle Specs'!$D$36,IF(A162=4,'Vehicle Specs'!$B$36,1)))) -> 80.19469 | L162: 0 | M162: =L162-L161 -> 0 | N162: =DEGREES(ATAN(M162/$C$3)) -> 0 | O162: =9.81*SIN(RADIANS(N162))*($C$46) -> 0 | P162: =J162+K162+O162 -> 158.96744 | Q162: =IF(H162=1,I162*'Vehicle Specs'!#REF!,IF(H162=2,'Vehicle Specs'!#REF!*I162,IF(H162=3,'Vehicle Specs'!$G$25*I162,0))) -> 0 | R162: =(J162+K162+O162+Q162) -> 158.96744 | S162: =ABS(R162) -> 158.96744 | T162: =ABS((+P162+Q162)*(+E162))/1000 -> 1.4958836 | W162: 308.00786 | X162: =(R162*W162/3600)/1000 -> 0.013600895 | Y162: =ABS(X162) -> 0.013600895 | Z162: =X162*3.09 -> 0.042026765 | AA162: =(0.5*'Vehicle Specs'!$G$20*'Drive Cycle'!E162^2) -> 27840.851 | AB162: =P162+Q162 -> 158.96744 | AC162: =SUM(AB$2:AB162) -> 35524.932
A163: 1 | B163: S1 | C163: =C162+1 -> 161 | D163: =E163*2.237 -> 18.81317 | E163: =E162-1 -> 8.41 | F163: =($C$3/E163)+F162 -> 14.695717 | I163: =E163-E162 -> -1 | J163: =(0.5*'Vehicle Specs'!$G$25*'Vehicle Specs'!$C$28*'Vehicle Specs'!$C$27*'Drive Cycle'!E163^2) -> 62.920008 | K163: =IF(A163=1,'Vehicle Specs'!$E$36,IF(A163=2,'Vehicle Specs'!$C$36,IF(A163=3,'Vehicle Specs'!$D$36,IF(A163=4,'Vehicle Specs'!$B$36,1)))) -> 80.19469 | L163: 0 | M163: =L163-L162 -> 0 | N163: =DEGREES(ATAN(M163/$C$3)) -> 0 | O163: =9.81*SIN(RADIANS(N163))*($C$46) -> 0 | P163: =J163+K163+O163 -> 143.1147 | Q163: =IF(H163=1,I163*'Vehicle Specs'!#REF!,IF(H163=2,'Vehicle Specs'!#REF!*I163,IF(H163=3,'Vehicle Specs'!$G$25*I163,0))) -> 0 | R163: =(J163+K163+O163+Q163) -> 143.1147 | S163: =ABS(R163) -> 143.1147 | T163: =ABS((+P163+Q163)*(+E163))/1000 -> 1.2035946 | W163: 308.00786 | X163: =(R163*W163/3600)/1000 -> 0.01224457 | Y163: =ABS(X163) -> 0.01224457 | Z163: =X163*3.09 -> 0.037835721 | AA163: =(0.5*'Vehicle Specs'!$G$20*'Drive Cycle'!E163^2) -> 22237.976 | AB163: =P163+Q163 -> 143.1147 | AC163: =SUM(AB$2:AB163) -> 35668.047
A164: 1 | B164: S1 | C164: =C163+1 -> 162 | D164: =E164*2.237 -> 16.57617 | E164: =E163-1 -> 7.41 | F164: =($C$3/E164)+F163 -> 14.83067 | I164: =E164-E163 -> -1 | J164: =(0.5*'Vehicle Specs'!$G$25*'Vehicle Specs'!$C$28*'Vehicle Specs'!$C$27*'Drive Cycle'!E164^2) -> 48.846471 | K164: =IF(A164=1,'Vehicle Specs'!$E$36,IF(A164=2,'Vehicle Specs'!$C$36,IF(A164=3,'Vehicle Specs'!$D$36,IF(A164=4,'Vehicle Specs'!$B$36,1)))) -> 80.19469 | L164: 0 | M164: =L164-L163 -> 0 | N164: =DEGREES(ATAN(M164/$C$3)) -> 0 | O164: =9.81*SIN(RADIANS(N164))*($C$46) -> 0 | P164: =J164+K164+O164 -> 129.04116 | Q164: =IF(H164=1,I164*'Vehicle Specs'!#REF!,IF(H164=2,'Vehicle Specs'!#REF!*I164,IF(H164=3,'Vehicle Specs'!$G$25*I164,0))) -> 0 | R164: =(J164+K164+O164+Q164) -> 129.04116 | S164: =ABS(R164) -> 129.04116 | T164: =ABS((+P164+Q164)*(+E164))/1000 -> 0.956195 | W164: 308.00786 | X164: =(R164*W164/3600)/1000 -> 0.01104047 | Y164: =ABS(X164) -> 0.01104047 | Z164: =X164*3.09 -> 0.034115052 | AA164: =(0.5*'Vehicle Specs'!$G$20*'Drive Cycle'!E164^2) -> 17263.93 | AB164: =P164+Q164 -> 129.04116 | AC164: =SUM(AB$2:AB164) -> 35797.088
A165: 1 | B165: S1 | C165: =C164+1 -> 163 | D165: =E165*2.237 -> 14.33917 | E165: =E164-1 -> 6.41 | F165: =($C$3/E165)+F164 -> 14.986676 | I165: =E165-E164 -> -1 | J165: =(0.5*'Vehicle Specs'!$G$25*'Vehicle Specs'!$C$28*'Vehicle Specs'!$C$27*'Drive Cycle'!E165^2) -> 36.552142 | K165: =IF(A165=1,'Vehicle Specs'!$E$36,IF(A165=2,'Vehicle Specs'!$C$36,IF(A165=3,'Vehicle Specs'!$D$36,IF(A165=4,'Vehicle Specs'!$B$36,1)))) -> 80.19469 | L165: 0 | M165: =L165-L164 -> 0 | N165: =DEGREES(ATAN(M165/$C$3)) -> 0 | O165: =9.81*SIN(RADIANS(N165))*($C$46) -> 0 | P165: =J165+K165+O165 -> 116.74683 | Q165: =IF(H165=1,I165*'Vehicle Specs'!#REF!,IF(H165=2,'Vehicle Specs'!#REF!*I165,IF(H165=3,'Vehicle Specs'!$G$25*I165,0))) -> 0 | R165: =(J165+K165+O165+Q165) -> 116.74683 | S165: =ABS(R165) -> 116.74683 | T165: =ABS((+P165+Q165)*(+E165))/1000 -> 0.74834719 | W165: 308.00786 | X165: =(R165*W165/3600)/1000 -> 0.0099885949 | Y165: =ABS(X165) -> 0.0099885949 | Z165: =X165*3.09 -> 0.030864758 | AA165: =(0.5*'Vehicle Specs'!$G$20*'Drive Cycle'!E165^2) -> 12918.715 | AB165: =P165+Q165 -> 116.74683 | AC165: =SUM(AB$2:AB165) -> 35913.835
A166: 1 | B166: S1 | C166: =C165+1 -> 164 | D166: =E166*2.237 -> 12.10217 | E166: =E165-1 -> 5.41 | F166: =($C$3/E166)+F165 -> 15.171519 | I166: =E166-E165 -> -1 | J166: =(0.5*'Vehicle Specs'!$G$25*'Vehicle Specs'!$C$28*'Vehicle Specs'!$C$27*'Drive Cycle'!E166^2) -> 26.037022 | K166: =IF(A166=1,'Vehicle Specs'!$E$36,IF(A166=2,'Vehicle Specs'!$C$36,IF(A166=3,'Vehicle Specs'!$D$36,IF(A166=4,'Vehicle Specs'!$B$36,1)))) -> 80.19469 | L166: 0 | M166: =L166-L165 -> 0 | N166: =DEGREES(ATAN(M166/$C$3)) -> 0 | O166: =9.81*SIN(RADIANS(N166))*($C$46) -> 0 | P166: =J166+K166+O166 -> 106.23171 | Q166: =IF(H166=1,I166*'Vehicle Specs'!#REF!,IF(H166=2,'Vehicle Specs'!#REF!*I166,IF(H166=3,'Vehicle Specs'!$G$25*I166,0))) -> 0 | R166: =(J166+K166+O166+Q166) -> 106.23171 | S166: =ABS(R166) -> 106.23171 | T166: =ABS((+P166+Q166)*(+E166))/1000 -> 0.57471356 | W166: 308.00786 | X166: =(R166*W166/3600)/1000 -> 0.009088945 | Y166: =ABS(X166) -> 0.009088945 | Z166: =X166*3.09 -> 0.02808484 | AA166: =(0.5*'Vehicle Specs'!$G$20*'Drive Cycle'!E166^2) -> 9202.3297 | AB166: =P166+Q166 -> 106.23171 | AC166: =SUM(AB$2:AB166) -> 36020.067
A167: 1 | B167: S1 | C167: =C166+1 -> 165 | D167: =E167*2.237 -> 9.86517 | E167: =E166-1 -> 4.41 | F167: =($C$3/E167)+F166 -> 15.398277 | I167: =E167-E166 -> -1 | J167: =(0.5*'Vehicle Specs'!$G$25*'Vehicle Specs'!$C$28*'Vehicle Specs'!$C$27*'Drive Cycle'!E167^2) -> 17.301109 | K167: =IF(A167=1,'Vehicle Specs'!$E$36,IF(A167=2,'Vehicle Specs'!$C$36,IF(A167=3,'Vehicle Specs'!$D$36,IF(A167=4,'Vehicle Specs'!$B$36,1)))) -> 80.19469 | L167: 0 | M167: =L167-L166 -> 0 | N167: =DEGREES(ATAN(M167/$C$3)) -> 0 | O167: =9.81*SIN(RADIANS(N167))*($C$46) -> 0 | P167: =J167+K167+O167 -> 97.495799 | Q167: =IF(H167=1,I167*'Vehicle Specs'!#REF!,IF(H167=2,'Vehicle Specs'!#REF!*I167,IF(H167=3,'Vehicle Specs'!$G$25*I167,0))) -> 0 | R167: =(J167+K167+O167+Q167) -> 97.495799 | S167: =ABS(R167) -> 97.495799 | T167: =ABS((+P167+Q167)*(+E167))/1000 -> 0.42995648 | W167: 308.00786 | X167: =(R167*W167/3600)/1000 -> 0.0083415201 | Y167: =ABS(X167) -> 0.0083415201 | Z167: =X167*3.09 -> 0.025775297 | AA167: =(0.5*'Vehicle Specs'!$G$20*'Drive Cycle'!E167^2) -> 6114.7744 | AB167: =P167+Q167 -> 97.495799 | AC167: =SUM(AB$2:AB167) -> 36117.563
A168: 1 | B168: S1 | C168: =C167+1 -> 166 | D168: =E168*2.237 -> 7.62817 | E168: =E167-1 -> 3.41 | F168: =($C$3/E168)+F167 -> 15.691532 | I168: =E168-E167 -> -1 | J168: =(0.5*'Vehicle Specs'!$G$25*'Vehicle Specs'!$C$28*'Vehicle Specs'!$C$27*'Drive Cycle'!E168^2) -> 10.344405 | K168: =IF(A168=1,'Vehicle Specs'!$E$36,IF(A168=2,'Vehicle Specs'!$C$36,IF(A168=3,'Vehicle Specs'!$D$36,IF(A168=4,'Vehicle Specs'!$B$36,1)))) -> 80.19469 | L168: 0 | M168: =L168-L167 -> 0 | N168: =DEGREES(ATAN(M168/$C$3)) -> 0 | O168: =9.81*SIN(RADIANS(N168))*($C$46) -> 0 | P168: =J168+K168+O168 -> 90.539095 | Q168: =IF(H168=1,I168*'Vehicle Specs'!#REF!,IF(H168=2,'Vehicle Specs'!#REF!*I168,IF(H168=3,'Vehicle Specs'!$G$25*I168,0))) -> 0 | R168: =(J168+K168+O168+Q168) -> 90.539095 | S168: =ABS(R168) -> 90.539095 | T168: =ABS((+P168+Q168)*(+E168))/1000 -> 0.30873832 | W168: 308.00786 | X168: =(R168*W168/3600)/1000 -> 0.0077463202 | Y168: =ABS(X168) -> 0.0077463202 | Z168: =X168*3.09 -> 0.023936129 | AA168: =(0.5*'Vehicle Specs'!$G$20*'Drive Cycle'!E168^2) -> 3656.0491 | AB168: =P168+Q168 -> 90.539095 | AC168: =SUM(AB$2:AB168) -> 36208.102
A169: 1 | B169: T1 | C169: =C168+1 -> 167 | D169: =E169*2.237 -> 7.62817 | E169: =E168 -> 3.41 | F169: =($C$3/E169)+F168 -> 15.984787 | I169: =E169-E168 -> 0 | J169: =(0.5*'Vehicle Specs'!$G$25*'Vehicle Specs'!$C$28*'Vehicle Specs'!$C$27*'Drive Cycle'!E169^2) -> 10.344405 | K169: =IF(A169=1,'Vehicle Specs'!$E$36,IF(A169=2,'Vehicle Specs'!$C$36,IF(A169=3,'Vehicle Specs'!$D$36,IF(A169=4,'Vehicle Specs'!$B$36,1)))) -> 80.19469 | L169: 0 | M169: =L169-L168 -> 0 | N169: =DEGREES(ATAN(M169/$C$3)) -> 0 | O169: =9.81*SIN(RADIANS(N169))*($C$46) -> 0 | P169: =J169+K169+O169 -> 90.539095 | Q169: =IF(H169=1,I169*'Vehicle Specs'!#REF!,IF(H169=2,'Vehicle Specs'!#REF!*I169,IF(H169=3,'Vehicle Specs'!$G$25*I169,0))) -> 0 | R169: =(J169+K169+O169+Q169) -> 90.539095 | S169: =ABS(R169) -> 90.539095 | T169: =ABS((+P169+Q169)*(+E169))/1000 -> 0.30873832 | W169: 308.00786 | X169: =(R169*W169/3600)/1000 -> 0.0077463202 | Y169: =ABS(X169) -> 0.0077463202 | Z169: =X169*3.09 -> 0.023936129 | AA169: =(0.5*'Vehicle Specs'!$G$20*'Drive Cycle'!E169^2) -> 3656.0491 | AB169: =P169+Q169 -> 90.539095 | AC169: =SUM(AB$2:AB169) -> 36298.641
A170: 1 | B170: T1 | C170: =C169+1 -> 168 | D170: =E170*2.237 -> 7.62817 | E170: =E169 -> 3.41 | F170: =($C$3/E170)+F169 -> 16.278042 | I170: =E170-E169 -> 0 | J170: =(0.5*'Vehicle Specs'!$G$25*'Vehicle Specs'!$C$28*'Vehicle Specs'!$C$27*'Drive Cycle'!E170^2) -> 10.344405 | K170: =IF(A170=1,'Vehicle Specs'!$E$36,IF(A170=2,'Vehicle Specs'!$C$36,IF(A170=3,'Vehicle Specs'!$D$36,IF(A170=4,'Vehicle Specs'!$B$36,1)))) -> 80.19469 | L170: 0 | M170: =L170-L169 -> 0 | N170: =DEGREES(ATAN(M170/$C$3)) -> 0 | O170: =9.81*SIN(RADIANS(N170))*($C$46) -> 0 | P170: =J170+K170+O170 -> 90.539095 | Q170: =IF(H170=1,I170*'Vehicle Specs'!#REF!,IF(H170=2,'Vehicle Specs'!#REF!*I170,IF(H170=3,'Vehicle Specs'!$G$25*I170,0))) -> 0 | R170: =(J170+K170+O170+Q170) -> 90.539095 | S170: =ABS(R170) -> 90.539095 | T170: =ABS((+P170+Q170)*(+E170))/1000 -> 0.30873832 | W170: 308.00786 | X170: =(R170*W170/3600)/1000 -> 0.0077463202 | Y170: =ABS(X170) -> 0.0077463202 | Z170: =X170*3.09 -> 0.023936129 | AA170: =(0.5*'Vehicle Specs'!$G$20*'Drive Cycle'!E170^2) -> 3656.0491 | AB170: =P170+Q170 -> 90.539095 | AC170: =SUM(AB$2:AB170) -> 36389.18
A171: 1 | B171: T1 | C171: =C170+1 -> 169 | D171: =E171*2.237 -> 7.62817 | E171: =E170 -> 3.41 | F171: =($C$3/E171)+F170 -> 16.571297 | I171: =E171-E170 -> 0 | J171: =(0.5*'Vehicle Specs'!$G$25*'Vehicle Specs'!$C$28*'Vehicle Specs'!$C$27*'Drive Cycle'!E171^2) -> 10.344405 | K171: =IF(A171=1,'Vehicle Specs'!$E$36,IF(A171=2,'Vehicle Specs'!$C$36,IF(A171=3,'Vehicle Specs'!$D$36,IF(A171=4,'Vehicle Specs'!$B$36,1)))) -> 80.19469 | L171: 0 | M171: =L171-L170 -> 0 | N171: =DEGREES(ATAN(M171/$C$3)) -> 0 | O171: =9.81*SIN(RADIANS(N171))*($C$46) -> 0 | P171: =J171+K171+O171 -> 90.539095 | Q171: =IF(H171=1,I171*'Vehicle Specs'!#REF!,IF(H171=2,'Vehicle Specs'!#REF!*I171,IF(H171=3,'Vehicle Specs'!$G$25*I171,0))) -> 0 | R171: =(J171+K171+O171+Q171) -> 90.539095 | S171: =ABS(R171) -> 90.539095 | T171: =ABS((+P171+Q171)*(+E171))/1000 -> 0.30873832 | W171: 308.00786 | X171: =(R171*W171/3600)/1000 -> 0.0077463202 | Y171: =ABS(X171) -> 0.0077463202 | Z171: =X171*3.09 -> 0.023936129 | AA171: =(0.5*'Vehicle Specs'!$G$20*'Drive Cycle'!E171^2) -> 3656.0491 | AB171: =P171+Q171 -> 90.539095 | AC171: =SUM(AB$2:AB171) -> 36479.719
A172: 1 | B172: T1 | C172: =C171+1 -> 170 | D172: =E172*2.237 -> 7.62817 | E172: =E171 -> 3.41 | F172: =($C$3/E172)+F171 -> 16.864552 | I172: =E172-E171 -> 0 | J172: =(0.5*'Vehicle Specs'!$G$25*'Vehicle Specs'!$C$28*'Vehicle Specs'!$C$27*'Drive Cycle'!E172^2) -> 10.344405 | K172: =IF(A172=1,'Vehicle Specs'!$E$36,IF(A172=2,'Vehicle Specs'!$C$36,IF(A172=3,'Vehicle Specs'!$D$36,IF(A172=4,'Vehicle Specs'!$B$36,1)))) -> 80.19469 | L172: 0 | M172: =L172-L171 -> 0 | N172: =DEGREES(ATAN(M172/$C$3)) -> 0 | O172: =9.81*SIN(RADIANS(N172))*($C$46) -> 0 | P172: =J172+K172+O172 -> 90.539095 | Q172: =IF(H172=1,I172*'Vehicle Specs'!#REF!,IF(H172=2,'Vehicle Specs'!#REF!*I172,IF(H172=3,'Vehicle Specs'!$G$25*I172,0))) -> 0 | R172: =(J172+K172+O172+Q172) -> 90.539095 | S172: =ABS(R172) -> 90.539095 | T172: =ABS((+P172+Q172)*(+E172))/1000 -> 0.30873832 | W172: 308.00786 | X172: =(R172*W172/3600)/1000 -> 0.0077463202 | Y172: =ABS(X172) -> 0.0077463202 | Z172: =X172*3.09 -> 0.023936129 | AA172: =(0.5*'Vehicle Specs'!$G$20*'Drive Cycle'!E172^2) -> 3656.0491 | AB172: =P172+Q172 -> 90.539095 | AC172: =SUM(AB$2:AB172) -> 36570.258
A173: 1 | B173: T1 | C173: =C172+1 -> 171 | D173: =E173*2.237 -> 7.62817 | E173: =E172 -> 3.41 | F173: =($C$3/E173)+F172 -> 17.157808 | I173: =E173-E172 -> 0 | J173: =(0.5*'Vehicle Specs'!$G$25*'Vehicle Specs'!$C$28*'Vehicle Specs'!$C$27*'Drive Cycle'!E173^2) -> 10.344405 | K173: =IF(A173=1,'Vehicle Specs'!$E$36,IF(A173=2,'Vehicle Specs'!$C$36,IF(A173=3,'Vehicle Specs'!$D$36,IF(A173=4,'Vehicle Specs'!$B$36,1)))) -> 80.19469 | L173: 0 | M173: =L173-L172 -> 0 | N173: =DEGREES(ATAN(M173/$C$3)) -> 0 | O173: =9.81*SIN(RADIANS(N173))*($C$46) -> 0 | P173: =J173+K173+O173 -> 90.539095 | Q173: =IF(H173=1,I173*'Vehicle Specs'!#REF!,IF(H173=2,'Vehicle Specs'!#REF!*I173,IF(H173=3,'Vehicle Specs'!$G$25*I173,0))) -> 0 | R173: =(J173+K173+O173+Q173) -> 90.539095 | S173: =ABS(R173) -> 90.539095 | T173: =ABS((+P173+Q173)*(+E173))/1000 -> 0.30873832 | W173: 308.00786 | X173: =(R173*W173/3600)/1000 -> 0.0077463202 | Y173: =ABS(X173) -> 0.0077463202 | Z173: =X173*3.09 -> 0.023936129 | AA173: =(0.5*'Vehicle Specs'!$G$20*'Drive Cycle'!E173^2) -> 3656.0491 | AB173: =P173+Q173 -> 90.539095 | AC173: =SUM(AB$2:AB173) -> 36660.797
A174: 1 | B174: T1 | C174: =C173+1 -> 172 | D174: =E174*2.237 -> 7.62817 | E174: =E173 -> 3.41 | F174: =($C$3/E174)+F173 -> 17.451063 | I174: =E174-E173 -> 0 | J174: =(0.5*'Vehicle Specs'!$G$25*'Vehicle Specs'!$C$28*'Vehicle Specs'!$C$27*'Drive Cycle'!E174^2) -> 10.344405 | K174: =IF(A174=1,'Vehicle Specs'!$E$36,IF(A174=2,'Vehicle Specs'!$C$36,IF(A174=3,'Vehicle Specs'!$D$36,IF(A174=4,'Vehicle Specs'!$B$36,1)))) -> 80.19469 | L174: 0 | M174: =L174-L173 -> 0 | N174: =DEGREES(ATAN(M174/$C$3)) -> 0 | O174: =9.81*SIN(RADIANS(N174))*($C$46) -> 0 | P174: =J174+K174+O174 -> 90.539095 | Q174: =IF(H174=1,I174*'Vehicle Specs'!#REF!,IF(H174=2,'Vehicle Specs'!#REF!*I174,IF(H174=3,'Vehicle Specs'!$G$25*I174,0))) -> 0 | R174: =(J174+K174+O174+Q174) -> 90.539095 | S174: =ABS(R174) -> 90.539095 | T174: =ABS((+P174+Q174)*(+E174))/1000 -> 0.30873832 | W174: 308.00786 | X174: =(R174*W174/3600)/1000 -> 0.0077463202 | Y174: =ABS(X174) -> 0.0077463202 | Z174: =X174*3.09 -> 0.023936129 | AA174: =(0.5*'Vehicle Specs'!$G$20*'Drive Cycle'!E174^2) -> 3656.0491 | AB174: =P174+Q174 -> 90.539095 | AC174: =SUM(AB$2:AB174) -> 36751.336
A175: 1 | B175: T1 | C175: =C174+1 -> 173 | D175: =E175*2.237 -> 7.62817 | E175: =E174 -> 3.41 | F175: =($C$3/E175)+F174 -> 17.744318 | I175: =E175-E174 -> 0 | J175: =(0.5*'Vehicle Specs'!$G$25*'Vehicle Specs'!$C$28*'Vehicle Specs'!$C$27*'Drive Cycle'!E175^2) -> 10.344405 | K175: =IF(A175=1,'Vehicle Specs'!$E$36,IF(A175=2,'Vehicle Specs'!$C$36,IF(A175=3,'Vehicle Specs'!$D$36,IF(A175=4,'Vehicle Specs'!$B$36,1)))) -> 80.19469 | L175: 0 | M175: =L175-L174 -> 0 | N175: =DEGREES(ATAN(M175/$C$3)) -> 0 | O175: =9.81*SIN(RADIANS(N175))*($C$46) -> 0 | P175: =J175+K175+O175 -> 90.539095 | Q175: =IF(H175=1,I175*'Vehicle Specs'!#REF!,IF(H175=2,'Vehicle Specs'!#REF!*I175,IF(H175=3,'Vehicle Specs'!$G$25*I175,0))) -> 0 | R175: =(J175+K175+O175+Q175) -> 90.539095 | S175: =ABS(R175) -> 90.539095 | T175: =ABS((+P175+Q175)*(+E175))/1000 -> 0.30873832 | W175: 308.00786 | X175: =(R175*W175/3600)/1000 -> 0.0077463202 | Y175: =ABS(X175) -> 0.0077463202 | Z175: =X175*3.09 -> 0.023936129 | AA175: =(0.5*'Vehicle Specs'!$G$20*'Drive Cycle'!E175^2) -> 3656.0491 | AB175: =P175+Q175 -> 90.539095 | AC175: =SUM(AB$2:AB175) -> 36841.875
A176: 1 | B176: T1 | C176: =C175+1 -> 174 | D176: =E176*2.237 -> 7.62817 | E176: =E175 -> 3.41 | F176: =($C$3/E176)+F175 -> 18.037573 | I176: =E176-E175 -> 0 | J176: =(0.5*'Vehicle Specs'!$G$25*'Vehicle Specs'!$C$28*'Vehicle Specs'!$C$27*'Drive Cycle'!E176^2) -> 10.344405 | K176: =IF(A176=1,'Vehicle Specs'!$E$36,IF(A176=2,'Vehicle Specs'!$C$36,IF(A176=3,'Vehicle Specs'!$D$36,IF(A176=4,'Vehicle Specs'!$B$36,1)))) -> 80.19469 | L176: 0 | M176: =L176-L175 -> 0 | N176: =DEGREES(ATAN(M176/$C$3)) -> 0 | O176: =9.81*SIN(RADIANS(N176))*($C$46) -> 0 | P176: =J176+K176+O176 -> 90.539095 | Q176: =IF(H176=1,I176*'Vehicle Specs'!#REF!,IF(H176=2,'Vehicle Specs'!#REF!*I176,IF(H176=3,'Vehicle Specs'!$G$25*I176,0))) -> 0 | R176: =(J176+K176+O176+Q176) -> 90.539095 | S176: =ABS(R176) -> 90.539095 | T176: =ABS((+P176+Q176)*(+E176))/1000 -> 0.30873832 | W176: 308.00786 | X176: =(R176*W176/3600)/1000 -> 0.0077463202 | Y176: =ABS(X176) -> 0.0077463202 | Z176: =X176*3.09 -> 0.023936129 | AA176: =(0.5*'Vehicle Specs'!$G$20*'Drive Cycle'!E176^2) -> 3656.0491 | AB176: =P176+Q176 -> 90.539095 | AC176: =SUM(AB$2:AB176) -> 36932.414
A177: 1 | B177: T1 | C177: =C176+1 -> 175 | D177: =E177*2.237 -> 7.62817 | E177: =E176 -> 3.41 | F177: =($C$3/E177)+F176 -> 18.330828 | I177: =E177-E176 -> 0 | J177: =(0.5*'Vehicle Specs'!$G$25*'Vehicle Specs'!$C$28*'Vehicle Specs'!$C$27*'Drive Cycle'!E177^2) -> 10.344405 | K177: =IF(A177=1,'Vehicle Specs'!$E$36,IF(A177=2,'Vehicle Specs'!$C$36,IF(A177=3,'Vehicle Specs'!$D$36,IF(A177=4,'Vehicle Specs'!$B$36,1)))) -> 80.19469 | L177: 0 | M177: =L177-L176 -> 0 | N177: =DEGREES(ATAN(M177/$C$3)) -> 0 | O177: =9.81*SIN(RADIANS(N177))*($C$46) -> 0 | P177: =J177+K177+O177 -> 90.539095 | Q177: =IF(H177=1,I177*'Vehicle Specs'!#REF!,IF(H177=2,'Vehicle Specs'!#REF!*I177,IF(H177=3,'Vehicle Specs'!$G$25*I177,0))) -> 0 | R177: =(J177+K177+O177+Q177) -> 90.539095 | S177: =ABS(R177) -> 90.539095 | T177: =ABS((+P177+Q177)*(+E177))/1000 -> 0.30873832 | W177: 308.00786 | X177: =(R177*W177/3600)/1000 -> 0.0077463202 | Y177: =ABS(X177) -> 0.0077463202 | Z177: =X177*3.09 -> 0.023936129 | AA177: =(0.5*'Vehicle Specs'!$G$20*'Drive Cycle'!E177^2) -> 3656.0491 | AB177: =P177+Q177 -> 90.539095 | AC177: =SUM(AB$2:AB177) -> 37022.953
A178: 1 | B178: T1 | C178: =C177+1 -> 176 | D178: =E178*2.237 -> 7.62817 | E178: =E177 -> 3.41 | F178: =($C$3/E178)+F177 -> 18.624083 | I178: =E178-E177 -> 0 | J178: =(0.5*'Vehicle Specs'!$G$25*'Vehicle Specs'!$C$28*'Vehicle Specs'!$C$27*'Drive Cycle'!E178^2) -> 10.344405 | K178: =IF(A178=1,'Vehicle Specs'!$E$36,IF(A178=2,'Vehicle Specs'!$C$36,IF(A178=3,'Vehicle Specs'!$D$36,IF(A178=4,'Vehicle Specs'!$B$36,1)))) -> 80.19469 | L178: 0 | M178: =L178-L177 -> 0 | N178: =DEGREES(ATAN(M178/$C$3)) -> 0 | O178: =9.81*SIN(RADIANS(N178))*($C$46) -> 0 | P178: =J178+K178+O178 -> 90.539095 | Q178: =IF(H178=1,I178*'Vehicle Specs'!#REF!,IF(H178=2,'Vehicle Specs'!#REF!*I178,IF(H178=3,'Vehicle Specs'!$G$25*I178,0))) -> 0 | R178: =(J178+K178+O178+Q178) -> 90.539095 | S178: =ABS(R178) -> 90.539095 | T178: =ABS((+P178+Q178)*(+E178))/1000 -> 0.30873832 | W178: 308.00786 | X178: =(R178*W178/3600)/1000 -> 0.0077463202 | Y178: =ABS(X178) -> 0.0077463202 | Z178: =X178*3.09 -> 0.023936129 | AA178: =(0.5*'Vehicle Specs'!$G$20*'Drive Cycle'!E178^2) -> 3656.0491 | AB178: =P178+Q178 -> 90.539095 | AC178: =SUM(AB$2:AB178) -> 37113.493
A179: 1 | B179: T1 | C179: =C178+1 -> 177 | D179: =E179*2.237 -> 7.62817 | E179: =E178 -> 3.41 | F179: =($C$3/E179)+F178 -> 18.917338 | I179: =E179-E178 -> 0 | J179: =(0.5*'Vehicle Specs'!$G$25*'Vehicle Specs'!$C$28*'Vehicle Specs'!$C$27*'Drive Cycle'!E179^2) -> 10.344405 | K179: =IF(A179=1,'Vehicle Specs'!$E$36,IF(A179=2,'Vehicle Specs'!$C$36,IF(A179=3,'Vehicle Specs'!$D$36,IF(A179=4,'Vehicle Specs'!$B$36,1)))) -> 80.19469 | L179: 0 | M179: =L179-L178 -> 0 | N179: =DEGREES(ATAN(M179/$C$3)) -> 0 | O179: =9.81*SIN(RADIANS(N179))*($C$46) -> 0 | P179: =J179+K179+O179 -> 90.539095 | Q179: =IF(H179=1,I179*'Vehicle Specs'!#REF!,IF(H179=2,'Vehicle Specs'!#REF!*I179,IF(H179=3,'Vehicle Specs'!$G$25*I179,0))) -> 0 | R179: =(J179+K179+O179+Q179) -> 90.539095 | S179: =ABS(R179) -> 90.539095 | T179: =ABS((+P179+Q179)*(+E179))/1000 -> 0.30873832 | W179: 308.00786 | X179: =(R179*W179/3600)/1000 -> 0.0077463202 | Y179: =ABS(X179) -> 0.0077463202 | Z179: =X179*3.09 -> 0.023936129 | AA179: =(0.5*'Vehicle Specs'!$G$20*'Drive Cycle'!E179^2) -> 3656.0491 | AB179: =P179+Q179 -> 90.539095 | AC179: =SUM(AB$2:AB179) -> 37204.032
A180: 1 | B180: T1 | C180: =C179+1 -> 178 | D180: =E180*2.237 -> 9.86517 | E180: =E179+1 -> 4.41 | F180: =($C$3/E180)+F179 -> 19.144096 | I180: =E180-E179 -> 1 | J180: =(0.5*'Vehicle Specs'!$G$25*'Vehicle Specs'!$C$28*'Vehicle Specs'!$C$27*'Drive Cycle'!E180^2) -> 17.301109 | K180: =IF(A180=1,'Vehicle Specs'!$E$36,IF(A180=2,'Vehicle Specs'!$C$36,IF(A180=3,'Vehicle Specs'!$D$36,IF(A180=4,'Vehicle Specs'!$B$36,1)))) -> 80.19469 | L180: 0 | M180: =L180-L179 -> 0 | N180: =DEGREES(ATAN(M180/$C$3)) -> 0 | O180: =9.81*SIN(RADIANS(N180))*($C$46) -> 0 | P180: =J180+K180+O180 -> 97.495799 | Q180: =IF(H180=1,I180*'Vehicle Specs'!#REF!,IF(H180=2,'Vehicle Specs'!#REF!*I180,IF(H180=3,'Vehicle Specs'!$G$25*I180,0))) -> 0 | R180: =(J180+K180+O180+Q180) -> 97.495799 | S180: =ABS(R180) -> 97.495799 | T180: =ABS((+P180+Q180)*(+E180))/1000 -> 0.42995648 | W180: 308.00786 | X180: =(R180*W180/3600)/1000 -> 0.0083415201 | Y180: =ABS(X180) -> 0.0083415201 | Z180: =X180*3.09 -> 0.025775297 | AA180: =(0.5*'Vehicle Specs'!$G$20*'Drive Cycle'!E180^2) -> 6114.7744 | AB180: =P180+Q180 -> 97.495799 | AC180: =SUM(AB$2:AB180) -> 37301.527
A181: 1 | B181: T1 | C181: =C180+1 -> 179 | D181: =E181*2.237 -> 12.10217 | E181: =E180+1 -> 5.41 | F181: =($C$3/E181)+F180 -> 19.328939 | I181: =E181-E180 -> 1 | J181: =(0.5*'Vehicle Specs'!$G$25*'Vehicle Specs'!$C$28*'Vehicle Specs'!$C$27*'Drive Cycle'!E181^2) -> 26.037022 | K181: =IF(A181=1,'Vehicle Specs'!$E$36,IF(A181=2,'Vehicle Specs'!$C$36,IF(A181=3,'Vehicle Specs'!$D$36,IF(A181=4,'Vehicle Specs'!$B$36,1)))) -> 80.19469 | L181: 0 | M181: =L181-L180 -> 0 | N181: =DEGREES(ATAN(M181/$C$3)) -> 0 | O181: =9.81*SIN(RADIANS(N181))*($C$46) -> 0 | P181: =J181+K181+O181 -> 106.23171 | Q181: =IF(H181=1,I181*'Vehicle Specs'!#REF!,IF(H181=2,'Vehicle Specs'!#REF!*I181,IF(H181=3,'Vehicle Specs'!$G$25*I181,0))) -> 0 | R181: =(J181+K181+O181+Q181) -> 106.23171 | S181: =ABS(R181) -> 106.23171 | T181: =ABS((+P181+Q181)*(+E181))/1000 -> 0.57471356 | W181: 308.00786 | X181: =(R181*W181/3600)/1000 -> 0.009088945 | Y181: =ABS(X181) -> 0.009088945 | Z181: =X181*3.09 -> 0.02808484 | AA181: =(0.5*'Vehicle Specs'!$G$20*'Drive Cycle'!E181^2) -> 9202.3297 | AB181: =P181+Q181 -> 106.23171 | AC181: =SUM(AB$2:AB181) -> 37407.759
A182: 1 | B182: T1 | C182: =C181+1 -> 180 | D182: =E182*2.237 -> 14.33917 | E182: =E181+1 -> 6.41 | F182: =($C$3/E182)+F181 -> 19.484945 | I182: =E182-E181 -> 1 | J182: =(0.5*'Vehicle Specs'!$G$25*'Vehicle Specs'!$C$28*'Vehicle Specs'!$C$27*'Drive Cycle'!E182^2) -> 36.552142 | K182: =IF(A182=1,'Vehicle Specs'!$E$36,IF(A182=2,'Vehicle Specs'!$C$36,IF(A182=3,'Vehicle Specs'!$D$36,IF(A182=4,'Vehicle Specs'!$B$36,1)))) -> 80.19469 | L182: 0 | M182: =L182-L181 -> 0 | N182: =DEGREES(ATAN(M182/$C$3)) -> 0 | O182: =9.81*SIN(RADIANS(N182))*($C$46) -> 0 | P182: =J182+K182+O182 -> 116.74683 | Q182: =IF(H182=1,I182*'Vehicle Specs'!#REF!,IF(H182=2,'Vehicle Specs'!#REF!*I182,IF(H182=3,'Vehicle Specs'!$G$25*I182,0))) -> 0 | R182: =(J182+K182+O182+Q182) -> 116.74683 | S182: =ABS(R182) -> 116.74683 | T182: =ABS((+P182+Q182)*(+E182))/1000 -> 0.74834719 | W182: 308.00786 | X182: =(R182*W182/3600)/1000 -> 0.0099885949 | Y182: =ABS(X182) -> 0.0099885949 | Z182: =X182*3.09 -> 0.030864758 | AA182: =(0.5*'Vehicle Specs'!$G$20*'Drive Cycle'!E182^2) -> 12918.715 | AB182: =P182+Q182 -> 116.74683 | AC182: =SUM(AB$2:AB182) -> 37524.506
A183: 1 | B183: S2 | C183: =C182+1 -> 181 | D183: =E183*2.237 -> 16.57617 | E183: =E182+1 -> 7.41 | F183: =($C$3/E183)+F182 -> 19.619898 | I183: =E183-E182 -> 1 | J183: =(0.5*'Vehicle Specs'!$G$25*'Vehicle Specs'!$C$28*'Vehicle Specs'!$C$27*'Drive Cycle'!E183^2) -> 48.846471 | K183: =IF(A183=1,'Vehicle Specs'!$E$36,IF(A183=2,'Vehicle Specs'!$C$36,IF(A183=3,'Vehicle Specs'!$D$36,IF(A183=4,'Vehicle Specs'!$B$36,1)))) -> 80.19469 | L183: 0 | M183: =L183-L182 -> 0 | N183: =DEGREES(ATAN(M183/$C$3)) -> 0 | O183: =9.81*SIN(RADIANS(N183))*($C$46) -> 0 | P183: =J183+K183+O183 -> 129.04116 | Q183: =IF(H183=1,I183*'Vehicle Specs'!#REF!,IF(H183=2,'Vehicle Specs'!#REF!*I183,IF(H183=3,'Vehicle Specs'!$G$25*I183,0))) -> 0 | R183: =(J183+K183+O183+Q183) -> 129.04116 | S183: =ABS(R183) -> 129.04116 | T183: =ABS((+P183+Q183)*(+E183))/1000 -> 0.956195 | W183: 308.00786 | X183: =(R183*W183/3600)/1000 -> 0.01104047 | Y183: =ABS(X183) -> 0.01104047 | Z183: =X183*3.09 -> 0.034115052 | AA183: =(0.5*'Vehicle Specs'!$G$20*'Drive Cycle'!E183^2) -> 17263.93 | AB183: =P183+Q183 -> 129.04116 | AC183: =SUM(AB$2:AB183) -> 37653.547
A184: 1 | B184: S2 | C184: =C183+1 -> 182 | D184: =E184*2.237 -> 18.81317 | E184: =E183+1 -> 8.41 | F184: =($C$3/E184)+F183 -> 19.738804 | I184: =E184-E183 -> 1 | J184: =(0.5*'Vehicle Specs'!$G$25*'Vehicle Specs'!$C$28*'Vehicle Specs'!$C$27*'Drive Cycle'!E184^2) -> 62.920008 | K184: =IF(A184=1,'Vehicle Specs'!$E$36,IF(A184=2,'Vehicle Specs'!$C$36,IF(A184=3,'Vehicle Specs'!$D$36,IF(A184=4,'Vehicle Specs'!$B$36,1)))) -> 80.19469 | L184: 0 | M184: =L184-L183 -> 0 | N184: =DEGREES(ATAN(M184/$C$3)) -> 0 | O184: =9.81*SIN(RADIANS(N184))*($C$46) -> 0 | P184: =J184+K184+O184 -> 143.1147 | Q184: =IF(H184=1,I184*'Vehicle Specs'!#REF!,IF(H184=2,'Vehicle Specs'!#REF!*I184,IF(H184=3,'Vehicle Specs'!$G$25*I184,0))) -> 0 | R184: =(J184+K184+O184+Q184) -> 143.1147 | S184: =ABS(R184) -> 143.1147 | T184: =ABS((+P184+Q184)*(+E184))/1000 -> 1.2035946 | W184: 308.00786 | X184: =(R184*W184/3600)/1000 -> 0.01224457 | Y184: =ABS(X184) -> 0.01224457 | Z184: =X184*3.09 -> 0.037835721 | AA184: =(0.5*'Vehicle Specs'!$G$20*'Drive Cycle'!E184^2) -> 22237.976 | AB184: =P184+Q184 -> 143.1147 | AC184: =SUM(AB$2:AB184) -> 37796.662
A185: 1 | B185: S2 | C185: =C184+1 -> 183 | D185: =E185*2.237 -> 21.05017 | E185: =E184+1 -> 9.41 | F185: =($C$3/E185)+F184 -> 19.845074 | I185: =E185-E184 -> 1 | J185: =(0.5*'Vehicle Specs'!$G$25*'Vehicle Specs'!$C$28*'Vehicle Specs'!$C$27*'Drive Cycle'!E185^2) -> 78.772753 | K185: =IF(A185=1,'Vehicle Specs'!$E$36,IF(A185=2,'Vehicle Specs'!$C$36,IF(A185=3,'Vehicle Specs'!$D$36,IF(A185=4,'Vehicle Specs'!$B$36,1)))) -> 80.19469 | L185: 0 | M185: =L185-L184 -> 0 | N185: =DEGREES(ATAN(M185/$C$3)) -> 0 | O185: =9.81*SIN(RADIANS(N185))*($C$46) -> 0 | P185: =J185+K185+O185 -> 158.96744 | Q185: =IF(H185=1,I185*'Vehicle Specs'!#REF!,IF(H185=2,'Vehicle Specs'!#REF!*I185,IF(H185=3,'Vehicle Specs'!$G$25*I185,0))) -> 0 | R185: =(J185+K185+O185+Q185) -> 158.96744 | S185: =ABS(R185) -> 158.96744 | T185: =ABS((+P185+Q185)*(+E185))/1000 -> 1.4958836 | W185: 308.00786 | X185: =(R185*W185/3600)/1000 -> 0.013600895 | Y185: =ABS(X185) -> 0.013600895 | Z185: =X185*3.09 -> 0.042026765 | AA185: =(0.5*'Vehicle Specs'!$G$20*'Drive Cycle'!E185^2) -> 27840.851 | AB185: =P185+Q185 -> 158.96744 | AC185: =SUM(AB$2:AB185) -> 37955.629
A186: 1 | B186: S2 | C186: =C185+1 -> 184 | D186: =E186*2.237 -> 23.28717 | E186: =E185+1 -> 10.41 | F186: =($C$3/E186)+F185 -> 19.941135 | I186: =E186-E185 -> 1 | J186: =(0.5*'Vehicle Specs'!$G$25*'Vehicle Specs'!$C$28*'Vehicle Specs'!$C$27*'Drive Cycle'!E186^2) -> 96.404706 | K186: =IF(A186=1,'Vehicle Specs'!$E$36,IF(A186=2,'Vehicle Specs'!$C$36,IF(A186=3,'Vehicle Specs'!$D$36,IF(A186=4,'Vehicle Specs'!$B$36,1)))) -> 80.19469 | L186: 0 | M186: =L186-L185 -> 0 | N186: =DEGREES(ATAN(M186/$C$3)) -> 0 | O186: =9.81*SIN(RADIANS(N186))*($C$46) -> 0 | P186: =J186+K186+O186 -> 176.5994 | Q186: =IF(H186=1,I186*'Vehicle Specs'!#REF!,IF(H186=2,'Vehicle Specs'!#REF!*I186,IF(H186=3,'Vehicle Specs'!$G$25*I186,0))) -> 0 | R186: =(J186+K186+O186+Q186) -> 176.5994 | S186: =ABS(R186) -> 176.5994 | T186: =ABS((+P186+Q186)*(+E186))/1000 -> 1.8383997 | W186: 308.00786 | X186: =(R186*W186/3600)/1000 -> 0.015109445 | Y186: =ABS(X186) -> 0.015109445 | Z186: =X186*3.09 -> 0.046688185 | AA186: =(0.5*'Vehicle Specs'!$G$20*'Drive Cycle'!E186^2) -> 34072.556 | AB186: =P186+Q186 -> 176.5994 | AC186: =SUM(AB$2:AB186) -> 38132.229
A187: 1 | B187: S2 | C187: =C186+1 -> 185 | D187: =E187*2.237 -> 25.52417 | E187: =E186+1 -> 11.41 | F187: =($C$3/E187)+F186 -> 20.028777 | I187: =E187-E186 -> 1 | J187: =(0.5*'Vehicle Specs'!$G$25*'Vehicle Specs'!$C$28*'Vehicle Specs'!$C$27*'Drive Cycle'!E187^2) -> 115.81587 | K187: =IF(A187=1,'Vehicle Specs'!$E$36,IF(A187=2,'Vehicle Specs'!$C$36,IF(A187=3,'Vehicle Specs'!$D$36,IF(A187=4,'Vehicle Specs'!$B$36,1)))) -> 80.19469 | L187: 0 | M187: =L187-L186 -> 0 | N187: =DEGREES(ATAN(M187/$C$3)) -> 0 | O187: =9.81*SIN(RADIANS(N187))*($C$46) -> 0 | P187: =J187+K187+O187 -> 196.01056 | Q187: =IF(H187=1,I187*'Vehicle Specs'!#REF!,IF(H187=2,'Vehicle Specs'!#REF!*I187,IF(H187=3,'Vehicle Specs'!$G$25*I187,0))) -> 0 | R187: =(J187+K187+O187+Q187) -> 196.01056 | S187: =ABS(R187) -> 196.01056 | T187: =ABS((+P187+Q187)*(+E187))/1000 -> 2.2364805 | W187: 308.00786 | X187: =(R187*W187/3600)/1000 -> 0.01677022 | Y187: =ABS(X187) -> 0.01677022 | Z187: =X187*3.09 -> 0.05181998 | AA187: =(0.5*'Vehicle Specs'!$G$20*'Drive Cycle'!E187^2) -> 40933.091 | AB187: =P187+Q187 -> 196.01056 | AC187: =SUM(AB$2:AB187) -> 38328.239
A188: 1 | B188: S2 | C188: =C187+1 -> 186 | D188: =E188*2.237 -> 27.76117 | E188: =E187+1 -> 12.41 | F188: =($C$3/E188)+F187 -> 20.109358 | I188: =E188-E187 -> 1 | J188: =(0.5*'Vehicle Specs'!$G$25*'Vehicle Specs'!$C$28*'Vehicle Specs'!$C$27*'Drive Cycle'!E188^2) -> 137.00624 | K188: =IF(A188=1,'Vehicle Specs'!$E$36,IF(A188=2,'Vehicle Specs'!$C$36,IF(A188=3,'Vehicle Specs'!$D$36,IF(A188=4,'Vehicle Specs'!$B$36,1)))) -> 80.19469 | L188: 0 | M188: =L188-L187 -> 0 | N188: =DEGREES(ATAN(M188/$C$3)) -> 0 | O188: =9.81*SIN(RADIANS(N188))*($C$46) -> 0 | P188: =J188+K188+O188 -> 217.20093 | Q188: =IF(H188=1,I188*'Vehicle Specs'!#REF!,IF(H188=2,'Vehicle Specs'!#REF!*I188,IF(H188=3,'Vehicle Specs'!$G$25*I188,0))) -> 0 | R188: =(J188+K188+O188+Q188) -> 217.20093 | S188: =ABS(R188) -> 217.20093 | T188: =ABS((+P188+Q188)*(+E188))/1000 -> 2.6954635 | W188: 308.00786 | X188: =(R188*W188/3600)/1000 -> 0.01858322 | Y188: =ABS(X188) -> 0.01858322 | Z188: =X188*3.09 -> 0.05742215 | AA188: =(0.5*'Vehicle Specs'!$G$20*'Drive Cycle'!E188^2) -> 48422.457 | AB188: =P188+Q188 -> 217.20093 | AC188: =SUM(AB$2:AB188) -> 38545.44
A189: 1 | B189: S2 | C189: =C188+1 -> 187 | D189: =E189*2.237 -> 29.99817 | E189: =E188+1 -> 13.41 | F189: =($C$3/E189)+F188 -> 20.183929 | I189: =E189-E188 -> 1 | J189: =(0.5*'Vehicle Specs'!$G$25*'Vehicle Specs'!$C$28*'Vehicle Specs'!$C$27*'Drive Cycle'!E189^2) -> 159.97582 | K189: =IF(A189=1,'Vehicle Specs'!$E$36,IF(A189=2,'Vehicle Specs'!$C$36,IF(A189=3,'Vehicle Specs'!$D$36,IF(A189=4,'Vehicle Specs'!$B$36,1)))) -> 80.19469 | L189: 0 | M189: =L189-L188 -> 0 | N189: =DEGREES(ATAN(M189/$C$3)) -> 0 | O189: =9.81*SIN(RADIANS(N189))*($C$46) -> 0 | P189: =J189+K189+O189 -> 240.1705 | Q189: =IF(H189=1,I189*'Vehicle Specs'!#REF!,IF(H189=2,'Vehicle Specs'!#REF!*I189,IF(H189=3,'Vehicle Specs'!$G$25*I189,0))) -> 0 | R189: =(J189+K189+O189+Q189) -> 240.1705 | S189: =ABS(R189) -> 240.1705 | T189: =ABS((+P189+Q189)*(+E189))/1000 -> 3.2206865 | W189: 308.00786 | X189: =(R189*W189/3600)/1000 -> 0.020548445 | Y189: =ABS(X189) -> 0.020548445 | Z189: =X189*3.09 -> 0.063494696 | AA189: =(0.5*'Vehicle Specs'!$G$20*'Drive Cycle'!E189^2) -> 56540.652 | AB189: =P189+Q189 -> 240.1705 | AC189: =SUM(AB$2:AB189) -> 38785.611
A190: 1 | B190: S2 | C190: =C189+1 -> 188 | D190: =E190*2.237 -> 29.99817 | E190: 13.41 | F190: =($C$3/E190)+F189 -> 20.2585 | I190: =E190-E189 -> 0 | J190: =(0.5*'Vehicle Specs'!$G$25*'Vehicle Specs'!$C$28*'Vehicle Specs'!$C$27*'Drive Cycle'!E190^2) -> 159.97582 | K190: =IF(A190=1,'Vehicle Specs'!$E$36,IF(A190=2,'Vehicle Specs'!$C$36,IF(A190=3,'Vehicle Specs'!$D$36,IF(A190=4,'Vehicle Specs'!$B$36,1)))) -> 80.19469 | L190: 0 | M190: =L190-L189 -> 0 | N190: =DEGREES(ATAN(M190/$C$3)) -> 0 | O190: =9.81*SIN(RADIANS(N190))*($C$46) -> 0 | P190: =J190+K190+O190 -> 240.1705 | Q190: =IF(H190=1,I190*'Vehicle Specs'!#REF!,IF(H190=2,'Vehicle Specs'!#REF!*I190,IF(H190=3,'Vehicle Specs'!$G$25*I190,0))) -> 0 | R190: =(J190+K190+O190+Q190) -> 240.1705 | S190: =ABS(R190) -> 240.1705 | T190: =ABS((+P190+Q190)*(+E190))/1000 -> 3.2206865 | W190: 308.00786 | X190: =(R190*W190/3600)/1000 -> 0.020548445 | Y190: =ABS(X190) -> 0.020548445 | Z190: =X190*3.09 -> 0.063494696 | AA190: =(0.5*'Vehicle Specs'!$G$20*'Drive Cycle'!E190^2) -> 56540.652 | AB190: =P190+Q190 -> 240.1705 | AC190: =SUM(AB$2:AB190) -> 39025.781
A191: 1 | B191: S2 | C191: =C190+1 -> 189 | D191: =E191*2.237 -> 29.99817 | E191: 13.41 | F191: =($C$3/E191)+F190 -> 20.333071 | I191: =E191-E190 -> 0 | J191: =(0.5*'Vehicle Specs'!$G$25*'Vehicle Specs'!$C$28*'Vehicle Specs'!$C$27*'Drive Cycle'!E191^2) -> 159.97582 | K191: =IF(A191=1,'Vehicle Specs'!$E$36,IF(A191=2,'Vehicle Specs'!$C$36,IF(A191=3,'Vehicle Specs'!$D$36,IF(A191=4,'Vehicle Specs'!$B$36,1)))) -> 80.19469 | L191: 0 | M191: =L191-L190 -> 0 | N191: =DEGREES(ATAN(M191/$C$3)) -> 0 | O191: =9.81*SIN(RADIANS(N191))*($C$46) -> 0 | P191: =J191+K191+O191 -> 240.1705 | Q191: =IF(H191=1,I191*'Vehicle Specs'!#REF!,IF(H191=2,'Vehicle Specs'!#REF!*I191,IF(H191=3,'Vehicle Specs'!$G$25*I191,0))) -> 0 | R191: =(J191+K191+O191+Q191) -> 240.1705 | S191: =ABS(R191) -> 240.1705 | T191: =ABS((+P191+Q191)*(+E191))/1000 -> 3.2206865 | W191: 308.00786 | X191: =(R191*W191/3600)/1000 -> 0.020548445 | Y191: =ABS(X191) -> 0.020548445 | Z191: =X191*3.09 -> 0.063494696 | AA191: =(0.5*'Vehicle Specs'!$G$20*'Drive Cycle'!E191^2) -> 56540.652 | AB191: =P191+Q191 -> 240.1705 | AC191: =SUM(AB$2:AB191) -> 39265.952
A192: 1 | B192: S2 | C192: =C191+1 -> 190 | D192: =E192*2.237 -> 29.99817 | E192: 13.41 | F192: =($C$3/E192)+F191 -> 20.407643 | I192: =E192-E191 -> 0 | J192: =(0.5*'Vehicle Specs'!$G$25*'Vehicle Specs'!$C$28*'Vehicle Specs'!$C$27*'Drive Cycle'!E192^2) -> 159.97582 | K192: =IF(A192=1,'Vehicle Specs'!$E$36,IF(A192=2,'Vehicle Specs'!$C$36,IF(A192=3,'Vehicle Specs'!$D$36,IF(A192=4,'Vehicle Specs'!$B$36,1)))) -> 80.19469 | L192: 0 | M192: =L192-L191 -> 0 | N192: =DEGREES(ATAN(M192/$C$3)) -> 0 | O192: =9.81*SIN(RADIANS(N192))*($C$46) -> 0 | P192: =J192+K192+O192 -> 240.1705 | Q192: =IF(H192=1,I192*'Vehicle Specs'!#REF!,IF(H192=2,'Vehicle Specs'!#REF!*I192,IF(H192=3,'Vehicle Specs'!$G$25*I192,0))) -> 0 | R192: =(J192+K192+O192+Q192) -> 240.1705 | S192: =ABS(R192) -> 240.1705 | T192: =ABS((+P192+Q192)*(+E192))/1000 -> 3.2206865 | W192: 308.00786 | X192: =(R192*W192/3600)/1000 -> 0.020548445 | Y192: =ABS(X192) -> 0.020548445 | Z192: =X192*3.09 -> 0.063494696 | AA192: =(0.5*'Vehicle Specs'!$G$20*'Drive Cycle'!E192^2) -> 56540.652 | AB192: =P192+Q192 -> 240.1705 | AC192: =SUM(AB$2:AB192) -> 39506.122
A193: 1 | B193: S2 | C193: =C192+1 -> 191 | D193: =E193*2.237 -> 29.99817 | E193: 13.41 | F193: =($C$3/E193)+F192 -> 20.482214 | I193: =E193-E192 -> 0 | J193: =(0.5*'Vehicle Specs'!$G$25*'Vehicle Specs'!$C$28*'Vehicle Specs'!$C$27*'Drive Cycle'!E193^2) -> 159.97582 | K193: =IF(A193=1,'Vehicle Specs'!$E$36,IF(A193=2,'Vehicle Specs'!$C$36,IF(A193=3,'Vehicle Specs'!$D$36,IF(A193=4,'Vehicle Specs'!$B$36,1)))) -> 80.19469 | L193: 0 | M193: =L193-L192 -> 0 | N193: =DEGREES(ATAN(M193/$C$3)) -> 0 | O193: =9.81*SIN(RADIANS(N193))*($C$46) -> 0 | P193: =J193+K193+O193 -> 240.1705 | Q193: =IF(H193=1,I193*'Vehicle Specs'!#REF!,IF(H193=2,'Vehicle Specs'!#REF!*I193,IF(H193=3,'Vehicle Specs'!$G$25*I193,0))) -> 0 | R193: =(J193+K193+O193+Q193) -> 240.1705 | S193: =ABS(R193) -> 240.1705 | T193: =ABS((+P193+Q193)*(+E193))/1000 -> 3.2206865 | W193: 308.00786 | X193: =(R193*W193/3600)/1000 -> 0.020548445 | Y193: =ABS(X193) -> 0.020548445 | Z193: =X193*3.09 -> 0.063494696 | AA193: =(0.5*'Vehicle Specs'!$G$20*'Drive Cycle'!E193^2) -> 56540.652 | AB193: =P193+Q193 -> 240.1705 | AC193: =SUM(AB$2:AB193) -> 39746.293
...

Sheet Tractive Effort
B2: Road Surface | C2: Friction Co-Eff | D2: Tractive Effort (N) | E2: Max Acceleration (m/s^2)
B3: Grass | C3: 0.55 | D3: =2*(C3*(('Vehicle Specs'!$G$20*9.81)/4)) -> 1696.4261 | E3: =D3/'Vehicle Specs'!$G$20 -> 2.69775
B4: Gravel | C4: 0.6 | D4: =2*(C4*(('Vehicle Specs'!$G$20*9.81)/4)) -> 1850.6467 | E4: =D4/'Vehicle Specs'!$G$20 -> 2.943
B5: Dirt | C5: 0.68 | D5: =2*(C5*(('Vehicle Specs'!$G$20*9.81)/4)) -> 2097.3996 | E5: =D5/'Vehicle Specs'!$G$20 -> 3.3354
B6: Ashphalt | C6: 0.85 | D6: =2*(C6*(('Vehicle Specs'!$G$20*9.81)/4)) -> 2621.7495 | E6: =D6/'Vehicle Specs'!$G$20 -> 4.16925

Sheet Graphs
