Workbook
Name ChainSize: #REF!
Name First: 'Gearbox BMW S1000RR'!$C$9
Name First_1: #REF!
Name FrontSprockets: #REF!
Name Number_of_Links: #REF!
Name RearSprockets: #REF!

Sheet Gearbox BMW S1000RR
A1: BMW S1000 RR
A2: Gear Calc. | F2: Gearbox N° | G2: 1 | I2: Gear Calc. | N2: Gearbox N° | O2: 2 | Q2: Gear Calc. | V2: Gearbox N° | W2: 3 | Z2: Chain Length | AV2: Moto 2 Primary
A3: Primary | C3: 46 | D3: 76 | I3: Primary | K3: 46 | L3: 76 | Q3: Primary | S3: 46 | T3: 76 | Z3: Chain size | AA3: Front sprocket | AB3: Rear sprocket | AC3: Chain | AD3: Distance between front sprocket and pivot | AE3: Swing arm Length | AV3: 36 | AW3: 76 | BL3: 17000
A4: FINAL | C4: 16 | D4: 45 | I4: FINAL | K4: 16 | L4: 45 | Q4: FINAL | S4: 16 | T4: 45 | Z4: 5/8" | AA4: 16 | AB4: 45 | AC4: 114 | AD4: 88 | AE4: =0.5*(AC4-0.5*(AA4+AB4))*25.4*VLOOKUP(Z4,'Gearbox BMW S1000RR'!AZ14:BA16,2,FALSE)-AD4 -> 574.78125 | AI4: Gear | AJ4: Gearbox A | AM4: Gearbox B | AP4: Gearbox C | AS4: Gearbox D | AV4: Gearbox Moto 2 | BL4: 16900
A5: Diam | C5: A Tyre | E5: =$BH$19*IF(C5="A Tyre",1,0)+$BH$20*IF(C5="B Tyre",1,0)+$BH$21*IF(C5="INTER",1,0)+$BH$22*IF(C5="RAIN",1,0) -> 0.6408 | F5: m | G5: Circ | H5: =3.142*E5 -> 2.0133936 | I5: Diam | K5: A Tyre | M5: =$BH$19*IF(K5="A Tyre",1,0)+$BH$20*IF(K5="B Tyre",1,0)+$BH$21*IF(K5="INTER",1,0)+$BH$22*IF(K5="RAIN",1,0) -> 0.6408 | N5: m | O5: Circ | P5: =3.142*M5 -> 2.0133936 | Q5: Diam | S5: A Tyre | U5: =$BH$19*IF(S5="A Tyre",1,0)+$BH$20*IF(S5="B Tyre",1,0)+$BH$21*IF(S5="INTER",1,0)+$BH$22*IF(S5="RAIN",1,0) -> 0.6408 | V5: m | W5: Circ | X5: =3.142*U5 -> 2.0133936 | AI5: 1 | AJ5: 17 | AK5: 45 | AL5: =AK5/AJ5 -> 2.6470588 | AM5: 14 | AN5: 37 | AO5: =AN5/AM5 -> 2.6428571 | AP5: 14 | AQ5: 36 | AR5: =AQ5/AP5 -> 2.5714286 | AS5: 16 | AT5: 40 | AU5: =AT5/AS5 -> 2.5 | AV5: 15 | AW5: 39 | AX5: =AW5/AV5 -> 2.6 | BC5: A | BG5: 14 | BH5: 37 | BL5: 16800
A6: RPM | C6: 12600 | D6: 13200 | E6: tr/mn | I6: RPM | K6: 12100 | L6: 13200 | M6: tr/mn | Q6: RPM | S6: 4500 | T6: 14500 | U6: tr/mn | Z6: Gearbox 1 | AI6: 2 | AJ6: 22 | AK6: 46 | AL6: =AK6/AJ6 -> 2.0909091 | AM6: 18 | AN6: 39 | AO6: =AN6/AM6 -> 2.1666667 | AP6: 16 | AQ6: 34 | AR6: =AQ6/AP6 -> 2.125 | AS6: 16 | AT6: 36 | AU6: =AT6/AS6 -> 2.25 | AV6: 16 | AW6: 32 | AX6: =AW6/AV6 -> 2 | BC6: B | BG6: 15 | BH6: 38 | BL6: 16700
A7: Ratios | F7: Speeds | G7: Revs | H7: Falls | I7: Ratios | N7: Speeds | O7: Revs | P7: Falls | Q7: Ratios | V7: Speeds | W7: Revs | X7: Falls | Z7: Chain size | AA7: Front sprocket | AB7: Rear sprocket | AC7: Chain | AD7: Distance between front sprocket and pivot | AE7: Swing arm Length | AI7: 3 | AJ7: 22 | AK7: 38 | AL7: =AK7/AJ7 -> 1.7272727 | AM7: 17 | AN7: 32 | AO7: =AN7/AM7 -> 1.8823529 | AP7: 22 | AQ7: 40 | AR7: =AQ7/AP7 -> 1.8181818 | AS7: 21 | AT7: 40 | AU7: =AT7/AS7 -> 1.9047619 | AV7: 18 | AW7: 30 | AX7: =AW7/AV7 -> 1.6666667 | BC7: C | BG7: 16 | BH7: 39 | BL7: 16600
F8: =G8*60*(C9/D9)*($C$3/$D$3)*$E$5*PI()/1000*$C$4/$D$4 -> 93.290055 | G8: 9500 | N8: =O8*60*(K9/L9)*($C$3/$D$3)*$E$5*PI()/1000*$C$4/$D$4 -> 93.290055 | O8: 9500 | V8: =W8*60*(S9/T9)*($C$3/$D$3)*$E$5*PI()/1000*$C$4/$D$4 -> 93.290055 | W8: 9500 | AI8: 4 | AJ8: 24 | AK8: 36 | AL8: =AK8/AJ8 -> 1.5 | AM8: 20 | AN8: 33 | AO8: =AN8/AM8 -> 1.65 | AP8: 23 | AQ8: 39 | AR8: =AQ8/AP8 -> 1.6956522 | AS8: 19 | AT8: 30 | AU8: =AT8/AS8 -> 1.5789474 | AV8: 18 | AW8: 26 | AX8: =AW8/AV8 -> 1.4444444 | BC8: D | BG8: 17 | BH8: 40 | BL8: 16500
A9: 1st | B9: A | C9: =$AJ$5*IF(B9="A",1,0)+$AM$5*IF(B9="B",1,0)+$AP$5*IF(B9="C",1,0)+$AV$5*IF(B9="M",1,0) -> 17 | D9: =$AK$5*IF(B9="A",1,0)+$AN$5*IF(B9="B",1,0)+$AQ$5*IF(B9="C",1,0)+$AW$5*IF(B9="M",1,0) -> 45 | E9: =D9/First -> 2.6470588 | F9: =$C$6*60*(C9/D9)*($C$3/$D$3)*$E$5*PI()/1000*$C$4/$D$4 -> 123.73207 | G9: =$C$6 -> 12600 | H9: =H10 -> 2647.2727 | I9: 1st | J9: A | K9: =$AJ$5*IF(J9="A",1,0)+$AM$5*IF(J9="B",1,0)+$AP$5*IF(J9="C",1,0)+$AS$5*IF(J9="D",1,0) -> 17 | L9: =$AK$5*IF(J9="A",1,0)+$AN$5*IF(J9="B",1,0)+$AQ$5*IF(J9="C",1,0)+$AT$5*IF(J9="D",1,0) -> 45 | M9: =L9/K9 -> 2.6470588 | N9: =$K$6*60*(K9/L9)*($K$3/$L$3)*$M$5*PI()/1000*$K$4/$L$4 -> 118.82207 | O9: =$K$6 -> 12100 | P9: =P10 -> 2542.2222 | Q9: 1st | R9: A | S9: =$AJ$5*IF(R9="A",1,0)+$AM$5*IF(R9="B",1,0)+$AP$5*IF(R9="C",1,0)+$AS$5*IF(R9="D",1,0) -> 17 | T9: =$AK$5*IF(R9="A",1,0)+$AN$5*IF(R9="B",1,0)+$AQ$5*IF(R9="C",1,0)+$AT$5*IF(R9="D",1,0) -> 45 | U9: =T9/S9 -> 2.6470588 | V9: =$S$6*60*(S9/T9)*($S$3/$T$3)*$U$5*PI()/1000*$S$4/$T$4 -> 44.190026 | W9: =$S$6 -> 4500 | X9: =X10 -> 945.45455 | Z9: 5/8" | AA9: =C4 -> 16 | AB9: =D4 -> 45 | AC9: 112 | AD9: 88 | AE9: =0.5*(AC9-0.5*(AA9+AB9))*25.4*VLOOKUP(Z9,'Gearbox BMW S1000RR'!AZ14:BA16,2,FALSE)-AD9 -> 558.90625 | AI9: 5 | AJ9: 25 | AK9: 34 | AL9: =AK9/AJ9 -> 1.36 | AM9: 20 | AN9: 30 | AO9: =AN9/AM9 -> 1.5 | AP9: 22 | AQ9: 32 | AR9: =AQ9/AP9 -> 1.4545455 | AS9: 23 | AT9: 32 | AU9: =AT9/AS9 -> 1.3913043 | AV9: 23 | AW9: 30 | AX9: =AW9/AV9 -> 1.3043478 | BC9: M | BH9: 41 | BL9: 16400
F10: =F9 -> 123.73207 | G10: =$C$6*(C9/D9)*(D11/C11) -> 9952.7273 | H10: =$C$6-G10 -> 2647.2727 | N10: =N9 -> 118.82207 | O10: =$K$6*(K9/L9)*(L11/K11) -> 9557.7778 | P10: =$K$6-O10 -> 2542.2222 | V10: =V9 -> 44.190026 | W10: =$S$6*(S9/T9)*(T11/S11) -> 3554.5455 | X10: =$S$6-W10 -> 945.45455 | AI10: 6 | AJ10: 23 | AK10: 29 | AL10: =AK10/AJ10 -> 1.2608696 | AM10: 23 | AN10: 32 | AO10: =AN10/AM10 -> 1.3913043 | AP10: 26 | AQ10: 35 | AR10: =AQ10/AP10 -> 1.3461538 | AS10: 23 | AT10: 29 | AU10: =AT10/AS10 -> 1.2608696 | AV10: 24 | AW10: 29 | AX10: =AW10/AV10 -> 1.2083333 | BH10: 42 | BL10: 16300
A11: 2nd | B11: A | C11: =$AJ$6*IF(B11="A",1,0)+$AM$6*IF(B11="B",1,0)+$AP$6*IF(B11="C",1,0)+$AS$6*IF(B11="D",1,0)+$AV$6*IF(B11="E",1,0)+$AY$6*IF(B11="f",1,0)+$AV$6*IF(B11="M",1,0) -> 22 | D11: =$AK$6*IF(B11="A",1,0)+$AN$6*IF(B11="B",1,0)+$AQ$6*IF(B11="C",1,0)+$AT$6*IF(B11="D",1,0)+$AW$6*IF(B11="E",1,0)+$AZ$6*IF(B11="f",1,0)+$AW$6*IF(B11="M",1,0) -> 46 | E11: =D11/First -> 2.7058824 | F11: =$C$6*60*(C11/D11)*($C$3/$D$3)*$E$5*PI()/1000*$C$4/$D$4 -> 156.64291 | G11: =$C$6 -> 12600 | I11: 2nd | J11: A | K11: =$AJ$6*IF(J11="A",1,0)+$AM$6*IF(J11="B",1,0)+$AP$6*IF(J11="C",1,0)+$AS$6*IF(J11="D",1,0)+$AV$6*IF(J11="E",1,0)+$AY$6*IF(J11="f",1,0) -> 22 | L11: =$AK$6*IF(J11="A",1,0)+$AN$6*IF(J11="B",1,0)+$AQ$6*IF(J11="C",1,0)+$AT$6*IF(J11="D",1,0)+$AW$6*IF(J11="E",1,0)+$AZ$6*IF(J11="f",1,0) -> 46 | M11: =L11/First -> 2.7058824 | N11: =$K$6*60*(K11/L11)*($K$3/$L$3)*$M$5*PI()/1000*$K$4/$L$4 -> 150.42692 | O11: =$K$6 -> 12100 | Q11: 2nd | R11: A | S11: =$AJ$6*IF(R11="A",1,0)+$AM$6*IF(R11="B",1,0)+$AP$6*IF(R11="C",1,0)+$AS$6*IF(R11="D",1,0)+$AV$6*IF(R11="E",1,0)+$AY$6*IF(R11="f",1,0) -> 22 | T11: =$AK$6*IF(R11="A",1,0)+$AN$6*IF(R11="B",1,0)+$AQ$6*IF(R11="C",1,0)+$AT$6*IF(R11="D",1,0)+$AW$6*IF(R11="E",1,0)+$AZ$6*IF(R11="f",1,0) -> 46 | U11: =T11/First -> 2.7058824 | V11: =$S$6*60*(S11/T11)*($S$3/$T$3)*$U$5*PI()/1000*$S$4/$T$4 -> 55.943895 | W11: =$S$6 -> 4500 | Z11: Gearbox 2 | BH11: 43 | BL11: 16200
F12: =F11 -> 156.64291 | G12: =$C$6*(C11/D11)*(D13/C13) -> 10408.696 | H12: =$C$6-G12 -> 2191.3043 | N12: =N11 -> 150.42692 | O12: =$K$6*(K11/L11)*(L13/K13) -> 9995.6522 | P12: =$K$6-O12 -> 2104.3478 | V12: =V11 -> 55.943895 | W12: =$S$6*(S11/T11)*(T13/S13) -> 3717.3913 | X12: =$S$6-W12 -> 782.6087 | Z12: Chain size | AA12: Front sprocket | AB12: Rear sprocket | AC12: Chain | AD12: Distance between front sprocket and pivot | AE12: Swing arm Length | BH12: 44 | BL12: 16100
A13: 3rd | B13: A | C13: =$AJ$7*IF(B13="A",1,0)+$AM$7*IF(B13="B",1,0)+$AP$7*IF(B13="C",1,0)+$AS$7*IF(B13="D",1,0)+$AV$7*IF(B13="E",1,0)+$AY$7*IF(B13="f",1,0)+$AV$7*IF(B13="M",1,0) -> 22 | D13: =$AK$7*IF(B13="A",1,0)+$AN$7*IF(B13="B",1,0)+$AQ$7*IF(B13="C",1,0)+$AT$7*IF(B13="D",1,0)+$AW$7*IF(B13="E",1,0)+$AZ$7*IF(B13="f",1,0)+$AW$7*IF(B13="M",1,0) -> 38 | E13: =D13/First -> 2.2352941 | F13: =$C$6*60*(C13/D13)*($C$3/$D$3)*$E$5*PI()/1000*$C$4/$D$4 -> 189.62036 | G13: =$C$6 -> 12600 | I13: 3rd | J13: A | K13: =$AJ$7*IF(J13="A",1,0)+$AM$7*IF(J13="B",1,0)+$AP$7*IF(J13="C",1,0)+$AS$7*IF(J13="D",1,0) -> 22 | L13: =$AK$7*IF(J13="A",1,0)+$AN$7*IF(J13="B",1,0)+$AQ$7*IF(J13="C",1,0)+$AT$7*IF(J13="D",1,0) -> 38 | M13: =L13/First -> 2.2352941 | N13: =$K$6*60*(K13/L13)*($K$3/$L$3)*$M$5*PI()/1000*$K$4/$L$4 -> 182.09574 | O13: =$K$6 -> 12100 | Q13: 3rd | R13: A | S13: =$AJ$7*IF(R13="A",1,0)+$AM$7*IF(R13="B",1,0)+$AP$7*IF(R13="C",1,0)+$AS$7*IF(R13="D",1,0) -> 22 | T13: =$AK$7*IF(R13="A",1,0)+$AN$7*IF(R13="B",1,0)+$AQ$7*IF(R13="C",1,0)+$AT$7*IF(R13="D",1,0) -> 38 | U13: =T13/First -> 2.2352941 | V13: =$S$6*60*(S13/T13)*($S$3/$T$3)*$U$5*PI()/1000*$S$4/$T$4 -> 67.721557 | W13: =$S$6 -> 4500 | AM13: Cluster 3-4 | AZ13: Chain Size | BA13: Dimension | BH13: 45 | BL13: 16000
F14: =F13 -> 189.62036 | G14: =$C$6*(C13/D13)*(D15/C15) -> 10942.105 | H14: =$C$6-G14 -> 1657.8947 | N14: =N13 -> 182.09574 | O14: =$K$6*(K13/L13)*(L15/K15) -> 10507.895 | P14: =$K$6-O14 -> 1592.1053 | V14: =V13 -> 67.721557 | W14: =$S$6*(S13/T13)*(T15/S15) -> 3907.8947 | X14: =$S$6-W14 -> 592.10526 | Z14: 5/8" | AA14: =K4 -> 16 | AB14: =L4 -> 45 | AC14: 110 | AD14: 88 | AE14: =0.5*(AC14-0.5*(AA14+AB14))*25.4*VLOOKUP(Z14,'Gearbox BMW S1000RR'!AZ14:BA16,2,FALSE)-AD14 -> 543.03125 | AN14: A-A | AO14: A-B | AZ14: 1/2" | BA14: =1/2 -> 0.5 | BH14: 46 | BL14: 15900
A15: 4th | B15: A | C15: =$AJ$8*IF(B15="A",1,0)+$AM$8*IF(B15="B",1,0)+$AP$8*IF(B15="C",1,0)+$AS$8*IF(B15="D",1,0)+$AV$8*IF(B15="E",1,0)+$AY$8*IF(B15="f",1,0)+$AV$8*IF(B15="M",1,0) -> 24 | D15: =$AK$8*IF(B15="A",1,0)+$AN$8*IF(B15="B",1,0)+$AQ$8*IF(B15="C",1,0)+$AT$8*IF(B15="D",1,0)+$AW$8*IF(B15="E",1,0)+$AZ$8*IF(B15="f",1,0)+$AW$8*IF(B15="M",1,0) -> 36 | E15: =D15/First -> 2.1176471 | F15: =$C$6*60*(C15/D15)*($C$3/$D$3)*$E$5*PI()/1000*$C$4/$D$4 -> 218.35072 | G15: =$C$6 -> 12600 | I15: 4th | J15: A | K15: =$AJ$8*IF(J15="A",1,0)+$AM$8*IF(J15="B",1,0)+$AP$8*IF(J15="C",1,0)+$AS$8*IF(J15="D",1,0)+$AV$8*IF(J15="E",1,0)+$AY$8*IF(J15="f",1,0) -> 24 | L15: =$AK$8*IF(J15="A",1,0)+$AN$8*IF(J15="B",1,0)+$AQ$8*IF(J15="C",1,0)+$AT$8*IF(J15="D",1,0)+$AW$8*IF(J15="E",1,0)+$AZ$8*IF(J15="f",1,0) -> 36 | M15: =L15/First -> 2.1176471 | N15: =$K$6*60*(K15/L15)*($K$3/$L$3)*$M$5*PI()/1000*$K$4/$L$4 -> 209.68601 | O15: =$K$6 -> 12100 | Q15: 4th | R15: A | S15: =$AJ$8*IF(R15="A",1,0)+$AM$8*IF(R15="B",1,0)+$AP$8*IF(R15="C",1,0)+$AS$8*IF(R15="D",1,0)+$AV$8*IF(R15="E",1,0)+$AY$8*IF(R15="f",1,0) -> 24 | T15: =$AK$8*IF(R15="A",1,0)+$AN$8*IF(R15="B",1,0)+$AQ$8*IF(R15="C",1,0)+$AT$8*IF(R15="D",1,0)+$AW$8*IF(R15="E",1,0)+$AZ$8*IF(R15="f",1,0) -> 36 | U15: =T15/First -> 2.1176471 | V15: =$S$6*60*(S15/T15)*($S$3/$T$3)*$U$5*PI()/1000*$S$4/$T$4 -> 77.982399 | W15: =$S$6 -> 4500 | AN15: A-D | AO15: B-A | AZ15: 5/8" | BA15: =5/8 -> 0.625 | BH15: 47 | BL15: 15800
F16: =F15 -> 218.35072 | G16: =$C$6*(C15/D15)*(D17/C17) -> 11424 | H16: =$C$6-G16 -> 1176 | N16: =N15 -> 209.68601 | O16: =$K$6*(K15/L15)*(L17/K17) -> 10970.667 | P16: =$K$6-O16 -> 1129.3333 | V16: =V15 -> 77.982399 | W16: =$S$6*(S15/T15)*(T17/S17) -> 4080 | X16: =$S$6-W16 -> 420 | Z16: Gearbox 3 | AN16: B-B | AO16: B-C | AZ16: 3/4" | BA16: =3/4 -> 0.75 | BH16: 48 | BL16: 15700
A17: 5th | B17: A | C17: =$AJ$9*IF(B17="A",1,0)+$AM$9*IF(B17="B",1,0)+$AP$9*IF(B17="C",1,0)+$AS$9*IF(B17="D",1,0)+$AV$9*IF(B17="E",1,0)+$AY$9*IF(B17="f",1,0)+$AV$9*IF(B17="M",1,0) -> 25 | D17: =$AK$9*IF(B17="A",1,0)+$AN$9*IF(B17="B",1,0)+$AQ$9*IF(B17="C",1,0)+$AT$9*IF(B17="D",1,0)+$AW$9*IF(B17="E",1,0)+$AZ$9*IF(B17="f",1,0)+$AW$9*IF(B17="M",1,0) -> 34 | E17: =D17/First -> 2 | F17: =$C$6*60*(C17/D17)*($C$3/$D$3)*$E$5*PI()/1000*$C$4/$D$4 -> 240.828 | G17: =$C$6 -> 12600 | I17: 5th | J17: A | K17: =$AJ$9*IF(J17="A",1,0)+$AM$9*IF(J17="B",1,0)+$AP$9*IF(J17="C",1,0)+$AS$9*IF(J17="D",1,0)+$AV$9*IF(J17="E",1,0)+$AY$9*IF(J17="f",1,0) -> 25 | L17: =$AK$9*IF(J17="A",1,0)+$AN$9*IF(J17="B",1,0)+$AQ$9*IF(J17="C",1,0)+$AT$9*IF(J17="D",1,0)+$AW$9*IF(J17="E",1,0)+$AZ$9*IF(J17="f",1,0) -> 34 | M17: =L17/First -> 2 | N17: =$K$6*60*(K17/L17)*($K$3/$L$3)*$M$5*PI()/1000*$K$4/$L$4 -> 231.27133 | O17: =$K$6 -> 12100 | Q17: 5th | R17: A | S17: =$AJ$9*IF(R17="A",1,0)+$AM$9*IF(R17="B",1,0)+$AP$9*IF(R17="C",1,0)+$AS$9*IF(R17="D",1,0)+$AV$9*IF(R17="E",1,0)+$AY$9*IF(R17="f",1,0) -> 25 | T17: =$AK$9*IF(R17="A",1,0)+$AN$9*IF(R17="B",1,0)+$AQ$9*IF(R17="C",1,0)+$AT$9*IF(R17="D",1,0)+$AW$9*IF(R17="E",1,0)+$AZ$9*IF(R17="f",1,0) -> 34 | U17: =T17/First -> 2 | V17: =$S$6*60*(S17/T17)*($S$3/$T$3)*$U$5*PI()/1000*$S$4/$T$4 -> 86.009998 | W17: =$S$6 -> 4500 | Z17: Chain size | AA17: Front sprocket | AB17: Rear sprocket | AC17: Chain | AD17: Distance between front sprocket and pivot | AE17: Swing arm Length | BH17: 49 | BL17: 15600
F18: =F17 -> 240.828 | G18: =$C$6*(C17/D17)*(D19/C19) -> 11681.586 | H18: =$C$6-G18 -> 918.41432 | N18: =N17 -> 231.27133 | O18: =$K$6*(K17/L17)*(L19/K19) -> 11218.031 | P18: =$K$6-O18 -> 881.96931 | V18: =V17 -> 86.009998 | W18: =$S$6*(S17/T17)*(T19/S19) -> 4171.9949 | X18: =$S$6-W18 -> 328.00512 | AZ18: Number of Links | BG18: Rear tyre diameter | BI18: Width | BJ18: Aspect Ratio | BK18: Rim Size | BL18: 15500
A19: 6th | B19: A | C19: =$AJ$10*IF(B19="A",1,0)+$AM$10*IF(B19="B",1,0)+$AP$10*IF(B19="C",1,0)+$AS$10*IF(B19="D",1,0)+$AV$10*IF(B19="E",1,0)+$AY$10*IF(B19="f",1,0)+$AV$10*IF(B19="M",1,0) -> 23 | D19: =$AK$10*IF(B19="A",1,0)+$AN$10*IF(B19="B",1,0)+$AQ$10*IF(B19="C",1,0)+$AT$10*IF(B19="D",1,0)+$AW$10*IF(B19="E",1,0)+$AZ$10*IF(B19="f",1,0)+$AW$10*IF(B19="M",1,0) -> 29 | E19: =D19/First -> 1.7058824 | F19: =D6*60*(C19/D19)*($C$3/$D$3)*$E$5*PI()/1000*$C$4/$D$4 -> 272.13168 | G19: =D6 -> 13200 | I19: 6th | J19: A | K19: =$AJ$10*IF(J19="A",1,0)+$AM$10*IF(J19="B",1,0)+$AP$10*IF(J19="C",1,0)+$AS$10*IF(J19="D",1,0)+$AV$10*IF(J19="E",1,0)+$AY$10*IF(J19="f",1,0) -> 23 | L19: =$AK$10*IF(J19="A",1,0)+$AN$10*IF(J19="B",1,0)+$AQ$10*IF(J19="C",1,0)+$AT$10*IF(J19="D",1,0)+$AW$10*IF(J19="E",1,0)+$AZ$10*IF(J19="f",1,0) -> 29 | M19: =L19/First -> 1.7058824 | N19: =L6*60*(K19/L19)*($K$3/$L$3)*$M$5*PI()/1000*$K$4/$L$4 -> 272.13168 | O19: =L6 -> 13200 | Q19: 6th | R19: A | S19: =$AJ$10*IF(R19="A",1,0)+$AM$10*IF(R19="B",1,0)+$AP$10*IF(R19="C",1,0)+$AS$10*IF(R19="D",1,0)+$AV$10*IF(R19="E",1,0)+$AY$10*IF(R19="f",1,0) -> 23 | T19: =$AK$10*IF(R19="A",1,0)+$AN$10*IF(R19="B",1,0)+$AQ$10*IF(R19="C",1,0)+$AT$10*IF(R19="D",1,0)+$AW$10*IF(R19="E",1,0)+$AZ$10*IF(R19="f",1,0) -> 29 | U19: =T19/First -> 1.7058824 | V19: =T6*60*(S19/T19)*($S$3/$T$3)*$U$5*PI()/1000*$S$4/$T$4 -> 298.93253 | W19: =T6 -> 14500 | Z19: 5/8" | AA19: =S4 -> 16 | AB19: =T4 -> 45 | AC19: 114 | AD19: 88 | AE19: =0.5*(AC19-0.5*(AA19+AB19))*25.4*VLOOKUP(Z19,'Gearbox BMW S1000RR'!AZ14:BA16,2,FALSE)-AD19 -> 574.78125 | AZ19: 108 | BG19: A Tyre | BH19: =((((BI19/25.4*BJ19/100+BK19/2)*2*3.142)*25.4)/3.142)/1000 -> 0.6408 | BI19: 190 | BJ19: 55 | BK19: 17 | BL19: 15400
AZ20: 110 | BG20: B Tyre | BH20: =((((BI20/25.4*BJ20/100+BK20/2)*2*3.142)*25.4)/3.142)/1000 -> 0.6619 | BI20: 195 | BJ20: 59 | BK20: 17 | BL20: 15300
AZ21: 112 | BG21: INTER | BH21: =((((BI21/25.4*BJ21/100+BK21/2)*2*3.142)*25.4)/3.142)/1000 -> 0.6522 | BI21: 190 | BJ21: 58 | BK21: 17 | BL21: 15200
AZ22: 114 | BG22: RAIN | BH22: =((((BI22/25.4*BJ22/100+BK22/2)*2*3.142)*25.4)/3.142)/1000 -> 0.656 | BI22: 190 | BJ22: 59 | BK22: 17 | BL22: 15100
AZ23: 116 | BL23: 15000
BL24: 14900
AZ25: Front Sprockets | BA25: Rear Sprockets | BL25: 14800
AZ26: 14 | BA26: 38 | BL26: 14700
AZ27: 15 | BA27: 39 | BL27: 14600
AZ28: 16 | BA28: 40 | BL28: 14500
AZ29: 17 | BA29: 41 | BL29: 14400
BA30: 42 | BL30: 14300
BA31: 43 | BL31: 14200
BA32: 44 | BL32: 14100
BA33: 45 | BL33: 14000
BA34: 46 | BL34: 13900
BA35: 47 | BL35: 13800
BL36: 13700
BL37: 13600
BL38: 13500
BL39: 13400
BL40: 13300
...

Sheet Gear Change Calc
A1: RPM | B1: Power (Kw) | C1: Torque (Nm) | F1: Road Speed 1st | G1: Road Speed 2nd | H1: Road Speed 3rd | I1: Road Speed 4th | J1: Road Speed 5th | K1: Road Speed 6th | M1: Driving Force 1st | N1: Driving Force 2nd | O1: Driving Force 3rd | P1: Driving Force 4th | Q1: Driving Force 5th | R1: Driving Force 6th
A2: 2000 | B2: 10 | C2: =(B2*1000*120)/(4*PI()*A2) -> 47.746483 | F2: =A2*60*(First/'Gearbox BMW S1000RR'!$D$9)*('Gearbox BMW S1000RR'!$C$3/'Gearbox BMW S1000RR'!$D$3)*'Gearbox BMW S1000RR'!$E$5*PI()/1000*'Gearbox BMW S1000RR'!$C$4/'Gearbox BMW S1000RR'!$D$4 -> 19.640011 | G2: =A2*60*('Gearbox BMW S1000RR'!$C$11/'Gearbox BMW S1000RR'!$D$11)*('Gearbox BMW S1000RR'!$C$3/'Gearbox BMW S1000RR'!$D$3)*'Gearbox BMW S1000RR'!$E$5*PI()/1000*'Gearbox BMW S1000RR'!$C$4/'Gearbox BMW S1000RR'!$D$4 -> 24.863953 | H2: =A2*60*('Gearbox BMW S1000RR'!$C$13/'Gearbox BMW S1000RR'!$D$13)*('Gearbox BMW S1000RR'!$C$3/'Gearbox BMW S1000RR'!$D$3)*'Gearbox BMW S1000RR'!$E$5*PI()/1000*'Gearbox BMW S1000RR'!$C$4/'Gearbox BMW S1000RR'!$D$4 -> 30.09847 | I2: =A2*60*('Gearbox BMW S1000RR'!$C$15/'Gearbox BMW S1000RR'!$D$15)*('Gearbox BMW S1000RR'!$C$3/'Gearbox BMW S1000RR'!$D$3)*'Gearbox BMW S1000RR'!$E$5*PI()/1000*'Gearbox BMW S1000RR'!$C$4/'Gearbox BMW S1000RR'!$D$4 -> 34.658844 | J2: =A2*60*('Gearbox BMW S1000RR'!$C$17/'Gearbox BMW S1000RR'!$D$17)*('Gearbox BMW S1000RR'!$C$3/'Gearbox BMW S1000RR'!$D$3)*'Gearbox BMW S1000RR'!$E$5*PI()/1000*'Gearbox BMW S1000RR'!$C$4/'Gearbox BMW S1000RR'!$D$4 -> 38.226666 | K2: =A2*60*('Gearbox BMW S1000RR'!$C$19/'Gearbox BMW S1000RR'!$D$19)*('Gearbox BMW S1000RR'!$C$3/'Gearbox BMW S1000RR'!$D$3)*'Gearbox BMW S1000RR'!$E$5*PI()/1000*'Gearbox BMW S1000RR'!$C$4/'Gearbox BMW S1000RR'!$D$4 -> 41.232073 | M2: =(B2*1000)/(F2/3.6) -> 1832.9928 | N2: =(B2*1000)/(G2/3.6) -> 1447.8792 | O2: =(B2*1000)/(H2/3.6) -> 1196.0741 | P2: =(B2*1000)/(I2/3.6) -> 1038.6959 | Q2: =(B2*1000)/(J2/3.6) -> 941.75098 | R2: =(B2*1000)/(K2/3.6) -> 873.10672
A3: =A2+1000 -> 3000 | B3: 22 | C3: =(B3*1000*120)/(4*PI()*A3) -> 70.028175 | F3: =A3*60*(First/'Gearbox BMW S1000RR'!$D$9)*('Gearbox BMW S1000RR'!$C$3/'Gearbox BMW S1000RR'!$D$3)*'Gearbox BMW S1000RR'!$E$5*PI()/1000*'Gearbox BMW S1000RR'!$C$4/'Gearbox BMW S1000RR'!$D$4 -> 29.460017 | G3: =A3*60*('Gearbox BMW S1000RR'!$C$11/'Gearbox BMW S1000RR'!$D$11)*('Gearbox BMW S1000RR'!$C$3/'Gearbox BMW S1000RR'!$D$3)*'Gearbox BMW S1000RR'!$E$5*PI()/1000*'Gearbox BMW S1000RR'!$C$4/'Gearbox BMW S1000RR'!$D$4 -> 37.29593 | H3: =A3*60*('Gearbox BMW S1000RR'!$C$13/'Gearbox BMW S1000RR'!$D$13)*('Gearbox BMW S1000RR'!$C$3/'Gearbox BMW S1000RR'!$D$3)*'Gearbox BMW S1000RR'!$E$5*PI()/1000*'Gearbox BMW S1000RR'!$C$4/'Gearbox BMW S1000RR'!$D$4 -> 45.147704 | I3: =A3*60*('Gearbox BMW S1000RR'!$C$15/'Gearbox BMW S1000RR'!$D$15)*('Gearbox BMW S1000RR'!$C$3/'Gearbox BMW S1000RR'!$D$3)*'Gearbox BMW S1000RR'!$E$5*PI()/1000*'Gearbox BMW S1000RR'!$C$4/'Gearbox BMW S1000RR'!$D$4 -> 51.988266 | J3: =A3*60*('Gearbox BMW S1000RR'!$C$17/'Gearbox BMW S1000RR'!$D$17)*('Gearbox BMW S1000RR'!$C$3/'Gearbox BMW S1000RR'!$D$3)*'Gearbox BMW S1000RR'!$E$5*PI()/1000*'Gearbox BMW S1000RR'!$C$4/'Gearbox BMW S1000RR'!$D$4 -> 57.339999 | K3: =A3*60*('Gearbox BMW S1000RR'!$C$19/'Gearbox BMW S1000RR'!$D$19)*('Gearbox BMW S1000RR'!$C$3/'Gearbox BMW S1000RR'!$D$3)*'Gearbox BMW S1000RR'!$E$5*PI()/1000*'Gearbox BMW S1000RR'!$C$4/'Gearbox BMW S1000RR'!$D$4 -> 61.848109 | M3: =(B3*1000)/(F3/3.6) -> 2688.3895 | N3: =(B3*1000)/(G3/3.6) -> 2123.5561 | O3: =(B3*1000)/(H3/3.6) -> 1754.242 | P3: =(B3*1000)/(I3/3.6) -> 1523.4207 | Q3: =(B3*1000)/(J3/3.6) -> 1381.2348 | R3: =(B3*1000)/(K3/3.6) -> 1280.5565
A4: =A3+1000 -> 4000 | B4: 32 | C4: =(B4*1000*120)/(4*PI()*A4) -> 76.394373 | F4: =A4*60*(First/'Gearbox BMW S1000RR'!$D$9)*('Gearbox BMW S1000RR'!$C$3/'Gearbox BMW S1000RR'!$D$3)*'Gearbox BMW S1000RR'!$E$5*PI()/1000*'Gearbox BMW S1000RR'!$C$4/'Gearbox BMW S1000RR'!$D$4 -> 39.280023 | G4: =A4*60*('Gearbox BMW S1000RR'!$C$11/'Gearbox BMW S1000RR'!$D$11)*('Gearbox BMW S1000RR'!$C$3/'Gearbox BMW S1000RR'!$D$3)*'Gearbox BMW S1000RR'!$E$5*PI()/1000*'Gearbox BMW S1000RR'!$C$4/'Gearbox BMW S1000RR'!$D$4 -> 49.727906 | H4: =A4*60*('Gearbox BMW S1000RR'!$C$13/'Gearbox BMW S1000RR'!$D$13)*('Gearbox BMW S1000RR'!$C$3/'Gearbox BMW S1000RR'!$D$3)*'Gearbox BMW S1000RR'!$E$5*PI()/1000*'Gearbox BMW S1000RR'!$C$4/'Gearbox BMW S1000RR'!$D$4 -> 60.196939 | I4: =A4*60*('Gearbox BMW S1000RR'!$C$15/'Gearbox BMW S1000RR'!$D$15)*('Gearbox BMW S1000RR'!$C$3/'Gearbox BMW S1000RR'!$D$3)*'Gearbox BMW S1000RR'!$E$5*PI()/1000*'Gearbox BMW S1000RR'!$C$4/'Gearbox BMW S1000RR'!$D$4 -> 69.317688 | J4: =A4*60*('Gearbox BMW S1000RR'!$C$17/'Gearbox BMW S1000RR'!$D$17)*('Gearbox BMW S1000RR'!$C$3/'Gearbox BMW S1000RR'!$D$3)*'Gearbox BMW S1000RR'!$E$5*PI()/1000*'Gearbox BMW S1000RR'!$C$4/'Gearbox BMW S1000RR'!$D$4 -> 76.453332 | K4: =A4*60*('Gearbox BMW S1000RR'!$C$19/'Gearbox BMW S1000RR'!$D$19)*('Gearbox BMW S1000RR'!$C$3/'Gearbox BMW S1000RR'!$D$3)*'Gearbox BMW S1000RR'!$E$5*PI()/1000*'Gearbox BMW S1000RR'!$C$4/'Gearbox BMW S1000RR'!$D$4 -> 82.464146 | M4: =(B4*1000)/(F4/3.6) -> 2932.7885 | N4: =(B4*1000)/(G4/3.6) -> 2316.6067 | O4: =(B4*1000)/(H4/3.6) -> 1913.7186 | P4: =(B4*1000)/(I4/3.6) -> 1661.9135 | Q4: =(B4*1000)/(J4/3.6) -> 1506.8016 | R4: =(B4*1000)/(K4/3.6) -> 1396.9708
A5: =A4+1000 -> 5000 | B5: 45 | C5: =(B5*1000*120)/(4*PI()*A5) -> 85.943669 | F5: =A5*60*(First/'Gearbox BMW S1000RR'!$D$9)*('Gearbox BMW S1000RR'!$C$3/'Gearbox BMW S1000RR'!$D$3)*'Gearbox BMW S1000RR'!$E$5*PI()/1000*'Gearbox BMW S1000RR'!$C$4/'Gearbox BMW S1000RR'!$D$4 -> 49.100029 | G5: =A5*60*('Gearbox BMW S1000RR'!$C$11/'Gearbox BMW S1000RR'!$D$11)*('Gearbox BMW S1000RR'!$C$3/'Gearbox BMW S1000RR'!$D$3)*'Gearbox BMW S1000RR'!$E$5*PI()/1000*'Gearbox BMW S1000RR'!$C$4/'Gearbox BMW S1000RR'!$D$4 -> 62.159883 | H5: =A5*60*('Gearbox BMW S1000RR'!$C$13/'Gearbox BMW S1000RR'!$D$13)*('Gearbox BMW S1000RR'!$C$3/'Gearbox BMW S1000RR'!$D$3)*'Gearbox BMW S1000RR'!$E$5*PI()/1000*'Gearbox BMW S1000RR'!$C$4/'Gearbox BMW S1000RR'!$D$4 -> 75.246174 | I5: =A5*60*('Gearbox BMW S1000RR'!$C$15/'Gearbox BMW S1000RR'!$D$15)*('Gearbox BMW S1000RR'!$C$3/'Gearbox BMW S1000RR'!$D$3)*'Gearbox BMW S1000RR'!$E$5*PI()/1000*'Gearbox BMW S1000RR'!$C$4/'Gearbox BMW S1000RR'!$D$4 -> 86.64711 | J5: =A5*60*('Gearbox BMW S1000RR'!$C$17/'Gearbox BMW S1000RR'!$D$17)*('Gearbox BMW S1000RR'!$C$3/'Gearbox BMW S1000RR'!$D$3)*'Gearbox BMW S1000RR'!$E$5*PI()/1000*'Gearbox BMW S1000RR'!$C$4/'Gearbox BMW S1000RR'!$D$4 -> 95.566665 | K5: =A5*60*('Gearbox BMW S1000RR'!$C$19/'Gearbox BMW S1000RR'!$D$19)*('Gearbox BMW S1000RR'!$C$3/'Gearbox BMW S1000RR'!$D$3)*'Gearbox BMW S1000RR'!$E$5*PI()/1000*'Gearbox BMW S1000RR'!$C$4/'Gearbox BMW S1000RR'!$D$4 -> 103.08018 | M5: =(B5*1000)/(F5/3.6) -> 3299.3871 | N5: =(B5*1000)/(G5/3.6) -> 2606.1825 | O5: =(B5*1000)/(H5/3.6) -> 2152.9334 | P5: =(B5*1000)/(I5/3.6) -> 1869.6527 | Q5: =(B5*1000)/(J5/3.6) -> 1695.1518 | R5: =(B5*1000)/(K5/3.6) -> 1571.5921
A6: =A5+1000 -> 6000 | B6: 58 | C6: =(B6*1000*120)/(4*PI()*A6) -> 92.309867 | F6: =A6*60*(First/'Gearbox BMW S1000RR'!$D$9)*('Gearbox BMW S1000RR'!$C$3/'Gearbox BMW S1000RR'!$D$3)*'Gearbox BMW S1000RR'!$E$5*PI()/1000*'Gearbox BMW S1000RR'!$C$4/'Gearbox BMW S1000RR'!$D$4 -> 58.920034 | G6: =A6*60*('Gearbox BMW S1000RR'!$C$11/'Gearbox BMW S1000RR'!$D$11)*('Gearbox BMW S1000RR'!$C$3/'Gearbox BMW S1000RR'!$D$3)*'Gearbox BMW S1000RR'!$E$5*PI()/1000*'Gearbox BMW S1000RR'!$C$4/'Gearbox BMW S1000RR'!$D$4 -> 74.59186 | H6: =A6*60*('Gearbox BMW S1000RR'!$C$13/'Gearbox BMW S1000RR'!$D$13)*('Gearbox BMW S1000RR'!$C$3/'Gearbox BMW S1000RR'!$D$3)*'Gearbox BMW S1000RR'!$E$5*PI()/1000*'Gearbox BMW S1000RR'!$C$4/'Gearbox BMW S1000RR'!$D$4 -> 90.295409 | I6: =A6*60*('Gearbox BMW S1000RR'!$C$15/'Gearbox BMW S1000RR'!$D$15)*('Gearbox BMW S1000RR'!$C$3/'Gearbox BMW S1000RR'!$D$3)*'Gearbox BMW S1000RR'!$E$5*PI()/1000*'Gearbox BMW S1000RR'!$C$4/'Gearbox BMW S1000RR'!$D$4 -> 103.97653 | J6: =A6*60*('Gearbox BMW S1000RR'!$C$17/'Gearbox BMW S1000RR'!$D$17)*('Gearbox BMW S1000RR'!$C$3/'Gearbox BMW S1000RR'!$D$3)*'Gearbox BMW S1000RR'!$E$5*PI()/1000*'Gearbox BMW S1000RR'!$C$4/'Gearbox BMW S1000RR'!$D$4 -> 114.68 | K6: =A6*60*('Gearbox BMW S1000RR'!$C$19/'Gearbox BMW S1000RR'!$D$19)*('Gearbox BMW S1000RR'!$C$3/'Gearbox BMW S1000RR'!$D$3)*'Gearbox BMW S1000RR'!$E$5*PI()/1000*'Gearbox BMW S1000RR'!$C$4/'Gearbox BMW S1000RR'!$D$4 -> 123.69622 | M6: =(B6*1000)/(F6/3.6) -> 3543.7861 | N6: =(B6*1000)/(G6/3.6) -> 2799.2331 | O6: =(B6*1000)/(H6/3.6) -> 2312.4099 | P6: =(B6*1000)/(I6/3.6) -> 2008.1455 | Q6: =(B6*1000)/(J6/3.6) -> 1820.7186 | R6: =(B6*1000)/(K6/3.6) -> 1688.0063
A7: =A6+1000 -> 7000 | B7: 73 | C7: =(B7*1000*120)/(4*PI()*A7) -> 99.585522 | F7: =A7*60*(First/'Gearbox BMW S1000RR'!$D$9)*('Gearbox BMW S1000RR'!$C$3/'Gearbox BMW S1000RR'!$D$3)*'Gearbox BMW S1000RR'!$E$5*PI()/1000*'Gearbox BMW S1000RR'!$C$4/'Gearbox BMW S1000RR'!$D$4 -> 68.74004 | G7: =A7*60*('Gearbox BMW S1000RR'!$C$11/'Gearbox BMW S1000RR'!$D$11)*('Gearbox BMW S1000RR'!$C$3/'Gearbox BMW S1000RR'!$D$3)*'Gearbox BMW S1000RR'!$E$5*PI()/1000*'Gearbox BMW S1000RR'!$C$4/'Gearbox BMW S1000RR'!$D$4 -> 87.023836 | H7: =A7*60*('Gearbox BMW S1000RR'!$C$13/'Gearbox BMW S1000RR'!$D$13)*('Gearbox BMW S1000RR'!$C$3/'Gearbox BMW S1000RR'!$D$3)*'Gearbox BMW S1000RR'!$E$5*PI()/1000*'Gearbox BMW S1000RR'!$C$4/'Gearbox BMW S1000RR'!$D$4 -> 105.34464 | I7: =A7*60*('Gearbox BMW S1000RR'!$C$15/'Gearbox BMW S1000RR'!$D$15)*('Gearbox BMW S1000RR'!$C$3/'Gearbox BMW S1000RR'!$D$3)*'Gearbox BMW S1000RR'!$E$5*PI()/1000*'Gearbox BMW S1000RR'!$C$4/'Gearbox BMW S1000RR'!$D$4 -> 121.30595 | J7: =A7*60*('Gearbox BMW S1000RR'!$C$17/'Gearbox BMW S1000RR'!$D$17)*('Gearbox BMW S1000RR'!$C$3/'Gearbox BMW S1000RR'!$D$3)*'Gearbox BMW S1000RR'!$E$5*PI()/1000*'Gearbox BMW S1000RR'!$C$4/'Gearbox BMW S1000RR'!$D$4 -> 133.79333 | K7: =A7*60*('Gearbox BMW S1000RR'!$C$19/'Gearbox BMW S1000RR'!$D$19)*('Gearbox BMW S1000RR'!$C$3/'Gearbox BMW S1000RR'!$D$3)*'Gearbox BMW S1000RR'!$E$5*PI()/1000*'Gearbox BMW S1000RR'!$C$4/'Gearbox BMW S1000RR'!$D$4 -> 144.31225 | M7: =(B7*1000)/(F7/3.6) -> 3823.0993 | N7: =(B7*1000)/(G7/3.6) -> 3019.8623 | O7: =(B7*1000)/(H7/3.6) -> 2494.6688 | P7: =(B7*1000)/(I7/3.6) -> 2166.4229 | Q7: =(B7*1000)/(J7/3.6) -> 1964.2235 | R7: =(B7*1000)/(K7/3.6) -> 1821.0512
A8: =A7+1000 -> 8000 | B8: 89 | C8: =(B8*1000*120)/(4*PI()*A8) -> 106.23592 | F8: =A8*60*(First/'Gearbox BMW S1000RR'!$D$9)*('Gearbox BMW S1000RR'!$C$3/'Gearbox BMW S1000RR'!$D$3)*'Gearbox BMW S1000RR'!$E$5*PI()/1000*'Gearbox BMW S1000RR'!$C$4/'Gearbox BMW S1000RR'!$D$4 -> 78.560046 | G8: =A8*60*('Gearbox BMW S1000RR'!$C$11/'Gearbox BMW S1000RR'!$D$11)*('Gearbox BMW S1000RR'!$C$3/'Gearbox BMW S1000RR'!$D$3)*'Gearbox BMW S1000RR'!$E$5*PI()/1000*'Gearbox BMW S1000RR'!$C$4/'Gearbox BMW S1000RR'!$D$4 -> 99.455813 | H8: =A8*60*('Gearbox BMW S1000RR'!$C$13/'Gearbox BMW S1000RR'!$D$13)*('Gearbox BMW S1000RR'!$C$3/'Gearbox BMW S1000RR'!$D$3)*'Gearbox BMW S1000RR'!$E$5*PI()/1000*'Gearbox BMW S1000RR'!$C$4/'Gearbox BMW S1000RR'!$D$4 -> 120.39388 | I8: =A8*60*('Gearbox BMW S1000RR'!$C$15/'Gearbox BMW S1000RR'!$D$15)*('Gearbox BMW S1000RR'!$C$3/'Gearbox BMW S1000RR'!$D$3)*'Gearbox BMW S1000RR'!$E$5*PI()/1000*'Gearbox BMW S1000RR'!$C$4/'Gearbox BMW S1000RR'!$D$4 -> 138.63538 | J8: =A8*60*('Gearbox BMW S1000RR'!$C$17/'Gearbox BMW S1000RR'!$D$17)*('Gearbox BMW S1000RR'!$C$3/'Gearbox BMW S1000RR'!$D$3)*'Gearbox BMW S1000RR'!$E$5*PI()/1000*'Gearbox BMW S1000RR'!$C$4/'Gearbox BMW S1000RR'!$D$4 -> 152.90666 | K8: =A8*60*('Gearbox BMW S1000RR'!$C$19/'Gearbox BMW S1000RR'!$D$19)*('Gearbox BMW S1000RR'!$C$3/'Gearbox BMW S1000RR'!$D$3)*'Gearbox BMW S1000RR'!$E$5*PI()/1000*'Gearbox BMW S1000RR'!$C$4/'Gearbox BMW S1000RR'!$D$4 -> 164.92829 | M8: =(B8*1000)/(F8/3.6) -> 4078.409 | N8: =(B8*1000)/(G8/3.6) -> 3221.5312 | O8: =(B8*1000)/(H8/3.6) -> 2661.2649 | P8: =(B8*1000)/(I8/3.6) -> 2311.0984 | Q8: =(B8*1000)/(J8/3.6) -> 2095.3959 | R8: =(B8*1000)/(K8/3.6) -> 1942.6625
A9: =A8+1000 -> 9000 | B9: 105 | C9: =(B9*1000*120)/(4*PI()*A9) -> 111.40846 | F9: =A9*60*(First/'Gearbox BMW S1000RR'!$D$9)*('Gearbox BMW S1000RR'!$C$3/'Gearbox BMW S1000RR'!$D$3)*'Gearbox BMW S1000RR'!$E$5*PI()/1000*'Gearbox BMW S1000RR'!$C$4/'Gearbox BMW S1000RR'!$D$4 -> 88.380052 | G9: =A9*60*('Gearbox BMW S1000RR'!$C$11/'Gearbox BMW S1000RR'!$D$11)*('Gearbox BMW S1000RR'!$C$3/'Gearbox BMW S1000RR'!$D$3)*'Gearbox BMW S1000RR'!$E$5*PI()/1000*'Gearbox BMW S1000RR'!$C$4/'Gearbox BMW S1000RR'!$D$4 -> 111.88779 | H9: =A9*60*('Gearbox BMW S1000RR'!$C$13/'Gearbox BMW S1000RR'!$D$13)*('Gearbox BMW S1000RR'!$C$3/'Gearbox BMW S1000RR'!$D$3)*'Gearbox BMW S1000RR'!$E$5*PI()/1000*'Gearbox BMW S1000RR'!$C$4/'Gearbox BMW S1000RR'!$D$4 -> 135.44311 | I9: =A9*60*('Gearbox BMW S1000RR'!$C$15/'Gearbox BMW S1000RR'!$D$15)*('Gearbox BMW S1000RR'!$C$3/'Gearbox BMW S1000RR'!$D$3)*'Gearbox BMW S1000RR'!$E$5*PI()/1000*'Gearbox BMW S1000RR'!$C$4/'Gearbox BMW S1000RR'!$D$4 -> 155.9648 | J9: =A9*60*('Gearbox BMW S1000RR'!$C$17/'Gearbox BMW S1000RR'!$D$17)*('Gearbox BMW S1000RR'!$C$3/'Gearbox BMW S1000RR'!$D$3)*'Gearbox BMW S1000RR'!$E$5*PI()/1000*'Gearbox BMW S1000RR'!$C$4/'Gearbox BMW S1000RR'!$D$4 -> 172.02 | K9: =A9*60*('Gearbox BMW S1000RR'!$C$19/'Gearbox BMW S1000RR'!$D$19)*('Gearbox BMW S1000RR'!$C$3/'Gearbox BMW S1000RR'!$D$3)*'Gearbox BMW S1000RR'!$E$5*PI()/1000*'Gearbox BMW S1000RR'!$C$4/'Gearbox BMW S1000RR'!$D$4 -> 185.54433 | M9: =(B9*1000)/(F9/3.6) -> 4276.9832 | N9: =(B9*1000)/(G9/3.6) -> 3378.3847 | O9: =(B9*1000)/(H9/3.6) -> 2790.8396 | P9: =(B9*1000)/(I9/3.6) -> 2423.6238 | Q9: =(B9*1000)/(J9/3.6) -> 2197.4189 | R9: =(B9*1000)/(K9/3.6) -> 2037.249
A10: =A9+1000 -> 10000 | B10: 117 | C10: =(B10*1000*120)/(4*PI()*A10) -> 111.72677 | F10: =A10*60*(First/'Gearbox BMW S1000RR'!$D$9)*('Gearbox BMW S1000RR'!$C$3/'Gearbox BMW S1000RR'!$D$3)*'Gearbox BMW S1000RR'!$E$5*PI()/1000*'Gearbox BMW S1000RR'!$C$4/'Gearbox BMW S1000RR'!$D$4 -> 98.200057 | G10: =A10*60*('Gearbox BMW S1000RR'!$C$11/'Gearbox BMW S1000RR'!$D$11)*('Gearbox BMW S1000RR'!$C$3/'Gearbox BMW S1000RR'!$D$3)*'Gearbox BMW S1000RR'!$E$5*PI()/1000*'Gearbox BMW S1000RR'!$C$4/'Gearbox BMW S1000RR'!$D$4 -> 124.31977 | H10: =A10*60*('Gearbox BMW S1000RR'!$C$13/'Gearbox BMW S1000RR'!$D$13)*('Gearbox BMW S1000RR'!$C$3/'Gearbox BMW S1000RR'!$D$3)*'Gearbox BMW S1000RR'!$E$5*PI()/1000*'Gearbox BMW S1000RR'!$C$4/'Gearbox BMW S1000RR'!$D$4 -> 150.49235 | I10: =A10*60*('Gearbox BMW S1000RR'!$C$15/'Gearbox BMW S1000RR'!$D$15)*('Gearbox BMW S1000RR'!$C$3/'Gearbox BMW S1000RR'!$D$3)*'Gearbox BMW S1000RR'!$E$5*PI()/1000*'Gearbox BMW S1000RR'!$C$4/'Gearbox BMW S1000RR'!$D$4 -> 173.29422 | J10: =A10*60*('Gearbox BMW S1000RR'!$C$17/'Gearbox BMW S1000RR'!$D$17)*('Gearbox BMW S1000RR'!$C$3/'Gearbox BMW S1000RR'!$D$3)*'Gearbox BMW S1000RR'!$E$5*PI()/1000*'Gearbox BMW S1000RR'!$C$4/'Gearbox BMW S1000RR'!$D$4 -> 191.13333 | K10: =A10*60*('Gearbox BMW S1000RR'!$C$19/'Gearbox BMW S1000RR'!$D$19)*('Gearbox BMW S1000RR'!$C$3/'Gearbox BMW S1000RR'!$D$3)*'Gearbox BMW S1000RR'!$E$5*PI()/1000*'Gearbox BMW S1000RR'!$C$4/'Gearbox BMW S1000RR'!$D$4 -> 206.16036 | M10: =(B10*1000)/(F10/3.6) -> 4289.2032 | N10: =(B10*1000)/(G10/3.6) -> 3388.0373 | O10: =(B10*1000)/(H10/3.6) -> 2798.8134 | P10: =(B10*1000)/(I10/3.6) -> 2430.5485 | Q10: =(B10*1000)/(J10/3.6) -> 2203.6973 | R10: =(B10*1000)/(K10/3.6) -> 2043.0697
A11: =A10+1000 -> 11000 | B11: 130 | C11: =(B11*1000*120)/(4*PI()*A11) -> 112.85532 | F11: =A11*60*(First/'Gearbox BMW S1000RR'!$D$9)*('Gearbox BMW S1000RR'!$C$3/'Gearbox BMW S1000RR'!$D$3)*'Gearbox BMW S1000RR'!$E$5*PI()/1000*'Gearbox BMW S1000RR'!$C$4/'Gearbox BMW S1000RR'!$D$4 -> 108.02006 | G11: =A11*60*('Gearbox BMW S1000RR'!$C$11/'Gearbox BMW S1000RR'!$D$11)*('Gearbox BMW S1000RR'!$C$3/'Gearbox BMW S1000RR'!$D$3)*'Gearbox BMW S1000RR'!$E$5*PI()/1000*'Gearbox BMW S1000RR'!$C$4/'Gearbox BMW S1000RR'!$D$4 -> 136.75174 | H11: =A11*60*('Gearbox BMW S1000RR'!$C$13/'Gearbox BMW S1000RR'!$D$13)*('Gearbox BMW S1000RR'!$C$3/'Gearbox BMW S1000RR'!$D$3)*'Gearbox BMW S1000RR'!$E$5*PI()/1000*'Gearbox BMW S1000RR'!$C$4/'Gearbox BMW S1000RR'!$D$4 -> 165.54158 | I11: =A11*60*('Gearbox BMW S1000RR'!$C$15/'Gearbox BMW S1000RR'!$D$15)*('Gearbox BMW S1000RR'!$C$3/'Gearbox BMW S1000RR'!$D$3)*'Gearbox BMW S1000RR'!$E$5*PI()/1000*'Gearbox BMW S1000RR'!$C$4/'Gearbox BMW S1000RR'!$D$4 -> 190.62364 | J11: =A11*60*('Gearbox BMW S1000RR'!$C$17/'Gearbox BMW S1000RR'!$D$17)*('Gearbox BMW S1000RR'!$C$3/'Gearbox BMW S1000RR'!$D$3)*'Gearbox BMW S1000RR'!$E$5*PI()/1000*'Gearbox BMW S1000RR'!$C$4/'Gearbox BMW S1000RR'!$D$4 -> 210.24666 | K11: =A11*60*('Gearbox BMW S1000RR'!$C$19/'Gearbox BMW S1000RR'!$D$19)*('Gearbox BMW S1000RR'!$C$3/'Gearbox BMW S1000RR'!$D$3)*'Gearbox BMW S1000RR'!$E$5*PI()/1000*'Gearbox BMW S1000RR'!$C$4/'Gearbox BMW S1000RR'!$D$4 -> 226.7764 | M11: =(B11*1000)/(F11/3.6) -> 4332.5285 | N11: =(B11*1000)/(G11/3.6) -> 3422.2599 | O11: =(B11*1000)/(H11/3.6) -> 2827.0842 | P11: =(B11*1000)/(I11/3.6) -> 2455.0995 | Q11: =(B11*1000)/(J11/3.6) -> 2225.9569 | R11: =(B11*1000)/(K11/3.6) -> 2063.7068
A12: =A11+1000 -> 12000 | B12: 141 | C12: =(B12*1000*120)/(4*PI()*A12) -> 112.20423 | F12: =A12*60*(First/'Gearbox BMW S1000RR'!$D$9)*('Gearbox BMW S1000RR'!$C$3/'Gearbox BMW S1000RR'!$D$3)*'Gearbox BMW S1000RR'!$E$5*PI()/1000*'Gearbox BMW S1000RR'!$C$4/'Gearbox BMW S1000RR'!$D$4 -> 117.84007 | G12: =A12*60*('Gearbox BMW S1000RR'!$C$11/'Gearbox BMW S1000RR'!$D$11)*('Gearbox BMW S1000RR'!$C$3/'Gearbox BMW S1000RR'!$D$3)*'Gearbox BMW S1000RR'!$E$5*PI()/1000*'Gearbox BMW S1000RR'!$C$4/'Gearbox BMW S1000RR'!$D$4 -> 149.18372 | H12: =A12*60*('Gearbox BMW S1000RR'!$C$13/'Gearbox BMW S1000RR'!$D$13)*('Gearbox BMW S1000RR'!$C$3/'Gearbox BMW S1000RR'!$D$3)*'Gearbox BMW S1000RR'!$E$5*PI()/1000*'Gearbox BMW S1000RR'!$C$4/'Gearbox BMW S1000RR'!$D$4 -> 180.59082 | I12: =A12*60*('Gearbox BMW S1000RR'!$C$15/'Gearbox BMW S1000RR'!$D$15)*('Gearbox BMW S1000RR'!$C$3/'Gearbox BMW S1000RR'!$D$3)*'Gearbox BMW S1000RR'!$E$5*PI()/1000*'Gearbox BMW S1000RR'!$C$4/'Gearbox BMW S1000RR'!$D$4 -> 207.95306 | J12: =A12*60*('Gearbox BMW S1000RR'!$C$17/'Gearbox BMW S1000RR'!$D$17)*('Gearbox BMW S1000RR'!$C$3/'Gearbox BMW S1000RR'!$D$3)*'Gearbox BMW S1000RR'!$E$5*PI()/1000*'Gearbox BMW S1000RR'!$C$4/'Gearbox BMW S1000RR'!$D$4 -> 229.36 | K12: =A12*60*('Gearbox BMW S1000RR'!$C$19/'Gearbox BMW S1000RR'!$D$19)*('Gearbox BMW S1000RR'!$C$3/'Gearbox BMW S1000RR'!$D$3)*'Gearbox BMW S1000RR'!$E$5*PI()/1000*'Gearbox BMW S1000RR'!$C$4/'Gearbox BMW S1000RR'!$D$4 -> 247.39244 | M12: =(B12*1000)/(F12/3.6) -> 4307.5331 | N12: =(B12*1000)/(G12/3.6) -> 3402.5161 | O12: =(B12*1000)/(H12/3.6) -> 2810.7741 | P12: =(B12*1000)/(I12/3.6) -> 2440.9354 | Q12: =(B12*1000)/(J12/3.6) -> 2213.1148 | R12: =(B12*1000)/(K12/3.6) -> 2051.8008
A13: =A12+1000 -> 13000 | B13: 144 | C13: =(B13*1000*120)/(4*PI()*A13) -> 105.77682 | F13: =A13*60*(First/'Gearbox BMW S1000RR'!$D$9)*('Gearbox BMW S1000RR'!$C$3/'Gearbox BMW S1000RR'!$D$3)*'Gearbox BMW S1000RR'!$E$5*PI()/1000*'Gearbox BMW S1000RR'!$C$4/'Gearbox BMW S1000RR'!$D$4 -> 127.66007 | G13: =A13*60*('Gearbox BMW S1000RR'!$C$11/'Gearbox BMW S1000RR'!$D$11)*('Gearbox BMW S1000RR'!$C$3/'Gearbox BMW S1000RR'!$D$3)*'Gearbox BMW S1000RR'!$E$5*PI()/1000*'Gearbox BMW S1000RR'!$C$4/'Gearbox BMW S1000RR'!$D$4 -> 161.6157 | H13: =A13*60*('Gearbox BMW S1000RR'!$C$13/'Gearbox BMW S1000RR'!$D$13)*('Gearbox BMW S1000RR'!$C$3/'Gearbox BMW S1000RR'!$D$3)*'Gearbox BMW S1000RR'!$E$5*PI()/1000*'Gearbox BMW S1000RR'!$C$4/'Gearbox BMW S1000RR'!$D$4 -> 195.64005 | I13: =A13*60*('Gearbox BMW S1000RR'!$C$15/'Gearbox BMW S1000RR'!$D$15)*('Gearbox BMW S1000RR'!$C$3/'Gearbox BMW S1000RR'!$D$3)*'Gearbox BMW S1000RR'!$E$5*PI()/1000*'Gearbox BMW S1000RR'!$C$4/'Gearbox BMW S1000RR'!$D$4 -> 225.28248 | J13: =A13*60*('Gearbox BMW S1000RR'!$C$17/'Gearbox BMW S1000RR'!$D$17)*('Gearbox BMW S1000RR'!$C$3/'Gearbox BMW S1000RR'!$D$3)*'Gearbox BMW S1000RR'!$E$5*PI()/1000*'Gearbox BMW S1000RR'!$C$4/'Gearbox BMW S1000RR'!$D$4 -> 248.47333 | K13: =A13*60*('Gearbox BMW S1000RR'!$C$19/'Gearbox BMW S1000RR'!$D$19)*('Gearbox BMW S1000RR'!$C$3/'Gearbox BMW S1000RR'!$D$3)*'Gearbox BMW S1000RR'!$E$5*PI()/1000*'Gearbox BMW S1000RR'!$C$4/'Gearbox BMW S1000RR'!$D$4 -> 268.00847 | M13: =(B13*1000)/(F13/3.6) -> 4060.7841 | N13: =(B13*1000)/(G13/3.6) -> 3207.6092 | O13: =(B13*1000)/(H13/3.6) -> 2649.7642 | P13: =(B13*1000)/(I13/3.6) -> 2301.111 | Q13: =(B13*1000)/(J13/3.6) -> 2086.3406 | R13: =(B13*1000)/(K13/3.6) -> 1934.2672
A14: 13500 | B14: 146 | C14: =(B14*1000*120)/(4*PI()*A14) -> 103.27387 | F14: =A14*60*(First/'Gearbox BMW S1000RR'!$D$9)*('Gearbox BMW S1000RR'!$C$3/'Gearbox BMW S1000RR'!$D$3)*'Gearbox BMW S1000RR'!$E$5*PI()/1000*'Gearbox BMW S1000RR'!$C$4/'Gearbox BMW S1000RR'!$D$4 -> 132.57008 | G14: =A14*60*('Gearbox BMW S1000RR'!$C$11/'Gearbox BMW S1000RR'!$D$11)*('Gearbox BMW S1000RR'!$C$3/'Gearbox BMW S1000RR'!$D$3)*'Gearbox BMW S1000RR'!$E$5*PI()/1000*'Gearbox BMW S1000RR'!$C$4/'Gearbox BMW S1000RR'!$D$4 -> 167.83168 | H14: =A14*60*('Gearbox BMW S1000RR'!$C$13/'Gearbox BMW S1000RR'!$D$13)*('Gearbox BMW S1000RR'!$C$3/'Gearbox BMW S1000RR'!$D$3)*'Gearbox BMW S1000RR'!$E$5*PI()/1000*'Gearbox BMW S1000RR'!$C$4/'Gearbox BMW S1000RR'!$D$4 -> 203.16467 | I14: =A14*60*('Gearbox BMW S1000RR'!$C$15/'Gearbox BMW S1000RR'!$D$15)*('Gearbox BMW S1000RR'!$C$3/'Gearbox BMW S1000RR'!$D$3)*'Gearbox BMW S1000RR'!$E$5*PI()/1000*'Gearbox BMW S1000RR'!$C$4/'Gearbox BMW S1000RR'!$D$4 -> 233.9472 | J14: =A14*60*('Gearbox BMW S1000RR'!$C$17/'Gearbox BMW S1000RR'!$D$17)*('Gearbox BMW S1000RR'!$C$3/'Gearbox BMW S1000RR'!$D$3)*'Gearbox BMW S1000RR'!$E$5*PI()/1000*'Gearbox BMW S1000RR'!$C$4/'Gearbox BMW S1000RR'!$D$4 -> 258.03 | K14: =A14*60*('Gearbox BMW S1000RR'!$C$19/'Gearbox BMW S1000RR'!$D$19)*('Gearbox BMW S1000RR'!$C$3/'Gearbox BMW S1000RR'!$D$3)*'Gearbox BMW S1000RR'!$E$5*PI()/1000*'Gearbox BMW S1000RR'!$C$4/'Gearbox BMW S1000RR'!$D$4 -> 278.31649 | M14: =(B14*1000)/(F14/3.6) -> 3964.6956 | N14: =(B14*1000)/(G14/3.6) -> 3131.709 | O14: =(B14*1000)/(H14/3.6) -> 2587.064 | P14: =(B14*1000)/(I14/3.6) -> 2246.6608 | Q14: =(B14*1000)/(J14/3.6) -> 2036.9725 | R14: =(B14*1000)/(K14/3.6) -> 1888.4975
A15: =A13+1000 -> 14000 | B15: 144 | C15: =(B15*1000*120)/(4*PI()*A15) -> 98.221336 | F15: =A15*60*(First/'Gearbox BMW S1000RR'!$D$9)*('Gearbox BMW S1000RR'!$C$3/'Gearbox BMW S1000RR'!$D$3)*'Gearbox BMW S1000RR'!$E$5*PI()/1000*'Gearbox BMW S1000RR'!$C$4/'Gearbox BMW S1000RR'!$D$4 -> 137.48008 | G15: =A15*60*('Gearbox BMW S1000RR'!$C$11/'Gearbox BMW S1000RR'!$D$11)*('Gearbox BMW S1000RR'!$C$3/'Gearbox BMW S1000RR'!$D$3)*'Gearbox BMW S1000RR'!$E$5*PI()/1000*'Gearbox BMW S1000RR'!$C$4/'Gearbox BMW S1000RR'!$D$4 -> 174.04767 | H15: =A15*60*('Gearbox BMW S1000RR'!$C$13/'Gearbox BMW S1000RR'!$D$13)*('Gearbox BMW S1000RR'!$C$3/'Gearbox BMW S1000RR'!$D$3)*'Gearbox BMW S1000RR'!$E$5*PI()/1000*'Gearbox BMW S1000RR'!$C$4/'Gearbox BMW S1000RR'!$D$4 -> 210.68929 | I15: =A15*60*('Gearbox BMW S1000RR'!$C$15/'Gearbox BMW S1000RR'!$D$15)*('Gearbox BMW S1000RR'!$C$3/'Gearbox BMW S1000RR'!$D$3)*'Gearbox BMW S1000RR'!$E$5*PI()/1000*'Gearbox BMW S1000RR'!$C$4/'Gearbox BMW S1000RR'!$D$4 -> 242.61191 | J15: =A15*60*('Gearbox BMW S1000RR'!$C$17/'Gearbox BMW S1000RR'!$D$17)*('Gearbox BMW S1000RR'!$C$3/'Gearbox BMW S1000RR'!$D$3)*'Gearbox BMW S1000RR'!$E$5*PI()/1000*'Gearbox BMW S1000RR'!$C$4/'Gearbox BMW S1000RR'!$D$4 -> 267.58666 | K15: =A15*60*('Gearbox BMW S1000RR'!$C$19/'Gearbox BMW S1000RR'!$D$19)*('Gearbox BMW S1000RR'!$C$3/'Gearbox BMW S1000RR'!$D$3)*'Gearbox BMW S1000RR'!$E$5*PI()/1000*'Gearbox BMW S1000RR'!$C$4/'Gearbox BMW S1000RR'!$D$4 -> 288.62451 | M15: =(B15*1000)/(F15/3.6) -> 3770.7281 | N15: =(B15*1000)/(G15/3.6) -> 2978.4943 | O15: =(B15*1000)/(H15/3.6) -> 2460.4953 | P15: =(B15*1000)/(I15/3.6) -> 2136.7459 | Q15: =(B15*1000)/(J15/3.6) -> 1937.3163 | R15: =(B15*1000)/(K15/3.6) -> 1796.1053
O17: 15500 | P17: 15500 | Q17: 15250
