Workbook

Sheet Data
B2: Vehicle Data | H2: Front Gearbox
B3: Wheelbase | C3: 2.99 | D3: m | H3: Ratio 1 6% taller than 2nd gear in the main gearbox
B4: Track Front | C4: 1.676 | D4: m | H4: Ratio 2 6% taller than 4nd gear in the main gearbox
B5: Mass | C5: 1880 | D5: kg | H5: Gear 1 used when in gear 1 & 2 in main gearbox
B6: Distribution (F/R) | C6: 47/53 | H6: Gear 2 used when in gear 3 & 4 in main gearbox
B7: Max Torque | C7: 683 | D7: Nm | H7: Disengaged when in gear 5-7
B8: RPM @ Max Torque | C8: 6000 | D8: RPM
B9: Max Torque to Front | C9: 20 | D9: %
C10: =C7*(C9/100) -> 136.6 | D10: Nm
B11: Max Torque to Each Clutch Pack | C11: 10 | D11: %
C12: =C7*(C11/100) -> 68.3 | D12: Nm

Sheet Lumped Mass Model
B2: Lumped Mass Model | G2: Lumped Mass Model
C3: Mass (kg) | D3: Distance to CoG (m) | E3: Moment of Inertia ZZ (kgm^2) | G3: Mass (kg) | K3: Distance (m)
B4: Engine | C4: 265 | D4: 0.81294 | E4: =C4*D4^2 -> 175.13093 | G4: Engine | H4: Transaxle | I4: Body Front | J4: Body Rear | K4: re | L4: a | M4: b
B5: Transaxle | C5: 241 | D5: 1.4053 | E5: =C5*D5^2 -> 475.94321 | G5: 265 | H5: 241 | I5: 687 | J5: 687 | K5: 0.81294 | L5: 1.5847 | M5: 1.4053
B6: Body Front | C6: 687 | D6: 1.5847 | E6: =C6*D6^2 -> 1725.2453
B7: Body Rear | C7: 687 | D7: 1.4053 | E7: =C7*D7^2 -> 1356.7344
D8: Total | E8: =SUM(E4:E7) -> 3733.0538
B10: CoG Long
B11: Distance a (m) | C11: =Data!C3*0.53 -> 1.5847
B12: Distance b (m) | C12: =Data!C3-C11 -> 1.4053
B14: Inertial Conjugate, c (m) | C14: =E8/(Data!C5*C11) -> 1.2530239
B15: Distance Infront of Rear Axle (m) | C15: =C12-C14 -> 0.15227613
B17: DI | C17: =E8/(Data!C5*C11*C12) -> 0.89164155 | P17: s

Sheet Torque Vectoring
B2: Gear | C2: Ratio | D2: Overall Ratio | E2: Rear Road Wheel Speed @ Max Torque (RPM)
B3: 1 | C3: 3.397 | D3: =C3*3.88 -> 13.18036 | E3: =Data!$C$8/D3 -> 455.22277 | O3: Radius (m) | P3: Max Force Across Axle (N) | S3: RWD | U3: AWD | X3: Improvement
B4: 2 | C4: 2.186 | D4: =C4*3.88 -> 8.48168 | E4: =Data!$C$8/D4 -> 707.40702 | N4: Front | O4: 0.341 | P4: =(D20/0.341)*2 -> 3205.327 | R4: Mu | S4: Rear Drive Force (N) | T4: Acceleration (m/s/s) | U4: Front Drive Force (N) | V4: Total Drive Force (N) | W4: Acceleration (m/s/s) | X4: Acceleration (m/s/s)
B5: 3 | C5: 1.626 | D5: =C5*3.88 -> 6.30888 | E5: =Data!$C$8/D5 -> 951.04044 | N5: Rear | O5: 0.357 | P5: =(((Data!C7*D3)/2)/0.357)*2 -> 25216.207 | R5: 0.2 | S5: =(1880*0.53*9.81)*R5 -> 1954.9368 | T5: =S5/1880 -> 1.03986 | U5: =IF(((1880*0.47*9.81)*R5)>$P$4,$P$4,(1880*0.47*9.81)*R5) -> 1733.6232 | V5: =S5+U5 -> 3688.56 | W5: =V5/1880 -> 1.962 | X5: =W5-T5 -> 0.92214
B6: 4 | C6: 1.285 | D6: =C6*3.88 -> 4.9858 | E6: =Data!$C$8/D6 -> 1203.4177 | R6: 0.6 | S6: =(1880*0.53*9.81)*R6 -> 5864.8104 | T6: =S6/1880 -> 3.11958 | U6: =IF(((1880*0.47*9.81)*R6)>$P$4,$P$4,(1880*0.47*9.81)*R6) -> 3205.327 | V6: =S6+U6 -> 9070.1374 | W6: =V6/1880 -> 4.8245412 | X6: =W6-T6 -> 1.7049612
B7: 5 | C7: 1.029 | D7: =C7*3.88 -> 3.99252 | E7: =Data!$C$8/D7 -> 1502.8103 | R7: 0.9 | S7: =(1880*0.53*9.81)*R7 -> 8797.2156 | T7: =S7/1880 -> 4.67937 | U7: =IF(((1880*0.47*9.81)*R7)>$P$4,$P$4,(1880*0.47*9.81)*R7) -> 3205.327 | V7: =S7+U7 -> 12002.543 | W7: =V7/1880 -> 6.3843312 | X7: =W7-T7 -> 1.7049612
B8: 6 | C8: 0.839 | D8: =C8*3.88 -> 3.25532 | E8: =Data!$C$8/D8 -> 1843.1368
B9: 7 | C9: 0.634 | D9: =C9*3.88 -> 2.45992 | E9: =Data!$C$8/D9 -> 2439.1037
B10: front gearbox | S10: Max Torque at One Front Wheel (Nm) | T10: Max Force Difference (N) | U10: Yaw Rate Moment (Nm) | V10: Rotational Acceleration Increase (rad/s^2)
B11: 1 | D11: =D4/1.06 -> 8.0015849 | E11: =Data!$C$8/D11 -> 749.85144 | S11: =D20 -> 546.50825 | T11: =S11/0.341 -> 1602.6635 | U11: =T11*(1.676/2) -> 1343.032 | V11: =U11/'Lumped Mass Model'!E8 -> 0.35976765
B12: 2 | D12: =D6/1.06 -> 4.7035849 | E12: =Data!$C$8/D12 -> 1275.6228
B15: Gear | C15: Difference in Angular Velocity @ 6000rpm | G15: Torque at each Clutch Pack | I15: Power Dissipated across Each Clutch Pack
B16: 1 | C16: =E11-E3 -> 294.62867 | D16: RPM | E16: =(C16/60)*2*PI() -> 30.853443 | F16: rad/sec | G16: =Data!C12*D11 -> 546.50825 | H16: Nm | I16: =G16*E16 -> 16861.661 | J16: W | K16: =I16/1000 -> 16.861661 | L16: kW
B17: 2 | C17: =E12-E5 -> 324.58233 | D17: RPM | E17: =(C17/60)*2*PI() -> 33.990182 | F17: rad/sec | G17: =Data!C12*D12 -> 321.25485 | H17: Nm | I17: =G17*E17 -> 10919.511 | J17: W | K17: =I17/1000 -> 10.919511 | L17: kW
B20: Torque Capacity | D20: =G16 -> 546.50825 | E20: Nm
B21: Clutch Pack Sizing (Mean Radius) | D21: 0.2 | E21: m
B22: Axial Force | D22: =D20/(4*0.1*D21) -> 6831.3531 | E22: N
