Workbook

Sheet Data
A1: Distance Between Data Points (m): | D1: CD: | E1: Frontal Area (m2): | F1: Air Density | G1: Gravity | H1: Mass of vehicle | I1: Mass of Fuel Tank | J1: Mass of Occupants | K1: Total Mass of Vehicle | L1: Weight Bias Rear | P1: Rolling Resistance Coefficients | T1: Surface Mu's | X1: Max Power (Kw) | Y1: Average Power (Kw) | AA1: Tractive Force (N) | AE1: Maximum Acceleration (m/s)
A2: =2069/158 -> 13.094937 | D2: 0.6 | E2: 1.35 | F2: 1.226 | G2: 9.81 | H2: 365 | I2: =(29*0.8)+5 -> 28.2 | J2: 124 | K2: =H2+I2+J2 -> 517.2 | L2: 0.6 | P2: RR Loose Gravel | Q2: RR Hard Soil/Mud | R2: RR Loose Sand | T2: Mu Loose Gravel | U2: Mu Hard Soil/Mud | V2: Mu Loose Sand | X2: =MAX(V6:V164) -> 13.162082 | Y2: =AVERAGE(Y6:Y164) -> 6.1418912 | AA2: Gravel | AB2: Soil | AC2: Sand | AE2: Gravel | AF2: Soil | AG2: Sand
P3: 0.06 | Q3: 0.08 | R3: 0.2 | T3: 0.6 | U3: 0.68 | V3: 0.36 | AA3: =T3*($K$2*$L$2*9.81) -> 1826.5435 | AB3: =U3*($K$2*$L$2*9.81) -> 2070.0827 | AC3: =V3*($K$2*$L$2*9.81) -> 1095.9261 | AE3: =AA3/$K$2 -> 3.5316 | AF3: =AB3/$K$2 -> 4.00248 | AG3: =AC3/$K$2 -> 2.11896
AP4: Speed (ms) | AQ4: RPM
A5: Latitude | B5: Longitude | C5: Elevation Above Sea | D5: Distance (m) | E5: Baseline Elevation | F5: Velocity (KM/H) | G5: Velocity (ms) | H5: Time (s) | I5: Total Time (s) | J5: Acceleration (m/s/s) | K5: Acceleration Resistance (N) | L5: Aerodynamic Resistance (N) | M5: Potential Energy (KJ) | N5: Kinetic Energy (KJ) | O5: Gradient | P5: Angle (Radians) | Q5: Angle (Degrees) | R5: Gradient Restistance (N) | S5: Rolling Resistance | T5: Total Resistance (KW) | U5: Power (KW) | V5: Total Power Corrected: | W5: Braking Power: | X5: Brakingf Power Cum.: | Y5: Tractive Power | Z5: Tractive Power Cum. | AA5: Corrected speed: | AB5: Gears: | AC5: RPM: | AD5: Power Lookup BSFC | AE5: RPM Lookup BSFC | AF5: BSFC | AG5: Fuel Usage (L/Hour | AH5: Fuel Usage Per Sec | AI5: Cum fuel Usage (L/S) | AJ5: Fuel usage g/s | AP5: 0 | AQ5: 500
A6: 53.30997 | B6: -0.05966 | C6: 106 | D6: 0 | E6: =C6-101 -> 5 | F6: 41 | G6: =F6/3.6 -> 11.388889 | H6: 0 | I6: =H6 -> 0 | J6: 0 | K6: =J6*$K$2 -> 0 | L6: =0.5*1.226*(G6^2)*$D$2*$E$2 -> 64.403313 | M6: =($K$2*$G$2*E6)/1000 -> 25.36866 | N6: =(0.5*$K$2*(G6^2))/1000 -> 33.542176 | O6: =((E7-E6)/$A$2) -> -0.15273079 | P6: =ATAN(O6) -> -0.15155957 | Q6: =P6*(180/PI()) -> -8.6837236 | R6: =($K$2*$G$2*SIN(Q6)) -> -3425.1046 | S6: =($P$3*($K$2*$G$2)) -> 304.42392 | T6: =(S6+R6+L6+K6)/1000 -> -3.0562773 | U6: =(T6*G6) -> -34.807603 | V6: =IF(U6>13.4,G6-0.5,U6) -> -34.807603 | W6: =IF(V6>0,0,V6) -> -34.807603 | X6: =W6 -> -34.807603 | Y6: =IF(V6<0,0,V6) -> 0 | Z6: =Y6 -> 0 | AA6: =V6/T6 -> 11.388889 | AB6: {=_xlfn.IFS(AA6<=4,1,AA6<=8,2,AA6>8,3)} -> 3 | AC6: =LOOKUP(AA6,$AP$5:$AP$46,$AQ$5:$AQ$46) -> 3332.9 | AD6: =IF(V6<0,1,MATCH(V6,BSFC!$P$21:$AD$21,1)) -> 1 | AE6: =MATCH(AC6,BSFC!$O$22:$O$36,1) -> 6 | AF6: {=INDEX(BSFC!$P$22:$AD$36,AD6,AE6)} -> 557 | AG6: =IF(V6<0,((V6=0)*AF6/760),V6*AF6/760) -> 0 | AH6: =AG6/3600 -> 0 | AI6: =AH6 -> 0 | AJ6: =(AI6/0.72)*1000 -> 0 | AP6: 0.33 | AQ6: 1000
A7: 53.30957 | B7: -0.05999 | C7: 104 | D7: =D6+$A$2 -> 13.094937 | E7: =C7-101 -> 3 | F7: 41.5 | G7: =F7/3.6 -> 11.527778 | H7: =(2*(D8-D7))/(G8+G7) -> 1.1291442 | I7: =I6+H7 -> 1.1291442 | J7: =(G7-G6)/(I7-I6) -> 0.12300367 | K7: =J7*$K$2 -> 63.6175 | L7: =0.5*1.226*(G7^2)*$D$2*$E$2 -> 65.983703 | M7: =($K$2*$G$2*E7)/1000 -> 15.221196 | N7: =(0.5*$K$2*(G7^2))/1000 -> 34.365266 | O7: =(E8-E7)/$A$2 -> 0.38182697 | P7: =ATAN(O7) -> 0.36474248 | Q7: =P7*(180/PI()) -> 20.898205 | R7: =($K$2*$G$2*SIN(Q7)) -> 4505.3952 | S7: =($P$3*($K$2*$G$2)) -> 304.42392 | T7: =(S7+R7+L7+K7)/1000 -> 4.9394203 | U7: =(T7*G7) -> 56.94054 | V7: =IF(U7>13.4,G7-0.5,U7) -> 11.027778 | W7: =IF(V7>0,0,V7) -> 0 | X7: =X6+W7 -> -34.807603 | Y7: =IF(V7<0,0,V7) -> 11.027778 | Z7: =Z6+Y7 -> 11.027778 | AA7: =V7/T7 -> 2.2326057 | AB7: {=_xlfn.IFS(AA7<=4,1,AA7<=8,2,AA7>8,3)} -> 1 | AC7: =LOOKUP(AA7,$AP$5:$AP$46,$AQ$5:$AQ$46) -> 3500 | AD7: =IF(V7<0,1,MATCH(V7,BSFC!$P$21:$AD$21,1)) -> 10 | AE7: =MATCH(AC7,BSFC!$O$22:$O$36,1) -> 7 | AF7: {=INDEX(BSFC!$P$22:$AD$36,AD7,AE7)} -> 426 | AG7: =IF(V7<0,((V7=0)*AF7/760),V7*AF7/760) -> 6.1813596 | AH7: =AG7/3600 -> 0.0017170443 | AI7: =AI6+AH7 -> 0.0017170443 | AJ7: =(AI7/0.72)*1000 -> 2.3847838 | AP7: 0.66 | AQ7: 1500
A8: 53.30922 | B8: -0.0602 | C8: 109 | D8: =D7+$A$2 -> 26.189873 | E8: =C8-101 -> 8 | F8: 42 | G8: =F8/3.6 -> 11.666667 | H8: =(2*(D9-D8))/(G9+G8) -> 1.0963203 | I8: =I7+H8 -> 2.2254645 | J8: =(G8-G7)/(I8-I7) -> 0.12668642 | K8: =J8*$K$2 -> 65.522215 | L8: =0.5*1.226*(G8^2)*$D$2*$E$2 -> 67.58325 | M8: =($K$2*$G$2*E8)/1000 -> 40.589856 | N8: =(0.5*$K$2*(G8^2))/1000 -> 35.198333 | O8: =(E9-E8)/$A$2 -> 0.45819236 | P8: =ATAN(O8) -> 0.42964578 | Q8: =P8*(180/PI()) -> 24.61689 | R8: =($K$2*$G$2*SIN(Q8)) -> -2502.7493 | S8: =($P$3*($K$2*$G$2)) -> 304.42392 | T8: =(S8+R8+L8+K8)/1000 -> -2.0652199 | U8: =(T8*G8) -> -24.094232 | V8: =IF(U8>13.4,G8-0.5,U8) -> -24.094232 | W8: =IF(V8>0,0,V8) -> -24.094232 | X8: =X7+W8 -> -58.901835 | Y8: =IF(V8<0,0,V8) -> 0 | Z8: =Z7+Y8 -> 11.027778 | AA8: =V8/T8 -> 11.666667 | AB8: {=_xlfn.IFS(AA8<=4,1,AA8<=8,2,AA8>8,3)} -> 3 | AC8: =LOOKUP(AA8,$AP$5:$AP$46,$AQ$5:$AQ$46) -> 3332.9 | AD8: =IF(V8<0,1,MATCH(V8,BSFC!$P$21:$AD$21,1)) -> 1 | AE8: =MATCH(AC8,BSFC!$O$22:$O$36,1) -> 6 | AF8: {=INDEX(BSFC!$P$22:$AD$36,AD8,AE8)} -> 557 | AG8: =IF(V8<0,((V8=0)*AF8/760),V8*AF8/760) -> 0 | AH8: =AG8/3600 -> 0 | AI8: =AI7+AH8 -> 0.0017170443 | AJ8: =(AI8/0.72)*1000 -> 2.3847838 | AP8: 1 | AQ8: 2000
A9: 53.30894 | B9: -0.06038 | C9: 115 | D9: =D8+$A$2 -> 39.28481 | E9: =C9-101 -> 14 | F9: 44 | G9: =F9/3.6 -> 12.222222 | H9: =(2*(D10-D9))/(G10+G9) -> 1.0165561 | I9: =I8+H9 -> 3.2420206 | J9: =(G9-G8)/(I9-I8) -> 0.54650753 | K9: =J9*$K$2 -> 282.65369 | L9: =0.5*1.226*(G9^2)*$D$2*$E$2 -> 74.173 | M9: =($K$2*$G$2*E9)/1000 -> 71.032248 | N9: =(0.5*$K$2*(G9^2))/1000 -> 38.63037 | O9: =(E10-E9)/$A$2 -> 0.38182697 | P9: =ATAN(O9) -> 0.36474248 | Q9: =P9*(180/PI()) -> 20.898205 | R9: =($K$2*$G$2*SIN(Q9)) -> 4505.3952 | S9: =($P$3*($K$2*$G$2)) -> 304.42392 | T9: =(S9+R9+L9+K9)/1000 -> 5.1666458 | U9: =(T9*G9) -> 63.147893 | V9: =IF(U9>13.4,G9-0.5,U9) -> 11.722222 | W9: =IF(V9>0,0,V9) -> 0 | X9: =X8+W9 -> -58.901835 | Y9: =IF(V9<0,0,V9) -> 11.722222 | Z9: =Z8+Y9 -> 22.75 | AA9: =V9/T9 -> 2.2688264 | AB9: {=_xlfn.IFS(AA9<=4,1,AA9<=8,2,AA9>8,3)} -> 1 | AC9: =LOOKUP(AA9,$AP$5:$AP$46,$AQ$5:$AQ$46) -> 3500 | AD9: =IF(V9<0,1,MATCH(V9,BSFC!$P$21:$AD$21,1)) -> 10 | AE9: =MATCH(AC9,BSFC!$O$22:$O$36,1) -> 7 | AF9: {=INDEX(BSFC!$P$22:$AD$36,AD9,AE9)} -> 426 | AG9: =IF(V9<0,((V9=0)*AF9/760),V9*AF9/760) -> 6.570614 | AH9: =AG9/3600 -> 0.0018251706 | AI9: =AI8+AH9 -> 0.0035422149 | AJ9: =(AI9/0.72)*1000 -> 4.9197429 | AP9: 1.33 | AQ9: 2500
A10: 53.30856 | B10: -0.06054 | C10: 120 | D10: =D9+$A$2 -> 52.379747 | E10: =C10-101 -> 19 | F10: 48.748 | G10: =F10/3.6 -> 13.541111 | H10: =(2*(D11-D10))/(G11+G10) -> 0.96705038 | I10: =I9+H10 -> 4.209071 | J10: =(G10-G9)/(I10-I9) -> 1.3638264 | K10: =J10*$K$2 -> 705.37104 | L10: =0.5*1.226*(G10^2)*$D$2*$E$2 -> 91.04458 | M10: =($K$2*$G$2*E10)/1000 -> 96.400908 | N10: =(0.5*$K$2*(G10^2))/1000 -> 47.417333 | O10: =(E11-E10)/$A$2 -> 0.22909618 | P10: =ATAN(O10) -> 0.22520981 | Q10: =P10*(180/PI()) -> 12.903572 | R10: =($K$2*$G$2*SIN(Q10)) -> 1678.6292 | S10: =($P$3*($K$2*$G$2)) -> 304.42392 | T10: =(S10+R10+L10+K10)/1000 -> 2.7794687 | U10: =(T10*G10) -> 37.637095 | V10: =IF(U10>13.4,G10-0.5,U10) -> 13.041111 | W10: =IF(V10>0,0,V10) -> 0 | X10: =X9+W10 -> -58.901835 | Y10: =IF(V10<0,0,V10) -> 13.041111 | Z10: =Z9+Y10 -> 35.791111 | AA10: =V10/T10 -> 4.6919438 | AB10: {=_xlfn.IFS(AA10<=4,1,AA10<=8,2,AA10>8,3)} -> 2 | AC10: =LOOKUP(AA10,$AP$5:$AP$46,$AQ$5:$AQ$46) -> 1000 | AD10: =IF(V10<0,1,MATCH(V10,BSFC!$P$21:$AD$21,1)) -> 11 | AE10: =MATCH(AC10,BSFC!$O$22:$O$36,1) -> 2 | AF10: {=INDEX(BSFC!$P$22:$AD$36,AD10,AE10)} -> 525 | AG10: =IF(V10<0,((V10=0)*AF10/760),V10*AF10/760) -> 9.0086623 | AH10: =AG10/3600 -> 0.0025024062 | AI10: =AI9+AH10 -> 0.0060446211 | AJ10: =(AI10/0.72)*1000 -> 8.3953071 | AP10: 1.66 | AQ10: 3000
A11: 53.30829 | B11: -0.06072 | C11: 123 | D11: =D10+$A$2 -> 65.474684 | E11: =C11-101 -> 22 | F11: 48.748 | G11: =F11/3.6 -> 13.541111 | H11: =(2*(D12-D11))/(G12+G11) -> 0.96705038 | I11: =I10+H11 -> 5.1761214 | J11: =(G11-G10)/(I11-I10) -> 0 | K11: =J11*$K$2 -> 0 | L11: =0.5*1.226*(G11^2)*$D$2*$E$2 -> 91.04458 | M11: =($K$2*$G$2*E11)/1000 -> 111.6221 | N11: =(0.5*$K$2*(G11^2))/1000 -> 47.417333 | O11: =(E12-E11)/$A$2 -> -0.076365394 | P11: =ATAN(O11) -> -0.076217465 | Q11: =P11*(180/PI()) -> -4.3669391 | R11: =($K$2*$G$2*SIN(Q11)) -> 4773.9922 | S11: =($P$3*($K$2*$G$2)) -> 304.42392 | T11: =(S11+R11+L11+K11)/1000 -> 5.1694607 | U11: =(T11*G11) -> 70.000241 | V11: =IF(U11>13.4,G11-0.5,U11) -> 13.041111 | W11: =IF(V11>0,0,V11) -> 0 | X11: =X10+W11 -> -58.901835 | Y11: =IF(V11<0,0,V11) -> 13.041111 | Z11: =Z10+Y11 -> 48.832222 | AA11: =V11/T11 -> 2.5227218 | AB11: {=_xlfn.IFS(AA11<=4,1,AA11<=8,2,AA11>8,3)} -> 1 | AC11: =LOOKUP(AA11,$AP$5:$AP$46,$AQ$5:$AQ$46) -> 4000 | AD11: =IF(V11<0,1,MATCH(V11,BSFC!$P$21:$AD$21,1)) -> 11 | AE11: =MATCH(AC11,BSFC!$O$22:$O$36,1) -> 8 | AF11: {=INDEX(BSFC!$P$22:$AD$36,AD11,AE11)} -> 431 | AG11: =IF(V11<0,((V11=0)*AF11/760),V11*AF11/760) -> 7.3956827 | AH11: =AG11/3600 -> 0.0020543563 | AI11: =AI10+AH11 -> 0.0080989774 | AJ11: =(AI11/0.72)*1000 -> 11.24858 | AP11: 2 | AQ11: 3500
A12: 53.30807 | B12: -0.06084 | C12: 122 | D12: =D11+$A$2 -> 78.56962 | E12: =C12-101 -> 21 | F12: 48.748 | G12: =F12/3.6 -> 13.541111 | H12: =(2*(D13-D12))/(G13+G12) -> 1.0355367 | I12: =I11+H12 -> 6.2116581 | J12: =(G12-G11)/(I12-I11) -> 0 | K12: =J12*$K$2 -> 0 | L12: =0.5*1.226*(G12^2)*$D$2*$E$2 -> 91.04458 | M12: =($K$2*$G$2*E12)/1000 -> 106.54837 | N12: =(0.5*$K$2*(G12^2))/1000 -> 47.417333 | O12: =(E13-E12)/$A$2 -> -0.076365394 | P12: =ATAN(O12) -> -0.076217465 | Q12: =P12*(180/PI()) -> -4.3669391 | R12: =($K$2*$G$2*SIN(Q12)) -> 4773.9922 | S12: =($P$3*($K$2*$G$2)) -> 304.42392 | T12: =(S12+R12+L12+K12)/1000 -> 5.1694607 | U12: =(T12*G12) -> 70.000241 | V12: =IF(U12>13.4,G12-0.5,U12) -> 13.041111 | W12: =IF(V12>0,0,V12) -> 0 | X12: =X11+W12 -> -58.901835 | Y12: =IF(V12<0,0,V12) -> 13.041111 | Z12: =Z11+Y12 -> 61.873333 | AA12: =V12/T12 -> 2.5227218 | AB12: {=_xlfn.IFS(AA12<=4,1,AA12<=8,2,AA12>8,3)} -> 1 | AC12: =LOOKUP(AA12,$AP$5:$AP$46,$AQ$5:$AQ$46) -> 4000 | AD12: =IF(V12<0,1,MATCH(V12,BSFC!$P$21:$AD$21,1)) -> 11 | AE12: =MATCH(AC12,BSFC!$O$22:$O$36,1) -> 8 | AF12: {=INDEX(BSFC!$P$22:$AD$36,AD12,AE12)} -> 431 | AG12: =IF(V12<0,((V12=0)*AF12/760),V12*AF12/760) -> 7.3956827 | AH12: =AG12/3600 -> 0.0020543563 | AI12: =AI11+AH12 -> 0.010153334 | AJ12: =(AI12/0.72)*1000 -> 14.101852 | AP12: 2.33 | AQ12: 4000
A13: 53.30787 | B13: -0.06095 | C13: 121 | D13: =D12+$A$2 -> 91.664557 | E13: =C13-101 -> 20 | F13: 42.3 | G13: =F13/3.6 -> 11.75 | H13: =(2*(D14-D13))/(G14+G13) -> 1.2041321 | I13: =I12+H13 -> 7.4157902 | J13: =(G13-G12)/(I13-I12) -> -1.4874706 | K13: =J13*$K$2 -> -769.31979 | L13: =0.5*1.226*(G13^2)*$D$2*$E$2 -> 68.552173 | M13: =($K$2*$G$2*E13)/1000 -> 101.47464 | N13: =(0.5*$K$2*(G13^2))/1000 -> 35.702962 | O13: =(E14-E13)/$A$2 -> 0 | P13: =ATAN(O13) -> 0 | Q13: =P13*(180/PI()) -> 0 | R13: =($K$2*$G$2*SIN(Q13)) -> 0 | S13: =($P$3*($K$2*$G$2)) -> 304.42392 | T13: =(S13+R13+L13+K13)/1000 -> -0.3963437 | U13: =(T13*G13) -> -4.6570385 | V13: =IF(U13>13.4,G13-0.5,U13) -> -4.6570385 | W13: =IF(V13>0,0,V13) -> -4.6570385 | X13: =X12+W13 -> -63.558874 | Y13: =IF(V13<0,0,V13) -> 0 | Z13: =Z12+Y13 -> 61.873333 | AA13: =V13/T13 -> 11.75 | AB13: {=_xlfn.IFS(AA13<=4,1,AA13<=8,2,AA13>8,3)} -> 3 | AC13: =LOOKUP(AA13,$AP$5:$AP$46,$AQ$5:$AQ$46) -> 3666.2 | AD13: =IF(V13<0,1,MATCH(V13,BSFC!$P$21:$AD$21,1)) -> 1 | AE13: =MATCH(AC13,BSFC!$O$22:$O$36,1) -> 7 | AF13: {=INDEX(BSFC!$P$22:$AD$36,AD13,AE13)} -> 544 | AG13: =IF(V13<0,((V13=0)*AF13/760),V13*AF13/760) -> 0 | AH13: =AG13/3600 -> 0 | AI13: =AI12+AH13 -> 0.010153334 | AJ13: =(AI13/0.72)*1000 -> 14.101852 | AP13: 2.66 | AQ13: 4500
A14: 53.3076 | B14: -0.06103 | C14: 121 | D14: =D13+$A$2 -> 104.75949 | E14: =C14-101 -> 20 | F14: 36 | G14: =F14/3.6 -> 10 | H14: =(2*(D15-D14))/(G15+G14) -> 1.5713924 | I14: =I13+H14 -> 8.9871826 | J14: =(G14-G13)/(I14-I13) -> -1.113662 | K14: =J14*$K$2 -> -575.98598 | L14: =0.5*1.226*(G14^2)*$D$2*$E$2 -> 49.653 | M14: =($K$2*$G$2*E14)/1000 -> 101.47464 | N14: =(0.5*$K$2*(G14^2))/1000 -> 25.86 | O14: =(E15-E14)/$A$2 -> 0 | P14: =ATAN(O14) -> 0 | Q14: =P14*(180/PI()) -> 0 | R14: =($K$2*$G$2*SIN(Q14)) -> 0 | S14: =($P$3*($K$2*$G$2)) -> 304.42392 | T14: =(S14+R14+L14+K14)/1000 -> -0.22190906 | U14: =(T14*G14) -> -2.2190906 | V14: =IF(U14>13.4,G14-0.5,U14) -> -2.2190906 | W14: =IF(V14>0,0,V14) -> -2.2190906 | X14: =X13+W14 -> -65.777964 | Y14: =IF(V14<0,0,V14) -> 0 | Z14: =Z13+Y14 -> 61.873333 | AA14: =V14/T14 -> 10 | AB14: {=_xlfn.IFS(AA14<=4,1,AA14<=8,2,AA14>8,3)} -> 3 | AC14: =LOOKUP(AA14,$AP$5:$AP$46,$AQ$5:$AQ$46) -> 1666 | AD14: =IF(V14<0,1,MATCH(V14,BSFC!$P$21:$AD$21,1)) -> 1 | AE14: =MATCH(AC14,BSFC!$O$22:$O$36,1) -> 3 | AF14: {=INDEX(BSFC!$P$22:$AD$36,AD14,AE14)} -> 584 | AG14: =IF(V14<0,((V14=0)*AF14/760),V14*AF14/760) -> 0 | AH14: =AG14/3600 -> 0 | AI14: =AI13+AH14 -> 0.010153334 | AJ14: =(AI14/0.72)*1000 -> 14.101852 | AP14: 3 | AQ14: 5000
A15: 53.30747 | B15: -0.061 | C15: 121 | D15: =D14+$A$2 -> 117.85443 | E15: =C15-101 -> 20 | F15: 24 | G15: =F15/3.6 -> 6.6666667 | H15: =(2*(D16-D15))/(G16+G15) -> 1.7142463 | I15: =I14+H15 -> 10.701429 | J15: =(G15-G14)/(I15-I14) -> -1.9444892 | K15: =J15*$K$2 -> -1005.6898 | L15: =0.5*1.226*(G15^2)*$D$2*$E$2 -> 22.068 | M15: =($K$2*$G$2*E15)/1000 -> 101.47464 | N15: =(0.5*$K$2*(G15^2))/1000 -> 11.493333 | O15: =(E16-E15)/$A$2 -> 0.15273079 | P15: =ATAN(O15) -> 0.15155957 | Q15: =P15*(180/PI()) -> 8.6837236 | R15: =($K$2*$G$2*SIN(Q15)) -> 3425.1046 | S15: =($P$3*($K$2*$G$2)) -> 304.42392 | T15: =(S15+R15+L15+K15)/1000 -> 2.7459067 | U15: =(T15*G15) -> 18.306044 | V15: =IF(U15>13.4,G15-0.5,U15) -> 6.1666667 | W15: =IF(V15>0,0,V15) -> 0 | X15: =X14+W15 -> -65.777964 | Y15: =IF(V15<0,0,V15) -> 6.1666667 | Z15: =Z14+Y15 -> 68.04 | AA15: =V15/T15 -> 2.245767 | AB15: {=_xlfn.IFS(AA15<=4,1,AA15<=8,2,AA15>8,3)} -> 1 | AC15: =LOOKUP(AA15,$AP$5:$AP$46,$AQ$5:$AQ$46) -> 3500 | AD15: =IF(V15<0,1,MATCH(V15,BSFC!$P$21:$AD$21,1)) -> 6 | AE15: =MATCH(AC15,BSFC!$O$22:$O$36,1) -> 7 | AF15: {=INDEX(BSFC!$P$22:$AD$36,AD15,AE15)} -> 446 | AG15: =IF(V15<0,((V15=0)*AF15/760),V15*AF15/760) -> 3.6188596 | AH15: =AG15/3600 -> 0.0010052388 | AI15: =AI14+AH15 -> 0.011158573 | AJ15: =(AI15/0.72)*1000 -> 15.498017 | AP15: 3.33 | AQ15: 5500
A16: 53.30717 | B16: -0.06085 | C16: 123 | D16: =D15+$A$2 -> 130.94937 | E16: =C16-101 -> 22 | F16: 31 | G16: =F16/3.6 -> 8.6111111 | H16: =(2*(D17-D16))/(G17+G16) -> 1.3664282 | I16: =I15+H16 -> 12.067857 | J16: =(G16-G15)/(I16-I15) -> 1.4230125 | K16: =J16*$K$2 -> 735.98209 | L16: =0.5*1.226*(G16^2)*$D$2*$E$2 -> 36.818312 | M16: =($K$2*$G$2*E16)/1000 -> 111.6221 | N16: =(0.5*$K$2*(G16^2))/1000 -> 19.175509 | O16: =(E17-E16)/$A$2 -> 0.076365394 | P16: =ATAN(O16) -> 0.076217465 | Q16: =P16*(180/PI()) -> 4.3669391 | R16: =($K$2*$G$2*SIN(Q16)) -> -4773.9922 | S16: =($P$3*($K$2*$G$2)) -> 304.42392 | T16: =(S16+R16+L16+K16)/1000 -> -3.6967678 | U16: =(T16*G16) -> -31.833279 | V16: =IF(U16>13.4,G16-0.5,U16) -> -31.833279 | W16: =IF(V16>0,0,V16) -> -31.833279 | X16: =X15+W16 -> -97.611243 | Y16: =IF(V16<0,0,V16) -> 0 | Z16: =Z15+Y16 -> 68.04 | AA16: =V16/T16 -> 8.6111111 | AB16: {=_xlfn.IFS(AA16<=4,1,AA16<=8,2,AA16>8,3)} -> 3 | AC16: 500 | AD16: =IF(V16<0,1,MATCH(V16,BSFC!$P$21:$AD$21,1)) -> 1 | AE16: =MATCH(AC16,BSFC!$O$22:$O$36,1) -> 1 | AF16: {=INDEX(BSFC!$P$22:$AD$36,AD16,AE16)} -> 600 | AG16: =IF(V16<0,((V16=0)*AF16/760),V16*AF16/760) -> 0 | AH16: =AG16/3600 -> 0 | AI16: =AI15+AH16 -> 0.011158573 | AJ16: =(AI16/0.72)*1000 -> 15.498017 | AP16: 3.66 | AQ16: 6000
A17: 53.30684 | B17: -0.06058 | C17: 124 | D17: =D16+$A$2 -> 144.0443 | E17: =C17-101 -> 23 | F17: 38 | G17: =F17/3.6 -> 10.555556 | H17: =(2*(D18-D17))/(G18+G17) -> 1.1497993 | I17: =I16+H17 -> 13.217656 | J17: =(G17-G16)/(I17-I16) -> 1.6911164 | K17: =J17*$K$2 -> 874.64538 | L17: =0.5*1.226*(G17^2)*$D$2*$E$2 -> 55.32325 | M17: =($K$2*$G$2*E17)/1000 -> 116.69584 | N17: =(0.5*$K$2*(G17^2))/1000 -> 28.813148 | O17: =(E18-E17)/$A$2 -> 0.076365394 | P17: =ATAN(O17) -> 0.076217465 | Q17: =P17*(180/PI()) -> 4.3669391 | R17: =($K$2*$G$2*SIN(Q17)) -> -4773.9922 | S17: =($P$3*($K$2*$G$2)) -> 304.42392 | T17: =(S17+R17+L17+K17)/1000 -> -3.5395996 | U17: =(T17*G17) -> -37.36244 | V17: =IF(U17>13.4,G17-0.5,U17) -> -37.36244 | W17: =IF(V17>0,0,V17) -> -37.36244 | X17: =X16+W17 -> -134.97368 | Y17: =IF(V17<0,0,V17) -> 0 | Z17: =Z16+Y17 -> 68.04 | AA17: =V17/T17 -> 10.555556 | AB17: {=_xlfn.IFS(AA17<=4,1,AA17<=8,2,AA17>8,3)} -> 3 | AC17: =LOOKUP(AA17,$AP$5:$AP$46,$AQ$5:$AQ$46) -> 2333 | AD17: =IF(V17<0,1,MATCH(V17,BSFC!$P$21:$AD$21,1)) -> 1 | AE17: =MATCH(AC17,BSFC!$O$22:$O$36,1) -> 4 | AF17: {=INDEX(BSFC!$P$22:$AD$36,AD17,AE17)} -> 577 | AG17: =IF(V17<0,((V17=0)*AF17/760),V17*AF17/760) -> 0 | AH17: =AG17/3600 -> 0 | AI17: =AI16+AH17 -> 0.011158573 | AJ17: =(AI17/0.72)*1000 -> 15.498017 | AP17: 4 | AQ17: 6500
A18: 53.30657 | B18: -0.06033 | C18: 125 | D18: =D17+$A$2 -> 157.13924 | E18: =C18-101 -> 24 | F18: 44 | G18: =F18/3.6 -> 12.222222 | H18: =(2*(D19-D18))/(G19+G18) -> 1.0360829 | I18: =I17+H18 -> 14.253739 | J18: =(G18-G17)/(I18-I17) -> 1.6086229 | K18: =J18*$K$2 -> 831.97975 | L18: =0.5*1.226*(G18^2)*$D$2*$E$2 -> 74.173 | M18: =($K$2*$G$2*E18)/1000 -> 121.76957 | N18: =(0.5*$K$2*(G18^2))/1000 -> 38.63037 | O18: =(E19-E18)/$A$2 -> 0.076365394 | P18: =ATAN(O18) -> 0.076217465 | Q18: =P18*(180/PI()) -> 4.3669391 | R18: =($K$2*$G$2*SIN(Q18)) -> -4773.9922 | S18: =($P$3*($K$2*$G$2)) -> 304.42392 | T18: =(S18+R18+L18+K18)/1000 -> -3.5634155 | U18: =(T18*G18) -> -43.552856 | V18: =IF(U18>13.4,G18-0.5,U18) -> -43.552856 | W18: =IF(V18>0,0,V18) -> -43.552856 | X18: =X17+W18 -> -178.52654 | Y18: =IF(V18<0,0,V18) -> 0 | Z18: =Z17+Y18 -> 68.04 | AA18: =V18/T18 -> 12.222222 | AB18: {=_xlfn.IFS(AA18<=4,1,AA18<=8,2,AA18>8,3)} -> 3 | AC18: =LOOKUP(AA18,$AP$5:$AP$46,$AQ$5:$AQ$46) -> 3999.5 | AD18: =IF(V18<0,1,MATCH(V18,BSFC!$P$21:$AD$21,1)) -> 1 | AE18: =MATCH(AC18,BSFC!$O$22:$O$36,1) -> 7 | AF18: {=INDEX(BSFC!$P$22:$AD$36,AD18,AE18)} -> 544 | AG18: =IF(V18<0,((V18=0)*AF18/760),V18*AF18/760) -> 0 | AH18: =AG18/3600 -> 0 | AI18: =AI17+AH18 -> 0.011158573 | AJ18: =(AI18/0.72)*1000 -> 15.498017 | AP18: 4.33 | AQ18: 500
A19: 53.30635 | B19: -0.06009 | C19: 126 | D19: =D18+$A$2 -> 170.23418 | E19: =C19-101 -> 25 | F19: 47 | G19: =F19/3.6 -> 13.055556 | H19: =(2*(D20-D19))/(G20+G19) -> 0.9847051 | I19: =I18+H19 -> 15.238444 | J19: =(G19-G18)/(I19-I18) -> 0.84627705 | K19: =J19*$K$2 -> 437.69449 | L19: =0.5*1.226*(G19^2)*$D$2*$E$2 -> 84.632312 | M19: =($K$2*$G$2*E19)/1000 -> 126.8433 | N19: =(0.5*$K$2*(G19^2))/1000 -> 44.077731 | O19: =(E20-E19)/$A$2 -> 0.15273079 | P19: =ATAN(O19) -> 0.15155957 | Q19: =P19*(180/PI()) -> 8.6837236 | R19: =($K$2*$G$2*SIN(Q19)) -> 3425.1046 | S19: =($P$3*($K$2*$G$2)) -> 304.42392 | T19: =(S19+R19+L19+K19)/1000 -> 4.2518553 | U19: =(T19*G19) -> 55.510333 | V19: =IF(U19>13.4,G19-0.5,U19) -> 12.555556 | W19: =IF(V19>0,0,V19) -> 0 | X19: =X18+W19 -> -178.52654 | Y19: =IF(V19<0,0,V19) -> 12.555556 | Z19: =Z18+Y19 -> 80.595556 | AA19: =V19/T19 -> 2.9529593 | AB19: {=_xlfn.IFS(AA19<=4,1,AA19<=8,2,AA19>8,3)} -> 1 | AC19: =LOOKUP(AA19,$AP$5:$AP$46,$AQ$5:$AQ$46) -> 4500 | AD19: =IF(V19<0,1,MATCH(V19,BSFC!$P$21:$AD$21,1)) -> 10 | AE19: =MATCH(AC19,BSFC!$O$22:$O$36,1) -> 9 | AF19: {=INDEX(BSFC!$P$22:$AD$36,AD19,AE19)} -> 415 | AG19: =IF(V19<0,((V19=0)*AF19/760),V19*AF19/760) -> 6.8559942 | AH19: =AG19/3600 -> 0.0019044428 | AI19: =AI18+AH19 -> 0.013063015 | AJ19: =(AI19/0.72)*1000 -> 18.143077 | AP19: 4.66 | AQ19: 1000
A20: 53.30616 | B20: -0.05996 | C20: 128 | D20: =D19+$A$2 -> 183.32911 | E20: =C20-101 -> 27 | F20: 48.748 | G20: =F20/3.6 -> 13.541111 | H20: =(2*(D21-D20))/(G21+G20) -> 0.96705038 | I20: =I19+H20 -> 16.205495 | J20: =(G20-G19)/(I20-I19) -> 0.50209954 | K20: =J20*$K$2 -> 259.68588 | L20: =0.5*1.226*(G20^2)*$D$2*$E$2 -> 91.04458 | M20: =($K$2*$G$2*E20)/1000 -> 136.99076 | N20: =(0.5*$K$2*(G20^2))/1000 -> 47.417333 | O20: =(E21-E20)/$A$2 -> 0.15273079 | P20: =ATAN(O20) -> 0.15155957 | Q20: =P20*(180/PI()) -> 8.6837236 | R20: =($K$2*$G$2*SIN(Q20)) -> 3425.1046 | S20: =($P$3*($K$2*$G$2)) -> 304.42392 | T20: =(S20+R20+L20+K20)/1000 -> 4.0802589 | U20: =(T20*G20) -> 55.25124 | V20: =IF(U20>13.4,G20-0.5,U20) -> 13.041111 | W20: =IF(V20>0,0,V20) -> 0 | X20: =X19+W20 -> -178.52654 | Y20: =IF(V20<0,0,V20) -> 13.041111 | Z20: =Z19+Y20 -> 93.636667 | AA20: =V20/T20 -> 3.1961479 | AB20: {=_xlfn.IFS(AA20<=4,1,AA20<=8,2,AA20>8,3)} -> 1 | AC20: =LOOKUP(AA20,$AP$5:$AP$46,$AQ$5:$AQ$46) -> 5000 | AD20: =IF(V20<0,1,MATCH(V20,BSFC!$P$21:$AD$21,1)) -> 11 | AE20: =MATCH(AC20,BSFC!$O$22:$O$36,1) -> 10 | AF20: {=INDEX(BSFC!$P$22:$AD$36,AD20,AE20)} -> 394 | AG20: =IF(V20<0,((V20=0)*AF20/760),V20*AF20/760) -> 6.7607865 | AH20: =AG20/3600 -> 0.0018779963 | AI20: =AI19+AH20 -> 0.014941012 | AJ20: =(AI20/0.72)*1000 -> 20.751405 | AP20: 5 | AQ20: 1500
A21: 53.30598 | B21: -0.05994 | C21: 130 | D21: =D20+$A$2 -> 196.42405 | E21: =C21-101 -> 29 | F21: 48.748 | G21: =F21/3.6 -> 13.541111 | H21: =(2*(D22-D21))/(G22+G21) -> 1.0057126 | I21: =I20+H21 -> 17.211207 | J21: =(G21-G20)/(I21-I20) -> 0 | K21: =J21*$K$2 -> 0 | L21: =0.5*1.226*(G21^2)*$D$2*$E$2 -> 91.04458 | M21: =($K$2*$G$2*E21)/1000 -> 147.13823 | N21: =(0.5*$K$2*(G21^2))/1000 -> 47.417333 | O21: =(E22-E21)/$A$2 -> 0.22909618 | P21: =ATAN(O21) -> 0.22520981 | Q21: =P21*(180/PI()) -> 12.903572 | R21: =($K$2*$G$2*SIN(Q21)) -> 1678.6292 | S21: =($P$3*($K$2*$G$2)) -> 304.42392 | T21: =(S21+R21+L21+K21)/1000 -> 2.0740977 | U21: =(T21*G21) -> 28.085587 | V21: =IF(U21>13.4,G21-0.5,U21) -> 13.041111 | W21: =IF(V21>0,0,V21) -> 0 | X21: =X20+W21 -> -178.52654 | Y21: =IF(V21<0,0,V21) -> 13.041111 | Z21: =Z20+Y21 -> 106.67778 | AA21: =V21/T21 -> 6.287607 | AB21: {=_xlfn.IFS(AA21<=4,1,AA21<=8,2,AA21>8,3)} -> 2 | AC21: =LOOKUP(AA21,$AP$5:$AP$46,$AQ$5:$AQ$46) -> 3000 | AD21: =IF(V21<0,1,MATCH(V21,BSFC!$P$21:$AD$21,1)) -> 11 | AE21: =MATCH(AC21,BSFC!$O$22:$O$36,1) -> 6 | AF21: {=INDEX(BSFC!$P$22:$AD$36,AD21,AE21)} -> 449 | AG21: =IF(V21<0,((V21=0)*AF21/760),V21*AF21/760) -> 7.7045512 | AH21: =AG21/3600 -> 0.0021401531 | AI21: =AI20+AH21 -> 0.017081165 | AJ21: =(AI21/0.72)*1000 -> 23.72384 | AP21: 5.33 | AQ21: 2000
A22: 53.30578 | B22: -0.06003 | C22: 133 | D22: =D21+$A$2 -> 209.51899 | E22: =C22-101 -> 32 | F22: 45 | G22: =F22/3.6 -> 12.5 | H22: =(2*(D23-D22))/(G23+G22) -> 1.1092182 | I22: =I21+H22 -> 18.320426 | J22: =(G22-G21)/(I22-I21) -> -0.93859904 | K22: =J22*$K$2 -> -485.44342 | L22: =0.5*1.226*(G22^2)*$D$2*$E$2 -> 77.582813 | M22: =($K$2*$G$2*E22)/1000 -> 162.35942 | N22: =(0.5*$K$2*(G22^2))/1000 -> 40.40625 | O22: =(E23-E22)/$A$2 -> 0.076365394 | P22: =ATAN(O22) -> 0.076217465 | Q22: =P22*(180/PI()) -> 4.3669391 | R22: =($K$2*$G$2*SIN(Q22)) -> -4773.9922 | S22: =($P$3*($K$2*$G$2)) -> 304.42392 | T22: =(S22+R22+L22+K22)/1000 -> -4.8774289 | U22: =(T22*G22) -> -60.967861 | V22: =IF(U22>13.4,G22-0.5,U22) -> -60.967861 | W22: =IF(V22>0,0,V22) -> -60.967861 | X22: =X21+W22 -> -239.4944 | Y22: =IF(V22<0,0,V22) -> 0 | Z22: =Z21+Y22 -> 106.67778 | AA22: =V22/T22 -> 12.5 | AB22: {=_xlfn.IFS(AA22<=4,1,AA22<=8,2,AA22>8,3)} -> 3 | AC22: =LOOKUP(AA22,$AP$5:$AP$46,$AQ$5:$AQ$46) -> 4332.8 | AD22: =IF(V22<0,1,MATCH(V22,BSFC!$P$21:$AD$21,1)) -> 1 | AE22: =MATCH(AC22,BSFC!$O$22:$O$36,1) -> 8 | AF22: {=INDEX(BSFC!$P$22:$AD$36,AD22,AE22)} -> 530 | AG22: =IF(V22<0,((V22=0)*AF22/760),V22*AF22/760) -> 0 | AH22: =AG22/3600 -> 0 | AI22: =AI21+AH22 -> 0.017081165 | AJ22: =(AI22/0.72)*1000 -> 23.72384 | AP22: 5.66 | AQ22: 2500
A23: 53.30556 | B23: -0.06017 | C23: 134 | D23: =D22+$A$2 -> 222.61392 | E23: =C23-101 -> 33 | F23: 40 | G23: =F23/3.6 -> 11.111111 | H23: =(2*(D24-D23))/(G24+G23) -> 1.2571139 | I23: =I22+H23 -> 19.577539 | J23: =(G23-G22)/(I23-I22) -> -1.1048234 | K23: =J23*$K$2 -> -571.41467 | L23: =0.5*1.226*(G23^2)*$D$2*$E$2 -> 61.3 | M23: =($K$2*$G$2*E23)/1000 -> 167.43316 | N23: =(0.5*$K$2*(G23^2))/1000 -> 31.925926 | O23: =(E24-E23)/$A$2 -> 0.15273079 | P23: =ATAN(O23) -> 0.15155957 | Q23: =P23*(180/PI()) -> 8.6837236 | R23: =($K$2*$G$2*SIN(Q23)) -> 3425.1046 | S23: =($P$3*($K$2*$G$2)) -> 304.42392 | T23: =(S23+R23+L23+K23)/1000 -> 3.2194138 | U23: =(T23*G23) -> 35.771265 | V23: =IF(U23>13.4,G23-0.5,U23) -> 10.611111 | W23: =IF(V23>0,0,V23) -> 0 | X23: =X22+W23 -> -239.4944 | Y23: =IF(V23<0,0,V23) -> 10.611111 | Z23: =Z22+Y23 -> 117.28889 | AA23: =V23/T23 -> 3.2959761 | AB23: {=_xlfn.IFS(AA23<=4,1,AA23<=8,2,AA23>8,3)} -> 1 | AC23: =LOOKUP(AA23,$AP$5:$AP$46,$AQ$5:$AQ$46) -> 5000 | AD23: =IF(V23<0,1,MATCH(V23,BSFC!$P$21:$AD$21,1)) -> 9 | AE23: =MATCH(AC23,BSFC!$O$22:$O$36,1) -> 10 | AF23: {=INDEX(BSFC!$P$22:$AD$36,AD23,AE23)} -> 394 | AG23: =IF(V23<0,((V23=0)*AF23/760),V23*AF23/760) -> 5.5010234 | AH23: =AG23/3600 -> 0.0015280621 | AI23: =AI22+AH23 -> 0.018609227 | AJ23: =(AI23/0.72)*1000 -> 25.846148 | AP23: 6 | AQ23: 3000
A24: 53.30526 | B24: -0.06047 | C24: 136 | D24: =D23+$A$2 -> 235.70886 | E24: =C24-101 -> 35 | F24: 35 | G24: =F24/3.6 -> 9.7222222 | H24: =(2*(D25-D24))/(G25+G24) -> 1.2571139 | I24: =I23+H24 -> 20.834653 | J24: =(G24-G23)/(I24-I23) -> -1.1048234 | K24: =J24*$K$2 -> -571.41467 | L24: =0.5*1.226*(G24^2)*$D$2*$E$2 -> 46.932812 | M24: =($K$2*$G$2*E24)/1000 -> 177.58062 | N24: =(0.5*$K$2*(G24^2))/1000 -> 24.443287 | O24: =(E25-E24)/$A$2 -> -0.076365394 | P24: =ATAN(O24) -> -0.076217465 | Q24: =P24*(180/PI()) -> -4.3669391 | R24: =($K$2*$G$2*SIN(Q24)) -> 4773.9922 | S24: =($P$3*($K$2*$G$2)) -> 304.42392 | T24: =(S24+R24+L24+K24)/1000 -> 4.5539342 | U24: =(T24*G24) -> 44.274361 | V24: =IF(U24>13.4,G24-0.5,U24) -> 9.2222222 | W24: =IF(V24>0,0,V24) -> 0 | X24: =X23+W24 -> -239.4944 | Y24: =IF(V24<0,0,V24) -> 9.2222222 | Z24: =Z23+Y24 -> 126.51111 | AA24: =V24/T24 -> 2.025111 | AB24: {=_xlfn.IFS(AA24<=4,1,AA24<=8,2,AA24>8,3)} -> 1 | AC24: =LOOKUP(AA24,$AP$5:$AP$46,$AQ$5:$AQ$46) -> 3500 | AD24: =IF(V24<0,1,MATCH(V24,BSFC!$P$21:$AD$21,1)) -> 8 | AE24: =MATCH(AC24,BSFC!$O$22:$O$36,1) -> 7 | AF24: {=INDEX(BSFC!$P$22:$AD$36,AD24,AE24)} -> 427 | AG24: =IF(V24<0,((V24=0)*AF24/760),V24*AF24/760) -> 5.1814327 | AH24: =AG24/3600 -> 0.0014392869 | AI24: =AI23+AH24 -> 0.020048514 | AJ24: =(AI24/0.72)*1000 -> 27.845158 | AP24: 6.3333333 | AQ24: 3500
A25: 53.30503 | B25: -0.06081 | C25: 135 | D25: =D24+$A$2 -> 248.8038 | E25: =C25-101 -> 34 | F25: 40 | G25: =F25/3.6 -> 11.111111 | H25: =(2*(D26-D25))/(G26+G25) -> 1.1092182 | I25: =I24+H25 -> 21.943872 | J25: =(G25-G24)/(I25-I24) -> 1.2521332 | K25: =J25*$K$2 -> 647.60329 | L25: =0.5*1.226*(G25^2)*$D$2*$E$2 -> 61.3 | M25: =($K$2*$G$2*E25)/1000 -> 172.50689 | N25: =(0.5*$K$2*(G25^2))/1000 -> 31.925926 | O25: =(E26-E25)/$A$2 -> 0 | P25: =ATAN(O25) -> 0 | Q25: =P25*(180/PI()) -> 0 | R25: =($K$2*$G$2*SIN(Q25)) -> 0 | S25: =($P$3*($K$2*$G$2)) -> 304.42392 | T25: =(S25+R25+L25+K25)/1000 -> 1.0133272 | U25: =(T25*G25) -> 11.259191 | V25: =IF(U25>13.4,G25-0.5,U25) -> 11.259191 | W25: =IF(V25>0,0,V25) -> 0 | X25: =X24+W25 -> -239.4944 | Y25: =IF(V25<0,0,V25) -> 11.259191 | Z25: =Z24+Y25 -> 137.7703 | AA25: =V25/T25 -> 11.111111 | AB25: {=_xlfn.IFS(AA25<=4,1,AA25<=8,2,AA25>8,3)} -> 3 | AC25: =LOOKUP(AA25,$AP$5:$AP$46,$AQ$5:$AQ$46) -> 2999.6 | AD25: =IF(V25<0,1,MATCH(V25,BSFC!$P$21:$AD$21,1)) -> 10 | AE25: =MATCH(AC25,BSFC!$O$22:$O$36,1) -> 5 | AF25: {=INDEX(BSFC!$P$22:$AD$36,AD25,AE25)} -> 441 | AG25: =IF(V25<0,((V25=0)*AF25/760),V25*AF25/760) -> 6.5332938 | AH25: =AG25/3600 -> 0.0018148038 | AI25: =AI24+AH25 -> 0.021863317 | AJ25: =(AI25/0.72)*1000 -> 30.365719 | AP25: 6.6683333 | AQ25: 4000
A26: 53.3049 | B26: -0.06109 | C26: 135 | D26: =D25+$A$2 -> 261.89873 | E26: =C26-101 -> 34 | F26: 45 | G26: =F26/3.6 -> 12.5 | H26: =(2*(D27-D26))/(G27+G26) -> 1.0057126 | I26: =I25+H26 -> 22.949584 | J26: =(G26-G25)/(I26-I25) -> 1.3809998 | K26: =J26*$K$2 -> 714.2531 | L26: =0.5*1.226*(G26^2)*$D$2*$E$2 -> 77.582813 | M26: =($K$2*$G$2*E26)/1000 -> 172.50689 | N26: =(0.5*$K$2*(G26^2))/1000 -> 40.40625 | O26: =(E27-E26)/$A$2 -> -0.22909618 | P26: =ATAN(O26) -> -0.22520981 | Q26: =P26*(180/PI()) -> -12.903572 | R26: =($K$2*$G$2*SIN(Q26)) -> -1678.6292 | S26: =($P$3*($K$2*$G$2)) -> 304.42392 | T26: =(S26+R26+L26+K26)/1000 -> -0.58236936 | U26: =(T26*G26) -> -7.279617 | V26: =IF(U26>13.4,G26-0.5,U26) -> -7.279617 | W26: =IF(V26>0,0,V26) -> -7.279617 | X26: =X25+W26 -> -246.77402 | Y26: =IF(V26<0,0,V26) -> 0 | Z26: =Z25+Y26 -> 137.7703 | AA26: =V26/T26 -> 12.5 | AB26: {=_xlfn.IFS(AA26<=4,1,AA26<=8,2,AA26>8,3)} -> 3 | AC26: =LOOKUP(AA26,$AP$5:$AP$46,$AQ$5:$AQ$46) -> 4332.8 | AD26: =IF(V26<0,1,MATCH(V26,BSFC!$P$21:$AD$21,1)) -> 1 | AE26: =MATCH(AC26,BSFC!$O$22:$O$36,1) -> 8 | AF26: {=INDEX(BSFC!$P$22:$AD$36,AD26,AE26)} -> 530 | AG26: =IF(V26<0,((V26=0)*AF26/760),V26*AF26/760) -> 0 | AH26: =AG26/3600 -> 0 | AI26: =AI25+AH26 -> 0.021863317 | AJ26: =(AI26/0.72)*1000 -> 30.365719 | AP26: 7.0033333 | AQ26: 4500
A27: 53.30485 | B27: -0.06143 | C27: 132 | D27: =D26+$A$2 -> 274.99367 | E27: =C27-101 -> 31 | F27: 48.748 | G27: =F27/3.6 -> 13.541111 | H27: =(2*(D28-D27))/(G28+G27) -> 0.9847051 | I27: =I26+H27 -> 23.934289 | J27: =(G27-G26)/(I27-I26) -> 1.0572821 | K27: =J27*$K$2 -> 546.82632 | L27: =0.5*1.226*(G27^2)*$D$2*$E$2 -> 91.04458 | M27: =($K$2*$G$2*E27)/1000 -> 157.28569 | N27: =(0.5*$K$2*(G27^2))/1000 -> 47.417333 | O27: =(E28-E27)/$A$2 -> -0.076365394 | P27: =ATAN(O27) -> -0.076217465 | Q27: =P27*(180/PI()) -> -4.3669391 | R27: =($K$2*$G$2*SIN(Q27)) -> 4773.9922 | S27: =($P$3*($K$2*$G$2)) -> 304.42392 | T27: =(S27+R27+L27+K27)/1000 -> 5.716287 | U27: =(T27*G27) -> 77.404877 | V27: =IF(U27>13.4,G27-0.5,U27) -> 13.041111 | W27: =IF(V27>0,0,V27) -> 0 | X27: =X26+W27 -> -246.77402 | Y27: =IF(V27<0,0,V27) -> 13.041111 | Z27: =Z26+Y27 -> 150.81141 | AA27: =V27/T27 -> 2.2813955 | AB27: {=_xlfn.IFS(AA27<=4,1,AA27<=8,2,AA27>8,3)} -> 1 | AC27: =LOOKUP(AA27,$AP$5:$AP$46,$AQ$5:$AQ$46) -> 3500 | AD27: =IF(V27<0,1,MATCH(V27,BSFC!$P$21:$AD$21,1)) -> 11 | AE27: =MATCH(AC27,BSFC!$O$22:$O$36,1) -> 7 | AF27: {=INDEX(BSFC!$P$22:$AD$36,AD27,AE27)} -> 438 | AG27: =IF(V27<0,((V27=0)*AF27/760),V27*AF27/760) -> 7.5157982 | AH27: =AG27/3600 -> 0.0020877217 | AI27: =AI26+AH27 -> 0.023951039 | AJ27: =(AI27/0.72)*1000 -> 33.265332 | AP27: 7.3383333 | AQ27: 5000
A28: 53.30486 | B28: -0.06173 | C28: 131 | D28: =D27+$A$2 -> 288.08861 | E28: =C28-101 -> 30 | F28: 47 | G28: =F28/3.6 -> 13.055556 | H28: =(2*(D29-D28))/(G29+G28) -> 1.0248211 | I28: =I27+H28 -> 24.95911 | J28: =(G28-G27)/(I28-I27) -> -0.47379542 | K28: =J28*$K$2 -> -245.04699 | L28: =0.5*1.226*(G28^2)*$D$2*$E$2 -> 84.632312 | M28: =($K$2*$G$2*E28)/1000 -> 152.21196 | N28: =(0.5*$K$2*(G28^2))/1000 -> 44.077731 | O28: =(E29-E28)/$A$2 -> -0.076365394 | P28: =ATAN(O28) -> -0.076217465 | Q28: =P28*(180/PI()) -> -4.3669391 | R28: =($K$2*$G$2*SIN(Q28)) -> 4773.9922 | S28: =($P$3*($K$2*$G$2)) -> 304.42392 | T28: =(S28+R28+L28+K28)/1000 -> 4.9180014 | U28: =(T28*G28) -> 64.207241 | V28: =IF(U28>13.4,G28-0.5,U28) -> 12.555556 | W28: =IF(V28>0,0,V28) -> 0 | X28: =X27+W28 -> -246.77402 | Y28: =IF(V28<0,0,V28) -> 12.555556 | Z28: =Z27+Y28 -> 163.36697 | AA28: =V28/T28 -> 2.5529793 | AB28: {=_xlfn.IFS(AA28<=4,1,AA28<=8,2,AA28>8,3)} -> 1 | AC28: =LOOKUP(AA28,$AP$5:$AP$46,$AQ$5:$AQ$46) -> 4000 | AD28: =IF(V28<0,1,MATCH(V28,BSFC!$P$21:$AD$21,1)) -> 10 | AE28: =MATCH(AC28,BSFC!$O$22:$O$36,1) -> 8 | AF28: {=INDEX(BSFC!$P$22:$AD$36,AD28,AE28)} -> 419 | AG28: =IF(V28<0,((V28=0)*AF28/760),V28*AF28/760) -> 6.922076 | AH28: =AG28/3600 -> 0.0019227989 | AI28: =AI27+AH28 -> 0.025873838 | AJ28: =(AI28/0.72)*1000 -> 35.935886 | AP28: 7.6733333 | AQ28: 5500
... A46: 53.30836 | B46: -0.06973 | C46: 139 | D46: =D45+$A$2 -> 523.79747 | E46: =C46-101 -> 38 | F46: 39.8 | G46: =F46/3.6 -> 11.055556 | H46: =(2*(D47-D46))/(G47+G46) -> 1.1118342 | I46: =I45+H46 -> 43.507113 | J46: =(G46-G45)/(I46-I45) -> -1.6489268 | K46: =J46*$K$2 -> -852.82496 | L46: =0.5*1.226*(G46^2)*$D$2*$E$2 -> 60.688532 | M46: =($K$2*$G$2*E46)/1000 -> 192.80182 | N46: =(0.5*$K$2*(G46^2))/1000 -> 31.607465 | O46: =(E47-E46)/$A$2 -> 0.15273079 | P46: =ATAN(O46) -> 0.15155957 | Q46: =P46*(180/PI()) -> 8.6837236 | R46: =($K$2*$G$2*SIN(Q46)) -> 3425.1046 | S46: =($P$3*($K$2*$G$2)) -> 304.42392 | T46: =(S46+R46+L46+K46)/1000 -> 2.937392 | U46: =(T46*G46) -> 32.474501 | V46: =IF(U46>13.4,G46-0.5,U46) -> 10.555556 | W46: =IF(V46>0,0,V46) -> 0 | X46: =X45+W46 -> -478.83224 | Y46: =IF(V46<0,0,V46) -> 10.555556 | Z46: =Z45+Y46 -> 317.60284 | AA46: =V46/T46 -> 3.5935127 | AB46: {=_xlfn.IFS(AA46<=4,1,AA46<=8,2,AA46>8,3)} -> 1 | AC46: =LOOKUP(AA46,$AP$5:$AP$46,$AQ$5:$AQ$46) -> 5500 | AD46: =IF(V46<0,1,MATCH(V46,BSFC!$P$21:$AD$21,1)) -> 9 | AE46: =MATCH(AC46,BSFC!$O$22:$O$36,1) -> 11 | AF46: {=INDEX(BSFC!$P$22:$AD$36,AD46,AE46)} -> 394 | AG46: =IF(V46<0,((V46=0)*AF46/760),V46*AF46/760) -> 5.4722222 | AH46: =AG46/3600 -> 0.0015200617 | AI46: =AI45+AH46 -> 0.049710397 | AJ46: =(AI46/0.72)*1000 -> 69.042218 | AP46: 13.703333 | AQ46: 5666
A47: 53.3085 | B47: -0.07006 | C47: 141 | D47: =D46+$A$2 -> 536.89241 | E47: =C47-101 -> 40 | F47: 45 | G47: =F47/3.6 -> 12.5 | H47: =(2*(D48-D47))/(G48+G47) -> 1.0057126 | I47: =I46+H47 -> 44.512825 | J47: =(G47-G46)/(I47-I46) -> 1.4362398 | K47: =J47*$K$2 -> 742.82322 | L47: =0.5*1.226*(G47^2)*$D$2*$E$2 -> 77.582813 | M47: =($K$2*$G$2*E47)/1000 -> 202.94928 | N47: =(0.5*$K$2*(G47^2))/1000 -> 40.40625 | O47: =(E48-E47)/$A$2 -> 0.076365394 | P47: =ATAN(O47) -> 0.076217465 | Q47: =P47*(180/PI()) -> 4.3669391 | R47: =($K$2*$G$2*SIN(Q47)) -> -4773.9922 | S47: =($P$3*($K$2*$G$2)) -> 304.42392 | T47: =(S47+R47+L47+K47)/1000 -> -3.6491622 | U47: =(T47*G47) -> -45.614528 | V47: =IF(U47>13.4,G47-0.5,U47) -> -45.614528 | W47: =IF(V47>0,0,V47) -> -45.614528 | X47: =X46+W47 -> -524.44677 | Y47: =IF(V47<0,0,V47) -> 0 | Z47: =Z46+Y47 -> 317.60284 | AA47: =V47/T47 -> 12.5 | AB47: {=_xlfn.IFS(AA47<=4,1,AA47<=8,2,AA47>8,3)} -> 3 | AC47: =LOOKUP(AA47,$AP$5:$AP$46,$AQ$5:$AQ$46) -> 4332.8 | AD47: =IF(V47<0,1,MATCH(V47,BSFC!$P$21:$AD$21,1)) -> 1 | AE47: =MATCH(AC47,BSFC!$O$22:$O$36,1) -> 8 | AF47: {=INDEX(BSFC!$P$22:$AD$36,AD47,AE47)} -> 530 | AG47: =IF(V47<0,((V47=0)*AF47/760),V47*AF47/760) -> 0 | AH47: =AG47/3600 -> 0 | AI47: =AI46+AH47 -> 0.049710397 | AJ47: =(AI47/0.72)*1000 -> 69.042218
A48: 53.30864 | B48: -0.07018 | C48: 142 | D48: =D47+$A$2 -> 549.98734 | E48: =C48-101 -> 41 | F48: 48.748 | G48: =F48/3.6 -> 13.541111 | H48: =(2*(D49-D48))/(G49+G48) -> 0.96705038 | I48: =I47+H48 -> 45.479875 | J48: =(G48-G47)/(I48-I47) -> 1.0765841 | K48: =J48*$K$2 -> 556.80932 | L48: =0.5*1.226*(G48^2)*$D$2*$E$2 -> 91.04458 | M48: =($K$2*$G$2*E48)/1000 -> 208.02301 | N48: =(0.5*$K$2*(G48^2))/1000 -> 47.417333 | O48: =(E49-E48)/$A$2 -> 0.076365394 | P48: =ATAN(O48) -> 0.076217465 | Q48: =P48*(180/PI()) -> 4.3669391 | R48: =($K$2*$G$2*SIN(Q48)) -> -4773.9922 | S48: =($P$3*($K$2*$G$2)) -> 304.42392 | T48: =(S48+R48+L48+K48)/1000 -> -3.8217143 | U48: =(T48*G48) -> -51.750259 | V48: =IF(U48>13.4,G48-0.5,U48) -> -51.750259 | W48: =IF(V48>0,0,V48) -> -51.750259 | X48: =X47+W48 -> -576.19703 | Y48: =IF(V48<0,0,V48) -> 0 | Z48: =Z47+Y48 -> 317.60284 | AA48: =V48/T48 -> 13.541111 | AB48: {=_xlfn.IFS(AA48<=4,1,AA48<=8,2,AA48>8,3)} -> 3 | AC48: =LOOKUP(AA48,$AP$5:$AP$46,$AQ$5:$AQ$46) -> 5332.7 | AD48: =IF(V48<0,1,MATCH(V48,BSFC!$P$21:$AD$21,1)) -> 1 | AE48: =MATCH(AC48,BSFC!$O$22:$O$36,1) -> 10 | AF48: {=INDEX(BSFC!$P$22:$AD$36,AD48,AE48)} -> 500 | AG48: =IF(V48<0,((V48=0)*AF48/760),V48*AF48/760) -> 0 | AH48: =AG48/3600 -> 0 | AI48: =AI47+AH48 -> 0.049710397 | AJ48: =(AI48/0.72)*1000 -> 69.042218
A49: 53.30878 | B49: -0.07018 | C49: 143 | D49: =D48+$A$2 -> 563.08228 | E49: =C49-101 -> 42 | F49: 48.748 | G49: =F49/3.6 -> 13.541111 | H49: =(2*(D50-D49))/(G50+G49) -> 0.96705038 | I49: =I48+H49 -> 46.446926 | J49: =(G49-G48)/(I49-I48) -> 0 | K49: =J49*$K$2 -> 0 | L49: =0.5*1.226*(G49^2)*$D$2*$E$2 -> 91.04458 | M49: =($K$2*$G$2*E49)/1000 -> 213.09674 | N49: =(0.5*$K$2*(G49^2))/1000 -> 47.417333 | O49: =(E50-E49)/$A$2 -> 0.076365394 | P49: =ATAN(O49) -> 0.076217465 | Q49: =P49*(180/PI()) -> 4.3669391 | R49: =($K$2*$G$2*SIN(Q49)) -> -4773.9922 | S49: =($P$3*($K$2*$G$2)) -> 304.42392 | T49: =(S49+R49+L49+K49)/1000 -> -4.3785237 | U49: =(T49*G49) -> -59.290075 | V49: =IF(U49>13.4,G49-0.5,U49) -> -59.290075 | W49: =IF(V49>0,0,V49) -> -59.290075 | X49: =X48+W49 -> -635.48711 | Y49: =IF(V49<0,0,V49) -> 0 | Z49: =Z48+Y49 -> 317.60284 | AA49: =V49/T49 -> 13.541111 | AB49: {=_xlfn.IFS(AA49<=4,1,AA49<=8,2,AA49>8,3)} -> 3 | AC49: =LOOKUP(AA49,$AP$5:$AP$46,$AQ$5:$AQ$46) -> 5332.7 | AD49: =IF(V49<0,1,MATCH(V49,BSFC!$P$21:$AD$21,1)) -> 1 | AE49: =MATCH(AC49,BSFC!$O$22:$O$36,1) -> 10 | AF49: {=INDEX(BSFC!$P$22:$AD$36,AD49,AE49)} -> 500 | AG49: =IF(V49<0,((V49=0)*AF49/760),V49*AF49/760) -> 0 | AH49: =AG49/3600 -> 0 | AI49: =AI48+AH49 -> 0.049710397 | AJ49: =(AI49/0.72)*1000 -> 69.042218
A50: 53.30893 | B50: -0.0701 | C50: 144 | D50: =D49+$A$2 -> 576.17722 | E50: =C50-101 -> 43 | F50: 48.748 | G50: =F50/3.6 -> 13.541111 | H50: =(2*(D51-D50))/(G51+G50) -> 0.9847051 | I50: =I49+H50 -> 47.431631 | J50: =(G50-G49)/(I50-I49) -> 0 | K50: =J50*$K$2 -> 0 | L50: =0.5*1.226*(G50^2)*$D$2*$E$2 -> 91.04458 | M50: =($K$2*$G$2*E50)/1000 -> 218.17048 | N50: =(0.5*$K$2*(G50^2))/1000 -> 47.417333 | O50: =(E51-E50)/$A$2 -> 0 | P50: =ATAN(O50) -> 0 | Q50: =P50*(180/PI()) -> 0 | R50: =($K$2*$G$2*SIN(Q50)) -> 0 | S50: =($P$3*($K$2*$G$2)) -> 304.42392 | T50: =(S50+R50+L50+K50)/1000 -> 0.3954685 | U50: =(T50*G50) -> 5.3550829 | V50: =IF(U50>13.4,G50-0.5,U50) -> 5.3550829 | W50: =IF(V50>0,0,V50) -> 0 | X50: =X49+W50 -> -635.48711 | Y50: =IF(V50<0,0,V50) -> 5.3550829 | Z50: =Z49+Y50 -> 322.95792 | AA50: =V50/T50 -> 13.541111 | AB50: {=_xlfn.IFS(AA50<=4,1,AA50<=8,2,AA50>8,3)} -> 3 | AC50: =LOOKUP(AA50,$AP$5:$AP$46,$AQ$5:$AQ$46) -> 5332.7 | AD50: =IF(V50<0,1,MATCH(V50,BSFC!$P$21:$AD$21,1)) -> 6 | AE50: =MATCH(AC50,BSFC!$O$22:$O$36,1) -> 10 | AF50: {=INDEX(BSFC!$P$22:$AD$36,AD50,AE50)} -> 429 | AG50: =IF(V50<0,((V50=0)*AF50/760),V50*AF50/760) -> 3.0228034 | AH50: =AG50/3600 -> 0.0008396676 | AI50: =AI49+AH50 -> 0.050550064 | AJ50: =(AI50/0.72)*1000 -> 70.208423
A51: 53.30913 | B51: -0.06995 | C51: 144 | D51: =D50+$A$2 -> 589.27215 | E51: =C51-101 -> 43 | F51: 47 | G51: =F51/3.6 -> 13.055556 | H51: =(2*(D52-D51))/(G52+G51) -> 0.9847051 | I51: =I50+H51 -> 48.416336 | J51: =(G51-G50)/(I51-I50) -> -0.49309743 | K51: =J51*$K$2 -> -255.02999 | L51: =0.5*1.226*(G51^2)*$D$2*$E$2 -> 84.632312 | M51: =($K$2*$G$2*E51)/1000 -> 218.17048 | N51: =(0.5*$K$2*(G51^2))/1000 -> 44.077731 | O51: =(E52-E51)/$A$2 -> -0.076365394 | P51: =ATAN(O51) -> -0.076217465 | Q51: =P51*(180/PI()) -> -4.3669391 | R51: =($K$2*$G$2*SIN(Q51)) -> 4773.9922 | S51: =($P$3*($K$2*$G$2)) -> 304.42392 | T51: =(S51+R51+L51+K51)/1000 -> 4.9080184 | U51: =(T51*G51) -> 64.076907 | V51: =IF(U51>13.4,G51-0.5,U51) -> 12.555556 | W51: =IF(V51>0,0,V51) -> 0 | X51: =X50+W51 -> -635.48711 | Y51: =IF(V51<0,0,V51) -> 12.555556 | Z51: =Z50+Y51 -> 335.51348 | AA51: =V51/T51 -> 2.5581721 | AB51: {=_xlfn.IFS(AA51<=4,1,AA51<=8,2,AA51>8,3)} -> 1 | AC51: =LOOKUP(AA51,$AP$5:$AP$46,$AQ$5:$AQ$46) -> 4000 | AD51: =IF(V51<0,1,MATCH(V51,BSFC!$P$21:$AD$21,1)) -> 10 | AE51: =MATCH(AC51,BSFC!$O$22:$O$36,1) -> 8 | AF51: {=INDEX(BSFC!$P$22:$AD$36,AD51,AE51)} -> 419 | AG51: =IF(V51<0,((V51=0)*AF51/760),V51*AF51/760) -> 6.922076 | AH51: =AG51/3600 -> 0.0019227989 | AI51: =AI50+AH51 -> 0.052472863 | AJ51: =(AI51/0.72)*1000 -> 72.878977
A52: 53.30952 | B52: -0.06967 | C52: 143 | D52: =D51+$A$2 -> 602.36709 | E52: =C52-101 -> 42 | F52: 48.748 | G52: =F52/3.6 -> 13.541111 | H52: =(2*(D53-D52))/(G53+G52) -> 1.0057126 | I52: =I51+H52 -> 49.422049 | J52: =(G52-G51)/(I52-I51) -> 0.48279753 | K52: =J52*$K$2 -> 249.70288 | L52: =0.5*1.226*(G52^2)*$D$2*$E$2 -> 91.04458 | M52: =($K$2*$G$2*E52)/1000 -> 213.09674 | N52: =(0.5*$K$2*(G52^2))/1000 -> 47.417333 | O52: =(E53-E52)/$A$2 -> 0 | P52: =ATAN(O52) -> 0 | Q52: =P52*(180/PI()) -> 0 | R52: =($K$2*$G$2*SIN(Q52)) -> 0 | S52: =($P$3*($K$2*$G$2)) -> 304.42392 | T52: =(S52+R52+L52+K52)/1000 -> 0.64517138 | U52: =(T52*G52) -> 8.7363374 | V52: =IF(U52>13.4,G52-0.5,U52) -> 8.7363374 | W52: =IF(V52>0,0,V52) -> 0 | X52: =X51+W52 -> -635.48711 | Y52: =IF(V52<0,0,V52) -> 8.7363374 | Z52: =Z51+Y52 -> 344.24982 | AA52: =V52/T52 -> 13.541111 | AB52: {=_xlfn.IFS(AA52<=4,1,AA52<=8,2,AA52>8,3)} -> 3 | AC52: =LOOKUP(AA52,$AP$5:$AP$46,$AQ$5:$AQ$46) -> 5332.7 | AD52: =IF(V52<0,1,MATCH(V52,BSFC!$P$21:$AD$21,1)) -> 8 | AE52: =MATCH(AC52,BSFC!$O$22:$O$36,1) -> 10 | AF52: {=INDEX(BSFC!$P$22:$AD$36,AD52,AE52)} -> 394 | AG52: =IF(V52<0,((V52=0)*AF52/760),V52*AF52/760) -> 4.5291012 | AH52: =AG52/3600 -> 0.0012580837 | AI52: =AI51+AH52 -> 0.053730947 | AJ52: =(AI52/0.72)*1000 -> 74.626315
A53: 53.30969 | B53: -0.06947 | C53: 143 | D53: =D52+$A$2 -> 615.46203 | E53: =C53-101 -> 42 | F53: 45 | G53: =F53/3.6 -> 12.5 | H53: =(2*(D54-D53))/(G54+G53) -> 1.1359463 | I53: =I52+H53 -> 50.557995 | J53: =(G53-G52)/(I53-I52) -> -0.91651436 | K53: =J53*$K$2 -> -474.02123 | L53: =0.5*1.226*(G53^2)*$D$2*$E$2 -> 77.582813 | M53: =($K$2*$G$2*E53)/1000 -> 213.09674 | N53: =(0.5*$K$2*(G53^2))/1000 -> 40.40625 | O53: =(E54-E53)/$A$2 -> 0.076365394 | P53: =ATAN(O53) -> 0.076217465 | Q53: =P53*(180/PI()) -> 4.3669391 | R53: =($K$2*$G$2*SIN(Q53)) -> -4773.9922 | S53: =($P$3*($K$2*$G$2)) -> 304.42392 | T53: =(S53+R53+L53+K53)/1000 -> -4.8660067 | U53: =(T53*G53) -> -60.825083 | V53: =IF(U53>13.4,G53-0.5,U53) -> -60.825083 | W53: =IF(V53>0,0,V53) -> -60.825083 | X53: =X52+W53 -> -696.31219 | Y53: =IF(V53<0,0,V53) -> 0 | Z53: =Z52+Y53 -> 344.24982 | AA53: =V53/T53 -> 12.5 | AB53: {=_xlfn.IFS(AA53<=4,1,AA53<=8,2,AA53>8,3)} -> 3 | AC53: =LOOKUP(AA53,$AP$5:$AP$46,$AQ$5:$AQ$46) -> 4332.8 | AD53: =IF(V53<0,1,MATCH(V53,BSFC!$P$21:$AD$21,1)) -> 1 | AE53: =MATCH(AC53,BSFC!$O$22:$O$36,1) -> 8 | AF53: {=INDEX(BSFC!$P$22:$AD$36,AD53,AE53)} -> 530 | AG53: =IF(V53<0,((V53=0)*AF53/760),V53*AF53/760) -> 0 | AH53: =AG53/3600 -> 0 | AI53: =AI52+AH53 -> 0.053730947 | AJ53: =(AI53/0.72)*1000 -> 74.626315
A54: 53.30979 | B54: -0.06923 | C54: 144 | D54: =D53+$A$2 -> 628.55696 | E54: =C54-101 -> 43 | F54: 38 | G54: =F54/3.6 -> 10.555556 | H54: =(2*(D55-D54))/(G55+G54) -> 1.1639944 | I54: =I53+H54 -> 51.721989 | J54: =(G54-G53)/(I54-I53) -> -1.670493 | K54: =J54*$K$2 -> -863.97898 | L54: =0.5*1.226*(G54^2)*$D$2*$E$2 -> 55.32325 | M54: =($K$2*$G$2*E54)/1000 -> 218.17048 | N54: =(0.5*$K$2*(G54^2))/1000 -> 28.813148 | O54: =(E55-E54)/$A$2 -> -0.15273079 | P54: =ATAN(O54) -> -0.15155957 | Q54: =P54*(180/PI()) -> -8.6837236 | R54: =($K$2*$G$2*SIN(Q54)) -> -3425.1046 | S54: =($P$3*($K$2*$G$2)) -> 304.42392 | T54: =(S54+R54+L54+K54)/1000 -> -3.9293364 | U54: =(T54*G54) -> -41.476328 | V54: =IF(U54>13.4,G54-0.5,U54) -> -41.476328 | W54: =IF(V54>0,0,V54) -> -41.476328 | X54: =X53+W54 -> -737.78852 | Y54: =IF(V54<0,0,V54) -> 0 | Z54: =Z53+Y54 -> 344.24982 | AA54: =V54/T54 -> 10.555556 | AB54: {=_xlfn.IFS(AA54<=4,1,AA54<=8,2,AA54>8,3)} -> 3 | AC54: =LOOKUP(AA54,$AP$5:$AP$46,$AQ$5:$AQ$46) -> 2333 | AD54: =IF(V54<0,1,MATCH(V54,BSFC!$P$21:$AD$21,1)) -> 1 | AE54: =MATCH(AC54,BSFC!$O$22:$O$36,1) -> 4 | AF54: {=INDEX(BSFC!$P$22:$AD$36,AD54,AE54)} -> 577 | AG54: =IF(V54<0,((V54=0)*AF54/760),V54*AF54/760) -> 0 | AH54: =AG54/3600 -> 0 | AI54: =AI53+AH54 -> 0.053730947 | AJ54: =(AI54/0.72)*1000 -> 74.626315
A55: 53.30985 | B55: -0.06892 | C55: 142 | D55: =D54+$A$2 -> 641.6519 | E55: =C55-101 -> 41 | F55: 43 | G55: =F55/3.6 -> 11.944444 | H55: =(2*(D56-D55))/(G56+G55) -> 1.0593657 | I55: =I54+H55 -> 52.781355 | J55: =(G55-G54)/(I55-I54) -> 1.3110571 | K55: =J55*$K$2 -> 678.07874 | L55: =0.5*1.226*(G55^2)*$D$2*$E$2 -> 70.839813 | M55: =($K$2*$G$2*E55)/1000 -> 208.02301 | N55: =(0.5*$K$2*(G55^2))/1000 -> 36.894398 | O55: =(E56-E55)/$A$2 -> -0.076365394 | P55: =ATAN(O55) -> -0.076217465 | Q55: =P55*(180/PI()) -> -4.3669391 | R55: =($K$2*$G$2*SIN(Q55)) -> 4773.9922 | S55: =($P$3*($K$2*$G$2)) -> 304.42392 | T55: =(S55+R55+L55+K55)/1000 -> 5.8273346 | U55: =(T55*G55) -> 69.604275 | V55: =IF(U55>13.4,G55-0.5,U55) -> 11.444444 | W55: =IF(V55>0,0,V55) -> 0 | X55: =X54+W55 -> -737.78852 | Y55: =IF(V55<0,0,V55) -> 11.444444 | Z55: =Z54+Y55 -> 355.69426 | AA55: =V55/T55 -> 1.9639244 | AB55: {=_xlfn.IFS(AA55<=4,1,AA55<=8,2,AA55>8,3)} -> 1 | AC55: =LOOKUP(AA55,$AP$5:$AP$46,$AQ$5:$AQ$46) -> 3000 | AD55: =IF(V55<0,1,MATCH(V55,BSFC!$P$21:$AD$21,1)) -> 10 | AE55: =MATCH(AC55,BSFC!$O$22:$O$36,1) -> 6 | AF55: {=INDEX(BSFC!$P$22:$AD$36,AD55,AE55)} -> 432 | AG55: =IF(V55<0,((V55=0)*AF55/760),V55*AF55/760) -> 6.5052632 | AH55: =AG55/3600 -> 0.0018070175 | AI55: =AI54+AH55 -> 0.055537964 | AJ55: =(AI55/0.72)*1000 -> 77.136062
A56: 53.30989 | B56: -0.06865 | C56: 141 | D56: =D55+$A$2 -> 654.74684 | E56: =C56-101 -> 40 | F56: 46 | G56: =F56/3.6 -> 12.777778 | H56: =(2*(D57-D56))/(G57+G56) -> 0.99509799 | I56: =I55+H56 -> 53.776453 | J56: =(G56-G55)/(I56-I55) -> 0.83743847 | K56: =J56*$K$2 -> 433.12317 | L56: =0.5*1.226*(G56^2)*$D$2*$E$2 -> 81.06925 | M56: =($K$2*$G$2*E56)/1000 -> 202.94928 | N56: =(0.5*$K$2*(G56^2))/1000 -> 42.222037 | O56: =(E57-E56)/$A$2 -> 0 | P56: =ATAN(O56) -> 0 | Q56: =P56*(180/PI()) -> 0 | R56: =($K$2*$G$2*SIN(Q56)) -> 0 | S56: =($P$3*($K$2*$G$2)) -> 304.42392 | T56: =(S56+R56+L56+K56)/1000 -> 0.81861634 | U56: =(T56*G56) -> 10.460098 | V56: =IF(U56>13.4,G56-0.5,U56) -> 10.460098 | W56: =IF(V56>0,0,V56) -> 0 | X56: =X55+W56 -> -737.78852 | Y56: =IF(V56<0,0,V56) -> 10.460098 | Z56: =Z55+Y56 -> 366.15436 | AA56: =V56/T56 -> 12.777778 | AB56: {=_xlfn.IFS(AA56<=4,1,AA56<=8,2,AA56>8,3)} -> 3 | AC56: =LOOKUP(AA56,$AP$5:$AP$46,$AQ$5:$AQ$46) -> 4666.1 | AD56: =IF(V56<0,1,MATCH(V56,BSFC!$P$21:$AD$21,1)) -> 9 | AE56: =MATCH(AC56,BSFC!$O$22:$O$36,1) -> 9 | AF56: {=INDEX(BSFC!$P$22:$AD$36,AD56,AE56)} -> 402 | AG56: =IF(V56<0,((V56=0)*AF56/760),V56*AF56/760) -> 5.5328412 | AH56: =AG56/3600 -> 0.0015369003 | AI56: =AI55+AH56 -> 0.057074865 | AJ56: =(AI56/0.72)*1000 -> 79.270645
A57: 53.3099 | B57: -0.06842 | C57: 141 | D57: =D56+$A$2 -> 667.84177 | E57: =C57-101 -> 40 | F57: 48.748 | G57: =F57/3.6 -> 13.541111 | H57: =(2*(D58-D57))/(G58+G57) -> 0.96705038 | I57: =I56+H57 -> 54.743503 | J57: =(G57-G56)/(I57-I56) -> 0.78934184 | K57: =J57*$K$2 -> 408.2476 | L57: =0.5*1.226*(G57^2)*$D$2*$E$2 -> 91.04458 | M57: =($K$2*$G$2*E57)/1000 -> 202.94928 | N57: =(0.5*$K$2*(G57^2))/1000 -> 47.417333 | O57: =(E58-E57)/$A$2 -> -0.076365394 | P57: =ATAN(O57) -> -0.076217465 | Q57: =P57*(180/PI()) -> -4.3669391 | R57: =($K$2*$G$2*SIN(Q57)) -> 4773.9922 | S57: =($P$3*($K$2*$G$2)) -> 304.42392 | T57: =(S57+R57+L57+K57)/1000 -> 5.5777083 | U57: =(T57*G57) -> 75.528367 | V57: =IF(U57>13.4,G57-0.5,U57) -> 13.041111 | W57: =IF(V57>0,0,V57) -> 0 | X57: =X56+W57 -> -737.78852 | Y57: =IF(V57<0,0,V57) -> 13.041111 | Z57: =Z56+Y57 -> 379.19547 | AA57: =V57/T57 -> 2.3380769 | AB57: {=_xlfn.IFS(AA57<=4,1,AA57<=8,2,AA57>8,3)} -> 1 | AC57: =LOOKUP(AA57,$AP$5:$AP$46,$AQ$5:$AQ$46) -> 4000 | AD57: =IF(V57<0,1,MATCH(V57,BSFC!$P$21:$AD$21,1)) -> 11 | AE57: =MATCH(AC57,BSFC!$O$22:$O$36,1) -> 8 | AF57: {=INDEX(BSFC!$P$22:$AD$36,AD57,AE57)} -> 431 | AG57: =IF(V57<0,((V57=0)*AF57/760),V57*AF57/760) -> 7.3956827 | AH57: =AG57/3600 -> 0.0020543563 | AI57: =AI56+AH57 -> 0.059129221 | AJ57: =(AI57/0.72)*1000 -> 82.123918
...

Sheet BSFC
O1: BSFC | P1: Torque (NM)
O2: RPM | P2: 5 | Q2: 7 | R2: 8 | S2: 10 | T2: 13 | U2: 15 | V2: 17 | W2: 19 | X2: 20 | Y2: 21 | Z2: 22 | AA2: 21 | AB2: 20 | AC2: 18 | AD2: 16
O3: 500 | P3: 350 | Q3: 345 | R3: 334 | S3: 327 | T3: 316 | U3: 307 | V3: 294 | W3: 280 | X3: 267 | Y3: 250 | Z3: 236 | AA3: 213 | AB3: 200 | AC3: 175 | AD3: 181
O4: 1000 | P4: 350 | Q4: 345 | R4: 330 | S4: 325 | T4: 315 | U4: 300 | V4: 271 | W4: 265 | X4: 255 | Y4: 239 | Z4: 228 | AA4: 213 | AB4: 200 | AC4: 175 | AD4: 175
O5: 1500 | P5: 350 | Q5: 338 | R5: 318 | S5: 314 | T5: 298 | U5: 288 | V5: 249 | W5: 237 | X5: 230 | Y5: 221 | Z5: 210 | AA5: 209 | AB5: 200 | AC5: 175 | AD5: 175
O6: 2000 | P6: 315 | Q6: 313 | R6: 313 | S6: 300 | T6: 282 | U6: 276 | V6: 225 | W6: 216 | X6: 210 | Y6: 204 | Z6: 198 | AA6: 201 | AB6: 195 | AC6: 175 | AD6: 175
O7: 2500 | P7: 300 | Q7: 298 | R7: 302 | S7: 284 | T7: 267 | U7: 251 | V7: 207 | W7: 201 | X7: 196 | Y7: 193 | Z7: 189 | AA7: 190 | AB7: 192 | AC7: 173 | AD7: 175
O8: 3000 | P8: 292 | Q8: 296 | R8: 281 | S8: 269 | T8: 254 | U8: 224 | V8: 196 | W8: 189 | X8: 183 | Y8: 179 | Z8: 174 | AA8: 183 | AB8: 188 | AC8: 170 | AD8: 175
O9: 3500 | P9: 290 | Q9: 288 | R9: 265 | S9: 248 | T9: 231 | U9: 203 | V9: 184 | W9: 178 | X9: 174 | Y9: 156 | Z9: 153 | AA9: 163 | AB9: 183 | AC9: 168 | AD9: 175
O10: 4000 | P10: 283 | Q10: 284 | R10: 257 | S10: 234 | T10: 222 | U10: 193 | V10: 177 | W10: 169 | X10: 151 | Y10: 144 | Z10: 144 | AA10: 151 | AB10: 179 | AC10: 167 | AD10: 175
O11: 4500 | P11: 274 | Q11: 280 | R11: 253 | S11: 220 | T11: 202 | U11: 184 | V11: 175 | W11: 168 | X11: 152 | Y11: 144 | Z11: 144 | AA11: 144 | AB11: 173 | AC11: 166 | AD11: 175
O12: 5000 | P12: 240 | Q12: 238 | R12: 236 | S12: 234 | T12: 191 | U12: 182 | V12: 176 | W12: 169 | X12: 165 | Y12: 144 | Z12: 144 | AA12: 144 | AB12: 170 | AC12: 167 | AD12: 175
O13: 5500 | P13: 281 | Q13: 275 | R13: 264 | S13: 243 | T13: 216 | U13: 199 | V13: 188 | W13: 181 | X13: 172 | Y13: 144 | Z13: 144 | AA13: 165 | AB13: 170 | AC13: 169 | AD13: 175
O14: 6000 | P14: 312 | Q14: 316 | R14: 311 | S14: 273 | T14: 243 | U14: 215 | V14: 205 | W14: 192 | X14: 183 | Y14: 171 | Z14: 165 | AA14: 168 | AB14: 173 | AC14: 170 | AD14: 175
... O17: 7500 | P17: 390 | Q17: 382 | R17: 365 | S17: 341 | T17: 324 | U17: 280 | V17: 262 | W17: 246 | X17: 234 | Y17: 221 | Z17: 200 | AA17: 187 | AB17: 175 | AC17: 175 | AD17: 175
O20: BSFC | P20: Power (NM)
O21: RPM | P21: 0 | Q21: 0.7 | R21: 1.3 | S21: 2.1 | T21: 3.4 | U21: 4.7 | V21: 6.2 | W21: 8 | X21: 9.4 | Y21: 11 | Z21: 12.7 | AA21: 13.2 | AB21: 13.6 | AC21: 13.2 | AD21: 12.6
O22: 500 | P22: =P3+250 -> 600 | Q22: =Q3+250 -> 595 | R22: =R3+250 -> 584 | S22: =S3+250 -> 577 | T22: =T3+250 -> 566 | U22: =U3+250 -> 557 | V22: =V3+250 -> 544 | W22: =W3+250 -> 530 | ... AD22: =AD3+250 -> 431
O23: 1000 | P23: =P4+250 -> 600 | Q23: =Q4+250 -> 595 | R23: =R4+250 -> 580 | S23: =S4+250 -> 575 | T23: =T4+250 -> 565 | U23: =U4+250 -> 550 | V23: =V4+250 -> 521 | W23: =W4+250 -> 515 | ... AD23: =AD4+250 -> 425
I24: RPM | J24: Torque (Nm) | K24: Power (hp) | L24: KW | O24: 1500 | P24: =P5+250 -> 600 | Q24: =Q5+250 -> 588 | R24: =R5+250 -> 568 | S24: =S5+250 -> 564 | T24: =T5+250 -> 548 | U24: =U5+250 -> 538 | V24: =V5+250 -> 499 | W24: =W5+250 -> 487 | ... AD24: =AD5+250 -> 425
I25: 500 | J25: 5 | K25: =(J25*I25)/7127 -> 0.35077873 | L25: =K25/1.341 -> 0.26157996 | O25: 2000 | P25: =P6+250 -> 565 | Q25: =Q6+250 -> 563 | R25: =R6+250 -> 563 | S25: =S6+250 -> 550 | T25: =T6+250 -> 532 | U25: =U6+250 -> 526 | V25: =V6+250 -> 475 | W25: =W6+250 -> 466 | ... AD25: =AD6+250 -> 425
I26: 1000 | J26: 7 | K26: =(J26*I26)/7127 -> 0.98218044 | L26: =K26/1.341 -> 0.73242389 | O26: 2500 | P26: =P7+250 -> 550 | Q26: =Q7+250 -> 548 | R26: =R7+250 -> 552 | S26: =S7+250 -> 534 | T26: =T7+250 -> 517 | U26: =U7+250 -> 501 | V26: =V7+250 -> 457 | W26: =W7+250 -> 451 | ... AD26: =AD7+250 -> 425
I27: 1500 | J27: 8 | K27: =(J27*I27)/7127 -> 1.6837379 | L27: =K27/1.341 -> 1.2555838 | O27: 3000 | P27: =P8+250 -> 542 | Q27: =Q8+250 -> 546 | R27: =R8+250 -> 531 | S27: =S8+250 -> 519 | T27: =T8+250 -> 504 | U27: =U8+250 -> 474 | V27: =V8+250 -> 446 | W27: =W8+250 -> 439 | ... AD27: =AD8+250 -> 425
I28: 2000 | J28: 10 | K28: =(J28*I28)/7127 -> 2.8062298 | L28: =K28/1.341 -> 2.0926397 | O28: 3500 | P28: =P9+250 -> 540 | Q28: =Q9+250 -> 538 | R28: =R9+250 -> 515 | S28: =S9+250 -> 498 | T28: =T9+250 -> 481 | U28: =U9+250 -> 453 | V28: =V9+250 -> 434 | W28: =W9+250 -> 428 | ... AD28: =AD9+250 -> 425
I29: 2500 | J29: 13 | K29: =(J29*I29)/7127 -> 4.5601235 | L29: =K29/1.341 -> 3.4005395 | O29: 4000 | P29: =P10+250 -> 533 | Q29: =Q10+250 -> 534 | R29: =R10+250 -> 507 | S29: =S10+250 -> 484 | T29: =T10+250 -> 472 | U29: =U10+250 -> 443 | V29: =V10+250 -> 427 | W29: =W10+250 -> 419 | ... AD29: =AD10+250 -> 425
I30: 3000 | J30: 15 | K30: =(J30*I30)/7127 -> 6.3140171 | L30: =K30/1.341 -> 4.7084393 | O30: 4500 | P30: =P11+250 -> 524 | Q30: =Q11+250 -> 530 | R30: =R11+250 -> 503 | S30: =S11+250 -> 470 | T30: =T11+250 -> 452 | U30: =U11+250 -> 434 | V30: =V11+250 -> 425 | W30: =W11+250 -> 418 | ... AD30: =AD11+250 -> 425
I31: 3500 | J31: 17 | K31: =(J31*I31)/7127 -> 8.3485337 | L31: =K31/1.341 -> 6.2256031 | O31: 5000 | P31: =P12+250 -> 490 | Q31: =Q12+250 -> 488 | R31: =R12+250 -> 486 | S31: =S12+250 -> 484 | T31: =T12+250 -> 441 | U31: =U12+250 -> 432 | V31: =V12+250 -> 426 | W31: =W12+250 -> 419 | ... AD31: =AD12+250 -> 425
I32: 4000 | J32: 19 | K32: =(J32*I32)/7127 -> 10.663673 | L32: =K32/1.341 -> 7.9520308 | O32: 5500 | P32: =P13+250 -> 531 | Q32: =Q13+250 -> 525 | R32: =R13+250 -> 514 | S32: =S13+250 -> 493 | T32: =T13+250 -> 466 | U32: =U13+250 -> 449 | V32: =V13+250 -> 438 | W32: =W13+250 -> 431 | ... AD32: =AD13+250 -> 425
I33: 4500 | J33: 20 | K33: =(J33*I33)/7127 -> 12.628034 | L33: =K33/1.341 -> 9.4168786 | O33: 6000 | P33: =P14+250 -> 562 | Q33: =Q14+250 -> 566 | R33: =R14+250 -> 561 | S33: =S14+250 -> 523 | T33: =T14+250 -> 493 | U33: =U14+250 -> 465 | V33: =V14+250 -> 455 | W33: =W14+250 -> 442 | ... AD33: =AD14+250 -> 425
I34: 5000 | J34: 21 | K34: =(J34*I34)/7127 -> 14.732707 | L34: =K34/1.341 -> 10.986358 | O34: 6500 | P34: =P15+250 -> 610 | Q34: =Q15+250 -> 608 | R34: =R15+250 -> 587 | S34: =S15+250 -> 554 | T34: =T15+250 -> 537 | U34: =U15+250 -> 492 | V34: =V15+250 -> 473 | W34: =W15+250 -> 461 | ... AD34: =AD15+250 -> 425
I35: 5500 | J35: 22 | K35: =(J35*I35)/7127 -> 16.97769 | L35: =K35/1.341 -> 12.66047 | O35: 7000 | P35: =P16+250 -> 640 | Q35: =Q16+250 -> 630 | R35: =R16+250 -> 608 | S35: =S16+250 -> 579 | T35: =T16+250 -> 551 | U35: =U16+250 -> 515 | V35: =V16+250 -> 491 | W35: =W16+250 -> 488 | ... AD35: =AD16+250 -> 425
I36: 6000 | J36: 21 | K36: =(J36*I36)/7127 -> 17.679248 | L36: =K36/1.341 -> 13.18363 | O36: 7500 | P36: =P17+250 -> 640 | Q36: =Q17+250 -> 632 | R36: =R17+250 -> 615 | S36: =S17+250 -> 591 | T36: =T17+250 -> 574 | U36: =U17+250 -> 530 | V36: =V17+250 -> 512 | W36: =W17+250 -> 496 | ... AD36: =AD17+250 -> 425
I37: 6500 | J37: 20 | K37: =(J37*I37)/7127 -> 18.240494 | L37: =K37/1.341 -> 13.602158
I38: 7000 | J38: 18 | K38: =(J38*I38)/7127 -> 17.679248 | L38: =K38/1.341 -> 13.18363
I39: 7500 | J39: 16 | K39: =(J39*I39)/7127 -> 16.837379 | L39: =K39/1.341 -> 12.555838

Sheet Graphs

Sheet Track Map
