Workbook

Sheet Main Menu
A6: Engine Performance Characteristics: 2000-2001 1.6L Honda Vtec d16
A10: BEng Motorcycle Engineering Vehicle Technology: ACHA4003 Neil Sandilands: 2110674
C17: CONSTANTS
C22: DYNAMOMETER RESULTS
C27: COMPARISON GRAPHS

Sheet Constants
A2: Engine Dynamometer Constants
B9: Atmospheric Pressure | C9: Humidity | D9: Ambient temp | E9: Ambient temp | F9: Arm length | G9: BHP constant | H9: kilo Watt conversion constant | I9: Bore | J9: Stroke | K9: Area of Bore | L9: No. of Cyclinders | M9: Engine Capacity | N9: Swept Volume | O9: Calorific Value
A10: Symbol
A11: Formula
A12: Unit | B12: Bar | C12: % | D12: C | E12: K | F12: m | H12: kW | I12: m | J12: m | O12: kJ/kg
A13: Value | B13: 1.0189 | C13: 46 | D13: 27 | E13: =D13+273 -> 300 | F13: 0.815776 | G13: 5252 | H13: 9459 | I13: 0.075 | J13: 0.09 | K13: =(PI()*I13^2)/4 -> 0.0044178647 | L13: 4 | M13: =K13*J13*L13 -> 0.0015904313 | N13: =M13/L13 -> 0.00039760782 | O13: 43391

Sheet GrE HnD BsC
B2: DYNO SPEED | C2: Load (W) | E2: FUEL FLOW RATE | H2: LAMBDA | J2: TORQUE | M2: BRAKE POWER | Q2: BRAKE SPECIFIC FUEL CONSUMPTION (SFC) | T2: FUEL ENERGY | W2: MECHANICAL ENERGY | Z2: ENERGY EFFICIENCY | AC2: Thermal Efficiency
M3: Brake Power | N3: Corrected Power | O3: Brake Power
B4: rpm | C4: Newtons | E4: l/min | F4: kg/h | G4: kg/s | J4: Nm | K4: kWatts | M4: Watts | N4: Watts | O4: kilo Watts | Q4: Kg/kW.h | R4: g/kW.h | T4: Joules | U4: Mega Joules | W4: Joules | X4: Mega Joules | Z4: Ratio | AA4: %
F5: litres/min * 0.75 * 60
B6: 1000 | C6: 102.275 | E6: 0.0704 | F6: =(E6*0.75)*60 -> 3.168 | G6: =F6/3600 -> 0.00088 | H6: 1.2658 | I6: 1 | J6: =C6*Constants!$F$13 -> 83.43349 | K6: =J6*B6/Constants!$H$13 -> 8.8205403 | M6: =((J6*(2*PI())*B6/60)) -> 8737.1347 | N6: =M6*((1.01325/Constants!$B$13)*(SQRT(Constants!$E$13/293))) -> 8791.8627 | O6: =N6/1000 -> 8.7918627 | Q6: =F6/O6 -> 0.3603332 | R6: =Q6*1000 -> 360.3332 | T6: =F6*(Constants!$O$13*10^3) -> 137462688 | U6: =T6*10^-6 -> 137.46269 | W6: =N6*3600 -> 31650706 | X6: =W6*10^-6 -> 31.650706 | Z6: =X6/U6 -> 0.23024943 | AA6: =Z6 -> 0.23024943 | AC6: =O6/(G6*Constants!$O$13) -> 0.23024943
B7: =B6+50 -> 1050 | C7: 102.756 | E7: 0.0724 | F7: =(E7*0.75)*60 -> 3.258 | G7: =F7/3600 -> 0.000905 | H7: 1.26783 | I7: 1 | J7: =C7*Constants!$F$13 -> 83.825879 | K7: =J7*B7/Constants!$H$13 -> 9.3051245 | M7: =((J7*(2*PI())*B7/60)) -> 9217.1368 | N7: =M7*((1.01325/Constants!$B$13)*(SQRT(Constants!$E$13/293))) -> 9274.8714 | O7: =N7/1000 -> 9.2748714 | Q7: =F7/O7 -> 0.35127172 | R7: =Q7*1000 -> 351.27172 | T7: =F7*(Constants!$O$13*10^3) -> 141367878 | U7: =T7*10^-6 -> 141.36788 | W7: =N7*3600 -> 33389537 | X7: =W7*10^-6 -> 33.389537 | Z7: =X7/U7 -> 0.236189 | AA7: =Z7 -> 0.236189 | AC7: =O7/(G7*Constants!$O$13) -> 0.236189
B8: =B7+50 -> 1100 | C8: 103.689 | E8: 0.0737 | F8: =(E8*0.75)*60 -> 3.3165 | G8: =F8/3600 -> 0.00092125 | H8: 1.27344 | I8: 1 | J8: =C8*Constants!$F$13 -> 84.586998 | K8: =J8*B8/Constants!$H$13 -> 9.8367372 | M8: =((J8*(2*PI())*B8/60)) -> 9743.7226 | N8: =M8*((1.01325/Constants!$B$13)*(SQRT(Constants!$E$13/293))) -> 9804.7558 | O8: =N8/1000 -> 9.8047558 | Q8: =F8/O8 -> 0.33825422 | R8: =Q8*1000 -> 338.25422 | T8: =F8*(Constants!$O$13*10^3) -> 1.4390625e+08 | U8: =T8*10^-6 -> 143.90625 | W8: =N8*3600 -> 35297121 | X8: =W8*10^-6 -> 35.297121 | Z8: =X8/U8 -> 0.24527858 | AA8: =Z8 -> 0.24527858 | AC8: =O8/(G8*Constants!$O$13) -> 0.24527858
B9: =B8+50 -> 1150 | C9: 104.209 | E9: 0.0728 | F9: =(E9*0.75)*60 -> 3.276 | G9: =F9/3600 -> 0.00091 | H9: 1.28476 | I9: 1 | J9: =C9*Constants!$F$13 -> 85.011201 | K9: =J9*B9/Constants!$H$13 -> 10.335435 | M9: =((J9*(2*PI())*B9/60)) -> 10237.705 | N9: =M9*((1.01325/Constants!$B$13)*(SQRT(Constants!$E$13/293))) -> 10301.832 | O9: =N9/1000 -> 10.301832 | Q9: =F9/O9 -> 0.31800168 | R9: =Q9*1000 -> 318.00168 | T9: =F9*(Constants!$O$13*10^3) -> 142148916 | U9: =T9*10^-6 -> 142.14892 | W9: =N9*3600 -> 37086596 | X9: =W9*10^-6 -> 37.086596 | Z9: =X9/U9 -> 0.26089961 | AA9: =Z9 -> 0.26089961 | AC9: =O9/(G9*Constants!$O$13) -> 0.26089961
B10: =B9+50 -> 1200 | C10: 105.811 | E10: 0.0744 | F10: =(E10*0.75)*60 -> 3.348 | G10: =F10/3600 -> 0.00093 | H10: 1.29181 | I10: 1 | J10: =C10*Constants!$F$13 -> 86.318074 | K10: =J10*B10/Constants!$H$13 -> 10.950596 | M10: =((J10*(2*PI())*B10/60)) -> 10847.049 | N10: =M10*((1.01325/Constants!$B$13)*(SQRT(Constants!$E$13/293))) -> 10914.993 | O10: =N10/1000 -> 10.914993 | Q10: =F10/O10 -> 0.30673404 | R10: =Q10*1000 -> 306.73404 | T10: =F10*(Constants!$O$13*10^3) -> 145273068 | U10: =T10*10^-6 -> 145.27307 | W10: =N10*3600 -> 39293976 | X10: =W10*10^-6 -> 39.293976 | Z10: =X10/U10 -> 0.27048356 | AA10: =Z10 -> 0.27048356 | AC10: =O10/(G10*Constants!$O$13) -> 0.27048356
B11: =B10+50 -> 1250 | C11: 107.51 | E11: 0.07895 | F11: =(E11*0.75)*60 -> 3.55275 | G11: =F11/3600 -> 0.000986875 | H11: 1.29729 | I11: 1 | J11: =C11*Constants!$F$13 -> 87.704078 | K11: =J11*B11/Constants!$H$13 -> 11.59003 | M11: =((J11*(2*PI())*B11/60)) -> 11480.437 | N11: =M11*((1.01325/Constants!$B$13)*(SQRT(Constants!$E$13/293))) -> 11552.349 | O11: =N11/1000 -> 11.552349 | Q11: =F11/O11 -> 0.30753487 | R11: =Q11*1000 -> 307.53487 | T11: =F11*(Constants!$O$13*10^3) -> 1.5415738e+08 | U11: =T11*10^-6 -> 154.15738 | W11: =N11*3600 -> 41588455 | X11: =W11*10^-6 -> 41.588455 | Z11: =X11/U11 -> 0.26977921 | AA11: =Z11 -> 0.26977921 | AC11: =O11/(G11*Constants!$O$13) -> 0.26977921
B12: =B11+50 -> 1300 | C12: 109.488 | E12: 0.079 | F12: =(E12*0.75)*60 -> 3.555 | G12: =F12/3600 -> 0.0009875 | H12: 1.29895 | I12: 1 | J12: =C12*Constants!$F$13 -> 89.317683 | K12: =J12*B12/Constants!$H$13 -> 12.275398 | M12: =((J12*(2*PI())*B12/60)) -> 12159.324 | N12: =M12*((1.01325/Constants!$B$13)*(SQRT(Constants!$E$13/293))) -> 12235.488 | O12: =N12/1000 -> 12.235488 | Q12: =F12/O12 -> 0.29054829 | R12: =Q12*1000 -> 290.54829 | T12: =F12*(Constants!$O$13*10^3) -> 154255005 | U12: =T12*10^-6 -> 154.255 | W12: =N12*3600 -> 44047756 | X12: =W12*10^-6 -> 44.047756 | Z12: =X12/U12 -> 0.28555155 | AA12: =Z12 -> 0.28555155 | AC12: =O12/(G12*Constants!$O$13) -> 0.28555155
B13: =B12+50 -> 1350 | C13: 111.797 | E13: 0.0796 | F13: =(E13*0.75)*60 -> 3.582 | G13: =F13/3600 -> 0.000995 | H13: 1.29469 | I13: 1 | J13: =C13*Constants!$F$13 -> 91.201309 | K13: =J13*B13/Constants!$H$13 -> 13.016362 | M13: =((J13*(2*PI())*B13/60)) -> 12893.281 | N13: =M13*((1.01325/Constants!$B$13)*(SQRT(Constants!$E$13/293))) -> 12974.043 | O13: =N13/1000 -> 12.974043 | Q13: =F13/O13 -> 0.27608973 | R13: =Q13*1000 -> 276.08973 | T13: =F13*(Constants!$O$13*10^3) -> 155426562 | U13: =T13*10^-6 -> 155.42656 | W13: =N13*3600 -> 46706554 | X13: =W13*10^-6 -> 46.706554 | Z13: =X13/U13 -> 0.30050561 | AA13: =Z13 -> 0.30050561 | AC13: =O13/(G13*Constants!$O$13) -> 0.30050561
B14: =B13+50 -> 1400 | C14: 114.268 | E14: 0.0835 | F14: =(E14*0.75)*60 -> 3.7575 | G14: =F14/3600 -> 0.00104375 | H14: 1.2855 | I14: 1 | J14: =C14*Constants!$F$13 -> 93.217092 | K14: =J14*B14/Constants!$H$13 -> 13.7968 | M14: =((J14*(2*PI())*B14/60)) -> 13666.339 | N14: =M14*((1.01325/Constants!$B$13)*(SQRT(Constants!$E$13/293))) -> 13751.943 | O14: =N14/1000 -> 13.751943 | Q14: =F14/O14 -> 0.27323411 | R14: =Q14*1000 -> 273.23411 | T14: =F14*(Constants!$O$13*10^3) -> 1.6304168e+08 | U14: =T14*10^-6 -> 163.04168 | W14: =N14*3600 -> 49506996 | X14: =W14*10^-6 -> 49.506996 | Z14: =X14/U14 -> 0.30364625 | AA14: =Z14 -> 0.30364625 | AC14: =O14/(G14*Constants!$O$13) -> 0.30364625
B15: =B14+50 -> 1450 | C15: 115.783 | E15: 0.0847 | F15: =(E15*0.75)*60 -> 3.8115 | G15: =F15/3600 -> 0.00105875 | H15: 1.27818 | I15: 1 | J15: =C15*Constants!$F$13 -> 94.452993 | K15: =J15*B15/Constants!$H$13 -> 14.478998 | M15: =((J15*(2*PI())*B15/60)) -> 14342.087 | N15: =M15*((1.01325/Constants!$B$13)*(SQRT(Constants!$E$13/293))) -> 14431.923 | O15: =N15/1000 -> 14.431923 | Q15: =F15/O15 -> 0.26410201 | R15: =Q15*1000 -> 264.10201 | T15: =F15*(Constants!$O$13*10^3) -> 1.653848e+08 | U15: =T15*10^-6 -> 165.3848 | W15: =N15*3600 -> 51954924 | X15: =W15*10^-6 -> 51.954924 | Z15: =X15/U15 -> 0.31414571 | AA15: =Z15 -> 0.31414571 | AC15: =O15/(G15*Constants!$O$13) -> 0.31414571
B16: =B15+50 -> 1500 | C16: 116.985 | E16: 0.08865 | F16: =(E16*0.75)*60 -> 3.98925 | G16: =F16/3600 -> 0.001108125 | H16: 1.2795 | I16: 1 | J16: =C16*Constants!$F$13 -> 95.433555 | K16: =J16*B16/Constants!$H$13 -> 15.13377 | M16: =((J16*(2*PI())*B16/60)) -> 14990.668 | N16: =M16*((1.01325/Constants!$B$13)*(SQRT(Constants!$E$13/293))) -> 15084.567 | O16: =N16/1000 -> 15.084567 | Q16: =F16/O16 -> 0.26445903 | R16: =Q16*1000 -> 264.45903 | T16: =F16*(Constants!$O$13*10^3) -> 1.7309755e+08 | U16: =T16*10^-6 -> 173.09755 | W16: =N16*3600 -> 54304441 | X16: =W16*10^-6 -> 54.304441 | Z16: =X16/U16 -> 0.31372161 | AA16: =Z16 -> 0.31372161 | AC16: =O16/(G16*Constants!$O$13) -> 0.31372161
B17: =B16+50 -> 1550 | C17: 117.788 | E17: 0.0932 | F17: =(E17*0.75)*60 -> 4.194 | G17: =F17/3600 -> 0.001165 | H17: 1.27766 | I17: 1 | J17: =C17*Constants!$F$13 -> 96.088623 | K17: =J17*B17/Constants!$H$13 -> 15.745572 | M17: =((J17*(2*PI())*B17/60)) -> 15596.685 | N17: =M17*((1.01325/Constants!$B$13)*(SQRT(Constants!$E$13/293))) -> 15694.38 | O17: =N17/1000 -> 15.69438 | Q17: =F17/O17 -> 0.26722942 | R17: =Q17*1000 -> 267.22942 | T17: =F17*(Constants!$O$13*10^3) -> 181981854 | U17: =T17*10^-6 -> 181.98185 | W17: =N17*3600 -> 56499767 | X17: =W17*10^-6 -> 56.499767 | Z17: =X17/U17 -> 0.31046923 | AA17: =Z17 -> 0.31046923 | AC17: =O17/(G17*Constants!$O$13) -> 0.31046923
B18: =B17+50 -> 1600 | C18: 118.471 | E18: 0.0959 | F18: =(E18*0.75)*60 -> 4.3155 | G18: =F18/3600 -> 0.00119875 | H18: 1.28235 | I18: 1 | J18: =C18*Constants!$F$13 -> 96.645798 | K18: =J18*B18/Constants!$H$13 -> 16.347741 | M18: =((J18*(2*PI())*B18/60)) -> 16193.159 | N18: =M18*((1.01325/Constants!$B$13)*(SQRT(Constants!$E$13/293))) -> 16294.59 | O18: =N18/1000 -> 16.29459 | Q18: =F18/O18 -> 0.2648425 | R18: =Q18*1000 -> 264.8425 | T18: =F18*(Constants!$O$13*10^3) -> 1.8725386e+08 | U18: =T18*10^-6 -> 187.25386 | W18: =N18*3600 -> 58660525 | X18: =W18*10^-6 -> 58.660525 | Z18: =X18/U18 -> 0.31326737 | AA18: =Z18 -> 0.31326737 | AC18: =O18/(G18*Constants!$O$13) -> 0.31326737
... B96: =B95+50 -> 5500 | C96: 88.6474 | E96: 0.3488 | F96: =(E96*0.75)*60 -> 15.696 | G96: =F96/3600 -> 0.00436 | H96: 1.08366 | I96: 1 | J96: =C96*Constants!$F$13 -> 72.316421 | K96: =J96*B96/Constants!$H$13 -> 42.048876 | M96: =((J96*(2*PI())*B96/60)) -> 41651.269 | N96: =M96*((1.01325/Constants!$B$13)*(SQRT(Constants!$E$13/293))) -> 41912.166 | O96: =N96/1000 -> 41.912166 | Q96: =F96/O96 -> 0.37449747 | R96: =Q96*1000 -> 374.49747 | T96: =F96*(Constants!$O$13*10^3) -> 681065136 | U96: =T96*10^-6 -> 681.06514 | W96: =N96*3600 -> 1.508838e+08 | X96: =W96*10^-6 -> 150.8838 | Z96: =X96/U96 -> 0.22154092 | AA96: =Z96 -> 0.22154092 | AC96: =O96/(G96*Constants!$O$13) -> 0.22154092

Sheet Graphs
