Workbook
Name ____INF1: #REF!
Name ____INF1: #REF!
Name ____INF2: #REF!
Name ____INF2: #REF!
Name ___INF1: #REF!
Name ___INF1: #REF!
Name ___INF2: #REF!
Name ___INF2: #REF!
Name __INF1: #REF!
Name __INF1: #REF!
Name __INF2: #REF!
Name __INF2: #REF!
Name _bar1: #REF!
Name _bar1: #REF!
Name _boh1: #REF!
Name _boh1: #REF!
Name _foh1: #REF!
Name _foh1: #REF!
Name _INF1: #REF!
Name _INF1: #REF!
Name _INF2: #REF!
Name _INF2: #REF!
Name Accept: [0]!Accept
Name Access: '[1]KING INPUT SHEET'!$D$28
Name ADDRESS1: #REF!
Name ADDRESS1: #REF!
Name ADDRESS2: #REF!
Name ADDRESS2: #REF!
Name admin1: #REF!
Name admin1: #REF!
Name Area: [2]Indices!$D$2:$F$81
Name BASE_DATE: '[3]Master Data Sheet'!$D$41
Name Base_Date: '[4]PROJECT INPUTS'!$E$9
Name bathrooms1: #REF!
Name bathrooms1: #REF!
Name BCIS_Location: [5]Library!$H$15:$I$94
Name BCIS_TPI: [5]Library!$K$15:$L$44
Name bedroomcorridors1: #REF!
Name bedroomcorridors1: #REF!
Name bedrooms1: #REF!
Name bedrooms1: #REF!
Name Beds: [6]DATA!$F$13
Name BlockABath: '[7]Block A - Data'!$H$54
Name BlockAens: '[7]Block A - Data'!$H$55
Name BlockAGIA: '[7]Block A - Data'!$E$31
Name BlockANIA: '[7]Block A - Data'!$G$31
Name BlockAUnits: '[7]Block A - Data'!$H$49
Name BlockBbath: '[7]Block B - Data'!$H$56
Name BlockBens: '[7]Block B - Data'!$H$57
Name BlockBGIA: '[7]Block B - Data'!$E$31
Name BlockBNIA: '[7]Block B - Data'!$G$31
Name BlockBUnits: '[7]Block B - Data'!$H$51
Name BlockCBath: '[7]Block C - Data'!$H$55
Name BlockCEns: '[7]Block C - Data'!$H$56
Name BlockCGIA: '[7]Block C - Data'!$E$31
Name BlockCNIA: '[7]Block C - Data'!$G$31
Name BlockCUnits: '[7]Block C - Data'!$H$50
Name BlockDBath: '[7]Block D - Data'!$H$60
Name BlockDEns: '[7]Block D - Data'!$H$61
Name BlockDGIA: '[7]Block D - Data'!$E$35

Sheet Front

Sheet Information Used
B6: Information Used & Assumptions
B8: 1 | C8: Information Used
C10: Technical Elevations sheet 1 (External)
C11: Technical Elevations sheet 2 (External)
C12: Proposed Ground Floor Plan
C13: Proposed First Floor Plan
C14: Proposed Second Floor Plan
C16: Information as provided by Swansea metropolitan university
C17: Multi-Utility Infrastructure Feasibility Study
B19: 2 | C19: General assumptions:
C20: £350/m2 of GIFA for the provision of mechanical and eletrical
C21: £150/m2 based on footprint area to cover new substructure installation
C22: £150,000.00 Provisional sum for removal of contaminated waste
C23: Provisional sum of £135,000.00 to cover FF&E and installation
C24: Anticipated commencement of the project 1Q21
C25: No abnormal ground condition
C26: Provisional sum of £70,000.00 for two revolving doors
C27: Provisional sum of £45/m2 of the GIFA to cover structural work
C28: External works not included
C29: Preliminaries 15%
C30: Design contingency 10%
B32: 3 | C32: General notes and exclusions;
C33: All included costs are subject to variation following design development.
C34: Risks associated with BREXIT are not considered.
C35: A risk allowance of 25% is included for this estimate.
C36: VAT is excluded from the estimate.
C37: Works will be undertaken in a single phase.

Sheet Summary Original
B2: Project details: Educational Facility
B5: Description: New University Library
B7: Works cost estimate
B9: Based on GIA of: 2724 m2
C11: Group Element | D11: Element Type | E11: Cost | F11: £/m2
B12: Building works estimate
C13: Group element 0 | D13: FACILITATING WORKS | E13: 150000 | F13: 55.06
C14: Group element 1 | D14: ='NRM1 CP template '!C14 -> SUBSTRUCTURE | E14: 164846 | F14: 60.52
C15: Group element 2 | D15: ='NRM1 CP template '!C21 -> SUPERSTRUCTURE | E15: 1444216 | F15: 530.18
C16: Group element 3 | D16: ='NRM1 CP template '!C121 -> INTERNAL FINISHES | E16: 177087 | F16: 65
C17: Group element 4 | D17: ='NRM1 CP template '!C137 -> FITTINGS AND FURNISHINGS | E17: 135000 | F17: 49.56
C18: Group element 5 | D18: ='NRM1 CP template '!C141 -> SERVICES | E18: 967905 | F18: 355.32
C19: Group element 8 | D19: EXTERNAL WOKS - excluded from scope | E19: 0 | F19: 0
C20: Group element 9 | D20: MAIN CONTRACTORS PREMILINARIES | E20: 454681 | F20: 166.92
B22: Works cost estimate (sub total A) | E22: =E13+E14+E15+E16+E17+E18+E20 -> 3493735 | F22: 1282.56
B25: Project design team fees and other development costs (sub total B)
B28: Base cost estimate A + B (sub total C) | E28: =E22 -> 3493735 | F28: =F22 -> 1282.56
C30: Group element 13
C32: Design & Development Contingency | D32: Risk allowance @ 10% | E32: 349373.5 | F32: 128.25
C33: Other Mis. Risk | D33: Risk allowance @ 0% | E33: 0 | F33: 0
B35: Total Risk allowances (sub total D) | E35: =E32 -> 349373.5 | F35: =F32 -> 128.25
B37: Total Construction Cost (C + D) | E37: =E22+E35 -> 3843108.5 | F37: =F28+F32 -> 1410.81

Sheet NRM1 CP template 
A2: Cost Plan for Swansea Metropolitan University Library
A3: NRM 1 phaseologies
A4: Elemental Cost Plan
A8: Ref. | C8: Element | D8: Quantity / unit | F8: Rate | G8: Sub-Total | H8: Group-Total | I8: Notes
F9: £ | G9: £ | H9: £
A10: 0 | C10: FACILITATING WORKS | H10: =G12 -> 150000
A11: 0.1 | C11: Toxic/hazardous material
C12: Contaminated land | D12: 1 | E12: item | F12: 150000 | G12: 150000
A14: 1 | C14: SUBSTRUCTURE | H14: =G18+G19+G17 -> 164846
A16: 1.1 | C16: Foundations
C17: Reinforced pile caps | D17: 22 | E17: nr | F17: 910 | G17: 20020
C18: Ground floor construction; 200mm thick reinforced concrete | D18: 908 | E18: m2 | F18: 125 | G18: 113500
C19: 150mm thick floor insulation to ground floor slab | D19: 908 | E19: m2 | F19: 34.5 | G19: 31326
A21: 2 | C21: SUPERSTRUCTURE | H21: =G23+G24 -> 140860
A22: 2.1 | C22: Frame
C23: Pad frame | D23: 908 | E23: m2 | F23: £45.00 | G23: £40,860.00
C24: Structural steel frame; fire protection to steel | D24: 1 | E24: item | F24: 100000 | G24: 100000
A26: 2.2 | C26: Upper Floors | H26: =G28+G27 -> 316892
C27: 200mm thick precast concrete suspended floors; no finishes | D27: 1816 | E27: m2 | F27: £140.00 | G27: £254,240.00
C28: Insulation to upper floors | D28: 1816 | E28: m2 | F28: 34.5 | G28: 62652
A31: 2.3 | C31: Roof | H31: =G32+G33+G34 -> 150266
C32: Metal standing seam roof; 0.9 mm thick; 180 mm glassfibre insulation; vapour control layer; liner sheets | D32: 1273 | E32: m2 | F32: £74.00 | G32: £94,202.00
C33: PC aluminium rooflight; rectangular; eletric opening | D33: 34 | E33: m2 | F33: £1200.00 | G33: £40,800.00
C34: Rainwater goods; gutters; downpipes; fixed to backgrounds | D34: 144 | E34: m | F34: £106.00 | G34: £15,264.00
A36: 2.4 | C36: Stairs & Ramps | H36: =G37+G38 -> 66040
C37: Reinforced concrete staircase; granolithic finish; 3.00 m rise; dogleg; over three storeys | D37: 6 | E37: nr | F37: £7,800.00 | G37: 46800
C38: Balustrades and handrail | D38: 37 | E38: m | F38: 520 | G38: 19240
A40: 2.5 | C40: External Walls | H40: =G41+G42+G44+G43 -> 225360
C41: Facing brickwork (Masonry) | D41: 473 | E41: m2 | F41: £170.00 | G41: £80,410.00
C42: Aluminium rainscreen cladding | D42: 275 | E42: m2 | F42: 310 | G42: 85250
C43: Insulation; Kingspan Kooltherm K8 (Thermal conductivity 0.022 W/mK) z; 75 mm thick | D43: 700 | E43: m2 | F43: £21.00 | G43: £14,700.00
C44: PPC shading lourves | D44: 3 | E44: item | F44: £45,000.00 | G44: £45,000.00
A48: 2.6 | C48: Windows and external doors | H48: =G50+G63+G86 -> 303993.5
C50: Aluminium double glazing windows (All elevations) | D50: 174 | E50: m2 | F50: £310.00 | G50: £53,940.00
C52: Projection for windows
C53: Type 1 2400 x 460 mm
C54: Type 2 2400 x 1360 mm
C55: Type 2a 2400 x 1360 mm
C56: Type 3 2400 x 1360 mm
C57: Type 3a 2400 x 1360 mm
...
