Workbook
Name CurrentPageIndex: 'Lesson Plan'!$D$67
Name TotalPages: 'Lesson Plan'!$D$68
Name Wizard.View1: 'Lesson Plan'!$I:$L
Name Wizard.View2: 'Lesson Plan'!#REF!
Name Wizard.View3: 'Lesson Plan'!#REF!
Name Wizard.View4: 'Lesson Plan'!#REF!
Name Wizard.View5: 'Lesson Plan'!#REF!

Sheet Introduction
B2: Pedagogic Profiling Toolkit | L2: Using the Toolkit
B5: This toolkit is an interactive workbook for the creation and analysis of lesson plans made up of a sequence of learning activities. It provides the course designer with a visual map of the planned learning activity mix and is intended to assist course team discussions about effective practice and offers a point of reference when carrying out course evaluation. The toolkit is based on the completion of lesson plans for timetabled classes by the teacher. A lesson plan template allows the systematic building of teaching sessions through the assembly of learning activities to achieve the planned learning experience and outcomes for the students. The lesson plan begins with an overall session descriptor that includes year, level & cohort size, as well as the learning objectives. This is followed by the learning activity sequence broken down into learning activity types. A learning activity map emerges as the template is completed. The different types of | L5: The toolkit derives all its primary data from the lesson plan. The learning activities, activity types, timings and student numbers combine to create the learning activity map and feed into the pedagogic profiling. | V5: are used to indicate the extent to which that activity supports, proportionally, the 3 sets of contrasting learning processes experienced by the student. These contrasting processes are in pairs: individual or social learning; information based or experiential learning; reflective or non-reflective learning.
L9: Stage 1: Completing the Lesson Plan
L11: 1. To begin, click on the Lesson Plan Tab at the bottom of this page. Complete the lesson plan overview on the left of the page, including all basic data, general session description and learning aims. The learning outcomes can be selected from the drop-down lists provided (based on Bloom's taxonomy) and a brief descriptor added. The total learning time and student numbers will be added automatically.
V16: 3. Enter an 'x' into a box on the horixontal grid between each pair of contrasting learning processes. Position it so it approximates to the proportion you estimate best reflects that activity (for example, a discussion may be seen as 70% social learning with 30% individual learning. The same discussion might represent 55% experiential learning & 45% information based. Reflective learning may involve 70% of the activity with 30% non-reflective memorisation of key facts).
L18: 2. In the central window enter the learning activities and activity types. These may be selected from the drop-down lists provided. You are asked for a summary, together with the planned learning time for each activity and the student numbers involved. Where the activity involves the whole class give that number; where group activity is involved, just enter the group size. Select either 'teacher led' or 'student led' from the 'Focus' drop-down list. As the data is entered, a chart showing the learning activity mix for the session will be presented on the right of the screen, together with a list of the session activities.
G20: activity are combined to give an overall picture for the session. This includes an indication of the proportion of active learning taking place through student tasks, problem solving and group work. The learning activity mix is then used to create a pedagogic profile for the teaching session by aligning the learning activities to key pedagogic characteristics drawn from learning theory.
V24: 4. The profile that emerges will represent all the learning activities in the lesson plan in proportion to the time allocated for each.
L28: Stage 2: Completing the Pedagogic Profile
V29: The process of considering the type of learning that is being supported by each learning activity, and the overall profile that results, are both intended to help the teacher to evaluate and plan for improvement in the teaching effectiveness.
L30: 1. Click on the Pedagogic Profile Tab at the bottom of the page. The basic session data and the learning activity map on the left will have been completed automatically from the Lesson Plan. The Pedagogic Profile on the right will be empty.
B34: The pedagogic profile, together with the learning activity map, can be used as a benchmark for evaluating learning effectiveness, including the design of learning spaces and the use of learning technology.
L35: 2. The pedagogic profile is built using the horizontal grid in the centre of the page. Each Learning Activity Type has 3 sets of 10 horizontal boxes which

Sheet Lesson Plan
B2: Lesson Plan | I2: Learning Activities
B4: Overview | I4: Learning Activity 1 | J4: Introduction
B5: Course | C5: BAEd Primary Education
B6: Subject | C6: The Foundation Phase & Key Stage Two Curriculum | I6: Activity type | J6: Learning time (min) | K6: Group size | L6: Focus
B7: Topic | C7: Curricula, key documentation and ICT in the classroom | I7: Presentation | J7: 20 | K7: 85 | L7: Teacher led
B8: Session Type | C8: Group Work | I8: Summary:
B9: Author | C9: Gail Parker | E9: Date | I9: Introduction to the session. Near pod presentation: Overview and theory regarding knowledge (Shulman) and how the Curricula have evolved.
B11: Description
B12: The Curriculum is a vital component of Primary Education that trainees need to understand and use within their teaching sessions. Professionalism will also be discussed (in line with the views expressed at CPC meetings), ensuring first year trainees understand how to behave once they arrive at their Primary school placements. QTS standards are introduced and discussed to ensure trainees have an initial understanding of their own targets.
I14: Learning Activity 2 | J14: The Wales model of Education
I16: Activity type | J16: Learning time (min) | K16: Group size | L16: Focus
I17: Collaboration | J17: 20 | K17: 8 | L17: Student led
B18: Aims | I18: Summary:
B19: To gain an understanding of the curricula and key documentation and the use of ICT within the Primary classroom. | I19: Looking at the Wales model of Education: Creating a mind map & upload into Near pod. Share mind maps: Discussion and comparison of ideas and interpretations.
B22: Learning outcomes | C22: Description
B23: Knowledge | C23: Knowledge of the Key stage two documentation, the Foundation Phase Framework & QTS standards. | N23: Learning Activities: | O23: =IF(J4<>"Enter activity title here",1," ") -> 1 | P23: =IF(J4<>"Enter activity title here",J4," ") -> Introduction
I24: Learning Activity 3 | J24: Use of ICT within the Primary Curriculum | O24: =IF(J14<>"Enter activity title here",2," ") -> 2 | P24: =IF(J14<>"Enter activity title here",J14," ") -> The Wales model of Education
B25: Comprehension | C25: To gain an understanding of the curriculum in relation to cross curricular lesson planning. | O25: =IF(J24<>"Enter activity title here",3," ") -> 3 | P25: =IF(J24<>"Enter activity title here",J24," ") -> Use of ICT within the Primary Curriculum
I26: Activity type | J26: Learning time (min) | K26: Group size | L26: Focus | O26: =IF(J34<>"Enter activity title here",4," ") -> 4 | P26: =IF(J34<>"Enter activity title here",J34," ") -> Documentation: what do we know & need to know?
B27: Application | C27: To plan a key stage two session & a Foundation Phase session, working from the correct documentation. | I27: Discussion | J27: 25 | K27: 85 | L27: Teacher led | O27: =IF(J44<>"Enter activity title here",5," ") -> 5 | P27: =IF(J44<>"Enter activity title here",J44," ") -> Plenary
I28: Summary: | O28: =IF(J54<>"Enter activity title here",6," ") -> 6 | P28: =IF(J54<>"Enter activity title here",J54," ") -> Concusion
I29: Near pod: Examining the use of ICT within the primary classroom. Discuss pros & cons of the use of ICT within the primary classroom. Use a poll within Near pod & share results of opinions with the student group.
B30: Total learning time (min) | D30: =(J7+J17+J27+J37+J47) -> 150 | E30: Total students | G30: =MAX(K7,K17,K27,K37,K47) -> 85
I34: Learning Activity 4 | J34: Documentation: what do we know & need to know?
I36: Activity type | J36: Learning time (min) | K36: Group size | L36: Focus
I37: Investigation | J37: 55 | K37: 8 | L37: Student led
I38: Summary:
I39: Students gather information to plan a session within the Foundation Phase and Key Stage Two. Quiz to check basic knowledge: Students get instant individual feed back from quiz results.
I44: Learning Activity 5 | J44: Plenary
I46: Activity type | J46: Learning time (min) | K46: Group size | L46: Focus
I47: Collaboration | J47: 30 | K47: 85 | L47: Student led
I48: Summary:
I49: Share the ideas for lessons that have been generated. Students examine and discuss other groups’ ideas and suggestions. Encouragement of open discussion in professional manner.
I54: Learning Activity 6 | J54: Concusion
I56: Activity type | J56: Learning time (min) | K56: Group size | L56: Focus
I57: Discussion | J57: 10 | K57: 85 | L57: Teacher led
I58: Summary:
I59: Summarise session objectives and outcomes. Discuss key issues & lessons learned.
B67: CurrentPageIndex | D67: 2
B68: TotalPages | D68: 5

Sheet Pedagogic Profile
B2: Course | C2: ='Lesson Plan'!C5 -> BAEd Primary Education | K2: =IF(Data!D28<>0,"Presentation","Presentation not included") -> Presentation | W2: Guidance: Enter 'x' in an appropriate box in the horizontal scale showing, for example, whether the 'Presentation' activity during the session involved more individual learning rather than social learning or vice-versa. Then indicate whether you feel it was more information based or experiential, and then whether it was a more reflective or non-reflective learning process. Repeat for the 'Discussion' learning activity and so on for the other activities in the session. The result will be indicated graphically in the profile below.
B3: Subject | C3: ='Lesson Plan'!C6 -> The Foundation Phase & Key Stage Two Curriculum | J3: Individual | M3: x | U3: Social
B4: Topic | C4: ='Lesson Plan'!C7 -> Curricula, key documentation and ICT in the classroom | J4: Information | L4: x | U4: Experiential
B5: Session Type | C5: ='Lesson Plan'!C8 -> Group Work | J5: Reflective | L5: x | U5: Non-reflective
B6: Author | C6: ='Lesson Plan'!C9 -> Gail Parker | F6: Date | G6: ='Lesson Plan'!$F$9 -> 0
K7: =IF(Data!F28<>0,"Discussion","Discussion not included") -> Discussion
J8: Individual | Q8: x | U8: Social
J9: Information | M9: x | U9: Experiential
J10: Reflective | M10: x | U10: Non-reflective
K12: =IF(Data!H28<>0,"Collaboration","Collaboration not included") -> Collaboration
J13: Individual | S13: x | U13: Social
J14: Information | S14: x | U14: Experiential
J15: Reflective | N15: x | U15: Non-reflective
K17: =IF(Data!J28<>0,"Investigation","Investigation not included") -> Investigation
J18: Individual | R18: x | U18: Social
J19: Information | R19: x | U19: Experiential
J20: Reflective | M20: x | U20: Non-reflective
K22: =IF(Data!L28<>0,"Practice","Practice not included") -> Practice not included
J23: Individual | U23: Social
J24: Information | U24: Experiential
J25: Reflective | U25: Non-reflective
K27: =IF(Data!N28<>0,"Production","Production not included") -> Production not included
J28: Individual | U28: Social
J29: Information | U29: Experiential
B30: Activity Focus | C30: =Data!V8 -> 0.3 | D30: Tutor led | F30: =Data!V5 -> 0.7 | G30: Student led | J30: Reflective | U30: Non-reflective
K32: =IF(Data!N33<>0,"Assessment","Assessment not included") -> Assessment not included
J33: Individual | U33: Social
J34: Information | U34: Experiential
J35: Reflective | U35: Non-reflective

Sheet Data
A1: Dropdown lists | R1: Activity focus
A2: Learning outcomes | D2: Learning activity | G2: Session focus | R2: Teacher led | T2: Student led | V2: Totals
A4: Select from dropdown list | D4: Select from dropdown list | G4: Select from dropdown list | R4: =IF('Lesson Plan'!L7="Teacher led",1,0) -> 1 | S4: =R4*('Lesson Plan'!J7) -> 20 | T4: =IF('Lesson Plan'!L7="Student led",1,0) -> 0 | U4: =T4*('Lesson Plan'!J7) -> 0 | V4: Student
A5: Knowledge | D5: Presentation | G5: Teacher led | R5: =IF('Lesson Plan'!L17="Teacher led",1,0) -> 0 | S5: =R5*('Lesson Plan'!J17) -> 0 | T5: =IF('Lesson Plan'!L17="Student led",1,0) -> 1 | U5: =T5*('Lesson Plan'!J17) -> 20 | V5: =SUM(U4:U8)/(SUM(U4:U8)+SUM(S4:S8)) -> 0.7
A6: Comprehension | D6: Discussion | G6: Student led | R6: =IF('Lesson Plan'!L27="Teacher led",1,0) -> 1 | S6: =R6*('Lesson Plan'!J27) -> 25 | T6: =IF('Lesson Plan'!L27="Student led",1,0) -> 0 | U6: =T6*('Lesson Plan'!J27) -> 0
A7: Application | D7: Collaboration | G7: Other | R7: =IF('Lesson Plan'!L37="Teacher led",1,0) -> 0 | S7: =R7*('Lesson Plan'!J37) -> 0 | T7: =IF('Lesson Plan'!L37="Student led",1,0) -> 1 | U7: =T7*('Lesson Plan'!J37) -> 55 | V7: Tutor
A8: Analysis | D8: Investigation | R8: =IF('Lesson Plan'!L47="Teacher led",1,0) -> 0 | S8: =R8*('Lesson Plan'!J47) -> 0 | T8: =IF('Lesson Plan'!L47="Student led",1,0) -> 1 | U8: =T8*('Lesson Plan'!J47) -> 30 | V8: =SUM(S4:S8)/(SUM(S4:S8)+SUM(U4:U8)) -> 0.3
A9: Synthesis | D9: Practice
A10: Evaluation | D10: Production | H10: Learning Activity
A11: Skills | D11: Assessment | G11: Learning | H11: Presentation | I11: Discussion | J11: Collaboration | K11: Investigation | L11: Practice | M11: Production | N11: Assessment | O11: Totals
A12: Other | D12: No further activities | G12: Individual | H12: =IF('Pedagogic Profile'!K3="x",D30,IF('Pedagogic Profile'!L3="x",D30*0.9,IF('Pedagogic Profile'!M3="x",D30*0.8,IF('Pedagogic Profile'!N3="x",D30*0.7,IF('Pedagogic Profile'!O3="x",D30*0.6,IF('Pedagogic Profile'!P3="x",D30*0.5,IF('Pedagogic Profile'!Q3="x",D30*0.4,IF('Pedagogic Profile'!R3="x",D30*0.3,IF('Pedagogic Profile'!S3="x",D30*0.2,IF('Pedagogic Profile'!T3="x",D30*0.1,0)))))))))) -> 10 | I12: =IF('Pedagogic Profile'!K8="x",F30,IF('Pedagogic Profile'!L8="x",F30*0.9,IF('Pedagogic Profile'!M8="x",F30*0.8,IF('Pedagogic Profile'!N8="x",F30*0.7,IF('Pedagogic Profile'!O8="x",F30*0.6,IF('Pedagogic Profile'!P8="x",F30*0.5,IF('Pedagogic Profile'!Q8="x",F30*0.4,IF('Pedagogic Profile'!R8="x",F30*0.3,IF('Pedagogic Profile'!S8="x",F30*0.2,IF('Pedagogic Profile'!T8="x",F30*0.1,0)))))))))) -> 8.75 | J12: =IF('Pedagogic Profile'!K13="x",H30,IF('Pedagogic Profile'!L13="x",H30*0.9,IF('Pedagogic Profile'!M13="x",H30*0.8,IF('Pedagogic Profile'!N13="x",H30*0.7,IF('Pedagogic Profile'!O13="x",H30*0.6,IF('Pedagogic Profile'!P13="x",H30*0.5,IF('Pedagogic Profile'!Q13="x",H30*0.4,IF('Pedagogic Profile'!R13="x",H30*0.3,IF('Pedagogic Profile'!S13="x",H30*0.2,IF('Pedagogic Profile'!T13="x",H30*0.1,0)))))))))) -> 6.25 | K12: =IF('Pedagogic Profile'!K18="x",J30,IF('Pedagogic Profile'!L18="x",J30*0.9,IF('Pedagogic Profile'!M18="x",J30*0.8,IF('Pedagogic Profile'!N18="x",J30*0.7,IF('Pedagogic Profile'!O18="x",J30*0.6,IF('Pedagogic Profile'!P18="x",J30*0.5,IF('Pedagogic Profile'!Q18="x",J30*0.4,IF('Pedagogic Profile'!R18="x",J30*0.3,IF('Pedagogic Profile'!S18="x",J30*0.2,IF('Pedagogic Profile'!T18="x",J30*0.1,0)))))))))) -> 10.3125 | L12: =IF('Pedagogic Profile'!K23="x",L30,IF('Pedagogic Profile'!L23="x",L30*0.9,IF('Pedagogic Profile'!M23="x",L30*0.8,IF('Pedagogic Profile'!N23="x",L30*0.7,IF('Pedagogic Profile'!O23="x",L30*0.6,IF('Pedagogic Profile'!P23="x",L30*0.5,IF('Pedagogic Profile'!Q23="x",L30*0.4,IF('Pedagogic Profile'!R23="x",L30*0.3,IF('Pedagogic Profile'!S23="x",L30*0.2,IF('Pedagogic Profile'!T23="x",L30*0.1,0)))))))))) -> 0 | M12: =IF('Pedagogic Profile'!K28="x",N30,IF('Pedagogic Profile'!L28="x",N30*0.9,IF('Pedagogic Profile'!M28="x",N30*0.8,IF('Pedagogic Profile'!N28="x",N30*0.7,IF('Pedagogic Profile'!O28="x",N30*0.6,IF('Pedagogic Profile'!TP28="x",N30*0.5,IF('Pedagogic Profile'!Q28="x",N30*0.4,IF('Pedagogic Profile'!R28="x",N30*0.3,IF('Pedagogic Profile'!S28="x",N30*0.2,IF('Pedagogic Profile'!T28="x",N30*0.1,0)))))))))) -> 0 | N12: =IF('Pedagogic Profile'!K33="x",P30,IF('Pedagogic Profile'!L33="x",P30*0.9,IF('Pedagogic Profile'!M33="x",P30*0.8,IF('Pedagogic Profile'!N33="x",P30*0.7,IF('Pedagogic Profile'!O33="x",P30*0.6,IF('Pedagogic Profile'!P33="x",P30*0.5,IF('Pedagogic Profile'!Q33="x",P30*0.4,IF('Pedagogic Profile'!R33="x",P30*0.3,IF('Pedagogic Profile'!S33="x",P30*0.2,IF('Pedagogic Profile'!T33="x",P30*0.1,0)))))))))) -> 0 | O12: =SUM(H12:N12) -> 35.3125
G13: Information | H13: =IF('Pedagogic Profile'!K4="x",D30,IF('Pedagogic Profile'!L4="x",D30*0.9,IF('Pedagogic Profile'!M4="x",D30*0.8,IF('Pedagogic Profile'!N4="x",D30*0.7,IF('Pedagogic Profile'!O4="x",D30*0.6,IF('Pedagogic Profile'!P4="x",D30*0.5,IF('Pedagogic Profile'!Q4="x",D30*0.4,IF('Pedagogic Profile'!R4="x",D30*0.3,IF('Pedagogic Profile'!S4="x",D30*0.2,IF('Pedagogic Profile'!T4="x",D30*0.1,0)))))))))) -> 11.25 | I13: =IF('Pedagogic Profile'!K9="x",F30,IF('Pedagogic Profile'!L9="x",F30*0.9,IF('Pedagogic Profile'!M9="x",F30*0.8,IF('Pedagogic Profile'!N9="x",F30*0.7,IF('Pedagogic Profile'!O9="x",F30*0.6,IF('Pedagogic Profile'!P9="x",F30*0.5,IF('Pedagogic Profile'!Q9="x",F30*0.4,IF('Pedagogic Profile'!R9="x",F30*0.3,IF('Pedagogic Profile'!S9="x",F30*0.2,IF('Pedagogic Profile'!T9="x",F30*0.1,0)))))))))) -> 17.5 | J13: =IF('Pedagogic Profile'!K14="x",H30,IF('Pedagogic Profile'!L14="x",H30*0.9,IF('Pedagogic Profile'!M14="x",H30*0.8,IF('Pedagogic Profile'!N14="x",H30*0.7,IF('Pedagogic Profile'!O14="x",H30*0.6,IF('Pedagogic Profile'!P14="x",H30*0.5,IF('Pedagogic Profile'!Q14="x",H30*0.4,IF('Pedagogic Profile'!R14="x",H30*0.3,IF('Pedagogic Profile'!S14="x",H30*0.2,IF('Pedagogic Profile'!T14="x",H30*0.1,0)))))))))) -> 6.25 | K13: =IF('Pedagogic Profile'!K19="x",J30,IF('Pedagogic Profile'!L19="x",J30*0.9,IF('Pedagogic Profile'!M19="x",J30*0.8,IF('Pedagogic Profile'!N19="x",J30*0.7,IF('Pedagogic Profile'!O19="x",J30*0.6,IF('Pedagogic Profile'!P19="x",J30*0.5,IF('Pedagogic Profile'!Q19="x",J30*0.4,IF('Pedagogic Profile'!R19="x",J30*0.3,IF('Pedagogic Profile'!S19="x",J30*0.2,IF('Pedagogic Profile'!T19="x",J30*0.1,0)))))))))) -> 10.3125 | L13: =IF('Pedagogic Profile'!K24="x",L30,IF('Pedagogic Profile'!L24="x",L30*0.9,IF('Pedagogic Profile'!M24="x",L30*0.8,IF('Pedagogic Profile'!N24="x",L30*0.7,IF('Pedagogic Profile'!O24="x",L30*0.6,IF('Pedagogic Profile'!P24="x",L30*0.5,IF('Pedagogic Profile'!Q24="x",L30*0.4,IF('Pedagogic Profile'!R24="x",L30*0.3,IF('Pedagogic Profile'!S24="x",L30*0.2,IF('Pedagogic Profile'!T24="x",L30*0.1,0)))))))))) -> 0 | M13: =IF('Pedagogic Profile'!K29="x",N30,IF('Pedagogic Profile'!L29="x",N30*0.9,IF('Pedagogic Profile'!M29="x",N30*0.8,IF('Pedagogic Profile'!N29="x",N30*0.7,IF('Pedagogic Profile'!O29="x",N30*0.6,IF('Pedagogic Profile'!TP29="x",N30*0.5,IF('Pedagogic Profile'!Q29="x",N30*0.4,IF('Pedagogic Profile'!R29="x",N30*0.3,IF('Pedagogic Profile'!S29="x",N30*0.2,IF('Pedagogic Profile'!T29="x",N30*0.1,0)))))))))) -> 0 | N13: =IF('Pedagogic Profile'!K34="x",P30,IF('Pedagogic Profile'!L34="x",P30*0.9,IF('Pedagogic Profile'!M34="x",P30*0.8,IF('Pedagogic Profile'!N34="x",P30*0.7,IF('Pedagogic Profile'!O34="x",P30*0.6,IF('Pedagogic Profile'!P34="x",P30*0.5,IF('Pedagogic Profile'!Q34="x",P30*0.4,IF('Pedagogic Profile'!R34="x",P30*0.3,IF('Pedagogic Profile'!S34="x",P30*0.2,IF('Pedagogic Profile'!T34="x",P30*0.1,0)))))))))) -> 0 | O13: =SUM(H13:N13) -> 45.3125
G14: Reflective | H14: =IF('Pedagogic Profile'!K5="x",D30,IF('Pedagogic Profile'!L5="x",D30*0.9,IF('Pedagogic Profile'!M5="x",D30*0.8,IF('Pedagogic Profile'!N5="x",D30*0.7,IF('Pedagogic Profile'!O5="x",D30*0.6,IF('Pedagogic Profile'!P5="x",D30*0.5,IF('Pedagogic Profile'!Q5="x",D30*0.4,IF('Pedagogic Profile'!R5="x",D30*0.3,IF('Pedagogic Profile'!S5="x",D30*0.2,IF('Pedagogic Profile'!T5="x",D30*0.1,0)))))))))) -> 11.25 | I14: =IF('Pedagogic Profile'!K10="x",F30,IF('Pedagogic Profile'!L10="x",F30*0.9,IF('Pedagogic Profile'!M10="x",F30*0.8,IF('Pedagogic Profile'!N10="x",F30*0.7,IF('Pedagogic Profile'!O10="x",F30*0.6,IF('Pedagogic Profile'!P10="x",F30*0.5,IF('Pedagogic Profile'!Q10="x",F30*0.4,IF('Pedagogic Profile'!R10="x",F30*0.3,IF('Pedagogic Profile'!S10="x",F30*0.2,IF('Pedagogic Profile'!T10="x",F30*0.1,0)))))))))) -> 17.5 | J14: =IF('Pedagogic Profile'!K15="x",H30,IF('Pedagogic Profile'!L15="x",H30*0.9,IF('Pedagogic Profile'!M15="x",H30*0.8,IF('Pedagogic Profile'!N15="x",H30*0.7,IF('Pedagogic Profile'!O15="x",H30*0.6,IF('Pedagogic Profile'!P15="x",H30*0.5,IF('Pedagogic Profile'!Q15="x",H30*0.4,IF('Pedagogic Profile'!R15="x",H30*0.3,IF('Pedagogic Profile'!S15="x",H30*0.2,IF('Pedagogic Profile'!T15="x",H30*0.1,0)))))))))) -> 21.875 | K14: =IF('Pedagogic Profile'!K20="x",J30,IF('Pedagogic Profile'!L20="x",J30*0.9,IF('Pedagogic Profile'!M20="x",J30*0.8,IF('Pedagogic Profile'!N20="x",J30*0.7,IF('Pedagogic Profile'!O20="x",J30*0.6,IF('Pedagogic Profile'!P20="x",J30*0.5,IF('Pedagogic Profile'!Q20="x",J30*0.4,IF('Pedagogic Profile'!R20="x",J30*0.3,IF('Pedagogic Profile'!S20="x",J30*0.2,IF('Pedagogic Profile'!T20="x",J30*0.1,0)))))))))) -> 27.5 | L14: =IF('Pedagogic Profile'!K25="x",L30,IF('Pedagogic Profile'!L25="x",L30*0.9,IF('Pedagogic Profile'!M25="x",L30*0.8,IF('Pedagogic Profile'!N25="x",L30*0.7,IF('Pedagogic Profile'!O25="x",L30*0.6,IF('Pedagogic Profile'!P25="x",L30*0.5,IF('Pedagogic Profile'!Q25="x",L30*0.4,IF('Pedagogic Profile'!R25="x",L30*0.3,IF('Pedagogic Profile'!S25="x",L30*0.2,IF('Pedagogic Profile'!T25="x",L30*0.1,0)))))))))) -> 0 | M14: =IF('Pedagogic Profile'!K30="x",N30,IF('Pedagogic Profile'!L30="x",N30*0.9,IF('Pedagogic Profile'!M30="x",N30*0.8,IF('Pedagogic Profile'!N30="x",N30*0.7,IF('Pedagogic Profile'!O30="x",N30*0.6,IF('Pedagogic Profile'!TP30="x",N30*0.5,IF('Pedagogic Profile'!Q30="x",N30*0.4,IF('Pedagogic Profile'!R30="x",N30*0.3,IF('Pedagogic Profile'!S30="x",N30*0.2,IF('Pedagogic Profile'!T30="x",N30*0.1,0)))))))))) -> 0 | N14: =IF('Pedagogic Profile'!K35="x",P30,IF('Pedagogic Profile'!L35="x",P30*0.9,IF('Pedagogic Profile'!M35="x",P30*0.8,IF('Pedagogic Profile'!N35="x",P30*0.7,IF('Pedagogic Profile'!O35="x",P30*0.6,IF('Pedagogic Profile'!P35="x",P30*0.5,IF('Pedagogic Profile'!Q35="x",P30*0.4,IF('Pedagogic Profile'!R35="x",P30*0.3,IF('Pedagogic Profile'!S35="x",P30*0.2,IF('Pedagogic Profile'!T35="x",P30*0.1,0)))))))))) -> 0 | O14: =SUM(H14:N14) -> 78.125
G15: Social | H15: =D30-H12 -> 2.5 | I15: =F30-I12 -> 13.125 | J15: =H30-J12 -> 25 | K15: =J30-K12 -> 24.0625 | L15: =L30-L12 -> 0 | M15: =N30-M12 -> 0 | N15: =P30-N12 -> 0 | O15: =SUM(H15:N15) -> 64.6875
G16: Experiential | H16: =D30-H13 -> 1.25 | I16: =F30-I13 -> 4.375 | J16: =H30-J13 -> 25 | K16: =J30-K13 -> 24.0625 | L16: =L30-L13 -> 0 | M16: =N30-M13 -> 0 | N16: =P30-N13 -> 0 | O16: =SUM(H16:N16) -> 54.6875
G17: Non-Reflective | H17: =D30-H14 -> 1.25 | I17: =F30-I14 -> 4.375 | J17: =H30-J14 -> 9.375 | K17: =J30-K14 -> 6.875 | L17: =L30-L14 -> 0 | M17: =N30-M14 -> 0 | N17: =P30-N14 -> 0 | O17: =SUM(H17:N17) -> 21.875
A20: Learning Activity mix
B21: Time | C21: Presentation | D21: minutes | E21: Discussion | F21: minutes | G21: Collaboration | H21: minutes | I21: Investigation | J21: minutes | K21: Practice | L21: minutes | M21: Production | N21: minutes | O21: Assessment | P21: minutes
A22: Activity 1 | B22: ='Lesson Plan'!J7 -> 20 | C22: =IF('Lesson Plan'!I7="Presentation",1,0) -> 1 | D22: =B22*C22 -> 20 | E22: =IF('Lesson Plan'!I7="Discussion",1,0) -> 0 | F22: =B22*E22 -> 0 | G22: =IF('Lesson Plan'!I7="Collaboration",1,0) -> 0 | H22: =B22*G22 -> 0 | I22: =IF('Lesson Plan'!I7="Investigation",1,0) -> 0 | J22: =B22*I22 -> 0 | K22: =IF('Lesson Plan'!I7="Practice",1,0) -> 0 | L22: =B22*K22 -> 0 | M22: =IF('Lesson Plan'!I7="Production",1,0) -> 0 | N22: =B22*M22 -> 0 | O22: =IF('Lesson Plan'!I7="Assessment",1,0) -> 0 | P22: =B22*O22 -> 0
A23: Activity 2 | B23: ='Lesson Plan'!J17 -> 20 | C23: =IF('Lesson Plan'!I17="Presentation",1,0) -> 0 | D23: =B23*C23 -> 0 | E23: =IF('Lesson Plan'!I17="Discussion",1,0) -> 0 | F23: =B23*E23 -> 0 | G23: =IF('Lesson Plan'!I17="Collaboration",1,0) -> 1 | H23: =B23*G23 -> 20 | I23: =IF('Lesson Plan'!I17="Investigation",1,0) -> 0 | J23: =B23*I23 -> 0 | K23: =IF('Lesson Plan'!I17="Practice",1,0) -> 0 | L23: =B23*K23 -> 0 | M23: =IF('Lesson Plan'!I17="Production",1,0) -> 0 | N23: =B23*M23 -> 0 | O23: =IF('Lesson Plan'!I17="Assessment",1,0) -> 0 | P23: =B23*O23 -> 0
A24: Activity 3 | B24: ='Lesson Plan'!J27 -> 25 | C24: =IF('Lesson Plan'!I27="Presentation",1,0) -> 0 | D24: =B24*C24 -> 0 | E24: =IF('Lesson Plan'!I27="Discussion",1,0) -> 1 | F24: =B24*E24 -> 25 | G24: =IF('Lesson Plan'!I27="Collaboration",1,0) -> 0 | H24: =B24*G24 -> 0 | I24: =IF('Lesson Plan'!I27="Investigation",1,0) -> 0 | J24: =B24*I24 -> 0 | K24: =IF('Lesson Plan'!I27="Practice",1,0) -> 0 | L24: =B24*K24 -> 0 | M24: =IF('Lesson Plan'!I27="Production",1,0) -> 0 | N24: =B24*M24 -> 0 | O24: =IF('Lesson Plan'!I27="Assessment",1,0) -> 0 | P24: =B24*O24 -> 0
A25: Activity 4 | B25: ='Lesson Plan'!J37 -> 55 | C25: =IF('Lesson Plan'!I37="Presentation",1,0) -> 0 | D25: =B25*C25 -> 0 | E25: =IF('Lesson Plan'!I37="Discussion",1,0) -> 0 | F25: =B25*E25 -> 0 | G25: =IF('Lesson Plan'!I37="Collaboration",1,0) -> 0 | H25: =B25*G25 -> 0 | I25: =IF('Lesson Plan'!I37="Investigation",1,0) -> 1 | J25: =B25*I25 -> 55 | K25: =IF('Lesson Plan'!I37="Practice",1,0) -> 0 | L25: =B25*K25 -> 0 | M25: =IF('Lesson Plan'!I37="Production",1,0) -> 0 | N25: =B25*M25 -> 0 | O25: =IF('Lesson Plan'!I37="Assessment",1,0) -> 0 | P25: =B25*O25 -> 0
A26: Activity 5 | B26: ='Lesson Plan'!J47 -> 30 | C26: =IF('Lesson Plan'!I47="Presentation",1,0) -> 0 | D26: =B26*C26 -> 0 | E26: =IF('Lesson Plan'!I47="Discussion",1,0) -> 0 | F26: =B26*E26 -> 0 | G26: =IF('Lesson Plan'!I47="Collaboration",1,0) -> 1 | H26: =B26*G26 -> 30 | I26: =IF('Lesson Plan'!I47="Investigation",1,0) -> 0 | J26: =B26*I26 -> 0 | K26: =IF('Lesson Plan'!I47="Practice",1,0) -> 0 | L26: =B26*K26 -> 0 | M26: =IF('Lesson Plan'!I47="Production",1,0) -> 0 | N26: =B26*M26 -> 0 | O26: =IF('Lesson Plan'!I47="Assessment",1,0) -> 0 | P26: =B26*O26 -> 0
A27: Activity 6 | B27: ='Lesson Plan'!J57 -> 10 | C27: =IF('Lesson Plan'!I57="Presentation",1,0) -> 0 | D27: =B27*C27 -> 0 | E27: =IF('Lesson Plan'!I57="Discussion",1,0) -> 1 | F27: =B27*E27 -> 10 | G27: =IF('Lesson Plan'!I57="Collaboration",1,0) -> 0 | H27: =B27*G27 -> 0 | I27: =IF('Lesson Plan'!I57="Investigation",1,0) -> 0 | J27: =B27*I27 -> 0 | K27: =IF('Lesson Plan'!I57="Practice",1,0) -> 0 | L27: =B27*K27 -> 0 | M27: =IF('Lesson Plan'!I57="Production",1,0) -> 0 | N27: =B27*M27 -> 0 | O27: =IF('Lesson Plan'!I57="Assessment",1,0) -> 0 | P27: =B27*O27 -> 0
A28: Totals | B28: =SUM(B22:B27) -> 160 | D28: =SUM(D22:D27) -> 20 | F28: =SUM(F22:F27) -> 35 | H28: =SUM(H22:H27) -> 50 | J28: =SUM(J22:J27) -> 55 | L28: =SUM(L22:L27) -> 0 | N28: =SUM(N22:N27) -> 0 | P28: =SUM(P22:P27) -> 0
D29: =D28/B28 -> 0.125 | F29: =F28/B28 -> 0.21875 | H29: =H28/B28 -> 0.3125 | J29: =J28/B28 -> 0.34375 | L29: =L28/B28 -> 0 | N29: =N28/B28 -> 0 | P29: =P28/B28 -> 0
A30: Data Max | D30: =D29*100 -> 12.5 | F30: =F29*100 -> 21.875 | H30: =H29*100 -> 31.25 | J30: =J29*100 -> 34.375 | L30: =L29*100 -> 0 | N30: =N29*100 -> 0 | P30: =P29*100 -> 0
A31: Data Value | D31: =INT(D30*0.2) -> 2 | F31: =INT(F30*0.8) -> 17 | H31: =INT(H30*0.8) -> 25 | J31: =INT(J30*0.4) -> 13 | L31: =INT(L30*0.4) -> 0 | N31: =INT(N30*0.4) -> 0 | P31: =INT(P30*0.2) -> 0
