Workbook

Sheet Input and Reseach
J1: https://www.ferrari.com/en-EN/auto/ff#specifications
B2: Curb Mass | C2: 1880 | D2: kg
B3: Wheel Base | C3: 2.99 | D3: m
B4: Fuel Tank Volume | C4: 91 | D4: L
B5: Petrol Density | C5: 748 | D5: kg/m3
B6: Petrol Mass | C6: =C4/1000*C5 -> 68.068 | D6: kg
B7: Torque | C7: 683 | D7: Nm
B8: Steering Ratio | C8: 11.5 | D8: :1
B9: Weight Distribution | C9: =(100-47)/100 -> 0.53 | D9: Rear
B13: Front | C13: 47 | E13: Rear | F13: 53
B14: Front Track | C14: 1.676 | D14: m | E14: Rear Track | F14: 1.66 | G14: m
B15: Front Tyre | C15: 245/35/ZR20 | E15: Rear Tyre | F15: 295/35/ ZR20
B16: Wheel Diameter | C16: 20 | D16: in | E16: Wheel Diameter | F16: 20 | G16: in
B17: Wheel Diameter | C17: =C16/39.37 -> 0.50800102 | D17: m | E17: Wheel Diameter | F17: =F16/39.37 -> 0.50800102 | G17: m
B18: Width | C18: =0.245 -> 0.245 | D18: m | E18: Width | F18: 0.295 | G18: m
B19: Profile | C19: 35 | E19: Profile | F19: 35
B20: Rolling Radius | C20: =(C17+2*C18*(C19/100))/2 -> 0.33975051 | D20: m | E20: Rolling Radius | F20: =(F17+2*F18*(F19/100))/2 -> 0.35725051 | G20: m
B23: Front Gear ratio
B24: 1 | C24: 6% longer than rear 2
B25: 2 | C25: 6% longer than Rear 4
B27: 4RM Mass | C27: 90 | D27: lbs
B28: 4RM Mass | C28: =C27/2.205 -> 40.816327 | D28: kg
B31: Gear | C31: Front Gear Ratio | E31: Gear | F31: Rear Gear Ratio
B32: 1 | C32: =(F33*F39*1.06)/C39 -> 2.3214 | E32: 1 | F32: 3.4
B33: 2 | C33: =(F35*1.06*F39)/C39 -> 1.3674 | E33: 2 | F33: 2.19
E34: 3 | F34: 1.63
E35: 4 | F35: 1.29
E36: 5 | F36: 1.03
E37: 6 | F37: 0.84
E38: 7 | F38: 0.63
B39: FD Front | C39: =F39 -> 4.38 | E39: FD Rear | F39: 4.38
B41: Torque to outside wheel | C41: 90 | D41: %

Sheet Lumped Mass Model
B5: Weight Distribution | C5: ='Input and Reseach'!$C$9 -> 0.53
B6: Wheelbase | C6: ='Input and Reseach'!$C$3 -> 2.99 | D6: m
B7: Centre of Gravity | C7: =C6*C5 -> 1.5847 | D7: m
B9: Yaw Inertia | C9: =Y48 -> 3785.218 | D9: kg.m2
B11: Dynamic Index | C11: =C9/(W48*C17*C18) -> 0.904101
B13: W.B. | C13: 2.99 | D13: m
B14: Izz | C14: =C9 -> 3785.218 | D14: kg.m2
B15: Mass | C15: 1880 | D15: kg
B16: W.D. Rear | C16: 0.53
B17: a | C17: =C16*C13 -> 1.5847 | D17: m | Q17: 1.67m | AB17: 1.66m
B18: b | C18: =C13-C17 -> 1.4053 | D18: m
B19: DI | C19: =C14/(C15*C17*C18) -> 0.904101
B22: i=mk2
B23: k2/a=c
B24: Radius of Gyration | C24: =C9/C15 -> 2.0134139 | D24: m2 | U24: 1.58m | W24: 2.99m | Y24: 1.41
B25: Inertial Conjugate | C25: =C24/(C17) -> 1.2705331 | D25: m
H26: https://www.the-blueprints.com/modules/vectordrawings/preview/04100-mid.jpg
B27: DI | C27: 0.95
B28: Izz | C28: =C27*(C15*C17*C18) -> 3977.3843 | D28: kg.m2 | U28: 1.58 | W28: =SUM(W30:W46) -> 1855
T29: From Front | U29: from Cg | W29: Mass | Y29: Yaw
S30: F Wheel | T30: 0 | U30: =T30-$U$28 -> -1.58 | V30: m | W30: =2*40 -> 80 | X30: kg | Y30: =W30*U30^2 -> 199.712 | AD30: Distance from Front | AE30: Distance from C.G. | AF30: Component Mass | AG30: Yaw Inertia
S31: 4RM | T31: 0 | U31: =T31-$U$28 -> -1.58 | V31: m | W31: 60 | X31: kg | Y31: =W31*U31^2 -> 149.784 | AD31: m | AE31: m | AF31: kg | AG31: kg.m2
S32: Engine | T32: 0.45 | U32: =T32-$U$28 -> -1.13 | V32: m | W32: 400 | X32: kg | Y32: =W32*U32^2 -> 510.76 | AC32: =S30 -> F Wheel | AD32: =T30 -> 0 | AE32: =U30 -> -1.58 | AF32: =W30 -> 80 | AG32: =Y30 -> 199.712
S33: Occupant | T33: 1.93 | U33: =T33-$U$28 -> 0.35 | V33: m | W33: 140 | X33: kg | Y33: =W33*U33^2 -> 17.15 | AC33: =S31 -> 4RM | AD33: =T31 -> 0 | AE33: =U31 -> -1.58 | AF33: =W31 -> 60 | AG33: =Y31 -> 149.784
S34: Fuel Tank | T34: 2.8 | U34: =T34-$U$28 -> 1.22 | V34: m | W34: 70 | X34: kg | Y34: =W34*U34^2 -> 104.188 | AC34: =S32 -> Engine | AD34: =T32 -> 0.45 | AE34: =U32 -> -1.13 | AF34: =W32 -> 400 | AG34: =Y32 -> 510.76
S35: R Wheel | T35: 2.99 | U35: =T35-$U$28 -> 1.41 | V35: m | W35: =2*40 -> 80 | X35: kg | Y35: =W35*U35^2 -> 159.048 | AC35: =S33 -> Occupant | AD35: =T33 -> 1.93 | AE35: =U33 -> 0.35 | AF35: =W33 -> 140 | AG35: =Y33 -> 17.15
S36: Trans Diff | T36: 3.1 | U36: =T36-$U$28 -> 1.52 | V36: m | W36: 250 | X36: kg | Y36: =W36*U36^2 -> 577.6 | AC36: =S34 -> Fuel Tank | AD36: =T34 -> 2.8 | AE36: =U34 -> 1.22 | AF36: =W34 -> 70 | AG36: =Y34 -> 104.188
S37: F Bumper | T37: -0.899 | U37: =T37-$U$28 -> -2.479 | V37: m | W37: 40 | X37: kg | Y37: =W37*U37^2 -> 245.81764 | AC37: =S35 -> R Wheel | AD37: =T35 -> 2.99 | AE37: =U35 -> 1.41 | AF37: =W35 -> 80 | AG37: =Y35 -> 159.048
S38: R Bumper | T38: 4 | U38: =T38-$U$28 -> 2.42 | V38: m | W38: 30 | X38: kg | Y38: =W38*U38^2 -> 175.692 | AC38: =S36 -> Trans Diff | AD38: =T36 -> 3.1 | AE38: =U36 -> 1.52 | AF38: =W36 -> 250 | AG38: =Y36 -> 577.6
S39: Doors | T39: 1.5 | U39: =T39-$U$28 -> -0.08 | V39: m | W39: 20 | X39: kg | Y39: =W39*U39^2 -> 0.128 | AC39: =S37 -> F Bumper | AD39: =T37 -> -0.899 | AE39: =U37 -> -2.479 | AF39: =W37 -> 40 | AG39: =Y37 -> 245.81764
S40: Boot | T40: =2.99+0.7 -> 3.69 | U40: =T40-$U$28 -> 2.11 | V40: m | W40: 40 | X40: kg | Y40: =W40*U40^2 -> 178.084 | AC40: =S38 -> R Bumper | AD40: =T38 -> 4 | AE40: =U38 -> 2.42 | AF40: =W38 -> 30 | AG40: =Y38 -> 175.692
S41: Bonnet | T41: 0.2 | U41: =T41-$U$28 -> -1.38 | V41: m | W41: 15 | X41: kg | Y41: =W41*U41^2 -> 28.566 | AC41: =S39 -> Doors | AD41: =T39 -> 1.5 | AE41: =U39 -> -0.08 | AF41: =W39 -> 20 | AG41: =Y39 -> 0.128
B42: 1994 Dodge Viper | S42: Wings | T42: 0.6 | U42: =T42-$U$28 -> -0.98 | V42: m | W42: =2*15 -> 30 | X42: kg | Y42: =W42*U42^2 -> 28.812 | AC42: =S40 -> Boot | AD42: =T40 -> 3.69 | AE42: =U40 -> 2.11 | AF42: =W40 -> 40 | AG42: =Y40 -> 178.084
B43: Izz | C43: 2272 | D43: kg.m2 | S43: Roof | T43: 2.5 | U43: =T43-$U$28 -> 0.92 | V43: m | W43: 10 | X43: kg | Y43: =W43*U43^2 -> 8.464 | AC43: =S41 -> Bonnet | AD43: =T41 -> 0.2 | AE43: =U41 -> -1.38 | AF43: =W41 -> 15 | AG43: =Y41 -> 28.566
B44: Mass | C44: 1490 | D44: kg | S44: Rear 3/4 | T44: 2.99 | U44: =T44-$U$28 -> 1.41 | V44: m | W44: =2*30 -> 60 | X44: kg | Y44: =W44*U44^2 -> 119.286 | AC44: =S42 -> Wings | AD44: =T42 -> 0.6 | AE44: =U42 -> -0.98 | AF44: =W42 -> 30 | AG44: =Y42 -> 28.812
B45: W.D Rear | C45: 0.51 | D45: - | S45: Dash ECUs | T45: 1.2 | U45: =T45-$U$28 -> -0.38 | V45: m | W45: 20 | X45: kg | Y45: =W45*U45^2 -> 2.888 | AC45: =S43 -> Roof | AD45: =T43 -> 2.5 | AE45: =U43 -> 0.92 | AF45: =W43 -> 10 | AG45: =Y43 -> 8.464
B46: W.b | C46: 2.446 | D46: m | S46: Chassis | T46: 1.58 | U46: =T46-$U$28 -> 0 | W46: 510 | X46: kg | Y46: =T56 -> 1193.3426 | AC46: =S44 -> Rear 3/4 | AD46: =T44 -> 2.99 | AE46: =U44 -> 1.41 | AF46: =W44 -> 60 | AG46: =Y44 -> 119.286
B47: a | C47: =C46*C45 -> 1.24746 | D47: m | S47: Balance | T47: =U28-U47 -> -0.2736 | U47: =(U30*W30+U31*W31+U32*W32+U33*W33+U34*W34+U35*W35+U36*W36+U37*W37+U38*W38+U39*W39+U40*W40+U41*W41+U42*W42+U43*W43+U44*W44+U45*W45+U46*W46)/W47 -> 1.8536 | V47: m | W47: ='Input and Reseach'!C2-W28 -> 25 | X47: kg | Y47: =IF(W47<=0,0,W47*U47^2) -> 85.895824 | AC47: =S45 -> Dash ECUs | AD47: =T45 -> 1.2 | AE47: =U45 -> -0.38 | AF47: =W45 -> 20 | AG47: =Y45 -> 2.888
B48: b | C48: =C46*(1-C45) -> 1.19854 | D48: m | S48: Total | W48: =SUM(W30:W47) -> 1880 | X48: kg | Y48: =SUM(Y30:Y47) -> 3785.218 | AC48: =S46 -> Chassis | AD48: =T46 -> 1.58 | AE48: =U46 -> 0 | AF48: =W46 -> 510 | AG48: =Y46 -> 1193.3426
B49: DI | C49: =C43/(C44*C47*C48) -> 1.0198655 | D49: - | AC49: =S47 -> Balance | AD49: =T47 -> -0.2736 | AE49: =U47 -> 1.8536 | AF49: =W47 -> 25 | AG49: =Y47 -> 85.895824
...

Sheet Torque & Clutch
B3: Input
B4: Max Crank Torque | C4: ='Input and Reseach'!C7 -> 683 | D4: Nm
B5: Clutch Friction | C5: 0.1
B6: Assumed Clutch Inner Radius | C6: 0.05 | D6: m
B7: Pressure on plate | C7: =50*100000 -> 5000000 | D7: Pa
B8: Actuator Force | C8: =2*PI()*C7*C6*(0.2-C6) -> 235619.45 | D8: N
B10: Front Clutch
B11: Torque | C11: =C4*I23 -> 184.41 | D11: Nm
B12: Numer of Plates | C12: 2
B13: Outer radius | C13: =SQRT((C11/C12)/(PI()*$C$5*$C$7*$C$6)+$C$6^2) -> 0.060613452 | D13: m | F13: Constant Wear
B14: Diameter | C14: =C13*2*1000 -> 121.2269 | D14: mm
B16: Rear Dual Clutch
B17: Torque | C17: =C4 -> 683 | D17: Nm
B18: Numer of Plates | C18: 3
B19: Outer radius | C19: =SQRT((C17/C18)/(PI()*$C$5*$C$7*$C$6)+$C$6^2) -> 0.073476132 | D19: m
B20: Diameter | C20: =C19*2*1000 -> 146.95226 | D20: mm
B22: Front Axle Vectoring Clutch | I22: Front | N22: Rear
B23: Total Ratio 1&FD | C23: ='Input and Reseach'!C32*'Input and Reseach'!C39 -> 10.167732 | H23: Torque split | I23: 0.27 | N23: =1-I23 -> 0.73
B24: 4RM Efficiency | C24: =0.95*0.95 -> 0.9025 | H24: Torque | I24: =C4*I23 -> 184.41 | J24: Nm | N24: =C4*N23 -> 498.59 | O24: Nm
B25: Torque | C25: =C11*C23 -> 1875.0315 | D25: Nm | H25: Gear | I25: 1 | N25: 1
B26: Numer of Plates | C26: 8 | H26: Wheel Torque | I26: =I24*('Input and Reseach'!C39*'Input and Reseach'!C32) -> 1875.0315 | J26: Nm | N26: =N24*'Input and Reseach'!F32*'Input and Reseach'!F39 -> 7425.0023 | O26: Nm
B27: Outer radius | C27: =SQRT((C25/C26)/(PI()*$C$5*$C$7*$C$6)+$C$6^2) -> 0.07405542 | D27: m | H27: Wheel Torque split | I27: =I26/SUM(I26,N26) -> 0.20161555 | N27: =N26/SUM(I26,N26) -> 0.79838445
B28: Diameter | C28: =C27*2*1000 -> 148.11084 | D28: mm
H29: Scale Inner Radius | I29: Value | J29: Unit
B30: Force at Front Tyre | C30: =C25/'Input and Reseach'!C20/2 -> 2759.4241 | D30: N | H30: Disk Diameter | I30: 0.398 | J30: m
H31: Left Height | I31: 5.19 | J31: cm
H32: Right Height | I32: 6.25 | J32: cm
H33: Brake Height Centre | I33: =AVERAGE(I31,I32) -> 5.72 | J33: cm
H34: Clutch PTU Height | I34: 1.3 | J34: cm | K34: Assumed to be in the centre
H35: Clutch PTU Diameter | I35: =I30/I31*I34 -> 0.099691715 | J35: m
H36: 4RM ri | I36: =I35/2 -> 0.049845857 | J36: m
C60: https://images.app.goo.gl/41X5g3ZrgFM8MNbY9

Sheet Split Mu
B4: Incline | C4: 15/100
B5: Theta | C5: =DEGREES(ATAN(15/100)) -> 8.5307656 | D5: deg
B6: Mass | C6: ='Input and Reseach'!C2 -> 1880 | D6: kg
B7: Wb | C7: ='Input and Reseach'!C3 -> 2.99 | D7: m
B9: Left Mu | C9: 1 | F9: Right Mu | G9: 0.1 | W9: 15
B10: Front Axle | C10: ='Input and Reseach'!C2*('Input and Reseach'!C13/100) -> 883.6 | D10: kg | F10: Rear Axle | G10: ='Input and Reseach'!C2*('Input and Reseach'!F13/100) -> 996.4 | H10: kg
B11: C.G height | C11: 0.5 | D11: m
B12: Front RR | C12: ='Input and Reseach'!C20 -> 0.33975051 | D12: m | F12: Rear RR | G12: ='Input and Reseach'!F20 -> 0.35725051 | H12: m | S12: 100
B13: Front Track | C13: ='Input and Reseach'!C14 -> 1.676 | D13: m | F13: Rear Track | G13: ='Input and Reseach'!F14 -> 1.66 | H13: m
B15: Force down hill | C15: =C6*9.81*SIN(RADIANS(C5)) -> 2735.8133 | D15: N
B16: Wt | C16: =(C15*C11)/C7 -> 457.49386 | D16: N
B17: Force on Road | C17: =(C6*COS(RADIANS(C5))*9.81)/2 -> 9119.3777 | D17: N
B18: Load Front | C18: =C17-C16 -> 8661.8838 | D18: N | F18: Load Rear | G18: =C17+C16 -> 9576.8715 | H18: N
B19: per wheel | C19: =C18/2 -> 4330.9419 | D19: N | F19: per wheel | G19: =G18/2 -> 4788.4358 | H19: N
H23: F Track
G24: μ=1 | H24: =C13 -> 1.676 | I24: =D13 -> m | J24: μ=0.1
B27: 4WD Force on each Tyre
E31: FL Force | K31: FR Force
E32: =C19*C9 -> 4330.9419 | F32: N | K32: =C19*G9 -> 433.09419 | L32: N
K36: Axle to C.G.
K37: 1.58 | L37: m
K41: Wheel Base
K42: =C7 -> 2.99 | L42: m
E48: RL Force | K48: RR Force
E49: =G19*C9 -> 4788.4358 | F49: N | K49: =G19*G9 -> 478.84358 | L49: N
B54: Total Drive Force | C54: =SUM(E32,K32,K49,E49)-C72 -> 7774.1302 | D54: N
B55: Acceleration | C55: =(C54-C15)/C6 -> 2.6799558 | D55: m/s2
B57: 0-62mph | C57: =(100/3.6)/C55 -> 10.365013 | D57: s | G57: R Track | H57: =G13 -> 1.66 | I57: m
Q59: Total Force | R59: Force Driving Forward | S59: Acceleration | T59: 0-62 MPH | U59: Yaw | V59: Yaw Acceleration | W59: Hand Wheel Angle
B60: Rear Only with E-Diff | F60: 4WD E-Diff | P60: Units | Q60: =D62 -> N | R60: =D62 -> N | S60: m/s2 | T60: s | U60: Nm | V60: Deg/s2 | W60: °
P61: 2WD Open | Q61: 957.7 | R61: =957.7-C15 -> -1778.1133 | S61: -0.95 | T61: -29.37 | U61: 0 | V61: 0 | W61: 0
B62: Total Drive Force | C62: =E49+K49-C15 -> 2531.466 | D62: N | F62: Total Drive Force | H62: =SUM(E49,K49,K32,E32)-H72-C15 -> 2976.0695 | I62: N | P62: 4WD Open | Q62: 1823.9 | R62: =1823.9-C15 -> -911.91331 | S62: -0.49 | T62: -57.3 | U62: 0 | V62: 0 | W62: 0
B63: Acceleration | C63: =(C62)/C6 -> 1.3465245 | D63: m/s2 | F63: Acceleration | H63: =(H62)/C6 -> 1.5830157 | I63: m/s2 | P63: 2WD E-Diff | Q63: 5267.2794 | R63: 2531.5 | S63: 1.3465245 | T63: 20.629241 | U63: 3576.9615 | V63: 62.818703 | W63: 27.123961
B64: 0-62mph | C64: =(100/3.6)/C63 -> 20.629241 | D64: s | F64: 0-62mph | H64: =(100/3.6)/H63 -> 17.54738 | I64: s | P64: 4WD E-Diff | Q64: 10031.315 | R64: =H62 -> 2976.0695 | S64: =H63 -> 1.5830157 | T64: =H64 -> 17.54738 | U64: =H68 -> 6845.0049 | V64: =H70 -> 103.61091 | W64: =H81 -> 51.905408
B66: Difference Force | C66: =E49-K49 -> 4309.5922 | D66: N | F66: Difference Force | H66: =E49+E32-K32-K49 -> 8207.4399 | I66: N
B67: Track | C67: =H57 -> 1.66 | D67: m | F67: Mean Track | H67: =AVERAGE(H57,H24) -> 1.668 | I67: m
B68: Yaw | C68: =C66*(C67/2) -> 3576.9615 | D68: Nm | F68: Yaw | H68: =H66*(H67/2) -> 6845.0049 | I68: Nm
B69: Yaw Acceleration | C69: =C68/'Lumped Mass Model'!$C$9 -> 0.94498163 | D69: Rad/s2 | F69: Yaw Acceleration | H69: =H68/'Lumped Mass Model'!$C$9 -> 1.8083515 | I69: Rad/s2 | Q69: 5267.2794 | R69: 5267.2794 | S69: 1.3465245 | T69: 20.629241 | U69: 3576.9615 | V69: 62.818703 | W69: 27.123961
B70: =B69 -> Yaw Acceleration | C70: =C69*360/(2*PI()) -> 54.143459 | D70: Deg/s2 | F70: =F69 -> Yaw Acceleration | H70: =H69*360/(2*PI()) -> 103.61091 | I70: Deg/s2
B72: Front Force | C72: =C68/'Lumped Mass Model'!C17 -> 2257.1853 | D72: N | F72: Front Force | H72: =H68/'Lumped Mass Model'!C17 -> 4319.4326 | I72: N
...

Sheet Surface Acceleration
C6: Max Torque Available | D6: Units | J6: Assuming
B7: AWD | C7: Front Wheel Torque G1 | D7: Nm | E7: ='Torque & Clutch'!C25 -> 1875.0315 | J7: Constant Acceleration
C8: Front Wheel Force | D8: N | E8: =E7/'Input and Reseach'!C20*0.5 -> 2759.4241 | J8: No Resistance
C9: Rear Wheel Torque G1 | D9: Nm | E9: ='Torque & Clutch'!C4*'Input and Reseach'!F32*'Input and Reseach'!F39 -> 10171.236 | J9: No Incline
C10: Rear Wheel Force | D10: N | E10: =E9/'Input and Reseach'!F20*0.5 -> 14235.44 | J10: No Weight Transfer
C11: RWD Acceleration | D11: m/s2 | E11: =(2*E10)/'Input and Reseach'!$C$2 -> 15.144085 | J11: Single μ
C12: AWD Acceleration | D12: m/s2 | E12: =(2*E10+2*E8)/'Input and Reseach'!$C$2 -> 18.079642
C14: Max Grip From μ | D14: - | E14: 1 | F14: 0.7 | G14: 0.5 | H14: 0.1
C15: Max Front Tyre Force | D15: N | E15: ='Input and Reseach'!$C$2*('Input and Reseach'!$C$13/100)*9.81*E14*0.5 -> 4334.058 | F15: ='Input and Reseach'!$C$2*('Input and Reseach'!$C$13/100)*9.81*F14*0.5 -> 3033.8406 | G15: ='Input and Reseach'!$C$2*('Input and Reseach'!$C$13/100)*9.81*G14*0.5 -> 2167.029 | H15: ='Input and Reseach'!$C$2*('Input and Reseach'!$C$13/100)*9.81*H14*0.5 -> 433.4058
C16: Max Rear Tyre Force | D16: N | E16: ='Input and Reseach'!$C$2*('Input and Reseach'!$F$13/100)*9.81*E14*0.5 -> 4887.342 | F16: ='Input and Reseach'!$C$2*('Input and Reseach'!$F$13/100)*9.81*F14*0.5 -> 3421.1394 | G16: ='Input and Reseach'!$C$2*('Input and Reseach'!$F$13/100)*9.81*G14*0.5 -> 2443.671 | H16: ='Input and Reseach'!$C$2*('Input and Reseach'!$F$13/100)*9.81*H14*0.5 -> 488.7342
C17: Max RWD Acceleration | D17: m/s2 | E17: =(2*E16)/'Input and Reseach'!$C$2 -> 5.1993 | F17: =(2*F16)/'Input and Reseach'!$C$2 -> 3.63951 | G17: =(2*G16)/'Input and Reseach'!$C$2 -> 2.59965 | H17: =(2*H16)/'Input and Reseach'!$C$2 -> 0.51993
C18: Max AWD Acceleration | D18: m/s2 | E18: =(2*E16+2*E15)/'Input and Reseach'!$C$2 -> 9.81 | F18: =(2*F16+2*F15)/'Input and Reseach'!$C$2 -> 6.867 | G18: =(2*G16+2*G15)/'Input and Reseach'!$C$2 -> 4.905 | H18: =(2*H16+2*H15)/'Input and Reseach'!$C$2 -> 0.981
C20: Surface Force Front | D20: N | E20: =IF(E15<$E$8,E15,$E$8) -> 2759.4241 | F20: =IF(F15<$E$8,F15,$E$8) -> 2759.4241 | G20: =IF(G15<$E$8,G15,$E$8) -> 2167.029 | H20: =IF(H15<$E$8,H15,$E$8) -> 433.4058
C21: Surface Force Rear | D21: N | E21: =IF(E16<$E$10,E16,$E$10) -> 4887.342 | F21: =IF(F16<$E$10,F16,$E$10) -> 3421.1394 | G21: =IF(G16<$E$10,G16,$E$10) -> 2443.671 | H21: =IF(H16<$E$10,H16,$E$10) -> 488.7342
C22: RWD Acceleration | D22: m/s2 | E22: =(2*E21)/'Input and Reseach'!$C$2 -> 5.1993 | F22: =(2*F21)/'Input and Reseach'!$C$2 -> 3.63951 | G22: =(2*G21)/'Input and Reseach'!$C$2 -> 2.59965 | H22: =(2*H21)/'Input and Reseach'!$C$2 -> 0.51993
C23: AWD Acceleration | D23: m/s2 | E23: =(2*E21+2*E20)/'Input and Reseach'!$C$2 -> 8.1348575 | F23: =(2*F21+2*F20)/'Input and Reseach'!$C$2 -> 6.5750675 | G23: =(2*G21+2*G20)/'Input and Reseach'!$C$2 -> 4.905 | H23: =(2*H21+2*H20)/'Input and Reseach'!$C$2 -> 0.981
C24: RWD 0-60 | D24: s | E24: =100/3.6/E22 -> 5.3425995 | F24: =100/3.6/F22 -> 7.6322851 | G24: =100/3.6/G22 -> 10.685199 | H24: =100/3.6/H22 -> 53.425995
C25: AWD 0-60 | D25: s | E25: =100/3.6/E23 -> 3.4146606 | F25: =100/3.6/F23 -> 4.2247137 | G25: =100/3.6/G23 -> 5.6631555 | H25: =100/3.6/H23 -> 28.315778
