Workbook

Sheet Question
A1: LCBB4001 – ACCOUNTING FUNDAMENTALS
A3: SEMINAR WEEK 5 QUESTION – RATIO ANALYSIS
A5: Jerry plc supplies own label household and personal care products to supermarkets and other large retailers in the UK and Europe. In order to expand markets they have recently marketed their product in America.
A7: Extracts from their latest financial statements are given below:
A9: Income statement for the year ended 31st October
B10: 2019 | C10: 2018
B11: £m | C11: £m
A12: Revenue | B12: 501.3 | C12: 486.8
A13: Cost of sales | B13: -309.5 | C13: -299.9
A14: Gross profit | B14: 191.8 | C14: 186.9
A15: Distribution costs | B15: -39.7 | C15: -31.2
A16: Administration expenses | B16: -129.1 | C16: -126
A17: Operating profit | B17: 23 | C17: 29.7
A18: Finance costs | B18: -0.2 | C18: -3.5
A19: Profit before taxation | B19: 22.8 | C19: 26.2
A20: Taxation | B20: -9.9 | C20: -7.9
A21: Profit for the year | B21: 12.9 | C21: 18.3
A35: TURN OVER
A37: Statement of Financial Position as at 31st October
B38: 2019 | D38: 2018
B39: £m | C39: £m | D39: £m | E39: £m
A40: Property, plant & equipment | B40: 132.2 | D40: 137.3
A41: Current assets
A43: Inventory | B43: 38.8 | D43: 41.1
A44: Trade receivables | B44: 114.9 | D44: 114.7
A45: Cash | B45: 0.2 | D45: 0.7
B46: 153.9 | D46: 156.5
A47: Total assets | C47: 286.1 | E47: 293.8
A48: Current liabilities
A49: Trade payables | B49: -84.1 | D49: -75.8
A50: Other creditors | B50: -66.9 | D50: -72.6
B51: -151 | D51: -148.4
A52: Long term loans | B52: -41.9 | D52: -65.1
A53: Net assets | C53: 93.2 | E53: 80.3
A54: Equity
A55: £1 Ordinary shares | B55: 17.8 | D55: 17.8
A56: Share premium | B56: 57.2 | D56: 57.2
A57: Retained profits | B57: 18.2 | D57: 5.3
C58: 93.2 | E58: 80.3
A61: Required:
...

Sheet Solution
A1: INVESTMENT RATIOS | H1: Calculations and Ratios for Year 2019 | L1: Calculations and Ratios for Year 2018
A3: EPS (Earnings per Share) | B3: = | C3: Earnings | F3: £ | G3: = | H3: =Question!B21 -> 12.9 | I3: = | J3: =H3/H4 -> 0.7247191 | L3: =Question!C21 -> 18.3 | M3: = | N3: =L3/L4 -> 1.0280899
C4: Number of ordinary shares | H4: =Question!B55 -> 17.8 | L4: =Question!D55 -> 17.8
A7: PROFITABILITY RATIOS
A9: ROCE (Return on Capital Employed) | B9: = | C9: Profit Before Interest | F9: x 100% | G9: = | H9: =Question!B17 -> 23 | I9: = | J9: =H9/H10 -> 0.17024426 | L9: =Question!C17 -> 29.7 | M9: = | N9: =L9/L10 -> 0.2042641
C10: Capital Employed | H10: =Question!C58+Question!B52*-1 -> 135.1 | L10: =Question!E58+Question!D52*-1 -> 145.4
A13: ROE (Return on Equity) | B13: = | C13: Earnings | F13: x 100% | G13: = | H13: =Question!B21 -> 12.9 | I13: = | J13: =H13/H14 -> 0.13841202 | L13: =Question!C21 -> 18.3 | M13: = | N13: =L13/L14 -> 0.22789539
C14: Equity | H14: =Question!C58 -> 93.2 | L14: =Question!E58 -> 80.3
A17: Gross Profit Margin | B17: = | C17: Gross profit | F17: x 100% | G17: = | H17: =Question!B14 -> 191.8 | I17: = | J17: =H17/H18 -> 0.38260523 | L17: =Question!C14 -> 186.9 | M17: = | N17: =L17/L18 -> 0.38393591
C18: Sales | H18: =Question!B12 -> 501.3 | L18: =Question!C12 -> 486.8
A21: Net Profit Margin | B21: = | C21: Operating profit | F21: x 100% | G21: = | H21: =Question!B17 -> 23 | I21: = | J21: =H21/H22 -> 0.04588071 | L21: =Question!C17 -> 29.7 | M21: = | N21: =L21/L22 -> 0.061010682
C22: Sales | H22: =Question!B12 -> 501.3 | L22: =Question!C12 -> 486.8
A25: EFFICIENCY RATIOS
A27: Assets Turnover | B27: = | C27: Revenue | F27: (times) | G27: = | H27: =Question!B12 -> 501.3 | I27: = | J27: =H27/H28 -> 3.7105848 | K27: times | L27: =Question!C12 -> 486.8 | M27: = | N27: =L27/L28 -> 3.3480055 | O27: times
C28: Capital employed | G28: = | H28: =Question!C58+Question!B52*-1 -> 135.1 | I28: = | L28: =Question!E58+Question!D52*-1 -> 145.4 | M28: =
A31: Stock Holding Days | B31: = | C31: Inventory | F31: x 365 (days) | G31: = | H31: =Question!B43 -> 38.8 | I31: = | J31: =(H31/H32)*365 -> 45.757674 | K31: days | L31: =Question!D43 -> 41.1 | M31: = | N31: =(L31/L32)*365 -> 50.021674 | O31: days
C32: Cost of sales | H32: =Question!B13*-1 -> 309.5 | L32: =Question!C13*-1 -> 299.9
A35: Debtors' Collection Period | B35: = | C35: Trade Receivables | F35: x 365 (days) | G35: = | H35: =Question!B44 -> 114.9 | I35: = | J35: =H35/H36*365 -> 83.659485 | K35: days | L35: =Question!D44 -> 114.7 | M35: = | N35: =L35/L36*365 -> 86.001438 | O35: days
C36: Credit sales (or Revenue) | H36: =Question!B12 -> 501.3 | L36: =Question!C12 -> 486.8
A39: Creditors' Collection Period | B39: = | C39: Trade Payables | F39: x 365 (days) | G39: = | H39: =Question!B49*-1 -> 84.1 | I39: = | J39: =H39/H40*365 -> 99.180937 | K39: days | L39: =Question!D49*-1 -> 75.8 | M39: = | N39: =L39/L40*365 -> 92.254085 | O39: days
C40: Purchases (or COGS) | H40: =Question!B13*-1 -> 309.5 | L40: =Question!C13*-1 -> 299.9
A42: LIQUIDITY RATIOS
A44: Current Ratio | B44: = | C44: Current Assets | F44: (x:1) | G44: = | H44: =Question!B46 -> 153.9 | I44: = | J44: =H44/H45 -> 1.0192053 | K44: :1 | L44: =Question!E47 -> 293.8 | M44: = | N44: =L44/L45 -> 0.98989218 | O44: :1
C45: Current Liabilities | H45: =Question!B51*-1 -> 151 | L45: {=SUM(Question!D49:D51*-1)} -> 296.8
A48: Quick Ratio | B48: = | C48: Current Assets - Inventory | F48: (x:1) | G48: = | H48: =Question!B46-Question!B43 -> 115.1 | I48: = | J48: =H48/H49 -> 0.76225166 | K48: :1 | L48: =Question!D46-Question!D43 -> 115.4 | M48: = | N48: =L48/L49 -> 0.77762803 | O48: :1
C49: Current Liabilities | H49: =Question!B51*-1 -> 151 | L49: =Question!D51*-1 -> 148.4
A52: FINANCING STRUCTURE
A54: Gearing Ratio | B54: = | C54: Long Term Debt | F54: x 100% | G54: = | H54: =Question!B52*-1 -> 41.9 | I54: = | J54: =H54/H55 -> 0.31014064 | L54: =Question!D52*-1 -> 65.1 | M54: = | N54: =L54/L55 -> 0.4477304
C55: Long Term Debt + Equity | H55: =H54+Question!C58 -> 135.1 | L55: =L54+Question!E58 -> 145.4
A58: Interest Cover | B58: = | C58: Profit Before Interest | F58: (times) | G58: = | H58: =Question!B17 -> 23 | I58: = | J58: =H58/H59 -> 115 | K58: times | L58: =Question!C17 -> 29.7 | M58: = | N58: =L58/L59 -> 8.4857143 | O58: times
C59: Interest Charges | H59: =Question!B18*-1 -> 0.2 | L59: =Question!C18*-1 -> 3.5
A62: NOTE:The highlighted cells contain a formula where we multiplied with -1 because of the negative amounts on the Financial Statements. Another way is to change all the negative numbers in the statements first. Then do calculations as you would normally do.
