Workbook
Name ____INF1: #REF!
Name ____INF1: #REF!
Name ____INF2: #REF!
Name ____INF2: #REF!
Name ___INF1: #REF!
Name ___INF1: #REF!
Name ___INF2: #REF!
Name ___INF2: #REF!
Name __INF1: #REF!
Name __INF1: #REF!
Name __INF2: #REF!
Name __INF2: #REF!
Name _bar1: #REF!
Name _bar1: #REF!
Name _boh1: #REF!
Name _boh1: #REF!
Name _foh1: #REF!
Name _foh1: #REF!
Name _INF1: #REF!
Name _INF1: #REF!
Name _INF2: #REF!
Name _INF2: #REF!
Name Accept: [0]!Accept
Name Access: '[1]KING INPUT SHEET'!$D$28
Name ADDRESS1: #REF!
Name ADDRESS1: #REF!
Name ADDRESS2: #REF!
Name ADDRESS2: #REF!
Name admin1: #REF!
Name admin1: #REF!
Name Area: [2]Indices!$D$2:$F$81
Name BASE_DATE: '[3]Master Data Sheet'!$D$41
Name Base_Date: '[4]PROJECT INPUTS'!$E$9
Name bathrooms1: #REF!
Name bathrooms1: #REF!
Name BCIS_Location: [5]Library!$H$15:$I$94
Name BCIS_TPI: [5]Library!$K$15:$L$44
Name bedroomcorridors1: #REF!
Name bedroomcorridors1: #REF!
Name bedrooms1: #REF!
Name bedrooms1: #REF!
Name Beds: [6]DATA!$F$13
Name BlockABath: '[7]Block A - Data'!$H$54
Name BlockAens: '[7]Block A - Data'!$H$55
Name BlockAGIA: '[7]Block A - Data'!$E$31
Name BlockANIA: '[7]Block A - Data'!$G$31
Name BlockAUnits: '[7]Block A - Data'!$H$49
Name BlockBbath: '[7]Block B - Data'!$H$56
Name BlockBens: '[7]Block B - Data'!$H$57
Name BlockBGIA: '[7]Block B - Data'!$E$31
Name BlockBNIA: '[7]Block B - Data'!$G$31
Name BlockBUnits: '[7]Block B - Data'!$H$51
Name BlockCBath: '[7]Block C - Data'!$H$55
Name BlockCEns: '[7]Block C - Data'!$H$56
Name BlockCGIA: '[7]Block C - Data'!$E$31
Name BlockCNIA: '[7]Block C - Data'!$G$31
Name BlockCUnits: '[7]Block C - Data'!$H$50
Name BlockDBath: '[7]Block D - Data'!$H$60
Name BlockDEns: '[7]Block D - Data'!$H$61
Name BlockDGIA: '[7]Block D - Data'!$E$35

Sheet Front

Sheet Status
B2: NRM1 Elemental Cost Plan Template
B4: 44867
B12: Document Status
B13: Revision | C13: Date | D13: Status | E13: Prepared by | F13: Checked by | G13: Authorised by
B23: DISCLAIMER
B25: This document and its contents have been prepared and are intended solely for [name of client] information and use in relation to [name of project]
B26: Faithful+Gould assumes no responsibility to any other party in respect of or arising out of or in connection with this document and/or its contents.
B28: COPYRIGHT
B30: The copyright of this document is vested in Faithful+Gould. This document may not be reproduced in whole or in part without their express written permission.

Sheet Information Used
B6: Information Used & Assumptions
B8: 1 | C8: Information Used
C10: Design Drawings;
C12: 152481-STL-XX-00-DR-A-PL_011-Proposed Landscape Plan
C13: 152481-STL-XX-00-DR-A-PL_0103-Ground Floor Shell & Core
C14: 152481-STL-XX-00-DR-A-PL_0104-First Floor Shell & Core
C15: 152481-STL-XX-00-DR-A-PL_0003-Exisiting Site Plan
C16: 152481-STL-XX-00-DR-A-PL_0105-Roof Plan - Full Building
C17: 152481-STL-XX-00-DR-A-PL_0201-Elavations GA
C18: 152481-STL-XX-00-DR-A-PL_0202-Elevation Detail 01
C19: 152481-STL-XX-00-DR-A-PL_0203-Elevation Detail 02
C20: 152481-STL-XX-00-DR-A-PL_0301-Section
C21: 152481-STL-XX-00-DR-A-PL_0501-Ground Floor Layout - Full Building
C22: 152481-STL-XX-00-DR-A-PL_0502-First Floor Layout - Full Building
B24: 2 | C24: General Assumptions;
C26: External Works is excluded unless specifically identified within the cost plan.
C27: Cavity Wall with no insulation is assumed.
C28: Costs are based upon the information as provided.
C29: We have assumed a project bank account will not be required for this scheme.
C30: We have assumed that the area of works will be decanted for the project. No allowance is made for throughways or dealing with building occupants.
C31: The exact nature of specification for internal doors, screens, folding partitions and finishes is assumed.
C32: We have assumed a Ceiling Height of 3m at each storey
C33: We Have assumed that there will be 1 Kitchen/Mess area per Storey (Area indicated in attached PDF's)Spons rate for 3 Person house kitchen used
C34: All costs are provisional awaiting design development.
C35: All base costs are based on 4Q2022
B37: 3 | C37: General Notes and Exclusions;
C39: All included costs are subject to variation following design development.
C40: Land Costs
C41: A risk allowance of 10% is included for this estimate.
C42: VAT is excluded from the estimate.
C43: Works will be undertaken in a single phase.
C44: Local Authority Fees
C45: Building Regulation fees
C46: Party Wall Awards
C47: Acquisition & associated legals

Sheet Summary Original
B2: Project details: Innovaton Matrix
B5: Description: University Block
B7: Building Works Estimate
B9: Based on GIA of: 3730m2 | G9: 3730
C11: Group Element | D11: Element Type | E11: Total | F11: £/m2
C13: Group element 0 | D13: FACILITATING WORKS - excluded from scope | E13: 0 | F13: =E13/G9 -> 0
C14: Group element 1 | D14: ='NRM1 CP template '!C13 -> SUBSTRUCTURE | E14: ='NRM1 CP template '!K13 -> 434190 | F14: =E14/G9 -> 116.40483
C15: Group element 2 | D15: ='NRM1 CP template '!C20 -> SUPERSTRUCTURE | E15: ='NRM1 CP template '!K20 -> 2134602 | F15: =E15/G9 -> 572.27936 | G15: =SUM(F12:F20) -> 955.19818
C16: Group element 3 | D16: ='NRM1 CP template '!C227 -> INTERNAL FINISHES | E16: ='NRM1 CP template '!K225 -> 279743.9 | F16: =E16/G9 -> 74.998365
C17: Group element 4 | D17: ='NRM1 CP template '!C410 -> FITTINGS AND FURNISHINGS | E17: ='NRM1 CP template '!K412 -> 10600 | F17: =E17/G9 -> 2.8418231
C18: Group element 5 | D18: ='NRM1 CP template '!C416 -> SERVICES | E18: ='NRM1 CP template '!K418 -> 37522 | F18: =E18/G9 -> 10.059517
C19: Group element 8 | D19: EXTERNAL WORKS - excluded from scope | E19: 0 | F19: =E19/G9 -> 0
C20: Group element 9 | D20: ='NRM1 CP template '!C446 -> MAIN CONTRACTOR'S PRELIMINARIES | E20: ='NRM1 CP template '!K451 -> 666231.32 | F20: =E20/G9 -> 178.61429
B22: Works cost estimate (sub total A) | E22: =SUM(E12:E21) -> 3562889.2 | F22: =E22/G9 -> 955.19818
C24: Spons TPI | D24: 1.24
C25: 4Q 2022 TPI | D25: 1.284
E26: =(E22/D24)*D25 -> 3689314.3
C27: Wales Location Factor | D27: 0.85
C29: New Total | E29: =E26*D27 -> 3135917.2
B31: Project design team fees and other development costs (sub total B) | D31: Prov Sums | E31: ='Prov Sums'!D6 -> 1978500
B34: Base cost estimate A + B (sub total C) | E34: =E29+E31 -> 5114417.2 | F34: =F22 -> 955.19818
C36: Group element 13
C38: Design Contingency | D38: Risk allowance @ 5% | E38: =E34*5% -> 255720.86 | F38: =E38/G9 -> 68.557871
C39: Construction Risk | D39: Risk allowance @ 2.50% | E39: =E34*2.5% -> 127860.43 | F39: =E39/G9 -> 34.278935
C40: Employers Change Risk | D40: Risk allowance @ 2.50% | E40: =E34*2.5% -> 127860.43 | F40: =E40/G9 -> 34.278935
C41: Other Mis. Risk | D41: Risk allowance @ 0% | E41: =E34*0% -> 0 | F41: =E41/G9 -> 0
B43: Total Risk allowances (sub total D) | E43: =SUM(E38:E42) -> 511441.72 | F43: =E43/G9 -> 137.11574
B45: Total Construction Cost (C + D) | E45: =E34+E43 -> 5625858.9 | F45: =E45/G9 -> 1508.2732

Sheet NRM1 CP template 
A2: Cost Plan for XXXXXXX
A3: NRM 1 phaseologies
A4: Elemental Cost Plan
C8: Elements in red are NRM1 Phraseologies
A10: Ref. | C10: Element | D10: Timesing | E10: Quantity | G10: Unit | I10: Rate | J10: Sub-Total | K10: Group-Total | L10: Notes
I11: £ | J11: £ | K11: £
A13: 1 | C13: SUBSTRUCTURE | K13: =J18 -> 434190
A15: 1.1 | C15: Foundations | E15: 27.5
E16: 77 | F16: =(E15*E16) -> 2117.5
F17: =F16 -> 2117.5
A18: 1.1.1 | C18: Raft foundations - simple reinforced concrete raft on poorer ground for development up to two storey high | F18: =ROUND(F17,0) -> 2118 | G18: m2 | I18: 205 | J18: =F18*I18 -> 434190 | L18: Spons: Approximate Estimating Rates Pg 182
A20: 2 | C20: SUPERSTRUCTURE | K20: =SUM(J20:J224) -> 2134602
A22: 2.2 | C22: First Floor | E22: 25.9
E23: 72 | F23: =(E22*E23) -> 1864.8
C25: Void 1 | E25: ddt | F25: -186.11 | L25: First Floor 'Blue Beam' Take Off Appended
C26: Void 2 | E26: ddt | F26: -111.38 | L26: to show void areas
C27: Void 3 | E27: ddt | F27: -152.35
C28: Void 4 | E28: ddt | F28: -125.19
F29: =SUM(F23:F28) -> 1289.77
A32: 2.2.1 | C32: Composite steel deck ﬂooring Composite steel and concrete upper ﬂoors (Note: all ﬂoor thicknesses are nominal); A142mesh reinforcement TATA Slimdek SD225steel decking 1.25mm thick; 130mm reinforced concrete topping | F32: =ROUND(F29,0) -> 1290 | G32: m2 | I32: 115 | J32: =F32*I32 -> 148350 | L32: Spons: Approximate Estimating Rates Pg 189
A37: 2.3 | C37: Roof | D37: 2 | E37: 13.58
E38: 76 | F38: =(E37*E38)*D37 -> 2064.16
C40: Rooflights | D40: 64 | E40: 1
E41: 3.6 | F41: =(E40*E41)*D40 -> 230.4 | G41: DDT Roof Lights
F42: =F38-F41 -> 1833.76
A44: 2.3.1 | C44: Steel trussed with metal sheet cladding Steel roof trusses and beams; thermal and acoustic insulation (U-value = 0.25W/m2 K) aluminium proﬁled composite cladding | F44: =ROUND(F42,0) -> 1834 | G44: m2 | I44: 350 | J44: =F44*I44 -> 641900 | L44: Spons: Approximate Estimating Rates Pg 191
A46: 2.4 | C46: Stairs & Ramps | E46: 5 | L46: Number of flights
A48: 2.4.1 | C48: Staircase; high quality ﬁnishes; stainless steel and glass balustrades; plastered and decorated sofﬁt | F48: =E46 -> 5 | G48: no | I48: 18000 | J48: =F48*I48 -> 90000 | L48: Spons: Approximate Estimating Rates Pg 194
A50: 2.5 | C50: External Walls
D52: 2 | E52: 76 | L52: East & West Elevations
E53: 8.5 | F53: =(E52*E53)*D52 -> 1292
F54: =F53 -> 1292
D56: 24 | E56: 1.4
E57: 7 | F57: =(E56*E57)*D56 -> 235.2
D58: 24 | E58: 1.4
E59: 7 | F59: =(E58*E59)*D58 -> 235.2
F62: =SUM(F57:F61) -> 470.4 | G62: DDT Window Openings
F64: =F54-F62 -> 821.6
A66: 2.5.1 | C66: Metal proﬁled cladding Standard trapazoidal proﬁle composite insulated rooﬁng system; 80mm overall panel thickness (U-value = 0.26W/m2 K) | F66: =ROUND(F64,0) -> 822 | G66: m2 | I66: 66 | J66: =F66*I66 -> 54252 | L66: Spons: Approximate Estimating Rates Pg 197
D71: 2 | L71: North & South Elevations
...

Sheet Prov Sums
A1: Description | B1: Quantity | C1: Rate
A2: Potential demolition works | B2: 1 | C2: 150000 | D2: =B2*C2 -> 150000
A3: Sliding Door System infront of revolving doors | B3: 1 | C3: 150000 | D3: =B3*C3 -> 150000
A4: M&E Installation; Inc BWIC as per GIFA | B4: 3730 | C4: 450 | D4: =B4*C4 -> 1678500
A6: Total | D6: =SUM(D2:D4) -> 1978500

Sheet QuerySheet1
A3: Student name: | B3: Matthew Moore
A5: Return email: | B5: matthew.moore@randmwilliams.co.uk
C9: Innovation Matrix - Cost Plan
G12: Query Sheet Nr. | I12: 1
G14: Date : | I14: 44897
A16: QUERY | F16: Answer
A22: 1 - Task description doesn't state when the project is due | F22: Please assume that the project will start on site during 4Q22
A23: to commence on site. I assume that you want to be on
A24: site as soon as possible. Can you please confirm when
A25: works a likely to commence?
A27: 2 - No service drawings have been provided within the | F27: Please assume there are adequate services provision adjacent to the site. Please assume existing service diversions is not required.
A28: given information. Will existing services be an issue
A29: when excavating for new construction?
A31: 3 - Existing site plan doesn’t clearly show if there are | F31: Please include a Provisional Sum for potential demolition works in the sum of £150,000
A32: any existing structures. Will any demolition works be
A33: required prior to works commencement?
A35: 4 - No ground condition reports have been provided | F35: Please assume and allow for a raft foundation
A36: within the accessible information. Can you provide
A37: Information so I can determine appropriate foundation
A38: type?
A40: 5 - Site access seems limited with only 1 road in & out | F40: Please assume there are no site restrictions
A41: are there any restrictions with weight loads, times etc
A42: to accommodate the existing surroundings?

Sheet QuerySheet 2
A3: Student name: | B3: Matthew Moore
A5: Return email: | B5: matthew.moore@randmwilliams.co.uk
C9: Innovation Matrix - Cost Plan
G12: Query Sheet Nr. | I12: 2
G14: Date : | I14: 44949
A16: QUERY | F16: Answer
A22: 1 - No M&E Drawings have been provided, can you please advise if a Provisonal Sum is to be used based on the | F22: Yes, Please allow £450.00 / GIFA for the provision of Mechanical and Electrical Installation (inc BWIC)
A23: GIFA?
A26: 2 - No Ceiling finish has been specified, can you please | F26: one mist and two coats emulsion paint to all ceiling
A27: advise if the ceilings are to be plasterboard or a suspended ceiling system?
A30: 3 - Can I Assume that only wet areas will have a Vinyl
A31: Flooring and all other areas to be Carpet? | F31: Yes, please
A34: 4 - Drawings do not specify if Staircases are to be | F34: Staircase; high quality finishes; stainless steel and glass balustrades; plastered and decorated soffit
A35: Pre-cast Concrete or Timber. Can you please confirm?
A38: 5 - On "Ground Floor Shell & Core" & "Elevation Detail" Drawings there seems to be a sliding door system | F38: Please allow a Provisional Sum of £150,000 for the provisison of a sliding door system
A39: infront of the revolving doors. Can you please clarify this
A40: detail?
